{"text_format":"1","workbook":"xlsx","n_sheets":12,"sheets":["MDR","SUMMARY","Read","Mix","Grad","verify","Volumetrics","AC","Large_Sieves","Small_Sieves","Quality Index Values","PWL Summary"],"not_rendered":{"charts":14,"images":0,"macros":1,"external_links":0,"defined_names":32,"comments":2,"pivot_tables":0},"unopened":[{"sheet":"AC","index":7,"reason":"not_a_worksheet"}],"bounds":{"document_bytes":16777216,"sheet_cells":100000,"rows_first":2000,"rows_last":500,"rows_between":2000,"halvings":0,"cell_chars":16384,"cell_head_chars":4096},"cells_cut":0,"cells_raw":0,"read":"whole","date_system":"1900"}

{"sheet":"MDR","index":0,"n_rows":229,"n_cols":185,"rows_kept":229,"cut":false,"hidden":false,"merged":[[1,37,1,42],[2,37,2,42],[1,18,1,19],[1,1,1,13],[2,1,2,13],[1,24,1,25],[2,24,2,25],[2,28,2,29],[1,31,1,36],[2,31,2,36],[7,47,7,56],[6,47,6,56],[6,25,6,36],[6,2,6,12],[6,13,6,19],[5,25,5,36],[3,31,3,36],[2,26,2,27],[5,19,5,24],[3,0,3,1],[4,0,4,1],[4,3,4,4],[5,0,5,1],[5,3,5,4]]}
[]
["Project #",null,null,null,null,null,null,null,null,null,null,null,null,null,null,null,null,null,"Mix Design Type",null,null,null,null,null,{"$f":"$BI$43","v":"SP (Gyratory)"},null,null,null,null,null,null,"Traffic Level (Millions of ESAL's)",null,null,null,null,null,"1 to < 3 [Level 3]",null,null,null,null,null,null,null,null,null,null,null,null,"\"% Passing the # 4 Sieve\"",null,null,null,null,null,null,null,null,null,"Asphalt Test Comparison List"]
["Location",null,null,null,null,null,null,null,null,null,null,null,null,null,null,null,null,null,null,"Mix Course",null,null,null,null,"WE (Wear) - 3% Voids",null,null,null,null,null,null,"Asphalt Binder Grade",null,null,null,null,null,"B = PG 58-28",null,null,null,null,null,null,null,null,null,"Source","Source","Source","Source","Source","Source","Source","Source","Source","Source",null,null,null,"????",null,null,null,null,null,null,null,null,null,null,null,null,null,"AFT","AFT Tolerance","Used Tolerance"]
["Design Voids",null,null,"HWY #",null,null,null,null,null,null,null,null,null,null,null,null,null,null,"Max. Aggr. Size",null,null,null,null,null,"B (3/4 inch)",null,null,null,null,null,null,"AFT Project?",null,null,null,null,null,{"$f":"$BW$4","v":"Yes"},null,null,null,null,null,null,null,null,null,1,2,3,4,5,6,7,8,9,10,null,null,null,"Chemical - vs - Incinerator Oven",null,null,null,null,null,null,null,null,null,null,null,null,null,"Yes",1.2,{"$f":"IF($AL$4=\"Yes\",1.2,2)","v":1.2},null,{"$f":"IF(AL4=\"Yes\",\"AFT Project\",\"\")","v":"AFT Project"}]
["Design VMA",null,null,"Design #200",null,null,null,null,null,null,null,null,null,null,null,null,null,null,null,"RAP",null,null,null,null,"Yes",null,null,null,null,null,null,null,null,null,null,null,null,null,null,null,null,null,null,null,null,null,null,-0.04,-0.04,-0.04,-0.04,-0.04,-0.04,-0.04,-0.04,-0.04,-0.04,null,null,null,"Incinerator Oven - vs - Incinerator Oven ",null,null,null,null,null,null,null,null,null,null,null,null,null,"No",2]
["Design AFT",null,null,"Design Total AC",null,null,null,null,null,null,null,null,null,"Mix Designation",null,null,null,null,null,{"$f":"BI91","v":"SPWEB330B"},null,null,null,null,null,"Asphalt Test Comparisons"]
[null,null,null,null,null,null,null,null,null,null,null,null,null,null,null,null,null,null,null,null,null,null,null,null,null,"Incinerator Oven - vs - Incinerator Oven "]
[null,null,null,null,null,null,null,null,null,null,null,null,null,null,null,null,null,null,null,null,null,null,null,null,null,null,null,null,null,null,null,null,null,null,null,null,null,null,null,null,null,null,null,null,null,null,null,"\"-4 Aggregate Specific Gravity\""]
["Summary",null,"Summary",null,null,null,null,null,null,null,null,null,null,null,null,null,null,null,null,null,null,null,null,null,null,null,null,null,null,null,null,null,null,null,null,null,null,null,null,null,null,null,null,null,null,null,"Summary","Source","Source","Source","Source","Source","Source","Source","Source","Source","Source"]
["Sheet",null,"Sheet ","Design","Minimum","1 inch",null,null,"1 inch","1 inch",null,"3/4 inch","3/4 inch","3/4 inch","3/4 inch","3/4 inch",null,"1/2 inch","1/2 inch","1/2 inch","1/2 inch","1/2 inch",null,"3/8 inch","3/8 inch","3/8 inch","3/8 inch","3/8 inch",null,"# 4","# 4","# 4","# 4","# 4",null,"# 8","# 8","# 8","# 8","# 8",null,"# 200","# 200","# 200","# 200","# 200","Sheet",1,2,3,4,5,6,7,8,9,10]
["Test #","MDR #","Number","AC","AC","Composite",null,null,"2XLJMFL","2XUJMFL",null,"Composite","LJMFL","UJMFL","2XLJMFL","2XUJMFL",null,"Composite","LJMFL","UJMFL","2XLJMFL","2XUJMFL",null,"Composite","LJMFL","UJMFL","2XLJMFL","2XUJMFL",null,"Composite","LJMFL","UJMFL","2XLJMFL","2XUJMFL",null,"Composite","LJMFL","UJMFL","2XLJMFL","2XUJMFL",null,"Composite","LJMFL","UJMFL","2XLJMFL","2XUJMFL","Test #","Sp. G","Sp. G","Sp. G","Sp. G","Sp. G","Sp. G","Sp. G","Sp. G","Sp. G","Sp. G"]
[{"$f":"SUMMARY!D7","v":301},null,1,null,null,{"$f":"D12-E12","v":0},null,null,100,100,null,100,null,null,0,0,null,90,null,null,{"$f":"R12-14","v":76},{"$f":"R12+14","v":104},null,70,null,null,{"$f":"X12-14","v":56},{"$f":"X12+14","v":84},null,50,null,null,{"$f":"AD12-14","v":36},{"$f":"AD12+14","v":64},null,35,null,null,{"$f":"AJ12-12","v":23},{"$f":"AJ12+12","v":47},{"$f":"Grad!W11","v":0},null,null,null,{"$f":"AP12-2","v":-2},{"$f":"AP12+2","v":2},{"$f":"A12","v":301},null,null,null,null,null,null,null,null,null,null,null,null,"2350 HV","2350/2360",null,null,"1 face","2 face","faa we","initial","design","max"]
[{"$f":"SUMMARY!F7","v":302},{"$f":"IF(B12=\"\",\"\",B12)","v":""},{"$f":"C12","v":1},{"$f":"IF(D12=\"\",\"\",D12)","v":""},"",{"$f":"D13-E13","v":{"$error":"#VALUE!"}},null,null,100,100,"",100,"","",0,0,"",90,"","",76,104,"",70,"","",56,84,"",50,"","",36,64,"",35,"","",23,47,{"$f":"Grad!W12","v":0},"","","",{"$error":"#VALUE!"},{"$error":"#VALUE!"},{"$f":"AU12+1","v":302},{"$f":"IF(AV12=\"\",\"\",AV12)","v":""},{"$f":"IF(AW12=\"\",\"\",AW12)","v":""},"","","","","","","","",null,{"$f":"IF(BG12=\"\",\"\",BG12)","v":""},{"$f":"IF(BH12=\"\",\"\",BH12)","v":"2350 HV"},"LVNW2","MARSHALL DESIGN",3,30,"-","-","-",50,"-","Low Volume"]
[{"$f":"SUMMARY!H7","v":303},"",1,"","",{"$f":"D14-E14","v":{"$error":"#VALUE!"}},null,null,{"$f":"I13","v":100},{"$f":"J13","v":100},null,{"$f":"L13","v":100},"",{"$f":"N13","v":""},{"$f":"L14-14","v":86},{"$f":"L14+14","v":114},null,{"$f":"R13","v":90},{"$f":"S13","v":""},{"$f":"T13","v":""},{"$f":"R14-14","v":76},{"$f":"R14+14","v":104},null,{"$f":"X13","v":70},{"$f":"Y13","v":""},{"$f":"Z13","v":""},{"$f":"X14-14","v":56},{"$f":"X14+14","v":84},null,{"$f":"AD13","v":50},{"$f":"AE13","v":""},{"$f":"AF13","v":""},{"$f":"AD14-14","v":36},{"$f":"AD14+14","v":64},null,{"$f":"AJ13","v":35},{"$f":"AK13","v":""},{"$f":"AL13","v":""},{"$f":"AJ14-12","v":23},{"$f":"AJ14+12","v":47},{"$f":"Grad!W13","v":0},{"$f":"AP13","v":""},{"$f":"AQ13","v":""},{"$f":"AR13","v":""},{"$error":"#VALUE!"},{"$error":"#VALUE!"},303,{"$f":"AV13","v":""},"","","","","","","","","",null,null,null,"LVWE2","MARSHALL DESIGN",3,30,"-","-","-",50,"-","Low Volume"]
[{"$f":"SUMMARY!J7","v":304},"",1,"","",{"$error":"#VALUE!"},null,null,100,100,null,100,"","",86,114,{"$f":"Grad!S14","v":""},{"$f":"R14","v":90},"",{"$f":"T14","v":""},76,104,null,{"$f":"X14","v":70},"",{"$f":"Z14","v":""},56,84,null,{"$f":"AD14","v":50},{"$f":"AE14","v":""},{"$f":"AF14","v":""},36,64,{"$f":"Grad!V14","v":""},{"$f":"AJ14","v":35},{"$f":"AK14","v":""},{"$f":"AL14","v":""},23,47,{"$f":"Grad!W14","v":""},{"$f":"AP14","v":""},{"$f":"AQ14","v":""},{"$f":"AR14","v":""},{"$error":"#VALUE!"},{"$error":"#VALUE!"},304,"","","","","","","","","","",null,null,null,"LVNW3","MARSHALL DESIGN",3,30,"-","-","-",50,"-","Low Volume"]
[{"$f":"SUMMARY!P7","v":305},{"$f":"B15","v":""},2,{"$f":"D15","v":""},"",{"$error":"#VALUE!"},null,null,100,100,null,100,"","",86,114,{"$f":"Grad!S15","v":""},90,"","",76,104,null,70,"","",56,84,null,50,"","",36,64,{"$f":"Grad!V15","v":""},35,"","",23,47,{"$f":"Grad!W15","v":""},"","","",{"$error":"#VALUE!"},{"$error":"#VALUE!"},305,{"$f":"AV15","v":""},{"$f":"AW15","v":""},{"$f":"AX15","v":""},{"$f":"AY15","v":""},{"$f":"AZ15","v":""},{"$f":"BA15","v":""},"","","","",null,null,null,"LVWE3","MARSHALL DESIGN",3,30,"-","-","-",50,"-","Low Volume"]
[{"$f":"SUMMARY!R7","v":306},"",{"$f":"C16","v":2},"","",{"$error":"#VALUE!"},null,null,100,100,null,100,"","",86,114,{"$f":"Grad!S16","v":""},90,"","",76,104,null,70,"","",56,84,null,50,"","",36,64,{"$f":"Grad!V16","v":""},35,"","",23,47,{"$f":"Grad!W16","v":""},"","","",{"$error":"#VALUE!"},{"$error":"#VALUE!"},306,{"$f":"AV16","v":""},{"$f":"AW16","v":""},{"$f":"AX16","v":""},"","","","","","","",null,null,null,"LVNW4","MARSHALL DESIGN",3,30,"-","-","-",50,"-","Low Volume"]
[{"$f":"SUMMARY!T7","v":307},"",{"$f":"C17","v":2},"","",{"$error":"#VALUE!"},null,null,100,100,null,100,"","",86,114,{"$f":"Grad!S17","v":""},90,"","",76,104,null,70,"","",56,84,null,50,"","",36,64,{"$f":"Grad!V17","v":""},35,"","",23,47,{"$f":"Grad!W17","v":""},"","","",{"$error":"#VALUE!"},{"$error":"#VALUE!"},307,"","","","","","","","","","",null,null,null,"LVWE4","MARSHALL DESIGN",3,30,"-","-","-",50,"-","Low Volume"]
[{"$f":"SUMMARY!V7","v":308},"",{"$f":"C18","v":2},"","",{"$error":"#VALUE!"},null,null,100,100,null,100,"","",86,114,{"$f":"Grad!S18","v":""},90,"","",76,104,null,70,"","",56,84,null,50,"","",36,64,{"$f":"Grad!V18","v":""},35,"","",23,47,{"$f":"Grad!W18","v":""},"","","",{"$error":"#VALUE!"},{"$error":"#VALUE!"},308,{"$f":"AV18","v":""},"","","","","","","","","",null,null,null,"LVNW5","MARSHALL DESIGN",3,30,"-","-","-",50,"-","Low Volume"]
[{"$f":"SUMMARY!AB7","v":309},"",3,"","",{"$error":"#VALUE!"},null,null,100,100,null,100,"","",86,114,{"$f":"Grad!S19","v":""},90,"","",76,104,null,70,"","",56,84,null,50,"","",36,64,{"$f":"Grad!V19","v":""},35,"","",23,47,{"$f":"Grad!W19","v":""},"","","",{"$error":"#VALUE!"},{"$error":"#VALUE!"},309,"","","","","","","","","","",null,null,null,"LVWE5","MARSHALL DESIGN",3,30,"-","-","-",50,"-","Low Volume"]
[{"$f":"SUMMARY!AD7","v":310},"",{"$f":"C20","v":3},"","",{"$error":"#VALUE!"},null,null,100,100,null,100,"","",86,114,{"$f":"Grad!S20","v":""},90,"","",76,104,null,70,"","",56,84,null,50,"","",36,64,{"$f":"Grad!V20","v":""},35,"","",23,47,{"$f":"Grad!W20","v":""},"","","",{"$error":"#VALUE!"},{"$error":"#VALUE!"},310,"","","","","","","","","","",null,null,null,"MVNW2","MARSHALL DESIGN",3.5,55,"-",40,"-",50,"-","MV n/wear"]
[{"$f":"SUMMARY!AF7","v":311},"",{"$f":"C21","v":3},"","",{"$error":"#VALUE!"},null,null,100,100,null,100,"","",86,114,{"$f":"Grad!S21","v":""},90,"","",76,104,null,70,"","",56,84,null,50,"","",36,64,{"$f":"Grad!V21","v":""},35,"","",23,47,{"$f":"Grad!W21","v":""},"","","",{"$error":"#VALUE!"},{"$error":"#VALUE!"},311,"","","","","","","","","","",null,null,null,"MVWE2","MARSHALL DESIGN",3.5,55,"-",42,"-",50,"-","MV wear"]
[{"$f":"SUMMARY!AH7","v":312},"",{"$f":"C22","v":3},"","",{"$error":"#VALUE!"},null,null,100,100,null,100,"","",86,114,{"$f":"Grad!S22","v":""},90,"","",76,104,null,70,"","",56,84,null,50,"","",36,64,{"$f":"Grad!V22","v":""},35,"","",23,47,{"$f":"Grad!W22","v":""},"","","",{"$error":"#VALUE!"},{"$error":"#VALUE!"},312,"","","","","","","","","",{"$f":"BE22","v":""},null,null,null,"MVNW3","MARSHALL DESIGN",3.5,55,"-",40,"-",50,"-","MV n/wear"]
[{"$f":"SUMMARY!AN7","v":313},"",4,"","",{"$error":"#VALUE!"},null,null,100,100,null,100,"","",86,114,{"$f":"Grad!S23","v":""},90,"","",76,104,null,70,"","",56,84,null,50,"","",36,64,{"$f":"Grad!V23","v":""},35,"","",23,47,{"$f":"Grad!W23","v":""},"","","",{"$error":"#VALUE!"},{"$error":"#VALUE!"},313,"","","","","","","","","","",null,null,null,"MVWE3","MARSHALL DESIGN",3.5,55,"-",42,"-",50,"-","MV wear"]
[{"$f":"SUMMARY!AP7","v":314},"",{"$f":"C24","v":4},"","",{"$error":"#VALUE!"},null,null,100,100,null,100,"","",86,114,{"$f":"Grad!S24","v":""},90,"","",76,104,null,70,"","",56,84,null,50,"","",36,64,{"$f":"Grad!V24","v":""},35,"","",23,47,{"$f":"Grad!W24","v":""},"","","",{"$error":"#VALUE!"},{"$error":"#VALUE!"},314,"","","","","","","","","","",null,null,null,"MVNW4","MARSHALL DESIGN",3.5,55,"-",40,"-",50,"-","MV n/wear"]
[{"$f":"SUMMARY!AR7","v":315},"",{"$f":"C25","v":4},"","",{"$error":"#VALUE!"},null,null,100,100,null,100,"","",86,114,{"$f":"Grad!S25","v":""},90,"","",76,104,null,70,"","",56,84,null,50,"","",36,64,{"$f":"Grad!V25","v":""},35,"","",23,47,{"$f":"Grad!W25","v":""},"","","",{"$error":"#VALUE!"},{"$error":"#VALUE!"},315,"","","","","","","","","","",null,null,null,"MVWE4","MARSHALL DESIGN",3.5,55,"-",42,"-",50,"-","MV wear"]
[{"$f":"SUMMARY!AT7","v":316},"",{"$f":"C26","v":4},"","",{"$error":"#VALUE!"},null,null,100,100,null,100,"","",86,114,{"$f":"Grad!S26","v":""},90,"","",76,104,null,70,"","",56,84,null,50,"","",36,64,{"$f":"Grad!V26","v":""},35,"","",23,47,{"$f":"Grad!W26","v":""},"","","",{"$error":"#VALUE!"},{"$error":"#VALUE!"},316,"","","","","","","","","","",null,null,null,"MVNW5","MARSHALL DESIGN",3.5,55,"-",40,"-",50,"-","MV n/wear"]
[{"$f":"SUMMARY!AZ7","v":317},"",5,"","",{"$error":"#VALUE!"},null,null,100,100,null,100,"","",86,114,{"$f":"Grad!S27","v":""},90,"","",76,104,null,70,"","",56,84,null,50,"","",36,64,{"$f":"Grad!V27","v":""},35,"","",23,47,{"$f":"Grad!W27","v":""},"","","",{"$error":"#VALUE!"},{"$error":"#VALUE!"},317,"","","","","","","","","","",null,null,null,"MVWE5","MARSHALL DESIGN",3.5,55,"-",42,"-",50,"-","MV wear"]
[{"$f":"SUMMARY!BB7","v":318},"",{"$f":"C28","v":5},{"$f":"D28","v":""},"",{"$error":"#VALUE!"},null,null,100,100,null,100,"","",86,114,{"$f":"Grad!S28","v":""},90,"","",76,104,null,70,"","",56,84,null,50,"","",36,64,{"$f":"Grad!V28","v":""},35,"","",23,47,{"$f":"Grad!W28","v":""},"","","",{"$error":"#VALUE!"},{"$error":"#VALUE!"},318,"","","","","","","","","","",null,null,null,"SPNW2","GYRATORY DESIGN",3,30,"-",40,6,40,60,"Level 2 n/wear"]
[{"$f":"SUMMARY!BD7","v":319},"",{"$f":"C29","v":5},"","",{"$error":"#VALUE!"},null,null,100,100,null,100,"","",86,114,{"$f":"Grad!S29","v":""},90,"","",76,104,null,70,"","",56,84,null,50,"","",36,64,{"$f":"Grad!V29","v":""},35,"","",23,47,{"$f":"Grad!W29","v":""},"","","",{"$error":"#VALUE!"},{"$error":"#VALUE!"},319,"","","","","","","","","","",null,null,null,"SPWE2","GYRATORY DESIGN",4,30,"-",40,6,40,60,"Level 2 wear"]
[{"$f":"SUMMARY!BF7","v":320},"",{"$f":"C30","v":5},"","",{"$error":"#VALUE!"},null,null,100,100,null,100,"","",86,114,{"$f":"Grad!S30","v":""},90,"","",76,104,null,70,"","",56,84,null,50,"","",36,64,{"$f":"Grad!V30","v":""},35,"","",23,47,{"$f":"Grad!W30","v":""},"","","",{"$error":"#VALUE!"},{"$error":"#VALUE!"},320,"","","","","","","","","","",null,null,null,"SPNW3","GYRATORY DESIGN",3,55,"-",40,7,60,90,"Level 3 n/wear"]
[{"$f":"SUMMARY!BL7","v":321},"",6,"","",{"$error":"#VALUE!"},null,null,100,100,null,100,"","",86,114,{"$f":"Grad!S31","v":""},90,"","",76,104,null,70,"","",56,84,null,50,"","",36,64,{"$f":"Grad!V31","v":""},35,"","",23,47,{"$f":"Grad!W31","v":""},"","","",{"$error":"#VALUE!"},{"$error":"#VALUE!"},321,"","","","","","","","","","",null,null,null,"SPWE3","GYRATORY DESIGN",4,55,"-",42,7,60,90,"Level 3 wear"]
[{"$f":"SUMMARY!BN7","v":322},"",{"$f":"C32","v":6},"","",{"$error":"#VALUE!"},null,null,100,100,null,100,"","",86,114,{"$f":"Grad!S32","v":""},90,"","",76,104,null,70,"","",56,84,null,50,"","",36,64,{"$f":"Grad!V32","v":""},35,"","",23,47,{"$f":"Grad!W32","v":""},"","","",{"$error":"#VALUE!"},{"$error":"#VALUE!"},322,"","","","","","","","","","",null,null,null,"SPNW4","GYRATORY DESIGN",3,60,"-",40,8,90,140,"Level 4 n/wear"]
[{"$f":"SUMMARY!BP7","v":323},"",{"$f":"C33","v":6},"","",{"$error":"#VALUE!"},null,null,100,100,null,100,"","",86,114,{"$f":"Grad!S33","v":""},90,"","",76,104,null,70,"","",56,84,null,50,"","",36,64,{"$f":"Grad!V33","v":""},35,"","",23,47,{"$f":"Grad!W33","v":""},"","","",{"$error":"#VALUE!"},{"$error":"#VALUE!"},323,"","","","","","","","","","",null,null,null,"SPWE4","GYRATORY DESIGN",4,85,80,44,8,90,140,"Level 4 wear"]
[{"$f":"SUMMARY!BR7","v":324},"",{"$f":"C34","v":6},"","",{"$error":"#VALUE!"},null,null,100,100,null,100,"","",86,114,{"$f":"Grad!S34","v":""},90,"","",76,104,null,70,"","",56,84,null,50,"","",36,64,{"$f":"Grad!V34","v":""},35,"","",23,47,{"$f":"Grad!W34","v":""},"","","",{"$error":"#VALUE!"},{"$error":"#VALUE!"},324,"","","","","","","","","","",null,null,null,"SPNW5","GYRATORY DESIGN",3,80,75,40,8,100,160,"Level 5 n/wear"]
[{"$f":"SUMMARY!BX7","v":325},"",7,"","",{"$error":"#VALUE!"},null,null,100,100,null,100,"","",86,114,{"$f":"Grad!S35","v":""},90,"","",76,104,null,70,"","",56,84,null,50,"","",36,64,{"$f":"Grad!V35","v":""},35,"","",23,47,{"$f":"Grad!W35","v":""},"","","",{"$error":"#VALUE!"},{"$error":"#VALUE!"},325,"","","","","","","","","","",null,null,null,"SPWE5","GYRATORY DESIGN",4,95,90,45,8,100,160,"Level 5 wear"]
[{"$f":"SUMMARY!BZ7","v":326},"",{"$f":"C36","v":7},"","",{"$error":"#VALUE!"},null,null,100,100,null,100,"","",86,114,{"$f":"Grad!S36","v":""},90,"","",76,104,null,70,"","",56,84,null,50,"","",36,64,{"$f":"Grad!V36","v":""},35,"","",23,47,{"$f":"Grad!W36","v":""},"","","",{"$error":"#VALUE!"},{"$error":"#VALUE!"},326,"","","","","","","","","",""]
[{"$f":"SUMMARY!CB7","v":327},"",{"$f":"C37","v":7},"","",{"$error":"#VALUE!"},null,null,100,100,null,100,"","",86,114,{"$f":"Grad!S37","v":""},90,"","",76,104,null,70,"","",56,84,null,50,"","",36,64,{"$f":"Grad!V37","v":""},35,"","",23,47,{"$f":"Grad!W37","v":""},"","","",{"$error":"#VALUE!"},{"$error":"#VALUE!"},327,"","","","","","","","","",""]
[{"$f":"SUMMARY!CD7","v":328},"",{"$f":"C38","v":7},"","",{"$error":"#VALUE!"},null,null,100,100,null,100,"","",86,114,{"$f":"Grad!S38","v":""},90,"","",76,104,null,70,"","",56,84,null,50,"","",36,64,{"$f":"Grad!V38","v":""},35,"","",23,47,{"$f":"Grad!W38","v":""},"","","",{"$error":"#VALUE!"},{"$error":"#VALUE!"},328,"","","","","","","","","",""]
[{"$f":"SUMMARY!CJ7","v":329},"",8,"","",{"$error":"#VALUE!"},null,null,100,100,null,100,"","",86,114,null,90,"","",76,104,null,70,"","",56,84,null,50,"","",36,64,null,35,"","",23,47,null,"","","",{"$error":"#VALUE!"},{"$error":"#VALUE!"},329,"","","","","","","","","","",null,null,null,"Mixture Designation Questions"]
[{"$f":"SUMMARY!CL7","v":330},"",{"$f":"C40","v":8},"","",{"$error":"#VALUE!"},null,null,100,100,null,100,"","",86,114,null,90,"","",76,104,null,70,"","",56,84,null,50,"","",36,64,null,35,"","",23,47,null,"","","",{"$error":"#VALUE!"},{"$error":"#VALUE!"},330,"","","","","","","","","","",null,null,null,null,null,null,null,null,null,null,"Gyratory Aggregate Gradation Broad Bands"]
[{"$f":"SUMMARY!CN7","v":331},"",{"$f":"C41","v":8},"","",{"$error":"#VALUE!"},null,null,100,100,null,100,"","",86,114,null,90,"","",76,104,null,70,"","",56,84,null,50,"","",36,64,null,35,"","",23,47,null,"","","",{"$error":"#VALUE!"},{"$error":"#VALUE!"},331,"","","","","","","","","","",null,null,null,"Mixture Design Type",null,null,null,"Chosen Design Type","Text Design Type",null,null,"Final with RAP conversion",null,null,null,null,"Overall without RAP conversion"]
[{"$f":"SUMMARY!CP7","v":332},"",{"$f":"C42","v":8},"","",{"$error":"#VALUE!"},null,null,100,100,null,100,"","",86,114,null,90,"","",76,104,null,70,"","",56,84,null,50,"","",36,64,null,35,"","",23,47,null,"","","",{"$error":"#VALUE!"},{"$error":"#VALUE!"},332,"","","","","","","","","","",null,null,null,"SP (Gyratory)",null,null,null,{"$f":"IF(Y2=\"SP (Gyratory)\",\"SP\",IF(Y2=\"LV (Marshall)\",\"LV\",\"MV\"))","v":"SP"},{"$f":"IF(BM43=\"SP\",\"GYRATORY DESIGN\",\"MARSHALL DESIGN\")","v":"GYRATORY DESIGN"},null,null,"Min","Max",null,null,null,"Min","Max"]
[{"$f":"SUMMARY!CV7","v":333},"",9,"","",{"$error":"#VALUE!"},null,null,100,100,null,100,"","",{"$f":"L44-14","v":86},{"$f":"L44+14","v":114},null,90,"","",{"$f":"R44-14","v":76},{"$f":"R44+14","v":104},null,70,"","",{"$f":"X44-14","v":56},{"$f":"X44+14","v":84},null,50,"","",{"$f":"AD44-14","v":36},{"$f":"AD44+14","v":64},null,35,"","",{"$f":"AJ44-12","v":23},{"$f":"AJ44+12","v":47},null,"","","",{"$f":"AP44-2","v":{"$error":"#VALUE!"}},{"$f":"AP44+2","v":{"$error":"#VALUE!"}},333,"","","","","","","","","","",null,null,null,"LV (Marshall)",null,null,null,null,null,null,"1 inch",{"$f":"BV44","v":100},{"$f":"BW44","v":100},null,null,"1 inch",{"$f":"IF($BM$56=\"A\",100,IF($BM$56=\"B\",100,IF($BM$56=\"C\",100,100)))","v":100},{"$f":"IF($BM$56=\"A\",100,IF($BM$56=\"B\",100,IF($BM$56=\"C\",100,100)))","v":100}]
[{"$f":"SUMMARY!CX7","v":334},"",{"$f":"C44","v":9},"","",{"$error":"#VALUE!"},null,null,100,100,null,100,"","",86,114,null,90,"","",76,104,null,70,"","",56,84,null,50,"","",36,64,null,35,"","",23,47,null,"","","",{"$error":"#VALUE!"},{"$error":"#VALUE!"},334,"","","","","","","","","","",null,null,null,"MV (Marshall)",null,null,null,null,null,null,"3/4 inch",{"$f":"IF(AND(($BK$101=\"yes\"), ($BM$56=\"B\")),97,BV45)","v":97},{"$f":"BW45","v":100},null,null,"3/4 inch",{"$f":"IF($BM$56=\"A\",100,IF($BM$56=\"B\",100,IF($BM$56=\"C\",85,100)))","v":100},100]
[{"$f":"SUMMARY!CZ7","v":335},"",{"$f":"C45","v":9},"","",{"$error":"#VALUE!"},null,null,100,100,null,100,"","",86,114,null,90,"","",76,104,null,70,"","",56,84,null,50,"","",36,64,null,35,"","",23,47,null,"","","",{"$error":"#VALUE!"},{"$error":"#VALUE!"},335,"","","","","","","","","","",null,null,null,null,null,null,null,null,null,null,"1/2 inch",{"$f":"IF(AND(($BK$101=\"yes\"), ($BM$56=\"A\")),97,BV46)","v":85},100,null,null,"1/2 inch",{"$f":"IF($BM$56=\"A\",100,IF($BM$56=\"B\",85,IF($BM$56=\"C\",45,100)))","v":85},{"$f":"IF($BM$56=\"A\",100,IF($BM$56=\"B\",100,IF($BM$56=\"C\",90,100)))","v":100}]
[{"$f":"SUMMARY!DB7","v":336},"",{"$f":"C46","v":9},"","",{"$error":"#VALUE!"},null,null,100,100,null,100,"","",86,114,null,90,"","",76,104,null,70,"","",56,84,null,50,"","",36,64,null,35,"","",23,47,null,"","","",{"$error":"#VALUE!"},{"$error":"#VALUE!"},336,"","","","","","","","","","",null,null,null,null,null,null,null,null,null,null,"3/8 inch",{"$f":"BV47","v":35},90,null,null,"3/8 inch",{"$f":"IF($BM$56=\"A\",85,IF($BM$56=\"B\",35,IF($BM$56=\"C\",\"\",100)))","v":35},{"$f":"IF($BM$56=\"A\",100,IF($BM$56=\"B\",90,IF($BM$56=\"C\",\"\",100)))","v":90}]
[{"$f":"SUMMARY!DH7","v":337},"",10,{"$f":"D47","v":""},{"$f":"E47","v":""},{"$error":"#VALUE!"},null,null,100,100,null,100,"","",86,114,null,90,"","",76,104,null,70,"","",56,84,null,50,"","",36,64,null,35,"","",23,47,null,"","","",{"$error":"#VALUE!"},{"$error":"#VALUE!"},337,"","","","","","","","","","",null,null,null,null,null,null,null,null,null,null,"#4",{"$f":"BV48","v":30},80,null,null,"#4",{"$f":"IF($BM$56=\"A\",60,IF($BM$56=\"B\",30,IF($BM$56=\"C\",30,65)))","v":30},{"$f":"IF($BM$56=\"A\",90,IF($BM$56=\"B\",80,IF($BM$56=\"C\",75,95)))","v":80}]
[{"$f":"SUMMARY!DJ7","v":338},"",{"$f":"C48","v":10},"","",{"$error":"#VALUE!"},null,null,100,100,null,100,"","",86,114,null,90,"","",76,104,null,70,"","",56,84,null,50,"","",36,64,null,35,"","",23,47,null,"","","",{"$error":"#VALUE!"},{"$error":"#VALUE!"},338,{"$f":"AV48","v":""},"","","","","","","","","",null,null,null,"Course",null,"Chosen Course",null,"Chosen Designation",null,null,"#8",{"$f":"BV49","v":25},65,null,null,"#8",{"$f":"IF($BM$56=\"A\",45,IF($BM$56=\"B\",25,IF($BM$56=\"C\",25,45)))","v":25},{"$f":"IF($BM$56=\"A\",70,IF($BM$56=\"B\",65,IF($BM$56=\"C\",60,80)))","v":65}]
[{"$f":"SUMMARY!DL7","v":339},"",10,"","",{"$error":"#VALUE!"},null,null,100,100,null,100,"","",86,114,null,90,"","",76,104,null,70,"","",56,84,null,50,"","",36,64,null,35,"","",23,47,null,"","","",{"$error":"#VALUE!"},{"$error":"#VALUE!"},339,"","","","","","","","","","",null,null,null,"WE (Wear) - 4% Voids",null,{"$f":"$Y$3","v":"WE (Wear) - 3% Voids"},null,{"$f":"IF(Y3=\"WE (Wear) - 4% Voids\",\"WE\",IF(Y3=\"NW (Non-Wearing)\",\"NW\",\"WE\"))","v":"WE"},null,null,"#200",{"$f":"BV50","v":2},7,null,null,"#200",{"$f":"IF($BM$56=\"A\",2,IF($BM$56=\"B\",2,IF($BM$56=\"C\",2,3)))","v":2},{"$f":"IF($BM$56=\"A\",7,IF($BM$56=\"B\",7,IF($BM$56=\"C\",7,8)))","v":7}]
[{"$f":"SUMMARY!DN7","v":340},"",10,"","",{"$error":"#VALUE!"},null,null,100,100,null,100,"","",86,114,null,90,"","",76,104,null,70,"","",56,84,null,50,"","",36,64,null,35,"","",23,47,null,"","","",{"$error":"#VALUE!"},{"$error":"#VALUE!"},340,"","","","","","","","","","",null,null,null,"NW (Non-Wearing)"]
[{"$f":"SUMMARY!DT7","v":341},{"$f":"B51","v":""},11,{"$f":"D51","v":""},{"$f":"E51","v":""},{"$error":"#VALUE!"},null,null,{"$f":"I51","v":100},{"$f":"J51","v":100},null,{"$f":"L51","v":100},{"$f":"M51","v":""},{"$f":"N51","v":""},86,114,null,{"$f":"R51","v":90},{"$f":"S51","v":""},{"$f":"T51","v":""},76,104,null,{"$f":"X51","v":70},{"$f":"Y51","v":""},{"$f":"Z51","v":""},56,84,null,{"$f":"AD51","v":50},{"$f":"AE51","v":""},{"$f":"AF51","v":""},36,64,null,{"$f":"AJ51","v":35},{"$f":"AK51","v":""},{"$f":"AL51","v":""},23,47,null,{"$f":"AP51","v":""},{"$f":"AQ51","v":""},{"$f":"AR51","v":""},{"$error":"#VALUE!"},{"$error":"#VALUE!"},341,"","","","","","","","","","",null,null,null,"SHLDR-WE (Shoulder)",null,null,null,null,null,null,"Marshall Aggregate Gradation"]
[{"$f":"SUMMARY!DV7","v":342},{"$f":"B52","v":""},11,{"$f":"D52","v":""},"",{"$error":"#VALUE!"},null,null,{"$f":"I52","v":100},{"$f":"J52","v":100},null,{"$f":"L52","v":100},"",{"$f":"N52","v":""},86,114,null,{"$f":"R52","v":90},{"$f":"S52","v":""},{"$f":"T52","v":""},76,104,null,{"$f":"X52","v":70},"",{"$f":"Z52","v":""},56,84,null,{"$f":"AD52","v":50},{"$f":"AE52","v":""},{"$f":"AF52","v":""},36,64,null,{"$f":"AJ52","v":35},{"$f":"AK52","v":""},{"$f":"AL52","v":""},23,47,null,{"$f":"AP52","v":""},{"$f":"AQ52","v":""},{"$f":"AR52","v":""},{"$error":"#VALUE!"},{"$error":"#VALUE!"},342,"","","","","","","","","","",null,null,null,"WE (Wear) - 3% Voids",null,null,null,null,null,null,null,"Min","Max"]
[{"$f":"SUMMARY!DX7","v":343},"",11,"","",{"$error":"#VALUE!"},null,null,100,100,null,100,"","",86,114,null,{"$f":"R53","v":90},{"$f":"S53","v":""},"",76,104,null,70,"","",56,84,null,50,"","",36,64,null,35,"","",23,47,null,"","","",{"$error":"#VALUE!"},{"$error":"#VALUE!"},343,"","","","","","","","","","",null,null,null,null,null,null,null,null,null,null,"1 inch",100,100]
[{"$f":"SUMMARY!DZ7","v":344},"",11,"","",{"$error":"#VALUE!"},null,null,100,100,null,100,"","",86,114,null,{"$f":"R54","v":90},"","",76,104,null,70,"","",56,84,null,50,"","",36,64,null,35,"","",23,47,null,"","","",{"$error":"#VALUE!"},{"$error":"#VALUE!"},344,"","","","","","","","","","",null,null,null,"Maximum Aggregate Size",null,null,null,"Chosen Aggr. Size",null,null,"3/4 inch",{"$f":"IF(BM66=\"C\",85,100)","v":100},100]
[{"$f":"SUMMARY!EF7","v":345},"",12,"","",{"$error":"#VALUE!"},null,null,100,100,null,100,"","",86,114,null,90,"","",76,104,null,70,"","",56,84,null,50,"","",36,64,null,35,"","",23,47,null,"","","",{"$error":"#VALUE!"},{"$error":"#VALUE!"},345,"","","","","","","","","","",null,null,null,"A (1/2 inch)",null,null,null,{"$f":"IF(Y4=\"A (1/2 inch)\",\"A\",IF(Y4=\"B (3/4 inch)\",\"B\",IF(Y4=\"C (1 inch)\",\"C\",\"D\")))","v":"B"},null,null,"1/2 inch",{"$f":"IF(BM66=\"C\",45,IF(BM66=\"B\",85,100))","v":100},{"$f":"IF(BM66=\"C\",90,100)","v":100}]
[{"$f":"SUMMARY!EH7","v":346},"",{"$f":"C56","v":12},"","",{"$error":"#VALUE!"},null,null,100,100,null,100,"","",86,114,null,90,"","",76,104,null,70,"","",56,84,null,50,"","",36,64,null,35,"","",23,47,null,"","","",{"$error":"#VALUE!"},{"$error":"#VALUE!"},346,"","","","","","","","","","",null,null,null,"B (3/4 inch)",null,null,null,null,null,null,"3/8 inch",{"$f":"IF(BM66=\"A\",85,IF(BM66=\"B\",35,\"\"))","v":""},{"$f":"IF(BM66=\"A\",100,IF(BM66=\"B\",90,\"\"))","v":""}]
[{"$f":"SUMMARY!EJ7","v":347},"",{"$f":"C57","v":12},"","",{"$error":"#VALUE!"},null,null,100,100,null,100,"","",86,114,null,90,"","",76,104,null,70,"","",56,84,null,50,"","",36,64,null,35,"","",23,47,null,"","","",{"$error":"#VALUE!"},{"$error":"#VALUE!"},347,"","","","","","","","","","",null,null,null,"C (1 inch)",null,null,null,null,null,null,"#4",{"$f":"IF(BM66=\"A\",25,IF(BM66=\"B\",30,30))","v":30},{"$f":"IF(BM66=\"A\",90,IF(BM66=\"B\",80,75))","v":75}]
[{"$f":"SUMMARY!EL7","v":348},"",{"$f":"C58","v":12},"","",{"$error":"#VALUE!"},null,null,100,100,null,100,"","",86,114,null,90,"","",76,104,null,70,"","",56,84,null,50,"","",36,64,null,35,"","",23,47,null,"","","",{"$error":"#VALUE!"},{"$error":"#VALUE!"},348,"","","","","","","","","","",null,null,null,"D (3/8 inch)",null,null,null,null,null,null,"#8",{"$f":"IF(BM66=\"A\",20,IF(BM66=\"B\",25,25))","v":25},{"$f":"IF(BM66=\"A\",70,IF(BM66=\"B\",65,60))","v":60}]
[{"$f":"SUMMARY!ER7","v":349},"",13,"","",{"$error":"#VALUE!"},null,null,100,100,null,100,"","",86,114,null,90,"","",76,104,null,70,"","",56,84,null,50,"","",36,64,null,35,"","",23,47,null,"","","",{"$error":"#VALUE!"},{"$error":"#VALUE!"},349,"","","","","","","","","","",null,null,null,null,null,null,null,null,null,null,"#200",2,7]
[{"$f":"SUMMARY!ET7","v":350},"",{"$f":"C60","v":13},"","",{"$error":"#VALUE!"},null,null,100,100,null,100,"","",86,114,null,90,"","",76,104,null,70,"","",56,84,null,50,"","",36,64,null,35,"","",23,47,null,"","","",{"$error":"#VALUE!"},{"$error":"#VALUE!"},350,"","","","","","","","","",""]
[{"$f":"SUMMARY!EV7","v":351},"",{"$f":"C61","v":13},"","",{"$error":"#VALUE!"},null,null,100,100,null,100,"","",86,114,null,90,"","",76,104,null,70,"","",56,84,null,50,"","",36,64,null,35,"","",23,47,null,"","","",{"$error":"#VALUE!"},{"$error":"#VALUE!"},351,"","","","","","","","","","",null,null,null,"Traffic Level (Gyratory)",null,null,null,"Chosen Traffic Level","Traffic Level","Gyrations for Ndesign"]
[{"$f":"SUMMARY!EX7","v":352},"",{"$f":"C62","v":13},"","",{"$error":"#VALUE!"},null,null,100,100,null,100,"","",86,114,null,90,"","",76,104,null,70,"","",56,84,null,50,"","",36,64,null,35,"","",23,47,null,"","","",{"$error":"#VALUE!"},{"$error":"#VALUE!"},352,"","","","","","","","","","",null,null,null,"< 1 [Level 2]",null,{"$f":"AL2","v":"1 to < 3 [Level 3]"},null,{"$f":"IF(BK63=\"< 1 [Level 2]\",2,IF(BK63=\"1 to < 3 [Level 3]\",3,IF(BK63=\"3 to < 10 [Level 4]\",4,5)))","v":3},2,40]
[{"$f":"SUMMARY!FD7","v":353},"",14,"","",{"$error":"#VALUE!"},null,null,100,100,null,100,"","",86,114,null,90,"","",76,104,null,70,"","",56,84,null,50,"","",36,64,null,35,"","",23,47,null,"","","",{"$error":"#VALUE!"},{"$error":"#VALUE!"},353,"","","","","","","","","","",null,null,null,"1 to < 3 [Level 3]",null,null,null,null,3,60]
[{"$f":"SUMMARY!FF7","v":354},"",{"$f":"C64","v":14},"","",{"$error":"#VALUE!"},null,null,100,100,null,100,"","",86,114,null,90,"","",76,104,null,70,"","",56,84,null,50,"","",36,64,null,35,"","",23,47,null,"","","",{"$error":"#VALUE!"},{"$error":"#VALUE!"},354,"","","","","","","","","","",null,null,null,"3 to < 10 [Level 4]",null,null,null,null,4,90]
[{"$f":"SUMMARY!FH7","v":355},"",{"$f":"C65","v":14},"","",{"$error":"#VALUE!"},null,null,100,100,null,100,"","",86,114,null,90,"","",76,104,null,70,"","",56,84,null,50,"","",36,64,null,35,"","",23,47,null,"","","",{"$error":"#VALUE!"},{"$error":"#VALUE!"},355,"","","","","","","","","","",null,null,null,"10 to <= 30 [Level 5]",null,null,null,null,5,100]
[{"$f":"SUMMARY!FJ7","v":356},"",{"$f":"C66","v":14},"","",{"$error":"#VALUE!"},null,null,100,100,null,100,"","",86,114,null,90,"","",76,104,null,70,"","",56,84,null,50,"","",36,64,null,35,"","",23,47,null,"","","",{"$error":"#VALUE!"},{"$error":"#VALUE!"},356,"","","","","","","","","",""]
[{"$f":"SUMMARY!FP7","v":357},"",15,"","",{"$error":"#VALUE!"},null,null,100,100,null,100,"","",86,114,null,90,"","",76,104,null,70,"","",56,84,null,50,"","",36,64,null,35,"","",23,47,null,"","","",{"$error":"#VALUE!"},{"$error":"#VALUE!"},357,"","","","","","","","","","",null,null,null,null,null,null,null,null,"Design Gyrations ==>",{"$f":"VLOOKUP($BM$63,$BN$63:$BO$66,2)","v":60}]
[{"$f":"SUMMARY!FR7","v":358},"",{"$f":"C68","v":15},"","",{"$error":"#VALUE!"},null,null,100,100,null,100,"","",86,114,null,90,"","",76,104,null,70,"","",56,84,null,50,"","",36,64,null,35,"","",23,47,null,"","","",{"$error":"#VALUE!"},{"$error":"#VALUE!"},358,"","","","","","","","","","",null,null,null,"Design Blows (Marshall Design)"]
[{"$f":"SUMMARY!FT7","v":359},"",{"$f":"C69","v":15},"","",{"$error":"#VALUE!"},null,null,100,100,null,100,"","",86,114,null,90,"","",76,104,null,70,"","",56,84,null,50,"","",36,64,null,35,"","",23,47,null,"","","",{"$error":"#VALUE!"},{"$error":"#VALUE!"},359,"","","","","","","","","","",null,null,null,50,null,50]
[{"$f":"SUMMARY!FV7","v":360},"",{"$f":"C70","v":15},"","",{"$error":"#VALUE!"},null,null,100,100,null,100,"","",86,114,null,90,"","",76,104,null,70,"","",56,84,null,50,"","",36,64,null,35,"","",23,47,null,"","","",{"$error":"#VALUE!"},{"$error":"#VALUE!"},360,"","","","","","","","","",""]
[{"$f":"SUMMARY!GB7","v":361},{"$f":"B71","v":""},16,"","",{"$f":"D72-E72","v":{"$error":"#VALUE!"}},null,null,100,100,null,100,"","",{"$f":"L72-14","v":86},{"$f":"L72+14","v":114},null,90,"","",{"$f":"R72-14","v":76},{"$f":"R72+14","v":104},null,70,"","",{"$f":"X72-14","v":56},{"$f":"X72+14","v":84},null,50,"","",{"$f":"AD72-14","v":36},{"$f":"AD72+14","v":64},null,35,"","",{"$f":"AJ72-12","v":23},{"$f":"AJ72+12","v":47},null,"","","",{"$error":"#VALUE!"},{"$error":"#VALUE!"},361,"","","","","","","","","",""]
[{"$f":"SUMMARY!GD7","v":362},"",{"$f":"C72","v":16},{"$f":"D72","v":""},"",{"$error":"#VALUE!"},null,null,100,100,null,{"$f":"L72","v":100},"","",86,114,null,{"$f":"R72","v":90},"","",76,104,null,{"$f":"X72","v":70},"","",56,84,null,50,"","",36,64,null,35,"","",23,47,null,"","","",{"$error":"#VALUE!"},{"$error":"#VALUE!"},362,"","","","","","","","","","",null,null,null,"Air Voids","Mix Type","Air Voids","Chosen Air Voids"]
[{"$f":"SUMMARY!GF7","v":363},"",{"$f":"C73","v":16},"","",{"$error":"#VALUE!"},null,null,100,100,null,100,"","",86,114,null,90,"","",76,104,null,70,"","",56,84,null,50,"","",36,64,null,35,"","",23,47,null,"","","",{"$error":"#VALUE!"},{"$error":"#VALUE!"},363,"","","","","","","","","","",null,null,null,0.04,"SP ",40,{"$f":"IF(AND(BM43=\"SP\",BK50=\"WE (Wear) - 4% voids\"),40,IF(AND(BM43=\"SP\",BK50=\"NW (Non-Wearing)\"),30,IF(AND(BM43=\"SP\",BK50=\"SHLDR-WE (Shoulder Wear)\"),30,IF(AND(BM43=\"SP\",BK50=\"WE(Wear) - 3% Voids\"),30,IF(BM43=\"MV\",35,30)))))","v":30},{"$f":"BL74*0.1","v":3}]
[{"$f":"SUMMARY!GH7","v":364},"",{"$f":"C74","v":16},"","",{"$error":"#VALUE!"},null,null,100,100,null,100,"","",86,114,null,90,"","",76,104,null,70,"","",56,84,null,50,"","",36,64,null,35,"","",23,47,null,"","","",{"$error":"#VALUE!"},{"$error":"#VALUE!"},364,"","","","","","","","","","",null,null,null,3.5000000000000003E-2,"MV",35]
[{"$f":"SUMMARY!GN7","v":365},"",17,"","",{"$error":"#VALUE!"},null,null,100,100,null,100,"","",86,114,null,90,"","",76,104,null,70,"","",56,84,null,50,"","",36,64,null,35,"","",23,47,null,"","","",{"$f":"AP76-2","v":{"$error":"#VALUE!"}},{"$f":"AP76+2","v":{"$error":"#VALUE!"}},365,"","","","","","","","","","",null,null,null,0.03,"LV & SP NW",30]
[{"$f":"SUMMARY!GP7","v":366},"",{"$f":"C76","v":17},"","",{"$error":"#VALUE!"},null,null,100,100,null,100,"","",86,114,null,90,"","",76,104,null,70,"","",56,84,null,50,"","",36,64,null,35,"","",23,47,null,"","","",{"$error":"#VALUE!"},{"$error":"#VALUE!"},{"$f":"AU76+1","v":366},"","","","","","","","","","",null,null,null,0.03,"SP SHLDR WE",30]
[{"$f":"SUMMARY!GR7","v":367},"",{"$f":"C77","v":17},"","",{"$error":"#VALUE!"},null,null,100,100,null,100,"","",86,114,null,90,"","",76,104,null,70,"","",56,84,null,50,"","",36,64,null,35,"","",23,47,null,"","","",{"$error":"#VALUE!"},{"$error":"#VALUE!"},367,"","","","",{"$f":"AZ77","v":""},"","","","","",null,null,null,0.03,"SP WE - 3%",30]
[{"$f":"SUMMARY!GT7","v":368},"",{"$f":"C78","v":17},"","",{"$error":"#VALUE!"},null,null,100,100,null,100,"","",86,114,null,90,"","",76,104,null,70,"","",56,84,null,50,"","",36,64,null,35,"","",23,47,null,"","","",{"$error":"#VALUE!"},{"$error":"#VALUE!"},368,"","","","","","","","","","",null,null,null,"Asphalt Binder Grades",null,"Chosen Binder"]
[{"$f":"SUMMARY!GZ7","v":369},"",18,"","",{"$error":"#VALUE!"},null,null,100,100,null,100,"","",86,114,null,90,"","",76,104,null,70,"","",56,84,null,50,"","",36,64,null,35,"","",23,47,null,"","","",{"$error":"#VALUE!"},{"$error":"#VALUE!"},369,"","","",{"$f":"AY79","v":""},"","","","","","",null,null,null,"A = PG 52-34",null,{"$f":"IF(AL3=\"A = PG 52-34\",\"A\",IF(AL3=\"B = PG 58-28\",\"B\",IF(AL3=\"C = PG 58-34\",\"C\",IF(AL3=\"E = PG 64-28\",\"E\",IF(AL3=\"F = PG 64-34\",\"F\",IF(AL3=\"H = PG 70-28\",\"H\",\"L\"))))))","v":"B"}]
[{"$f":"SUMMARY!HB7","v":370},"",{"$f":"C80","v":18},"","",{"$error":"#VALUE!"},null,null,100,100,null,100,"","",86,114,null,90,"","",76,104,null,70,"","",56,84,null,50,"","",36,64,null,35,"","",23,47,null,"","","",{"$error":"#VALUE!"},{"$error":"#VALUE!"},370,"",{"$f":"AW80","v":""},{"$f":"AX80","v":""},{"$f":"AY80","v":""},"","","","","","",null,null,null,"B = PG 58-28"]
[{"$f":"SUMMARY!HD7","v":371},"",{"$f":"C81","v":18},"","",{"$error":"#VALUE!"},null,null,100,100,null,100,"","",86,114,null,90,"","",76,104,null,70,"","",56,84,null,50,"","",36,64,null,35,"","",23,47,null,"","","",{"$error":"#VALUE!"},{"$error":"#VALUE!"},371,{"$f":"AV81","v":""},"","","","","","","","","",null,null,null,"C = PG 58-34"]
[{"$f":"SUMMARY!HF7","v":372},"",{"$f":"C82","v":18},"","",{"$error":"#VALUE!"},null,null,100,100,null,100,"","",86,114,null,90,"","",76,104,null,70,"","",56,84,null,50,"","",36,64,null,35,"","",23,47,null,"","","",{"$error":"#VALUE!"},{"$error":"#VALUE!"},372,"","","","","","","","","","",null,null,null,"E = PG 64-28"]
[{"$f":"SUMMARY!HL7","v":373},"",19,"","",{"$error":"#VALUE!"},null,null,100,100,null,100,"","",86,114,null,90,"","",76,104,null,70,"","",56,84,null,50,"","",36,64,null,35,"","",23,47,null,"","","",{"$error":"#VALUE!"},{"$error":"#VALUE!"},373,"","","","","","","","","","",null,null,null,"F = PG 64-34"]
[{"$f":"SUMMARY!HN7","v":374},"",{"$f":"C84","v":19},"","",{"$error":"#VALUE!"},null,null,100,100,null,100,"","",86,114,null,90,"","",76,104,null,70,"","",56,84,null,50,"","",36,64,null,35,"","",23,47,null,"","","",{"$error":"#VALUE!"},{"$error":"#VALUE!"},374,"","","","","","","","","","",null,null,null,"H = PG 70-28"]
[{"$f":"SUMMARY!HP7","v":375},"",{"$f":"C85","v":19},"","",{"$error":"#VALUE!"},null,null,100,100,null,100,"","",86,114,null,90,"","",76,104,null,70,"","",56,84,null,50,"","",36,64,null,35,"","",23,47,null,"","","",{"$error":"#VALUE!"},{"$error":"#VALUE!"},375,"","","","","","","","","","",null,null,null,"I = PG 70-34"]
[{"$f":"SUMMARY!HR7","v":376},"",{"$f":"C86","v":19},"","",{"$error":"#VALUE!"},null,null,100,100,null,100,"","",86,114,null,90,"","",76,104,null,70,"","",56,84,null,50,"","",36,64,null,35,"","",23,47,null,"","","",{"$error":"#VALUE!"},{"$error":"#VALUE!"},376,"","","","","","","","","","",null,null,null,"L = PG 64-22"]
[{"$f":"SUMMARY!HX7","v":377},"",20,"","",{"$error":"#VALUE!"},null,null,100,100,null,100,"","",86,114,null,90,"","",76,104,null,70,"","",56,84,null,50,"","",36,64,null,35,"","",23,47,null,"","","",{"$error":"#VALUE!"},{"$error":"#VALUE!"},377,"","","","","","","","","","",null,null,null,"M = PG 49-34"]
[{"$f":"SUMMARY!HZ7","v":378},"",{"$f":"C88","v":20},"","",{"$error":"#VALUE!"},null,null,100,100,null,100,"","",86,114,null,90,"","",76,104,null,70,"","",56,84,null,50,"","",36,64,null,35,"","",23,47,null,"","","",{"$error":"#VALUE!"},{"$error":"#VALUE!"},378,"","","","","","","","","","",null,null,null,"Mix Design Abbreviation"]
[{"$f":"SUMMARY!IB7","v":379},"",{"$f":"C89","v":20},"","",{"$error":"#VALUE!"},null,null,100,100,null,100,"","",86,114,null,90,"","",76,104,null,70,"","",56,84,null,50,"","",36,64,null,35,"","",23,47,null,"","","",{"$error":"#VALUE!"},{"$error":"#VALUE!"},379,"","","","","","","","","",""]
[{"$f":"SUMMARY!ID7","v":380},"",{"$f":"C90","v":20},"","",{"$error":"#VALUE!"},null,null,100,100,null,100,"","",86,114,null,90,"","",76,104,null,70,"","",56,84,null,50,"","",36,64,null,35,"","",23,47,null,"","","",{"$error":"#VALUE!"},{"$error":"#VALUE!"},380,"","","","","","","","","","",null,null,null,{"$f":"IF(BM43=\"SP\",CONCATENATE(BM43,BM50,BM56,BM63,BL74,BK80),CONCATENATE(BM43,BM50,BM56,BK70,BL74,BK80))","v":"SPWEB330B"}]
[{"$f":"SUMMARY!IJ7","v":381},"",21,"","",{"$error":"#VALUE!"},null,null,100,100,null,100,"","",86,114,null,90,"","",76,104,null,70,"","",56,84,null,50,"","",36,64,null,35,"","",23,47,null,"","","",{"$error":"#VALUE!"},{"$error":"#VALUE!"},381,"","","","","","","","","",""]
[{"$f":"SUMMARY!IL7","v":382},"",{"$f":"C92","v":21},"","",{"$error":"#VALUE!"},null,null,100,100,null,100,"","",86,114,null,90,"","",76,104,null,70,"","",56,84,null,50,"","",36,64,null,35,"","",23,47,null,"","","",{"$error":"#VALUE!"},{"$error":"#VALUE!"},382,"","","","","","","","","",""]
[{"$f":"SUMMARY!IN7","v":383},"",{"$f":"C93","v":21},"","",{"$error":"#VALUE!"},null,null,100,100,null,100,"","",86,114,null,90,"","",76,104,null,70,"","",56,84,null,50,"","",36,64,null,35,"","",23,47,null,"","","",{"$error":"#VALUE!"},{"$error":"#VALUE!"},383,"","","","","","","","","","",null,null,null,"Mixture Properties Designation to determine CAA & FAA"]
[{"$f":"SUMMARY!IP7","v":384},"",{"$f":"C94","v":21},"","",{"$error":"#VALUE!"},null,null,100,100,null,100,"","",86,114,null,90,"","",76,104,null,70,"","",56,84,null,50,"","",36,64,null,35,"","",23,47,null,"","",null,{"$error":"#VALUE!"},{"$error":"#VALUE!"},384,{"$f":"AV94","v":""},"","","","","","","","","",null,null,null,{"$f":"IF(BM43=\"LV\",\"LV\",IF(BM43=\"MV\",\"MV\",\"SP\"))","v":"SP"},"<== Mix Type"]
[null,null,null,null,null,null,null,null,null,null,null,null,null,null,null,null,null,null,null,null,null,null,null,null,null,null,null,null,null,null,null,null,null,null,null,null,null,null,null,null,null,null,null,null,null,null,null,null,null,null,null,null,null,null,null,null,null,null,null,null,{"$f":"BM50","v":"WE"},"<== Course"]
[null,null,null,null,null,null,null,null,null,null,null,null,null,null,null,null,null,null,null,null,null,null,null,null,null,null,null,null,null,null,null,null,null,null,null,null,null,null,null,null,null,null,null,null,null,null,null,null,null,null,null,null,null,null,null,null,null,null,null,null,{"$f":"BM63","v":3},"<== Traffic Level"]
[null,null,null,null,null,null,null,null,null,null,null,null,null,null,null,null,null,null,null,null,null,null,null,null,null,null,null,null,null,null,null,null,null,null,null,null,null,null,null,null,null,null,null,null,null,null,null,null,null,null,null,null,null,null,null,null,null,null,null,null,{"$f":"CONCATENATE(BI95,BI96,BI97)","v":"SPWE3"},"<== Composite Designation to be used in table below"]
[]
[]
[null,null,null,null,null,null,null,null,null,null,null,null,null,null,null,null,null,null,null,null,null,null,null,null,null,null,null,null,null,null,null,null,null,null,null,null,null,null,null,null,null,null,null,null,null,null,null,null,null,null,null,null,null,null,null,null,null,null,null,null,"RAP?","Yes",{"$f":"IF(Y5=\"Yes\",\"Yes\",\"No\")","v":"Yes"}]
[null,null,null,null,null,null,null,null,null,null,null,null,null,null,null,null,null,null,null,null,null,null,null,null,null,null,null,null,null,null,null,null,null,null,null,null,null,null,null,null,null,null,null,null,null,null,null,null,null,null,null,null,null,null,null,null,null,null,null,null,null,"No"]
[]
[]
[]
[]
[]
[]
[]
[]
[]
[]
[]
[]
[]
[]
[]
[]
[]
[]
[]
[]
[]
[null,null,null,null,null,null,null,null,null,null,null,null,null,null,null,null,null,null,null,null,null,null,null,null,null,null,null,null,null,null,null,null,null,null,null,null,null,null,null,null,null,null,null,null,null,null,null,null,null,null,null,null,null,null,null,null,null,null,null,null,"CAA- 1 FACE",{"$f":"VLOOKUP($BI$98,$BI$130:$BN$153,4)","v":55}]
[null,null,null,null,null,null,null,null,null,null,null,null,null,null,null,null,null,null,null,null,null,null,null,null,null,null,null,null,null,null,null,null,null,null,null,null,null,null,null,null,null,null,null,null,null,null,null,null,null,null,null,null,null,null,null,null,null,null,null,null,"CAA -2 FACE",{"$f":"VLOOKUP($BI$98,$BI$130:$BN$153,5)","v":"-"}]
[null,null,null,null,null,null,null,null,null,null,null,null,null,null,null,null,null,null,null,null,null,null,null,null,null,null,null,null,null,null,null,null,null,null,null,null,null,null,null,null,null,null,null,null,null,null,null,null,null,null,null,null,null,null,null,null,null,null,null,null,"FAA",{"$f":"VLOOKUP($BI$98,$BI$130:$BN$153,6)","v":42}]
[]
[]
[null,null,null,null,null,null,null,null,null,null,null,null,null,null,null,null,null,null,null,null,null,null,null,null,null,null,null,null,null,null,null,null,null,null,null,null,null,null,null,null,null,null,null,null,null,null,null,null,null,null,null,null,null,null,null,null,null,null,null,null,"2350/2360",null,"Voids","1 face","2 face","faa we","initial","design","max"]
[null,null,null,null,null,null,null,null,null,null,null,null,null,null,null,null,null,null,null,null,null,null,null,null,null,null,null,null,null,null,null,null,null,null,null,null,null,null,null,null,null,null,null,null,null,null,null,null,null,null,null,null,null,null,null,null,null,null,null,null,"LVNW2","MARSHALL DESIGN",1,30,"-","-","-",50,"-","Low Volume"]
[null,null,null,null,null,null,null,null,null,null,null,null,null,null,null,null,null,null,null,null,null,null,null,null,null,null,null,null,null,null,null,null,null,null,null,null,null,null,null,null,null,null,null,null,null,null,null,null,null,null,null,null,null,null,null,null,null,null,null,null,"LVNW3","MARSHALL DESIGN",2,30,"-","-","-",50,"-","Low Volume"]
[null,null,null,null,null,null,null,null,null,null,null,null,null,null,null,null,null,null,null,null,null,null,null,null,null,null,null,null,null,null,null,null,null,null,null,null,null,null,null,null,null,null,null,null,null,null,null,null,null,null,null,null,null,null,null,null,null,null,null,null,"LVNW4","MARSHALL DESIGN",3,30,"-","-","-",50,"-","Low Volume"]
[null,null,null,null,null,null,null,null,null,null,null,null,null,null,null,null,null,null,null,null,null,null,null,null,null,null,null,null,null,null,null,null,null,null,null,null,null,null,null,null,null,null,null,null,null,null,null,null,null,null,null,null,null,null,null,null,null,null,null,null,"LVNW5","MARSHALL DESIGN",4,30,"-","-","-",50,"-","Low Volume"]
[null,null,null,null,null,null,null,null,null,null,null,null,null,null,null,null,null,null,null,null,null,null,null,null,null,null,null,null,null,null,null,null,null,null,null,null,null,null,null,null,null,null,null,null,null,null,null,null,null,null,null,null,null,null,null,null,null,null,null,null,"LVWE2","MARSHALL DESIGN",5,30,"-","-","-",50,"-","Low Volume"]
[null,null,null,null,null,null,null,null,null,null,null,null,null,null,null,null,null,null,null,null,null,null,null,null,null,null,null,null,null,null,null,null,null,null,null,null,null,null,null,null,null,null,null,null,null,null,null,null,null,null,null,null,null,null,null,null,null,null,null,null,"LVWE3","MARSHALL DESIGN",6,30,"-","-","-",50,"-","Low Volume"]
[null,null,null,null,null,null,null,null,null,null,null,null,null,null,null,null,null,null,null,null,null,null,null,null,null,null,null,null,null,null,null,null,null,null,null,null,null,null,null,null,null,null,null,null,null,null,null,null,null,null,null,null,null,null,null,null,null,null,null,null,"LVWE4","MARSHALL DESIGN",7,30,"-","-","-",50,"-","Low Volume"]
[null,null,null,null,null,null,null,null,null,null,null,null,null,null,null,null,null,null,null,null,null,null,null,null,null,null,null,null,null,null,null,null,null,null,null,null,null,null,null,null,null,null,null,null,null,null,null,null,null,null,null,null,null,null,null,null,null,null,null,null,"LVWE5","MARSHALL DESIGN",8,30,"-","-","-",50,"-","Low Volume"]
[null,null,null,null,null,null,null,null,null,null,null,null,null,null,null,null,null,null,null,null,null,null,null,null,null,null,null,null,null,null,null,null,null,null,null,null,null,null,null,null,null,null,null,null,null,null,null,null,null,null,null,null,null,null,null,null,null,null,null,null,"MVNW2","MARSHALL DESIGN",9,55,"-",40,"-",50,"-","MV n/wear"]
[null,null,null,null,null,null,null,null,null,null,null,null,null,null,null,null,null,null,null,null,null,null,null,null,null,null,null,null,null,null,null,null,null,null,null,null,null,null,null,null,null,null,null,null,null,null,null,null,null,null,null,null,null,null,null,null,null,null,null,null,"MVNW3","MARSHALL DESIGN",10,55,"-",40,"-",50,"-","MV n/wear"]
[null,null,null,null,null,null,null,null,null,null,null,null,null,null,null,null,null,null,null,null,null,null,null,null,null,null,null,null,null,null,null,null,null,null,null,null,null,null,null,null,null,null,null,null,null,null,null,null,null,null,null,null,null,null,null,null,null,null,null,null,"MVNW4","MARSHALL DESIGN",11,55,"-",40,"-",50,"-","MV n/wear"]
[null,null,null,null,null,null,null,null,null,null,null,null,null,null,null,null,null,null,null,null,null,null,null,null,null,null,null,null,null,null,null,null,null,null,null,null,null,null,null,null,null,null,null,null,null,null,null,null,null,null,null,null,null,null,null,null,null,null,null,null,"MVNW5","MARSHALL DESIGN",12,55,"-",40,"-",50,"-","MV n/wear"]
[null,null,null,null,null,null,null,null,null,null,null,null,null,null,null,null,null,null,null,null,null,null,null,null,null,null,null,null,null,null,null,null,null,null,null,null,null,null,null,null,null,null,null,null,null,null,null,null,null,null,null,null,null,null,null,null,null,null,null,null,"MVWE2","MARSHALL DESIGN",13,55,"-",42,"-",50,"-","MV wear"]
[null,null,null,null,null,null,null,null,null,null,null,null,null,null,null,null,null,null,null,null,null,null,null,null,null,null,null,null,null,null,null,null,null,null,null,null,null,null,null,null,null,null,null,null,null,null,null,null,null,null,null,null,null,null,null,null,null,null,null,null,"MVWE3","MARSHALL DESIGN",14,55,"-",42,"-",50,"-","MV wear"]
[null,null,null,null,null,null,null,null,null,null,null,null,null,null,null,null,null,null,null,null,null,null,null,null,null,null,null,null,null,null,null,null,null,null,null,null,null,null,null,null,null,null,null,null,null,null,null,null,null,null,null,null,null,null,null,null,null,null,null,null,"MVWE4","MARSHALL DESIGN",15,55,"-",42,"-",50,"-","MV wear"]
[null,null,null,null,null,null,null,null,null,null,null,null,null,null,null,null,null,null,null,null,null,null,null,null,null,null,null,null,null,null,null,null,null,null,null,null,null,null,null,null,null,null,null,null,null,null,null,null,null,null,null,null,null,null,null,null,null,null,null,null,"MVWE5","MARSHALL DESIGN",16,55,"-",42,"-",50,"-","MV wear"]
[null,null,null,null,null,null,null,null,null,null,null,null,null,null,null,null,null,null,null,null,null,null,null,null,null,null,null,null,null,null,null,null,null,null,null,null,null,null,null,null,null,null,null,null,null,null,null,null,null,null,null,null,null,null,null,null,null,null,null,null,"SPNW2","GYRATORY DESIGN",17,30,"-",40,6,40,60,"Level 2 n/wear"]
[null,null,null,null,null,null,null,null,null,null,null,null,null,null,null,null,null,null,null,null,null,null,null,null,null,null,null,null,null,null,null,null,null,null,null,null,null,null,null,null,null,null,null,null,null,null,null,null,null,null,null,null,null,null,null,null,null,null,null,null,"SPNW3","GYRATORY DESIGN",18,55,"-",40,7,60,90,"Level 3 n/wear"]
[null,null,null,null,null,null,null,null,null,null,null,null,null,null,null,null,null,null,null,null,null,null,null,null,null,null,null,null,null,null,null,null,null,null,null,null,null,null,null,null,null,null,null,null,null,null,null,null,null,null,null,null,null,null,null,null,null,null,null,null,"SPNW4","GYRATORY DESIGN",19,60,"-",40,8,90,140,"Level 4 n/wear"]
[null,null,null,null,null,null,null,null,null,null,null,null,null,null,null,null,null,null,null,null,null,null,null,null,null,null,null,null,null,null,null,null,null,null,null,null,null,null,null,null,null,null,null,null,null,null,null,null,null,null,null,null,null,null,null,null,null,null,null,null,"SPNW5","GYRATORY DESIGN",20,80,75,40,8,100,160,"Level 5 n/wear"]
[null,null,null,null,null,null,null,null,null,null,null,null,null,null,null,null,null,null,null,null,null,null,null,null,null,null,null,null,null,null,null,null,null,null,null,null,null,null,null,null,null,null,null,null,null,null,null,null,null,null,null,null,null,null,null,null,null,null,null,null,"SPWE2","GYRATORY DESIGN",21,30,"-",40,6,40,60,"Level 2 wear"]
[null,null,null,null,null,null,null,null,null,null,null,null,null,null,null,null,null,null,null,null,null,null,null,null,null,null,null,null,null,null,null,null,null,null,null,null,null,null,null,null,null,null,null,null,null,null,null,null,null,null,null,null,null,null,null,null,null,null,null,null,"SPWE3","GYRATORY DESIGN",22,55,"-",42,7,60,90,"Level 3 wear"]
[null,null,null,null,null,null,null,null,null,null,null,null,null,null,null,null,null,null,null,null,null,null,null,null,null,null,null,null,null,null,null,null,null,null,null,null,null,null,null,null,null,null,null,null,null,null,null,null,null,null,null,null,null,null,null,null,null,null,null,null,"SPWE4","GYRATORY DESIGN",23,85,80,44,8,90,140,"Level 4 wear"]
[null,null,null,null,null,null,null,null,null,null,null,null,null,null,null,null,null,null,null,null,null,null,null,null,null,null,null,null,null,null,null,null,null,null,null,null,null,null,null,null,null,null,null,null,null,null,null,null,null,null,null,null,null,null,null,null,null,null,null,null,"SPWE5","GYRATORY DESIGN",24,95,90,45,8,100,160,"Level 5 wear"]
[]
[]
[]
[]
[]
[]
[]
[]
[]
[]
[]
[]
[]
[]
[]
[]
[]
[]
[]
[]
[]
[]
[]
[]
[]
[]
[]
[]
[]
[]
[]
[]
[]
[]
[]
[]
[]
[]
[]
[]
[]
[]
[]
[]
[]
[]
[null,null,null,null,null,null,null,null,null,null,null,null,null,null,null,null,null,null,null,null,null,null,null,null,null,null,null,null,null,null,null,null,null,null,null,null,null,null,null,null,null,null,null,null,null,null,null,null,null,null,null,null,null,null,null,null,null,null,{"$f":"AV12","v":0},null,{"$f":"AV13","v":""},null,{"$f":"AV14","v":""},null,{"$f":"AV15","v":""},null,null,null,null,null,{"$f":"AV16","v":""},null,{"$f":"AV17","v":""},null,{"$f":"AV18","v":""},null,{"$f":"AV19","v":""},null,null,null,null,null,{"$f":"AV20","v":""},null,{"$f":"AV21","v":""},null,{"$f":"AV22","v":""},null,{"$f":"AV23","v":""},null,null,null,null,null,{"$f":"AV24","v":""},null,{"$f":"AV25","v":""},null,{"$f":"AV26","v":""},null,{"$f":"AV27","v":""},null,null,null,null,null,{"$f":"AV28","v":""},null,{"$f":"AV29","v":""},null,{"$f":"AV30","v":""},null,{"$f":"AV31","v":""},null,null,null,null,null,{"$f":"AV32","v":""},null,{"$f":"AV33","v":""},null,{"$f":"AV34","v":""},null,{"$f":"AV35","v":""},null,null,null,null,null,{"$f":"AV36","v":""},null,{"$f":"AV37","v":""},null,{"$f":"AV38","v":""},null,{"$f":"AV39","v":""},null,null,null,null,null,{"$f":"AV40","v":""},null,{"$f":"AV41","v":""},null,{"$f":"AV42","v":""},null,{"$f":"AV43","v":""},null,null,null,null,null,{"$f":"AV44","v":""},null,{"$f":"AV45","v":""},null,{"$f":"AV46","v":""},null,{"$f":"AV47","v":""},null,null,null,null,null,{"$f":"AV48","v":""},null,{"$f":"AV49","v":""},null,{"$f":"AV50","v":""},null,{"$f":"AV51","v":""},null,null,null,null,null,{"$f":"AV52","v":""},null,{"$f":"AV53","v":""},null,{"$f":"AV54","v":""},null,{"$f":"AV55","v":""}]
[null,null,null,null,null,null,null,null,null,null,null,null,null,null,null,null,null,null,null,null,null,null,null,null,null,null,null,null,null,null,null,null,null,null,null,null,null,null,null,null,null,null,null,null,null,null,null,null,null,null,null,null,null,null,null,null,null,null,{"$f":"AW12","v":0},null,{"$f":"AW13","v":""},null,{"$f":"AW14","v":""},null,{"$f":"AW15","v":""},null,null,null,null,null,{"$f":"AW16","v":""},null,{"$f":"AW17","v":""},null,{"$f":"AW18","v":""},null,{"$f":"AW19","v":""},null,null,null,null,null,{"$f":"AW20","v":""},null,{"$f":"AW21","v":""},null,{"$f":"AW22","v":""},null,{"$f":"AW23","v":""},null,null,null,null,null,{"$f":"AW24","v":""},null,{"$f":"AW25","v":""},null,{"$f":"AW26","v":""},null,{"$f":"AW27","v":""},null,null,null,null,null,{"$f":"AW28","v":""},null,{"$f":"AW29","v":""},null,{"$f":"AW30","v":""},null,{"$f":"AW31","v":""},null,null,null,null,null,{"$f":"AW32","v":""},null,{"$f":"AW33","v":""},null,{"$f":"AW34","v":""},null,{"$f":"AW35","v":""},null,null,null,null,null,{"$f":"AW36","v":""},null,{"$f":"AW37","v":""},null,{"$f":"AW38","v":""},null,{"$f":"AW39","v":""},null,null,null,null,null,{"$f":"AW40","v":""},null,{"$f":"AW41","v":""},null,{"$f":"AW42","v":""},null,{"$f":"AW43","v":""},null,null,null,null,null,{"$f":"AW44","v":""},null,{"$f":"AW45","v":""},null,{"$f":"AW46","v":""},null,{"$f":"AW47","v":""},null,null,null,null,null,{"$f":"AW48","v":""},null,{"$f":"AW49","v":""},null,{"$f":"AW50","v":""},null,{"$f":"AW51","v":""},null,null,null,null,null,{"$f":"AW52","v":""},null,{"$f":"AW53","v":""},null,{"$f":"AW54","v":""},null,{"$f":"AW55","v":""}]
[null,null,null,null,null,null,null,null,null,null,null,null,null,null,null,null,null,null,null,null,null,null,null,null,null,null,null,null,null,null,null,null,null,null,null,null,null,null,null,null,null,null,null,null,null,null,null,null,null,null,null,null,null,null,null,null,null,null,{"$f":"AX12","v":0},null,{"$f":"AX13","v":""},null,{"$f":"AX14","v":""},null,{"$f":"AX15","v":""},null,null,null,null,null,{"$f":"AX16","v":""},null,{"$f":"AX17","v":""},null,{"$f":"AX18","v":""},null,{"$f":"AX19","v":""},null,null,null,null,null,{"$f":"AX20","v":""},null,{"$f":"AX21","v":""},null,{"$f":"AX22","v":""},null,{"$f":"AX23","v":""},null,null,null,null,null,{"$f":"AX24","v":""},null,{"$f":"AX25","v":""},null,{"$f":"AX26","v":""},null,{"$f":"AX27","v":""},null,null,null,null,null,{"$f":"AX28","v":""},null,{"$f":"AX29","v":""},null,{"$f":"AX30","v":""},null,{"$f":"AX31","v":""},null,null,null,null,null,{"$f":"AX32","v":""},null,{"$f":"AX33","v":""},null,{"$f":"AX34","v":""},null,{"$f":"AX35","v":""},null,null,null,null,null,{"$f":"AX36","v":""},null,{"$f":"AX37","v":""},null,{"$f":"AX38","v":""},null,{"$f":"AX39","v":""},null,null,null,null,null,{"$f":"AX40","v":""},null,{"$f":"AX41","v":""},null,{"$f":"AX42","v":""},null,{"$f":"AX43","v":""},null,null,null,null,null,{"$f":"AX44","v":""},null,{"$f":"AX45","v":""},null,{"$f":"AX46","v":""},null,{"$f":"AX47","v":""},null,null,null,null,null,{"$f":"AX48","v":""},null,{"$f":"AX49","v":""},null,{"$f":"AX50","v":""},null,{"$f":"AX51","v":""},null,null,null,null,null,{"$f":"AX52","v":""},null,{"$f":"AX53","v":""},null,{"$f":"AX54","v":""},null,{"$f":"AX55","v":""}]
[null,null,null,null,null,null,null,null,null,null,null,null,null,null,null,null,null,null,null,null,null,null,null,null,null,null,null,null,null,null,null,null,null,null,null,null,null,null,null,null,null,null,null,null,null,null,null,null,null,null,null,null,null,null,null,null,null,null,{"$f":"AY12","v":0},null,{"$f":"AY13","v":""},null,{"$f":"AY14","v":""},null,{"$f":"AY15","v":""},null,null,null,null,null,{"$f":"AY16","v":""},null,{"$f":"AY17","v":""},null,{"$f":"AY18","v":""},null,{"$f":"AY19","v":""},null,null,null,null,null,{"$f":"AY20","v":""},null,{"$f":"AY21","v":""},null,{"$f":"AY22","v":""},null,{"$f":"AY23","v":""},null,null,null,null,null,{"$f":"AY24","v":""},null,{"$f":"AY25","v":""},null,{"$f":"AY26","v":""},null,{"$f":"AY27","v":""},null,null,null,null,null,{"$f":"AY28","v":""},null,{"$f":"AY29","v":""},null,{"$f":"AY30","v":""},null,{"$f":"AY31","v":""},null,null,null,null,null,{"$f":"AY32","v":""},null,{"$f":"AY33","v":""},null,{"$f":"AY34","v":""},null,{"$f":"AY35","v":""},null,null,null,null,null,{"$f":"AY36","v":""},null,{"$f":"AY37","v":""},null,{"$f":"AY38","v":""},null,{"$f":"AY39","v":""},null,null,null,null,null,{"$f":"AY40","v":""},null,{"$f":"AY41","v":""},null,{"$f":"AY42","v":""},null,{"$f":"AY43","v":""},null,null,null,null,null,{"$f":"AY44","v":""},null,{"$f":"AY45","v":""},null,{"$f":"AY46","v":""},null,{"$f":"AY47","v":""},null,null,null,null,null,{"$f":"AY48","v":""},null,{"$f":"AY49","v":""},null,{"$f":"AY50","v":""},null,{"$f":"AY51","v":""},null,null,null,null,null,{"$f":"AY52","v":""},null,{"$f":"AY53","v":""},null,{"$f":"AY54","v":""},null,{"$f":"AY55","v":""}]
[null,null,null,null,null,null,null,null,null,null,null,null,null,null,null,null,null,null,null,null,null,null,null,null,null,null,null,null,null,null,null,null,null,null,null,null,null,null,null,null,null,null,null,null,null,null,null,null,null,null,null,null,null,null,null,null,null,null,{"$f":"AZ12","v":0},null,{"$f":"AZ13","v":""},null,{"$f":"AZ14","v":""},null,{"$f":"AZ15","v":""},null,null,null,null,null,{"$f":"AZ16","v":""},null,{"$f":"AZ17","v":""},null,{"$f":"AZ18","v":""},null,{"$f":"AZ19","v":""},null,null,null,null,null,{"$f":"AZ20","v":""},null,{"$f":"AZ21","v":""},null,{"$f":"AZ22","v":""},null,{"$f":"AZ23","v":""},null,null,null,null,null,{"$f":"AZ24","v":""},null,{"$f":"AZ25","v":""},null,{"$f":"AZ26","v":""},null,{"$f":"AZ27","v":""},null,null,null,null,null,{"$f":"AZ28","v":""},null,{"$f":"AZ29","v":""},null,{"$f":"AZ30","v":""},null,{"$f":"AZ31","v":""},null,null,null,null,null,{"$f":"AZ32","v":""},null,{"$f":"AZ33","v":""},null,{"$f":"AZ34","v":""},null,{"$f":"AZ35","v":""},null,null,null,null,null,{"$f":"AZ36","v":""},null,{"$f":"AZ37","v":""},null,{"$f":"AZ38","v":""},null,{"$f":"AZ39","v":""},null,null,null,null,null,{"$f":"AZ40","v":""},null,{"$f":"AZ41","v":""},null,{"$f":"AZ42","v":""},null,{"$f":"AZ43","v":""},null,null,null,null,null,{"$f":"AZ44","v":""},null,{"$f":"AZ45","v":""},null,{"$f":"AZ46","v":""},null,{"$f":"AZ47","v":""},null,null,null,null,null,{"$f":"AZ48","v":""},null,{"$f":"AZ49","v":""},null,{"$f":"AZ50","v":""},null,{"$f":"AZ51","v":""},null,null,null,null,null,{"$f":"AZ52","v":""},null,{"$f":"AZ53","v":""},null,{"$f":"AZ54","v":""},null,{"$f":"AZ55","v":""}]
[null,null,null,null,null,null,null,null,null,null,null,null,null,null,null,null,null,null,null,null,null,null,null,null,null,null,null,null,null,null,null,null,null,null,null,null,null,null,null,null,null,null,null,null,null,null,null,null,null,null,null,null,null,null,null,null,null,null,{"$f":"BA12","v":0},null,{"$f":"BA13","v":""},null,{"$f":"BA14","v":""},null,{"$f":"BA15","v":""},null,null,null,null,null,{"$f":"BA16","v":""},null,{"$f":"BA17","v":""},null,{"$f":"BA18","v":""},null,{"$f":"BA19","v":""},null,null,null,null,null,{"$f":"BA20","v":""},null,{"$f":"BA21","v":""},null,{"$f":"BA22","v":""},null,{"$f":"BA23","v":""},null,null,null,null,null,{"$f":"BA24","v":""},null,{"$f":"BA25","v":""},null,{"$f":"BA26","v":""},null,{"$f":"BA27","v":""},null,null,null,null,null,{"$f":"BA28","v":""},null,{"$f":"BA29","v":""},null,{"$f":"BA30","v":""},null,{"$f":"BA31","v":""},null,null,null,null,null,{"$f":"BA32","v":""},null,{"$f":"BA33","v":""},null,{"$f":"BA34","v":""},null,{"$f":"BA35","v":""},null,null,null,null,null,{"$f":"BA36","v":""},null,{"$f":"BA37","v":""},null,{"$f":"BA38","v":""},null,{"$f":"BA39","v":""},null,null,null,null,null,{"$f":"BA40","v":""},null,{"$f":"BA41","v":""},null,{"$f":"BA42","v":""},null,{"$f":"BA43","v":""},null,null,null,null,null,{"$f":"BA44","v":""},null,{"$f":"BA45","v":""},null,{"$f":"BA46","v":""},null,{"$f":"BA47","v":""},null,null,null,null,null,{"$f":"BA48","v":""},null,{"$f":"BA49","v":""},null,{"$f":"BA50","v":""},null,{"$f":"BA51","v":""},null,null,null,null,null,{"$f":"BA52","v":""},null,{"$f":"BA53","v":""},null,{"$f":"BA54","v":""},null,{"$f":"BA55","v":""}]
[null,null,null,null,null,null,null,null,null,null,null,null,null,null,null,null,null,null,null,null,null,null,null,null,null,null,null,null,null,null,null,null,null,null,null,null,null,null,null,null,null,null,null,null,null,null,null,null,null,null,null,null,null,null,null,null,null,null,{"$f":"BB12","v":0},null,{"$f":"BB13","v":""},null,{"$f":"BB14","v":""},null,{"$f":"BB15","v":""},null,null,null,null,null,{"$f":"BB16","v":""},null,{"$f":"BB17","v":""},null,{"$f":"BB18","v":""},null,{"$f":"BB19","v":""},null,null,null,null,null,{"$f":"BB20","v":""},null,{"$f":"BB21","v":""},null,{"$f":"BB22","v":""},null,{"$f":"BB23","v":""},null,null,null,null,null,{"$f":"BB24","v":""},null,{"$f":"BB25","v":""},null,{"$f":"BB26","v":""},null,{"$f":"BB27","v":""},null,null,null,null,null,{"$f":"BB28","v":""},null,{"$f":"BB29","v":""},null,{"$f":"BB30","v":""},null,{"$f":"BB31","v":""},null,null,null,null,null,{"$f":"BB32","v":""},null,{"$f":"BB33","v":""},null,{"$f":"BB34","v":""},null,{"$f":"BB35","v":""},null,null,null,null,null,{"$f":"BB36","v":""},null,{"$f":"BB37","v":""},null,{"$f":"BB38","v":""},null,{"$f":"BB39","v":""},null,null,null,null,null,{"$f":"BB40","v":""},null,{"$f":"BB41","v":""},null,{"$f":"BB42","v":""},null,{"$f":"BB43","v":""},null,null,null,null,null,{"$f":"BB44","v":""},null,{"$f":"BB45","v":""},null,{"$f":"BB46","v":""},null,{"$f":"BB47","v":""},null,null,null,null,null,{"$f":"BB48","v":""},null,{"$f":"BB49","v":""},null,{"$f":"BB50","v":""},null,{"$f":"BB51","v":""},null,null,null,null,null,{"$f":"BB52","v":""},null,{"$f":"BB53","v":""},null,{"$f":"BB54","v":""},null,{"$f":"BB55","v":""}]
[null,null,null,null,null,null,null,null,null,null,null,null,null,null,null,null,null,null,null,null,null,null,null,null,null,null,null,null,null,null,null,null,null,null,null,null,null,null,null,null,null,null,null,null,null,null,null,null,null,null,null,null,null,null,null,null,null,null,{"$f":"BC12","v":0},null,{"$f":"BC13","v":""},null,{"$f":"BC14","v":""},null,{"$f":"BC15","v":""},null,null,null,null,null,{"$f":"BC16","v":""},null,{"$f":"BC17","v":""},null,{"$f":"BC18","v":""},null,{"$f":"BC19","v":""},null,null,null,null,null,{"$f":"BC20","v":""},null,{"$f":"BC21","v":""},null,{"$f":"BC22","v":""},null,{"$f":"BC23","v":""},null,null,null,null,null,{"$f":"BC24","v":""},null,{"$f":"BC25","v":""},null,{"$f":"BC26","v":""},null,{"$f":"BC27","v":""},null,null,null,null,null,{"$f":"BC28","v":""},null,{"$f":"BC29","v":""},null,{"$f":"BC30","v":""},null,{"$f":"BC31","v":""},null,null,null,null,null,{"$f":"BC32","v":""},null,{"$f":"BC33","v":""},null,{"$f":"BC34","v":""},null,{"$f":"BC35","v":""},null,null,null,null,null,{"$f":"BC36","v":""},null,{"$f":"BC37","v":""},null,{"$f":"BC38","v":""},null,{"$f":"BC39","v":""},null,null,null,null,null,{"$f":"BC40","v":""},null,{"$f":"BC41","v":""},null,{"$f":"BC42","v":""},null,{"$f":"BC43","v":""},null,null,null,null,null,{"$f":"BC44","v":""},null,{"$f":"BC45","v":""},null,{"$f":"BC46","v":""},null,{"$f":"BC47","v":""},null,null,null,null,null,{"$f":"BC48","v":""},null,{"$f":"BC49","v":""},null,{"$f":"BC50","v":""},null,{"$f":"BC51","v":""},null,null,null,null,null,{"$f":"BC52","v":""},null,{"$f":"BC53","v":""},null,{"$f":"BC54","v":""},null,{"$f":"BC55","v":""}]
[null,null,null,null,null,null,null,null,null,null,null,null,null,null,null,null,null,null,null,null,null,null,null,null,null,null,null,null,null,null,null,null,null,null,null,null,null,null,null,null,null,null,null,null,null,null,null,null,null,null,null,null,null,null,null,null,null,null,{"$f":"BD12","v":0},null,{"$f":"BD13","v":""},null,{"$f":"BD14","v":""},null,{"$f":"BD15","v":""},null,null,null,null,null,{"$f":"BD16","v":""},null,{"$f":"BD17","v":""},null,{"$f":"BD18","v":""},null,{"$f":"BD19","v":""},null,null,null,null,null,{"$f":"BD20","v":""},null,{"$f":"BD21","v":""},null,{"$f":"BD22","v":""},null,{"$f":"BD23","v":""},null,null,null,null,null,{"$f":"BD24","v":""},null,{"$f":"BD25","v":""},null,{"$f":"BD26","v":""},null,{"$f":"BD27","v":""},null,null,null,null,null,{"$f":"BD28","v":""},null,{"$f":"BD29","v":""},null,{"$f":"BD30","v":""},null,{"$f":"BD31","v":""},null,null,null,null,null,{"$f":"BD32","v":""},null,{"$f":"BD33","v":""},null,{"$f":"BD34","v":""},null,{"$f":"BD35","v":""},null,null,null,null,null,{"$f":"BD36","v":""},null,{"$f":"BD37","v":""},null,{"$f":"BD38","v":""},null,{"$f":"BD39","v":""},null,null,null,null,null,{"$f":"BD40","v":""},null,{"$f":"BD41","v":""},null,{"$f":"BD42","v":""},null,{"$f":"BD43","v":""},null,null,null,null,null,{"$f":"BD44","v":""},null,{"$f":"BD45","v":""},null,{"$f":"BD46","v":""},null,{"$f":"BD47","v":""},null,null,null,null,null,{"$f":"BD48","v":""},null,{"$f":"BD49","v":""},null,{"$f":"BD50","v":""},null,{"$f":"BD51","v":""},null,null,null,null,null,{"$f":"BD52","v":""},null,{"$f":"BD53","v":""},null,{"$f":"BD54","v":""},null,{"$f":"BD55","v":""}]
[null,null,null,null,null,null,null,null,null,null,null,null,null,null,null,null,null,null,null,null,null,null,null,null,null,null,null,null,null,null,null,null,null,null,null,null,null,null,null,null,null,null,null,null,null,null,null,null,null,null,null,null,null,null,null,null,null,null,{"$f":"BE12","v":0},null,{"$f":"BE13","v":""},null,{"$f":"BE14","v":""},null,{"$f":"BE15","v":""},null,null,null,null,null,{"$f":"BE16","v":""},null,{"$f":"BE17","v":""},null,{"$f":"BE18","v":""},null,{"$f":"BE19","v":""},null,null,null,null,null,{"$f":"BE20","v":""},null,{"$f":"BE21","v":""},null,{"$f":"BE22","v":""},null,{"$f":"BE23","v":""},null,null,null,null,null,{"$f":"BE24","v":""},null,{"$f":"BE25","v":""},null,{"$f":"BE26","v":""},null,{"$f":"BE27","v":""},null,null,null,null,null,{"$f":"BE28","v":""},null,{"$f":"BE29","v":""},null,{"$f":"BE30","v":""},null,{"$f":"BE31","v":""},null,null,null,null,null,{"$f":"BE32","v":""},null,{"$f":"BE33","v":""},null,{"$f":"BE34","v":""},null,{"$f":"BE35","v":""},null,null,null,null,null,{"$f":"BE36","v":""},null,{"$f":"BE37","v":""},null,{"$f":"BE38","v":""},null,{"$f":"BE39","v":""},null,null,null,null,null,{"$f":"BE40","v":""},null,{"$f":"BE41","v":""},null,{"$f":"BE42","v":""},null,{"$f":"BE43","v":""},null,null,null,null,null,{"$f":"BE44","v":""},null,{"$f":"BE45","v":""},null,{"$f":"BE46","v":""},null,{"$f":"BE47","v":""},null,null,null,null,null,{"$f":"BE48","v":""},null,{"$f":"BE49","v":""},null,{"$f":"BE50","v":""},null,{"$f":"BE51","v":""},null,null,null,null,null,{"$f":"BE52","v":""},null,{"$f":"BE53","v":""},null,{"$f":"BE54","v":""},null,{"$f":"BE55","v":""}]
[]
[]
[]
[]
[]
[]
[]
[]
[]
[]
[null,null,null,null,null,null,null,null,null,null,null,null,null,null,null,null,null,null,null,null,null,null,null,null,null,null,null,null,null,null,null,null,null,null,null,null,null,null,null,null,null,null,null,null,null,null,null,null,null,null,null,null,null,null,null,null,null,null,{"$f":"AV56","v":""},null,{"$f":"AV57","v":""},null,{"$f":"AV58","v":""},null,{"$f":"AV59","v":""},null,null,null,null,null,{"$f":"AV60","v":""},null,{"$f":"AV61","v":""},null,{"$f":"AV62","v":""},null,{"$f":"AV63","v":""},null,null,null,null,null,{"$f":"AV64","v":""},null,{"$f":"AV65","v":""},null,{"$f":"AV66","v":""},null,{"$f":"AV67","v":""},null,null,null,null,null,{"$f":"AV68","v":""},null,{"$f":"AV69","v":""},null,{"$f":"AV70","v":""},null,{"$f":"AV71","v":""},null,null,null,null,null,{"$f":"AV72","v":""},null,{"$f":"AV73","v":""},null,{"$f":"AV74","v":""},null,{"$f":"AV75","v":""},null,null,null,null,null,{"$f":"AV76","v":""},null,{"$f":"AV77","v":""},null,{"$f":"AV78","v":""},null,{"$f":"AV79","v":""},null,null,null,null,null,{"$f":"AV80","v":""},null,{"$f":"AV81","v":""},null,{"$f":"AV82","v":""},null,{"$f":"AV83","v":""},null,null,null,null,null,{"$f":"AV84","v":""},null,{"$f":"AV85","v":""},null,{"$f":"AV86","v":""},null,{"$f":"AV87","v":""},null,null,null,null,null,{"$f":"AV88","v":""},null,{"$f":"AV89","v":""},null,{"$f":"AV90","v":""},null,{"$f":"AV91","v":""},null,null,null,null,null,{"$f":"AV92","v":""},null,{"$f":"AV93","v":""},null,{"$f":"AV94","v":""},null,{"$f":"AV95","v":""}]
[null,null,null,null,null,null,null,null,null,null,null,null,null,null,null,null,null,null,null,null,null,null,null,null,null,null,null,null,null,null,null,null,null,null,null,null,null,null,null,null,null,null,null,null,null,null,null,null,null,null,null,null,null,null,null,null,null,null,{"$f":"AW56","v":""},null,{"$f":"AW57","v":""},null,{"$f":"AW58","v":""},null,{"$f":"AW59","v":""},null,null,null,null,null,{"$f":"AW60","v":""},null,{"$f":"AW61","v":""},null,{"$f":"AW62","v":""},null,{"$f":"AW63","v":""},null,null,null,null,null,{"$f":"AW64","v":""},null,{"$f":"AW65","v":""},null,{"$f":"AW66","v":""},null,{"$f":"AW67","v":""},null,null,null,null,null,{"$f":"AW68","v":""},null,{"$f":"AW69","v":""},null,{"$f":"AW70","v":""},null,{"$f":"AW71","v":""},null,null,null,null,null,{"$f":"AW72","v":""},null,{"$f":"AW73","v":""},null,{"$f":"AW74","v":""},null,{"$f":"AW75","v":""},null,null,null,null,null,{"$f":"AW76","v":""},null,{"$f":"AW77","v":""},null,{"$f":"AW78","v":""},null,{"$f":"AW79","v":""},null,null,null,null,null,{"$f":"AW80","v":""},null,{"$f":"AW81","v":""},null,{"$f":"AW82","v":""},null,{"$f":"AW83","v":""},null,null,null,null,null,{"$f":"AW84","v":""},null,{"$f":"AW85","v":""},null,{"$f":"AW86","v":""},null,{"$f":"AW87","v":""},null,null,null,null,null,{"$f":"AW88","v":""},null,{"$f":"AW89","v":""},null,{"$f":"AW90","v":""},null,{"$f":"AW91","v":""},null,null,null,null,null,{"$f":"AW92","v":""},null,{"$f":"AW93","v":""},null,{"$f":"AW94","v":""},null,{"$f":"AW95","v":""}]
[null,null,null,null,null,null,null,null,null,null,null,null,null,null,null,null,null,null,null,null,null,null,null,null,null,null,null,null,null,null,null,null,null,null,null,null,null,null,null,null,null,null,null,null,null,null,null,null,null,null,null,null,null,null,null,null,null,null,{"$f":"AX56","v":""},null,{"$f":"AX57","v":""},null,{"$f":"AX58","v":""},null,{"$f":"AX59","v":""},null,null,null,null,null,{"$f":"AX60","v":""},null,{"$f":"AX61","v":""},null,{"$f":"AX62","v":""},null,{"$f":"AX63","v":""},null,null,null,null,null,{"$f":"AX64","v":""},null,{"$f":"AX65","v":""},null,{"$f":"AX66","v":""},null,{"$f":"AX67","v":""},null,null,null,null,null,{"$f":"AX68","v":""},null,{"$f":"AX69","v":""},null,{"$f":"AX70","v":""},null,{"$f":"AX71","v":""},null,null,null,null,null,{"$f":"AX72","v":""},null,{"$f":"AX73","v":""},null,{"$f":"AX74","v":""},null,{"$f":"AX75","v":""},null,null,null,null,null,{"$f":"AX76","v":""},null,{"$f":"AX77","v":""},null,{"$f":"AX78","v":""},null,{"$f":"AX79","v":""},null,null,null,null,null,{"$f":"AX80","v":""},null,{"$f":"AX81","v":""},null,{"$f":"AX82","v":""},null,{"$f":"AX83","v":""},null,null,null,null,null,{"$f":"AX84","v":""},null,{"$f":"AX85","v":""},null,{"$f":"AX86","v":""},null,{"$f":"AX87","v":""},null,null,null,null,null,{"$f":"AX88","v":""},null,{"$f":"AX89","v":""},null,{"$f":"AX90","v":""},null,{"$f":"AX91","v":""},null,null,null,null,null,{"$f":"AX92","v":""},null,{"$f":"AX93","v":""},null,{"$f":"AX94","v":""},null,{"$f":"AX95","v":""}]
[null,null,null,null,null,null,null,null,null,null,null,null,null,null,null,null,null,null,null,null,null,null,null,null,null,null,null,null,null,null,null,null,null,null,null,null,null,null,null,null,null,null,null,null,null,null,null,null,null,null,null,null,null,null,null,null,null,null,{"$f":"AY56","v":""},null,{"$f":"AY57","v":""},null,{"$f":"AY58","v":""},null,{"$f":"AY59","v":""},null,null,null,null,null,{"$f":"AY60","v":""},null,{"$f":"AY61","v":""},null,{"$f":"AY62","v":""},null,{"$f":"AY63","v":""},null,null,null,null,null,{"$f":"AY64","v":""},null,{"$f":"AY65","v":""},null,{"$f":"AY66","v":""},null,{"$f":"AY67","v":""},null,null,null,null,null,{"$f":"AY68","v":""},null,{"$f":"AY69","v":""},null,{"$f":"AY70","v":""},null,{"$f":"AY71","v":""},null,null,null,null,null,{"$f":"AY72","v":""},null,{"$f":"AY73","v":""},null,{"$f":"AY74","v":""},null,{"$f":"AY75","v":""},null,null,null,null,null,{"$f":"AY76","v":""},null,{"$f":"AY77","v":""},null,{"$f":"AY78","v":""},null,{"$f":"AY79","v":""},null,null,null,null,null,{"$f":"AY80","v":""},null,{"$f":"AY81","v":""},null,{"$f":"AY82","v":""},null,{"$f":"AY83","v":""},null,null,null,null,null,{"$f":"AY84","v":""},null,{"$f":"AY85","v":""},null,{"$f":"AY86","v":""},null,{"$f":"AY87","v":""},null,null,null,null,null,{"$f":"AY88","v":""},null,{"$f":"AY89","v":""},null,{"$f":"AY90","v":""},null,{"$f":"AY91","v":""},null,null,null,null,null,{"$f":"AY92","v":""},null,{"$f":"AY93","v":""},null,{"$f":"AY94","v":""},null,{"$f":"AY95","v":""}]
[null,null,null,null,null,null,null,null,null,null,null,null,null,null,null,null,null,null,null,null,null,null,null,null,null,null,null,null,null,null,null,null,null,null,null,null,null,null,null,null,null,null,null,null,null,null,null,null,null,null,null,null,null,null,null,null,null,null,{"$f":"AZ56","v":""},null,{"$f":"AZ57","v":""},null,{"$f":"AZ58","v":""},null,{"$f":"AZ59","v":""},null,null,null,null,null,{"$f":"AZ60","v":""},null,{"$f":"AZ61","v":""},null,{"$f":"AZ62","v":""},null,{"$f":"AZ63","v":""},null,null,null,null,null,{"$f":"AZ64","v":""},null,{"$f":"AZ65","v":""},null,{"$f":"AZ66","v":""},null,{"$f":"AZ67","v":""},null,null,null,null,null,{"$f":"AZ68","v":""},null,{"$f":"AZ69","v":""},null,{"$f":"AZ70","v":""},null,{"$f":"AZ71","v":""},null,null,null,null,null,{"$f":"AZ72","v":""},null,{"$f":"AZ73","v":""},null,{"$f":"AZ74","v":""},null,{"$f":"AZ75","v":""},null,null,null,null,null,{"$f":"AZ76","v":""},null,{"$f":"AZ77","v":""},null,{"$f":"AZ78","v":""},null,{"$f":"AZ79","v":""},null,null,null,null,null,{"$f":"AZ80","v":""},null,{"$f":"AZ81","v":""},null,{"$f":"AZ82","v":""},null,{"$f":"AZ83","v":""},null,null,null,null,null,{"$f":"AZ84","v":""},null,{"$f":"AZ85","v":""},null,{"$f":"AZ86","v":""},null,{"$f":"AZ87","v":""},null,null,null,null,null,{"$f":"AZ88","v":""},null,{"$f":"AZ89","v":""},null,{"$f":"AZ90","v":""},null,{"$f":"AZ91","v":""},null,null,null,null,null,{"$f":"AZ92","v":""},null,{"$f":"AZ93","v":""},null,{"$f":"AZ94","v":""},null,{"$f":"AZ95","v":""}]
[null,null,null,null,null,null,null,null,null,null,null,null,null,null,null,null,null,null,null,null,null,null,null,null,null,null,null,null,null,null,null,null,null,null,null,null,null,null,null,null,null,null,null,null,null,null,null,null,null,null,null,null,null,null,null,null,null,null,{"$f":"BA56","v":""},null,{"$f":"BA57","v":""},null,{"$f":"BA58","v":""},null,{"$f":"BA59","v":""},null,null,null,null,null,{"$f":"BA60","v":""},null,{"$f":"BA61","v":""},null,{"$f":"BA62","v":""},null,{"$f":"BA63","v":""},null,null,null,null,null,{"$f":"BA64","v":""},null,{"$f":"BA65","v":""},null,{"$f":"BA66","v":""},null,{"$f":"BA67","v":""},null,null,null,null,null,{"$f":"BA68","v":""},null,{"$f":"BA69","v":""},null,{"$f":"BA70","v":""},null,{"$f":"BA71","v":""},null,null,null,null,null,{"$f":"BA72","v":""},null,{"$f":"BA73","v":""},null,{"$f":"BA74","v":""},null,{"$f":"BA75","v":""},null,null,null,null,null,{"$f":"BA76","v":""},null,{"$f":"BA77","v":""},null,{"$f":"BA78","v":""},null,{"$f":"BA79","v":""},null,null,null,null,null,{"$f":"BA80","v":""},null,{"$f":"BA81","v":""},null,{"$f":"BA82","v":""},null,{"$f":"BA83","v":""},null,null,null,null,null,{"$f":"BA84","v":""},null,{"$f":"BA85","v":""},null,{"$f":"BA86","v":""},null,{"$f":"BA87","v":""},null,null,null,null,null,{"$f":"BA88","v":""},null,{"$f":"BA89","v":""},null,{"$f":"BA90","v":""},null,{"$f":"BA91","v":""},null,null,null,null,null,{"$f":"BA92","v":""},null,{"$f":"BA93","v":""},null,{"$f":"BA94","v":""},null,{"$f":"BA95","v":""}]
[null,null,null,null,null,null,null,null,null,null,null,null,null,null,null,null,null,null,null,null,null,null,null,null,null,null,null,null,null,null,null,null,null,null,null,null,null,null,null,null,null,null,null,null,null,null,null,null,null,null,null,null,null,null,null,null,null,null,{"$f":"BB56","v":""},null,{"$f":"BB57","v":""},null,{"$f":"BB58","v":""},null,{"$f":"BB59","v":""},null,null,null,null,null,{"$f":"BB60","v":""},null,{"$f":"BB61","v":""},null,{"$f":"BB62","v":""},null,{"$f":"BB63","v":""},null,null,null,null,null,{"$f":"BB64","v":""},null,{"$f":"BB65","v":""},null,{"$f":"BB66","v":""},null,{"$f":"BB67","v":""},null,null,null,null,null,{"$f":"BB68","v":""},null,{"$f":"BB69","v":""},null,{"$f":"BB70","v":""},null,{"$f":"BB71","v":""},null,null,null,null,null,{"$f":"BB72","v":""},null,{"$f":"BB73","v":""},null,{"$f":"BB74","v":""},null,{"$f":"BB75","v":""},null,null,null,null,null,{"$f":"BB76","v":""},null,{"$f":"BB77","v":""},null,{"$f":"BB78","v":""},null,{"$f":"BB79","v":""},null,null,null,null,null,{"$f":"BB80","v":""},null,{"$f":"BB81","v":""},null,{"$f":"BB82","v":""},null,{"$f":"BB83","v":""},null,null,null,null,null,{"$f":"BB84","v":""},null,{"$f":"BB85","v":""},null,{"$f":"BB86","v":""},null,{"$f":"BB87","v":""},null,null,null,null,null,{"$f":"BB88","v":""},null,{"$f":"BB89","v":""},null,{"$f":"BB90","v":""},null,{"$f":"BB91","v":""},null,null,null,null,null,{"$f":"BB92","v":""},null,{"$f":"BB93","v":""},null,{"$f":"BB94","v":""},null,{"$f":"BB95","v":""}]
[null,null,null,null,null,null,null,null,null,null,null,null,null,null,null,null,null,null,null,null,null,null,null,null,null,null,null,null,null,null,null,null,null,null,null,null,null,null,null,null,null,null,null,null,null,null,null,null,null,null,null,null,null,null,null,null,null,null,{"$f":"BC56","v":""},null,{"$f":"BC57","v":""},null,{"$f":"BC58","v":""},null,{"$f":"BC59","v":""},null,null,null,null,null,{"$f":"BC60","v":""},null,{"$f":"BC61","v":""},null,{"$f":"BC62","v":""},null,{"$f":"BC63","v":""},null,null,null,null,null,{"$f":"BC64","v":""},null,{"$f":"BC65","v":""},null,{"$f":"BC66","v":""},null,{"$f":"BC67","v":""},null,null,null,null,null,{"$f":"BC68","v":""},null,{"$f":"BC69","v":""},null,{"$f":"BC70","v":""},null,{"$f":"BC71","v":""},null,null,null,null,null,{"$f":"BC72","v":""},null,{"$f":"BC73","v":""},null,{"$f":"BC74","v":""},null,{"$f":"BC75","v":""},null,null,null,null,null,{"$f":"BC76","v":""},null,{"$f":"BC77","v":""},null,{"$f":"BC78","v":""},null,{"$f":"BC79","v":""},null,null,null,null,null,{"$f":"BC80","v":""},null,{"$f":"BC81","v":""},null,{"$f":"BC82","v":""},null,{"$f":"BC83","v":""},null,null,null,null,null,{"$f":"BC84","v":""},null,{"$f":"BC85","v":""},null,{"$f":"BC86","v":""},null,{"$f":"BC87","v":""},null,null,null,null,null,{"$f":"BC88","v":""},null,{"$f":"BC89","v":""},null,{"$f":"BC90","v":""},null,{"$f":"BC91","v":""},null,null,null,null,null,{"$f":"BC92","v":""},null,{"$f":"BC93","v":""},null,{"$f":"BC94","v":""},null,{"$f":"BC95","v":""}]
[null,null,null,null,null,null,null,null,null,null,null,null,null,null,null,null,null,null,null,null,null,null,null,null,null,null,null,null,null,null,null,null,null,null,null,null,null,null,null,null,null,null,null,null,null,null,null,null,null,null,null,null,null,null,null,null,null,null,{"$f":"BD56","v":""},null,{"$f":"BD57","v":""},null,{"$f":"BD58","v":""},null,{"$f":"BD59","v":""},null,null,null,null,null,{"$f":"BD60","v":""},null,{"$f":"BD61","v":""},null,{"$f":"BD62","v":""},null,{"$f":"BD63","v":""},null,null,null,null,null,{"$f":"BD64","v":""},null,{"$f":"BD65","v":""},null,{"$f":"BD66","v":""},null,{"$f":"BD67","v":""},null,null,null,null,null,{"$f":"BD68","v":""},null,{"$f":"BD69","v":""},null,{"$f":"BD70","v":""},null,{"$f":"BD71","v":""},null,null,null,null,null,{"$f":"BD72","v":""},null,{"$f":"BD73","v":""},null,{"$f":"BD74","v":""},null,{"$f":"BD75","v":""},null,null,null,null,null,{"$f":"BD76","v":""},null,{"$f":"BD77","v":""},null,{"$f":"BD78","v":""},null,{"$f":"BD79","v":""},null,null,null,null,null,{"$f":"BD80","v":""},null,{"$f":"BD81","v":""},null,{"$f":"BD82","v":""},null,{"$f":"BD83","v":""},null,null,null,null,null,{"$f":"BD84","v":""},null,{"$f":"BD85","v":""},null,{"$f":"BD86","v":""},null,{"$f":"BD87","v":""},null,null,null,null,null,{"$f":"BD88","v":""},null,{"$f":"BD89","v":""},null,{"$f":"BD90","v":""},null,{"$f":"BD91","v":""},null,null,null,null,null,{"$f":"BD92","v":""},null,{"$f":"BD93","v":""},null,{"$f":"BD94","v":""},null,{"$f":"BD95","v":""}]
[null,null,null,null,null,null,null,null,null,null,null,null,null,null,null,null,null,null,null,null,null,null,null,null,null,null,null,null,null,null,null,null,null,null,null,null,null,null,null,null,null,null,null,null,null,null,null,null,null,null,null,null,null,null,null,null,null,null,{"$f":"BE56","v":""},null,{"$f":"BE57","v":""},null,{"$f":"BE58","v":""},null,{"$f":"BE59","v":""},null,null,null,null,null,{"$f":"BE60","v":""},null,{"$f":"BE61","v":""},null,{"$f":"BE62","v":""},null,{"$f":"BE63","v":""},null,null,null,null,null,{"$f":"BE64","v":""},null,{"$f":"BE65","v":""},null,{"$f":"BE66","v":""},null,{"$f":"BE67","v":""},null,null,null,null,null,{"$f":"BE68","v":""},null,{"$f":"BE69","v":""},null,{"$f":"BE70","v":""},null,{"$f":"BE71","v":""},null,null,null,null,null,{"$f":"BE72","v":""},null,{"$f":"BE73","v":""},null,{"$f":"BE74","v":""},null,{"$f":"BE75","v":""},null,null,null,null,null,{"$f":"BE76","v":""},null,{"$f":"BE77","v":""},null,{"$f":"BE78","v":""},null,{"$f":"BE79","v":""},null,null,null,null,null,{"$f":"BE80","v":""},null,{"$f":"BE81","v":""},null,{"$f":"BE82","v":""},null,{"$f":"BE83","v":""},null,null,null,null,null,{"$f":"BE84","v":""},null,{"$f":"BE85","v":""},null,{"$f":"BE86","v":""},null,{"$f":"BE87","v":""},null,null,null,null,null,{"$f":"BE88","v":""},null,{"$f":"BE89","v":""},null,{"$f":"BE90","v":""},null,{"$f":"BE91","v":""},null,null,null,null,null,{"$f":"BE92","v":""},null,{"$f":"BE93","v":""},null,{"$f":"BE94","v":""},null,{"$f":"BE95","v":""}]

{"sheet":"SUMMARY","index":1,"n_rows":143,"n_cols":256,"rows_kept":143,"cut":false,"hidden":false,"merged":[[59,180,60,180],[59,192,60,192],[59,204,60,204],[91,61,91,62],[92,61,92,62],[93,61,93,62],[91,73,91,74],[92,73,92,74],[93,73,93,74],[91,145,91,146],[92,145,92,146],[93,145,93,146],[91,157,91,158],[92,157,92,158],[72,145,72,146],[72,121,72,122],[70,101,74,102],[70,103,74,104],[70,105,74,106],[70,163,74,164],[70,171,74,172],[70,173,74,174],[70,169,70,170],[72,169,72,170],[74,169,74,170],[66,145,67,145],[62,168,67,168],[62,84,67,84],[66,97,67,97],[62,108,67,108],[62,109,63,109],[64,109,65,109],[70,221,74,222],[94,217,94,218],[90,217,90,218],[91,217,91,218],[92,217,92,218],[93,217,93,218],[91,205,91,206],[92,205,92,206],[93,205,93,206],[91,181,91,182],[92,181,92,182],[93,181,93,182],[91,193,91,194],[92,193,92,194],[93,193,93,194],[93,49,93,50],[91,13,91,14],[92,13,92,14],[93,13,93,14],[91,25,91,26],[92,25,92,26],[93,25,93,26],[93,157,93,158],[90,73,90,74],[71,109,71,110],[71,157,71,158],[72,157,72,158],[73,157,73,158],[70,159,74,160],[74,157,74,158],[70,157,70,158],[71,121,71,122],[66,109,67,109],[66,157,67,157],[62,60,67,60],[62,61,63,61],[64,61,65,61],[66,61,67,61],[56,204,58,205],[62,204,67,204],[62,205,63,205],[61,192,61,194],[66,181,67,181],[70,225,74,226],[70,231,74,232],[71,229,71,230],[70,229,70,230],[73,229,73,230],[72,229,72,230],[70,201,74,202],[70,207,74,208],[70,209,74,210],[70,211,74,212],[70,175,74,176],[70,177,74,178],[70,183,74,184],[70,185,74,186],[72,193,72,194],[70,193,70,194],[70,219,74,220],[61,216,61,218],[69,204,69,206],[64,205,65,205],[66,205,67,205],[10,249,10,250],[69,240,69,242],[62,240,67,240],[62,241,63,241],[64,241,65,241],[66,241,67,241],[50,240,50,241],[52,240,52,241],[55,240,55,242],[61,240,61,242],[64,229,65,229],[66,229,67,229],[66,217,67,217],[34,205,34,206],[36,205,36,206],[41,204,41,205],[10,211,10,212],[10,213,10,214],[11,204,11,206],[11,207,11,208],[59,216,60,216],[59,228,60,228],[59,240,60,240],[11,209,11,210],[11,211,11,212],[11,213,11,214],[10,207,10,208],[10,209,10,210],[11,247,11,248],[50,216,50,217],[52,216,52,217],[55,216,55,218],[9,245,9,246],[9,247,9,248],[7,247,7,248],[7,249,7,250],[8,247,8,248],[8,249,8,250],[9,249,9,250],[1,246,1,249],[2,247,2,248],[2,249,2,250],[3,247,3,248],[3,249,3,250],[61,228,61,230],[56,228,58,229],[41,228,41,229],[44,228,44,229],[45,228,45,229],[49,228,49,229],[50,228,50,229],[52,228,52,229],[55,228,55,230],[3,235,3,236],[3,237,3,238],[7,231,7,232],[9,228,9,230],[9,231,9,232],[9,233,9,234],[7,233,7,234],[7,235,7,236],[7,237,7,238],[8,233,8,234],[1,234,1,237],[2,229,2,234],[2,235,2,236],[2,237,2,238],[95,217,95,218],[88,217,88,218],[89,217,89,218],[75,217,75,218],[85,217,85,218],[47,228,47,229],[98,217,98,220],[98,222,98,225],[1,229,1,233],[3,229,3,234],[11,228,11,230],[11,231,11,232],[11,233,11,234],[34,229,34,230],[36,229,36,230],[87,217,87,218],[86,217,86,218],[74,217,74,218],[73,217,73,218],[72,217,72,218],[70,217,70,218],[71,217,71,218],[70,223,74,224],[68,216,68,218],[69,216,69,218],[56,216,58,217],[62,216,67,216],[62,217,63,217],[64,217,65,217],[44,216,44,217],[45,216,45,217],[47,216,47,217],[49,216,49,217],[32,217,32,218],[34,217,34,218],[36,217,36,218],[41,216,41,217],[10,223,10,224],[10,225,10,226],[11,216,11,218],[11,219,11,220],[11,221,11,222],[11,223,11,224],[11,225,11,226],[8,223,8,224],[8,225,8,226],[9,216,9,218],[9,219,9,220],[9,221,9,222],[9,223,9,224],[9,225,9,226],[8,221,8,222],[10,219,10,220],[3,223,3,224],[3,225,3,226],[7,219,7,220],[7,221,7,222],[7,223,7,224],[7,225,7,226],[1,222,1,225],[2,217,2,222],[2,223,2,224],[2,225,2,226],[95,205,95,206],[98,205,98,208],[98,210,98,213],[1,217,1,221],[3,217,3,222],[8,219,8,220],[10,221,10,222],[30,217,30,218],[87,205,87,206],[88,205,88,206],[89,205,89,206],[90,205,90,206],[75,205,75,206],[85,205,85,206],[86,205,86,206],[74,205,74,206],[70,213,74,214],[73,205,73,206],[72,205,72,206],[70,205,70,206],[71,205,71,206],[68,204,68,206],[50,204,50,205],[52,204,52,205],[55,204,55,206],[61,204,61,206],[47,204,47,205],[49,204,49,205],[32,205,32,206],[8,211,8,212],[8,213,8,214],[9,204,9,206],[9,207,9,208],[9,209,9,210],[9,211,9,212],[9,213,9,214],[8,209,8,210],[45,204,45,205],[3,211,3,212],[3,213,3,214],[7,207,7,208],[7,209,7,210],[7,211,7,212],[7,213,7,214],[1,210,1,213],[2,205,2,210],[2,211,2,212],[2,213,2,214],[95,193,95,194],[98,193,98,196],[98,198,98,201],[1,205,1,209],[3,205,3,210],[8,207,8,208],[87,193,87,194],[88,193,88,194],[89,193,89,194],[90,193,90,194],[75,193,75,194],[85,193,85,194],[86,193,86,194],[62,193,63,193],[64,193,65,193],[66,193,67,193],[70,195,74,196],[70,197,74,198],[30,205,30,206],[74,193,74,194],[73,193,73,194],[44,204,44,205],[44,192,44,193],[45,192,45,193],[47,192,47,193],[49,192,49,193],[70,199,74,200],[68,192,68,194],[69,192,69,194],[56,192,58,193],[62,192,67,192],[71,193,71,194],[32,193,32,194],[34,193,34,194],[36,193,36,194],[41,192,41,193],[10,199,10,200],[30,193,30,194],[50,192,50,193],[52,192,52,193],[55,192,55,194],[10,201,10,202],[11,192,11,194],[11,195,11,196],[11,197,11,198],[11,199,11,200],[11,201,11,202],[10,195,10,196],[10,197,10,198],[8,199,8,200],[8,201,8,202],[9,192,9,194],[9,195,9,196],[9,197,9,198],[9,199,9,200],[9,201,9,202],[8,197,8,198],[3,199,3,200],[3,201,3,202],[7,195,7,196],[7,197,7,198],[7,199,7,200],[7,201,7,202],[1,198,1,201],[2,193,2,198],[2,199,2,200],[2,201,2,202],[95,181,95,182],[98,181,98,184],[98,186,98,189],[1,193,1,197],[3,193,3,198],[8,195,8,196],[87,181,87,182],[88,181,88,182],[89,181,89,182],[90,181,90,182],[75,181,75,182],[85,181,85,182],[86,181,86,182],[74,181,74,182],[70,187,74,188],[70,189,74,190],[73,181,73,182],[72,181,72,182],[71,181,71,182],[69,180,69,182],[70,181,70,182],[55,180,55,182],[61,180,61,182],[56,180,58,181],[68,180,68,182],[62,180,67,180],[62,181,63,181],[64,181,65,181],[47,180,47,181],[49,180,49,181],[50,180,50,181],[52,180,52,181],[36,181,36,182],[41,180,41,181],[44,180,44,181],[45,180,45,181],[11,189,11,190],[30,181,30,182],[32,181,32,182],[34,181,34,182],[11,180,11,182],[11,183,11,184],[11,185,11,186],[11,187,11,188],[9,189,9,190],[10,183,10,184],[10,185,10,186],[10,187,10,188],[10,189,10,190],[9,180,9,182],[9,183,9,184],[9,185,9,186],[9,187,9,188],[8,183,8,184],[8,185,8,186],[8,187,8,188],[8,189,8,190],[3,181,3,186],[3,187,3,188],[3,189,3,190],[7,183,7,184],[7,185,7,186],[7,187,7,188],[7,189,7,190],[1,181,1,185],[1,186,1,189],[2,181,2,186],[2,187,2,188],[2,189,2,190],[1,150,1,153],[1,162,1,165],[1,174,1,177],[1,157,1,161],[1,169,1,173],[2,175,2,176],[2,177,2,178],[3,175,3,176],[3,177,3,178],[7,177,7,178],[8,177,8,178],[2,169,2,174],[3,169,3,174],[7,159,7,160],[8,159,8,160],[1,30,1,33],[1,42,1,45],[1,54,1,57],[1,66,1,69],[1,61,1,65],[1,37,1,41],[1,49,1,53],[1,78,1,81],[1,90,1,93],[1,102,1,105],[1,114,1,117],[1,109,1,113],[1,121,1,125],[1,133,1,137],[1,145,1,149],[1,126,1,129],[1,138,1,141],[1,73,1,77],[1,85,1,89],[1,97,1,101],[47,0,47,1],[1,13,1,17],[1,18,1,21],[1,25,1,29],[30,97,30,98],[32,97,32,98],[34,97,34,98],[1,1,1,5],[1,6,1,9],[11,7,11,8],[11,9,11,10],[11,0,11,2],[11,3,11,4],[11,5,11,6],[9,0,9,2],[8,3,8,4],[10,9,10,10],[2,1,2,6],[3,9,3,10],[3,1,3,6],[10,3,10,4],[9,5,9,6],[9,9,9,10],[10,7,10,8],[9,3,9,4],[10,5,10,6],[10,93,10,94],[10,79,10,80],[9,72,9,74],[7,79,7,80],[8,79,8,80],[9,79,9,80],[30,157,30,158],[32,157,32,158],[30,145,30,146],[32,145,32,146],[30,133,30,134],[32,133,32,134],[3,55,3,56],[2,19,2,20],[2,21,2,22],[2,7,2,8],[2,9,2,10],[2,55,2,56],[2,57,2,58],[2,45,2,46],[30,61,30,62],[30,73,30,74],[30,109,30,110],[30,121,30,122],[32,121,32,122],[3,57,3,58],[11,96,11,98],[11,81,11,82],[11,87,11,88],[11,89,11,90],[30,37,30,38],[11,101,11,102],[11,51,11,52],[11,53,11,54],[11,21,11,22],[11,135,11,136],[11,149,11,150],[9,7,9,8],[36,157,36,158],[34,157,34,158],[34,145,34,146],[36,109,36,110],[34,133,34,134],[36,133,36,134],[34,121,34,122],[36,61,36,62],[36,97,36,98],[32,73,32,74],[34,73,34,74],[36,73,36,74],[32,109,32,110],[34,109,34,110],[36,85,36,86],[34,13,34,14],[32,25,32,26],[34,25,34,26],[32,61,32,62],[34,61,34,62],[36,121,36,122],[3,19,3,20],[3,21,3,22],[8,19,8,20],[7,21,7,22],[8,21,8,22],[10,19,10,20],[75,37,75,38],[75,49,75,50],[72,49,72,50],[73,49,73,50],[70,33,74,34],[11,39,11,40],[11,41,11,42],[11,43,11,44],[52,36,52,37],[41,48,41,49],[9,29,9,30],[9,19,9,20],[9,21,9,22],[9,27,9,28],[9,24,9,26],[64,25,65,25],[66,25,67,25],[62,36,67,36],[62,37,63,37],[64,37,65,37],[66,37,67,37],[62,24,67,24],[62,25,63,25],[59,24,60,24],[59,36,60,36],[59,48,60,48],[73,109,73,110],[73,85,73,86],[72,85,72,86],[71,85,71,86],[70,87,74,88],[70,89,74,90],[70,91,74,92],[70,93,74,94],[70,99,74,100],[73,145,73,146],[70,125,74,126],[70,121,70,122],[70,123,74,124],[70,137,74,138],[70,139,74,140],[72,133,72,134],[70,149,74,150],[70,127,74,128],[70,129,74,130],[70,147,74,148],[70,109,70,110],[70,117,74,118],[11,55,11,56],[11,127,11,128],[11,75,11,76],[11,77,11,78],[11,79,11,80],[11,103,11,104],[11,105,11,106],[11,123,11,124],[11,108,11,110],[11,111,11,112],[11,113,11,114],[11,115,11,116],[11,117,11,118],[11,139,11,140],[41,108,41,109],[50,108,50,109],[70,65,74,66],[70,67,74,68],[70,69,74,70],[74,61,74,62],[70,61,70,62],[73,61,73,62],[72,61,72,62],[71,61,71,62],[70,63,74,64],[70,77,74,78],[70,79,74,80],[70,81,74,82],[72,73,72,74],[68,60,68,62],[70,55,74,56],[70,57,74,58],[11,141,11,142],[11,144,11,146],[11,151,11,152],[11,161,11,162],[11,153,11,154],[11,171,11,172],[11,173,11,174],[11,147,11,148],[11,175,11,176],[11,163,11,164],[11,165,11,166],[11,120,11,122],[11,132,11,134],[11,129,11,130],[11,125,11,126],[11,93,11,94],[11,99,11,100],[11,168,11,170],[9,177,9,178],[10,165,10,166],[7,171,7,172],[8,171,8,172],[9,171,9,172],[10,171,10,172],[9,168,9,170],[7,165,7,166],[8,165,8,166],[9,165,9,166],[10,161,10,162],[7,163,7,164],[8,163,8,164],[9,163,9,164],[10,163,10,164],[7,161,7,162],[8,161,8,162],[9,161,9,162],[7,175,7,176],[8,175,8,176],[9,175,9,176],[10,175,10,176],[7,173,7,174],[8,173,8,174],[9,173,9,174],[10,173,10,174],[7,125,7,126],[8,125,8,126],[9,125,9,126],[9,153,9,154],[7,151,7,152],[8,151,8,152],[9,151,9,152],[10,151,10,152],[7,149,7,150],[8,149,8,150],[9,149,9,150],[7,147,7,148],[8,147,8,148],[9,147,9,148],[10,147,10,148],[9,144,9,146],[7,141,7,142],[8,141,8,142],[9,141,9,142],[7,139,7,140],[8,139,8,140],[9,139,9,140],[10,139,10,140],[10,153,10,154],[10,149,10,150],[10,141,10,142],[10,137,10,138],[7,153,7,154],[8,153,8,154],[7,123,7,124],[8,123,8,124],[9,123,9,124],[10,123,10,124],[9,120,9,122],[7,117,7,118],[8,117,8,118],[9,117,9,118],[10,113,10,114],[7,115,7,116],[8,115,8,116],[9,115,9,116],[10,115,10,116],[7,113,7,114],[8,113,8,114],[9,113,9,114],[7,137,7,138],[8,137,8,138],[9,137,9,138],[10,129,10,130],[7,135,7,136],[8,135,8,136],[9,135,9,136],[10,135,10,136],[9,132,9,134],[7,129,7,130],[8,129,8,130],[9,129,9,130],[10,125,10,126],[7,127,7,128],[8,127,8,128],[9,127,9,128],[7,111,7,112],[8,111,8,112],[9,111,9,112],[10,111,10,112],[9,108,9,110],[7,105,7,106],[8,105,8,106],[9,105,9,106],[10,101,10,102],[7,103,7,104],[8,103,8,104],[9,103,9,104],[10,103,10,104],[7,101,7,102],[8,101,8,102],[9,101,9,102],[10,117,10,118],[7,99,7,100],[8,99,8,100],[9,99,9,100],[10,99,10,100],[7,93,7,94],[8,93,8,94],[9,93,9,94],[9,96,9,98],[10,89,10,90],[7,91,7,92],[8,91,8,92],[9,91,9,92],[10,91,10,92],[7,89,7,90],[8,89,8,90],[9,89,9,90],[7,81,7,82],[8,81,8,82],[9,81,9,82],[9,84,9,86],[8,87,8,88],[9,87,9,88],[10,87,10,88],[10,81,10,82],[7,87,7,88],[7,15,7,16],[8,15,8,16],[8,27,8,28],[7,27,7,28],[10,29,10,30],[10,31,10,32],[9,41,9,42],[10,41,10,42],[9,36,9,38],[9,45,9,46],[9,60,9,62],[8,57,8,58],[9,57,9,58],[7,65,7,66],[8,65,8,66],[9,65,9,66],[7,63,7,64],[8,63,8,64],[9,63,9,64],[7,51,7,52],[8,51,8,52],[9,51,9,52],[7,53,7,54],[7,57,7,58],[7,55,7,56],[8,53,8,54],[9,53,9,54],[8,55,8,56],[9,55,9,56],[10,15,10,16],[9,17,9,18],[10,51,10,52],[10,53,10,54],[10,45,10,46],[10,33,10,34],[70,43,74,44],[9,48,9,50],[8,43,8,44],[9,43,9,44],[7,45,7,46],[8,45,8,46],[7,31,7,32],[8,31,8,32],[9,31,9,32],[10,43,10,44],[7,39,7,40],[7,41,7,42],[8,41,8,42],[10,39,10,40],[9,39,9,40],[32,37,32,38],[34,37,34,38],[36,37,36,38],[32,49,32,50],[34,49,34,50],[52,48,52,49],[62,48,67,48],[62,49,63,49],[64,49,65,49],[66,49,67,49],[70,45,74,46],[70,51,74,52],[70,53,74,54],[7,17,7,18],[10,17,10,18],[8,29,8,30],[7,29,7,30],[7,33,7,34],[8,33,8,34],[9,33,9,34],[11,48,11,50],[8,39,8,40],[11,24,11,26],[11,36,11,38],[11,27,11,28],[11,29,11,30],[11,31,11,32],[30,25,30,26],[69,48,69,50],[11,33,11,34],[36,49,36,50],[61,36,61,38],[61,24,61,26],[52,24,52,25],[44,24,44,25],[55,24,55,26],[11,45,11,46],[30,49,30,50],[7,43,7,44],[70,19,74,20],[70,13,70,14],[68,36,68,38],[70,21,74,22],[74,25,74,26],[70,41,74,42],[70,25,70,26],[71,25,71,26],[70,27,74,28],[70,29,74,30],[70,31,74,32],[71,37,71,38],[47,36,47,37],[50,36,50,37],[62,12,67,12],[66,13,67,13],[90,121,90,122],[70,111,74,112],[70,115,74,116],[75,25,75,26],[72,25,72,26],[73,13,73,14],[70,15,74,16],[70,17,74,18],[62,13,63,13],[64,13,65,13],[59,12,60,12],[59,60,60,60],[59,72,60,72],[59,84,60,84],[59,96,60,96],[59,108,60,108],[98,1,98,4],[86,25,86,26],[85,25,85,26],[70,113,74,114],[98,6,98,9],[73,1,73,2],[72,1,72,2],[74,13,74,14],[72,13,72,14],[95,13,95,14],[10,27,10,28],[2,33,2,34],[7,19,7,20],[8,17,8,18],[10,21,10,22],[68,12,68,14],[3,31,3,32],[3,33,3,34],[2,31,2,32],[45,12,45,13],[61,0,61,2],[55,0,55,2],[55,12,55,14],[49,12,49,13],[50,0,50,1],[52,0,52,1],[50,12,50,13],[52,12,52,13],[49,0,49,1],[61,12,61,14],[68,0,68,2],[69,0,69,2],[71,1,71,2],[70,1,70,2],[86,1,86,2],[85,1,85,2],[74,1,74,2],[75,1,75,2],[80,1,80,2],[76,1,76,2],[77,1,77,2],[78,1,78,2],[79,1,79,2],[90,13,90,14],[89,13,89,14],[87,1,87,2],[88,13,88,14],[87,13,87,14],[85,13,85,14],[86,13,86,14],[75,13,75,14],[70,3,74,4],[70,5,74,6],[70,7,74,8],[70,9,74,10],[71,13,71,14],[95,1,95,2],[88,1,88,2],[89,1,89,2],[90,1,90,2],[94,1,94,2],[91,1,91,2],[92,1,92,2],[93,1,93,2],[87,49,87,50],[88,49,88,50],[88,37,88,38],[88,25,88,26],[85,37,85,38],[86,37,86,38],[87,37,87,38],[87,25,87,26],[86,49,86,50],[95,49,95,50],[95,25,95,26],[95,37,95,38],[89,37,89,38],[90,25,90,26],[90,49,90,50],[89,25,89,26],[89,49,89,50],[91,49,91,50],[92,49,92,50],[90,37,90,38],[91,37,91,38],[92,37,92,38],[93,37,93,38],[85,49,85,50],[87,61,87,62],[85,61,85,62],[86,61,86,62],[87,73,87,74],[69,60,69,62],[10,77,10,78],[10,63,10,64],[11,60,11,62],[10,75,10,76],[11,67,11,68],[11,63,11,64],[11,65,11,66],[10,67,10,68],[11,72,11,74],[47,96,47,97],[55,96,55,98],[62,96,67,96],[62,97,63,97],[64,97,65,97],[69,72,69,74],[73,73,73,74],[70,75,74,76],[62,73,63,73],[64,73,65,73],[66,73,67,73],[30,85,30,86],[32,85,32,86],[34,85,34,86]],"merged_total":1561,"flags":["merged_cut"]}
["Rev.02May2012 ",null,null,null,{"$f":"MDR!$CA$4","v":"AFT Project"},null,null,null,null,null,1,null,{"$f":"+A1","v":"Rev.02May2012 "},null,null,null,{"$f":"MDR!$CA$4","v":"AFT Project"},null,null,null,null,null,2,null,{"$f":"+M1","v":"Rev.02May2012 "},null,null,null,{"$f":"MDR!$CA$4","v":"AFT Project"},null,null,null,null,null,3,null,{"$f":"+Y1","v":"Rev.02May2012 "},null,null,null,{"$f":"MDR!$CA$4","v":"AFT Project"},null,null,null,null,null,4,null,{"$f":"+AK1","v":"Rev.02May2012 "},null,null,null,{"$f":"MDR!$CA$4","v":"AFT Project"},null,null,null,null,null,5,null,{"$f":"+AW1","v":"Rev.02May2012 "},null,null,null,{"$f":"MDR!$CA$4","v":"AFT Project"},null,null,null,null,null,6,null,{"$f":"+BI1","v":"Rev.02May2012 "},null,null,null,{"$f":"MDR!$CA$4","v":"AFT Project"},null,null,null,null,null,7,null,{"$f":"+BU1","v":"Rev.02May2012 "},null,null,null,{"$f":"MDR!$CA$4","v":"AFT Project"},null,null,null,null,null,8,null,{"$f":"+CG1","v":"Rev.02May2012 "},null,null,null,{"$f":"MDR!$CA$4","v":"AFT Project"},null,null,null,null,null,9,null,{"$f":"+CS1","v":"Rev.02May2012 "},null,null,null,{"$f":"MDR!$CA$4","v":"AFT Project"},null,null,null,null,null,10,null,{"$f":"+DE1","v":"Rev.02May2012 "},null,null,null,{"$f":"MDR!$CA$4","v":"AFT Project"},null,null,null,null,null,11,null,{"$f":"+DQ1","v":"Rev.02May2012 "},null,null,null,{"$f":"MDR!$CA$4","v":"AFT Project"},null,null,null,null,null,12,null,{"$f":"+EC1","v":"Rev.02May2012 "},null,null,null,{"$f":"MDR!$CA$4","v":"AFT Project"},null,null,null,null,null,13,null,{"$f":"+EO1","v":"Rev.02May2012 "},null,null,null,{"$f":"MDR!$CA$4","v":"AFT Project"},null,null,null,null,null,14,null,{"$f":"+FA1","v":"Rev.02May2012 "},null,null,null,{"$f":"MDR!$CA$4","v":"AFT Project"},null,null,null,null,null,15,null,{"$f":"+FM1","v":"Rev.02May2012 "},null,null,null,{"$f":"MDR!$CA$4","v":"AFT Project"},null,null,null,null,null,16,null,{"$f":"+FY1","v":"Rev.02May2012 "},null,null,null,{"$f":"MDR!$CA$4","v":"AFT Project"},null,null,null,null,null,17,null,{"$f":"+GK1","v":"Rev.02May2012 "},null,null,null,{"$f":"MDR!$CA$4","v":"AFT Project"},null,null,null,null,null,18,null,{"$f":"+GW1","v":"Rev.02May2012 "},null,null,null,{"$f":"MDR!$CA$4","v":"AFT Project"},null,null,null,null,null,19,null,{"$f":"+HI1","v":"Rev.02May2012 "},null,null,null,{"$f":"MDR!$CA$4","v":"AFT Project"},null,null,null,null,null,20,null,{"$f":"+HU1","v":"Rev.02May2012 "},null,null,null,{"$f":"MDR!$CA$4","v":"AFT Project"},null,null,null,null,null,21]
[null,"TEST SUMMARY SHEET  -",null,null,null,null,{"$f":"MDR!BN43","v":"GYRATORY DESIGN"},null,null,null,null,null,null,"TEST SUMMARY SHEET  -",null,null,null,null,{"$f":"G2","v":"GYRATORY DESIGN"},null,null,null,null,null,null,"TEST SUMMARY SHEET  -",null,null,null,null,{"$f":"S2","v":"GYRATORY DESIGN"},null,null,null,null,null,null,"TEST SUMMARY SHEET  -",null,null,null,null,{"$f":"AE2","v":"GYRATORY DESIGN"},null,null,null,null,null,null,"TEST SUMMARY SHEET  -",null,null,null,null,{"$f":"AQ2","v":"GYRATORY DESIGN"},null,null,null,null,null,null,"TEST SUMMARY SHEET  -",null,null,null,null,{"$f":"BC2","v":"GYRATORY DESIGN"},null,null,null,null,null,null,"TEST SUMMARY SHEET  -",null,null,null,null,{"$f":"BO2","v":"GYRATORY DESIGN"},null,null,null,null,null,null,"TEST SUMMARY SHEET  -",null,null,null,null,{"$f":"CA2","v":"GYRATORY DESIGN"},null,null,null,null,null,null,"TEST SUMMARY SHEET  -",null,null,null,null,{"$f":"CM2","v":"GYRATORY DESIGN"},null,null,null,null,null,null,"TEST SUMMARY SHEET  -",null,null,null,null,{"$f":"CY2","v":"GYRATORY DESIGN"},null,null,null,null,null,null,"TEST SUMMARY SHEET  -",null,null,null,null,{"$f":"DK2","v":"GYRATORY DESIGN"},null,null,null,null,null,null,"TEST SUMMARY SHEET  -",null,null,null,null,{"$f":"DW2","v":"GYRATORY DESIGN"},null,null,null,null,null,null,"TEST SUMMARY SHEET  -",null,null,null,null,{"$f":"EI2","v":"GYRATORY DESIGN"},null,null,null,null,null,null,"TEST SUMMARY SHEET  -",null,null,null,null,{"$f":"EU2","v":"GYRATORY DESIGN"},null,null,null,null,null,null,"TEST SUMMARY SHEET  -",null,null,null,null,{"$f":"FG2","v":"GYRATORY DESIGN"},null,null,null,null,null,null,"TEST SUMMARY SHEET  -",null,null,null,null,{"$f":"FS2","v":"GYRATORY DESIGN"},null,null,null,null,null,null,"TEST SUMMARY SHEET  -",null,null,null,null,{"$f":"GE2","v":"GYRATORY DESIGN"},null,null,null,null,null,null,"TEST SUMMARY SHEET  -",null,null,null,null,{"$f":"GQ2","v":"GYRATORY DESIGN"},null,null,null,null,null,null,"TEST SUMMARY SHEET  -",null,null,null,null,{"$f":"HC2","v":"GYRATORY DESIGN"},null,null,null,null,null,null,"TEST SUMMARY SHEET  -",null,null,null,null,{"$f":"HO2","v":"GYRATORY DESIGN"},null,null,null,null,null,null,"TEST SUMMARY SHEET  -",null,null,null,null,{"$f":"IA2","v":"GYRATORY DESIGN"}]
["Project #'s",{"$f":"IF(MDR!B2=\"\",\"\",MDR!B2)","v":""},null,null,null,null,null,"Mix Designation",null,{"$f":"IF(MDR!$T$6=\"\",\"\",MDR!$T$6)","v":"SPWEB330B"},null,null,"Project #'s",{"$f":"B3","v":""},null,null,null,null,null,"Mix Designation",null,{"$f":"IF(MDR!$T$6=\"\",\"\",MDR!$T$6)","v":"SPWEB330B"},null,null,"Project #'s",{"$f":"N3","v":""},null,null,null,null,null,"Mix Designation",null,{"$f":"IF(MDR!$T$6=\"\",\"\",MDR!$T$6)","v":"SPWEB330B"},null,null,"Project #'s",{"$f":"Z3","v":""},null,null,null,null,null,"Mix Designation",null,{"$f":"IF(MDR!$T$6=\"\",\"\",MDR!$T$6)","v":"SPWEB330B"},null,null,"Project #'s",{"$f":"AL3","v":""},null,null,null,null,null,"Mix Designation",null,{"$f":"IF(MDR!$T$6=\"\",\"\",MDR!$T$6)","v":"SPWEB330B"},null,null,"Project #'s",{"$f":"AX3","v":""},null,null,null,null,null,"Mix Designation",null,{"$f":"IF(MDR!$T$6=\"\",\"\",MDR!$T$6)","v":"SPWEB330B"},null,null,"Project #'s",{"$f":"BJ3","v":""},null,null,null,null,null,"Mix Designation",null,{"$f":"IF(MDR!$T$6=\"\",\"\",MDR!$T$6)","v":"SPWEB330B"},null,null,"Project #'s",{"$f":"BV3","v":""},null,null,null,null,null,"Mix Designation",null,{"$f":"IF(MDR!$T$6=\"\",\"\",MDR!$T$6)","v":"SPWEB330B"},null,null,"Project #'s",{"$f":"CH3","v":""},null,null,null,null,null,"Mix Designation",null,{"$f":"IF(MDR!$T$6=\"\",\"\",MDR!$T$6)","v":"SPWEB330B"},null,null,"Project #'s",{"$f":"CT3","v":""},null,null,null,null,null,"Mix Designation",null,{"$f":"IF(MDR!$T$6=\"\",\"\",MDR!$T$6)","v":"SPWEB330B"},null,null,"Project #'s",{"$f":"DF3","v":""},null,null,null,null,null,"Mix Designation",null,{"$f":"IF(MDR!$T$6=\"\",\"\",MDR!$T$6)","v":"SPWEB330B"},null,null,"Project #'s",{"$f":"DR3","v":""},null,null,null,null,null,"Mix Designation",null,{"$f":"IF(MDR!$T$6=\"\",\"\",MDR!$T$6)","v":"SPWEB330B"},null,null,"Project #'s",{"$f":"ED3","v":""},null,null,null,null,null,"Mix Designation",null,{"$f":"IF(MDR!$T$6=\"\",\"\",MDR!$T$6)","v":"SPWEB330B"},null,null,"Project #'s",{"$f":"EP3","v":""},null,null,null,null,null,"Mix Designation",null,{"$f":"IF(MDR!$T$6=\"\",\"\",MDR!$T$6)","v":"SPWEB330B"},null,null,"Project #'s",{"$f":"FB3","v":""},null,null,null,null,null,"Mix Designation",null,{"$f":"IF(MDR!$T$6=\"\",\"\",MDR!$T$6)","v":"SPWEB330B"},null,null,"Project #'s",{"$f":"FN3","v":""},null,null,null,null,null,"Mix Designation",null,{"$f":"IF(MDR!$T$6=\"\",\"\",MDR!$T$6)","v":"SPWEB330B"},null,null,"Project #'s",{"$f":"FZ3","v":""},null,null,null,null,null,"Mix Designation",null,{"$f":"IF(MDR!$T$6=\"\",\"\",MDR!$T$6)","v":"SPWEB330B"},null,null,"Project #'s",{"$f":"GL3","v":""},null,null,null,null,null,"Mix Designation",null,{"$f":"IF(MDR!$T$6=\"\",\"\",MDR!$T$6)","v":"SPWEB330B"},null,null,"Project #'s",{"$f":"GX3","v":""},null,null,null,null,null,"Mix Designation",null,{"$f":"IF(MDR!$T$6=\"\",\"\",MDR!$T$6)","v":"SPWEB330B"},null,null,"Project #'s",{"$f":"HJ3","v":""},null,null,null,null,null,"Mix Designation",null,{"$f":"IF(MDR!$T$6=\"\",\"\",MDR!$T$6)","v":"SPWEB330B"},null,null,"Project #'s",{"$f":"HV3","v":""},null,null,null,null,null,"Mix Designation",null,{"$f":"IF(MDR!$T$6=\"\",\"\",MDR!$T$6)","v":"SPWEB330B"}]
["Location",{"$f":"IF(MDR!B3=\"\",\"\",MDR!B3)","v":""},null,null,null,null,null,"Course",null,{"$f":"IF(MDR!$Y$3=\"\",\"\",MDR!$Y$3)","v":"WE (Wear) - 3% Voids"},null,null,"Location",{"$f":"B4","v":""},null,null,null,null,null,"Course",null,{"$f":"IF(MDR!$Y$3=\"\",\"\",MDR!$Y$3)","v":"WE (Wear) - 3% Voids"},null,null,"Location",{"$f":"N4","v":""},null,null,null,null,null,"Course",null,{"$f":"IF(MDR!$Y$3=\"\",\"\",MDR!$Y$3)","v":"WE (Wear) - 3% Voids"},null,null,"Location",{"$f":"Z4","v":""},null,null,null,null,null,"Course",null,{"$f":"IF(MDR!$Y$3=\"\",\"\",MDR!$Y$3)","v":"WE (Wear) - 3% Voids"},null,null,"Location",{"$f":"AL4","v":""},null,null,null,null,null,"Course",null,{"$f":"IF(MDR!$Y$3=\"\",\"\",MDR!$Y$3)","v":"WE (Wear) - 3% Voids"},null,null,"Location",{"$f":"AX4","v":""},null,null,null,null,null,"Course",null,{"$f":"IF(MDR!$Y$3=\"\",\"\",MDR!$Y$3)","v":"WE (Wear) - 3% Voids"},null,null,"Location",{"$f":"BJ4","v":""},null,null,null,null,null,"Course",null,{"$f":"IF(MDR!$Y$3=\"\",\"\",MDR!$Y$3)","v":"WE (Wear) - 3% Voids"},null,null,"Location",{"$f":"BV4","v":""},null,null,null,null,null,"Course",null,{"$f":"IF(MDR!$Y$3=\"\",\"\",MDR!$Y$3)","v":"WE (Wear) - 3% Voids"},null,null,"Location",{"$f":"CH4","v":""},null,null,null,null,null,"Course",null,{"$f":"IF(MDR!$Y$3=\"\",\"\",MDR!$Y$3)","v":"WE (Wear) - 3% Voids"},null,null,"Location",{"$f":"CT4","v":""},null,null,null,null,null,"Course",null,{"$f":"IF(MDR!$Y$3=\"\",\"\",MDR!$Y$3)","v":"WE (Wear) - 3% Voids"},null,null,"Location",{"$f":"DF4","v":""},null,null,null,null,null,"Course",null,{"$f":"IF(MDR!$Y$3=\"\",\"\",MDR!$Y$3)","v":"WE (Wear) - 3% Voids"},null,null,"Location",{"$f":"DR4","v":""},null,null,null,null,null,"Course",null,{"$f":"IF(MDR!$Y$3=\"\",\"\",MDR!$Y$3)","v":"WE (Wear) - 3% Voids"},null,null,"Location",{"$f":"ED4","v":""},null,null,null,null,null,"Course",null,{"$f":"IF(MDR!$Y$3=\"\",\"\",MDR!$Y$3)","v":"WE (Wear) - 3% Voids"},null,null,"Location",{"$f":"EP4","v":""},null,null,null,null,null,"Course",null,{"$f":"IF(MDR!$Y$3=\"\",\"\",MDR!$Y$3)","v":"WE (Wear) - 3% Voids"},null,null,"Location",{"$f":"FB4","v":""},null,null,null,null,null,"Course",null,{"$f":"IF(MDR!$Y$3=\"\",\"\",MDR!$Y$3)","v":"WE (Wear) - 3% Voids"},null,null,"Location",{"$f":"FN4","v":""},null,null,null,null,null,"Course",null,{"$f":"IF(MDR!$Y$3=\"\",\"\",MDR!$Y$3)","v":"WE (Wear) - 3% Voids"},null,null,"Location",{"$f":"FZ4","v":""},null,null,null,null,null,"Course",null,{"$f":"IF(MDR!$Y$3=\"\",\"\",MDR!$Y$3)","v":"WE (Wear) - 3% Voids"},null,null,"Location",{"$f":"GL4","v":""},null,null,null,null,null,"Course",null,{"$f":"IF(MDR!$Y$3=\"\",\"\",MDR!$Y$3)","v":"WE (Wear) - 3% Voids"},null,null,"Location",{"$f":"GX4","v":""},null,null,null,null,null,"Course",null,{"$f":"IF(MDR!$Y$3=\"\",\"\",MDR!$Y$3)","v":"WE (Wear) - 3% Voids"},null,null,"Location",{"$f":"HJ4","v":""},null,null,null,null,null,"Course",null,{"$f":"IF(MDR!$Y$3=\"\",\"\",MDR!$Y$3)","v":"WE (Wear) - 3% Voids"},null,null,"Location",{"$f":"HV4","v":""},null,null,null,null,null,"Course",null,{"$f":"IF(MDR!$Y$3=\"\",\"\",MDR!$Y$3)","v":"WE (Wear) - 3% Voids"}]
[]
[null,"SPEC. YEAR  \"2012\"",null,"Cont'r","Agency","Cont'r","Agency","Cont'r","Agency","Cont'r","Agency",null,null,{"$f":"$B$6","v":"SPEC. YEAR  \"2012\""},null,"Cont'r","Agency","Cont'r","Agency","Cont'r","Agency","Cont'r","Agency",null,null,{"$f":"$B$6","v":"SPEC. YEAR  \"2012\""},null,"Cont'r","Agency","Cont'r","Agency","Cont'r","Agency","Cont'r","Agency",null,null,{"$f":"$B$6","v":"SPEC. YEAR  \"2012\""},null,"Cont'r","Agency","Cont'r","Agency","Cont'r","Agency","Cont'r","Agency",null,null,{"$f":"$B$6","v":"SPEC. YEAR  \"2012\""},null,"Cont'r","Agency","Cont'r","Agency","Cont'r","Agency","Cont'r","Agency",null,null,{"$f":"$B$6","v":"SPEC. YEAR  \"2012\""},null,"Cont'r","Agency","Cont'r","Agency","Cont'r","Agency","Cont'r","Agency",null,null,{"$f":"$B$6","v":"SPEC. YEAR  \"2012\""},null,"Cont'r","Agency","Cont'r","Agency","Cont'r","Agency","Cont'r","Agency",null,null,{"$f":"$B$6","v":"SPEC. YEAR  \"2012\""},null,"Cont'r","Agency","Cont'r","Agency","Cont'r","Agency","Cont'r","Agency",null,null,{"$f":"$B$6","v":"SPEC. YEAR  \"2012\""},null,"Cont'r","Agency","Cont'r","Agency","Cont'r","Agency","Cont'r","Agency",null,null,{"$f":"$B$6","v":"SPEC. YEAR  \"2012\""},null,"Cont'r","Agency","Cont'r","Agency","Cont'r","Agency","Cont'r","Agency",null,null,{"$f":"$B$6","v":"SPEC. YEAR  \"2012\""},null,"Cont'r","Agency","Cont'r","Agency","Cont'r","Agency","Cont'r","Agency",null,null,{"$f":"$B$6","v":"SPEC. YEAR  \"2012\""},null,"Cont'r","Agency","Cont'r","Agency","Cont'r","Agency","Cont'r","Agency",null,null,{"$f":"$B$6","v":"SPEC. YEAR  \"2012\""},null,"Cont'r","Agency","Cont'r","Agency","Cont'r","Agency","Cont'r","Agency",null,null,{"$f":"$B$6","v":"SPEC. YEAR  \"2012\""},null,"Cont'r","Agency","Cont'r","Agency","Cont'r","Agency","Cont'r","Agency",null,null,{"$f":"$B$6","v":"SPEC. YEAR  \"2012\""},null,"Cont'r","Agency","Cont'r","Agency","Cont'r","Agency","Cont'r","Agency",null,null,{"$f":"$B$6","v":"SPEC. YEAR  \"2012\""},null,"Cont'r","Agency","Cont'r","Agency","Cont'r","Agency","Cont'r","Agency",null,null,{"$f":"$B$6","v":"SPEC. YEAR  \"2012\""},null,"Cont'r","Agency","Cont'r","Agency","Cont'r","Agency","Cont'r","Agency",null,null,{"$f":"$B$6","v":"SPEC. YEAR  \"2012\""},null,"Cont'r","Agency","Cont'r","Agency","Cont'r","Agency","Cont'r","Agency",null,null,{"$f":"$B$6","v":"SPEC. YEAR  \"2012\""},null,"Cont'r","Agency","Cont'r","Agency","Cont'r","Agency","Cont'r","Agency",null,null,{"$f":"$B$6","v":"SPEC. YEAR  \"2012\""},null,"Cont'r","Agency","Cont'r","Agency","Cont'r","Agency","Cont'r","Agency",null,null,{"$f":"$B$6","v":"SPEC. YEAR  \"2012\""},null,"Cont'r","Agency","Cont'r","Agency","Cont'r","Agency","Cont'r","Agency"]
["ACsg",null,"Test#",301,null,{"$f":"D7+1","v":302},null,{"$f":"F7+1","v":303},null,{"$f":"H7+1","v":304},null,null,"ACsg",{"$f":"+B7","v":0},"Test#",{"$f":"J7+1","v":305},null,{"$f":"P7+1","v":306},null,{"$f":"R7+1","v":307},null,{"$f":"T7+1","v":308},null,null,"ACsg",{"$f":"+N7","v":0},"Test#",{"$f":"V7+1","v":309},null,{"$f":"AB7+1","v":310},null,{"$f":"AD7+1","v":311},null,{"$f":"AF7+1","v":312},null,null,"ACsg",{"$f":"+Z7","v":0},"Test#",{"$f":"AH7+1","v":313},null,{"$f":"AN7+1","v":314},null,{"$f":"AP7+1","v":315},null,{"$f":"AR7+1","v":316},null,null,"ACsg",{"$f":"+AL7","v":0},"Test#",{"$f":"AT7+1","v":317},null,{"$f":"AZ7+1","v":318},null,{"$f":"BB7+1","v":319},null,{"$f":"BD7+1","v":320},null,null,"ACsg",{"$f":"+AX7","v":0},"Test#",{"$f":"BF7+1","v":321},null,{"$f":"BL7+1","v":322},null,{"$f":"BN7+1","v":323},null,{"$f":"BP7+1","v":324},null,null,"ACsg",{"$f":"+BJ7","v":0},"Test#",{"$f":"BR7+1","v":325},null,{"$f":"BX7+1","v":326},null,{"$f":"BZ7+1","v":327},null,{"$f":"CB7+1","v":328},null,null,"ACsg",{"$f":"+BV7","v":0},"Test#",{"$f":"CD7+1","v":329},null,{"$f":"CJ7+1","v":330},null,{"$f":"CL7+1","v":331},null,{"$f":"CN7+1","v":332},null,null,"ACsg",{"$f":"+CH7","v":0},"Test#",{"$f":"CP7+1","v":333},null,{"$f":"CV7+1","v":334},null,{"$f":"CX7+1","v":335},null,{"$f":"CZ7+1","v":336},null,null,"ACsg",{"$f":"+CT7","v":0},"Test#",{"$f":"DB7+1","v":337},null,{"$f":"DH7+1","v":338},null,{"$f":"DJ7+1","v":339},null,{"$f":"DL7+1","v":340},null,null,"ACsg",{"$f":"+DF7","v":0},"Test#",{"$f":"DN7+1","v":341},null,{"$f":"DT7+1","v":342},null,{"$f":"DV7+1","v":343},null,{"$f":"DX7+1","v":344},null,null,"ACsg",{"$f":"+DR7","v":0},"Test#",{"$f":"DZ7+1","v":345},null,{"$f":"EF7+1","v":346},null,{"$f":"EH7+1","v":347},null,{"$f":"EJ7+1","v":348},null,null,"ACsg",{"$f":"+ED7","v":0},"Test#",{"$f":"EL7+1","v":349},null,{"$f":"ER7+1","v":350},null,{"$f":"ET7+1","v":351},null,{"$f":"EV7+1","v":352},null,null,"ACsg",{"$f":"+EP7","v":0},"Test#",{"$f":"EX7+1","v":353},null,{"$f":"FD7+1","v":354},null,{"$f":"FF7+1","v":355},null,{"$f":"FH7+1","v":356},null,null,"ACsg",{"$f":"+FB7","v":0},"Test#",{"$f":"FJ7+1","v":357},null,{"$f":"FP7+1","v":358},null,{"$f":"FR7+1","v":359},null,{"$f":"FT7+1","v":360},null,null,"ACsg",{"$f":"+FN7","v":0},"Test#",{"$f":"FV7+1","v":361},null,{"$f":"GB7+1","v":362},null,{"$f":"GD7+1","v":363},null,{"$f":"GF7+1","v":364},null,null,"ACsg",{"$f":"+FZ7","v":0},"Test#",{"$f":"GH7+1","v":365},null,{"$f":"GN7+1","v":366},null,{"$f":"GP7+1","v":367},null,{"$f":"GR7+1","v":368},null,null,"ACsg",{"$f":"+GL7","v":0},"Test#",{"$f":"GT7+1","v":369},null,{"$f":"GZ7+1","v":370},null,{"$f":"HB7+1","v":371},null,{"$f":"HD7+1","v":372},null,null,"ACsg",{"$f":"+GX7","v":0},"Test#",{"$f":"HF7+1","v":373},null,{"$f":"HL7+1","v":374},null,{"$f":"HN7+1","v":375},null,{"$f":"HP7+1","v":376},null,null,"ACsg",{"$f":"+HJ7","v":0},"Test#",{"$f":"HR7+1","v":377},null,{"$f":"HX7+1","v":378},null,{"$f":"HZ7+1","v":379},null,{"$f":"IB7+1","v":380},null,null,"ACsg",{"$f":"+HV7","v":0},"Test#",{"$f":"ID7+1","v":381},null,{"$f":"IJ7+1","v":382},null,{"$f":"IL7+1","v":383},null,{"$f":"IN7+1","v":384},null,null,null,null,null,"Verif."]
[null,null,"Date/Day:",null,null,{"$f":"D8","v":0},null,{"$f":"F8","v":0},null,{"$f":"IF(H8=\"\",\"\",H8)","v":0},null,null,null,null,"Date/Day:",{"$f":"J8","v":0},null,{"$f":"P8","v":0},null,{"$f":"R8","v":0},null,{"$f":"T8","v":0},null,null,null,null,"Date/Day:",{"$f":"V8","v":0},null,{"$f":"AB8","v":0},null,{"$f":"AD8","v":0},null,{"$f":"AF8","v":0},null,null,null,null,"Date/Day:",{"$f":"AH8","v":0},null,{"$f":"AN8","v":0},null,{"$f":"AP8","v":0},null,{"$f":"AR8","v":0},null,null,null,null,"Date/Day:",{"$f":"AT8","v":0},null,{"$f":"AZ8","v":0},null,{"$f":"BB8","v":0},null,{"$f":"BD8","v":0},null,null,null,null,"Date/Day:",{"$f":"BF8","v":0},null,{"$f":"BL8","v":0},null,{"$f":"BN8","v":0},null,{"$f":"BP8","v":0},null,null,null,null,"Date/Day:",{"$f":"BR8","v":0},null,{"$f":"BX8","v":0},null,{"$f":"BZ8","v":0},null,{"$f":"CB8","v":0},null,null,null,null,"Date/Day:",{"$f":"CD8","v":0},null,{"$f":"CJ8","v":0},null,{"$f":"CL8","v":0},null,{"$f":"CN8","v":0},null,null,null,null,"Date/Day:",{"$f":"CP8","v":0},null,{"$f":"CV8","v":0},null,{"$f":"CX8","v":0},null,{"$f":"CZ8","v":0},null,null,null,null,"Date/Day:",{"$f":"DB8","v":0},null,{"$f":"DH8","v":0},null,{"$f":"DJ8","v":0},null,{"$f":"DL8","v":0},null,null,null,null,"Date/Day:",{"$f":"DN8","v":0},null,{"$f":"DT8","v":0},null,{"$f":"DV8","v":0},null,{"$f":"DX8","v":0},null,null,null,null,"Date/Day:",{"$f":"DZ8","v":0},null,{"$f":"EF8","v":0},null,{"$f":"EH8","v":0},null,{"$f":"EJ8","v":0},null,null,null,null,"Date/Day:",{"$f":"EL8","v":0},null,{"$f":"ER8","v":0},null,{"$f":"ET8","v":0},null,{"$f":"EV8","v":0},null,null,null,null,"Date/Day:",{"$f":"EX8","v":0},null,{"$f":"FD8","v":0},null,{"$f":"FF8","v":0},null,{"$f":"FH8","v":0},null,null,null,null,"Date/Day:",{"$f":"FJ8","v":0},null,{"$f":"FP8","v":0},null,{"$f":"FR8","v":0},null,{"$f":"FT8","v":0},null,null,null,null,"Date/Day:",{"$f":"FV8","v":0},null,{"$f":"GB8","v":0},null,{"$f":"GD8","v":0},null,{"$f":"GF8","v":0},null,null,null,null,"Date/Day:",{"$f":"GH8","v":0},null,{"$f":"GN8","v":0},null,{"$f":"GP8","v":0},null,{"$f":"GR8","v":0},null,null,null,null,"Date/Day:",{"$f":"GX8","v":0},null,{"$f":"GZ8","v":0},null,{"$f":"HB8","v":0},null,{"$f":"HD8","v":0},null,null,null,null,"Date/Day:",{"$f":"HF8","v":0},null,{"$f":"HL8","v":0},null,{"$f":"HN8","v":0},null,{"$f":"HP8","v":0},null,null,null,null,"Date/Day:",{"$f":"HR8","v":0},null,{"$f":"HX8","v":0},null,{"$f":"HZ8","v":0},null,{"$f":"IB8","v":0},null,null,null,null,"Date/Day:",{"$f":"ID8","v":0},null,{"$f":"IJ8","v":0},null,{"$f":"IL8","v":0},null,{"$f":"IN8","v":0}]
[null,null,"MDR #",{"$f":"MDR!B12","v":0},null,{"$f":"MDR!B13","v":""},null,{"$f":"MDR!B14","v":""},null,{"$f":"MDR!B15","v":""},null,null,null,null,"MDR #",{"$f":"MDR!B16","v":""},null,{"$f":"MDR!B17","v":""},null,{"$f":"MDR!B18","v":""},null,{"$f":"MDR!B19","v":""},null,null,null,null,"MDR #",{"$f":"MDR!B20","v":""},null,{"$f":"MDR!B21","v":""},null,{"$f":"MDR!B22","v":""},null,{"$f":"MDR!B23","v":""},null,null,null,null,"MDR #",{"$f":"MDR!B24","v":""},null,{"$f":"MDR!B25","v":""},null,{"$f":"MDR!B26","v":""},null,{"$f":"MDR!B27","v":""},null,null,null,null,"MDR #",{"$f":"MDR!B28","v":""},null,{"$f":"MDR!B29","v":""},null,{"$f":"MDR!B30","v":""},null,{"$f":"MDR!B31","v":""},null,null,null,null,"MDR #",{"$f":"MDR!B32","v":""},null,{"$f":"MDR!B33","v":""},null,{"$f":"MDR!B34","v":""},null,{"$f":"MDR!B35","v":""},null,null,null,null,"MDR #",{"$f":"MDR!B36","v":""},null,{"$f":"MDR!B37","v":""},null,{"$f":"MDR!B38","v":""},null,{"$f":"MDR!B39","v":""},null,null,null,null,"MDR #",{"$f":"MDR!B40","v":""},null,{"$f":"MDR!B41","v":""},null,{"$f":"MDR!B42","v":""},null,{"$f":"MDR!B43","v":""},null,null,null,null,"MDR #",{"$f":"MDR!B44","v":""},null,{"$f":"MDR!B45","v":""},null,{"$f":"MDR!B46","v":""},null,{"$f":"MDR!B47","v":""},null,null,null,null,"MDR #",{"$f":"MDR!B48","v":""},null,{"$f":"MDR!B49","v":""},null,{"$f":"MDR!B50","v":""},null,{"$f":"MDR!B51","v":""},null,null,null,null,"MDR #",{"$f":"MDR!B52","v":""},null,{"$f":"MDR!B53","v":""},null,{"$f":"MDR!B54","v":""},null,{"$f":"MDR!B55","v":""},null,null,null,null,"MDR #",{"$f":"MDR!B56","v":""},null,{"$f":"MDR!B57","v":""},null,{"$f":"MDR!B58","v":""},null,{"$f":"MDR!B59","v":""},null,null,null,null,"MDR #",{"$f":"MDR!B60","v":""},null,{"$f":"MDR!B61","v":""},null,{"$f":"MDR!B62","v":""},null,{"$f":"MDR!B63","v":""},null,null,null,null,"MDR #",{"$f":"MDR!B64","v":""},null,{"$f":"MDR!B65","v":""},null,{"$f":"MDR!B66","v":""},null,{"$f":"MDR!B67","v":""},null,null,null,null,"MDR #",{"$f":"MDR!B68","v":""},null,{"$f":"MDR!B69","v":""},null,{"$f":"MDR!B70","v":""},null,{"$f":"MDR!B71","v":""},null,null,null,null,"MDR #",{"$f":"MDR!B72","v":""},null,{"$f":"MDR!B73","v":""},null,{"$f":"MDR!B74","v":""},null,{"$f":"MDR!B75","v":""},null,null,null,null,"MDR #",{"$f":"MDR!B76","v":""},null,{"$f":"MDR!B77","v":""},null,{"$f":"MDR!B78","v":""},null,{"$f":"MDR!B79","v":""},null,null,null,null,"MDR #",{"$f":"MDR!B80","v":""},null,{"$f":"MDR!B81","v":""},null,{"$f":"MDR!B82","v":""},null,{"$f":"MDR!B83","v":""},null,null,null,null,"MDR #",{"$f":"MDR!B84","v":""},null,{"$f":"MDR!B85","v":""},null,{"$f":"MDR!B86","v":""},null,{"$f":"MDR!B87","v":""},null,null,null,null,"MDR #",{"$f":"MDR!B88","v":""},null,{"$f":"MDR!B89","v":""},null,{"$f":"MDR!B90","v":""},null,{"$f":"MDR!B91","v":""},null,null,null,null,"MDR #",{"$f":"MDR!B92","v":""},null,{"$f":"MDR!B93","v":""},null,{"$f":"MDR!B94","v":""},null,{"$f":"MDR!B95","v":""}]
["      - 4  Aggregate Bulk SpG.(Gsb) = ",null,null,{"$f":"E138","v":{"$error":"#VALUE!"}},null,{"$f":"G138","v":{"$error":"#VALUE!"}},null,{"$f":"I138","v":{"$error":"#VALUE!"}},null,{"$f":"K138","v":{"$error":"#VALUE!"}},null,null,"      - 4  Aggregate Bulk SpG.( Gsb ) = ",null,null,{"$f":"Q138","v":{"$error":"#VALUE!"}},null,{"$f":"S138","v":{"$error":"#VALUE!"}},null,{"$f":"U138","v":{"$error":"#VALUE!"}},null,{"$f":"W138","v":{"$error":"#VALUE!"}},null,null,"      - 4  Aggregate Bulk SpG.( Gsb ) = ",null,null,{"$f":"AC138","v":{"$error":"#VALUE!"}},null,{"$f":"AE138","v":{"$error":"#VALUE!"}},null,{"$f":"AG138","v":{"$error":"#VALUE!"}},null,{"$f":"AI138","v":{"$error":"#VALUE!"}},null,null,"      - 4  Aggregate Bulk SpG.( Gsb ) = ",null,null,{"$f":"AO138","v":{"$error":"#VALUE!"}},null,{"$f":"AQ138","v":{"$error":"#VALUE!"}},null,{"$f":"AS138","v":{"$error":"#VALUE!"}},null,{"$f":"AU138","v":{"$error":"#VALUE!"}},null,null,"      - 4  Aggregate Bulk SpG.( Gsb ) = ",null,null,{"$f":"BA138","v":{"$error":"#VALUE!"}},null,{"$f":"BC138","v":{"$error":"#VALUE!"}},null,{"$f":"BE138","v":{"$error":"#VALUE!"}},null,{"$f":"BG138","v":{"$error":"#VALUE!"}},null,null,"      - 4  Aggregate Bulk SpG.( Gsb ) = ",null,null,{"$f":"BM138","v":{"$error":"#VALUE!"}},null,{"$f":"BO138","v":{"$error":"#VALUE!"}},null,{"$f":"BQ138","v":{"$error":"#VALUE!"}},null,{"$f":"BS138","v":{"$error":"#VALUE!"}},null,null,"      - 4  Aggregate Bulk SpG.( Gsb ) = ",null,null,{"$f":"BY138","v":{"$error":"#VALUE!"}},null,{"$f":"CA138","v":{"$error":"#VALUE!"}},null,{"$f":"CC138","v":{"$error":"#VALUE!"}},null,{"$f":"CE138","v":{"$error":"#VALUE!"}},null,null,"      - 4  Aggregate Bulk SpG.( Gsb ) = ",null,null,{"$f":"CK138","v":{"$error":"#VALUE!"}},null,{"$f":"CM138","v":{"$error":"#VALUE!"}},null,{"$f":"CO138","v":{"$error":"#VALUE!"}},null,{"$f":"CQ138","v":{"$error":"#VALUE!"}},null,null,"      - 4  Aggregate Bulk SpG.( Gsb ) = ",null,null,{"$f":"CW138","v":{"$error":"#VALUE!"}},null,{"$f":"CY138","v":{"$error":"#VALUE!"}},null,{"$f":"DA138","v":{"$error":"#VALUE!"}},null,{"$f":"DC138","v":{"$error":"#VALUE!"}},null,null,"      - 4  Aggregate Bulk SpG.( Gsb ) = ",null,null,{"$f":"DI138","v":{"$error":"#VALUE!"}},null,{"$f":"DK138","v":{"$error":"#VALUE!"}},null,{"$f":"DM138","v":{"$error":"#VALUE!"}},null,{"$f":"DO138","v":{"$error":"#VALUE!"}},null,null,"      - 4  Aggregate Bulk SpG.( Gsb ) = ",null,null,{"$f":"DU138","v":{"$error":"#VALUE!"}},null,{"$f":"DW138","v":{"$error":"#VALUE!"}},null,{"$f":"DY138","v":{"$error":"#VALUE!"}},null,{"$f":"EA138","v":{"$error":"#VALUE!"}},null,null,"      - 4  Aggregate Bulk SpG.( Gsb ) = ",null,null,{"$f":"EG138","v":{"$error":"#VALUE!"}},null,{"$f":"EI138","v":{"$error":"#VALUE!"}},null,{"$f":"EK138","v":{"$error":"#VALUE!"}},null,{"$f":"EM138","v":{"$error":"#VALUE!"}},null,null,"      - 4  Aggregate Bulk SpG.( Gsb ) = ",null,null,{"$f":"ES138","v":{"$error":"#VALUE!"}},null,{"$f":"EU138","v":{"$error":"#VALUE!"}},null,{"$f":"EW138","v":{"$error":"#VALUE!"}},null,{"$f":"EY138","v":{"$error":"#VALUE!"}},null,null,"      - 4  Aggregate Bulk SpG.( Gsb ) = ",null,null,{"$f":"FE138","v":{"$error":"#VALUE!"}},null,{"$f":"FG138","v":{"$error":"#VALUE!"}},null,{"$f":"FI138","v":{"$error":"#VALUE!"}},null,{"$f":"FK138","v":{"$error":"#VALUE!"}},null,null,"      - 4  Aggregate Bulk SpG.( Gsb ) = ",null,null,{"$f":"FQ138","v":{"$error":"#VALUE!"}},null,{"$f":"FS138","v":{"$error":"#VALUE!"}},null,{"$f":"FU138","v":{"$error":"#VALUE!"}},null,{"$f":"FW138","v":{"$error":"#VALUE!"}},null,null,"      - 4  Aggregate Bulk SpG.( Gsb ) = ",null,null,{"$f":"GC138","v":{"$error":"#VALUE!"}},null,{"$f":"GE138","v":{"$error":"#VALUE!"}},null,{"$f":"GG138","v":{"$error":"#VALUE!"}},null,{"$f":"GI138","v":{"$error":"#VALUE!"}},null,null,"      - 4  Aggregate Bulk SpG.( Gsb ) = ",null,null,{"$f":"GO138","v":{"$error":"#VALUE!"}},null,{"$f":"GQ138","v":{"$error":"#VALUE!"}},null,{"$f":"GS138","v":{"$error":"#VALUE!"}},null,{"$f":"GU138","v":{"$error":"#VALUE!"}},null,null,"      - 4  Aggregate Bulk SpG.( Gsb ) = ",null,null,{"$f":"HA138","v":{"$error":"#VALUE!"}},null,{"$f":"HC138","v":{"$error":"#VALUE!"}},null,{"$f":"HE138","v":{"$error":"#VALUE!"}},null,{"$f":"HG138","v":{"$error":"#VALUE!"}},null,null,"      - 4  Aggregate Bulk SpG.( Gsb ) = ",null,null,{"$f":"HM138","v":{"$error":"#VALUE!"}},null,{"$f":"HO138","v":{"$error":"#VALUE!"}},null,{"$f":"HQ138","v":{"$error":"#VALUE!"}},null,{"$f":"HS138","v":{"$error":"#VALUE!"}},null,null,"      - 4  Aggregate Bulk SpG.( Gsb ) = ",null,null,{"$f":"HY138","v":{"$error":"#VALUE!"}},null,{"$f":"IA138","v":{"$error":"#VALUE!"}},null,{"$f":"IC138","v":{"$error":"#VALUE!"}},null,{"$f":"IE138","v":{"$error":"#VALUE!"}},null,null,"      - 4  Aggregate Bulk SpG.( Gsb ) = ",null,null,{"$f":"IK138","v":{"$error":"#VALUE!"}},null,{"$f":"IM138","v":{"$error":"#VALUE!"}},null,{"$f":"IO138","v":{"$error":"#VALUE!"}},null,{"$f":"IQ138","v":{"$error":"#VALUE!"}}]
["Mix  Aggregate Bulk SpG.( Gsb ) = ",null,null,{"$f":"E141","v":{"$error":"#VALUE!"}},null,{"$f":"G141","v":{"$error":"#VALUE!"}},null,{"$f":"I141","v":{"$error":"#VALUE!"}},null,{"$f":"K141","v":{"$error":"#VALUE!"}},null,null,null,"Mix  Aggregate Bulk SpG.( Gsb ) = ",null,{"$f":"Q141","v":{"$error":"#VALUE!"}},null,{"$f":"S141","v":{"$error":"#VALUE!"}},null,{"$f":"U141","v":{"$error":"#VALUE!"}},null,{"$f":"W141","v":{"$error":"#VALUE!"}},null,null,null,"Mix  Aggregate Bulk SpG.( Gsb ) = ",null,{"$f":"AC141","v":{"$error":"#VALUE!"}},null,{"$f":"AE141","v":{"$error":"#VALUE!"}},null,{"$f":"AG141","v":{"$error":"#VALUE!"}},null,{"$f":"AI141","v":{"$error":"#VALUE!"}},null,null,null,"Mix  Aggregate Bulk SpG.( Gsb ) = ",null,{"$f":"AO141","v":{"$error":"#VALUE!"}},null,{"$f":"AQ141","v":{"$error":"#VALUE!"}},null,{"$f":"AS141","v":{"$error":"#VALUE!"}},null,{"$f":"AU141","v":{"$error":"#VALUE!"}},null,null,null,"Mix  Aggregate Bulk SpG.( Gsb ) = ",null,{"$f":"BA141","v":{"$error":"#VALUE!"}},null,{"$f":"BC141","v":{"$error":"#VALUE!"}},null,{"$f":"BE141","v":{"$error":"#VALUE!"}},null,{"$f":"BG141","v":{"$error":"#VALUE!"}},null,null,null,"Mix  Aggregate Bulk SpG.( Gsb ) = ",null,{"$f":"BM141","v":{"$error":"#VALUE!"}},null,{"$f":"BO141","v":{"$error":"#VALUE!"}},null,{"$f":"BQ141","v":{"$error":"#VALUE!"}},null,{"$f":"BS141","v":{"$error":"#VALUE!"}},null,null,null,"Mix  Aggregate Bulk SpG.( Gsb ) = ",null,{"$f":"BY141","v":{"$error":"#VALUE!"}},null,{"$f":"CA141","v":{"$error":"#VALUE!"}},null,{"$f":"CC141","v":{"$error":"#VALUE!"}},null,{"$f":"CE141","v":{"$error":"#VALUE!"}},null,null,null,"Mix  Aggregate Bulk SpG.( Gsb ) = ",null,{"$f":"CK141","v":{"$error":"#VALUE!"}},null,{"$f":"CM141","v":{"$error":"#VALUE!"}},null,{"$f":"CO141","v":{"$error":"#VALUE!"}},null,{"$f":"CQ141","v":{"$error":"#VALUE!"}},null,null,null,"Mix  Aggregate Bulk SpG.( Gsb ) = ",null,{"$f":"CW141","v":{"$error":"#VALUE!"}},null,{"$f":"CY141","v":{"$error":"#VALUE!"}},null,{"$f":"DA141","v":{"$error":"#VALUE!"}},null,{"$f":"DC141","v":{"$error":"#VALUE!"}},null,null,null,"Mix  Aggregate Bulk SpG.( Gsb ) = ",null,{"$f":"DI141","v":{"$error":"#VALUE!"}},null,{"$f":"DK141","v":{"$error":"#VALUE!"}},null,{"$f":"DM141","v":{"$error":"#VALUE!"}},null,{"$f":"DO141","v":{"$error":"#VALUE!"}},null,null,null,"Mix  Aggregate Bulk SpG.( Gsb ) = ",null,{"$f":"DU141","v":{"$error":"#VALUE!"}},null,{"$f":"DW141","v":{"$error":"#VALUE!"}},null,{"$f":"DY141","v":{"$error":"#VALUE!"}},null,{"$f":"EA141","v":{"$error":"#VALUE!"}},null,null,null,"Mix  Aggregate Bulk SpG.( Gsb ) = ",null,{"$f":"EG141","v":{"$error":"#VALUE!"}},null,{"$f":"EI141","v":{"$error":"#VALUE!"}},null,{"$f":"EK141","v":{"$error":"#VALUE!"}},null,{"$f":"EM141","v":{"$error":"#VALUE!"}},null,null,null,"Mix  Aggregate Bulk SpG.( Gsb ) = ",null,{"$f":"ES141","v":{"$error":"#VALUE!"}},null,{"$f":"EU141","v":{"$error":"#VALUE!"}},null,{"$f":"EW141","v":{"$error":"#VALUE!"}},null,{"$f":"EY141","v":{"$error":"#VALUE!"}},null,null,null,"Mix  Aggregate Bulk SpG.( Gsb ) = ",null,{"$f":"FE141","v":{"$error":"#VALUE!"}},null,{"$f":"FG141","v":{"$error":"#VALUE!"}},null,{"$f":"FI141","v":{"$error":"#VALUE!"}},null,{"$f":"FK141","v":{"$error":"#VALUE!"}},null,null,null,"Mix  Aggregate Bulk SpG.( Gsb ) = ",null,{"$f":"FQ141","v":{"$error":"#VALUE!"}},null,{"$f":"FS141","v":{"$error":"#VALUE!"}},null,{"$f":"FU141","v":{"$error":"#VALUE!"}},null,{"$f":"FW141","v":{"$error":"#VALUE!"}},null,null,null,"Mix  Aggregate Bulk SpG.( Gsb ) = ",null,{"$f":"GC141","v":{"$error":"#VALUE!"}},null,{"$f":"GE141","v":{"$error":"#VALUE!"}},null,{"$f":"GG141","v":{"$error":"#VALUE!"}},null,{"$f":"GI141","v":{"$error":"#VALUE!"}},null,null,null,"Mix  Aggregate Bulk SpG.( Gsb ) = ",null,{"$f":"GO141","v":{"$error":"#VALUE!"}},null,{"$f":"GQ141","v":{"$error":"#VALUE!"}},null,{"$f":"GS141","v":{"$error":"#VALUE!"}},null,{"$f":"GU141","v":{"$error":"#VALUE!"}},null,null,null,"Mix  Aggregate Bulk SpG.( Gsb ) = ",null,{"$f":"HA141","v":{"$error":"#VALUE!"}},null,{"$f":"HC141","v":{"$error":"#VALUE!"}},null,{"$f":"HE141","v":{"$error":"#VALUE!"}},null,{"$f":"HG141","v":{"$error":"#VALUE!"}},null,null,null,"Mix  Aggregate Bulk SpG.( Gsb ) = ",null,{"$f":"HM141","v":{"$error":"#VALUE!"}},null,{"$f":"HO141","v":{"$error":"#VALUE!"}},null,{"$f":"HQ141","v":{"$error":"#VALUE!"}},null,{"$f":"HS141","v":{"$error":"#VALUE!"}},null,null,null,"Mix  Aggregate Bulk SpG.( Gsb ) = ",null,{"$f":"HY141","v":{"$error":"#VALUE!"}},null,{"$f":"IA141","v":{"$error":"#VALUE!"}},null,{"$f":"IC141","v":{"$error":"#VALUE!"}},null,{"$f":"IE141","v":{"$error":"#VALUE!"}},null,null,null,"Mix  Aggregate Bulk SpG.( Gsb ) = ",null,{"$f":"IK141","v":{"$error":"#VALUE!"}},null,{"$f":"IM141","v":{"$error":"#VALUE!"}},null,{"$f":"IO141","v":{"$error":"#VALUE!"}},null,{"$f":"IQ141","v":{"$error":"#VALUE!"}},null,null,null,0,"Agency AFT Substituted"]
["   Ignition Oven Calibration Factor =",null,null,0,null,{"$f":"D12","v":0},null,{"$f":"F12","v":0},null,{"$f":"H12","v":0},null,null,"   Ignition Oven Calibration Factor =",null,null,{"$f":"J12","v":0},null,{"$f":"P12","v":0},null,{"$f":"R12","v":0},null,{"$f":"T12","v":0},null,null,"   Ignition Oven Calibration Factor =",null,null,{"$f":"V12","v":0},null,{"$f":"AB12","v":0},null,{"$f":"AD12","v":0},null,{"$f":"AF12","v":0},null,null,"   Ignition Oven Calibration Factor =",null,null,{"$f":"AH12","v":0},null,{"$f":"AN12","v":0},null,{"$f":"AP12","v":0},null,{"$f":"AR12","v":0},null,null,"   Ignition Oven Calibration Factor =",null,null,{"$f":"AT12","v":0},null,{"$f":"AZ12","v":0},null,{"$f":"BB12","v":0},null,{"$f":"BD12","v":0},null,null,"   Ignition Oven Calibration Factor =",null,null,{"$f":"BF12","v":0},null,{"$f":"BL12","v":0},null,{"$f":"BN12","v":0},null,{"$f":"BP12","v":0},null,null,"   Ignition Oven Calibration Factor =",null,null,{"$f":"BR12","v":0},null,{"$f":"BX12","v":0},null,{"$f":"BZ12","v":0},null,{"$f":"CB12","v":0},null,null,"   Ignition Oven Calibration Factor =",null,null,{"$f":"CD12","v":0},null,{"$f":"CJ12","v":0},null,{"$f":"CL12","v":0},null,{"$f":"CN12","v":0},null,null,"   Ignition Oven Calibration Factor =",null,null,{"$f":"CP12","v":0},null,{"$f":"CV12","v":0},null,{"$f":"CX12","v":0},null,{"$f":"CZ12","v":0},null,null,"   Ignition Oven Calibration Factor =",null,null,{"$f":"DB12","v":0},null,{"$f":"DH12","v":0},null,{"$f":"DJ12","v":0},null,{"$f":"DL12","v":0},null,null,"   Ignition Oven Calibration Factor =",null,null,{"$f":"DN12","v":0},null,{"$f":"DT12","v":0},null,{"$f":"DV12","v":0},null,{"$f":"DX12","v":0},null,null,"   Ignition Oven Calibration Factor =",null,null,{"$f":"DZ12","v":0},null,{"$f":"EF12","v":0},null,{"$f":"EH12","v":0},null,{"$f":"EJ12","v":0},null,null,"   Ignition Oven Calibration Factor =",null,null,{"$f":"EL12","v":0},null,{"$f":"ER12","v":0},null,{"$f":"ET12","v":0},null,{"$f":"EV12","v":0},null,null,"   Ignition Oven Calibration Factor =",null,null,{"$f":"EX12","v":0},null,{"$f":"FD12","v":0},null,{"$f":"FF12","v":0},null,{"$f":"FH12","v":0},null,null,"   Ignition Oven Calibration Factor =",null,null,{"$f":"FJ12","v":0},null,{"$f":"FP12","v":0},null,{"$f":"FR12","v":0},null,{"$f":"FT12","v":0},null,null,"   Ignition Oven Calibration Factor =",null,null,{"$f":"FV12","v":0},null,{"$f":"GB12","v":0},null,{"$f":"GD12","v":0},null,{"$f":"GF12","v":0},null,null,"   Ignition Oven Calibration Factor =",null,null,{"$f":"GH12","v":0},null,{"$f":"GN12","v":0},null,{"$f":"GP12","v":0},null,{"$f":"GR12","v":0},null,null,"   Ignition Oven Calibration Factor =",null,null,{"$f":"GX12","v":0},null,{"$f":"GZ12","v":0},null,{"$f":"HB12","v":0},null,{"$f":"HD12","v":0},null,null,"   Ignition Oven Calibration Factor =",null,null,{"$f":"HF12","v":0},null,{"$f":"HL12","v":0},null,{"$f":"HN12","v":0},null,{"$f":"HP12","v":0},null,null,"   Ignition Oven Calibration Factor =",null,null,{"$f":"HR12","v":0},null,{"$f":"HX12","v":0},null,{"$f":"HZ12","v":0},null,{"$f":"IB12","v":0},null,null,"   Ignition Oven Calibration Factor =",null,null,{"$f":"ID12","v":0},null,{"$f":"IJ12","v":0},null,{"$f":"IL12","v":0},null,{"$f":"IN12","v":0},null,null,null,0,"Agency AFT Substituted"]
["1\"","min.","max.",null,null,null,null,null,null,null,null,null,"1\"","min.","max.",null,null,null,null,null,null,null,null,null,"1\"","min.","max.",null,null,null,null,null,null,null,null,null,"1\"","min.","max.",null,null,null,null,null,null,null,null,null,"1\"","min.","max.",null,null,null,null,null,null,null,null,null,"1\"","min.","max.",null,null,null,null,null,null,null,null,null,"1\"","min.","max.",null,null,null,null,null,null,null,null,null,"1\"","min.","max.",null,null,null,null,null,null,null,null,null,"1\"","min.","max.",null,null,null,null,null,null,null,null,null,"1\"","min.","max.",null,null,null,null,null,null,null,null,null,"1\"","min.","max.",null,null,null,null,null,null,null,null,null,"1\"","min.","max.",null,null,null,null,null,null,null,null,null,"1\"","min.","max.",null,null,null,null,null,null,null,null,null,"1\"","min.","max.",null,null,null,null,null,null,null,null,null,"1\"","min.","max.",null,null,null,null,null,null,null,null,null,"1\"","min.","max.",null,null,null,null,null,null,null,null,null,"1\"","min.","max.",null,null,null,null,null,null,null,null,null,"1\"","min.","max.",null,null,null,null,null,null,null,null,null,"1\"","min.","max.",null,null,null,null,null,null,null,null,null,"1\"","min.","max.",null,null,null,null,null,null,null,null,null,"1\"","min.","max.",null,null,null,null,null,null,null,null,null,null,0,"Agency AFT Substituted"]
["Mov Avg.",100,100,null,{"$f":"IF(E13=\"\",\"\",IF(OR(E13>(D13+6),E13<(D13-6)),\"Tolerance\",\"\"))","v":""},null,{"$f":"IF(G13=\"\",\"\",IF(OR(G13>(F13+6),G13<(F13-6)),\"Tolerance\",\"\"))","v":""},null,{"$f":"IF(I13=\"\",\"\",IF(OR(I13>(H13+6),I13<(H13-6)),\"Tolerance\",\"\"))","v":""},{"$f":"mndot_rounding_0(IF(D13=\"\",\"\",IF(F13=\"\",\"\",IF(H13=\"\",\"\",IF(J13=\"\",\"\",Grad!R14)))))","v":{"$error":"#VALUE!"}},{"$f":"IF(K13=\"\",\"\",IF(OR(K13>(J13+6),K13<(J13-6)),\"Tolerance\",\"\"))","v":""},null,"Mov Avg.",100,100,{"$f":"mndot_rounding_0(Grad!R15)","v":{"$error":"#VALUE!"}},{"$f":"IF(Q13=\"\",\"\",IF(OR(Q13>(P13+6),Q13<(P13-6)),\"Tolerance\",\"\"))","v":""},{"$f":"mndot_rounding_0(Grad!R16)","v":{"$error":"#VALUE!"}},{"$f":"IF(S13=\"\",\"\",IF(OR(S13>(R13+6),S13<(R13-6)),\"Tolerance\",\"\"))","v":""},{"$f":"mndot_rounding_0(Grad!R17)","v":{"$error":"#VALUE!"}},{"$f":"IF(U13=\"\",\"\",IF(OR(U13>(T13+6),U13<(T13-6)),\"Tolerance\",\"\"))","v":""},{"$f":"mndot_rounding_0(Grad!R18)","v":{"$error":"#VALUE!"}},{"$f":"IF(W13=\"\",\"\",IF(OR(W13>(V13+6),W13<(V13-6)),\"Tolerance\",\"\"))","v":""},null,"Mov Avg.",100,100,{"$f":"mndot_rounding_0(Grad!$R19)","v":{"$error":"#VALUE!"}},{"$f":"IF(AC13=\"\",\"\",IF(OR(AC13>(AB13+6),AC13<(AB13-6)),\"Tolerance\",\"\"))","v":""},{"$f":"mndot_rounding_0(Grad!$R20)","v":{"$error":"#VALUE!"}},{"$f":"IF(AE13=\"\",\"\",IF(OR(AE13>(AD13+6),AE13<(AD13-6)),\"Tolerance\",\"\"))","v":""},{"$f":"mndot_rounding_0(Grad!$R21)","v":{"$error":"#VALUE!"}},{"$f":"IF(AG13=\"\",\"\",IF(OR(AG13>(AF13+6),AG13<(AF13-6)),\"Tolerance\",\"\"))","v":""},{"$f":"mndot_rounding_0(Grad!$R22)","v":{"$error":"#VALUE!"}},{"$f":"IF(AI13=\"\",\"\",IF(OR(AI13>(AH13+6),AI13<(AH13-6)),\"Tolerance\",\"\"))","v":""},null,"Mov Avg.",100,100,{"$f":"mndot_rounding_0(Grad!$R23)","v":{"$error":"#VALUE!"}},{"$f":"IF(AO13=\"\",\"\",IF(OR(AO13>(AN13+6),AO13<(AN13-6)),\"Tolerance\",\"\"))","v":""},{"$f":"mndot_rounding_0(Grad!$R24)","v":{"$error":"#VALUE!"}},{"$f":"IF(AQ13=\"\",\"\",IF(OR(AQ13>(AP13+6),AQ13<(AP13-6)),\"Tolerance\",\"\"))","v":""},{"$f":"mndot_rounding_0(Grad!$R25)","v":{"$error":"#VALUE!"}},{"$f":"IF(AS13=\"\",\"\",IF(OR(AS13>(AR13+6),AS13<(AR13-6)),\"Tolerance\",\"\"))","v":""},{"$f":"mndot_rounding_0(Grad!$R26)","v":{"$error":"#VALUE!"}},{"$f":"IF(AU13=\"\",\"\",IF(OR(AU13>(AT13+6),AU13<(AT13-6)),\"Tolerance\",\"\"))","v":""},null,"Mov Avg.",100,100,{"$f":"mndot_rounding_0(Grad!$R27)","v":{"$error":"#VALUE!"}},{"$f":"IF(BA13=\"\",\"\",IF(OR(BA13>(AZ13+6),BA13<(AZ13-6)),\"Tolerance\",\"\"))","v":""},{"$f":"mndot_rounding_0(Grad!$R28)","v":{"$error":"#VALUE!"}},{"$f":"IF(BC13=\"\",\"\",IF(OR(BC13>(BB13+6),BC13<(BB13-6)),\"Tolerance\",\"\"))","v":""},{"$f":"mndot_rounding_0(Grad!$R29)","v":{"$error":"#VALUE!"}},{"$f":"IF(BE13=\"\",\"\",IF(OR(BE13>(BD13+6),BE13<(BD13-6)),\"Tolerance\",\"\"))","v":""},{"$f":"mndot_rounding_0(Grad!$R30)","v":{"$error":"#VALUE!"}},{"$f":"IF(BG13=\"\",\"\",IF(OR(BG13>(BF13+6),BG13<(BF13-6)),\"Tolerance\",\"\"))","v":""},null,"Mov Avg.",100,100,{"$f":"mndot_rounding_0(Grad!$R31)","v":{"$error":"#VALUE!"}},{"$f":"IF(BM13=\"\",\"\",IF(OR(BM13>(BL13+6),BM13<(BL13-6)),\"Tolerance\",\"\"))","v":""},{"$f":"mndot_rounding_0(Grad!$R32)","v":{"$error":"#VALUE!"}},{"$f":"IF(BO13=\"\",\"\",IF(OR(BO13>(BN13+6),BO13<(BN13-6)),\"Tolerance\",\"\"))","v":""},{"$f":"mndot_rounding_0(Grad!$R33)","v":{"$error":"#VALUE!"}},{"$f":"IF(BQ13=\"\",\"\",IF(OR(BQ13>(BP13+6),BQ13<(BP13-6)),\"Tolerance\",\"\"))","v":""},{"$f":"mndot_rounding_0(Grad!$R34)","v":{"$error":"#VALUE!"}},{"$f":"IF(BS13=\"\",\"\",IF(OR(BS13>(BR13+6),BS13<(BR13-6)),\"Tolerance\",\"\"))","v":""},null,"Mov Avg.",100,100,{"$f":"mndot_rounding_0(Grad!$R35)","v":{"$error":"#VALUE!"}},{"$f":"IF(BY13=\"\",\"\",IF(OR(BY13>(BX13+5),BY13<(BX13-5)),\"Tolerance\",\"\"))","v":""},{"$f":"mndot_rounding_0(Grad!$R36)","v":{"$error":"#VALUE!"}},{"$f":"IF(CA13=\"\",\"\",IF(OR(CA13>(BZ13+5),CA13<(BZ13-5)),\"Tolerance\",\"\"))","v":""},{"$f":"mndot_rounding_0(Grad!$R37)","v":{"$error":"#VALUE!"}},{"$f":"IF(CC13=\"\",\"\",IF(OR(CC13>(CB13+5),CC13<(CB13-5)),\"Tolerance\",\"\"))","v":""},{"$f":"mndot_rounding_0(Grad!$R38)","v":{"$error":"#VALUE!"}},{"$f":"IF(CE13=\"\",\"\",IF(OR(CE13>(CD13+5),CE13<(CD13-5)),\"Tolerance\",\"\"))","v":""},null,"Mov Avg.",100,100,{"$f":"mndot_rounding_0(Grad!$R39)","v":{"$error":"#VALUE!"}},{"$f":"IF(CK13=\"\",\"\",IF(OR(CK13>(CJ13+5),CK13<(CJ13-5)),\"Tolerance\",\"\"))","v":""},{"$f":"mndot_rounding_0(Grad!$R40)","v":{"$error":"#VALUE!"}},{"$f":"IF(CM13=\"\",\"\",IF(OR(CM13>(CL13+5),CM13<(CL13-5)),\"Tolerance\",\"\"))","v":""},{"$f":"mndot_rounding_0(Grad!$R41)","v":{"$error":"#VALUE!"}},{"$f":"IF(CO13=\"\",\"\",IF(OR(CO13>(CN13+5),CO13<(CN13-5)),\"Tolerance\",\"\"))","v":""},{"$f":"mndot_rounding_0(Grad!$R42)","v":{"$error":"#VALUE!"}},{"$f":"IF(CQ13=\"\",\"\",IF(OR(CQ13>(CP13+5),CQ13<(CP13-5)),\"Tolerance\",\"\"))","v":""},null,"Mov Avg.",100,100,{"$f":"mndot_rounding_0(Grad!$R43)","v":{"$error":"#VALUE!"}},{"$f":"IF(CW13=\"\",\"\",IF(OR(CW13>(CV13+5),CW13<(CV13-5)),\"Tolerance\",\"\"))","v":""},{"$f":"mndot_rounding_0(Grad!$R44)","v":{"$error":"#VALUE!"}},{"$f":"IF(CY13=\"\",\"\",IF(OR(CY13>(CX13+5),CY13<(CX13-5)),\"Tolerance\",\"\"))","v":""},{"$f":"mndot_rounding_0(Grad!$R45)","v":{"$error":"#VALUE!"}},{"$f":"IF(DA13=\"\",\"\",IF(OR(DA13>(CZ13+5),DA13<(CZ13-5)),\"Tolerance\",\"\"))","v":""},{"$f":"mndot_rounding_0(Grad!$R46)","v":{"$error":"#VALUE!"}},{"$f":"IF(DC13=\"\",\"\",IF(OR(DC13>(DB13+5),DC13<(DB13-5)),\"Tolerance\",\"\"))","v":""},null,"Mov Avg.",100,100,{"$f":"mndot_rounding_0(Grad!$R47)","v":{"$error":"#VALUE!"}},{"$f":"IF(DI13=\"\",\"\",IF(OR(DI13>(DH13+5),DI13<(DH13-5)),\"Tolerance\",\"\"))","v":""},{"$f":"mndot_rounding_0(Grad!$R48)","v":{"$error":"#VALUE!"}},{"$f":"IF(DK13=\"\",\"\",IF(OR(DK13>(DJ13+5),DK13<(DJ13-5)),\"Tolerance\",\"\"))","v":""},{"$f":"mndot_rounding_0(Grad!$R49)","v":{"$error":"#VALUE!"}},{"$f":"IF(DM13=\"\",\"\",IF(OR(DM13>(DL13+5),DM13<(DL13-5)),\"Tolerance\",\"\"))","v":""},{"$f":"mndot_rounding_0(Grad!$R50)","v":{"$error":"#VALUE!"}},{"$f":"IF(DO13=\"\",\"\",IF(OR(DO13>(DN13+5),DO13<(DN13-5)),\"Tolerance\",\"\"))","v":""},null,"Mov Avg.",100,100,{"$f":"mndot_rounding_0(Grad!$R51)","v":{"$error":"#VALUE!"}},{"$f":"IF(DU13=\"\",\"\",IF(OR(DU13>(DT13+5),DU13<(DT13-5)),\"Tolerance\",\"\"))","v":""},{"$f":"mndot_rounding_0(Grad!$R52)","v":{"$error":"#VALUE!"}},{"$f":"IF(DW13=\"\",\"\",IF(OR(DW13>(DV13+5),DW13<(DV13-5)),\"Tolerance\",\"\"))","v":""},{"$f":"mndot_rounding_0(Grad!$R53)","v":{"$error":"#VALUE!"}},{"$f":"IF(DY13=\"\",\"\",IF(OR(DY13>(DX13+5),DY13<(DX13-5)),\"Tolerance\",\"\"))","v":""},{"$f":"mndot_rounding_0(Grad!$R54)","v":{"$error":"#VALUE!"}},{"$f":"IF(EA13=\"\",\"\",IF(OR(EA13>(DZ13+5),EA13<(DZ13-5)),\"Tolerance\",\"\"))","v":""},null,"Mov Avg.",100,100,{"$f":"mndot_rounding_0(Grad!$R55)","v":{"$error":"#VALUE!"}},{"$f":"IF(EG13=\"\",\"\",IF(OR(EG13>(EF13+5),EG13<(EF13-5)),\"Tolerance\",\"\"))","v":""},{"$f":"mndot_rounding_0(Grad!$R56)","v":{"$error":"#VALUE!"}},{"$f":"IF(EI13=\"\",\"\",IF(OR(EI13>(EH13+5),EI13<(EH13-5)),\"Tolerance\",\"\"))","v":""},{"$f":"mndot_rounding_0(Grad!$R57)","v":{"$error":"#VALUE!"}},{"$f":"IF(EK13=\"\",\"\",IF(OR(EK13>(EJ13+5),EK13<(EJ13-5)),\"Tolerance\",\"\"))","v":""},{"$f":"mndot_rounding_0(Grad!$R58)","v":{"$error":"#VALUE!"}},{"$f":"IF(EM13=\"\",\"\",IF(OR(EM13>(EL13+5),EM13<(EL13-5)),\"Tolerance\",\"\"))","v":""},null,"Mov Avg.",100,100,{"$f":"mndot_rounding_0(Grad!$R59)","v":{"$error":"#VALUE!"}},{"$f":"IF(ES13=\"\",\"\",IF(OR(ES13>(ER13+5),ES13<(ER13-5)),\"Tolerance\",\"\"))","v":""},{"$f":"mndot_rounding_0(Grad!$R60)","v":{"$error":"#VALUE!"}},{"$f":"IF(EU13=\"\",\"\",IF(OR(EU13>(ET13+5),EU13<(ET13-5)),\"Tolerance\",\"\"))","v":""},{"$f":"mndot_rounding_0(Grad!$R61)","v":{"$error":"#VALUE!"}},{"$f":"IF(EW13=\"\",\"\",IF(OR(EW13>(EV13+5),EW13<(EV13-5)),\"Tolerance\",\"\"))","v":""},{"$f":"mndot_rounding_0(Grad!$R62)","v":{"$error":"#VALUE!"}},{"$f":"IF(EY13=\"\",\"\",IF(OR(EY13>(EX13+5),EY13<(EX13-5)),\"Tolerance\",\"\"))","v":""},null,"Mov Avg.",100,100,{"$f":"mndot_rounding_0(Grad!$R63)","v":{"$error":"#VALUE!"}},{"$f":"IF(FE13=\"\",\"\",IF(OR(FE13>(FD13+5),FE13<(FD13-5)),\"Tolerance\",\"\"))","v":""},{"$f":"mndot_rounding_0(Grad!$R64)","v":{"$error":"#VALUE!"}},{"$f":"IF(FG13=\"\",\"\",IF(OR(FG13>(FF13+5),FG13<(FF13-5)),\"Tolerance\",\"\"))","v":""},{"$f":"mndot_rounding_0(Grad!$R65)","v":{"$error":"#VALUE!"}},{"$f":"IF(FI13=\"\",\"\",IF(OR(FI13>(FH13+5),FI13<(FH13-5)),\"Tolerance\",\"\"))","v":""},{"$f":"mndot_rounding_0(Grad!$R66)","v":{"$error":"#VALUE!"}},{"$f":"IF(FK13=\"\",\"\",IF(OR(FK13>(FJ13+5),FK13<(FJ13-5)),\"Tolerance\",\"\"))","v":""},null,"Mov Avg.",100,100,{"$f":"mndot_rounding_0(Grad!$R67)","v":{"$error":"#VALUE!"}},{"$f":"IF(FQ13=\"\",\"\",IF(OR(FQ13>(FP13+5),FQ13<(FP13-5)),\"Tolerance\",\"\"))","v":""},{"$f":"mndot_rounding_0(Grad!$R68)","v":{"$error":"#VALUE!"}},{"$f":"IF(FS13=\"\",\"\",IF(OR(FS13>(FR13+5),FS13<(FR13-5)),\"Tolerance\",\"\"))","v":""},{"$f":"mndot_rounding_0(Grad!$R69)","v":{"$error":"#VALUE!"}},{"$f":"IF(FU13=\"\",\"\",IF(OR(FU13>(FT13+5),FU13<(FT13-5)),\"Tolerance\",\"\"))","v":""},{"$f":"mndot_rounding_0(Grad!$R70)","v":{"$error":"#VALUE!"}},{"$f":"IF(FW13=\"\",\"\",IF(OR(FW13>(FV13+5),FW13<(FV13-5)),\"Tolerance\",\"\"))","v":""},null,"Mov Avg.",100,100,{"$f":"mndot_rounding_0(Grad!$R71)","v":{"$error":"#VALUE!"}},{"$f":"IF(GC13=\"\",\"\",IF(OR(GC13>(GB13+5),GC13<(GB13-5)),\"Tolerance\",\"\"))","v":""},{"$f":"mndot_rounding_0(Grad!$R72)","v":{"$error":"#VALUE!"}},{"$f":"IF(GE13=\"\",\"\",IF(OR(GE13>(GD13+5),GE13<(GD13-5)),\"Tolerance\",\"\"))","v":""},{"$f":"mndot_rounding_0(Grad!$R73)","v":{"$error":"#VALUE!"}},{"$f":"IF(GG13=\"\",\"\",IF(OR(GG13>(GF13+5),GG13<(GF13-5)),\"Tolerance\",\"\"))","v":""},{"$f":"mndot_rounding_0(Grad!$R74)","v":{"$error":"#VALUE!"}},{"$f":"IF(GI13=\"\",\"\",IF(OR(GI13>(GH13+5),GI13<(GH13-5)),\"Tolerance\",\"\"))","v":""},null,"Mov Avg.",100,100,{"$f":"mndot_rounding_0(Grad!$R75)","v":{"$error":"#VALUE!"}},{"$f":"IF(GO13=\"\",\"\",IF(OR(GO13>(GN13+5),GO13<(GN13-5)),\"Tolerance\",\"\"))","v":""},{"$f":"mndot_rounding_0(Grad!$R76)","v":{"$error":"#VALUE!"}},{"$f":"IF(GQ13=\"\",\"\",IF(OR(GQ13>(GP13+5),GQ13<(GP13-5)),\"Tolerance\",\"\"))","v":""},{"$f":"mndot_rounding_0(Grad!$R77)","v":{"$error":"#VALUE!"}},{"$f":"IF(GS13=\"\",\"\",IF(OR(GS13>(GR13+5),GS13<(GR13-5)),\"Tolerance\",\"\"))","v":""},{"$f":"mndot_rounding_0(Grad!$R78)","v":{"$error":"#VALUE!"}},{"$f":"IF(GU13=\"\",\"\",IF(OR(GU13>(GT13+5),GU13<(GT13-5)),\"Tolerance\",\"\"))","v":""},null,"Mov Avg.",100,100,{"$f":"mndot_rounding_0(Grad!$R79)","v":{"$error":"#VALUE!"}},{"$f":"IF(HA13=\"\",\"\",IF(OR(HA13>(GZ13+5),HA13<(GZ13-5)),\"Tolerance\",\"\"))","v":""},{"$f":"mndot_rounding_0(Grad!$R80)","v":{"$error":"#VALUE!"}},{"$f":"IF(HC13=\"\",\"\",IF(OR(HC13>(HB13+5),HC13<(HB13-5)),\"Tolerance\",\"\"))","v":""},{"$f":"mndot_rounding_0(Grad!$R81)","v":{"$error":"#VALUE!"}},{"$f":"IF(HE13=\"\",\"\",IF(OR(HE13>(HD13+5),HE13<(HD13-5)),\"Tolerance\",\"\"))","v":""},{"$f":"mndot_rounding_0(Grad!$R82)","v":{"$error":"#VALUE!"}},{"$f":"IF(HG13=\"\",\"\",IF(OR(HG13>(HF13+5),HG13<(HF13-5)),\"Tolerance\",\"\"))","v":""},null,"Mov Avg.",100,100,{"$f":"mndot_rounding_0(Grad!$R83)","v":{"$error":"#VALUE!"}},{"$f":"IF(HM13=\"\",\"\",IF(OR(HM13>(HL13+5),HM13<(HL13-5)),\"Tolerance\",\"\"))","v":""},{"$f":"mndot_rounding_0(Grad!$R84)","v":{"$error":"#VALUE!"}},{"$f":"IF(HO13=\"\",\"\",IF(OR(HO13>(HN13+5),HO13<(HN13-5)),\"Tolerance\",\"\"))","v":""},{"$f":"mndot_rounding_0(Grad!$R85)","v":{"$error":"#VALUE!"}},{"$f":"IF(HQ13=\"\",\"\",IF(OR(HQ13>(HP13+5),HQ13<(HP13-5)),\"Tolerance\",\"\"))","v":""},{"$f":"mndot_rounding_0(Grad!$R86)","v":{"$error":"#VALUE!"}},{"$f":"IF(HS13=\"\",\"\",IF(OR(HS13>(HR13+5),HS13<(HR13-5)),\"Tolerance\",\"\"))","v":""},null,"Mov Avg.",100,100,{"$f":"mndot_rounding_0(Grad!$R87)","v":{"$error":"#VALUE!"}},{"$f":"IF(HY13=\"\",\"\",IF(OR(HY13>(HX13+5),HY13<(HX13-5)),\"Tolerance\",\"\"))","v":""},{"$f":"mndot_rounding_0(Grad!$R88)","v":{"$error":"#VALUE!"}},{"$f":"IF(IA13=\"\",\"\",IF(OR(IA13>(HZ13+5),IA13<(HZ13-5)),\"Tolerance\",\"\"))","v":""},{"$f":"mndot_rounding_0(Grad!$R89)","v":{"$error":"#VALUE!"}},{"$f":"IF(IC13=\"\",\"\",IF(OR(IC13>(IB13+5),IC13<(IB13-5)),\"Tolerance\",\"\"))","v":""},{"$f":"mndot_rounding_0(Grad!$R90)","v":{"$error":"#VALUE!"}},{"$f":"IF(IE13=\"\",\"\",IF(OR(IE13>(ID13+5),IE13<(ID13-5)),\"Tolerance\",\"\"))","v":""},null,"Mov Avg.",100,100,{"$f":"mndot_rounding_0(Grad!$R91)","v":{"$error":"#VALUE!"}},{"$f":"IF(IK13=\"\",\"\",IF(OR(IK13>(IJ13+5),IK13<(IJ13-5)),\"Tolerance\",\"\"))","v":""},{"$f":"mndot_rounding_0(Grad!$R92)","v":{"$error":"#VALUE!"}},{"$f":"IF(IM13=\"\",\"\",IF(OR(IM13>(IL13+5),IM13<(IL13-5)),\"Tolerance\",\"\"))","v":""},{"$f":"mndot_rounding_0(Grad!$R93)","v":{"$error":"#VALUE!"}},{"$f":"IF(IO13=\"\",\"\",IF(OR(IO13>(IN13+5),IO13<(IN13-5)),\"Tolerance\",\"\"))","v":""},{"$f":"mndot_rounding_0(Grad!$R94)","v":{"$error":"#VALUE!"}},{"$f":"IF(IQ13=\"\",\"\",IF(OR(IQ13>(IP13+5),IQ13<(IP13-5)),\"Tolerance\",\"\"))","v":""},null,null,0,"Agency AFT Substituted"]
["1\" Calc. %",null,null,{"$f":"IF(D13=\"\",\"\",IF(E13=\"\",D13,IF(OR(E13>(D13+6),E13<(D13-6)),E13,D13)))","v":""},{"$f":"IF(E13=\"\",\"\",IF(OR(E13>(D13+6),E13<(D13-6)),\"Agncy Repl.\",\"\"))","v":""},{"$f":"IF(F13=\"\",\"\",IF(G13=\"\",F13,IF(OR(G13>(F13+6),G13<(F13-6)),G13,F13)))","v":""},{"$f":"IF(G13=\"\",\"\",IF(OR(G13>(F13+6),G13<(F13-6)),\"Agncy Repl.\",\"\"))","v":""},{"$f":"IF(H13=\"\",\"\",IF(I13=\"\",H13,IF(OR(I13>(H13+6),I13<(H13-6)),I13,H13)))","v":""},{"$f":"IF(I13=\"\",\"\",IF(OR(I13>(H13+6),I13<(H13-6)),\"Agncy Repl.\",\"\"))","v":""},{"$f":"IF(J13=\"\",\"\",IF(K13=\"\",J13,IF(OR(K13>(J13+6),K13<(J13-6)),K13,J13)))","v":""},{"$f":"IF(K13=\"\",\"\",IF(OR(K13>(J13+6),K13<(J13-6)),\"Agncy Repl.\",\"\"))","v":""},null,"Calc. %",null,null,{"$f":"IF(P13=\"\",\"\",IF(Q13=\"\",P13,IF(OR(Q13>(P13+6),Q13<(P13-6)),Q13,P13)))","v":""},{"$f":"IF(Q13=\"\",\"\",IF(OR(Q13>(P13+6),Q13<(P13-6)),\"Agncy Repl.\",\"\"))","v":""},{"$f":"IF(R13=\"\",\"\",IF(S13=\"\",R13,IF(OR(S13>(R13+6),S13<(R13-6)),S13,R13)))","v":""},{"$f":"IF(S13=\"\",\"\",IF(OR(S13>(R13+6),S13<(R13-6)),\"Agncy Repl.\",\"\"))","v":""},{"$f":"IF(T13=\"\",\"\",IF(U13=\"\",T13,IF(OR(U13>(T13+6),U13<(T13-6)),U13,T13)))","v":""},{"$f":"IF(U13=\"\",\"\",IF(OR(U13>(T13+6),U13<(T13-6)),\"Agncy Repl.\",\"\"))","v":""},{"$f":"IF(V13=\"\",\"\",IF(W13=\"\",V13,IF(OR(W13>(V13+6),W13<(V13-6)),W13,V13)))","v":""},{"$f":"IF(W13=\"\",\"\",IF(OR(W13>(V13+6),W13<(V13-6)),\"Agncy Repl.\",\"\"))","v":""},null,"Calc. %",null,null,{"$f":"IF(AB13=\"\",\"\",IF(AC13=\"\",AB13,IF(OR(AC13>(AB13+6),AC13<(AB13-6)),AC13,AB13)))","v":""},{"$f":"IF(AC13=\"\",\"\",IF(OR(AC13>(AB13+6),AC13<(AB13-6)),\"Agncy Repl.\",\"\"))","v":""},{"$f":"IF(AD13=\"\",\"\",IF(AE13=\"\",AD13,IF(OR(AE13>(AD13+6),AE13<(AD13-6)),AE13,AD13)))","v":""},{"$f":"IF(AE13=\"\",\"\",IF(OR(AE13>(AD13+6),AE13<(AD13-6)),\"Agncy Repl.\",\"\"))","v":""},{"$f":"IF(AF13=\"\",\"\",IF(AG13=\"\",AF13,IF(OR(AG13>(AF13+6),AG13<(AF13-6)),AG13,AF13)))","v":""},{"$f":"IF(AG13=\"\",\"\",IF(OR(AG13>(AF13+6),AG13<(AF13-6)),\"Agncy Repl.\",\"\"))","v":""},{"$f":"IF(AH13=\"\",\"\",IF(AI13=\"\",AH13,IF(OR(AI13>(AH13+6),AI13<(AH13-6)),AI13,AH13)))","v":""},{"$f":"IF(AI13=\"\",\"\",IF(OR(AI13>(AH13+6),AI13<(AH13-6)),\"Agncy Repl.\",\"\"))","v":""},null,"Calc. %",null,null,{"$f":"IF(AN13=\"\",\"\",IF(AO13=\"\",AN13,IF(OR(AO13>(AN13+6),AO13<(AN13-6)),AO13,AN13)))","v":""},{"$f":"IF(AO13=\"\",\"\",IF(OR(AO13>(AN13+6),AO13<(AN13-6)),\"Agncy Repl.\",\"\"))","v":""},{"$f":"IF(AP13=\"\",\"\",IF(AQ13=\"\",AP13,IF(OR(AQ13>(AP13+6),AQ13<(AP13-6)),AQ13,AP13)))","v":""},{"$f":"IF(AQ13=\"\",\"\",IF(OR(AQ13>(AP13+6),AQ13<(AP13-6)),\"Agncy Repl.\",\"\"))","v":""},{"$f":"IF(AR13=\"\",\"\",IF(AS13=\"\",AR13,IF(OR(AS13>(AR13+6),AS13<(AR13-6)),AS13,AR13)))","v":""},{"$f":"IF(AS13=\"\",\"\",IF(OR(AS13>(AR13+6),AS13<(AR13-6)),\"Agncy Repl.\",\"\"))","v":""},{"$f":"IF(AT13=\"\",\"\",IF(AU13=\"\",AT13,IF(OR(AU13>(AT13+6),AU13<(AT13-6)),AU13,AT13)))","v":""},{"$f":"IF(AU13=\"\",\"\",IF(OR(AU13>(AT13+6),AU13<(AT13-6)),\"Agncy Repl.\",\"\"))","v":""},null,"Calc. %",null,null,{"$f":"IF(AZ13=\"\",\"\",IF(BA13=\"\",AZ13,IF(OR(BA13>(AZ13+6),BA13<(AZ13-6)),BA13,AZ13)))","v":""},{"$f":"IF(BA13=\"\",\"\",IF(OR(BA13>(AZ13+6),BA13<(AZ13-6)),\"Agncy Repl.\",\"\"))","v":""},{"$f":"IF(BB13=\"\",\"\",IF(BC13=\"\",BB13,IF(OR(BC13>(BB13+6),BC13<(BB13-6)),BC13,BB13)))","v":""},{"$f":"IF(BC13=\"\",\"\",IF(OR(BC13>(BB13+6),BC13<(BB13-6)),\"Agncy Repl.\",\"\"))","v":""},{"$f":"IF(BD13=\"\",\"\",IF(BE13=\"\",BD13,IF(OR(BE13>(BD13+6),BE13<(BD13-6)),BE13,BD13)))","v":""},{"$f":"IF(BE13=\"\",\"\",IF(OR(BE13>(BD13+6),BE13<(BD13-6)),\"Agncy Repl.\",\"\"))","v":""},{"$f":"IF(BF13=\"\",\"\",IF(BG13=\"\",BF13,IF(OR(BG13>(BF13+6),BG13<(BF13-6)),BG13,BF13)))","v":""},{"$f":"IF(BG13=\"\",\"\",IF(OR(BG13>(BF13+6),BG13<(BF13-6)),\"Agncy Repl.\",\"\"))","v":""},null,"Calc. %",null,null,{"$f":"IF(BL13=\"\",\"\",IF(BM13=\"\",BL13,IF(OR(BM13>(BL13+6),BM13<(BL13-6)),BM13,BL13)))","v":""},{"$f":"IF(BM13=\"\",\"\",IF(OR(BM13>(BL13+6),BM13<(BL13-6)),\"Agncy Repl.\",\"\"))","v":""},{"$f":"IF(BN13=\"\",\"\",IF(BO13=\"\",BN13,IF(OR(BO13>(BN13+6),BO13<(BN13-6)),BO13,BN13)))","v":""},{"$f":"IF(BO13=\"\",\"\",IF(OR(BO13>(BN13+6),BO13<(BN13-6)),\"Agncy Repl.\",\"\"))","v":""},{"$f":"IF(BP13=\"\",\"\",IF(BQ13=\"\",BP13,IF(OR(BQ13>(BP13+6),BQ13<(BP13-6)),BQ13,BP13)))","v":""},{"$f":"IF(BQ13=\"\",\"\",IF(OR(BQ13>(BP13+6),BQ13<(BP13-6)),\"Agncy Repl.\",\"\"))","v":""},{"$f":"IF(BR13=\"\",\"\",IF(BS13=\"\",BR13,IF(OR(BS13>(BR13+6),BS13<(BR13-6)),BS13,BR13)))","v":""},{"$f":"IF(BS13=\"\",\"\",IF(OR(BS13>(BR13+6),BS13<(BR13-6)),\"Agncy Repl.\",\"\"))","v":""},null,"Calc. %",null,null,{"$f":"IF(BX13=\"\",\"\",IF(BY13=\"\",BX13,IF(OR(BY13>(BX13+6),BY13<(BX13-6)),BY13,BX13)))","v":""},{"$f":"IF(BY13=\"\",\"\",IF(OR(BY13>(BX13+6),BY13<(BX13-6)),\"Agncy Repl.\",\"\"))","v":""},{"$f":"IF(BZ13=\"\",\"\",IF(CA13=\"\",BZ13,IF(OR(CA13>(BZ13+6),CA13<(BZ13-6)),CA13,BZ13)))","v":""},{"$f":"IF(CA13=\"\",\"\",IF(OR(CA13>(BZ13+6),CA13<(BZ13-6)),\"Agncy Repl.\",\"\"))","v":""},{"$f":"IF(CB13=\"\",\"\",IF(CC13=\"\",CB13,IF(OR(CC13>(CB13+6),CC13<(CB13-6)),CC13,CB13)))","v":""},{"$f":"IF(CC13=\"\",\"\",IF(OR(CC13>(CB13+6),CC13<(CB13-6)),\"Agncy Repl.\",\"\"))","v":""},{"$f":"IF(CD13=\"\",\"\",IF(CE13=\"\",CD13,IF(OR(CE13>(CD13+6),CE13<(CD13-6)),CE13,CD13)))","v":""},{"$f":"IF(CE13=\"\",\"\",IF(OR(CE13>(CD13+6),CE13<(CD13-6)),\"Agncy Repl.\",\"\"))","v":""},null,"Calc. %",null,null,{"$f":"IF(CJ13=\"\",\"\",IF(CK13=\"\",CJ13,IF(OR(CK13>(CJ13+6),CK13<(CJ13-6)),CK13,CJ13)))","v":""},{"$f":"IF(CK13=\"\",\"\",IF(OR(CK13>(CJ13+6),CK13<(CJ13-6)),\"Agncy Repl.\",\"\"))","v":""},{"$f":"IF(CL13=\"\",\"\",IF(CM13=\"\",CL13,IF(OR(CM13>(CL13+6),CM13<(CL13-6)),CM13,CL13)))","v":""},{"$f":"IF(CM13=\"\",\"\",IF(OR(CM13>(CL13+6),CM13<(CL13-6)),\"Agncy Repl.\",\"\"))","v":""},{"$f":"IF(CN13=\"\",\"\",IF(CO13=\"\",CN13,IF(OR(CO13>(CN13+6),CO13<(CN13-6)),CO13,CN13)))","v":""},{"$f":"IF(CO13=\"\",\"\",IF(OR(CO13>(CN13+6),CO13<(CN13-6)),\"Agncy Repl.\",\"\"))","v":""},{"$f":"IF(CP13=\"\",\"\",IF(CQ13=\"\",CP13,IF(OR(CQ13>(CP13+6),CQ13<(CP13-6)),CQ13,CP13)))","v":""},{"$f":"IF(CQ13=\"\",\"\",IF(OR(CQ13>(CP13+6),CQ13<(CP13-6)),\"Agncy Repl.\",\"\"))","v":""},null,"Calc. %",null,null,{"$f":"IF(CV13=\"\",\"\",IF(CW13=\"\",CV13,IF(OR(CW13>(CV13+6),CW13<(CV13-6)),CW13,CV13)))","v":""},{"$f":"IF(CW13=\"\",\"\",IF(OR(CW13>(CV13+6),CW13<(CV13-6)),\"Agncy Repl.\",\"\"))","v":""},{"$f":"IF(CX13=\"\",\"\",IF(CY13=\"\",CX13,IF(OR(CY13>(CX13+6),CY13<(CX13-6)),CY13,CX13)))","v":""},{"$f":"IF(CY13=\"\",\"\",IF(OR(CY13>(CX13+6),CY13<(CX13-6)),\"Agncy Repl.\",\"\"))","v":""},{"$f":"IF(CZ13=\"\",\"\",IF(DA13=\"\",CZ13,IF(OR(DA13>(CZ13+6),DA13<(CZ13-6)),DA13,CZ13)))","v":""},{"$f":"IF(DA13=\"\",\"\",IF(OR(DA13>(CZ13+6),DA13<(CZ13-6)),\"Agncy Repl.\",\"\"))","v":""},{"$f":"IF(DB13=\"\",\"\",IF(DC13=\"\",DB13,IF(OR(DC13>(DB13+6),DC13<(DB13-6)),DC13,DB13)))","v":""},{"$f":"IF(DC13=\"\",\"\",IF(OR(DC13>(DB13+6),DC13<(DB13-6)),\"Agncy Repl.\",\"\"))","v":""},null,"Calc. %",null,null,{"$f":"IF(DH13=\"\",\"\",IF(DI13=\"\",DH13,IF(OR(DI13>(DH13+6),DI13<(DH13-6)),DI13,DH13)))","v":""},{"$f":"IF(DI13=\"\",\"\",IF(OR(DI13>(DH13+6),DI13<(DH13-6)),\"Agncy Repl.\",\"\"))","v":""},{"$f":"IF(DJ13=\"\",\"\",IF(DK13=\"\",DJ13,IF(OR(DK13>(DJ13+6),DK13<(DJ13-6)),DK13,DJ13)))","v":""},{"$f":"IF(DK13=\"\",\"\",IF(OR(DK13>(DJ13+6),DK13<(DJ13-6)),\"Agncy Repl.\",\"\"))","v":""},{"$f":"IF(DL13=\"\",\"\",IF(DM13=\"\",DL13,IF(OR(DM13>(DL13+6),DM13<(DL13-6)),DM13,DL13)))","v":""},{"$f":"IF(DM13=\"\",\"\",IF(OR(DM13>(DL13+6),DM13<(DL13-6)),\"Agncy Repl.\",\"\"))","v":""},{"$f":"IF(DN13=\"\",\"\",IF(DO13=\"\",DN13,IF(OR(DO13>(DN13+6),DO13<(DN13-6)),DO13,DN13)))","v":""},{"$f":"IF(DO13=\"\",\"\",IF(OR(DO13>(DN13+6),DO13<(DN13-6)),\"Agncy Repl.\",\"\"))","v":""},null,"Calc. %",null,null,{"$f":"IF(DT13=\"\",\"\",IF(DU13=\"\",DT13,IF(OR(DU13>(DT13+6),DU13<(DT13-6)),DU13,DT13)))","v":""},{"$f":"IF(DU13=\"\",\"\",IF(OR(DU13>(DT13+6),DU13<(DT13-6)),\"Agncy Repl.\",\"\"))","v":""},{"$f":"IF(DV13=\"\",\"\",IF(DW13=\"\",DV13,IF(OR(DW13>(DV13+6),DW13<(DV13-6)),DW13,DV13)))","v":""},{"$f":"IF(DW13=\"\",\"\",IF(OR(DW13>(DV13+6),DW13<(DV13-6)),\"Agncy Repl.\",\"\"))","v":""},{"$f":"IF(DX13=\"\",\"\",IF(DY13=\"\",DX13,IF(OR(DY13>(DX13+6),DY13<(DX13-6)),DY13,DX13)))","v":""},{"$f":"IF(DY13=\"\",\"\",IF(OR(DY13>(DX13+6),DY13<(DX13-6)),\"Agncy Repl.\",\"\"))","v":""},{"$f":"IF(DZ13=\"\",\"\",IF(EA13=\"\",DZ13,IF(OR(EA13>(DZ13+6),EA13<(DZ13-6)),EA13,DZ13)))","v":""},{"$f":"IF(EA13=\"\",\"\",IF(OR(EA13>(DZ13+6),EA13<(DZ13-6)),\"Agncy Repl.\",\"\"))","v":""},null,"Calc. %",null,null,{"$f":"IF(EF13=\"\",\"\",IF(EG13=\"\",EF13,IF(OR(EG13>(EF13+6),EG13<(EF13-6)),EG13,EF13)))","v":""},{"$f":"IF(EG13=\"\",\"\",IF(OR(EG13>(EF13+6),EG13<(EF13-6)),\"Agncy Repl.\",\"\"))","v":""},{"$f":"IF(EH13=\"\",\"\",IF(EI13=\"\",EH13,IF(OR(EI13>(EH13+6),EI13<(EH13-6)),EI13,EH13)))","v":""},{"$f":"IF(EI13=\"\",\"\",IF(OR(EI13>(EH13+6),EI13<(EH13-6)),\"Agncy Repl.\",\"\"))","v":""},{"$f":"IF(EJ13=\"\",\"\",IF(EK13=\"\",EJ13,IF(OR(EK13>(EJ13+6),EK13<(EJ13-6)),EK13,EJ13)))","v":""},{"$f":"IF(EK13=\"\",\"\",IF(OR(EK13>(EJ13+6),EK13<(EJ13-6)),\"Agncy Repl.\",\"\"))","v":""},{"$f":"IF(EL13=\"\",\"\",IF(EM13=\"\",EL13,IF(OR(EM13>(EL13+6),EM13<(EL13-6)),EM13,EL13)))","v":""},{"$f":"IF(EM13=\"\",\"\",IF(OR(EM13>(EL13+6),EM13<(EL13-6)),\"Agncy Repl.\",\"\"))","v":""},null,"Calc. %",null,null,{"$f":"IF(ER13=\"\",\"\",IF(ES13=\"\",ER13,IF(OR(ES13>(ER13+6),ES13<(ER13-6)),ES13,ER13)))","v":""},{"$f":"IF(ES13=\"\",\"\",IF(OR(ES13>(ER13+6),ES13<(ER13-6)),\"Agncy Repl.\",\"\"))","v":""},{"$f":"IF(ET13=\"\",\"\",IF(EU13=\"\",ET13,IF(OR(EU13>(ET13+6),EU13<(ET13-6)),EU13,ET13)))","v":""},{"$f":"IF(EU13=\"\",\"\",IF(OR(EU13>(ET13+6),EU13<(ET13-6)),\"Agncy Repl.\",\"\"))","v":""},{"$f":"IF(EV13=\"\",\"\",IF(EW13=\"\",EV13,IF(OR(EW13>(EV13+6),EW13<(EV13-6)),EW13,EV13)))","v":""},{"$f":"IF(EW13=\"\",\"\",IF(OR(EW13>(EV13+6),EW13<(EV13-6)),\"Agncy Repl.\",\"\"))","v":""},{"$f":"IF(EX13=\"\",\"\",IF(EY13=\"\",EX13,IF(OR(EY13>(EX13+6),EY13<(EX13-6)),EY13,EX13)))","v":""},{"$f":"IF(EY13=\"\",\"\",IF(OR(EY13>(EX13+6),EY13<(EX13-6)),\"Agncy Repl.\",\"\"))","v":""},null,"Calc. %",null,null,{"$f":"IF(FD13=\"\",\"\",IF(FE13=\"\",FD13,IF(OR(FE13>(FD13+6),FE13<(FD13-6)),FE13,FD13)))","v":""},{"$f":"IF(FE13=\"\",\"\",IF(OR(FE13>(FD13+6),FE13<(FD13-6)),\"Agncy Repl.\",\"\"))","v":""},{"$f":"IF(FF13=\"\",\"\",IF(FG13=\"\",FF13,IF(OR(FG13>(FF13+6),FG13<(FF13-6)),FG13,FF13)))","v":""},{"$f":"IF(FG13=\"\",\"\",IF(OR(FG13>(FF13+6),FG13<(FF13-6)),\"Agncy Repl.\",\"\"))","v":""},{"$f":"IF(FH13=\"\",\"\",IF(FI13=\"\",FH13,IF(OR(FI13>(FH13+6),FI13<(FH13-6)),FI13,FH13)))","v":""},{"$f":"IF(FI13=\"\",\"\",IF(OR(FI13>(FH13+6),FI13<(FH13-6)),\"Agncy Repl.\",\"\"))","v":""},{"$f":"IF(FJ13=\"\",\"\",IF(FK13=\"\",FJ13,IF(OR(FK13>(FJ13+6),FK13<(FJ13-6)),FK13,FJ13)))","v":""},{"$f":"IF(FK13=\"\",\"\",IF(OR(FK13>(FJ13+6),FK13<(FJ13-6)),\"Agncy Repl.\",\"\"))","v":""},null,"Calc. %",null,null,{"$f":"IF(FP13=\"\",\"\",IF(FQ13=\"\",FP13,IF(OR(FQ13>(FP13+6),FQ13<(FP13-6)),FQ13,FP13)))","v":""},{"$f":"IF(FQ13=\"\",\"\",IF(OR(FQ13>(FP13+6),FQ13<(FP13-6)),\"Agncy Repl.\",\"\"))","v":""},{"$f":"IF(FR13=\"\",\"\",IF(FS13=\"\",FR13,IF(OR(FS13>(FR13+6),FS13<(FR13-6)),FS13,FR13)))","v":""},{"$f":"IF(FS13=\"\",\"\",IF(OR(FS13>(FR13+6),FS13<(FR13-6)),\"Agncy Repl.\",\"\"))","v":""},{"$f":"IF(FT13=\"\",\"\",IF(FU13=\"\",FT13,IF(OR(FU13>(FT13+6),FU13<(FT13-6)),FU13,FT13)))","v":""},{"$f":"IF(FU13=\"\",\"\",IF(OR(FU13>(FT13+6),FU13<(FT13-6)),\"Agncy Repl.\",\"\"))","v":""},{"$f":"IF(FV13=\"\",\"\",IF(FW13=\"\",FV13,IF(OR(FW13>(FV13+6),FW13<(FV13-6)),FW13,FV13)))","v":""},{"$f":"IF(FW13=\"\",\"\",IF(OR(FW13>(FV13+6),FW13<(FV13-6)),\"Agncy Repl.\",\"\"))","v":""},null,"Calc. %",null,null,{"$f":"IF(GB13=\"\",\"\",IF(GC13=\"\",GB13,IF(OR(GC13>(GB13+6),GC13<(GB13-6)),GC13,GB13)))","v":""},{"$f":"IF(GC13=\"\",\"\",IF(OR(GC13>(GB13+6),GC13<(GB13-6)),\"Agncy Repl.\",\"\"))","v":""},{"$f":"IF(GD13=\"\",\"\",IF(GE13=\"\",GD13,IF(OR(GE13>(GD13+6),GE13<(GD13-6)),GE13,GD13)))","v":""},{"$f":"IF(GE13=\"\",\"\",IF(OR(GE13>(GD13+6),GE13<(GD13-6)),\"Agncy Repl.\",\"\"))","v":""},{"$f":"IF(GF13=\"\",\"\",IF(GG13=\"\",GF13,IF(OR(GG13>(GF13+6),GG13<(GF13-6)),GG13,GF13)))","v":""},{"$f":"IF(GG13=\"\",\"\",IF(OR(GG13>(GF13+6),GG13<(GF13-6)),\"Agncy Repl.\",\"\"))","v":""},{"$f":"IF(GH13=\"\",\"\",IF(GI13=\"\",GH13,IF(OR(GI13>(GH13+6),GI13<(GH13-6)),GI13,GH13)))","v":""},{"$f":"IF(GI13=\"\",\"\",IF(OR(GI13>(GH13+6),GI13<(GH13-6)),\"Agncy Repl.\",\"\"))","v":""},null,"Calc. %",null,null,{"$f":"IF(GN13=\"\",\"\",IF(GO13=\"\",GN13,IF(OR(GO13>(GN13+6),GO13<(GN13-6)),GO13,GN13)))","v":""},{"$f":"IF(GO13=\"\",\"\",IF(OR(GO13>(GN13+6),GO13<(GN13-6)),\"Agncy Repl.\",\"\"))","v":""},{"$f":"IF(GP13=\"\",\"\",IF(GQ13=\"\",GP13,IF(OR(GQ13>(GP13+6),GQ13<(GP13-6)),GQ13,GP13)))","v":""},{"$f":"IF(GQ13=\"\",\"\",IF(OR(GQ13>(GP13+6),GQ13<(GP13-6)),\"Agncy Repl.\",\"\"))","v":""},{"$f":"IF(GR13=\"\",\"\",IF(GS13=\"\",GR13,IF(OR(GS13>(GR13+6),GS13<(GR13-6)),GS13,GR13)))","v":""},{"$f":"IF(GS13=\"\",\"\",IF(OR(GS13>(GR13+6),GS13<(GR13-6)),\"Agncy Repl.\",\"\"))","v":""},{"$f":"IF(GT13=\"\",\"\",IF(GU13=\"\",GT13,IF(OR(GU13>(GT13+6),GU13<(GT13-6)),GU13,GT13)))","v":""},{"$f":"IF(GU13=\"\",\"\",IF(OR(GU13>(GT13+6),GU13<(GT13-6)),\"Agncy Repl.\",\"\"))","v":""},null,"Calc. %",null,null,{"$f":"IF(GZ13=\"\",\"\",IF(HA13=\"\",GZ13,IF(OR(HA13>(GZ13+6),HA13<(GZ13-6)),HA13,GZ13)))","v":""},{"$f":"IF(HA13=\"\",\"\",IF(OR(HA13>(GZ13+6),HA13<(GZ13-6)),\"Agncy Repl.\",\"\"))","v":""},{"$f":"IF(HB13=\"\",\"\",IF(HC13=\"\",HB13,IF(OR(HC13>(HB13+6),HC13<(HB13-6)),HC13,HB13)))","v":""},{"$f":"IF(HC13=\"\",\"\",IF(OR(HC13>(HB13+6),HC13<(HB13-6)),\"Agncy Repl.\",\"\"))","v":""},{"$f":"IF(HD13=\"\",\"\",IF(HE13=\"\",HD13,IF(OR(HE13>(HD13+6),HE13<(HD13-6)),HE13,HD13)))","v":""},{"$f":"IF(HE13=\"\",\"\",IF(OR(HE13>(HD13+6),HE13<(HD13-6)),\"Agncy Repl.\",\"\"))","v":""},{"$f":"IF(HF13=\"\",\"\",IF(HG13=\"\",HF13,IF(OR(HG13>(HF13+6),HG13<(HF13-6)),HG13,HF13)))","v":""},{"$f":"IF(HG13=\"\",\"\",IF(OR(HG13>(HF13+6),HG13<(HF13-6)),\"Agncy Repl.\",\"\"))","v":""},null,"Calc. %",null,null,{"$f":"IF(HL13=\"\",\"\",IF(HM13=\"\",HL13,IF(OR(HM13>(HL13+6),HM13<(HL13-6)),HM13,HL13)))","v":""},{"$f":"IF(HM13=\"\",\"\",IF(OR(HM13>(HL13+6),HM13<(HL13-6)),\"Agncy Repl.\",\"\"))","v":""},{"$f":"IF(HN13=\"\",\"\",IF(HO13=\"\",HN13,IF(OR(HO13>(HN13+6),HO13<(HN13-6)),HO13,HN13)))","v":""},{"$f":"IF(HO13=\"\",\"\",IF(OR(HO13>(HN13+6),HO13<(HN13-6)),\"Agncy Repl.\",\"\"))","v":""},{"$f":"IF(HP13=\"\",\"\",IF(HQ13=\"\",HP13,IF(OR(HQ13>(HP13+6),HQ13<(HP13-6)),HQ13,HP13)))","v":""},{"$f":"IF(HQ13=\"\",\"\",IF(OR(HQ13>(HP13+6),HQ13<(HP13-6)),\"Agncy Repl.\",\"\"))","v":""},{"$f":"IF(HR13=\"\",\"\",IF(HS13=\"\",HR13,IF(OR(HS13>(HR13+6),HS13<(HR13-6)),HS13,HR13)))","v":""},{"$f":"IF(HS13=\"\",\"\",IF(OR(HS13>(HR13+6),HS13<(HR13-6)),\"Agncy Repl.\",\"\"))","v":""},null,"Calc. %",null,null,{"$f":"IF(HX13=\"\",\"\",IF(HY13=\"\",HX13,IF(OR(HY13>(HX13+6),HY13<(HX13-6)),HY13,HX13)))","v":""},{"$f":"IF(HY13=\"\",\"\",IF(OR(HY13>(HX13+6),HY13<(HX13-6)),\"Agncy Repl.\",\"\"))","v":""},{"$f":"IF(HZ13=\"\",\"\",IF(IA13=\"\",HZ13,IF(OR(IA13>(HZ13+6),IA13<(HZ13-6)),IA13,HZ13)))","v":""},{"$f":"IF(IA13=\"\",\"\",IF(OR(IA13>(HZ13+6),IA13<(HZ13-6)),\"Agncy Repl.\",\"\"))","v":""},{"$f":"IF(IB13=\"\",\"\",IF(IC13=\"\",IB13,IF(OR(IC13>(IB13+6),IC13<(IB13-6)),IC13,IB13)))","v":""},{"$f":"IF(IC13=\"\",\"\",IF(OR(IC13>(IB13+6),IC13<(IB13-6)),\"Agncy Repl.\",\"\"))","v":""},{"$f":"IF(ID13=\"\",\"\",IF(IE13=\"\",ID13,IF(OR(IE13>(ID13+6),IE13<(ID13-6)),IE13,ID13)))","v":""},{"$f":"IF(IE13=\"\",\"\",IF(OR(IE13>(ID13+6),IE13<(ID13-6)),\"Agncy Repl.\",\"\"))","v":""},null,"Calc. %",null,null,{"$f":"IF(IJ13=\"\",\"\",IF(IK13=\"\",IJ13,IF(OR(IK13>(IJ13+6),IK13<(IJ13-6)),IK13,IJ13)))","v":""},{"$f":"IF(IK13=\"\",\"\",IF(OR(IK13>(IJ13+6),IK13<(IJ13-6)),\"Agncy Repl.\",\"\"))","v":""},{"$f":"IF(IL13=\"\",\"\",IF(IM13=\"\",IL13,IF(OR(IM13>(IL13+6),IM13<(IL13-6)),IM13,IL13)))","v":""},{"$f":"IF(IM13=\"\",\"\",IF(OR(IM13>(IL13+6),IM13<(IL13-6)),\"Agncy Repl.\",\"\"))","v":""},{"$f":"IF(IN13=\"\",\"\",IF(IO13=\"\",IN13,IF(OR(IO13>(IN13+6),IO13<(IN13-6)),IO13,IN13)))","v":""},{"$f":"IF(IO13=\"\",\"\",IF(OR(IO13>(IN13+6),IO13<(IN13-6)),\"Agncy Repl.\",\"\"))","v":""},{"$f":"IF(IP13=\"\",\"\",IF(IQ13=\"\",IP13,IF(OR(IQ13>(IP13+6),IQ13<(IP13-6)),IQ13,IP13)))","v":""},{"$f":"IF(IQ13=\"\",\"\",IF(OR(IQ13>(IP13+6),IQ13<(IP13-6)),\"Agncy Repl.\",\"\"))","v":""},{"$f":"IF(IR13=\"\",\"\",IF(OR(IR13>(IQ13+6),IR13<(IQ13-6)),\"Agncy Repl.\",\"\"))","v":""}]
["3/4 in.",null,null,null,null,null,null,null,null,null,null,null,"3/4 in.",null,null,null,null,null,null,null,null,null,null,null,"3/4 in.",null,null,null,null,null,null,null,null,null,null,null,"3/4 in.",null,null,null,null,null,null,null,null,null,null,null,"3/4 in.",null,null,null,null,null,null,null,null,null,null,null,"3/4 in.",null,null,null,null,null,null,null,null,null,null,null,"3/4 in.",null,null,null,null,null,null,null,null,null,null,null,"3/4 in.",null,null,null,null,null,null,null,null,null,null,null,"3/4 in.",null,null,null,null,null,null,null,null,null,null,null,"3/4 in.",null,null,null,null,null,null,null,null,null,null,null,"3/4 in.",null,null,null,null,null,null,null,null,null,null,null,"3/4 in.",null,null,null,null,null,null,null,null,null,null,null,"3/4 in.",null,null,null,null,null,null,null,null,null,null,null,"3/4 in.",null,null,null,null,null,null,null,null,null,null,null,"3/4 in.",null,null,null,null,null,null,null,null,null,null,null,"3/4 in.",null,null,null,null,null,null,null,null,null,null,null,"3/4 in.",null,null,null,null,null,null,null,null,null,null,null,"3/4 in.",null,null,null,null,null,null,null,null,null,null,null,"3/4 in.",null,null,null,null,null,null,null,null,null,null,null,"3/4 in.",null,null,null,null,null,null,null,null,null,null,null,"3/4 in.",null,null,null,null,null,null,null,null,null,null,null,null,0,"Agency AFT Substituted"]
["Mov Avg.",{"$f":"IF(MDR!$AL$4=\"YES\",MDR!$BQ$45,MDR!$M12)","v":97},{"$f":"IF(MDR!$AL$4=\"YES\",MDR!$BR$45,MDR!$N12)","v":100},null,{"$f":"IF(E16=\"\",\"\",IF(OR(E16>(D16+6),E16<(D16-6)),\"Tolerance\",\"\"))","v":""},null,{"$f":"IF(G16=\"\",\"\",IF(OR(G16>(F16+6),G16<(F16-6)),\"Tolerance\",\"\"))","v":""},null,{"$f":"IF(I16=\"\",\"\",IF(OR(I16>(H16+6),I16<(H16-6)),\"Tolerance\",\"\"))","v":""},{"$f":"mndot_rounding_0(IF(D16=\"\",\"\",IF(F16=\"\",\"\",IF(H16=\"\",\"\",IF(J16=\"\",\"\",Grad!E14)))))","v":{"$error":"#VALUE!"}},{"$f":"IF(K16=\"\",\"\",IF(OR(K16>(J16+6),K16<(J16-6)),\"Tolerance\",\"\"))","v":""},null,"Mov Avg.",{"$f":"IF(MDR!$AL$4=\"YES\",MDR!$BQ$45,MDR!$M16)","v":97},{"$f":"IF(MDR!$AL$4=\"YES\",MDR!$BR$45,MDR!$N16)","v":100},{"$f":"mndot_rounding_0(Grad!S15)","v":{"$error":"#VALUE!"}},{"$f":"IF(Q16=\"\",\"\",IF(OR(Q16>(P16+6),Q16<(P16-6)),\"Tolerance\",\"\"))","v":""},{"$f":"mndot_rounding_0(Grad!S16)","v":{"$error":"#VALUE!"}},{"$f":"IF(S16=\"\",\"\",IF(OR(S16>(R16+6),S16<(R16-6)),\"Tolerance\",\"\"))","v":""},{"$f":"mndot_rounding_0(Grad!S17)","v":{"$error":"#VALUE!"}},{"$f":"IF(U16=\"\",\"\",IF(OR(U16>(T16+6),U16<(T16-6)),\"Tolerance\",\"\"))","v":""},{"$f":"mndot_rounding_0(Grad!S18)","v":{"$error":"#VALUE!"}},{"$f":"IF(W16=\"\",\"\",IF(OR(W16>(V16+6),W16<(V16-6)),\"Tolerance\",\"\"))","v":""},null,"Mov Avg.",{"$f":"IF(MDR!$AL$4=\"YES\",MDR!$BQ$45,MDR!$M20)","v":97},{"$f":"IF(MDR!$AL$4=\"YES\",MDR!$BR$45,MDR!$N20)","v":100},{"$f":"mndot_rounding_0(Grad!$S19)","v":{"$error":"#VALUE!"}},{"$f":"IF(AC16=\"\",\"\",IF(OR(AC16>(AB16+6),AC16<(AB16-6)),\"Tolerance\",\"\"))","v":""},{"$f":"mndot_rounding_0(Grad!$S20)","v":{"$error":"#VALUE!"}},{"$f":"IF(AE16=\"\",\"\",IF(OR(AE16>(AD16+6),AE16<(AD16-6)),\"Tolerance\",\"\"))","v":""},{"$f":"mndot_rounding_0(Grad!$S21)","v":{"$error":"#VALUE!"}},{"$f":"IF(AG16=\"\",\"\",IF(OR(AG16>(AF16+6),AG16<(AF16-6)),\"Tolerance\",\"\"))","v":""},{"$f":"mndot_rounding_0(Grad!$S22)","v":{"$error":"#VALUE!"}},{"$f":"IF(AI16=\"\",\"\",IF(OR(AI16>(AH16+6),AI16<(AH16-6)),\"Tolerance\",\"\"))","v":""},null,"Mov Avg.",{"$f":"IF(MDR!$AL$4=\"YES\",MDR!$BQ$45,MDR!$M24)","v":97},{"$f":"IF(MDR!$AL$4=\"YES\",MDR!$BR$45,MDR!$N24)","v":100},{"$f":"mndot_rounding_0(Grad!$S23)","v":{"$error":"#VALUE!"}},{"$f":"IF(AO16=\"\",\"\",IF(OR(AO16>(AN16+6),AO16<(AN16-6)),\"Tolerance\",\"\"))","v":""},{"$f":"mndot_rounding_0(Grad!$S24)","v":{"$error":"#VALUE!"}},{"$f":"IF(AQ16=\"\",\"\",IF(OR(AQ16>(AP16+6),AQ16<(AP16-6)),\"Tolerance\",\"\"))","v":""},{"$f":"mndot_rounding_0(Grad!$S25)","v":{"$error":"#VALUE!"}},{"$f":"IF(AS16=\"\",\"\",IF(OR(AS16>(AR16+6),AS16<(AR16-6)),\"Tolerance\",\"\"))","v":""},{"$f":"mndot_rounding_0(Grad!$S26)","v":{"$error":"#VALUE!"}},{"$f":"IF(AU16=\"\",\"\",IF(OR(AU16>(AT16+6),AU16<(AT16-6)),\"Tolerance\",\"\"))","v":""},null,"Mov Avg.",{"$f":"IF(MDR!$AL$4=\"YES\",MDR!$BQ$45,MDR!$M28)","v":97},{"$f":"IF(MDR!$AL$4=\"YES\",MDR!$BR$45,MDR!$N28)","v":100},{"$f":"mndot_rounding_0(Grad!$S27)","v":{"$error":"#VALUE!"}},{"$f":"IF(BA16=\"\",\"\",IF(OR(BA16>(AZ16+6),BA16<(AZ16-6)),\"Tolerance\",\"\"))","v":""},{"$f":"mndot_rounding_0(Grad!$S28)","v":{"$error":"#VALUE!"}},{"$f":"IF(BC16=\"\",\"\",IF(OR(BC16>(BB16+6),BC16<(BB16-6)),\"Tolerance\",\"\"))","v":""},{"$f":"mndot_rounding_0(Grad!$S29)","v":{"$error":"#VALUE!"}},{"$f":"IF(BE16=\"\",\"\",IF(OR(BE16>(BD16+6),BE16<(BD16-6)),\"Tolerance\",\"\"))","v":""},{"$f":"mndot_rounding_0(Grad!$S30)","v":{"$error":"#VALUE!"}},{"$f":"IF(BG16=\"\",\"\",IF(OR(BG16>(BF16+6),BG16<(BF16-6)),\"Tolerance\",\"\"))","v":""},null,"Mov Avg.",{"$f":"IF(MDR!$AL$4=\"YES\",MDR!$BQ$45,MDR!$M32)","v":97},{"$f":"IF(MDR!$AL$4=\"YES\",MDR!$BR$45,MDR!$N32)","v":100},{"$f":"mndot_rounding_0(Grad!$S31)","v":{"$error":"#VALUE!"}},{"$f":"IF(BM16=\"\",\"\",IF(OR(BM16>(BL16+6),BM16<(BL16-6)),\"Tolerance\",\"\"))","v":""},{"$f":"mndot_rounding_0(Grad!$S32)","v":{"$error":"#VALUE!"}},{"$f":"IF(BO16=\"\",\"\",IF(OR(BO16>(BN16+6),BO16<(BN16-6)),\"Tolerance\",\"\"))","v":""},{"$f":"mndot_rounding_0(Grad!$S33)","v":{"$error":"#VALUE!"}},{"$f":"IF(BQ16=\"\",\"\",IF(OR(BQ16>(BP16+6),BQ16<(BP16-6)),\"Tolerance\",\"\"))","v":""},{"$f":"mndot_rounding_0(Grad!$S34)","v":{"$error":"#VALUE!"}},{"$f":"IF(BS16=\"\",\"\",IF(OR(BS16>(BR16+6),BS16<(BR16-6)),\"Tolerance\",\"\"))","v":""},null,"Mov Avg.",{"$f":"IF(MDR!$AL$4=\"YES\",MDR!$BQ$45,MDR!$M36)","v":97},{"$f":"IF(MDR!$AL$4=\"YES\",MDR!$BR$45,MDR!$N36)","v":100},{"$f":"mndot_rounding_0(Grad!$S35)","v":{"$error":"#VALUE!"}},{"$f":"IF(BY16=\"\",\"\",IF(OR(BY16>(BX16+6),BY16<(BX16-6)),\"Tolerance\",\"\"))","v":""},{"$f":"mndot_rounding_0(Grad!$S36)","v":{"$error":"#VALUE!"}},{"$f":"IF(CA16=\"\",\"\",IF(OR(CA16>(BZ16+6),CA16<(BZ16-6)),\"Tolerance\",\"\"))","v":""},{"$f":"mndot_rounding_0(Grad!$S37)","v":{"$error":"#VALUE!"}},{"$f":"IF(CC16=\"\",\"\",IF(OR(CC16>(CB16+6),CC16<(CB16-6)),\"Tolerance\",\"\"))","v":""},{"$f":"mndot_rounding_0(Grad!$S38)","v":{"$error":"#VALUE!"}},{"$f":"IF(CE16=\"\",\"\",IF(OR(CE16>(CD16+6),CE16<(CD16-6)),\"Tolerance\",\"\"))","v":""},null,"Mov Avg.",{"$f":"IF(MDR!$AL$4=\"YES\",MDR!$BQ$45,MDR!$M40)","v":97},{"$f":"IF(MDR!$AL$4=\"YES\",MDR!$BR$45,MDR!$N40)","v":100},{"$f":"mndot_rounding_0(Grad!$S39)","v":{"$error":"#VALUE!"}},{"$f":"IF(CK16=\"\",\"\",IF(OR(CK16>(CJ16+6),CK16<(CJ16-6)),\"Tolerance\",\"\"))","v":""},{"$f":"mndot_rounding_0(Grad!$S40)","v":{"$error":"#VALUE!"}},{"$f":"IF(CM16=\"\",\"\",IF(OR(CM16>(CL16+6),CM16<(CL16-6)),\"Tolerance\",\"\"))","v":""},{"$f":"mndot_rounding_0(Grad!$S41)","v":{"$error":"#VALUE!"}},{"$f":"IF(CO16=\"\",\"\",IF(OR(CO16>(CN16+6),CO16<(CN16-6)),\"Tolerance\",\"\"))","v":""},{"$f":"mndot_rounding_0(Grad!$S42)","v":{"$error":"#VALUE!"}},{"$f":"IF(CQ16=\"\",\"\",IF(OR(CQ16>(CP16+6),CQ16<(CP16-6)),\"Tolerance\",\"\"))","v":""},null,"Mov Avg.",{"$f":"IF(MDR!$AL$4=\"YES\",MDR!$BQ$45,MDR!$M44)","v":97},{"$f":"IF(MDR!$AL$4=\"YES\",MDR!$BR$45,MDR!$N44)","v":100},{"$f":"mndot_rounding_0(Grad!$S43)","v":{"$error":"#VALUE!"}},{"$f":"IF(CW16=\"\",\"\",IF(OR(CW16>(CV16+6),CW16<(CV16-6)),\"Tolerance\",\"\"))","v":""},{"$f":"mndot_rounding_0(Grad!$S44)","v":{"$error":"#VALUE!"}},{"$f":"IF(CY16=\"\",\"\",IF(OR(CY16>(CX16+6),CY16<(CX16-6)),\"Tolerance\",\"\"))","v":""},{"$f":"mndot_rounding_0(Grad!$S45)","v":{"$error":"#VALUE!"}},{"$f":"IF(DA16=\"\",\"\",IF(OR(DA16>(CZ16+6),DA16<(CZ16-6)),\"Tolerance\",\"\"))","v":""},{"$f":"mndot_rounding_0(Grad!$S46)","v":{"$error":"#VALUE!"}},{"$f":"IF(DC16=\"\",\"\",IF(OR(DC16>(DB16+6),DC16<(DB16-6)),\"Tolerance\",\"\"))","v":""},null,"Mov Avg.",{"$f":"IF(MDR!$AL$4=\"YES\",MDR!$BQ$45,MDR!$M48)","v":97},{"$f":"IF(MDR!$AL$4=\"YES\",MDR!$BR$45,MDR!$N48)","v":100},{"$f":"mndot_rounding_0(Grad!$S47)","v":{"$error":"#VALUE!"}},{"$f":"IF(DI16=\"\",\"\",IF(OR(DI16>(DH16+6),DI16<(DH16-6)),\"Tolerance\",\"\"))","v":""},{"$f":"mndot_rounding_0(Grad!$S48)","v":{"$error":"#VALUE!"}},{"$f":"IF(DK16=\"\",\"\",IF(OR(DK16>(DJ16+6),DK16<(DJ16-6)),\"Tolerance\",\"\"))","v":""},{"$f":"mndot_rounding_0(Grad!$S49)","v":{"$error":"#VALUE!"}},{"$f":"IF(DM16=\"\",\"\",IF(OR(DM16>(DL16+6),DM16<(DL16-6)),\"Tolerance\",\"\"))","v":""},{"$f":"mndot_rounding_0(Grad!$S50)","v":{"$error":"#VALUE!"}},{"$f":"IF(DO16=\"\",\"\",IF(OR(DO16>(DN16+6),DO16<(DN16-6)),\"Tolerance\",\"\"))","v":""},null,"Mov Avg.",{"$f":"IF(MDR!$AL$4=\"YES\",MDR!$BQ$45,MDR!$M52)","v":97},{"$f":"IF(MDR!$AL$4=\"YES\",MDR!$BR$45,MDR!$N52)","v":100},{"$f":"mndot_rounding_0(Grad!$S51)","v":{"$error":"#VALUE!"}},{"$f":"IF(DU16=\"\",\"\",IF(OR(DU16>(DT16+6),DU16<(DT16-6)),\"Tolerance\",\"\"))","v":""},{"$f":"mndot_rounding_0(Grad!$S52)","v":{"$error":"#VALUE!"}},{"$f":"IF(DW16=\"\",\"\",IF(OR(DW16>(DV16+6),DW16<(DV16-6)),\"Tolerance\",\"\"))","v":""},{"$f":"mndot_rounding_0(Grad!$S53)","v":{"$error":"#VALUE!"}},{"$f":"IF(DY16=\"\",\"\",IF(OR(DY16>(DX16+6),DY16<(DX16-6)),\"Tolerance\",\"\"))","v":""},{"$f":"mndot_rounding_0(Grad!$S54)","v":{"$error":"#VALUE!"}},{"$f":"IF(EA16=\"\",\"\",IF(OR(EA16>(DZ16+6),EA16<(DZ16-6)),\"Tolerance\",\"\"))","v":""},null,"Mov Avg.",{"$f":"IF(MDR!$AL$4=\"YES\",MDR!$BQ$45,MDR!$M56)","v":97},{"$f":"IF(MDR!$AL$4=\"YES\",MDR!$BR$45,MDR!$N56)","v":100},{"$f":"mndot_rounding_0(Grad!$S55)","v":{"$error":"#VALUE!"}},{"$f":"IF(EG16=\"\",\"\",IF(OR(EG16>(EF16+6),EG16<(EF16-6)),\"Tolerance\",\"\"))","v":""},{"$f":"mndot_rounding_0(Grad!$S56)","v":{"$error":"#VALUE!"}},{"$f":"IF(EI16=\"\",\"\",IF(OR(EI16>(EH16+6),EI16<(EH16-6)),\"Tolerance\",\"\"))","v":""},{"$f":"mndot_rounding_0(Grad!$S57)","v":{"$error":"#VALUE!"}},{"$f":"IF(EK16=\"\",\"\",IF(OR(EK16>(EJ16+6),EK16<(EJ16-6)),\"Tolerance\",\"\"))","v":""},{"$f":"mndot_rounding_0(Grad!$S58)","v":{"$error":"#VALUE!"}},{"$f":"IF(EM16=\"\",\"\",IF(OR(EM16>(EL16+6),EM16<(EL16-6)),\"Tolerance\",\"\"))","v":""},null,"Mov Avg.",{"$f":"IF(MDR!$AL$4=\"YES\",MDR!$BQ$45,MDR!$M60)","v":97},{"$f":"IF(MDR!$AL$4=\"YES\",MDR!$BR$45,MDR!$N60)","v":100},{"$f":"mndot_rounding_0(Grad!$S59)","v":{"$error":"#VALUE!"}},{"$f":"IF(ES16=\"\",\"\",IF(OR(ES16>(ER16+6),ES16<(ER16-6)),\"Tolerance\",\"\"))","v":""},{"$f":"mndot_rounding_0(Grad!$S60)","v":{"$error":"#VALUE!"}},{"$f":"IF(EU16=\"\",\"\",IF(OR(EU16>(ET16+6),EU16<(ET16-6)),\"Tolerance\",\"\"))","v":""},{"$f":"mndot_rounding_0(Grad!$S61)","v":{"$error":"#VALUE!"}},{"$f":"IF(EW16=\"\",\"\",IF(OR(EW16>(EV16+6),EW16<(EV16-6)),\"Tolerance\",\"\"))","v":""},{"$f":"mndot_rounding_0(Grad!$S62)","v":{"$error":"#VALUE!"}},{"$f":"IF(EY16=\"\",\"\",IF(OR(EY16>(EX16+6),EY16<(EX16-6)),\"Tolerance\",\"\"))","v":""},null,"Mov Avg.",{"$f":"IF(MDR!$AL$4=\"YES\",MDR!$BQ$45,MDR!$M64)","v":97},{"$f":"IF(MDR!$AL$4=\"YES\",MDR!$BR$45,MDR!$N64)","v":100},{"$f":"mndot_rounding_0(Grad!$S63)","v":{"$error":"#VALUE!"}},{"$f":"IF(FE16=\"\",\"\",IF(OR(FE16>(FD16+6),FE16<(FD16-6)),\"Tolerance\",\"\"))","v":""},{"$f":"mndot_rounding_0(Grad!$S64)","v":{"$error":"#VALUE!"}},{"$f":"IF(FG16=\"\",\"\",IF(OR(FG16>(FF16+6),FG16<(FF16-6)),\"Tolerance\",\"\"))","v":""},{"$f":"mndot_rounding_0(Grad!$S65)","v":{"$error":"#VALUE!"}},{"$f":"IF(FI16=\"\",\"\",IF(OR(FI16>(FH16+6),FI16<(FH16-6)),\"Tolerance\",\"\"))","v":""},{"$f":"mndot_rounding_0(Grad!$S66)","v":{"$error":"#VALUE!"}},{"$f":"IF(FK16=\"\",\"\",IF(OR(FK16>(FJ16+6),FK16<(FJ16-6)),\"Tolerance\",\"\"))","v":""},null,"Mov Avg.",{"$f":"IF(MDR!$AL$4=\"YES\",MDR!$BQ$45,MDR!$M68)","v":97},{"$f":"IF(MDR!$AL$4=\"YES\",MDR!$BR$45,MDR!$N68)","v":100},{"$f":"mndot_rounding_0(Grad!$S67)","v":{"$error":"#VALUE!"}},{"$f":"IF(FQ16=\"\",\"\",IF(OR(FQ16>(FP16+6),FQ16<(FP16-6)),\"Tolerance\",\"\"))","v":""},{"$f":"mndot_rounding_0(Grad!$S68)","v":{"$error":"#VALUE!"}},{"$f":"IF(FS16=\"\",\"\",IF(OR(FS16>(FR16+6),FS16<(FR16-6)),\"Tolerance\",\"\"))","v":""},{"$f":"mndot_rounding_0(Grad!$S69)","v":{"$error":"#VALUE!"}},{"$f":"IF(FU16=\"\",\"\",IF(OR(FU16>(FT16+6),FU16<(FT16-6)),\"Tolerance\",\"\"))","v":""},{"$f":"mndot_rounding_0(Grad!$S70)","v":{"$error":"#VALUE!"}},{"$f":"IF(FW16=\"\",\"\",IF(OR(FW16>(FV16+6),FW16<(FV16-6)),\"Tolerance\",\"\"))","v":""},null,"Mov Avg.",{"$f":"IF(MDR!$AL$4=\"YES\",MDR!$BQ$45,MDR!$M72)","v":97},{"$f":"IF(MDR!$AL$4=\"YES\",MDR!$BR$45,MDR!$N72)","v":100},{"$f":"mndot_rounding_0(Grad!$S71)","v":{"$error":"#VALUE!"}},{"$f":"IF(GC16=\"\",\"\",IF(OR(GC16>(GB16+6),GC16<(GB16-6)),\"Tolerance\",\"\"))","v":""},{"$f":"mndot_rounding_0(Grad!$S72)","v":{"$error":"#VALUE!"}},{"$f":"IF(GE16=\"\",\"\",IF(OR(GE16>(GD16+6),GE16<(GD16-6)),\"Tolerance\",\"\"))","v":""},{"$f":"mndot_rounding_0(Grad!$S73)","v":{"$error":"#VALUE!"}},{"$f":"IF(GG16=\"\",\"\",IF(OR(GG16>(GF16+6),GG16<(GF16-6)),\"Tolerance\",\"\"))","v":""},{"$f":"mndot_rounding_0(Grad!$S74)","v":{"$error":"#VALUE!"}},{"$f":"IF(GI16=\"\",\"\",IF(OR(GI16>(GH16+6),GI16<(GH16-6)),\"Tolerance\",\"\"))","v":""},null,"Mov Avg.",{"$f":"IF(MDR!$AL$4=\"YES\",MDR!$BQ$45,MDR!$M76)","v":97},{"$f":"IF(MDR!$AL$4=\"YES\",MDR!$BR$45,MDR!$N76)","v":100},{"$f":"mndot_rounding_0(Grad!$S75)","v":{"$error":"#VALUE!"}},{"$f":"IF(GO16=\"\",\"\",IF(OR(GO16>(GN16+6),GO16<(GN16-6)),\"Tolerance\",\"\"))","v":""},{"$f":"mndot_rounding_0(Grad!$S76)","v":{"$error":"#VALUE!"}},{"$f":"IF(GQ16=\"\",\"\",IF(OR(GQ16>(GP16+6),GQ16<(GP16-6)),\"Tolerance\",\"\"))","v":""},{"$f":"mndot_rounding_0(Grad!$S77)","v":{"$error":"#VALUE!"}},{"$f":"IF(GS16=\"\",\"\",IF(OR(GS16>(GR16+6),GS16<(GR16-6)),\"Tolerance\",\"\"))","v":""},{"$f":"mndot_rounding_0(Grad!$S78)","v":{"$error":"#VALUE!"}},{"$f":"IF(GU16=\"\",\"\",IF(OR(GU16>(GT16+6),GU16<(GT16-6)),\"Tolerance\",\"\"))","v":""},null,"Mov Avg.",{"$f":"IF(MDR!$AL$4=\"YES\",MDR!$BQ$45,MDR!$M80)","v":97},{"$f":"IF(MDR!$AL$4=\"YES\",MDR!$BR$45,MDR!$N80)","v":100},{"$f":"mndot_rounding_0(Grad!$S79)","v":{"$error":"#VALUE!"}},{"$f":"IF(HA16=\"\",\"\",IF(OR(HA16>(GZ16+6),HA16<(GZ16-6)),\"Tolerance\",\"\"))","v":""},{"$f":"mndot_rounding_0(Grad!$S80)","v":{"$error":"#VALUE!"}},{"$f":"IF(HC16=\"\",\"\",IF(OR(HC16>(HB16+6),HC16<(HB16-6)),\"Tolerance\",\"\"))","v":""},{"$f":"mndot_rounding_0(Grad!$S81)","v":{"$error":"#VALUE!"}},{"$f":"IF(HE16=\"\",\"\",IF(OR(HE16>(HD16+6),HE16<(HD16-6)),\"Tolerance\",\"\"))","v":""},{"$f":"mndot_rounding_0(Grad!$S82)","v":{"$error":"#VALUE!"}},{"$f":"IF(HG16=\"\",\"\",IF(OR(HG16>(HF16+6),HG16<(HF16-6)),\"Tolerance\",\"\"))","v":""},null,"Mov Avg.",{"$f":"IF(MDR!$AL$4=\"YES\",MDR!$BQ$45,MDR!$M84)","v":97},{"$f":"IF(MDR!$AL$4=\"YES\",MDR!$BR$45,MDR!$N84)","v":100},{"$f":"mndot_rounding_0(Grad!$S83)","v":{"$error":"#VALUE!"}},{"$f":"IF(HM16=\"\",\"\",IF(OR(HM16>(HL16+6),HM16<(HL16-6)),\"Tolerance\",\"\"))","v":""},{"$f":"mndot_rounding_0(Grad!$S84)","v":{"$error":"#VALUE!"}},{"$f":"IF(HO16=\"\",\"\",IF(OR(HO16>(HN16+6),HO16<(HN16-6)),\"Tolerance\",\"\"))","v":""},{"$f":"mndot_rounding_0(Grad!$S85)","v":{"$error":"#VALUE!"}},{"$f":"IF(HQ16=\"\",\"\",IF(OR(HQ16>(HP16+6),HQ16<(HP16-6)),\"Tolerance\",\"\"))","v":""},{"$f":"mndot_rounding_0(Grad!$S86)","v":{"$error":"#VALUE!"}},{"$f":"IF(HS16=\"\",\"\",IF(OR(HS16>(HR16+6),HS16<(HR16-6)),\"Tolerance\",\"\"))","v":""},null,"Mov Avg.",{"$f":"IF(MDR!$AL$4=\"YES\",MDR!$BQ$45,MDR!$M88)","v":97},{"$f":"IF(MDR!$AL$4=\"YES\",MDR!$BR$45,MDR!$N88)","v":100},{"$f":"mndot_rounding_0(Grad!$S87)","v":{"$error":"#VALUE!"}},{"$f":"IF(HY16=\"\",\"\",IF(OR(HY16>(HX16+6),HY16<(HX16-6)),\"Tolerance\",\"\"))","v":""},{"$f":"mndot_rounding_0(Grad!$S88)","v":{"$error":"#VALUE!"}},{"$f":"IF(IA16=\"\",\"\",IF(OR(IA16>(HZ16+6),IA16<(HZ16-6)),\"Tolerance\",\"\"))","v":""},{"$f":"mndot_rounding_0(Grad!$S89)","v":{"$error":"#VALUE!"}},{"$f":"IF(IC16=\"\",\"\",IF(OR(IC16>(IB16+6),IC16<(IB16-6)),\"Tolerance\",\"\"))","v":""},{"$f":"mndot_rounding_0(Grad!$S90)","v":{"$error":"#VALUE!"}},{"$f":"IF(IE16=\"\",\"\",IF(OR(IE16>(ID16+6),IE16<(ID16-6)),\"Tolerance\",\"\"))","v":""},null,"Mov Avg.",{"$f":"IF(MDR!$AL$4=\"YES\",MDR!$BQ$45,MDR!$M92)","v":97},{"$f":"IF(MDR!$AL$4=\"YES\",MDR!$BR$45,MDR!$N92)","v":100},{"$f":"mndot_rounding_0(Grad!$S91)","v":{"$error":"#VALUE!"}},{"$f":"IF(IK16=\"\",\"\",IF(OR(IK16>(IJ16+6),IK16<(IJ16-6)),\"Tolerance\",\"\"))","v":""},{"$f":"mndot_rounding_0(Grad!$S92)","v":{"$error":"#VALUE!"}},{"$f":"IF(IM16=\"\",\"\",IF(OR(IM16>(IL16+6),IM16<(IL16-6)),\"Tolerance\",\"\"))","v":""},{"$f":"mndot_rounding_0(Grad!$S93)","v":{"$error":"#VALUE!"}},{"$f":"IF(IO16=\"\",\"\",IF(OR(IO16>(IN16+6),IO16<(IN16-6)),\"Tolerance\",\"\"))","v":""},{"$f":"mndot_rounding_0(Grad!$S94)","v":{"$error":"#VALUE!"}},{"$f":"IF(IQ16=\"\",\"\",IF(OR(IQ16>(IP16+6),IQ16<(IP16-6)),\"Tolerance\",\"\"))","v":""},null,null,0,"Agency AFT Substituted"]
["3/4\" Calc. %",null,null,{"$f":"IF(D16=\"\",\"\",IF(E16=\"\",D16,IF(OR(E16>(D16+6),E16<(D16-6)),E16,D16)))","v":""},{"$f":"IF(E16=\"\",\"\",IF(OR(E16>(D16+6),E16<(D16-6)),\"Agncy Repl.\",\"\"))","v":""},{"$f":"IF(F16=\"\",\"\",IF(G16=\"\",F16,IF(OR(G16>(F16+6),G16<(F16-6)),G16,F16)))","v":""},{"$f":"IF(G16=\"\",\"\",IF(OR(G16>(F16+6),G16<(F16-6)),\"Agncy Repl.\",\"\"))","v":""},{"$f":"IF(H16=\"\",\"\",IF(I16=\"\",H16,IF(OR(I16>(H16+6),I16<(H16-6)),I16,H16)))","v":""},{"$f":"IF(I16=\"\",\"\",IF(OR(I16>(H16+6),I16<(H16-6)),\"Agncy Repl.\",\"\"))","v":""},{"$f":"IF(J16=\"\",\"\",IF(K16=\"\",J16,IF(OR(K16>(J16+6),K16<(J16-6)),K16,J16)))","v":""},{"$f":"IF(K16=\"\",\"\",IF(OR(K16>(J16+6),K16<(J16-6)),\"Agncy Repl.\",\"\"))","v":""},null,"Calc. %",null,null,{"$f":"IF(P16=\"\",\"\",IF(Q16=\"\",P16,IF(OR(Q16>(P16+6),Q16<(P16-6)),Q16,P16)))","v":""},{"$f":"IF(Q16=\"\",\"\",IF(OR(Q16>(P16+6),Q16<(P16-6)),\"Agncy Repl.\",\"\"))","v":""},{"$f":"IF(R16=\"\",\"\",IF(S16=\"\",R16,IF(OR(S16>(R16+6),S16<(R16-6)),S16,R16)))","v":""},{"$f":"IF(S16=\"\",\"\",IF(OR(S16>(R16+6),S16<(R16-6)),\"Agncy Repl.\",\"\"))","v":""},{"$f":"IF(T16=\"\",\"\",IF(U16=\"\",T16,IF(OR(U16>(T16+6),U16<(T16-6)),U16,T16)))","v":""},{"$f":"IF(U16=\"\",\"\",IF(OR(U16>(T16+6),U16<(T16-6)),\"Agncy Repl.\",\"\"))","v":""},{"$f":"IF(V16=\"\",\"\",IF(W16=\"\",V16,IF(OR(W16>(V16+6),W16<(V16-6)),W16,V16)))","v":""},{"$f":"IF(W16=\"\",\"\",IF(OR(W16>(V16+6),W16<(V16-6)),\"Agncy Repl.\",\"\"))","v":""},null,"Calc. %",null,null,{"$f":"IF(AB16=\"\",\"\",IF(AC16=\"\",AB16,IF(OR(AC16>(AB16+6),AC16<(AB16-6)),AC16,AB16)))","v":""},{"$f":"IF(AC16=\"\",\"\",IF(OR(AC16>(AB16+6),AC16<(AB16-6)),\"Agncy Repl.\",\"\"))","v":""},{"$f":"IF(AD16=\"\",\"\",IF(AE16=\"\",AD16,IF(OR(AE16>(AD16+6),AE16<(AD16-6)),AE16,AD16)))","v":""},{"$f":"IF(AE16=\"\",\"\",IF(OR(AE16>(AD16+6),AE16<(AD16-6)),\"Agncy Repl.\",\"\"))","v":""},{"$f":"IF(AF16=\"\",\"\",IF(AG16=\"\",AF16,IF(OR(AG16>(AF16+6),AG16<(AF16-6)),AG16,AF16)))","v":""},{"$f":"IF(AG16=\"\",\"\",IF(OR(AG16>(AF16+6),AG16<(AF16-6)),\"Agncy Repl.\",\"\"))","v":""},{"$f":"IF(AH16=\"\",\"\",IF(AI16=\"\",AH16,IF(OR(AI16>(AH16+6),AI16<(AH16-6)),AI16,AH16)))","v":""},{"$f":"IF(AI16=\"\",\"\",IF(OR(AI16>(AH16+6),AI16<(AH16-6)),\"Agncy Repl.\",\"\"))","v":""},null,"Calc. %",null,null,{"$f":"IF(AN16=\"\",\"\",IF(AO16=\"\",AN16,IF(OR(AO16>(AN16+6),AO16<(AN16-6)),AO16,AN16)))","v":""},{"$f":"IF(AO16=\"\",\"\",IF(OR(AO16>(AN16+6),AO16<(AN16-6)),\"Agncy Repl.\",\"\"))","v":""},{"$f":"IF(AP16=\"\",\"\",IF(AQ16=\"\",AP16,IF(OR(AQ16>(AP16+6),AQ16<(AP16-6)),AQ16,AP16)))","v":""},{"$f":"IF(AQ16=\"\",\"\",IF(OR(AQ16>(AP16+6),AQ16<(AP16-6)),\"Agncy Repl.\",\"\"))","v":""},{"$f":"IF(AR16=\"\",\"\",IF(AS16=\"\",AR16,IF(OR(AS16>(AR16+6),AS16<(AR16-6)),AS16,AR16)))","v":""},{"$f":"IF(AS16=\"\",\"\",IF(OR(AS16>(AR16+6),AS16<(AR16-6)),\"Agncy Repl.\",\"\"))","v":""},{"$f":"IF(AT16=\"\",\"\",IF(AU16=\"\",AT16,IF(OR(AU16>(AT16+6),AU16<(AT16-6)),AU16,AT16)))","v":""},{"$f":"IF(AU16=\"\",\"\",IF(OR(AU16>(AT16+6),AU16<(AT16-6)),\"Agncy Repl.\",\"\"))","v":""},null,"Calc. %",null,null,{"$f":"IF(AZ16=\"\",\"\",IF(BA16=\"\",AZ16,IF(OR(BA16>(AZ16+6),BA16<(AZ16-6)),BA16,AZ16)))","v":""},{"$f":"IF(BA16=\"\",\"\",IF(OR(BA16>(AZ16+6),BA16<(AZ16-6)),\"Agncy Repl.\",\"\"))","v":""},{"$f":"IF(BB16=\"\",\"\",IF(BC16=\"\",BB16,IF(OR(BC16>(BB16+6),BC16<(BB16-6)),BC16,BB16)))","v":""},{"$f":"IF(BC16=\"\",\"\",IF(OR(BC16>(BB16+6),BC16<(BB16-6)),\"Agncy Repl.\",\"\"))","v":""},{"$f":"IF(BD16=\"\",\"\",IF(BE16=\"\",BD16,IF(OR(BE16>(BD16+6),BE16<(BD16-6)),BE16,BD16)))","v":""},{"$f":"IF(BE16=\"\",\"\",IF(OR(BE16>(BD16+6),BE16<(BD16-6)),\"Agncy Repl.\",\"\"))","v":""},{"$f":"IF(BF16=\"\",\"\",IF(BG16=\"\",BF16,IF(OR(BG16>(BF16+6),BG16<(BF16-6)),BG16,BF16)))","v":""},{"$f":"IF(BG16=\"\",\"\",IF(OR(BG16>(BF16+6),BG16<(BF16-6)),\"Agncy Repl.\",\"\"))","v":""},null,"Calc. %",null,null,{"$f":"IF(BL16=\"\",\"\",IF(BM16=\"\",BL16,IF(OR(BM16>(BL16+6),BM16<(BL16-6)),BM16,BL16)))","v":""},{"$f":"IF(BM16=\"\",\"\",IF(OR(BM16>(BL16+6),BM16<(BL16-6)),\"Agncy Repl.\",\"\"))","v":""},{"$f":"IF(BN16=\"\",\"\",IF(BO16=\"\",BN16,IF(OR(BO16>(BN16+6),BO16<(BN16-6)),BO16,BN16)))","v":""},{"$f":"IF(BO16=\"\",\"\",IF(OR(BO16>(BN16+6),BO16<(BN16-6)),\"Agncy Repl.\",\"\"))","v":""},{"$f":"IF(BP16=\"\",\"\",IF(BQ16=\"\",BP16,IF(OR(BQ16>(BP16+6),BQ16<(BP16-6)),BQ16,BP16)))","v":""},{"$f":"IF(BQ16=\"\",\"\",IF(OR(BQ16>(BP16+6),BQ16<(BP16-6)),\"Agncy Repl.\",\"\"))","v":""},{"$f":"IF(BR16=\"\",\"\",IF(BS16=\"\",BR16,IF(OR(BS16>(BR16+6),BS16<(BR16-6)),BS16,BR16)))","v":""},{"$f":"IF(BS16=\"\",\"\",IF(OR(BS16>(BR16+6),BS16<(BR16-6)),\"Agncy Repl.\",\"\"))","v":""},null,"Calc. %",null,null,{"$f":"IF(BX16=\"\",\"\",IF(BY16=\"\",BX16,IF(OR(BY16>(BX16+6),BY16<(BX16-6)),BY16,BX16)))","v":""},{"$f":"IF(BY16=\"\",\"\",IF(OR(BY16>(BX16+6),BY16<(BX16-6)),\"Agncy Repl.\",\"\"))","v":""},{"$f":"IF(BZ16=\"\",\"\",IF(CA16=\"\",BZ16,IF(OR(CA16>(BZ16+6),CA16<(BZ16-6)),CA16,BZ16)))","v":""},{"$f":"IF(CA16=\"\",\"\",IF(OR(CA16>(BZ16+6),CA16<(BZ16-6)),\"Agncy Repl.\",\"\"))","v":""},{"$f":"IF(CB16=\"\",\"\",IF(CC16=\"\",CB16,IF(OR(CC16>(CB16+6),CC16<(CB16-6)),CC16,CB16)))","v":""},{"$f":"IF(CC16=\"\",\"\",IF(OR(CC16>(CB16+6),CC16<(CB16-6)),\"Agncy Repl.\",\"\"))","v":""},{"$f":"IF(CD16=\"\",\"\",IF(CE16=\"\",CD16,IF(OR(CE16>(CD16+6),CE16<(CD16-6)),CE16,CD16)))","v":""},{"$f":"IF(CE16=\"\",\"\",IF(OR(CE16>(CD16+6),CE16<(CD16-6)),\"Agncy Repl.\",\"\"))","v":""},null,"Calc. %",null,null,{"$f":"IF(CJ16=\"\",\"\",IF(CK16=\"\",CJ16,IF(OR(CK16>(CJ16+6),CK16<(CJ16-6)),CK16,CJ16)))","v":""},{"$f":"IF(CK16=\"\",\"\",IF(OR(CK16>(CJ16+6),CK16<(CJ16-6)),\"Agncy Repl.\",\"\"))","v":""},{"$f":"IF(CL16=\"\",\"\",IF(CM16=\"\",CL16,IF(OR(CM16>(CL16+6),CM16<(CL16-6)),CM16,CL16)))","v":""},{"$f":"IF(CM16=\"\",\"\",IF(OR(CM16>(CL16+6),CM16<(CL16-6)),\"Agncy Repl.\",\"\"))","v":""},{"$f":"IF(CN16=\"\",\"\",IF(CO16=\"\",CN16,IF(OR(CO16>(CN16+6),CO16<(CN16-6)),CO16,CN16)))","v":""},{"$f":"IF(CO16=\"\",\"\",IF(OR(CO16>(CN16+6),CO16<(CN16-6)),\"Agncy Repl.\",\"\"))","v":""},{"$f":"IF(CP16=\"\",\"\",IF(CQ16=\"\",CP16,IF(OR(CQ16>(CP16+6),CQ16<(CP16-6)),CQ16,CP16)))","v":""},{"$f":"IF(CQ16=\"\",\"\",IF(OR(CQ16>(CP16+6),CQ16<(CP16-6)),\"Agncy Repl.\",\"\"))","v":""},null,"Calc. %",null,null,{"$f":"IF(CV16=\"\",\"\",IF(CW16=\"\",CV16,IF(OR(CW16>(CV16+6),CW16<(CV16-6)),CW16,CV16)))","v":""},{"$f":"IF(CW16=\"\",\"\",IF(OR(CW16>(CV16+6),CW16<(CV16-6)),\"Agncy Repl.\",\"\"))","v":""},{"$f":"IF(CX16=\"\",\"\",IF(CY16=\"\",CX16,IF(OR(CY16>(CX16+6),CY16<(CX16-6)),CY16,CX16)))","v":""},{"$f":"IF(CY16=\"\",\"\",IF(OR(CY16>(CX16+6),CY16<(CX16-6)),\"Agncy Repl.\",\"\"))","v":""},{"$f":"IF(CZ16=\"\",\"\",IF(DA16=\"\",CZ16,IF(OR(DA16>(CZ16+6),DA16<(CZ16-6)),DA16,CZ16)))","v":""},{"$f":"IF(DA16=\"\",\"\",IF(OR(DA16>(CZ16+6),DA16<(CZ16-6)),\"Agncy Repl.\",\"\"))","v":""},{"$f":"IF(DB16=\"\",\"\",IF(DC16=\"\",DB16,IF(OR(DC16>(DB16+6),DC16<(DB16-6)),DC16,DB16)))","v":""},{"$f":"IF(DC16=\"\",\"\",IF(OR(DC16>(DB16+6),DC16<(DB16-6)),\"Agncy Repl.\",\"\"))","v":""},{"$f":"IF(DD16=\"\",\"\",IF(OR(DD16>(DC16+6),DD16<(DC16-6)),\"Agncy Repl.\",\"\"))","v":""},"Calc. %",null,null,{"$f":"IF(DH16=\"\",\"\",IF(DI16=\"\",DH16,IF(OR(DI16>(DH16+6),DI16<(DH16-6)),DI16,DH16)))","v":""},{"$f":"IF(DI16=\"\",\"\",IF(OR(DI16>(DH16+6),DI16<(DH16-6)),\"Agncy Repl.\",\"\"))","v":""},{"$f":"IF(DJ16=\"\",\"\",IF(DK16=\"\",DJ16,IF(OR(DK16>(DJ16+6),DK16<(DJ16-6)),DK16,DJ16)))","v":""},{"$f":"IF(DK16=\"\",\"\",IF(OR(DK16>(DJ16+6),DK16<(DJ16-6)),\"Agncy Repl.\",\"\"))","v":""},{"$f":"IF(DL16=\"\",\"\",IF(DM16=\"\",DL16,IF(OR(DM16>(DL16+6),DM16<(DL16-6)),DM16,DL16)))","v":""},{"$f":"IF(DM16=\"\",\"\",IF(OR(DM16>(DL16+6),DM16<(DL16-6)),\"Agncy Repl.\",\"\"))","v":""},{"$f":"IF(DN16=\"\",\"\",IF(DO16=\"\",DN16,IF(OR(DO16>(DN16+6),DO16<(DN16-6)),DO16,DN16)))","v":""},{"$f":"IF(DO16=\"\",\"\",IF(OR(DO16>(DN16+6),DO16<(DN16-6)),\"Agncy Repl.\",\"\"))","v":""},null,"Calc. %",null,null,{"$f":"IF(DT16=\"\",\"\",IF(DU16=\"\",DT16,IF(OR(DU16>(DT16+6),DU16<(DT16-6)),DU16,DT16)))","v":""},{"$f":"IF(DU16=\"\",\"\",IF(OR(DU16>(DT16+6),DU16<(DT16-6)),\"Agncy Repl.\",\"\"))","v":""},{"$f":"IF(DV16=\"\",\"\",IF(DW16=\"\",DV16,IF(OR(DW16>(DV16+6),DW16<(DV16-6)),DW16,DV16)))","v":""},{"$f":"IF(DW16=\"\",\"\",IF(OR(DW16>(DV16+6),DW16<(DV16-6)),\"Agncy Repl.\",\"\"))","v":""},{"$f":"IF(DX16=\"\",\"\",IF(DY16=\"\",DX16,IF(OR(DY16>(DX16+6),DY16<(DX16-6)),DY16,DX16)))","v":""},{"$f":"IF(DY16=\"\",\"\",IF(OR(DY16>(DX16+6),DY16<(DX16-6)),\"Agncy Repl.\",\"\"))","v":""},{"$f":"IF(DZ16=\"\",\"\",IF(EA16=\"\",DZ16,IF(OR(EA16>(DZ16+6),EA16<(DZ16-6)),EA16,DZ16)))","v":""},{"$f":"IF(EA16=\"\",\"\",IF(OR(EA16>(DZ16+6),EA16<(DZ16-6)),\"Agncy Repl.\",\"\"))","v":""},null,"Calc. %",null,null,{"$f":"IF(EF16=\"\",\"\",IF(EG16=\"\",EF16,IF(OR(EG16>(EF16+6),EG16<(EF16-6)),EG16,EF16)))","v":""},{"$f":"IF(EG16=\"\",\"\",IF(OR(EG16>(EF16+6),EG16<(EF16-6)),\"Agncy Repl.\",\"\"))","v":""},{"$f":"IF(EH16=\"\",\"\",IF(EI16=\"\",EH16,IF(OR(EI16>(EH16+6),EI16<(EH16-6)),EI16,EH16)))","v":""},{"$f":"IF(EI16=\"\",\"\",IF(OR(EI16>(EH16+6),EI16<(EH16-6)),\"Agncy Repl.\",\"\"))","v":""},{"$f":"IF(EJ16=\"\",\"\",IF(EK16=\"\",EJ16,IF(OR(EK16>(EJ16+6),EK16<(EJ16-6)),EK16,EJ16)))","v":""},{"$f":"IF(EK16=\"\",\"\",IF(OR(EK16>(EJ16+6),EK16<(EJ16-6)),\"Agncy Repl.\",\"\"))","v":""},{"$f":"IF(EL16=\"\",\"\",IF(EM16=\"\",EL16,IF(OR(EM16>(EL16+6),EM16<(EL16-6)),EM16,EL16)))","v":""},{"$f":"IF(EM16=\"\",\"\",IF(OR(EM16>(EL16+6),EM16<(EL16-6)),\"Agncy Repl.\",\"\"))","v":""},null,"Calc. %",null,null,{"$f":"IF(ER16=\"\",\"\",IF(ES16=\"\",ER16,IF(OR(ES16>(ER16+6),ES16<(ER16-6)),ES16,ER16)))","v":""},{"$f":"IF(ES16=\"\",\"\",IF(OR(ES16>(ER16+6),ES16<(ER16-6)),\"Agncy Repl.\",\"\"))","v":""},{"$f":"IF(ET16=\"\",\"\",IF(EU16=\"\",ET16,IF(OR(EU16>(ET16+6),EU16<(ET16-6)),EU16,ET16)))","v":""},{"$f":"IF(EU16=\"\",\"\",IF(OR(EU16>(ET16+6),EU16<(ET16-6)),\"Agncy Repl.\",\"\"))","v":""},{"$f":"IF(EV16=\"\",\"\",IF(EW16=\"\",EV16,IF(OR(EW16>(EV16+6),EW16<(EV16-6)),EW16,EV16)))","v":""},{"$f":"IF(EW16=\"\",\"\",IF(OR(EW16>(EV16+6),EW16<(EV16-6)),\"Agncy Repl.\",\"\"))","v":""},{"$f":"IF(EX16=\"\",\"\",IF(EY16=\"\",EX16,IF(OR(EY16>(EX16+6),EY16<(EX16-6)),EY16,EX16)))","v":""},{"$f":"IF(EY16=\"\",\"\",IF(OR(EY16>(EX16+6),EY16<(EX16-6)),\"Agncy Repl.\",\"\"))","v":""},null,"Calc. %",null,null,{"$f":"IF(FD16=\"\",\"\",IF(FE16=\"\",FD16,IF(OR(FE16>(FD16+6),FE16<(FD16-6)),FE16,FD16)))","v":""},{"$f":"IF(FE16=\"\",\"\",IF(OR(FE16>(FD16+6),FE16<(FD16-6)),\"Agncy Repl.\",\"\"))","v":""},{"$f":"IF(FF16=\"\",\"\",IF(FG16=\"\",FF16,IF(OR(FG16>(FF16+6),FG16<(FF16-6)),FG16,FF16)))","v":""},{"$f":"IF(FG16=\"\",\"\",IF(OR(FG16>(FF16+6),FG16<(FF16-6)),\"Agncy Repl.\",\"\"))","v":""},{"$f":"IF(FH16=\"\",\"\",IF(FI16=\"\",FH16,IF(OR(FI16>(FH16+6),FI16<(FH16-6)),FI16,FH16)))","v":""},{"$f":"IF(FI16=\"\",\"\",IF(OR(FI16>(FH16+6),FI16<(FH16-6)),\"Agncy Repl.\",\"\"))","v":""},{"$f":"IF(FJ16=\"\",\"\",IF(FK16=\"\",FJ16,IF(OR(FK16>(FJ16+6),FK16<(FJ16-6)),FK16,FJ16)))","v":""},{"$f":"IF(FK16=\"\",\"\",IF(OR(FK16>(FJ16+6),FK16<(FJ16-6)),\"Agncy Repl.\",\"\"))","v":""},null,"Calc. %",null,null,{"$f":"IF(FP16=\"\",\"\",IF(FQ16=\"\",FP16,IF(OR(FQ16>(FP16+6),FQ16<(FP16-6)),FQ16,FP16)))","v":""},{"$f":"IF(FQ16=\"\",\"\",IF(OR(FQ16>(FP16+6),FQ16<(FP16-6)),\"Agncy Repl.\",\"\"))","v":""},{"$f":"IF(FR16=\"\",\"\",IF(FS16=\"\",FR16,IF(OR(FS16>(FR16+6),FS16<(FR16-6)),FS16,FR16)))","v":""},{"$f":"IF(FS16=\"\",\"\",IF(OR(FS16>(FR16+6),FS16<(FR16-6)),\"Agncy Repl.\",\"\"))","v":""},{"$f":"IF(FT16=\"\",\"\",IF(FU16=\"\",FT16,IF(OR(FU16>(FT16+6),FU16<(FT16-6)),FU16,FT16)))","v":""},{"$f":"IF(FU16=\"\",\"\",IF(OR(FU16>(FT16+6),FU16<(FT16-6)),\"Agncy Repl.\",\"\"))","v":""},{"$f":"IF(FV16=\"\",\"\",IF(FW16=\"\",FV16,IF(OR(FW16>(FV16+6),FW16<(FV16-6)),FW16,FV16)))","v":""},{"$f":"IF(FW16=\"\",\"\",IF(OR(FW16>(FV16+6),FW16<(FV16-6)),\"Agncy Repl.\",\"\"))","v":""},null,"Calc. %",null,null,{"$f":"IF(GB16=\"\",\"\",IF(GC16=\"\",GB16,IF(OR(GC16>(GB16+6),GC16<(GB16-6)),GC16,GB16)))","v":""},{"$f":"IF(GC16=\"\",\"\",IF(OR(GC16>(GB16+6),GC16<(GB16-6)),\"Agncy Repl.\",\"\"))","v":""},{"$f":"IF(GD16=\"\",\"\",IF(GE16=\"\",GD16,IF(OR(GE16>(GD16+6),GE16<(GD16-6)),GE16,GD16)))","v":""},{"$f":"IF(GE16=\"\",\"\",IF(OR(GE16>(GD16+6),GE16<(GD16-6)),\"Agncy Repl.\",\"\"))","v":""},{"$f":"IF(GF16=\"\",\"\",IF(GG16=\"\",GF16,IF(OR(GG16>(GF16+6),GG16<(GF16-6)),GG16,GF16)))","v":""},{"$f":"IF(GG16=\"\",\"\",IF(OR(GG16>(GF16+6),GG16<(GF16-6)),\"Agncy Repl.\",\"\"))","v":""},{"$f":"IF(GH16=\"\",\"\",IF(GI16=\"\",GH16,IF(OR(GI16>(GH16+6),GI16<(GH16-6)),GI16,GH16)))","v":""},{"$f":"IF(GI16=\"\",\"\",IF(OR(GI16>(GH16+6),GI16<(GH16-6)),\"Agncy Repl.\",\"\"))","v":""},null,"Calc. %",null,null,{"$f":"IF(GN16=\"\",\"\",IF(GO16=\"\",GN16,IF(OR(GO16>(GN16+6),GO16<(GN16-6)),GO16,GN16)))","v":""},{"$f":"IF(GO16=\"\",\"\",IF(OR(GO16>(GN16+6),GO16<(GN16-6)),\"Agncy Repl.\",\"\"))","v":""},{"$f":"IF(GP16=\"\",\"\",IF(GQ16=\"\",GP16,IF(OR(GQ16>(GP16+6),GQ16<(GP16-6)),GQ16,GP16)))","v":""},{"$f":"IF(GQ16=\"\",\"\",IF(OR(GQ16>(GP16+6),GQ16<(GP16-6)),\"Agncy Repl.\",\"\"))","v":""},{"$f":"IF(GR16=\"\",\"\",IF(GS16=\"\",GR16,IF(OR(GS16>(GR16+6),GS16<(GR16-6)),GS16,GR16)))","v":""},{"$f":"IF(GS16=\"\",\"\",IF(OR(GS16>(GR16+6),GS16<(GR16-6)),\"Agncy Repl.\",\"\"))","v":""},{"$f":"IF(GT16=\"\",\"\",IF(GU16=\"\",GT16,IF(OR(GU16>(GT16+6),GU16<(GT16-6)),GU16,GT16)))","v":""},{"$f":"IF(GU16=\"\",\"\",IF(OR(GU16>(GT16+6),GU16<(GT16-6)),\"Agncy Repl.\",\"\"))","v":""},{"$f":"IF(GV16=\"\",\"\",IF(OR(GV16>(GU16+6),GV16<(GU16-6)),\"Agncy Repl.\",\"\"))","v":""},"Calc. %",null,null,{"$f":"IF(GZ16=\"\",\"\",IF(HA16=\"\",GZ16,IF(OR(HA16>(GZ16+6),HA16<(GZ16-6)),HA16,GZ16)))","v":""},{"$f":"IF(HA16=\"\",\"\",IF(OR(HA16>(GZ16+6),HA16<(GZ16-6)),\"Agncy Repl.\",\"\"))","v":""},{"$f":"IF(HB16=\"\",\"\",IF(HC16=\"\",HB16,IF(OR(HC16>(HB16+6),HC16<(HB16-6)),HC16,HB16)))","v":""},{"$f":"IF(HC16=\"\",\"\",IF(OR(HC16>(HB16+6),HC16<(HB16-6)),\"Agncy Repl.\",\"\"))","v":""},{"$f":"IF(HD16=\"\",\"\",IF(HE16=\"\",HD16,IF(OR(HE16>(HD16+6),HE16<(HD16-6)),HE16,HD16)))","v":""},{"$f":"IF(HE16=\"\",\"\",IF(OR(HE16>(HD16+6),HE16<(HD16-6)),\"Agncy Repl.\",\"\"))","v":""},{"$f":"IF(HF16=\"\",\"\",IF(HG16=\"\",HF16,IF(OR(HG16>(HF16+6),HG16<(HF16-6)),HG16,HF16)))","v":""},{"$f":"IF(HG16=\"\",\"\",IF(OR(HG16>(HF16+6),HG16<(HF16-6)),\"Agncy Repl.\",\"\"))","v":""},{"$f":"IF(HH16=\"\",\"\",IF(OR(HH16>(HG16+6),HH16<(HG16-6)),\"Agncy Repl.\",\"\"))","v":""},"Calc. %",null,null,{"$f":"IF(HL16=\"\",\"\",IF(HM16=\"\",HL16,IF(OR(HM16>(HL16+6),HM16<(HL16-6)),HM16,HL16)))","v":""},{"$f":"IF(HM16=\"\",\"\",IF(OR(HM16>(HL16+6),HM16<(HL16-6)),\"Agncy Repl.\",\"\"))","v":""},{"$f":"IF(HN16=\"\",\"\",IF(HO16=\"\",HN16,IF(OR(HO16>(HN16+6),HO16<(HN16-6)),HO16,HN16)))","v":""},{"$f":"IF(HO16=\"\",\"\",IF(OR(HO16>(HN16+6),HO16<(HN16-6)),\"Agncy Repl.\",\"\"))","v":""},{"$f":"IF(HP16=\"\",\"\",IF(HQ16=\"\",HP16,IF(OR(HQ16>(HP16+6),HQ16<(HP16-6)),HQ16,HP16)))","v":""},{"$f":"IF(HQ16=\"\",\"\",IF(OR(HQ16>(HP16+6),HQ16<(HP16-6)),\"Agncy Repl.\",\"\"))","v":""},{"$f":"IF(HR16=\"\",\"\",IF(HS16=\"\",HR16,IF(OR(HS16>(HR16+6),HS16<(HR16-6)),HS16,HR16)))","v":""},{"$f":"IF(HS16=\"\",\"\",IF(OR(HS16>(HR16+6),HS16<(HR16-6)),\"Agncy Repl.\",\"\"))","v":""},null,"Calc. %",null,null,{"$f":"IF(HX16=\"\",\"\",IF(HY16=\"\",HX16,IF(OR(HY16>(HX16+6),HY16<(HX16-6)),HY16,HX16)))","v":""},{"$f":"IF(HY16=\"\",\"\",IF(OR(HY16>(HX16+6),HY16<(HX16-6)),\"Agncy Repl.\",\"\"))","v":""},{"$f":"IF(HZ16=\"\",\"\",IF(IA16=\"\",HZ16,IF(OR(IA16>(HZ16+6),IA16<(HZ16-6)),IA16,HZ16)))","v":""},{"$f":"IF(IA16=\"\",\"\",IF(OR(IA16>(HZ16+6),IA16<(HZ16-6)),\"Agncy Repl.\",\"\"))","v":""},{"$f":"IF(IB16=\"\",\"\",IF(IC16=\"\",IB16,IF(OR(IC16>(IB16+6),IC16<(IB16-6)),IC16,IB16)))","v":""},{"$f":"IF(IC16=\"\",\"\",IF(OR(IC16>(IB16+6),IC16<(IB16-6)),\"Agncy Repl.\",\"\"))","v":""},{"$f":"IF(ID16=\"\",\"\",IF(IE16=\"\",ID16,IF(OR(IE16>(ID16+6),IE16<(ID16-6)),IE16,ID16)))","v":""},{"$f":"IF(IE16=\"\",\"\",IF(OR(IE16>(ID16+6),IE16<(ID16-6)),\"Agncy Repl.\",\"\"))","v":""},null,"Calc. %",null,null,{"$f":"IF(IJ16=\"\",\"\",IF(IK16=\"\",IJ16,IF(OR(IK16>(IJ16+6),IK16<(IJ16-6)),IK16,IJ16)))","v":""},{"$f":"IF(IK16=\"\",\"\",IF(OR(IK16>(IJ16+6),IK16<(IJ16-6)),\"Agncy Repl.\",\"\"))","v":""},{"$f":"IF(IL16=\"\",\"\",IF(IM16=\"\",IL16,IF(OR(IM16>(IL16+6),IM16<(IL16-6)),IM16,IL16)))","v":""},{"$f":"IF(IM16=\"\",\"\",IF(OR(IM16>(IL16+6),IM16<(IL16-6)),\"Agncy Repl.\",\"\"))","v":""},{"$f":"IF(IN16=\"\",\"\",IF(IO16=\"\",IN16,IF(OR(IO16>(IN16+6),IO16<(IN16-6)),IO16,IN16)))","v":""},{"$f":"IF(IO16=\"\",\"\",IF(OR(IO16>(IN16+6),IO16<(IN16-6)),\"Agncy Repl.\",\"\"))","v":""},{"$f":"IF(IP16=\"\",\"\",IF(IQ16=\"\",IP16,IF(OR(IQ16>(IP16+6),IQ16<(IP16-6)),IQ16,IP16)))","v":""},{"$f":"IF(IQ16=\"\",\"\",IF(OR(IQ16>(IP16+6),IQ16<(IP16-6)),\"Agncy Repl.\",\"\"))","v":""}]
["1/2 in.",null,null,null,null,null,null,null,null,null,null,null,"1/2 in.",null,null,null,null,null,null,null,null,null,null,null,"1/2 in.",null,null,null,null,null,null,null,null,null,null,null,"1/2 in.",null,null,null,null,null,null,null,null,null,null,null,"1/2 in.",null,null,null,null,null,null,null,null,null,null,null,"1/2 in.",null,null,null,null,null,null,null,null,null,null,null,"1/2 in.",null,null,null,null,null,null,null,null,null,null,null,"1/2 in.",null,null,null,null,null,null,null,null,null,null,null,"1/2 in.",null,null,null,null,null,null,null,null,null,null,null,"1/2 in.",null,null,null,null,null,null,null,null,null,null,null,"1/2 in.",null,null,null,null,null,null,null,null,null,null,null,"1/2 in.",null,null,null,null,null,null,null,null,null,null,null,"1/2 in.",null,null,null,null,null,null,null,null,null,null,null,"1/2 in.",null,null,null,null,null,null,null,null,null,null,null,"1/2 in.",null,null,null,null,null,null,null,null,null,null,null,"1/2 in.",null,null,null,null,null,null,null,null,null,null,null,"1/2 in.",null,null,null,null,null,null,null,null,null,null,null,"1/2 in.",null,null,null,null,null,null,null,null,null,null,null,"1/2 in.",null,null,null,null,null,null,null,null,null,null,null,"1/2 in.",null,null,null,null,null,null,null,null,null,null,null,"1/2 in.",null,null,null,null,null,null,null,null,null,null,null,null,0,"Agency AFT Substituted"]
["Mov Avg.",{"$f":"IF(MDR!$AL$4=\"YES\",MDR!$BQ$46,MDR!$S12)","v":85},{"$f":"IF(MDR!$AL$4=\"YES\",MDR!$BR$46,MDR!$T12)","v":100},null,{"$f":"IF(E19=\"\",\"\",IF(OR(E19>(D19+6),E19<(D19-6)),\"Tolerance\",\"\"))","v":""},null,{"$f":"IF(G19=\"\",\"\",IF(OR(G19>(F19+6),G19<(F19-6)),\"Tolerance\",\"\"))","v":""},null,{"$f":"IF(I19=\"\",\"\",IF(OR(I19>(H19+6),I19<(H19-6)),\"Tolerance\",\"\"))","v":""},{"$f":"mndot_rounding_0(IF(D19=\"\",\"\",IF(F19=\"\",\"\",IF(H19=\"\",\"\",IF(J19=\"\",\"\",Grad!G14)))))","v":{"$error":"#VALUE!"}},{"$f":"IF(K19=\"\",\"\",IF(OR(K19>(J19+6),K19<(J19-6)),\"Tolerance\",\"\"))","v":""},null,"Mov Avg.",{"$f":"IF(MDR!$AL$4=\"YES\",MDR!$BQ$46,MDR!$S16)","v":85},{"$f":"IF(MDR!$AL$4=\"YES\",MDR!$BR$46,MDR!$T16)","v":100},{"$f":"mndot_rounding_0(Grad!T15)","v":{"$error":"#VALUE!"}},{"$f":"IF(Q19=\"\",\"\",IF(OR(Q19>(P19+6),Q19<(P19-6)),\"Tolerance\",\"\"))","v":""},{"$f":"mndot_rounding_0(Grad!T16)","v":{"$error":"#VALUE!"}},{"$f":"IF(S19=\"\",\"\",IF(OR(S19>(R19+6),S19<(R19-6)),\"Tolerance\",\"\"))","v":""},{"$f":"mndot_rounding_0(Grad!T17)","v":{"$error":"#VALUE!"}},{"$f":"IF(U19=\"\",\"\",IF(OR(U19>(T19+6),U19<(T19-6)),\"Tolerance\",\"\"))","v":""},{"$f":"mndot_rounding_0(Grad!T18)","v":{"$error":"#VALUE!"}},{"$f":"IF(W19=\"\",\"\",IF(OR(W19>(V19+6),W19<(V19-6)),\"Tolerance\",\"\"))","v":""},null,"Mov Avg.",{"$f":"IF(MDR!$AL$4=\"YES\",MDR!$BQ$46,MDR!$S20)","v":85},{"$f":"IF(MDR!$AL$4=\"YES\",MDR!$BR$46,MDR!$T20)","v":100},{"$f":"mndot_rounding_0(Grad!$T19)","v":{"$error":"#VALUE!"}},{"$f":"IF(AC19=\"\",\"\",IF(OR(AC19>(AB19+6),AC19<(AB19-6)),\"Tolerance\",\"\"))","v":""},{"$f":"mndot_rounding_0(Grad!$T20)","v":{"$error":"#VALUE!"}},{"$f":"IF(AE19=\"\",\"\",IF(OR(AE19>(AD19+6),AE19<(AD19-6)),\"Tolerance\",\"\"))","v":""},{"$f":"mndot_rounding_0(Grad!$T21)","v":{"$error":"#VALUE!"}},{"$f":"IF(AG19=\"\",\"\",IF(OR(AG19>(AF19+6),AG19<(AF19-6)),\"Tolerance\",\"\"))","v":""},{"$f":"mndot_rounding_0(Grad!$T22)","v":{"$error":"#VALUE!"}},{"$f":"IF(AI19=\"\",\"\",IF(OR(AI19>(AH19+6),AI19<(AH19-6)),\"Tolerance\",\"\"))","v":""},null,"Mov Avg.",{"$f":"IF(MDR!$AL$4=\"YES\",MDR!$BQ$46,MDR!$S24)","v":85},{"$f":"IF(MDR!$AL$4=\"YES\",MDR!$BR$46,MDR!$T24)","v":100},{"$f":"mndot_rounding_0(Grad!$T23)","v":{"$error":"#VALUE!"}},{"$f":"IF(AO19=\"\",\"\",IF(OR(AO19>(AN19+6),AO19<(AN19-6)),\"Tolerance\",\"\"))","v":""},{"$f":"mndot_rounding_0(Grad!$T24)","v":{"$error":"#VALUE!"}},{"$f":"IF(AQ19=\"\",\"\",IF(OR(AQ19>(AP19+6),AQ19<(AP19-6)),\"Tolerance\",\"\"))","v":""},{"$f":"mndot_rounding_0(Grad!$T25)","v":{"$error":"#VALUE!"}},{"$f":"IF(AS19=\"\",\"\",IF(OR(AS19>(AR19+6),AS19<(AR19-6)),\"Tolerance\",\"\"))","v":""},{"$f":"mndot_rounding_0(Grad!$T26)","v":{"$error":"#VALUE!"}},{"$f":"IF(AU19=\"\",\"\",IF(OR(AU19>(AT19+6),AU19<(AT19-6)),\"Tolerance\",\"\"))","v":""},null,"Mov Avg.",{"$f":"IF(MDR!$AL$4=\"YES\",MDR!$BQ$46,MDR!$S28)","v":85},{"$f":"IF(MDR!$AL$4=\"YES\",MDR!$BR$46,MDR!$T28)","v":100},{"$f":"mndot_rounding_0(Grad!$T27)","v":{"$error":"#VALUE!"}},{"$f":"IF(BA19=\"\",\"\",IF(OR(BA19>(AZ19+6),BA19<(AZ19-6)),\"Tolerance\",\"\"))","v":""},{"$f":"mndot_rounding_0(Grad!$T28)","v":{"$error":"#VALUE!"}},{"$f":"IF(BC19=\"\",\"\",IF(OR(BC19>(BB19+6),BC19<(BB19-6)),\"Tolerance\",\"\"))","v":""},{"$f":"mndot_rounding_0(Grad!$T29)","v":{"$error":"#VALUE!"}},{"$f":"IF(BE19=\"\",\"\",IF(OR(BE19>(BD19+6),BE19<(BD19-6)),\"Tolerance\",\"\"))","v":""},{"$f":"mndot_rounding_0(Grad!$T30)","v":{"$error":"#VALUE!"}},{"$f":"IF(BG19=\"\",\"\",IF(OR(BG19>(BF19+6),BG19<(BF19-6)),\"Tolerance\",\"\"))","v":""},null,"Mov Avg.",{"$f":"IF(MDR!$AL$4=\"YES\",MDR!$BQ$46,MDR!$S32)","v":85},{"$f":"IF(MDR!$AL$4=\"YES\",MDR!$BR$46,MDR!$T32)","v":100},{"$f":"mndot_rounding_0(Grad!$T31)","v":{"$error":"#VALUE!"}},{"$f":"IF(BM19=\"\",\"\",IF(OR(BM19>(BL19+6),BM19<(BL19-6)),\"Tolerance\",\"\"))","v":""},{"$f":"mndot_rounding_0(Grad!$T32)","v":{"$error":"#VALUE!"}},{"$f":"IF(BO19=\"\",\"\",IF(OR(BO19>(BN19+6),BO19<(BN19-6)),\"Tolerance\",\"\"))","v":""},{"$f":"mndot_rounding_0(Grad!$T33)","v":{"$error":"#VALUE!"}},{"$f":"IF(BQ19=\"\",\"\",IF(OR(BQ19>(BP19+6),BQ19<(BP19-6)),\"Tolerance\",\"\"))","v":""},{"$f":"mndot_rounding_0(Grad!$T34)","v":{"$error":"#VALUE!"}},{"$f":"IF(BS19=\"\",\"\",IF(OR(BS19>(BR19+6),BS19<(BR19-6)),\"Tolerance\",\"\"))","v":""},null,"Mov Avg.",{"$f":"IF(MDR!$AL$4=\"YES\",MDR!$BQ$46,MDR!$S36)","v":85},{"$f":"IF(MDR!$AL$4=\"YES\",MDR!$BR$46,MDR!$T36)","v":100},{"$f":"mndot_rounding_0(Grad!$T35)","v":{"$error":"#VALUE!"}},{"$f":"IF(BY19=\"\",\"\",IF(OR(BY19>(BX19+6),BY19<(BX19-6)),\"Tolerance\",\"\"))","v":""},{"$f":"mndot_rounding_0(Grad!$T36)","v":{"$error":"#VALUE!"}},{"$f":"IF(CA19=\"\",\"\",IF(OR(CA19>(BZ19+6),CA19<(BZ19-6)),\"Tolerance\",\"\"))","v":""},{"$f":"mndot_rounding_0(Grad!$T37)","v":{"$error":"#VALUE!"}},{"$f":"IF(CC19=\"\",\"\",IF(OR(CC19>(CB19+6),CC19<(CB19-6)),\"Tolerance\",\"\"))","v":""},{"$f":"mndot_rounding_0(Grad!$T38)","v":{"$error":"#VALUE!"}},{"$f":"IF(CE19=\"\",\"\",IF(OR(CE19>(CD19+6),CE19<(CD19-6)),\"Tolerance\",\"\"))","v":""},null,"Mov Avg.",{"$f":"IF(MDR!$AL$4=\"YES\",MDR!$BQ$46,MDR!$S40)","v":85},{"$f":"IF(MDR!$AL$4=\"YES\",MDR!$BR$46,MDR!$T40)","v":100},{"$f":"mndot_rounding_0(Grad!$T39)","v":{"$error":"#VALUE!"}},{"$f":"IF(CK19=\"\",\"\",IF(OR(CK19>(CJ19+6),CK19<(CJ19-6)),\"Tolerance\",\"\"))","v":""},{"$f":"mndot_rounding_0(Grad!$T40)","v":{"$error":"#VALUE!"}},{"$f":"IF(CM19=\"\",\"\",IF(OR(CM19>(CL19+6),CM19<(CL19-6)),\"Tolerance\",\"\"))","v":""},{"$f":"mndot_rounding_0(Grad!$T41)","v":{"$error":"#VALUE!"}},{"$f":"IF(CO19=\"\",\"\",IF(OR(CO19>(CN19+6),CO19<(CN19-6)),\"Tolerance\",\"\"))","v":""},{"$f":"mndot_rounding_0(Grad!$T42)","v":{"$error":"#VALUE!"}},{"$f":"IF(CQ19=\"\",\"\",IF(OR(CQ19>(CP19+6),CQ19<(CP19-6)),\"Tolerance\",\"\"))","v":""},null,"Mov Avg.",{"$f":"IF(MDR!$AL$4=\"YES\",MDR!$BQ$46,MDR!$S44)","v":85},{"$f":"IF(MDR!$AL$4=\"YES\",MDR!$BR$46,MDR!$T44)","v":100},{"$f":"mndot_rounding_0(Grad!$T43)","v":{"$error":"#VALUE!"}},{"$f":"IF(CW19=\"\",\"\",IF(OR(CW19>(CV19+6),CW19<(CV19-6)),\"Tolerance\",\"\"))","v":""},{"$f":"mndot_rounding_0(Grad!$T44)","v":{"$error":"#VALUE!"}},{"$f":"IF(CY19=\"\",\"\",IF(OR(CY19>(CX19+6),CY19<(CX19-6)),\"Tolerance\",\"\"))","v":""},{"$f":"mndot_rounding_0(Grad!$T45)","v":{"$error":"#VALUE!"}},{"$f":"IF(DA19=\"\",\"\",IF(OR(DA19>(CZ19+6),DA19<(CZ19-6)),\"Tolerance\",\"\"))","v":""},{"$f":"mndot_rounding_0(Grad!$T46)","v":{"$error":"#VALUE!"}},{"$f":"IF(DC19=\"\",\"\",IF(OR(DC19>(DB19+6),DC19<(DB19-6)),\"Tolerance\",\"\"))","v":""},null,"Mov Avg.",{"$f":"IF(MDR!$AL$4=\"YES\",MDR!$BQ$46,MDR!$S48)","v":85},{"$f":"IF(MDR!$AL$4=\"YES\",MDR!$BR$46,MDR!$T48)","v":100},{"$f":"mndot_rounding_0(Grad!$T47)","v":{"$error":"#VALUE!"}},{"$f":"IF(DI19=\"\",\"\",IF(OR(DI19>(DH19+6),DI19<(DH19-6)),\"Tolerance\",\"\"))","v":""},{"$f":"mndot_rounding_0(Grad!$T48)","v":{"$error":"#VALUE!"}},{"$f":"IF(DK19=\"\",\"\",IF(OR(DK19>(DJ19+6),DK19<(DJ19-6)),\"Tolerance\",\"\"))","v":""},{"$f":"mndot_rounding_0(Grad!$T49)","v":{"$error":"#VALUE!"}},{"$f":"IF(DM19=\"\",\"\",IF(OR(DM19>(DL19+6),DM19<(DL19-6)),\"Tolerance\",\"\"))","v":""},{"$f":"mndot_rounding_0(Grad!$T50)","v":{"$error":"#VALUE!"}},{"$f":"IF(DO19=\"\",\"\",IF(OR(DO19>(DN19+6),DO19<(DN19-6)),\"Tolerance\",\"\"))","v":""},null,"Mov Avg.",{"$f":"IF(MDR!$AL$4=\"YES\",MDR!$BQ$46,MDR!$S52)","v":85},{"$f":"IF(MDR!$AL$4=\"YES\",MDR!$BR$46,MDR!$T52)","v":100},{"$f":"mndot_rounding_0(Grad!$T51)","v":{"$error":"#VALUE!"}},{"$f":"IF(DU19=\"\",\"\",IF(OR(DU19>(DT19+6),DU19<(DT19-6)),\"Tolerance\",\"\"))","v":""},{"$f":"mndot_rounding_0(Grad!$T52)","v":{"$error":"#VALUE!"}},{"$f":"IF(DW19=\"\",\"\",IF(OR(DW19>(DV19+6),DW19<(DV19-6)),\"Tolerance\",\"\"))","v":""},{"$f":"mndot_rounding_0(Grad!$T53)","v":{"$error":"#VALUE!"}},{"$f":"IF(DY19=\"\",\"\",IF(OR(DY19>(DX19+6),DY19<(DX19-6)),\"Tolerance\",\"\"))","v":""},{"$f":"mndot_rounding_0(Grad!$T54)","v":{"$error":"#VALUE!"}},{"$f":"IF(EA19=\"\",\"\",IF(OR(EA19>(DZ19+6),EA19<(DZ19-6)),\"Tolerance\",\"\"))","v":""},null,"Mov Avg.",{"$f":"IF(MDR!$AL$4=\"YES\",MDR!$BQ$46,MDR!$S56)","v":85},{"$f":"IF(MDR!$AL$4=\"YES\",MDR!$BR$46,MDR!$T56)","v":100},{"$f":"mndot_rounding_0(Grad!$T55)","v":{"$error":"#VALUE!"}},{"$f":"IF(EG19=\"\",\"\",IF(OR(EG19>(EF19+6),EG19<(EF19-6)),\"Tolerance\",\"\"))","v":""},{"$f":"mndot_rounding_0(Grad!$T56)","v":{"$error":"#VALUE!"}},{"$f":"IF(EI19=\"\",\"\",IF(OR(EI19>(EH19+6),EI19<(EH19-6)),\"Tolerance\",\"\"))","v":""},{"$f":"mndot_rounding_0(Grad!$T57)","v":{"$error":"#VALUE!"}},{"$f":"IF(EK19=\"\",\"\",IF(OR(EK19>(EJ19+6),EK19<(EJ19-6)),\"Tolerance\",\"\"))","v":""},{"$f":"mndot_rounding_0(Grad!$T58)","v":{"$error":"#VALUE!"}},{"$f":"IF(EM19=\"\",\"\",IF(OR(EM19>(EL19+6),EM19<(EL19-6)),\"Tolerance\",\"\"))","v":""},null,"Mov Avg.",{"$f":"IF(MDR!$AL$4=\"YES\",MDR!$BQ$46,MDR!$S60)","v":85},{"$f":"IF(MDR!$AL$4=\"YES\",MDR!$BR$46,MDR!$T60)","v":100},{"$f":"mndot_rounding_0(Grad!$T59)","v":{"$error":"#VALUE!"}},{"$f":"IF(ES19=\"\",\"\",IF(OR(ES19>(ER19+6),ES19<(ER19-6)),\"Tolerance\",\"\"))","v":""},{"$f":"mndot_rounding_0(Grad!$T60)","v":{"$error":"#VALUE!"}},{"$f":"IF(EU19=\"\",\"\",IF(OR(EU19>(ET19+6),EU19<(ET19-6)),\"Tolerance\",\"\"))","v":""},{"$f":"mndot_rounding_0(Grad!$T61)","v":{"$error":"#VALUE!"}},{"$f":"IF(EW19=\"\",\"\",IF(OR(EW19>(EV19+6),EW19<(EV19-6)),\"Tolerance\",\"\"))","v":""},{"$f":"mndot_rounding_0(Grad!$T62)","v":{"$error":"#VALUE!"}},{"$f":"IF(EY19=\"\",\"\",IF(OR(EY19>(EX19+6),EY19<(EX19-6)),\"Tolerance\",\"\"))","v":""},null,"Mov Avg.",{"$f":"IF(MDR!$AL$4=\"YES\",MDR!$BQ$46,MDR!$S64)","v":85},{"$f":"IF(MDR!$AL$4=\"YES\",MDR!$BR$46,MDR!$T64)","v":100},{"$f":"mndot_rounding_0(Grad!$T63)","v":{"$error":"#VALUE!"}},{"$f":"IF(FE19=\"\",\"\",IF(OR(FE19>(FD19+6),FE19<(FD19-6)),\"Tolerance\",\"\"))","v":""},{"$f":"mndot_rounding_0(Grad!$T64)","v":{"$error":"#VALUE!"}},{"$f":"IF(FG19=\"\",\"\",IF(OR(FG19>(FF19+6),FG19<(FF19-6)),\"Tolerance\",\"\"))","v":""},{"$f":"mndot_rounding_0(Grad!$T65)","v":{"$error":"#VALUE!"}},{"$f":"IF(FI19=\"\",\"\",IF(OR(FI19>(FH19+6),FI19<(FH19-6)),\"Tolerance\",\"\"))","v":""},{"$f":"mndot_rounding_0(Grad!$T66)","v":{"$error":"#VALUE!"}},{"$f":"IF(FK19=\"\",\"\",IF(OR(FK19>(FJ19+6),FK19<(FJ19-6)),\"Tolerance\",\"\"))","v":""},null,"Mov Avg.",{"$f":"IF(MDR!$AL$4=\"YES\",MDR!$BQ$46,MDR!$S68)","v":85},{"$f":"IF(MDR!$AL$4=\"YES\",MDR!$BR$46,MDR!$T68)","v":100},{"$f":"mndot_rounding_0(Grad!$T67)","v":{"$error":"#VALUE!"}},{"$f":"IF(FQ19=\"\",\"\",IF(OR(FQ19>(FP19+6),FQ19<(FP19-6)),\"Tolerance\",\"\"))","v":""},{"$f":"mndot_rounding_0(Grad!$T68)","v":{"$error":"#VALUE!"}},{"$f":"IF(FS19=\"\",\"\",IF(OR(FS19>(FR19+6),FS19<(FR19-6)),\"Tolerance\",\"\"))","v":""},{"$f":"mndot_rounding_0(Grad!$T69)","v":{"$error":"#VALUE!"}},{"$f":"IF(FU19=\"\",\"\",IF(OR(FU19>(FT19+6),FU19<(FT19-6)),\"Tolerance\",\"\"))","v":""},{"$f":"mndot_rounding_0(Grad!$T70)","v":{"$error":"#VALUE!"}},{"$f":"IF(FW19=\"\",\"\",IF(OR(FW19>(FV19+6),FW19<(FV19-6)),\"Tolerance\",\"\"))","v":""},null,"Mov Avg.",{"$f":"IF(MDR!$AL$4=\"YES\",MDR!$BQ$46,MDR!$S72)","v":85},{"$f":"IF(MDR!$AL$4=\"YES\",MDR!$BR$46,MDR!$T72)","v":100},{"$f":"mndot_rounding_0(Grad!$T71)","v":{"$error":"#VALUE!"}},{"$f":"IF(GC19=\"\",\"\",IF(OR(GC19>(GB19+6),GC19<(GB19-6)),\"Tolerance\",\"\"))","v":""},{"$f":"mndot_rounding_0(Grad!$T72)","v":{"$error":"#VALUE!"}},{"$f":"IF(GE19=\"\",\"\",IF(OR(GE19>(GD19+6),GE19<(GD19-6)),\"Tolerance\",\"\"))","v":""},{"$f":"mndot_rounding_0(Grad!$T73)","v":{"$error":"#VALUE!"}},{"$f":"IF(GG19=\"\",\"\",IF(OR(GG19>(GF19+6),GG19<(GF19-6)),\"Tolerance\",\"\"))","v":""},{"$f":"mndot_rounding_0(Grad!$T74)","v":{"$error":"#VALUE!"}},{"$f":"IF(GI19=\"\",\"\",IF(OR(GI19>(GH19+6),GI19<(GH19-6)),\"Tolerance\",\"\"))","v":""},null,"Mov Avg.",{"$f":"IF(MDR!$AL$4=\"YES\",MDR!$BQ$46,MDR!$S76)","v":85},{"$f":"IF(MDR!$AL$4=\"YES\",MDR!$BR$46,MDR!$T76)","v":100},{"$f":"mndot_rounding_0(Grad!$T75)","v":{"$error":"#VALUE!"}},{"$f":"IF(GO19=\"\",\"\",IF(OR(GO19>(GN19+6),GO19<(GN19-6)),\"Tolerance\",\"\"))","v":""},{"$f":"mndot_rounding_0(Grad!$T76)","v":{"$error":"#VALUE!"}},{"$f":"IF(GQ19=\"\",\"\",IF(OR(GQ19>(GP19+6),GQ19<(GP19-6)),\"Tolerance\",\"\"))","v":""},{"$f":"mndot_rounding_0(Grad!$T77)","v":{"$error":"#VALUE!"}},{"$f":"IF(GS19=\"\",\"\",IF(OR(GS19>(GR19+6),GS19<(GR19-6)),\"Tolerance\",\"\"))","v":""},{"$f":"mndot_rounding_0(Grad!$T78)","v":{"$error":"#VALUE!"}},{"$f":"IF(GU19=\"\",\"\",IF(OR(GU19>(GT19+6),GU19<(GT19-6)),\"Tolerance\",\"\"))","v":""},null,"Mov Avg.",{"$f":"IF(MDR!$AL$4=\"YES\",MDR!$BQ$46,MDR!$S80)","v":85},{"$f":"IF(MDR!$AL$4=\"YES\",MDR!$BR$46,MDR!$T80)","v":100},{"$f":"mndot_rounding_0(Grad!$T79)","v":{"$error":"#VALUE!"}},{"$f":"IF(HA19=\"\",\"\",IF(OR(HA19>(GZ19+6),HA19<(GZ19-6)),\"Tolerance\",\"\"))","v":""},{"$f":"mndot_rounding_0(Grad!$T80)","v":{"$error":"#VALUE!"}},{"$f":"IF(HC19=\"\",\"\",IF(OR(HC19>(HB19+6),HC19<(HB19-6)),\"Tolerance\",\"\"))","v":""},{"$f":"mndot_rounding_0(Grad!$T81)","v":{"$error":"#VALUE!"}},{"$f":"IF(HE19=\"\",\"\",IF(OR(HE19>(HD19+6),HE19<(HD19-6)),\"Tolerance\",\"\"))","v":""},{"$f":"mndot_rounding_0(Grad!$T82)","v":{"$error":"#VALUE!"}},{"$f":"IF(HG19=\"\",\"\",IF(OR(HG19>(HF19+6),HG19<(HF19-6)),\"Tolerance\",\"\"))","v":""},null,"Mov Avg.",{"$f":"IF(MDR!$AL$4=\"YES\",MDR!$BQ$46,MDR!$S84)","v":85},{"$f":"IF(MDR!$AL$4=\"YES\",MDR!$BR$46,MDR!$T84)","v":100},{"$f":"mndot_rounding_0(Grad!$T83)","v":{"$error":"#VALUE!"}},{"$f":"IF(HM19=\"\",\"\",IF(OR(HM19>(HL19+6),HM19<(HL19-6)),\"Tolerance\",\"\"))","v":""},{"$f":"mndot_rounding_0(Grad!$T84)","v":{"$error":"#VALUE!"}},{"$f":"IF(HO19=\"\",\"\",IF(OR(HO19>(HN19+6),HO19<(HN19-6)),\"Tolerance\",\"\"))","v":""},{"$f":"mndot_rounding_0(Grad!$T85)","v":{"$error":"#VALUE!"}},{"$f":"IF(HQ19=\"\",\"\",IF(OR(HQ19>(HP19+6),HQ19<(HP19-6)),\"Tolerance\",\"\"))","v":""},{"$f":"mndot_rounding_0(Grad!$T86)","v":{"$error":"#VALUE!"}},{"$f":"IF(HS19=\"\",\"\",IF(OR(HS19>(HR19+6),HS19<(HR19-6)),\"Tolerance\",\"\"))","v":""},null,"Mov Avg.",{"$f":"IF(MDR!$AL$4=\"YES\",MDR!$BQ$46,MDR!$S88)","v":85},{"$f":"IF(MDR!$AL$4=\"YES\",MDR!$BR$46,MDR!$T88)","v":100},{"$f":"mndot_rounding_0(Grad!$T87)","v":{"$error":"#VALUE!"}},{"$f":"IF(HY19=\"\",\"\",IF(OR(HY19>(HX19+6),HY19<(HX19-6)),\"Tolerance\",\"\"))","v":""},{"$f":"mndot_rounding_0(Grad!$T88)","v":{"$error":"#VALUE!"}},{"$f":"IF(IA19=\"\",\"\",IF(OR(IA19>(HZ19+6),IA19<(HZ19-6)),\"Tolerance\",\"\"))","v":""},{"$f":"mndot_rounding_0(Grad!$T89)","v":{"$error":"#VALUE!"}},{"$f":"IF(IC19=\"\",\"\",IF(OR(IC19>(IB19+6),IC19<(IB19-6)),\"Tolerance\",\"\"))","v":""},{"$f":"mndot_rounding_0(Grad!$T90)","v":{"$error":"#VALUE!"}},{"$f":"IF(IE19=\"\",\"\",IF(OR(IE19>(ID19+6),IE19<(ID19-6)),\"Tolerance\",\"\"))","v":""},null,"Mov Avg.",{"$f":"IF(MDR!$AL$4=\"YES\",MDR!$BQ$46,MDR!$S92)","v":85},{"$f":"IF(MDR!$AL$4=\"YES\",MDR!$BR$46,MDR!$T92)","v":100},{"$f":"mndot_rounding_0(Grad!$T91)","v":{"$error":"#VALUE!"}},{"$f":"IF(IK19=\"\",\"\",IF(OR(IK19>(IJ19+6),IK19<(IJ19-6)),\"Tolerance\",\"\"))","v":""},{"$f":"mndot_rounding_0(Grad!$T92)","v":{"$error":"#VALUE!"}},{"$f":"IF(IM19=\"\",\"\",IF(OR(IM19>(IL19+6),IM19<(IL19-6)),\"Tolerance\",\"\"))","v":""},{"$f":"mndot_rounding_0(Grad!$T93)","v":{"$error":"#VALUE!"}},{"$f":"IF(IO19=\"\",\"\",IF(OR(IO19>(IN19+6),IO19<(IN19-6)),\"Tolerance\",\"\"))","v":""},{"$f":"mndot_rounding_0(Grad!$T94)","v":{"$error":"#VALUE!"}},{"$f":"IF(IQ19=\"\",\"\",IF(OR(IQ19>(IP19+6),IQ19<(IP19-6)),\"Tolerance\",\"\"))","v":""},null,null,0,"Agency AFT Substituted"]
["1/2\" Calc. %",null,null,{"$f":"IF(D19=\"\",\"\",IF(E19=\"\",D19,IF(OR(E19>(D19+6),E19<(D19-6)),E19,D19)))","v":""},{"$f":"IF(E19=\"\",\"\",IF(OR(E19>(D19+6),E19<(D19-6)),\"Agncy Repl.\",\"\"))","v":""},{"$f":"IF(F19=\"\",\"\",IF(G19=\"\",F19,IF(OR(G19>(F19+6),G19<(F19-6)),G19,F19)))","v":""},{"$f":"IF(G19=\"\",\"\",IF(OR(G19>(F19+6),G19<(F19-6)),\"Agncy Repl.\",\"\"))","v":""},{"$f":"IF(H19=\"\",\"\",IF(I19=\"\",H19,IF(OR(I19>(H19+6),I19<(H19-6)),I19,H19)))","v":""},{"$f":"IF(I19=\"\",\"\",IF(OR(I19>(H19+6),I19<(H19-6)),\"Agncy Repl.\",\"\"))","v":""},{"$f":"IF(J19=\"\",\"\",IF(K19=\"\",J19,IF(OR(K19>(J19+6),K19<(J19-6)),K19,J19)))","v":""},{"$f":"IF(K19=\"\",\"\",IF(OR(K19>(J19+6),K19<(J19-6)),\"Agncy Repl.\",\"\"))","v":""},null,"Calc. %",null,null,{"$f":"IF(P19=\"\",\"\",IF(Q19=\"\",P19,IF(OR(Q19>(P19+6),Q19<(P19-6)),Q19,P19)))","v":""},{"$f":"IF(Q19=\"\",\"\",IF(OR(Q19>(P19+6),Q19<(P19-6)),\"Agncy Repl.\",\"\"))","v":""},{"$f":"IF(R19=\"\",\"\",IF(S19=\"\",R19,IF(OR(S19>(R19+6),S19<(R19-6)),S19,R19)))","v":""},{"$f":"IF(S19=\"\",\"\",IF(OR(S19>(R19+6),S19<(R19-6)),\"Agncy Repl.\",\"\"))","v":""},{"$f":"IF(T19=\"\",\"\",IF(U19=\"\",T19,IF(OR(U19>(T19+6),U19<(T19-6)),U19,T19)))","v":""},{"$f":"IF(U19=\"\",\"\",IF(OR(U19>(T19+6),U19<(T19-6)),\"Agncy Repl.\",\"\"))","v":""},{"$f":"IF(V19=\"\",\"\",IF(W19=\"\",V19,IF(OR(W19>(V19+6),W19<(V19-6)),W19,V19)))","v":""},{"$f":"IF(W19=\"\",\"\",IF(OR(W19>(V19+6),W19<(V19-6)),\"Agncy Repl.\",\"\"))","v":""},null,"Calc. %",null,null,{"$f":"IF(AB19=\"\",\"\",IF(AC19=\"\",AB19,IF(OR(AC19>(AB19+6),AC19<(AB19-6)),AC19,AB19)))","v":""},{"$f":"IF(AC19=\"\",\"\",IF(OR(AC19>(AB19+6),AC19<(AB19-6)),\"Agncy Repl.\",\"\"))","v":""},{"$f":"IF(AD19=\"\",\"\",IF(AE19=\"\",AD19,IF(OR(AE19>(AD19+6),AE19<(AD19-6)),AE19,AD19)))","v":""},{"$f":"IF(AE19=\"\",\"\",IF(OR(AE19>(AD19+6),AE19<(AD19-6)),\"Agncy Repl.\",\"\"))","v":""},{"$f":"IF(AF19=\"\",\"\",IF(AG19=\"\",AF19,IF(OR(AG19>(AF19+6),AG19<(AF19-6)),AG19,AF19)))","v":""},{"$f":"IF(AG19=\"\",\"\",IF(OR(AG19>(AF19+6),AG19<(AF19-6)),\"Agncy Repl.\",\"\"))","v":""},{"$f":"IF(AH19=\"\",\"\",IF(AI19=\"\",AH19,IF(OR(AI19>(AH19+6),AI19<(AH19-6)),AI19,AH19)))","v":""},{"$f":"IF(AI19=\"\",\"\",IF(OR(AI19>(AH19+6),AI19<(AH19-6)),\"Agncy Repl.\",\"\"))","v":""},null,"Calc. %",null,null,{"$f":"IF(AN19=\"\",\"\",IF(AO19=\"\",AN19,IF(OR(AO19>(AN19+6),AO19<(AN19-6)),AO19,AN19)))","v":""},{"$f":"IF(AO19=\"\",\"\",IF(OR(AO19>(AN19+6),AO19<(AN19-6)),\"Agncy Repl.\",\"\"))","v":""},{"$f":"IF(AP19=\"\",\"\",IF(AQ19=\"\",AP19,IF(OR(AQ19>(AP19+6),AQ19<(AP19-6)),AQ19,AP19)))","v":""},{"$f":"IF(AQ19=\"\",\"\",IF(OR(AQ19>(AP19+6),AQ19<(AP19-6)),\"Agncy Repl.\",\"\"))","v":""},{"$f":"IF(AR19=\"\",\"\",IF(AS19=\"\",AR19,IF(OR(AS19>(AR19+6),AS19<(AR19-6)),AS19,AR19)))","v":""},{"$f":"IF(AS19=\"\",\"\",IF(OR(AS19>(AR19+6),AS19<(AR19-6)),\"Agncy Repl.\",\"\"))","v":""},{"$f":"IF(AT19=\"\",\"\",IF(AU19=\"\",AT19,IF(OR(AU19>(AT19+6),AU19<(AT19-6)),AU19,AT19)))","v":""},{"$f":"IF(AU19=\"\",\"\",IF(OR(AU19>(AT19+6),AU19<(AT19-6)),\"Agncy Repl.\",\"\"))","v":""},null,"Calc. %",null,null,{"$f":"IF(AZ19=\"\",\"\",IF(BA19=\"\",AZ19,IF(OR(BA19>(AZ19+6),BA19<(AZ19-6)),BA19,AZ19)))","v":""},{"$f":"IF(BA19=\"\",\"\",IF(OR(BA19>(AZ19+6),BA19<(AZ19-6)),\"Agncy Repl.\",\"\"))","v":""},{"$f":"IF(BB19=\"\",\"\",IF(BC19=\"\",BB19,IF(OR(BC19>(BB19+6),BC19<(BB19-6)),BC19,BB19)))","v":""},{"$f":"IF(BC19=\"\",\"\",IF(OR(BC19>(BB19+6),BC19<(BB19-6)),\"Agncy Repl.\",\"\"))","v":""},{"$f":"IF(BD19=\"\",\"\",IF(BE19=\"\",BD19,IF(OR(BE19>(BD19+6),BE19<(BD19-6)),BE19,BD19)))","v":""},{"$f":"IF(BE19=\"\",\"\",IF(OR(BE19>(BD19+6),BE19<(BD19-6)),\"Agncy Repl.\",\"\"))","v":""},{"$f":"IF(BF19=\"\",\"\",IF(BG19=\"\",BF19,IF(OR(BG19>(BF19+6),BG19<(BF19-6)),BG19,BF19)))","v":""},{"$f":"IF(BG19=\"\",\"\",IF(OR(BG19>(BF19+6),BG19<(BF19-6)),\"Agncy Repl.\",\"\"))","v":""},null,"Calc. %",null,null,{"$f":"IF(BL19=\"\",\"\",IF(BM19=\"\",BL19,IF(OR(BM19>(BL19+6),BM19<(BL19-6)),BM19,BL19)))","v":""},{"$f":"IF(BM19=\"\",\"\",IF(OR(BM19>(BL19+6),BM19<(BL19-6)),\"Agncy Repl.\",\"\"))","v":""},{"$f":"IF(BN19=\"\",\"\",IF(BO19=\"\",BN19,IF(OR(BO19>(BN19+6),BO19<(BN19-6)),BO19,BN19)))","v":""},{"$f":"IF(BO19=\"\",\"\",IF(OR(BO19>(BN19+6),BO19<(BN19-6)),\"Agncy Repl.\",\"\"))","v":""},{"$f":"IF(BP19=\"\",\"\",IF(BQ19=\"\",BP19,IF(OR(BQ19>(BP19+6),BQ19<(BP19-6)),BQ19,BP19)))","v":""},{"$f":"IF(BQ19=\"\",\"\",IF(OR(BQ19>(BP19+6),BQ19<(BP19-6)),\"Agncy Repl.\",\"\"))","v":""},{"$f":"IF(BR19=\"\",\"\",IF(BS19=\"\",BR19,IF(OR(BS19>(BR19+6),BS19<(BR19-6)),BS19,BR19)))","v":""},{"$f":"IF(BS19=\"\",\"\",IF(OR(BS19>(BR19+6),BS19<(BR19-6)),\"Agncy Repl.\",\"\"))","v":""},null,"Calc. %",null,null,{"$f":"IF(BX19=\"\",\"\",IF(BY19=\"\",BX19,IF(OR(BY19>(BX19+6),BY19<(BX19-6)),BY19,BX19)))","v":""},{"$f":"IF(BY19=\"\",\"\",IF(OR(BY19>(BX19+6),BY19<(BX19-6)),\"Agncy Repl.\",\"\"))","v":""},{"$f":"IF(BZ19=\"\",\"\",IF(CA19=\"\",BZ19,IF(OR(CA19>(BZ19+6),CA19<(BZ19-6)),CA19,BZ19)))","v":""},{"$f":"IF(CA19=\"\",\"\",IF(OR(CA19>(BZ19+6),CA19<(BZ19-6)),\"Agncy Repl.\",\"\"))","v":""},{"$f":"IF(CB19=\"\",\"\",IF(CC19=\"\",CB19,IF(OR(CC19>(CB19+6),CC19<(CB19-6)),CC19,CB19)))","v":""},{"$f":"IF(CC19=\"\",\"\",IF(OR(CC19>(CB19+6),CC19<(CB19-6)),\"Agncy Repl.\",\"\"))","v":""},{"$f":"IF(CD19=\"\",\"\",IF(CE19=\"\",CD19,IF(OR(CE19>(CD19+6),CE19<(CD19-6)),CE19,CD19)))","v":""},{"$f":"IF(CE19=\"\",\"\",IF(OR(CE19>(CD19+6),CE19<(CD19-6)),\"Agncy Repl.\",\"\"))","v":""},null,"Calc. %",null,null,{"$f":"IF(CJ19=\"\",\"\",IF(CK19=\"\",CJ19,IF(OR(CK19>(CJ19+6),CK19<(CJ19-6)),CK19,CJ19)))","v":""},{"$f":"IF(CK19=\"\",\"\",IF(OR(CK19>(CJ19+6),CK19<(CJ19-6)),\"Agncy Repl.\",\"\"))","v":""},{"$f":"IF(CL19=\"\",\"\",IF(CM19=\"\",CL19,IF(OR(CM19>(CL19+6),CM19<(CL19-6)),CM19,CL19)))","v":""},{"$f":"IF(CM19=\"\",\"\",IF(OR(CM19>(CL19+6),CM19<(CL19-6)),\"Agncy Repl.\",\"\"))","v":""},{"$f":"IF(CN19=\"\",\"\",IF(CO19=\"\",CN19,IF(OR(CO19>(CN19+6),CO19<(CN19-6)),CO19,CN19)))","v":""},{"$f":"IF(CO19=\"\",\"\",IF(OR(CO19>(CN19+6),CO19<(CN19-6)),\"Agncy Repl.\",\"\"))","v":""},{"$f":"IF(CP19=\"\",\"\",IF(CQ19=\"\",CP19,IF(OR(CQ19>(CP19+6),CQ19<(CP19-6)),CQ19,CP19)))","v":""},{"$f":"IF(CQ19=\"\",\"\",IF(OR(CQ19>(CP19+6),CQ19<(CP19-6)),\"Agncy Repl.\",\"\"))","v":""},null,"Calc. %",null,null,{"$f":"IF(CV19=\"\",\"\",IF(CW19=\"\",CV19,IF(OR(CW19>(CV19+6),CW19<(CV19-6)),CW19,CV19)))","v":""},{"$f":"IF(CW19=\"\",\"\",IF(OR(CW19>(CV19+6),CW19<(CV19-6)),\"Agncy Repl.\",\"\"))","v":""},{"$f":"IF(CX19=\"\",\"\",IF(CY19=\"\",CX19,IF(OR(CY19>(CX19+6),CY19<(CX19-6)),CY19,CX19)))","v":""},{"$f":"IF(CY19=\"\",\"\",IF(OR(CY19>(CX19+6),CY19<(CX19-6)),\"Agncy Repl.\",\"\"))","v":""},{"$f":"IF(CZ19=\"\",\"\",IF(DA19=\"\",CZ19,IF(OR(DA19>(CZ19+6),DA19<(CZ19-6)),DA19,CZ19)))","v":""},{"$f":"IF(DA19=\"\",\"\",IF(OR(DA19>(CZ19+6),DA19<(CZ19-6)),\"Agncy Repl.\",\"\"))","v":""},{"$f":"IF(DB19=\"\",\"\",IF(DC19=\"\",DB19,IF(OR(DC19>(DB19+6),DC19<(DB19-6)),DC19,DB19)))","v":""},{"$f":"IF(DC19=\"\",\"\",IF(OR(DC19>(DB19+6),DC19<(DB19-6)),\"Agncy Repl.\",\"\"))","v":""},null,"Calc. %",null,null,{"$f":"IF(DH19=\"\",\"\",IF(DI19=\"\",DH19,IF(OR(DI19>(DH19+6),DI19<(DH19-6)),DI19,DH19)))","v":""},{"$f":"IF(DI19=\"\",\"\",IF(OR(DI19>(DH19+6),DI19<(DH19-6)),\"Agncy Repl.\",\"\"))","v":""},{"$f":"IF(DJ19=\"\",\"\",IF(DK19=\"\",DJ19,IF(OR(DK19>(DJ19+6),DK19<(DJ19-6)),DK19,DJ19)))","v":""},{"$f":"IF(DK19=\"\",\"\",IF(OR(DK19>(DJ19+6),DK19<(DJ19-6)),\"Agncy Repl.\",\"\"))","v":""},{"$f":"IF(DL19=\"\",\"\",IF(DM19=\"\",DL19,IF(OR(DM19>(DL19+6),DM19<(DL19-6)),DM19,DL19)))","v":""},{"$f":"IF(DM19=\"\",\"\",IF(OR(DM19>(DL19+6),DM19<(DL19-6)),\"Agncy Repl.\",\"\"))","v":""},{"$f":"IF(DN19=\"\",\"\",IF(DO19=\"\",DN19,IF(OR(DO19>(DN19+6),DO19<(DN19-6)),DO19,DN19)))","v":""},{"$f":"IF(DO19=\"\",\"\",IF(OR(DO19>(DN19+6),DO19<(DN19-6)),\"Agncy Repl.\",\"\"))","v":""},{"$f":"IF(DP19=\"\",\"\",IF(OR(DP19>(DO19+6),DP19<(DO19-6)),\"Agncy Repl.\",\"\"))","v":""},"Calc. %",null,null,{"$f":"IF(DT19=\"\",\"\",IF(DU19=\"\",DT19,IF(OR(DU19>(DT19+6),DU19<(DT19-6)),DU19,DT19)))","v":""},{"$f":"IF(DU19=\"\",\"\",IF(OR(DU19>(DT19+6),DU19<(DT19-6)),\"Agncy Repl.\",\"\"))","v":""},{"$f":"IF(DV19=\"\",\"\",IF(DW19=\"\",DV19,IF(OR(DW19>(DV19+6),DW19<(DV19-6)),DW19,DV19)))","v":""},{"$f":"IF(DW19=\"\",\"\",IF(OR(DW19>(DV19+6),DW19<(DV19-6)),\"Agncy Repl.\",\"\"))","v":""},{"$f":"IF(DX19=\"\",\"\",IF(DY19=\"\",DX19,IF(OR(DY19>(DX19+6),DY19<(DX19-6)),DY19,DX19)))","v":""},{"$f":"IF(DY19=\"\",\"\",IF(OR(DY19>(DX19+6),DY19<(DX19-6)),\"Agncy Repl.\",\"\"))","v":""},{"$f":"IF(DZ19=\"\",\"\",IF(EA19=\"\",DZ19,IF(OR(EA19>(DZ19+6),EA19<(DZ19-6)),EA19,DZ19)))","v":""},{"$f":"IF(EA19=\"\",\"\",IF(OR(EA19>(DZ19+6),EA19<(DZ19-6)),\"Agncy Repl.\",\"\"))","v":""},null,"Calc. %",null,null,{"$f":"IF(EF19=\"\",\"\",IF(EG19=\"\",EF19,IF(OR(EG19>(EF19+6),EG19<(EF19-6)),EG19,EF19)))","v":""},{"$f":"IF(EG19=\"\",\"\",IF(OR(EG19>(EF19+6),EG19<(EF19-6)),\"Agncy Repl.\",\"\"))","v":""},{"$f":"IF(EH19=\"\",\"\",IF(EI19=\"\",EH19,IF(OR(EI19>(EH19+6),EI19<(EH19-6)),EI19,EH19)))","v":""},{"$f":"IF(EI19=\"\",\"\",IF(OR(EI19>(EH19+6),EI19<(EH19-6)),\"Agncy Repl.\",\"\"))","v":""},{"$f":"IF(EJ19=\"\",\"\",IF(EK19=\"\",EJ19,IF(OR(EK19>(EJ19+6),EK19<(EJ19-6)),EK19,EJ19)))","v":""},{"$f":"IF(EK19=\"\",\"\",IF(OR(EK19>(EJ19+6),EK19<(EJ19-6)),\"Agncy Repl.\",\"\"))","v":""},{"$f":"IF(EL19=\"\",\"\",IF(EM19=\"\",EL19,IF(OR(EM19>(EL19+6),EM19<(EL19-6)),EM19,EL19)))","v":""},{"$f":"IF(EM19=\"\",\"\",IF(OR(EM19>(EL19+6),EM19<(EL19-6)),\"Agncy Repl.\",\"\"))","v":""},null,"Calc. %",null,null,{"$f":"IF(ER19=\"\",\"\",IF(ES19=\"\",ER19,IF(OR(ES19>(ER19+6),ES19<(ER19-6)),ES19,ER19)))","v":""},{"$f":"IF(ES19=\"\",\"\",IF(OR(ES19>(ER19+6),ES19<(ER19-6)),\"Agncy Repl.\",\"\"))","v":""},{"$f":"IF(ET19=\"\",\"\",IF(EU19=\"\",ET19,IF(OR(EU19>(ET19+6),EU19<(ET19-6)),EU19,ET19)))","v":""},{"$f":"IF(EU19=\"\",\"\",IF(OR(EU19>(ET19+6),EU19<(ET19-6)),\"Agncy Repl.\",\"\"))","v":""},{"$f":"IF(EV19=\"\",\"\",IF(EW19=\"\",EV19,IF(OR(EW19>(EV19+6),EW19<(EV19-6)),EW19,EV19)))","v":""},{"$f":"IF(EW19=\"\",\"\",IF(OR(EW19>(EV19+6),EW19<(EV19-6)),\"Agncy Repl.\",\"\"))","v":""},{"$f":"IF(EX19=\"\",\"\",IF(EY19=\"\",EX19,IF(OR(EY19>(EX19+6),EY19<(EX19-6)),EY19,EX19)))","v":""},{"$f":"IF(EY19=\"\",\"\",IF(OR(EY19>(EX19+6),EY19<(EX19-6)),\"Agncy Repl.\",\"\"))","v":""},null,"Calc. %",null,null,{"$f":"IF(FD19=\"\",\"\",IF(FE19=\"\",FD19,IF(OR(FE19>(FD19+6),FE19<(FD19-6)),FE19,FD19)))","v":""},{"$f":"IF(FE19=\"\",\"\",IF(OR(FE19>(FD19+6),FE19<(FD19-6)),\"Agncy Repl.\",\"\"))","v":""},{"$f":"IF(FF19=\"\",\"\",IF(FG19=\"\",FF19,IF(OR(FG19>(FF19+6),FG19<(FF19-6)),FG19,FF19)))","v":""},{"$f":"IF(FG19=\"\",\"\",IF(OR(FG19>(FF19+6),FG19<(FF19-6)),\"Agncy Repl.\",\"\"))","v":""},{"$f":"IF(FH19=\"\",\"\",IF(FI19=\"\",FH19,IF(OR(FI19>(FH19+6),FI19<(FH19-6)),FI19,FH19)))","v":""},{"$f":"IF(FI19=\"\",\"\",IF(OR(FI19>(FH19+6),FI19<(FH19-6)),\"Agncy Repl.\",\"\"))","v":""},{"$f":"IF(FJ19=\"\",\"\",IF(FK19=\"\",FJ19,IF(OR(FK19>(FJ19+6),FK19<(FJ19-6)),FK19,FJ19)))","v":""},{"$f":"IF(FK19=\"\",\"\",IF(OR(FK19>(FJ19+6),FK19<(FJ19-6)),\"Agncy Repl.\",\"\"))","v":""},null,"Calc. %",null,null,{"$f":"IF(FP19=\"\",\"\",IF(FQ19=\"\",FP19,IF(OR(FQ19>(FP19+6),FQ19<(FP19-6)),FQ19,FP19)))","v":""},{"$f":"IF(FQ19=\"\",\"\",IF(OR(FQ19>(FP19+6),FQ19<(FP19-6)),\"Agncy Repl.\",\"\"))","v":""},{"$f":"IF(FR19=\"\",\"\",IF(FS19=\"\",FR19,IF(OR(FS19>(FR19+6),FS19<(FR19-6)),FS19,FR19)))","v":""},{"$f":"IF(FS19=\"\",\"\",IF(OR(FS19>(FR19+6),FS19<(FR19-6)),\"Agncy Repl.\",\"\"))","v":""},{"$f":"IF(FT19=\"\",\"\",IF(FU19=\"\",FT19,IF(OR(FU19>(FT19+6),FU19<(FT19-6)),FU19,FT19)))","v":""},{"$f":"IF(FU19=\"\",\"\",IF(OR(FU19>(FT19+6),FU19<(FT19-6)),\"Agncy Repl.\",\"\"))","v":""},{"$f":"IF(FV19=\"\",\"\",IF(FW19=\"\",FV19,IF(OR(FW19>(FV19+6),FW19<(FV19-6)),FW19,FV19)))","v":""},{"$f":"IF(FW19=\"\",\"\",IF(OR(FW19>(FV19+6),FW19<(FV19-6)),\"Agncy Repl.\",\"\"))","v":""},null,"Calc. %",null,null,{"$f":"IF(GB19=\"\",\"\",IF(GC19=\"\",GB19,IF(OR(GC19>(GB19+6),GC19<(GB19-6)),GC19,GB19)))","v":""},{"$f":"IF(GC19=\"\",\"\",IF(OR(GC19>(GB19+6),GC19<(GB19-6)),\"Agncy Repl.\",\"\"))","v":""},{"$f":"IF(GD19=\"\",\"\",IF(GE19=\"\",GD19,IF(OR(GE19>(GD19+6),GE19<(GD19-6)),GE19,GD19)))","v":""},{"$f":"IF(GE19=\"\",\"\",IF(OR(GE19>(GD19+6),GE19<(GD19-6)),\"Agncy Repl.\",\"\"))","v":""},{"$f":"IF(GF19=\"\",\"\",IF(GG19=\"\",GF19,IF(OR(GG19>(GF19+6),GG19<(GF19-6)),GG19,GF19)))","v":""},{"$f":"IF(GG19=\"\",\"\",IF(OR(GG19>(GF19+6),GG19<(GF19-6)),\"Agncy Repl.\",\"\"))","v":""},{"$f":"IF(GH19=\"\",\"\",IF(GI19=\"\",GH19,IF(OR(GI19>(GH19+6),GI19<(GH19-6)),GI19,GH19)))","v":""},{"$f":"IF(GI19=\"\",\"\",IF(OR(GI19>(GH19+6),GI19<(GH19-6)),\"Agncy Repl.\",\"\"))","v":""},null,"Calc. %",null,null,{"$f":"IF(GN19=\"\",\"\",IF(GO19=\"\",GN19,IF(OR(GO19>(GN19+6),GO19<(GN19-6)),GO19,GN19)))","v":""},{"$f":"IF(GO19=\"\",\"\",IF(OR(GO19>(GN19+6),GO19<(GN19-6)),\"Agncy Repl.\",\"\"))","v":""},{"$f":"IF(GP19=\"\",\"\",IF(GQ19=\"\",GP19,IF(OR(GQ19>(GP19+6),GQ19<(GP19-6)),GQ19,GP19)))","v":""},{"$f":"IF(GQ19=\"\",\"\",IF(OR(GQ19>(GP19+6),GQ19<(GP19-6)),\"Agncy Repl.\",\"\"))","v":""},{"$f":"IF(GR19=\"\",\"\",IF(GS19=\"\",GR19,IF(OR(GS19>(GR19+6),GS19<(GR19-6)),GS19,GR19)))","v":""},{"$f":"IF(GS19=\"\",\"\",IF(OR(GS19>(GR19+6),GS19<(GR19-6)),\"Agncy Repl.\",\"\"))","v":""},{"$f":"IF(GT19=\"\",\"\",IF(GU19=\"\",GT19,IF(OR(GU19>(GT19+6),GU19<(GT19-6)),GU19,GT19)))","v":""},{"$f":"IF(GU19=\"\",\"\",IF(OR(GU19>(GT19+6),GU19<(GT19-6)),\"Agncy Repl.\",\"\"))","v":""},null,"Calc. %",null,null,{"$f":"IF(GZ19=\"\",\"\",IF(HA19=\"\",GZ19,IF(OR(HA19>(GZ19+6),HA19<(GZ19-6)),HA19,GZ19)))","v":""},{"$f":"IF(HA19=\"\",\"\",IF(OR(HA19>(GZ19+6),HA19<(GZ19-6)),\"Agncy Repl.\",\"\"))","v":""},{"$f":"IF(HB19=\"\",\"\",IF(HC19=\"\",HB19,IF(OR(HC19>(HB19+6),HC19<(HB19-6)),HC19,HB19)))","v":""},{"$f":"IF(HC19=\"\",\"\",IF(OR(HC19>(HB19+6),HC19<(HB19-6)),\"Agncy Repl.\",\"\"))","v":""},{"$f":"IF(HD19=\"\",\"\",IF(HE19=\"\",HD19,IF(OR(HE19>(HD19+6),HE19<(HD19-6)),HE19,HD19)))","v":""},{"$f":"IF(HE19=\"\",\"\",IF(OR(HE19>(HD19+6),HE19<(HD19-6)),\"Agncy Repl.\",\"\"))","v":""},{"$f":"IF(HF19=\"\",\"\",IF(HG19=\"\",HF19,IF(OR(HG19>(HF19+6),HG19<(HF19-6)),HG19,HF19)))","v":""},{"$f":"IF(HG19=\"\",\"\",IF(OR(HG19>(HF19+6),HG19<(HF19-6)),\"Agncy Repl.\",\"\"))","v":""},null,"Calc. %",null,null,{"$f":"IF(HL19=\"\",\"\",IF(HM19=\"\",HL19,IF(OR(HM19>(HL19+6),HM19<(HL19-6)),HM19,HL19)))","v":""},{"$f":"IF(HM19=\"\",\"\",IF(OR(HM19>(HL19+6),HM19<(HL19-6)),\"Agncy Repl.\",\"\"))","v":""},{"$f":"IF(HN19=\"\",\"\",IF(HO19=\"\",HN19,IF(OR(HO19>(HN19+6),HO19<(HN19-6)),HO19,HN19)))","v":""},{"$f":"IF(HO19=\"\",\"\",IF(OR(HO19>(HN19+6),HO19<(HN19-6)),\"Agncy Repl.\",\"\"))","v":""},{"$f":"IF(HP19=\"\",\"\",IF(HQ19=\"\",HP19,IF(OR(HQ19>(HP19+6),HQ19<(HP19-6)),HQ19,HP19)))","v":""},{"$f":"IF(HQ19=\"\",\"\",IF(OR(HQ19>(HP19+6),HQ19<(HP19-6)),\"Agncy Repl.\",\"\"))","v":""},{"$f":"IF(HR19=\"\",\"\",IF(HS19=\"\",HR19,IF(OR(HS19>(HR19+6),HS19<(HR19-6)),HS19,HR19)))","v":""},{"$f":"IF(HS19=\"\",\"\",IF(OR(HS19>(HR19+6),HS19<(HR19-6)),\"Agncy Repl.\",\"\"))","v":""},null,"Calc. %",null,null,{"$f":"IF(HX19=\"\",\"\",IF(HY19=\"\",HX19,IF(OR(HY19>(HX19+6),HY19<(HX19-6)),HY19,HX19)))","v":""},{"$f":"IF(HY19=\"\",\"\",IF(OR(HY19>(HX19+6),HY19<(HX19-6)),\"Agncy Repl.\",\"\"))","v":""},{"$f":"IF(HZ19=\"\",\"\",IF(IA19=\"\",HZ19,IF(OR(IA19>(HZ19+6),IA19<(HZ19-6)),IA19,HZ19)))","v":""},{"$f":"IF(IA19=\"\",\"\",IF(OR(IA19>(HZ19+6),IA19<(HZ19-6)),\"Agncy Repl.\",\"\"))","v":""},{"$f":"IF(IB19=\"\",\"\",IF(IC19=\"\",IB19,IF(OR(IC19>(IB19+6),IC19<(IB19-6)),IC19,IB19)))","v":""},{"$f":"IF(IC19=\"\",\"\",IF(OR(IC19>(IB19+6),IC19<(IB19-6)),\"Agncy Repl.\",\"\"))","v":""},{"$f":"IF(ID19=\"\",\"\",IF(IE19=\"\",ID19,IF(OR(IE19>(ID19+6),IE19<(ID19-6)),IE19,ID19)))","v":""},{"$f":"IF(IE19=\"\",\"\",IF(OR(IE19>(ID19+6),IE19<(ID19-6)),\"Agncy Repl.\",\"\"))","v":""},null,"Calc. %",null,null,{"$f":"IF(IJ19=\"\",\"\",IF(IK19=\"\",IJ19,IF(OR(IK19>(IJ19+6),IK19<(IJ19-6)),IK19,IJ19)))","v":""},{"$f":"IF(IK19=\"\",\"\",IF(OR(IK19>(IJ19+6),IK19<(IJ19-6)),\"Agncy Repl.\",\"\"))","v":""},{"$f":"IF(IL19=\"\",\"\",IF(IM19=\"\",IL19,IF(OR(IM19>(IL19+6),IM19<(IL19-6)),IM19,IL19)))","v":""},{"$f":"IF(IM19=\"\",\"\",IF(OR(IM19>(IL19+6),IM19<(IL19-6)),\"Agncy Repl.\",\"\"))","v":""},{"$f":"IF(IN19=\"\",\"\",IF(IO19=\"\",IN19,IF(OR(IO19>(IN19+6),IO19<(IN19-6)),IO19,IN19)))","v":""},{"$f":"IF(IO19=\"\",\"\",IF(OR(IO19>(IN19+6),IO19<(IN19-6)),\"Agncy Repl.\",\"\"))","v":""},{"$f":"IF(IP19=\"\",\"\",IF(IQ19=\"\",IP19,IF(OR(IQ19>(IP19+6),IQ19<(IP19-6)),IQ19,IP19)))","v":""},{"$f":"IF(IQ19=\"\",\"\",IF(OR(IQ19>(IP19+6),IQ19<(IP19-6)),\"Agncy Repl.\",\"\"))","v":""}]
["3/8 in.",null,null,null,null,null,null,null,null,null,null,null,"3/8 in.",null,null,null,null,null,null,null,null,null,null,null,"3/8 in.",null,null,null,null,null,null,null,null,null,null,null,"3/8 in.",null,null,null,null,null,null,null,null,null,null,null,"3/8 in.",null,null,null,null,null,null,null,null,null,null,null,"3/8 in.",null,null,null,null,null,null,null,null,null,null,null,"3/8 in.",null,null,null,null,null,null,null,null,null,null,null,"3/8 in.",null,null,null,null,null,null,null,null,null,null,null,"3/8 in.",null,null,null,null,null,null,null,null,null,null,null,"3/8 in.",null,null,null,null,null,null,null,null,null,null,null,"3/8 in.",null,null,null,null,null,null,null,null,null,null,null,"3/8 in.",null,null,null,null,null,null,null,null,null,null,null,"3/8 in.",null,null,null,null,null,null,null,null,null,null,null,"3/8 in.",null,null,null,null,null,null,null,null,null,null,null,"3/8 in.",null,null,null,null,null,null,null,null,null,null,null,"3/8 in.",null,null,null,null,null,null,null,null,null,null,null,"3/8 in.",null,null,null,null,null,null,null,null,null,null,null,"3/8 in.",null,null,null,null,null,null,null,null,null,null,null,"3/8 in.",null,null,null,null,null,null,null,null,null,null,null,"3/8 in.",null,null,null,null,null,null,null,null,null,null,null,"3/8 in.",null,null,null,null,null,null,null,null,null,null,null,null,0,"Agency AFT Substituted"]
["Mov Avg.",{"$f":"IF(MDR!$AL$4=\"YES\",MDR!$BQ$47,MDR!$Y12)","v":35},{"$f":"IF(MDR!$AL$4=\"YES\",MDR!$BR$47,MDR!$Z12)","v":90},null,{"$f":"IF(E22=\"\",\"\",IF(OR(E22>(D22+6),E22<(D22-6)),\"Tolerance\",\"\"))","v":""},null,{"$f":"IF(G22=\"\",\"\",IF(OR(G22>(F22+6),G22<(F22-6)),\"Tolerance\",\"\"))","v":""},null,{"$f":"IF(I22=\"\",\"\",IF(OR(I22>(H22+6),I22<(H22-6)),\"Tolerance\",\"\"))","v":""},{"$f":"mndot_rounding_0(IF(D22=\"\",\"\",IF(F22=\"\",\"\",IF(H22=\"\",\"\",IF(J22=\"\",\"\",Grad!I14)))))","v":{"$error":"#VALUE!"}},{"$f":"IF(K22=\"\",\"\",IF(OR(K22>(J22+6),K22<(J22-6)),\"Tolerance\",\"\"))","v":""},null,"Mov Avg.",{"$f":"IF(MDR!$AL$4=\"YES\",MDR!$BQ$47,MDR!$Y16)","v":35},{"$f":"IF(MDR!$AL$4=\"YES\",MDR!$BR$47,MDR!$Z16)","v":90},{"$f":"mndot_rounding_0(Grad!U15)","v":{"$error":"#VALUE!"}},{"$f":"IF(Q22=\"\",\"\",IF(OR(Q22>(P22+6),Q22<(P22-6)),\"Tolerance\",\"\"))","v":""},{"$f":"mndot_rounding_0(Grad!$U16)","v":{"$error":"#VALUE!"}},{"$f":"IF(S22=\"\",\"\",IF(OR(S22>(R22+6),S22<(R22-6)),\"Tolerance\",\"\"))","v":""},{"$f":"mndot_rounding_0(Grad!$U17)","v":{"$error":"#VALUE!"}},{"$f":"IF(U22=\"\",\"\",IF(OR(U22>(T22+6),U22<(T22-6)),\"Tolerance\",\"\"))","v":""},{"$f":"mndot_rounding_0(Grad!$U18)","v":{"$error":"#VALUE!"}},{"$f":"IF(W22=\"\",\"\",IF(OR(W22>(V22+6),W22<(V22-6)),\"Tolerance\",\"\"))","v":""},null,"Mov Avg.",{"$f":"IF(MDR!$AL$4=\"YES\",MDR!$BQ$47,MDR!$Y20)","v":35},{"$f":"IF(MDR!$AL$4=\"YES\",MDR!$BR$47,MDR!$Z20)","v":90},{"$f":"mndot_rounding_0(Grad!$U19)","v":{"$error":"#VALUE!"}},{"$f":"IF(AC22=\"\",\"\",IF(OR(AC22>(AB22+6),AC22<(AB22-6)),\"Tolerance\",\"\"))","v":""},{"$f":"mndot_rounding_0(Grad!$U20)","v":{"$error":"#VALUE!"}},{"$f":"IF(AE22=\"\",\"\",IF(OR(AE22>(AD22+6),AE22<(AD22-6)),\"Tolerance\",\"\"))","v":""},{"$f":"mndot_rounding_0(Grad!$U21)","v":{"$error":"#VALUE!"}},{"$f":"IF(AG22=\"\",\"\",IF(OR(AG22>(AF22+6),AG22<(AF22-6)),\"Tolerance\",\"\"))","v":""},{"$f":"mndot_rounding_0(Grad!$U22)","v":{"$error":"#VALUE!"}},{"$f":"IF(AI22=\"\",\"\",IF(OR(AI22>(AH22+6),AI22<(AH22-6)),\"Tolerance\",\"\"))","v":""},null,"Mov Avg.",{"$f":"IF(MDR!$AL$4=\"YES\",MDR!$BQ$47,MDR!$Y24)","v":35},{"$f":"IF(MDR!$AL$4=\"YES\",MDR!$BR$47,MDR!$Z24)","v":90},{"$f":"mndot_rounding_0(Grad!$U23)","v":{"$error":"#VALUE!"}},{"$f":"IF(AO22=\"\",\"\",IF(OR(AO22>(AN22+6),AO22<(AN22-6)),\"Tolerance\",\"\"))","v":""},{"$f":"mndot_rounding_0(Grad!$U24)","v":{"$error":"#VALUE!"}},{"$f":"IF(AQ22=\"\",\"\",IF(OR(AQ22>(AP22+6),AQ22<(AP22-6)),\"Tolerance\",\"\"))","v":""},{"$f":"mndot_rounding_0(Grad!$U25)","v":{"$error":"#VALUE!"}},{"$f":"IF(AS22=\"\",\"\",IF(OR(AS22>(AR22+6),AS22<(AR22-6)),\"Tolerance\",\"\"))","v":""},{"$f":"mndot_rounding_0(Grad!$U26)","v":{"$error":"#VALUE!"}},{"$f":"IF(AU22=\"\",\"\",IF(OR(AU22>(AT22+6),AU22<(AT22-6)),\"Tolerance\",\"\"))","v":""},null,"Mov Avg.",{"$f":"IF(MDR!$AL$4=\"YES\",MDR!$BQ$47,MDR!$Y28)","v":35},{"$f":"IF(MDR!$AL$4=\"YES\",MDR!$BR$47,MDR!$Z28)","v":90},{"$f":"mndot_rounding_0(Grad!$U27)","v":{"$error":"#VALUE!"}},{"$f":"IF(BA22=\"\",\"\",IF(OR(BA22>(AZ22+6),BA22<(AZ22-6)),\"Tolerance\",\"\"))","v":""},{"$f":"mndot_rounding_0(Grad!$U28)","v":{"$error":"#VALUE!"}},{"$f":"IF(BC22=\"\",\"\",IF(OR(BC22>(BB22+6),BC22<(BB22-6)),\"Tolerance\",\"\"))","v":""},{"$f":"mndot_rounding_0(Grad!$U29)","v":{"$error":"#VALUE!"}},{"$f":"IF(BE22=\"\",\"\",IF(OR(BE22>(BD22+6),BE22<(BD22-6)),\"Tolerance\",\"\"))","v":""},{"$f":"mndot_rounding_0(Grad!$U30)","v":{"$error":"#VALUE!"}},{"$f":"IF(BG22=\"\",\"\",IF(OR(BG22>(BF22+6),BG22<(BF22-6)),\"Tolerance\",\"\"))","v":""},null,"Mov Avg.",{"$f":"IF(MDR!$AL$4=\"YES\",MDR!$BQ$47,MDR!$Y32)","v":35},{"$f":"IF(MDR!$AL$4=\"YES\",MDR!$BR$47,MDR!$Z32)","v":90},{"$f":"mndot_rounding_0(Grad!$U31)","v":{"$error":"#VALUE!"}},{"$f":"IF(BM22=\"\",\"\",IF(OR(BM22>(BL22+6),BM22<(BL22-6)),\"Tolerance\",\"\"))","v":""},{"$f":"mndot_rounding_0(Grad!$U32)","v":{"$error":"#VALUE!"}},{"$f":"IF(BO22=\"\",\"\",IF(OR(BO22>(BN22+6),BO22<(BN22-6)),\"Tolerance\",\"\"))","v":""},{"$f":"mndot_rounding_0(Grad!$U33)","v":{"$error":"#VALUE!"}},{"$f":"IF(BQ22=\"\",\"\",IF(OR(BQ22>(BP22+6),BQ22<(BP22-6)),\"Tolerance\",\"\"))","v":""},{"$f":"mndot_rounding_0(Grad!$U34)","v":{"$error":"#VALUE!"}},{"$f":"IF(BS22=\"\",\"\",IF(OR(BS22>(BR22+6),BS22<(BR22-6)),\"Tolerance\",\"\"))","v":""},null,"Mov Avg.",{"$f":"IF(MDR!$AL$4=\"YES\",MDR!$BQ$47,MDR!$Y36)","v":35},{"$f":"IF(MDR!$AL$4=\"YES\",MDR!$BR$47,MDR!$Z36)","v":90},{"$f":"mndot_rounding_0(Grad!$U35)","v":{"$error":"#VALUE!"}},{"$f":"IF(BY22=\"\",\"\",IF(OR(BY22>(BX22+6),BY22<(BX22-6)),\"Tolerance\",\"\"))","v":""},{"$f":"mndot_rounding_0(Grad!$U36)","v":{"$error":"#VALUE!"}},{"$f":"IF(CA22=\"\",\"\",IF(OR(CA22>(BZ22+6),CA22<(BZ22-6)),\"Tolerance\",\"\"))","v":""},{"$f":"mndot_rounding_0(Grad!$U37)","v":{"$error":"#VALUE!"}},{"$f":"IF(CC22=\"\",\"\",IF(OR(CC22>(CB22+6),CC22<(CB22-6)),\"Tolerance\",\"\"))","v":""},{"$f":"mndot_rounding_0(Grad!$U38)","v":{"$error":"#VALUE!"}},{"$f":"IF(CE22=\"\",\"\",IF(OR(CE22>(CD22+6),CE22<(CD22-6)),\"Tolerance\",\"\"))","v":""},null,"Mov Avg.",{"$f":"IF(MDR!$AL$4=\"YES\",MDR!$BQ$47,MDR!$Y40)","v":35},{"$f":"IF(MDR!$AL$4=\"YES\",MDR!$BR$47,MDR!$Z40)","v":90},{"$f":"mndot_rounding_0(Grad!$U39)","v":{"$error":"#VALUE!"}},{"$f":"IF(CK22=\"\",\"\",IF(OR(CK22>(CJ22+6),CK22<(CJ22-6)),\"Tolerance\",\"\"))","v":""},{"$f":"mndot_rounding_0(Grad!$U40)","v":{"$error":"#VALUE!"}},{"$f":"IF(CM22=\"\",\"\",IF(OR(CM22>(CL22+6),CM22<(CL22-6)),\"Tolerance\",\"\"))","v":""},{"$f":"mndot_rounding_0(Grad!$U41)","v":{"$error":"#VALUE!"}},{"$f":"IF(CO22=\"\",\"\",IF(OR(CO22>(CN22+6),CO22<(CN22-6)),\"Tolerance\",\"\"))","v":""},{"$f":"mndot_rounding_0(Grad!$U42)","v":{"$error":"#VALUE!"}},{"$f":"IF(CQ22=\"\",\"\",IF(OR(CQ22>(CP22+6),CQ22<(CP22-6)),\"Tolerance\",\"\"))","v":""},null,"Mov Avg.",{"$f":"IF(MDR!$AL$4=\"YES\",MDR!$BQ$47,MDR!$Y44)","v":35},{"$f":"IF(MDR!$AL$4=\"YES\",MDR!$BR$47,MDR!$Z44)","v":90},{"$f":"mndot_rounding_0(Grad!$U43)","v":{"$error":"#VALUE!"}},{"$f":"IF(CW22=\"\",\"\",IF(OR(CW22>(CV22+6),CW22<(CV22-6)),\"Tolerance\",\"\"))","v":""},{"$f":"mndot_rounding_0(Grad!$U44)","v":{"$error":"#VALUE!"}},{"$f":"IF(CY22=\"\",\"\",IF(OR(CY22>(CX22+6),CY22<(CX22-6)),\"Tolerance\",\"\"))","v":""},{"$f":"mndot_rounding_0(Grad!$U45)","v":{"$error":"#VALUE!"}},{"$f":"IF(DA22=\"\",\"\",IF(OR(DA22>(CZ22+6),DA22<(CZ22-6)),\"Tolerance\",\"\"))","v":""},{"$f":"mndot_rounding_0(Grad!$U46)","v":{"$error":"#VALUE!"}},{"$f":"IF(DC22=\"\",\"\",IF(OR(DC22>(DB22+6),DC22<(DB22-6)),\"Tolerance\",\"\"))","v":""},null,"Mov Avg.",{"$f":"IF(MDR!$AL$4=\"YES\",MDR!$BQ$47,MDR!$Y48)","v":35},{"$f":"IF(MDR!$AL$4=\"YES\",MDR!$BR$47,MDR!$Z48)","v":90},{"$f":"mndot_rounding_0(Grad!$U47)","v":{"$error":"#VALUE!"}},{"$f":"IF(DI22=\"\",\"\",IF(OR(DI22>(DH22+6),DI22<(DH22-6)),\"Tolerance\",\"\"))","v":""},{"$f":"mndot_rounding_0(Grad!$U48)","v":{"$error":"#VALUE!"}},{"$f":"IF(DK22=\"\",\"\",IF(OR(DK22>(DJ22+6),DK22<(DJ22-6)),\"Tolerance\",\"\"))","v":""},{"$f":"mndot_rounding_0(Grad!$U49)","v":{"$error":"#VALUE!"}},{"$f":"IF(DM22=\"\",\"\",IF(OR(DM22>(DL22+6),DM22<(DL22-6)),\"Tolerance\",\"\"))","v":""},{"$f":"mndot_rounding_0(Grad!$U50)","v":{"$error":"#VALUE!"}},{"$f":"IF(DO22=\"\",\"\",IF(OR(DO22>(DN22+6),DO22<(DN22-6)),\"Tolerance\",\"\"))","v":""},null,"Mov Avg.",{"$f":"IF(MDR!$AL$4=\"YES\",MDR!$BQ$47,MDR!$Y52)","v":35},{"$f":"IF(MDR!$AL$4=\"YES\",MDR!$BR$47,MDR!$Z52)","v":90},{"$f":"mndot_rounding_0(Grad!$U51)","v":{"$error":"#VALUE!"}},{"$f":"IF(DU22=\"\",\"\",IF(OR(DU22>(DT22+6),DU22<(DT22-6)),\"Tolerance\",\"\"))","v":""},{"$f":"mndot_rounding_0(Grad!$U52)","v":{"$error":"#VALUE!"}},{"$f":"IF(DW22=\"\",\"\",IF(OR(DW22>(DV22+6),DW22<(DV22-6)),\"Tolerance\",\"\"))","v":""},{"$f":"mndot_rounding_0(Grad!$U53)","v":{"$error":"#VALUE!"}},{"$f":"IF(DY22=\"\",\"\",IF(OR(DY22>(DX22+6),DY22<(DX22-6)),\"Tolerance\",\"\"))","v":""},{"$f":"mndot_rounding_0(Grad!$U54)","v":{"$error":"#VALUE!"}},{"$f":"IF(EA22=\"\",\"\",IF(OR(EA22>(DZ22+6),EA22<(DZ22-6)),\"Tolerance\",\"\"))","v":""},null,"Mov Avg.",{"$f":"IF(MDR!$AL$4=\"YES\",MDR!$BQ$47,MDR!$Y56)","v":35},{"$f":"IF(MDR!$AL$4=\"YES\",MDR!$BR$47,MDR!$Z56)","v":90},{"$f":"mndot_rounding_0(Grad!$U55)","v":{"$error":"#VALUE!"}},{"$f":"IF(EG22=\"\",\"\",IF(OR(EG22>(EF22+6),EG22<(EF22-6)),\"Tolerance\",\"\"))","v":""},{"$f":"mndot_rounding_0(Grad!$U56)","v":{"$error":"#VALUE!"}},{"$f":"IF(EI22=\"\",\"\",IF(OR(EI22>(EH22+6),EI22<(EH22-6)),\"Tolerance\",\"\"))","v":""},{"$f":"mndot_rounding_0(Grad!$U57)","v":{"$error":"#VALUE!"}},{"$f":"IF(EK22=\"\",\"\",IF(OR(EK22>(EJ22+6),EK22<(EJ22-6)),\"Tolerance\",\"\"))","v":""},{"$f":"mndot_rounding_0(Grad!$U58)","v":{"$error":"#VALUE!"}},{"$f":"IF(EM22=\"\",\"\",IF(OR(EM22>(EL22+6),EM22<(EL22-6)),\"Tolerance\",\"\"))","v":""},null,"Mov Avg.",{"$f":"IF(MDR!$AL$4=\"YES\",MDR!$BQ$47,MDR!$Y60)","v":35},{"$f":"IF(MDR!$AL$4=\"YES\",MDR!$BR$47,MDR!$Z60)","v":90},{"$f":"mndot_rounding_0(Grad!$U59)","v":{"$error":"#VALUE!"}},{"$f":"IF(ES22=\"\",\"\",IF(OR(ES22>(ER22+6),ES22<(ER22-6)),\"Tolerance\",\"\"))","v":""},{"$f":"mndot_rounding_0(Grad!$U60)","v":{"$error":"#VALUE!"}},{"$f":"IF(EU22=\"\",\"\",IF(OR(EU22>(ET22+6),EU22<(ET22-6)),\"Tolerance\",\"\"))","v":""},{"$f":"mndot_rounding_0(Grad!$U61)","v":{"$error":"#VALUE!"}},{"$f":"IF(EW22=\"\",\"\",IF(OR(EW22>(EV22+6),EW22<(EV22-6)),\"Tolerance\",\"\"))","v":""},{"$f":"mndot_rounding_0(Grad!$U62)","v":{"$error":"#VALUE!"}},{"$f":"IF(EY22=\"\",\"\",IF(OR(EY22>(EX22+6),EY22<(EX22-6)),\"Tolerance\",\"\"))","v":""},null,"Mov Avg.",{"$f":"IF(MDR!$AL$4=\"YES\",MDR!$BQ$47,MDR!$Y64)","v":35},{"$f":"IF(MDR!$AL$4=\"YES\",MDR!$BR$47,MDR!$Z64)","v":90},{"$f":"mndot_rounding_0(Grad!$U63)","v":{"$error":"#VALUE!"}},{"$f":"IF(FE22=\"\",\"\",IF(OR(FE22>(FD22+6),FE22<(FD22-6)),\"Tolerance\",\"\"))","v":""},{"$f":"mndot_rounding_0(Grad!$U64)","v":{"$error":"#VALUE!"}},{"$f":"IF(FG22=\"\",\"\",IF(OR(FG22>(FF22+6),FG22<(FF22-6)),\"Tolerance\",\"\"))","v":""},{"$f":"mndot_rounding_0(Grad!$U65)","v":{"$error":"#VALUE!"}},{"$f":"IF(FI22=\"\",\"\",IF(OR(FI22>(FH22+6),FI22<(FH22-6)),\"Tolerance\",\"\"))","v":""},{"$f":"mndot_rounding_0(Grad!$U66)","v":{"$error":"#VALUE!"}},{"$f":"IF(FK22=\"\",\"\",IF(OR(FK22>(FJ22+6),FK22<(FJ22-6)),\"Tolerance\",\"\"))","v":""},null,"Mov Avg.",{"$f":"IF(MDR!$AL$4=\"YES\",MDR!$BQ$47,MDR!$Y68)","v":35},{"$f":"IF(MDR!$AL$4=\"YES\",MDR!$BR$47,MDR!$Z68)","v":90},{"$f":"mndot_rounding_0(Grad!$U67)","v":{"$error":"#VALUE!"}},{"$f":"IF(FQ22=\"\",\"\",IF(OR(FQ22>(FP22+6),FQ22<(FP22-6)),\"Tolerance\",\"\"))","v":""},{"$f":"mndot_rounding_0(Grad!$U68)","v":{"$error":"#VALUE!"}},{"$f":"IF(FS22=\"\",\"\",IF(OR(FS22>(FR22+6),FS22<(FR22-6)),\"Tolerance\",\"\"))","v":""},{"$f":"mndot_rounding_0(Grad!$U69)","v":{"$error":"#VALUE!"}},{"$f":"IF(FU22=\"\",\"\",IF(OR(FU22>(FT22+6),FU22<(FT22-6)),\"Tolerance\",\"\"))","v":""},{"$f":"mndot_rounding_0(Grad!$U70)","v":{"$error":"#VALUE!"}},{"$f":"IF(FW22=\"\",\"\",IF(OR(FW22>(FV22+6),FW22<(FV22-6)),\"Tolerance\",\"\"))","v":""},null,"Mov Avg.",{"$f":"IF(MDR!$AL$4=\"YES\",MDR!$BQ$47,MDR!$Y72)","v":35},{"$f":"IF(MDR!$AL$4=\"YES\",MDR!$BR$47,MDR!$Z72)","v":90},{"$f":"mndot_rounding_0(Grad!$U71)","v":{"$error":"#VALUE!"}},{"$f":"IF(GC22=\"\",\"\",IF(OR(GC22>(GB22+6),GC22<(GB22-6)),\"Tolerance\",\"\"))","v":""},{"$f":"mndot_rounding_0(Grad!$U72)","v":{"$error":"#VALUE!"}},{"$f":"IF(GE22=\"\",\"\",IF(OR(GE22>(GD22+6),GE22<(GD22-6)),\"Tolerance\",\"\"))","v":""},{"$f":"mndot_rounding_0(Grad!$U73)","v":{"$error":"#VALUE!"}},{"$f":"IF(GG22=\"\",\"\",IF(OR(GG22>(GF22+6),GG22<(GF22-6)),\"Tolerance\",\"\"))","v":""},{"$f":"mndot_rounding_0(Grad!$U74)","v":{"$error":"#VALUE!"}},{"$f":"IF(GI22=\"\",\"\",IF(OR(GI22>(GH22+6),GI22<(GH22-6)),\"Tolerance\",\"\"))","v":""},null,"Mov Avg.",{"$f":"IF(MDR!$AL$4=\"YES\",MDR!$BQ$47,MDR!$Y76)","v":35},{"$f":"IF(MDR!$AL$4=\"YES\",MDR!$BR$47,MDR!$Z76)","v":90},{"$f":"mndot_rounding_0(Grad!$U75)","v":{"$error":"#VALUE!"}},{"$f":"IF(GO22=\"\",\"\",IF(OR(GO22>(GN22+6),GO22<(GN22-6)),\"Tolerance\",\"\"))","v":""},{"$f":"mndot_rounding_0(Grad!$U76)","v":{"$error":"#VALUE!"}},{"$f":"IF(GQ22=\"\",\"\",IF(OR(GQ22>(GP22+6),GQ22<(GP22-6)),\"Tolerance\",\"\"))","v":""},{"$f":"mndot_rounding_0(Grad!$U77)","v":{"$error":"#VALUE!"}},{"$f":"IF(GS22=\"\",\"\",IF(OR(GS22>(GR22+6),GS22<(GR22-6)),\"Tolerance\",\"\"))","v":""},{"$f":"mndot_rounding_0(Grad!$U78)","v":{"$error":"#VALUE!"}},{"$f":"IF(GU22=\"\",\"\",IF(OR(GU22>(GT22+6),GU22<(GT22-6)),\"Tolerance\",\"\"))","v":""},null,"Mov Avg.",{"$f":"IF(MDR!$AL$4=\"YES\",MDR!$BQ$47,MDR!$Y80)","v":35},{"$f":"IF(MDR!$AL$4=\"YES\",MDR!$BR$47,MDR!$Z80)","v":90},{"$f":"mndot_rounding_0(Grad!$U79)","v":{"$error":"#VALUE!"}},{"$f":"IF(HA22=\"\",\"\",IF(OR(HA22>(GZ22+6),HA22<(GZ22-6)),\"Tolerance\",\"\"))","v":""},{"$f":"mndot_rounding_0(Grad!$U80)","v":{"$error":"#VALUE!"}},{"$f":"IF(HC22=\"\",\"\",IF(OR(HC22>(HB22+6),HC22<(HB22-6)),\"Tolerance\",\"\"))","v":""},{"$f":"mndot_rounding_0(Grad!$U81)","v":{"$error":"#VALUE!"}},{"$f":"IF(HE22=\"\",\"\",IF(OR(HE22>(HD22+6),HE22<(HD22-6)),\"Tolerance\",\"\"))","v":""},{"$f":"mndot_rounding_0(Grad!$U82)","v":{"$error":"#VALUE!"}},{"$f":"IF(HG22=\"\",\"\",IF(OR(HG22>(HF22+6),HG22<(HF22-6)),\"Tolerance\",\"\"))","v":""},null,"Mov Avg.",{"$f":"IF(MDR!$AL$4=\"YES\",MDR!$BQ$47,MDR!$Y84)","v":35},{"$f":"IF(MDR!$AL$4=\"YES\",MDR!$BR$47,MDR!$Z84)","v":90},{"$f":"mndot_rounding_0(Grad!$U83)","v":{"$error":"#VALUE!"}},{"$f":"IF(HM22=\"\",\"\",IF(OR(HM22>(HL22+6),HM22<(HL22-6)),\"Tolerance\",\"\"))","v":""},{"$f":"mndot_rounding_0(Grad!$U84)","v":{"$error":"#VALUE!"}},{"$f":"IF(HO22=\"\",\"\",IF(OR(HO22>(HN22+6),HO22<(HN22-6)),\"Tolerance\",\"\"))","v":""},{"$f":"mndot_rounding_0(Grad!$U85)","v":{"$error":"#VALUE!"}},{"$f":"IF(HQ22=\"\",\"\",IF(OR(HQ22>(HP22+6),HQ22<(HP22-6)),\"Tolerance\",\"\"))","v":""},{"$f":"mndot_rounding_0(Grad!$U86)","v":{"$error":"#VALUE!"}},{"$f":"IF(HS22=\"\",\"\",IF(OR(HS22>(HR22+6),HS22<(HR22-6)),\"Tolerance\",\"\"))","v":""},null,"Mov Avg.",{"$f":"IF(MDR!$AL$4=\"YES\",MDR!$BQ$47,MDR!$Y88)","v":35},{"$f":"IF(MDR!$AL$4=\"YES\",MDR!$BR$47,MDR!$Z88)","v":90},{"$f":"mndot_rounding_0(Grad!$U87)","v":{"$error":"#VALUE!"}},{"$f":"IF(HY22=\"\",\"\",IF(OR(HY22>(HX22+6),HY22<(HX22-6)),\"Tolerance\",\"\"))","v":""},{"$f":"mndot_rounding_0(Grad!$U88)","v":{"$error":"#VALUE!"}},{"$f":"IF(IA22=\"\",\"\",IF(OR(IA22>(HZ22+6),IA22<(HZ22-6)),\"Tolerance\",\"\"))","v":""},{"$f":"mndot_rounding_0(Grad!$U89)","v":{"$error":"#VALUE!"}},{"$f":"IF(IC22=\"\",\"\",IF(OR(IC22>(IB22+6),IC22<(IB22-6)),\"Tolerance\",\"\"))","v":""},{"$f":"mndot_rounding_0(Grad!$U90)","v":{"$error":"#VALUE!"}},{"$f":"IF(IE22=\"\",\"\",IF(OR(IE22>(ID22+6),IE22<(ID22-6)),\"Tolerance\",\"\"))","v":""},null,"Mov Avg.",{"$f":"IF(MDR!$AL$4=\"YES\",MDR!$BQ$47,MDR!$Y92)","v":35},{"$f":"IF(MDR!$AL$4=\"YES\",MDR!$BR$47,MDR!$Z92)","v":90},{"$f":"mndot_rounding_0(Grad!$U91)","v":{"$error":"#VALUE!"}},{"$f":"IF(IK22=\"\",\"\",IF(OR(IK22>(IJ22+6),IK22<(IJ22-6)),\"Tolerance\",\"\"))","v":""},{"$f":"mndot_rounding_0(Grad!$U92)","v":{"$error":"#VALUE!"}},{"$f":"IF(IM22=\"\",\"\",IF(OR(IM22>(IL22+6),IM22<(IL22-6)),\"Tolerance\",\"\"))","v":""},{"$f":"mndot_rounding_0(Grad!$U93)","v":{"$error":"#VALUE!"}},{"$f":"IF(IO22=\"\",\"\",IF(OR(IO22>(IN22+6),IO22<(IN22-6)),\"Tolerance\",\"\"))","v":""},{"$f":"mndot_rounding_0(Grad!$U94)","v":{"$error":"#VALUE!"}},{"$f":"IF(IQ22=\"\",\"\",IF(OR(IQ22>(IP22+6),IQ22<(IP22-6)),\"Tolerance\",\"\"))","v":""},null,null,0,"Agency AFT Substituted"]
["3/8\" Calc. %",null,null,{"$f":"IF(D22=\"\",\"\",IF(E22=\"\",D22,IF(OR(E22>(D22+6),E22<(D22-6)),E22,D22)))","v":""},{"$f":"IF(E22=\"\",\"\",IF(OR(E22>(D22+6),E22<(D22-6)),\"Agncy Repl.\",\"\"))","v":""},{"$f":"IF(F22=\"\",\"\",IF(G22=\"\",F22,IF(OR(G22>(F22+6),G22<(F22-6)),G22,F22)))","v":""},{"$f":"IF(G22=\"\",\"\",IF(OR(G22>(F22+6),G22<(F22-6)),\"Agncy Repl.\",\"\"))","v":""},{"$f":"IF(H22=\"\",\"\",IF(I22=\"\",H22,IF(OR(I22>(H22+6),I22<(H22-6)),I22,H22)))","v":""},{"$f":"IF(I22=\"\",\"\",IF(OR(I22>(H22+6),I22<(H22-6)),\"Agncy Repl.\",\"\"))","v":""},{"$f":"IF(J22=\"\",\"\",IF(K22=\"\",J22,IF(OR(K22>(J22+6),K22<(J22-6)),K22,J22)))","v":""},{"$f":"IF(K22=\"\",\"\",IF(OR(K22>(J22+6),K22<(J22-6)),\"Agncy Repl.\",\"\"))","v":""},null,"Calc. %",null,null,{"$f":"IF(P22=\"\",\"\",IF(Q22=\"\",P22,IF(OR(Q22>(P22+6),Q22<(P22-6)),Q22,P22)))","v":""},{"$f":"IF(Q22=\"\",\"\",IF(OR(Q22>(P22+6),Q22<(P22-6)),\"Agncy Repl.\",\"\"))","v":""},{"$f":"IF(R22=\"\",\"\",IF(S22=\"\",R22,IF(OR(S22>(R22+6),S22<(R22-6)),S22,R22)))","v":""},{"$f":"IF(S22=\"\",\"\",IF(OR(S22>(R22+6),S22<(R22-6)),\"Agncy Repl.\",\"\"))","v":""},{"$f":"IF(T22=\"\",\"\",IF(U22=\"\",T22,IF(OR(U22>(T22+6),U22<(T22-6)),U22,T22)))","v":""},{"$f":"IF(U22=\"\",\"\",IF(OR(U22>(T22+6),U22<(T22-6)),\"Agncy Repl.\",\"\"))","v":""},{"$f":"IF(V22=\"\",\"\",IF(W22=\"\",V22,IF(OR(W22>(V22+6),W22<(V22-6)),W22,V22)))","v":""},{"$f":"IF(W22=\"\",\"\",IF(OR(W22>(V22+6),W22<(V22-6)),\"Agncy Repl.\",\"\"))","v":""},null,"Calc. %",null,null,{"$f":"IF(AB22=\"\",\"\",IF(AC22=\"\",AB22,IF(OR(AC22>(AB22+6),AC22<(AB22-6)),AC22,AB22)))","v":""},{"$f":"IF(AC22=\"\",\"\",IF(OR(AC22>(AB22+6),AC22<(AB22-6)),\"Agncy Repl.\",\"\"))","v":""},{"$f":"IF(AD22=\"\",\"\",IF(AE22=\"\",AD22,IF(OR(AE22>(AD22+6),AE22<(AD22-6)),AE22,AD22)))","v":""},{"$f":"IF(AE22=\"\",\"\",IF(OR(AE22>(AD22+6),AE22<(AD22-6)),\"Agncy Repl.\",\"\"))","v":""},{"$f":"IF(AF22=\"\",\"\",IF(AG22=\"\",AF22,IF(OR(AG22>(AF22+6),AG22<(AF22-6)),AG22,AF22)))","v":""},{"$f":"IF(AG22=\"\",\"\",IF(OR(AG22>(AF22+6),AG22<(AF22-6)),\"Agncy Repl.\",\"\"))","v":""},{"$f":"IF(AH22=\"\",\"\",IF(AI22=\"\",AH22,IF(OR(AI22>(AH22+6),AI22<(AH22-6)),AI22,AH22)))","v":""},{"$f":"IF(AI22=\"\",\"\",IF(OR(AI22>(AH22+6),AI22<(AH22-6)),\"Agncy Repl.\",\"\"))","v":""},null,"Calc. %",null,null,{"$f":"IF(AN22=\"\",\"\",IF(AO22=\"\",AN22,IF(OR(AO22>(AN22+6),AO22<(AN22-6)),AO22,AN22)))","v":""},{"$f":"IF(AO22=\"\",\"\",IF(OR(AO22>(AN22+6),AO22<(AN22-6)),\"Agncy Repl.\",\"\"))","v":""},{"$f":"IF(AP22=\"\",\"\",IF(AQ22=\"\",AP22,IF(OR(AQ22>(AP22+6),AQ22<(AP22-6)),AQ22,AP22)))","v":""},{"$f":"IF(AQ22=\"\",\"\",IF(OR(AQ22>(AP22+6),AQ22<(AP22-6)),\"Agncy Repl.\",\"\"))","v":""},{"$f":"IF(AR22=\"\",\"\",IF(AS22=\"\",AR22,IF(OR(AS22>(AR22+6),AS22<(AR22-6)),AS22,AR22)))","v":""},{"$f":"IF(AS22=\"\",\"\",IF(OR(AS22>(AR22+6),AS22<(AR22-6)),\"Agncy Repl.\",\"\"))","v":""},{"$f":"IF(AT22=\"\",\"\",IF(AU22=\"\",AT22,IF(OR(AU22>(AT22+6),AU22<(AT22-6)),AU22,AT22)))","v":""},{"$f":"IF(AU22=\"\",\"\",IF(OR(AU22>(AT22+6),AU22<(AT22-6)),\"Agncy Repl.\",\"\"))","v":""},null,"Calc. %",null,null,{"$f":"IF(AZ22=\"\",\"\",IF(BA22=\"\",AZ22,IF(OR(BA22>(AZ22+6),BA22<(AZ22-6)),BA22,AZ22)))","v":""},{"$f":"IF(BA22=\"\",\"\",IF(OR(BA22>(AZ22+6),BA22<(AZ22-6)),\"Agncy Repl.\",\"\"))","v":""},{"$f":"IF(BB22=\"\",\"\",IF(BC22=\"\",BB22,IF(OR(BC22>(BB22+6),BC22<(BB22-6)),BC22,BB22)))","v":""},{"$f":"IF(BC22=\"\",\"\",IF(OR(BC22>(BB22+6),BC22<(BB22-6)),\"Agncy Repl.\",\"\"))","v":""},{"$f":"IF(BD22=\"\",\"\",IF(BE22=\"\",BD22,IF(OR(BE22>(BD22+6),BE22<(BD22-6)),BE22,BD22)))","v":""},{"$f":"IF(BE22=\"\",\"\",IF(OR(BE22>(BD22+6),BE22<(BD22-6)),\"Agncy Repl.\",\"\"))","v":""},{"$f":"IF(BF22=\"\",\"\",IF(BG22=\"\",BF22,IF(OR(BG22>(BF22+6),BG22<(BF22-6)),BG22,BF22)))","v":""},{"$f":"IF(BG22=\"\",\"\",IF(OR(BG22>(BF22+6),BG22<(BF22-6)),\"Agncy Repl.\",\"\"))","v":""},null,"Calc. %",null,null,{"$f":"IF(BL22=\"\",\"\",IF(BM22=\"\",BL22,IF(OR(BM22>(BL22+6),BM22<(BL22-6)),BM22,BL22)))","v":""},{"$f":"IF(BM22=\"\",\"\",IF(OR(BM22>(BL22+6),BM22<(BL22-6)),\"Agncy Repl.\",\"\"))","v":""},{"$f":"IF(BN22=\"\",\"\",IF(BO22=\"\",BN22,IF(OR(BO22>(BN22+6),BO22<(BN22-6)),BO22,BN22)))","v":""},{"$f":"IF(BO22=\"\",\"\",IF(OR(BO22>(BN22+6),BO22<(BN22-6)),\"Agncy Repl.\",\"\"))","v":""},{"$f":"IF(BP22=\"\",\"\",IF(BQ22=\"\",BP22,IF(OR(BQ22>(BP22+6),BQ22<(BP22-6)),BQ22,BP22)))","v":""},{"$f":"IF(BQ22=\"\",\"\",IF(OR(BQ22>(BP22+6),BQ22<(BP22-6)),\"Agncy Repl.\",\"\"))","v":""},{"$f":"IF(BR22=\"\",\"\",IF(BS22=\"\",BR22,IF(OR(BS22>(BR22+6),BS22<(BR22-6)),BS22,BR22)))","v":""},{"$f":"IF(BS22=\"\",\"\",IF(OR(BS22>(BR22+6),BS22<(BR22-6)),\"Agncy Repl.\",\"\"))","v":""},null,"Calc. %",null,null,{"$f":"IF(BX22=\"\",\"\",IF(BY22=\"\",BX22,IF(OR(BY22>(BX22+6),BY22<(BX22-6)),BY22,BX22)))","v":""},{"$f":"IF(BY22=\"\",\"\",IF(OR(BY22>(BX22+6),BY22<(BX22-6)),\"Agncy Repl.\",\"\"))","v":""},{"$f":"IF(BZ22=\"\",\"\",IF(CA22=\"\",BZ22,IF(OR(CA22>(BZ22+6),CA22<(BZ22-6)),CA22,BZ22)))","v":""},{"$f":"IF(CA22=\"\",\"\",IF(OR(CA22>(BZ22+6),CA22<(BZ22-6)),\"Agncy Repl.\",\"\"))","v":""},{"$f":"IF(CB22=\"\",\"\",IF(CC22=\"\",CB22,IF(OR(CC22>(CB22+6),CC22<(CB22-6)),CC22,CB22)))","v":""},{"$f":"IF(CC22=\"\",\"\",IF(OR(CC22>(CB22+6),CC22<(CB22-6)),\"Agncy Repl.\",\"\"))","v":""},{"$f":"IF(CD22=\"\",\"\",IF(CE22=\"\",CD22,IF(OR(CE22>(CD22+6),CE22<(CD22-6)),CE22,CD22)))","v":""},{"$f":"IF(CE22=\"\",\"\",IF(OR(CE22>(CD22+6),CE22<(CD22-6)),\"Agncy Repl.\",\"\"))","v":""},null,"Calc. %",null,null,{"$f":"IF(CJ22=\"\",\"\",IF(CK22=\"\",CJ22,IF(OR(CK22>(CJ22+6),CK22<(CJ22-6)),CK22,CJ22)))","v":""},{"$f":"IF(CK22=\"\",\"\",IF(OR(CK22>(CJ22+6),CK22<(CJ22-6)),\"Agncy Repl.\",\"\"))","v":""},{"$f":"IF(CL22=\"\",\"\",IF(CM22=\"\",CL22,IF(OR(CM22>(CL22+6),CM22<(CL22-6)),CM22,CL22)))","v":""},{"$f":"IF(CM22=\"\",\"\",IF(OR(CM22>(CL22+6),CM22<(CL22-6)),\"Agncy Repl.\",\"\"))","v":""},{"$f":"IF(CN22=\"\",\"\",IF(CO22=\"\",CN22,IF(OR(CO22>(CN22+6),CO22<(CN22-6)),CO22,CN22)))","v":""},{"$f":"IF(CO22=\"\",\"\",IF(OR(CO22>(CN22+6),CO22<(CN22-6)),\"Agncy Repl.\",\"\"))","v":""},{"$f":"IF(CP22=\"\",\"\",IF(CQ22=\"\",CP22,IF(OR(CQ22>(CP22+6),CQ22<(CP22-6)),CQ22,CP22)))","v":""},{"$f":"IF(CQ22=\"\",\"\",IF(OR(CQ22>(CP22+6),CQ22<(CP22-6)),\"Agncy Repl.\",\"\"))","v":""},null,"Calc. %",null,null,{"$f":"IF(CV22=\"\",\"\",IF(CW22=\"\",CV22,IF(OR(CW22>(CV22+6),CW22<(CV22-6)),CW22,CV22)))","v":""},{"$f":"IF(CW22=\"\",\"\",IF(OR(CW22>(CV22+6),CW22<(CV22-6)),\"Agncy Repl.\",\"\"))","v":""},{"$f":"IF(CX22=\"\",\"\",IF(CY22=\"\",CX22,IF(OR(CY22>(CX22+6),CY22<(CX22-6)),CY22,CX22)))","v":""},{"$f":"IF(CY22=\"\",\"\",IF(OR(CY22>(CX22+6),CY22<(CX22-6)),\"Agncy Repl.\",\"\"))","v":""},{"$f":"IF(CZ22=\"\",\"\",IF(DA22=\"\",CZ22,IF(OR(DA22>(CZ22+6),DA22<(CZ22-6)),DA22,CZ22)))","v":""},{"$f":"IF(DA22=\"\",\"\",IF(OR(DA22>(CZ22+6),DA22<(CZ22-6)),\"Agncy Repl.\",\"\"))","v":""},{"$f":"IF(DB22=\"\",\"\",IF(DC22=\"\",DB22,IF(OR(DC22>(DB22+6),DC22<(DB22-6)),DC22,DB22)))","v":""},{"$f":"IF(DC22=\"\",\"\",IF(OR(DC22>(DB22+6),DC22<(DB22-6)),\"Agncy Repl.\",\"\"))","v":""},null,"Calc. %",null,null,{"$f":"IF(DH22=\"\",\"\",IF(DI22=\"\",DH22,IF(OR(DI22>(DH22+6),DI22<(DH22-6)),DI22,DH22)))","v":""},{"$f":"IF(DI22=\"\",\"\",IF(OR(DI22>(DH22+6),DI22<(DH22-6)),\"Agncy Repl.\",\"\"))","v":""},{"$f":"IF(DJ22=\"\",\"\",IF(DK22=\"\",DJ22,IF(OR(DK22>(DJ22+6),DK22<(DJ22-6)),DK22,DJ22)))","v":""},{"$f":"IF(DK22=\"\",\"\",IF(OR(DK22>(DJ22+6),DK22<(DJ22-6)),\"Agncy Repl.\",\"\"))","v":""},{"$f":"IF(DL22=\"\",\"\",IF(DM22=\"\",DL22,IF(OR(DM22>(DL22+6),DM22<(DL22-6)),DM22,DL22)))","v":""},{"$f":"IF(DM22=\"\",\"\",IF(OR(DM22>(DL22+6),DM22<(DL22-6)),\"Agncy Repl.\",\"\"))","v":""},{"$f":"IF(DN22=\"\",\"\",IF(DO22=\"\",DN22,IF(OR(DO22>(DN22+6),DO22<(DN22-6)),DO22,DN22)))","v":""},{"$f":"IF(DO22=\"\",\"\",IF(OR(DO22>(DN22+6),DO22<(DN22-6)),\"Agncy Repl.\",\"\"))","v":""},null,"Calc. %",null,null,{"$f":"IF(DT22=\"\",\"\",IF(DU22=\"\",DT22,IF(OR(DU22>(DT22+6),DU22<(DT22-6)),DU22,DT22)))","v":""},{"$f":"IF(DU22=\"\",\"\",IF(OR(DU22>(DT22+6),DU22<(DT22-6)),\"Agncy Repl.\",\"\"))","v":""},{"$f":"IF(DV22=\"\",\"\",IF(DW22=\"\",DV22,IF(OR(DW22>(DV22+6),DW22<(DV22-6)),DW22,DV22)))","v":""},{"$f":"IF(DW22=\"\",\"\",IF(OR(DW22>(DV22+6),DW22<(DV22-6)),\"Agncy Repl.\",\"\"))","v":""},{"$f":"IF(DX22=\"\",\"\",IF(DY22=\"\",DX22,IF(OR(DY22>(DX22+6),DY22<(DX22-6)),DY22,DX22)))","v":""},{"$f":"IF(DY22=\"\",\"\",IF(OR(DY22>(DX22+6),DY22<(DX22-6)),\"Agncy Repl.\",\"\"))","v":""},{"$f":"IF(DZ22=\"\",\"\",IF(EA22=\"\",DZ22,IF(OR(EA22>(DZ22+6),EA22<(DZ22-6)),EA22,DZ22)))","v":""},{"$f":"IF(EA22=\"\",\"\",IF(OR(EA22>(DZ22+6),EA22<(DZ22-6)),\"Agncy Repl.\",\"\"))","v":""},null,"Calc. %",null,null,{"$f":"IF(EF22=\"\",\"\",IF(EG22=\"\",EF22,IF(OR(EG22>(EF22+6),EG22<(EF22-6)),EG22,EF22)))","v":""},{"$f":"IF(EG22=\"\",\"\",IF(OR(EG22>(EF22+6),EG22<(EF22-6)),\"Agncy Repl.\",\"\"))","v":""},{"$f":"IF(EH22=\"\",\"\",IF(EI22=\"\",EH22,IF(OR(EI22>(EH22+6),EI22<(EH22-6)),EI22,EH22)))","v":""},{"$f":"IF(EI22=\"\",\"\",IF(OR(EI22>(EH22+6),EI22<(EH22-6)),\"Agncy Repl.\",\"\"))","v":""},{"$f":"IF(EJ22=\"\",\"\",IF(EK22=\"\",EJ22,IF(OR(EK22>(EJ22+6),EK22<(EJ22-6)),EK22,EJ22)))","v":""},{"$f":"IF(EK22=\"\",\"\",IF(OR(EK22>(EJ22+6),EK22<(EJ22-6)),\"Agncy Repl.\",\"\"))","v":""},{"$f":"IF(EL22=\"\",\"\",IF(EM22=\"\",EL22,IF(OR(EM22>(EL22+6),EM22<(EL22-6)),EM22,EL22)))","v":""},{"$f":"IF(EM22=\"\",\"\",IF(OR(EM22>(EL22+6),EM22<(EL22-6)),\"Agncy Repl.\",\"\"))","v":""},null,"Calc. %",null,null,{"$f":"IF(ER22=\"\",\"\",IF(ES22=\"\",ER22,IF(OR(ES22>(ER22+6),ES22<(ER22-6)),ES22,ER22)))","v":""},{"$f":"IF(ES22=\"\",\"\",IF(OR(ES22>(ER22+6),ES22<(ER22-6)),\"Agncy Repl.\",\"\"))","v":""},{"$f":"IF(ET22=\"\",\"\",IF(EU22=\"\",ET22,IF(OR(EU22>(ET22+6),EU22<(ET22-6)),EU22,ET22)))","v":""},{"$f":"IF(EU22=\"\",\"\",IF(OR(EU22>(ET22+6),EU22<(ET22-6)),\"Agncy Repl.\",\"\"))","v":""},{"$f":"IF(EV22=\"\",\"\",IF(EW22=\"\",EV22,IF(OR(EW22>(EV22+6),EW22<(EV22-6)),EW22,EV22)))","v":""},{"$f":"IF(EW22=\"\",\"\",IF(OR(EW22>(EV22+6),EW22<(EV22-6)),\"Agncy Repl.\",\"\"))","v":""},{"$f":"IF(EX22=\"\",\"\",IF(EY22=\"\",EX22,IF(OR(EY22>(EX22+6),EY22<(EX22-6)),EY22,EX22)))","v":""},{"$f":"IF(EY22=\"\",\"\",IF(OR(EY22>(EX22+6),EY22<(EX22-6)),\"Agncy Repl.\",\"\"))","v":""},null,"Calc. %",null,null,{"$f":"IF(FD22=\"\",\"\",IF(FE22=\"\",FD22,IF(OR(FE22>(FD22+6),FE22<(FD22-6)),FE22,FD22)))","v":""},{"$f":"IF(FE22=\"\",\"\",IF(OR(FE22>(FD22+6),FE22<(FD22-6)),\"Agncy Repl.\",\"\"))","v":""},{"$f":"IF(FF22=\"\",\"\",IF(FG22=\"\",FF22,IF(OR(FG22>(FF22+6),FG22<(FF22-6)),FG22,FF22)))","v":""},{"$f":"IF(FG22=\"\",\"\",IF(OR(FG22>(FF22+6),FG22<(FF22-6)),\"Agncy Repl.\",\"\"))","v":""},{"$f":"IF(FH22=\"\",\"\",IF(FI22=\"\",FH22,IF(OR(FI22>(FH22+6),FI22<(FH22-6)),FI22,FH22)))","v":""},{"$f":"IF(FI22=\"\",\"\",IF(OR(FI22>(FH22+6),FI22<(FH22-6)),\"Agncy Repl.\",\"\"))","v":""},{"$f":"IF(FJ22=\"\",\"\",IF(FK22=\"\",FJ22,IF(OR(FK22>(FJ22+6),FK22<(FJ22-6)),FK22,FJ22)))","v":""},{"$f":"IF(FK22=\"\",\"\",IF(OR(FK22>(FJ22+6),FK22<(FJ22-6)),\"Agncy Repl.\",\"\"))","v":""},null,"Calc. %",null,null,{"$f":"IF(FP22=\"\",\"\",IF(FQ22=\"\",FP22,IF(OR(FQ22>(FP22+6),FQ22<(FP22-6)),FQ22,FP22)))","v":""},{"$f":"IF(FQ22=\"\",\"\",IF(OR(FQ22>(FP22+6),FQ22<(FP22-6)),\"Agncy Repl.\",\"\"))","v":""},{"$f":"IF(FR22=\"\",\"\",IF(FS22=\"\",FR22,IF(OR(FS22>(FR22+6),FS22<(FR22-6)),FS22,FR22)))","v":""},{"$f":"IF(FS22=\"\",\"\",IF(OR(FS22>(FR22+6),FS22<(FR22-6)),\"Agncy Repl.\",\"\"))","v":""},{"$f":"IF(FT22=\"\",\"\",IF(FU22=\"\",FT22,IF(OR(FU22>(FT22+6),FU22<(FT22-6)),FU22,FT22)))","v":""},{"$f":"IF(FU22=\"\",\"\",IF(OR(FU22>(FT22+6),FU22<(FT22-6)),\"Agncy Repl.\",\"\"))","v":""},{"$f":"IF(FV22=\"\",\"\",IF(FW22=\"\",FV22,IF(OR(FW22>(FV22+6),FW22<(FV22-6)),FW22,FV22)))","v":""},{"$f":"IF(FW22=\"\",\"\",IF(OR(FW22>(FV22+6),FW22<(FV22-6)),\"Agncy Repl.\",\"\"))","v":""},null,"Calc. %",null,null,{"$f":"IF(GB22=\"\",\"\",IF(GC22=\"\",GB22,IF(OR(GC22>(GB22+6),GC22<(GB22-6)),GC22,GB22)))","v":""},{"$f":"IF(GC22=\"\",\"\",IF(OR(GC22>(GB22+6),GC22<(GB22-6)),\"Agncy Repl.\",\"\"))","v":""},{"$f":"IF(GD22=\"\",\"\",IF(GE22=\"\",GD22,IF(OR(GE22>(GD22+6),GE22<(GD22-6)),GE22,GD22)))","v":""},{"$f":"IF(GE22=\"\",\"\",IF(OR(GE22>(GD22+6),GE22<(GD22-6)),\"Agncy Repl.\",\"\"))","v":""},{"$f":"IF(GF22=\"\",\"\",IF(GG22=\"\",GF22,IF(OR(GG22>(GF22+6),GG22<(GF22-6)),GG22,GF22)))","v":""},{"$f":"IF(GG22=\"\",\"\",IF(OR(GG22>(GF22+6),GG22<(GF22-6)),\"Agncy Repl.\",\"\"))","v":""},{"$f":"IF(GH22=\"\",\"\",IF(GI22=\"\",GH22,IF(OR(GI22>(GH22+6),GI22<(GH22-6)),GI22,GH22)))","v":""},{"$f":"IF(GI22=\"\",\"\",IF(OR(GI22>(GH22+6),GI22<(GH22-6)),\"Agncy Repl.\",\"\"))","v":""},null,"Calc. %",null,null,{"$f":"IF(GN22=\"\",\"\",IF(GO22=\"\",GN22,IF(OR(GO22>(GN22+6),GO22<(GN22-6)),GO22,GN22)))","v":""},{"$f":"IF(GO22=\"\",\"\",IF(OR(GO22>(GN22+6),GO22<(GN22-6)),\"Agncy Repl.\",\"\"))","v":""},{"$f":"IF(GP22=\"\",\"\",IF(GQ22=\"\",GP22,IF(OR(GQ22>(GP22+6),GQ22<(GP22-6)),GQ22,GP22)))","v":""},{"$f":"IF(GQ22=\"\",\"\",IF(OR(GQ22>(GP22+6),GQ22<(GP22-6)),\"Agncy Repl.\",\"\"))","v":""},{"$f":"IF(GR22=\"\",\"\",IF(GS22=\"\",GR22,IF(OR(GS22>(GR22+6),GS22<(GR22-6)),GS22,GR22)))","v":""},{"$f":"IF(GS22=\"\",\"\",IF(OR(GS22>(GR22+6),GS22<(GR22-6)),\"Agncy Repl.\",\"\"))","v":""},{"$f":"IF(GT22=\"\",\"\",IF(GU22=\"\",GT22,IF(OR(GU22>(GT22+6),GU22<(GT22-6)),GU22,GT22)))","v":""},{"$f":"IF(GU22=\"\",\"\",IF(OR(GU22>(GT22+6),GU22<(GT22-6)),\"Agncy Repl.\",\"\"))","v":""},null,"Calc. %",null,null,{"$f":"IF(GZ22=\"\",\"\",IF(HA22=\"\",GZ22,IF(OR(HA22>(GZ22+6),HA22<(GZ22-6)),HA22,GZ22)))","v":""},{"$f":"IF(HA22=\"\",\"\",IF(OR(HA22>(GZ22+6),HA22<(GZ22-6)),\"Agncy Repl.\",\"\"))","v":""},{"$f":"IF(HB22=\"\",\"\",IF(HC22=\"\",HB22,IF(OR(HC22>(HB22+6),HC22<(HB22-6)),HC22,HB22)))","v":""},{"$f":"IF(HC22=\"\",\"\",IF(OR(HC22>(HB22+6),HC22<(HB22-6)),\"Agncy Repl.\",\"\"))","v":""},{"$f":"IF(HD22=\"\",\"\",IF(HE22=\"\",HD22,IF(OR(HE22>(HD22+6),HE22<(HD22-6)),HE22,HD22)))","v":""},{"$f":"IF(HE22=\"\",\"\",IF(OR(HE22>(HD22+6),HE22<(HD22-6)),\"Agncy Repl.\",\"\"))","v":""},{"$f":"IF(HF22=\"\",\"\",IF(HG22=\"\",HF22,IF(OR(HG22>(HF22+6),HG22<(HF22-6)),HG22,HF22)))","v":""},{"$f":"IF(HG22=\"\",\"\",IF(OR(HG22>(HF22+6),HG22<(HF22-6)),\"Agncy Repl.\",\"\"))","v":""},null,"Calc. %",null,null,{"$f":"IF(HL22=\"\",\"\",IF(HM22=\"\",HL22,IF(OR(HM22>(HL22+6),HM22<(HL22-6)),HM22,HL22)))","v":""},{"$f":"IF(HM22=\"\",\"\",IF(OR(HM22>(HL22+6),HM22<(HL22-6)),\"Agncy Repl.\",\"\"))","v":""},{"$f":"IF(HN22=\"\",\"\",IF(HO22=\"\",HN22,IF(OR(HO22>(HN22+6),HO22<(HN22-6)),HO22,HN22)))","v":""},{"$f":"IF(HO22=\"\",\"\",IF(OR(HO22>(HN22+6),HO22<(HN22-6)),\"Agncy Repl.\",\"\"))","v":""},{"$f":"IF(HP22=\"\",\"\",IF(HQ22=\"\",HP22,IF(OR(HQ22>(HP22+6),HQ22<(HP22-6)),HQ22,HP22)))","v":""},{"$f":"IF(HQ22=\"\",\"\",IF(OR(HQ22>(HP22+6),HQ22<(HP22-6)),\"Agncy Repl.\",\"\"))","v":""},{"$f":"IF(HR22=\"\",\"\",IF(HS22=\"\",HR22,IF(OR(HS22>(HR22+6),HS22<(HR22-6)),HS22,HR22)))","v":""},{"$f":"IF(HS22=\"\",\"\",IF(OR(HS22>(HR22+6),HS22<(HR22-6)),\"Agncy Repl.\",\"\"))","v":""},null,"Calc. %",null,null,{"$f":"IF(HX22=\"\",\"\",IF(HY22=\"\",HX22,IF(OR(HY22>(HX22+6),HY22<(HX22-6)),HY22,HX22)))","v":""},{"$f":"IF(HY22=\"\",\"\",IF(OR(HY22>(HX22+6),HY22<(HX22-6)),\"Agncy Repl.\",\"\"))","v":""},{"$f":"IF(HZ22=\"\",\"\",IF(IA22=\"\",HZ22,IF(OR(IA22>(HZ22+6),IA22<(HZ22-6)),IA22,HZ22)))","v":""},{"$f":"IF(IA22=\"\",\"\",IF(OR(IA22>(HZ22+6),IA22<(HZ22-6)),\"Agncy Repl.\",\"\"))","v":""},{"$f":"IF(IB22=\"\",\"\",IF(IC22=\"\",IB22,IF(OR(IC22>(IB22+6),IC22<(IB22-6)),IC22,IB22)))","v":""},{"$f":"IF(IC22=\"\",\"\",IF(OR(IC22>(IB22+6),IC22<(IB22-6)),\"Agncy Repl.\",\"\"))","v":""},{"$f":"IF(ID22=\"\",\"\",IF(IE22=\"\",ID22,IF(OR(IE22>(ID22+6),IE22<(ID22-6)),IE22,ID22)))","v":""},{"$f":"IF(IE22=\"\",\"\",IF(OR(IE22>(ID22+6),IE22<(ID22-6)),\"Agncy Repl.\",\"\"))","v":""},null,"Calc. %",null,null,{"$f":"IF(IJ22=\"\",\"\",IF(IK22=\"\",IJ22,IF(OR(IK22>(IJ22+6),IK22<(IJ22-6)),IK22,IJ22)))","v":""},{"$f":"IF(IK22=\"\",\"\",IF(OR(IK22>(IJ22+6),IK22<(IJ22-6)),\"Agncy Repl.\",\"\"))","v":""},{"$f":"IF(IL22=\"\",\"\",IF(IM22=\"\",IL22,IF(OR(IM22>(IL22+6),IM22<(IL22-6)),IM22,IL22)))","v":""},{"$f":"IF(IM22=\"\",\"\",IF(OR(IM22>(IL22+6),IM22<(IL22-6)),\"Agncy Repl.\",\"\"))","v":""},{"$f":"IF(IN22=\"\",\"\",IF(IO22=\"\",IN22,IF(OR(IO22>(IN22+6),IO22<(IN22-6)),IO22,IN22)))","v":""},{"$f":"IF(IO22=\"\",\"\",IF(OR(IO22>(IN22+6),IO22<(IN22-6)),\"Agncy Repl.\",\"\"))","v":""},{"$f":"IF(IP22=\"\",\"\",IF(IQ22=\"\",IP22,IF(OR(IQ22>(IP22+6),IQ22<(IP22-6)),IQ22,IP22)))","v":""},{"$f":"IF(IQ22=\"\",\"\",IF(OR(IQ22>(IP22+6),IQ22<(IP22-6)),\"Agncy Repl.\",\"\"))","v":""}]
["#4",null,null,null,null,null,null,null,null,null,null,null,"#4",null,null,null,null,null,null,null,null,null,null,null,"#4",null,null,null,null,null,null,null,null,null,null,null,"#4",null,null,null,null,null,null,null,null,null,null,null,"#4",null,null,null,null,null,null,null,null,null,null,null,"#4",null,null,null,null,null,null,null,null,null,null,null,"#4",null,null,null,null,null,null,null,null,null,null,null,"#4",null,null,null,null,null,null,null,null,null,null,null,"#4",null,null,null,null,null,null,null,null,null,null,null,"#4",null,null,null,null,null,null,null,null,null,null,null,"#4",null,null,null,null,null,null,null,null,null,null,null,"#4",null,null,null,null,null,null,null,null,null,null,null,"#4",null,null,null,null,null,null,null,null,null,null,null,"#4",null,null,null,null,null,null,null,null,null,null,null,"#4",null,null,null,null,null,null,null,null,null,null,null,"#4",null,null,null,null,null,null,null,null,null,null,null,"#4",null,null,null,null,null,null,null,null,null,null,null,"#4",null,null,null,null,null,null,null,null,null,null,null,"#4",null,null,null,null,null,null,null,null,null,null,null,"#4",null,null,null,null,null,null,null,null,null,null,null,"#4",null,null,null,null,null,null,null,null,null,null,null,null,0,"Agency AFT Substituted"]
["Mov Avg.",{"$f":"IF(MDR!$AL$4=\"YES\",MDR!$BQ$48,MDR!$AE12)","v":30},{"$f":"IF(MDR!$AL$4=\"YES\",MDR!$BR$48,MDR!$AF12)","v":80},null,{"$f":"IF(E25=\"\",\"\",IF(OR(E25>(D25+5),E25<(D25-5)),\"Tolerance\",\"\"))","v":""},null,{"$f":"IF(G25=\"\",\"\",IF(OR(G25>(F25+5),G25<(F25-5)),\"Tolerance\",\"\"))","v":""},null,{"$f":"IF(I25=\"\",\"\",IF(OR(I25>(H25+5),I25<(H25-5)),\"Tolerance\",\"\"))","v":""},{"$f":"mndot_rounding_0(IF(D25=\"\",\"\",IF(F25=\"\",\"\",IF(H25=\"\",\"\",IF(J25=\"\",\"\",Grad!K14)))))","v":{"$error":"#VALUE!"}},{"$f":"IF(K25=\"\",\"\",IF(OR(K25>(J25+5),K25<(J25-5)),\"Tolerance\",\"\"))","v":""},null,"Mov Avg.",{"$f":"IF(MDR!$AL$4=\"YES\",MDR!$BQ$48,MDR!$AE16)","v":30},{"$f":"IF(MDR!$AL$4=\"YES\",MDR!$BR$48,MDR!$AF16)","v":80},{"$f":"mndot_rounding_0(Grad!V15)","v":{"$error":"#VALUE!"}},{"$f":"IF(Q25=\"\",\"\",IF(OR(Q25>(P25+5),Q25<(P25-5)),\"Tolerance\",\"\"))","v":""},{"$f":"mndot_rounding_0(Grad!V16)","v":{"$error":"#VALUE!"}},{"$f":"IF(S25=\"\",\"\",IF(OR(S25>(R25+5),S25<(R25-5)),\"Tolerance\",\"\"))","v":""},{"$f":"mndot_rounding_0(Grad!$V17)","v":{"$error":"#VALUE!"}},{"$f":"IF(U25=\"\",\"\",IF(OR(U25>(T25+5),U25<(T25-5)),\"Tolerance\",\"\"))","v":""},{"$f":"mndot_rounding_0(Grad!$V18)","v":{"$error":"#VALUE!"}},{"$f":"IF(W25=\"\",\"\",IF(OR(W25>(V25+5),W25<(V25-5)),\"Tolerance\",\"\"))","v":""},null,"Mov Avg.",{"$f":"IF(MDR!$AL$4=\"YES\",MDR!$BQ$48,MDR!$AE20)","v":30},{"$f":"IF(MDR!$AL$4=\"YES\",MDR!$BR$48,MDR!$AF20)","v":80},{"$f":"mndot_rounding_0(Grad!$V19)","v":{"$error":"#VALUE!"}},{"$f":"IF(AC25=\"\",\"\",IF(OR(AC25>(AB25+5),AC25<(AB25-5)),\"Tolerance\",\"\"))","v":""},{"$f":"mndot_rounding_0(Grad!$V20)","v":{"$error":"#VALUE!"}},{"$f":"IF(AE25=\"\",\"\",IF(OR(AE25>(AD25+5),AE25<(AD25-5)),\"Tolerance\",\"\"))","v":""},{"$f":"mndot_rounding_0(Grad!$V21)","v":{"$error":"#VALUE!"}},{"$f":"IF(AG25=\"\",\"\",IF(OR(AG25>(AF25+5),AG25<(AF25-5)),\"Tolerance\",\"\"))","v":""},{"$f":"mndot_rounding_0(Grad!$V22)","v":{"$error":"#VALUE!"}},{"$f":"IF(AI25=\"\",\"\",IF(OR(AI25>(AH25+5),AI25<(AH25-5)),\"Tolerance\",\"\"))","v":""},null,"Mov Avg.",{"$f":"IF(MDR!$AL$4=\"YES\",MDR!$BQ$48,MDR!$AE24)","v":30},{"$f":"IF(MDR!$AL$4=\"YES\",MDR!$BR$48,MDR!$AF24)","v":80},{"$f":"mndot_rounding_0(Grad!$V23)","v":{"$error":"#VALUE!"}},{"$f":"IF(AO25=\"\",\"\",IF(OR(AO25>(AN25+5),AO25<(AN25-5)),\"Tolerance\",\"\"))","v":""},{"$f":"mndot_rounding_0(Grad!$V24)","v":{"$error":"#VALUE!"}},{"$f":"IF(AQ25=\"\",\"\",IF(OR(AQ25>(AP25+5),AQ25<(AP25-5)),\"Tolerance\",\"\"))","v":""},{"$f":"mndot_rounding_0(Grad!$V25)","v":{"$error":"#VALUE!"}},{"$f":"IF(AS25=\"\",\"\",IF(OR(AS25>(AR25+5),AS25<(AR25-5)),\"Tolerance\",\"\"))","v":""},{"$f":"mndot_rounding_0(Grad!$V26)","v":{"$error":"#VALUE!"}},{"$f":"IF(AU25=\"\",\"\",IF(OR(AU25>(AT25+5),AU25<(AT25-5)),\"Tolerance\",\"\"))","v":""},null,"Mov Avg.",{"$f":"IF(MDR!$AL$4=\"YES\",MDR!$BQ$48,MDR!$AE28)","v":30},{"$f":"IF(MDR!$AL$4=\"YES\",MDR!$BR$48,MDR!$AF28)","v":80},{"$f":"mndot_rounding_0(Grad!$V27)","v":{"$error":"#VALUE!"}},{"$f":"IF(BA25=\"\",\"\",IF(OR(BA25>(AZ25+5),BA25<(AZ25-5)),\"Tolerance\",\"\"))","v":""},{"$f":"mndot_rounding_0(Grad!$V28)","v":{"$error":"#VALUE!"}},{"$f":"IF(BC25=\"\",\"\",IF(OR(BC25>(BB25+5),BC25<(BB25-5)),\"Tolerance\",\"\"))","v":""},{"$f":"mndot_rounding_0(Grad!$V29)","v":{"$error":"#VALUE!"}},{"$f":"IF(BE25=\"\",\"\",IF(OR(BE25>(BD25+5),BE25<(BD25-5)),\"Tolerance\",\"\"))","v":""},{"$f":"mndot_rounding_0(Grad!$V30)","v":{"$error":"#VALUE!"}},{"$f":"IF(BG25=\"\",\"\",IF(OR(BG25>(BF25+5),BG25<(BF25-5)),\"Tolerance\",\"\"))","v":""},null,"Mov Avg.",{"$f":"IF(MDR!$AL$4=\"YES\",MDR!$BQ$48,MDR!$AE32)","v":30},{"$f":"IF(MDR!$AL$4=\"YES\",MDR!$BR$48,MDR!$AF32)","v":80},{"$f":"mndot_rounding_0(Grad!$V31)","v":{"$error":"#VALUE!"}},{"$f":"IF(BM25=\"\",\"\",IF(OR(BM25>(BL25+5),BM25<(BL25-5)),\"Tolerance\",\"\"))","v":""},{"$f":"mndot_rounding_0(Grad!$V32)","v":{"$error":"#VALUE!"}},{"$f":"IF(BO25=\"\",\"\",IF(OR(BO25>(BN25+5),BO25<(BN25-5)),\"Tolerance\",\"\"))","v":""},{"$f":"mndot_rounding_0(Grad!$V33)","v":{"$error":"#VALUE!"}},{"$f":"IF(BQ25=\"\",\"\",IF(OR(BQ25>(BP25+5),BQ25<(BP25-5)),\"Tolerance\",\"\"))","v":""},{"$f":"mndot_rounding_0(Grad!$V34)","v":{"$error":"#VALUE!"}},{"$f":"IF(BS25=\"\",\"\",IF(OR(BS25>(BR25+5),BS25<(BR25-5)),\"Tolerance\",\"\"))","v":""},null,"Mov Avg.",{"$f":"IF(MDR!$AL$4=\"YES\",MDR!$BQ$48,MDR!$AE36)","v":30},{"$f":"IF(MDR!$AL$4=\"YES\",MDR!$BR$48,MDR!$AF36)","v":80},{"$f":"mndot_rounding_0(Grad!$V35)","v":{"$error":"#VALUE!"}},{"$f":"IF(BY25=\"\",\"\",IF(OR(BY25>(BX25+5),BY25<(BX25-5)),\"Tolerance\",\"\"))","v":""},{"$f":"mndot_rounding_0(Grad!$V36)","v":{"$error":"#VALUE!"}},{"$f":"IF(CA25=\"\",\"\",IF(OR(CA25>(BZ25+5),CA25<(BZ25-5)),\"Tolerance\",\"\"))","v":""},{"$f":"mndot_rounding_0(Grad!$V37)","v":{"$error":"#VALUE!"}},{"$f":"IF(CC25=\"\",\"\",IF(OR(CC25>(CB25+5),CC25<(CB25-5)),\"Tolerance\",\"\"))","v":""},{"$f":"mndot_rounding_0(Grad!$V38)","v":{"$error":"#VALUE!"}},{"$f":"IF(CE25=\"\",\"\",IF(OR(CE25>(CD25+5),CE25<(CD25-5)),\"Tolerance\",\"\"))","v":""},null,"Mov Avg.",{"$f":"IF(MDR!$AL$4=\"YES\",MDR!$BQ$48,MDR!$AE40)","v":30},{"$f":"IF(MDR!$AL$4=\"YES\",MDR!$BR$48,MDR!$AF40)","v":80},{"$f":"mndot_rounding_0(Grad!$V39)","v":{"$error":"#VALUE!"}},{"$f":"IF(CK25=\"\",\"\",IF(OR(CK25>(CJ25+5),CK25<(CJ25-5)),\"Tolerance\",\"\"))","v":""},{"$f":"mndot_rounding_0(Grad!$V40)","v":{"$error":"#VALUE!"}},{"$f":"IF(CM25=\"\",\"\",IF(OR(CM25>(CL25+5),CM25<(CL25-5)),\"Tolerance\",\"\"))","v":""},{"$f":"mndot_rounding_0(Grad!$V41)","v":{"$error":"#VALUE!"}},{"$f":"IF(CO25=\"\",\"\",IF(OR(CO25>(CN25+5),CO25<(CN25-5)),\"Tolerance\",\"\"))","v":""},{"$f":"mndot_rounding_0(Grad!$V42)","v":{"$error":"#VALUE!"}},{"$f":"IF(CQ25=\"\",\"\",IF(OR(CQ25>(CP25+5),CQ25<(CP25-5)),\"Tolerance\",\"\"))","v":""},null,"Mov Avg.",{"$f":"IF(MDR!$AL$4=\"YES\",MDR!$BQ$48,MDR!$AE44)","v":30},{"$f":"IF(MDR!$AL$4=\"YES\",MDR!$BR$48,MDR!$AF44)","v":80},{"$f":"mndot_rounding_0(Grad!$V43)","v":{"$error":"#VALUE!"}},{"$f":"IF(CW25=\"\",\"\",IF(OR(CW25>(CV25+5),CW25<(CV25-5)),\"Tolerance\",\"\"))","v":""},{"$f":"mndot_rounding_0(Grad!$V44)","v":{"$error":"#VALUE!"}},{"$f":"IF(CY25=\"\",\"\",IF(OR(CY25>(CX25+5),CY25<(CX25-5)),\"Tolerance\",\"\"))","v":""},{"$f":"mndot_rounding_0(Grad!$V45)","v":{"$error":"#VALUE!"}},{"$f":"IF(DA25=\"\",\"\",IF(OR(DA25>(CZ25+5),DA25<(CZ25-5)),\"Tolerance\",\"\"))","v":""},{"$f":"mndot_rounding_0(Grad!$V46)","v":{"$error":"#VALUE!"}},{"$f":"IF(DC25=\"\",\"\",IF(OR(DC25>(DB25+5),DC25<(DB25-5)),\"Tolerance\",\"\"))","v":""},null,"Mov Avg.",{"$f":"IF(MDR!$AL$4=\"YES\",MDR!$BQ$48,MDR!$AE48)","v":30},{"$f":"IF(MDR!$AL$4=\"YES\",MDR!$BR$48,MDR!$AF48)","v":80},{"$f":"mndot_rounding_0(Grad!$V47)","v":{"$error":"#VALUE!"}},{"$f":"IF(DI25=\"\",\"\",IF(OR(DI25>(DH25+5),DI25<(DH25-5)),\"Tolerance\",\"\"))","v":""},{"$f":"mndot_rounding_0(Grad!$V48)","v":{"$error":"#VALUE!"}},{"$f":"IF(DK25=\"\",\"\",IF(OR(DK25>(DJ25+5),DK25<(DJ25-5)),\"Tolerance\",\"\"))","v":""},{"$f":"mndot_rounding_0(Grad!$V49)","v":{"$error":"#VALUE!"}},{"$f":"IF(DM25=\"\",\"\",IF(OR(DM25>(DL25+5),DM25<(DL25-5)),\"Tolerance\",\"\"))","v":""},{"$f":"mndot_rounding_0(Grad!$V50)","v":{"$error":"#VALUE!"}},{"$f":"IF(DO25=\"\",\"\",IF(OR(DO25>(DN25+5),DO25<(DN25-5)),\"Tolerance\",\"\"))","v":""},null,"Mov Avg.",{"$f":"IF(MDR!$AL$4=\"YES\",MDR!$BQ$48,MDR!$AE52)","v":30},{"$f":"IF(MDR!$AL$4=\"YES\",MDR!$BR$48,MDR!$AF52)","v":80},{"$f":"mndot_rounding_0(Grad!$V51)","v":{"$error":"#VALUE!"}},{"$f":"IF(DU25=\"\",\"\",IF(OR(DU25>(DT25+5),DU25<(DT25-5)),\"Tolerance\",\"\"))","v":""},{"$f":"mndot_rounding_0(Grad!$V52)","v":{"$error":"#VALUE!"}},{"$f":"IF(DW25=\"\",\"\",IF(OR(DW25>(DV25+5),DW25<(DV25-5)),\"Tolerance\",\"\"))","v":""},{"$f":"mndot_rounding_0(Grad!$V53)","v":{"$error":"#VALUE!"}},{"$f":"IF(DY25=\"\",\"\",IF(OR(DY25>(DX25+5),DY25<(DX25-5)),\"Tolerance\",\"\"))","v":""},{"$f":"mndot_rounding_0(Grad!$V54)","v":{"$error":"#VALUE!"}},{"$f":"IF(EA25=\"\",\"\",IF(OR(EA25>(DZ25+5),EA25<(DZ25-5)),\"Tolerance\",\"\"))","v":""},null,"Mov Avg.",{"$f":"IF(MDR!$AL$4=\"YES\",MDR!$BQ$48,MDR!$AE56)","v":30},{"$f":"IF(MDR!$AL$4=\"YES\",MDR!$BR$48,MDR!$AF56)","v":80},{"$f":"mndot_rounding_0(Grad!$V55)","v":{"$error":"#VALUE!"}},{"$f":"IF(EG25=\"\",\"\",IF(OR(EG25>(EF25+5),EG25<(EF25-5)),\"Tolerance\",\"\"))","v":""},{"$f":"mndot_rounding_0(Grad!$V56)","v":{"$error":"#VALUE!"}},{"$f":"IF(EI25=\"\",\"\",IF(OR(EI25>(EH25+5),EI25<(EH25-5)),\"Tolerance\",\"\"))","v":""},{"$f":"mndot_rounding_0(Grad!$V57)","v":{"$error":"#VALUE!"}},{"$f":"IF(EK25=\"\",\"\",IF(OR(EK25>(EJ25+5),EK25<(EJ25-5)),\"Tolerance\",\"\"))","v":""},{"$f":"mndot_rounding_0(Grad!$V58)","v":{"$error":"#VALUE!"}},{"$f":"IF(EM25=\"\",\"\",IF(OR(EM25>(EL25+5),EM25<(EL25-5)),\"Tolerance\",\"\"))","v":""},null,"Mov Avg.",{"$f":"IF(MDR!$AL$4=\"YES\",MDR!$BQ$48,MDR!$AE60)","v":30},{"$f":"IF(MDR!$AL$4=\"YES\",MDR!$BR$48,MDR!$AF60)","v":80},{"$f":"mndot_rounding_0(Grad!$V59)","v":{"$error":"#VALUE!"}},{"$f":"IF(ES25=\"\",\"\",IF(OR(ES25>(ER25+5),ES25<(ER25-5)),\"Tolerance\",\"\"))","v":""},{"$f":"mndot_rounding_0(Grad!$V60)","v":{"$error":"#VALUE!"}},{"$f":"IF(EU25=\"\",\"\",IF(OR(EU25>(ET25+5),EU25<(ET25-5)),\"Tolerance\",\"\"))","v":""},{"$f":"mndot_rounding_0(Grad!$V61)","v":{"$error":"#VALUE!"}},{"$f":"IF(EW25=\"\",\"\",IF(OR(EW25>(EV25+5),EW25<(EV25-5)),\"Tolerance\",\"\"))","v":""},{"$f":"mndot_rounding_0(Grad!$V62)","v":{"$error":"#VALUE!"}},{"$f":"IF(EY25=\"\",\"\",IF(OR(EY25>(EX25+5),EY25<(EX25-5)),\"Tolerance\",\"\"))","v":""},null,"Mov Avg.",{"$f":"IF(MDR!$AL$4=\"YES\",MDR!$BQ$48,MDR!$AE64)","v":30},{"$f":"IF(MDR!$AL$4=\"YES\",MDR!$BR$48,MDR!$AF64)","v":80},{"$f":"mndot_rounding_0(Grad!$V63)","v":{"$error":"#VALUE!"}},{"$f":"IF(FE25=\"\",\"\",IF(OR(FE25>(FD25+5),FE25<(FD25-5)),\"Tolerance\",\"\"))","v":""},{"$f":"mndot_rounding_0(Grad!$V64)","v":{"$error":"#VALUE!"}},{"$f":"IF(FG25=\"\",\"\",IF(OR(FG25>(FF25+5),FG25<(FF25-5)),\"Tolerance\",\"\"))","v":""},{"$f":"mndot_rounding_0(Grad!$V65)","v":{"$error":"#VALUE!"}},{"$f":"IF(FI25=\"\",\"\",IF(OR(FI25>(FH25+5),FI25<(FH25-5)),\"Tolerance\",\"\"))","v":""},{"$f":"mndot_rounding_0(Grad!$V66)","v":{"$error":"#VALUE!"}},{"$f":"IF(FK25=\"\",\"\",IF(OR(FK25>(FJ25+5),FK25<(FJ25-5)),\"Tolerance\",\"\"))","v":""},null,"Mov Avg.",{"$f":"IF(MDR!$AL$4=\"YES\",MDR!$BQ$48,MDR!$AE68)","v":30},{"$f":"IF(MDR!$AL$4=\"YES\",MDR!$BR$48,MDR!$AF68)","v":80},{"$f":"mndot_rounding_0(Grad!$V67)","v":{"$error":"#VALUE!"}},{"$f":"IF(FQ25=\"\",\"\",IF(OR(FQ25>(FP25+5),FQ25<(FP25-5)),\"Tolerance\",\"\"))","v":""},{"$f":"mndot_rounding_0(Grad!$V68)","v":{"$error":"#VALUE!"}},{"$f":"IF(FS25=\"\",\"\",IF(OR(FS25>(FR25+5),FS25<(FR25-5)),\"Tolerance\",\"\"))","v":""},{"$f":"mndot_rounding_0(Grad!$V69)","v":{"$error":"#VALUE!"}},{"$f":"IF(FU25=\"\",\"\",IF(OR(FU25>(FT25+5),FU25<(FT25-5)),\"Tolerance\",\"\"))","v":""},{"$f":"mndot_rounding_0(Grad!$V70)","v":{"$error":"#VALUE!"}},{"$f":"IF(FW25=\"\",\"\",IF(OR(FW25>(FV25+5),FW25<(FV25-5)),\"Tolerance\",\"\"))","v":""},null,"Mov Avg.",{"$f":"IF(MDR!$AL$4=\"YES\",MDR!$BQ$48,MDR!$AE72)","v":30},{"$f":"IF(MDR!$AL$4=\"YES\",MDR!$BR$48,MDR!$AF72)","v":80},{"$f":"mndot_rounding_0(Grad!$V71)","v":{"$error":"#VALUE!"}},{"$f":"IF(GC25=\"\",\"\",IF(OR(GC25>(GB25+5),GC25<(GB25-5)),\"Tolerance\",\"\"))","v":""},{"$f":"mndot_rounding_0(Grad!$V72)","v":{"$error":"#VALUE!"}},{"$f":"IF(GE25=\"\",\"\",IF(OR(GE25>(GD25+5),GE25<(GD25-5)),\"Tolerance\",\"\"))","v":""},{"$f":"mndot_rounding_0(Grad!$V73)","v":{"$error":"#VALUE!"}},{"$f":"IF(GG25=\"\",\"\",IF(OR(GG25>(GF25+5),GG25<(GF25-5)),\"Tolerance\",\"\"))","v":""},{"$f":"mndot_rounding_0(Grad!$V74)","v":{"$error":"#VALUE!"}},{"$f":"IF(GI25=\"\",\"\",IF(OR(GI25>(GH25+5),GI25<(GH25-5)),\"Tolerance\",\"\"))","v":""},null,"Mov Avg.",{"$f":"IF(MDR!$AL$4=\"YES\",MDR!$BQ$48,MDR!$AE76)","v":30},{"$f":"IF(MDR!$AL$4=\"YES\",MDR!$BR$48,MDR!$AF76)","v":80},{"$f":"mndot_rounding_0(Grad!$V75)","v":{"$error":"#VALUE!"}},{"$f":"IF(GO25=\"\",\"\",IF(OR(GO25>(GN25+5),GO25<(GN25-5)),\"Tolerance\",\"\"))","v":""},{"$f":"mndot_rounding_0(Grad!$V76)","v":{"$error":"#VALUE!"}},{"$f":"IF(GQ25=\"\",\"\",IF(OR(GQ25>(GP25+5),GQ25<(GP25-5)),\"Tolerance\",\"\"))","v":""},{"$f":"mndot_rounding_0(Grad!$V77)","v":{"$error":"#VALUE!"}},{"$f":"IF(GS25=\"\",\"\",IF(OR(GS25>(GR25+5),GS25<(GR25-5)),\"Tolerance\",\"\"))","v":""},{"$f":"mndot_rounding_0(Grad!$V78)","v":{"$error":"#VALUE!"}},{"$f":"IF(GU25=\"\",\"\",IF(OR(GU25>(GT25+5),GU25<(GT25-5)),\"Tolerance\",\"\"))","v":""},null,"Mov Avg.",{"$f":"IF(MDR!$AL$4=\"YES\",MDR!$BQ$48,MDR!$AE80)","v":30},{"$f":"IF(MDR!$AL$4=\"YES\",MDR!$BR$48,MDR!$AF80)","v":80},{"$f":"mndot_rounding_0(Grad!$V79)","v":{"$error":"#VALUE!"}},{"$f":"IF(HA25=\"\",\"\",IF(OR(HA25>(GZ25+5),HA25<(GZ25-5)),\"Tolerance\",\"\"))","v":""},{"$f":"mndot_rounding_0(Grad!$V80)","v":{"$error":"#VALUE!"}},{"$f":"IF(HC25=\"\",\"\",IF(OR(HC25>(HB25+5),HC25<(HB25-5)),\"Tolerance\",\"\"))","v":""},{"$f":"mndot_rounding_0(Grad!$V81)","v":{"$error":"#VALUE!"}},{"$f":"IF(HE25=\"\",\"\",IF(OR(HE25>(HD25+5),HE25<(HD25-5)),\"Tolerance\",\"\"))","v":""},{"$f":"mndot_rounding_0(Grad!$V82)","v":{"$error":"#VALUE!"}},{"$f":"IF(HG25=\"\",\"\",IF(OR(HG25>(HF25+5),HG25<(HF25-5)),\"Tolerance\",\"\"))","v":""},null,"Mov Avg.",{"$f":"IF(MDR!$AL$4=\"YES\",MDR!$BQ$48,MDR!$AE84)","v":30},{"$f":"IF(MDR!$AL$4=\"YES\",MDR!$BR$48,MDR!$AF84)","v":80},{"$f":"mndot_rounding_0(Grad!$V83)","v":{"$error":"#VALUE!"}},{"$f":"IF(HM25=\"\",\"\",IF(OR(HM25>(HL25+5),HM25<(HL25-5)),\"Tolerance\",\"\"))","v":""},{"$f":"mndot_rounding_0(Grad!$V84)","v":{"$error":"#VALUE!"}},{"$f":"IF(HO25=\"\",\"\",IF(OR(HO25>(HN25+5),HO25<(HN25-5)),\"Tolerance\",\"\"))","v":""},{"$f":"mndot_rounding_0(Grad!$V85)","v":{"$error":"#VALUE!"}},{"$f":"IF(HQ25=\"\",\"\",IF(OR(HQ25>(HP25+5),HQ25<(HP25-5)),\"Tolerance\",\"\"))","v":""},{"$f":"mndot_rounding_0(Grad!$V86)","v":{"$error":"#VALUE!"}},{"$f":"IF(HS25=\"\",\"\",IF(OR(HS25>(HR25+5),HS25<(HR25-5)),\"Tolerance\",\"\"))","v":""},null,"Mov Avg.",{"$f":"IF(MDR!$AL$4=\"YES\",MDR!$BQ$48,MDR!$AE88)","v":30},{"$f":"IF(MDR!$AL$4=\"YES\",MDR!$BR$48,MDR!$AF88)","v":80},{"$f":"mndot_rounding_0(Grad!$V87)","v":{"$error":"#VALUE!"}},{"$f":"IF(HY25=\"\",\"\",IF(OR(HY25>(HX25+5),HY25<(HX25-5)),\"Tolerance\",\"\"))","v":""},{"$f":"mndot_rounding_0(Grad!$V88)","v":{"$error":"#VALUE!"}},{"$f":"IF(IA25=\"\",\"\",IF(OR(IA25>(HZ25+5),IA25<(HZ25-5)),\"Tolerance\",\"\"))","v":""},{"$f":"mndot_rounding_0(Grad!$V89)","v":{"$error":"#VALUE!"}},{"$f":"IF(IC25=\"\",\"\",IF(OR(IC25>(IB25+5),IC25<(IB25-5)),\"Tolerance\",\"\"))","v":""},{"$f":"mndot_rounding_0(Grad!$V90)","v":{"$error":"#VALUE!"}},{"$f":"IF(IE25=\"\",\"\",IF(OR(IE25>(ID25+5),IE25<(ID25-5)),\"Tolerance\",\"\"))","v":""},null,"Mov Avg.",{"$f":"IF(MDR!$AL$4=\"YES\",MDR!$BQ$48,MDR!$AE92)","v":30},{"$f":"IF(MDR!$AL$4=\"YES\",MDR!$BR$48,MDR!$AF92)","v":80},{"$f":"mndot_rounding_0(Grad!$V91)","v":{"$error":"#VALUE!"}},{"$f":"IF(IK25=\"\",\"\",IF(OR(IK25>(IJ25+5),IK25<(IJ25-5)),\"Tolerance\",\"\"))","v":""},{"$f":"mndot_rounding_0(Grad!$V92)","v":{"$error":"#VALUE!"}},{"$f":"IF(IM25=\"\",\"\",IF(OR(IM25>(IL25+5),IM25<(IL25-5)),\"Tolerance\",\"\"))","v":""},{"$f":"mndot_rounding_0(Grad!$V93)","v":{"$error":"#VALUE!"}},{"$f":"IF(IO25=\"\",\"\",IF(OR(IO25>(IN25+5),IO25<(IN25-5)),\"Tolerance\",\"\"))","v":""},{"$f":"mndot_rounding_0(Grad!$V94)","v":{"$error":"#VALUE!"}},{"$f":"IF(IQ25=\"\",\"\",IF(OR(IQ25>(IP25+5),IQ25<(IP25-5)),\"Tolerance\",\"\"))","v":""},null,null,0,"Agency AFT Substituted"]
["#4 Calc. %",null,null,{"$f":"IF(D25=\"\",\"\",IF(E25=\"\",D25,IF(OR(E25>(D25+5),E25<(D25-5)),E25,D25)))","v":""},{"$f":"IF(E25=\"\",\"\",IF(OR(E25>(D25+5),E25<(D25-5)),\"Agncy Repl.\",\"\"))","v":""},{"$f":"IF(F25=\"\",\"\",IF(G25=\"\",F25,IF(OR(G25>(F25+5),G25<(F25-5)),G25,F25)))","v":""},{"$f":"IF(G25=\"\",\"\",IF(OR(G25>(F25+5),G25<(F25-5)),\"Agncy Repl.\",\"\"))","v":""},{"$f":"IF(H25=\"\",\"\",IF(I25=\"\",H25,IF(OR(I25>(H25+5),I25<(H25-5)),I25,H25)))","v":""},{"$f":"IF(I25=\"\",\"\",IF(OR(I25>(H25+5),I25<(H25-5)),\"Agncy Repl.\",\"\"))","v":""},{"$f":"IF(J25=\"\",\"\",IF(K25=\"\",J25,IF(OR(K25>(J25+5),K25<(J25-5)),K25,J25)))","v":""},{"$f":"IF(K25=\"\",\"\",IF(OR(K25>(J25+5),K25<(J25-5)),\"Agncy Repl.\",\"\"))","v":""},null,"Calc. %",null,null,{"$f":"IF(P25=\"\",\"\",IF(Q25=\"\",P25,IF(OR(Q25>(P25+5),Q25<(P25-5)),Q25,P25)))","v":""},{"$f":"IF(Q25=\"\",\"\",IF(OR(Q25>(P25+5),Q25<(P25-5)),\"Agncy Repl.\",\"\"))","v":""},{"$f":"IF(R25=\"\",\"\",IF(S25=\"\",R25,IF(OR(S25>(R25+5),S25<(R25-5)),S25,R25)))","v":""},{"$f":"IF(S25=\"\",\"\",IF(OR(S25>(R25+5),S25<(R25-5)),\"Agncy Repl.\",\"\"))","v":""},{"$f":"IF(T25=\"\",\"\",IF(U25=\"\",T25,IF(OR(U25>(T25+5),U25<(T25-5)),U25,T25)))","v":""},{"$f":"IF(U25=\"\",\"\",IF(OR(U25>(T25+5),U25<(T25-5)),\"Agncy Repl.\",\"\"))","v":""},{"$f":"IF(V25=\"\",\"\",IF(W25=\"\",V25,IF(OR(W25>(V25+5),W25<(V25-5)),W25,V25)))","v":""},{"$f":"IF(W25=\"\",\"\",IF(OR(W25>(V25+5),W25<(V25-5)),\"Agncy Repl.\",\"\"))","v":""},null,"Calc. %",null,null,{"$f":"IF(AB25=\"\",\"\",IF(AC25=\"\",AB25,IF(OR(AC25>(AB25+5),AC25<(AB25-5)),AC25,AB25)))","v":""},{"$f":"IF(AC25=\"\",\"\",IF(OR(AC25>(AB25+5),AC25<(AB25-5)),\"Agncy Repl.\",\"\"))","v":""},{"$f":"IF(AD25=\"\",\"\",IF(AE25=\"\",AD25,IF(OR(AE25>(AD25+5),AE25<(AD25-5)),AE25,AD25)))","v":""},{"$f":"IF(AE25=\"\",\"\",IF(OR(AE25>(AD25+5),AE25<(AD25-5)),\"Agncy Repl.\",\"\"))","v":""},{"$f":"IF(AF25=\"\",\"\",IF(AG25=\"\",AF25,IF(OR(AG25>(AF25+5),AG25<(AF25-5)),AG25,AF25)))","v":""},{"$f":"IF(AG25=\"\",\"\",IF(OR(AG25>(AF25+5),AG25<(AF25-5)),\"Agncy Repl.\",\"\"))","v":""},{"$f":"IF(AH25=\"\",\"\",IF(AI25=\"\",AH25,IF(OR(AI25>(AH25+5),AI25<(AH25-5)),AI25,AH25)))","v":""},{"$f":"IF(AI25=\"\",\"\",IF(OR(AI25>(AH25+5),AI25<(AH25-5)),\"Agncy Repl.\",\"\"))","v":""},null,"Calc. %",null,null,{"$f":"IF(AN25=\"\",\"\",IF(AO25=\"\",AN25,IF(OR(AO25>(AN25+5),AO25<(AN25-5)),AO25,AN25)))","v":""},{"$f":"IF(AO25=\"\",\"\",IF(OR(AO25>(AN25+5),AO25<(AN25-5)),\"Agncy Repl.\",\"\"))","v":""},{"$f":"IF(AP25=\"\",\"\",IF(AQ25=\"\",AP25,IF(OR(AQ25>(AP25+5),AQ25<(AP25-5)),AQ25,AP25)))","v":""},{"$f":"IF(AQ25=\"\",\"\",IF(OR(AQ25>(AP25+5),AQ25<(AP25-5)),\"Agncy Repl.\",\"\"))","v":""},{"$f":"IF(AR25=\"\",\"\",IF(AS25=\"\",AR25,IF(OR(AS25>(AR25+5),AS25<(AR25-5)),AS25,AR25)))","v":""},{"$f":"IF(AS25=\"\",\"\",IF(OR(AS25>(AR25+5),AS25<(AR25-5)),\"Agncy Repl.\",\"\"))","v":""},{"$f":"IF(AT25=\"\",\"\",IF(AU25=\"\",AT25,IF(OR(AU25>(AT25+5),AU25<(AT25-5)),AU25,AT25)))","v":""},{"$f":"IF(AU25=\"\",\"\",IF(OR(AU25>(AT25+5),AU25<(AT25-5)),\"Agncy Repl.\",\"\"))","v":""},null,"Calc. %",null,null,{"$f":"IF(AZ25=\"\",\"\",IF(BA25=\"\",AZ25,IF(OR(BA25>(AZ25+5),BA25<(AZ25-5)),BA25,AZ25)))","v":""},{"$f":"IF(BA25=\"\",\"\",IF(OR(BA25>(AZ25+5),BA25<(AZ25-5)),\"Agncy Repl.\",\"\"))","v":""},{"$f":"IF(BB25=\"\",\"\",IF(BC25=\"\",BB25,IF(OR(BC25>(BB25+5),BC25<(BB25-5)),BC25,BB25)))","v":""},{"$f":"IF(BC25=\"\",\"\",IF(OR(BC25>(BB25+5),BC25<(BB25-5)),\"Agncy Repl.\",\"\"))","v":""},{"$f":"IF(BD25=\"\",\"\",IF(BE25=\"\",BD25,IF(OR(BE25>(BD25+5),BE25<(BD25-5)),BE25,BD25)))","v":""},{"$f":"IF(BE25=\"\",\"\",IF(OR(BE25>(BD25+5),BE25<(BD25-5)),\"Agncy Repl.\",\"\"))","v":""},{"$f":"IF(BF25=\"\",\"\",IF(BG25=\"\",BF25,IF(OR(BG25>(BF25+5),BG25<(BF25-5)),BG25,BF25)))","v":""},{"$f":"IF(BG25=\"\",\"\",IF(OR(BG25>(BF25+5),BG25<(BF25-5)),\"Agncy Repl.\",\"\"))","v":""},null,"Calc. %",null,null,{"$f":"IF(BL25=\"\",\"\",IF(BM25=\"\",BL25,IF(OR(BM25>(BL25+5),BM25<(BL25-5)),BM25,BL25)))","v":""},{"$f":"IF(BM25=\"\",\"\",IF(OR(BM25>(BL25+5),BM25<(BL25-5)),\"Agncy Repl.\",\"\"))","v":""},{"$f":"IF(BN25=\"\",\"\",IF(BO25=\"\",BN25,IF(OR(BO25>(BN25+5),BO25<(BN25-5)),BO25,BN25)))","v":""},{"$f":"IF(BO25=\"\",\"\",IF(OR(BO25>(BN25+5),BO25<(BN25-5)),\"Agncy Repl.\",\"\"))","v":""},{"$f":"IF(BP25=\"\",\"\",IF(BQ25=\"\",BP25,IF(OR(BQ25>(BP25+5),BQ25<(BP25-5)),BQ25,BP25)))","v":""},{"$f":"IF(BQ25=\"\",\"\",IF(OR(BQ25>(BP25+5),BQ25<(BP25-5)),\"Agncy Repl.\",\"\"))","v":""},{"$f":"IF(BR25=\"\",\"\",IF(BS25=\"\",BR25,IF(OR(BS25>(BR25+5),BS25<(BR25-5)),BS25,BR25)))","v":""},{"$f":"IF(BS25=\"\",\"\",IF(OR(BS25>(BR25+5),BS25<(BR25-5)),\"Agncy Repl.\",\"\"))","v":""},null,"Calc. %",null,null,{"$f":"IF(BX25=\"\",\"\",IF(BY25=\"\",BX25,IF(OR(BY25>(BX25+5),BY25<(BX25-5)),BY25,BX25)))","v":""},{"$f":"IF(BY25=\"\",\"\",IF(OR(BY25>(BX25+5),BY25<(BX25-5)),\"Agncy Repl.\",\"\"))","v":""},{"$f":"IF(BZ25=\"\",\"\",IF(CA25=\"\",BZ25,IF(OR(CA25>(BZ25+5),CA25<(BZ25-5)),CA25,BZ25)))","v":""},{"$f":"IF(CA25=\"\",\"\",IF(OR(CA25>(BZ25+5),CA25<(BZ25-5)),\"Agncy Repl.\",\"\"))","v":""},{"$f":"IF(CB25=\"\",\"\",IF(CC25=\"\",CB25,IF(OR(CC25>(CB25+5),CC25<(CB25-5)),CC25,CB25)))","v":""},{"$f":"IF(CC25=\"\",\"\",IF(OR(CC25>(CB25+5),CC25<(CB25-5)),\"Agncy Repl.\",\"\"))","v":""},{"$f":"IF(CD25=\"\",\"\",IF(CE25=\"\",CD25,IF(OR(CE25>(CD25+5),CE25<(CD25-5)),CE25,CD25)))","v":""},{"$f":"IF(CE25=\"\",\"\",IF(OR(CE25>(CD25+5),CE25<(CD25-5)),\"Agncy Repl.\",\"\"))","v":""},null,"Calc. %",null,null,{"$f":"IF(CJ25=\"\",\"\",IF(CK25=\"\",CJ25,IF(OR(CK25>(CJ25+5),CK25<(CJ25-5)),CK25,CJ25)))","v":""},{"$f":"IF(CK25=\"\",\"\",IF(OR(CK25>(CJ25+5),CK25<(CJ25-5)),\"Agncy Repl.\",\"\"))","v":""},{"$f":"IF(CL25=\"\",\"\",IF(CM25=\"\",CL25,IF(OR(CM25>(CL25+5),CM25<(CL25-5)),CM25,CL25)))","v":""},{"$f":"IF(CM25=\"\",\"\",IF(OR(CM25>(CL25+5),CM25<(CL25-5)),\"Agncy Repl.\",\"\"))","v":""},{"$f":"IF(CN25=\"\",\"\",IF(CO25=\"\",CN25,IF(OR(CO25>(CN25+5),CO25<(CN25-5)),CO25,CN25)))","v":""},{"$f":"IF(CO25=\"\",\"\",IF(OR(CO25>(CN25+5),CO25<(CN25-5)),\"Agncy Repl.\",\"\"))","v":""},{"$f":"IF(CP25=\"\",\"\",IF(CQ25=\"\",CP25,IF(OR(CQ25>(CP25+5),CQ25<(CP25-5)),CQ25,CP25)))","v":""},{"$f":"IF(CQ25=\"\",\"\",IF(OR(CQ25>(CP25+5),CQ25<(CP25-5)),\"Agncy Repl.\",\"\"))","v":""},null,"Calc. %",null,null,{"$f":"IF(CV25=\"\",\"\",IF(CW25=\"\",CV25,IF(OR(CW25>(CV25+5),CW25<(CV25-5)),CW25,CV25)))","v":""},{"$f":"IF(CW25=\"\",\"\",IF(OR(CW25>(CV25+5),CW25<(CV25-5)),\"Agncy Repl.\",\"\"))","v":""},{"$f":"IF(CX25=\"\",\"\",IF(CY25=\"\",CX25,IF(OR(CY25>(CX25+5),CY25<(CX25-5)),CY25,CX25)))","v":""},{"$f":"IF(CY25=\"\",\"\",IF(OR(CY25>(CX25+5),CY25<(CX25-5)),\"Agncy Repl.\",\"\"))","v":""},{"$f":"IF(CZ25=\"\",\"\",IF(DA25=\"\",CZ25,IF(OR(DA25>(CZ25+5),DA25<(CZ25-5)),DA25,CZ25)))","v":""},{"$f":"IF(DA25=\"\",\"\",IF(OR(DA25>(CZ25+5),DA25<(CZ25-5)),\"Agncy Repl.\",\"\"))","v":""},{"$f":"IF(DB25=\"\",\"\",IF(DC25=\"\",DB25,IF(OR(DC25>(DB25+5),DC25<(DB25-5)),DC25,DB25)))","v":""},{"$f":"IF(DC25=\"\",\"\",IF(OR(DC25>(DB25+5),DC25<(DB25-5)),\"Agncy Repl.\",\"\"))","v":""},null,"Calc. %",null,null,{"$f":"IF(DH25=\"\",\"\",IF(DI25=\"\",DH25,IF(OR(DI25>(DH25+5),DI25<(DH25-5)),DI25,DH25)))","v":""},{"$f":"IF(DI25=\"\",\"\",IF(OR(DI25>(DH25+5),DI25<(DH25-5)),\"Agncy Repl.\",\"\"))","v":""},{"$f":"IF(DJ25=\"\",\"\",IF(DK25=\"\",DJ25,IF(OR(DK25>(DJ25+5),DK25<(DJ25-5)),DK25,DJ25)))","v":""},{"$f":"IF(DK25=\"\",\"\",IF(OR(DK25>(DJ25+5),DK25<(DJ25-5)),\"Agncy Repl.\",\"\"))","v":""},{"$f":"IF(DL25=\"\",\"\",IF(DM25=\"\",DL25,IF(OR(DM25>(DL25+5),DM25<(DL25-5)),DM25,DL25)))","v":""},{"$f":"IF(DM25=\"\",\"\",IF(OR(DM25>(DL25+5),DM25<(DL25-5)),\"Agncy Repl.\",\"\"))","v":""},{"$f":"IF(DN25=\"\",\"\",IF(DO25=\"\",DN25,IF(OR(DO25>(DN25+5),DO25<(DN25-5)),DO25,DN25)))","v":""},{"$f":"IF(DO25=\"\",\"\",IF(OR(DO25>(DN25+5),DO25<(DN25-5)),\"Agncy Repl.\",\"\"))","v":""},null,"Calc. %",null,null,{"$f":"IF(DT25=\"\",\"\",IF(DU25=\"\",DT25,IF(OR(DU25>(DT25+5),DU25<(DT25-5)),DU25,DT25)))","v":""},{"$f":"IF(DU25=\"\",\"\",IF(OR(DU25>(DT25+5),DU25<(DT25-5)),\"Agncy Repl.\",\"\"))","v":""},{"$f":"IF(DV25=\"\",\"\",IF(DW25=\"\",DV25,IF(OR(DW25>(DV25+5),DW25<(DV25-5)),DW25,DV25)))","v":""},{"$f":"IF(DW25=\"\",\"\",IF(OR(DW25>(DV25+5),DW25<(DV25-5)),\"Agncy Repl.\",\"\"))","v":""},{"$f":"IF(DX25=\"\",\"\",IF(DY25=\"\",DX25,IF(OR(DY25>(DX25+5),DY25<(DX25-5)),DY25,DX25)))","v":""},{"$f":"IF(DY25=\"\",\"\",IF(OR(DY25>(DX25+5),DY25<(DX25-5)),\"Agncy Repl.\",\"\"))","v":""},{"$f":"IF(DZ25=\"\",\"\",IF(EA25=\"\",DZ25,IF(OR(EA25>(DZ25+5),EA25<(DZ25-5)),EA25,DZ25)))","v":""},{"$f":"IF(EA25=\"\",\"\",IF(OR(EA25>(DZ25+5),EA25<(DZ25-5)),\"Agncy Repl.\",\"\"))","v":""},null,"Calc. %",null,null,{"$f":"IF(EF25=\"\",\"\",IF(EG25=\"\",EF25,IF(OR(EG25>(EF25+5),EG25<(EF25-5)),EG25,EF25)))","v":""},{"$f":"IF(EG25=\"\",\"\",IF(OR(EG25>(EF25+5),EG25<(EF25-5)),\"Agncy Repl.\",\"\"))","v":""},{"$f":"IF(EH25=\"\",\"\",IF(EI25=\"\",EH25,IF(OR(EI25>(EH25+5),EI25<(EH25-5)),EI25,EH25)))","v":""},{"$f":"IF(EI25=\"\",\"\",IF(OR(EI25>(EH25+5),EI25<(EH25-5)),\"Agncy Repl.\",\"\"))","v":""},{"$f":"IF(EJ25=\"\",\"\",IF(EK25=\"\",EJ25,IF(OR(EK25>(EJ25+5),EK25<(EJ25-5)),EK25,EJ25)))","v":""},{"$f":"IF(EK25=\"\",\"\",IF(OR(EK25>(EJ25+5),EK25<(EJ25-5)),\"Agncy Repl.\",\"\"))","v":""},{"$f":"IF(EL25=\"\",\"\",IF(EM25=\"\",EL25,IF(OR(EM25>(EL25+5),EM25<(EL25-5)),EM25,EL25)))","v":""},{"$f":"IF(EM25=\"\",\"\",IF(OR(EM25>(EL25+5),EM25<(EL25-5)),\"Agncy Repl.\",\"\"))","v":""},null,"Calc. %",null,null,{"$f":"IF(ER25=\"\",\"\",IF(ES25=\"\",ER25,IF(OR(ES25>(ER25+5),ES25<(ER25-5)),ES25,ER25)))","v":""},{"$f":"IF(ES25=\"\",\"\",IF(OR(ES25>(ER25+5),ES25<(ER25-5)),\"Agncy Repl.\",\"\"))","v":""},{"$f":"IF(ET25=\"\",\"\",IF(EU25=\"\",ET25,IF(OR(EU25>(ET25+5),EU25<(ET25-5)),EU25,ET25)))","v":""},{"$f":"IF(EU25=\"\",\"\",IF(OR(EU25>(ET25+5),EU25<(ET25-5)),\"Agncy Repl.\",\"\"))","v":""},{"$f":"IF(EV25=\"\",\"\",IF(EW25=\"\",EV25,IF(OR(EW25>(EV25+5),EW25<(EV25-5)),EW25,EV25)))","v":""},{"$f":"IF(EW25=\"\",\"\",IF(OR(EW25>(EV25+5),EW25<(EV25-5)),\"Agncy Repl.\",\"\"))","v":""},{"$f":"IF(EX25=\"\",\"\",IF(EY25=\"\",EX25,IF(OR(EY25>(EX25+5),EY25<(EX25-5)),EY25,EX25)))","v":""},{"$f":"IF(EY25=\"\",\"\",IF(OR(EY25>(EX25+5),EY25<(EX25-5)),\"Agncy Repl.\",\"\"))","v":""},null,"Calc. %",null,null,{"$f":"IF(FD25=\"\",\"\",IF(FE25=\"\",FD25,IF(OR(FE25>(FD25+5),FE25<(FD25-5)),FE25,FD25)))","v":""},{"$f":"IF(FE25=\"\",\"\",IF(OR(FE25>(FD25+5),FE25<(FD25-5)),\"Agncy Repl.\",\"\"))","v":""},{"$f":"IF(FF25=\"\",\"\",IF(FG25=\"\",FF25,IF(OR(FG25>(FF25+5),FG25<(FF25-5)),FG25,FF25)))","v":""},{"$f":"IF(FG25=\"\",\"\",IF(OR(FG25>(FF25+5),FG25<(FF25-5)),\"Agncy Repl.\",\"\"))","v":""},{"$f":"IF(FH25=\"\",\"\",IF(FI25=\"\",FH25,IF(OR(FI25>(FH25+5),FI25<(FH25-5)),FI25,FH25)))","v":""},{"$f":"IF(FI25=\"\",\"\",IF(OR(FI25>(FH25+5),FI25<(FH25-5)),\"Agncy Repl.\",\"\"))","v":""},{"$f":"IF(FJ25=\"\",\"\",IF(FK25=\"\",FJ25,IF(OR(FK25>(FJ25+5),FK25<(FJ25-5)),FK25,FJ25)))","v":""},{"$f":"IF(FK25=\"\",\"\",IF(OR(FK25>(FJ25+5),FK25<(FJ25-5)),\"Agncy Repl.\",\"\"))","v":""},null,"Calc. %",null,null,{"$f":"IF(FP25=\"\",\"\",IF(FQ25=\"\",FP25,IF(OR(FQ25>(FP25+5),FQ25<(FP25-5)),FQ25,FP25)))","v":""},{"$f":"IF(FQ25=\"\",\"\",IF(OR(FQ25>(FP25+5),FQ25<(FP25-5)),\"Agncy Repl.\",\"\"))","v":""},{"$f":"IF(FR25=\"\",\"\",IF(FS25=\"\",FR25,IF(OR(FS25>(FR25+5),FS25<(FR25-5)),FS25,FR25)))","v":""},{"$f":"IF(FS25=\"\",\"\",IF(OR(FS25>(FR25+5),FS25<(FR25-5)),\"Agncy Repl.\",\"\"))","v":""},{"$f":"IF(FT25=\"\",\"\",IF(FU25=\"\",FT25,IF(OR(FU25>(FT25+5),FU25<(FT25-5)),FU25,FT25)))","v":""},{"$f":"IF(FU25=\"\",\"\",IF(OR(FU25>(FT25+5),FU25<(FT25-5)),\"Agncy Repl.\",\"\"))","v":""},{"$f":"IF(FV25=\"\",\"\",IF(FW25=\"\",FV25,IF(OR(FW25>(FV25+5),FW25<(FV25-5)),FW25,FV25)))","v":""},{"$f":"IF(FW25=\"\",\"\",IF(OR(FW25>(FV25+5),FW25<(FV25-5)),\"Agncy Repl.\",\"\"))","v":""},null,"Calc. %",null,null,{"$f":"IF(GB25=\"\",\"\",IF(GC25=\"\",GB25,IF(OR(GC25>(GB25+5),GC25<(GB25-5)),GC25,GB25)))","v":""},{"$f":"IF(GC25=\"\",\"\",IF(OR(GC25>(GB25+5),GC25<(GB25-5)),\"Agncy Repl.\",\"\"))","v":""},{"$f":"IF(GD25=\"\",\"\",IF(GE25=\"\",GD25,IF(OR(GE25>(GD25+5),GE25<(GD25-5)),GE25,GD25)))","v":""},{"$f":"IF(GE25=\"\",\"\",IF(OR(GE25>(GD25+5),GE25<(GD25-5)),\"Agncy Repl.\",\"\"))","v":""},{"$f":"IF(GF25=\"\",\"\",IF(GG25=\"\",GF25,IF(OR(GG25>(GF25+5),GG25<(GF25-5)),GG25,GF25)))","v":""},{"$f":"IF(GG25=\"\",\"\",IF(OR(GG25>(GF25+5),GG25<(GF25-5)),\"Agncy Repl.\",\"\"))","v":""},{"$f":"IF(GH25=\"\",\"\",IF(GI25=\"\",GH25,IF(OR(GI25>(GH25+5),GI25<(GH25-5)),GI25,GH25)))","v":""},{"$f":"IF(GI25=\"\",\"\",IF(OR(GI25>(GH25+5),GI25<(GH25-5)),\"Agncy Repl.\",\"\"))","v":""},null,"Calc. %",null,null,{"$f":"IF(GN25=\"\",\"\",IF(GO25=\"\",GN25,IF(OR(GO25>(GN25+5),GO25<(GN25-5)),GO25,GN25)))","v":""},{"$f":"IF(GO25=\"\",\"\",IF(OR(GO25>(GN25+5),GO25<(GN25-5)),\"Agncy Repl.\",\"\"))","v":""},{"$f":"IF(GP25=\"\",\"\",IF(GQ25=\"\",GP25,IF(OR(GQ25>(GP25+5),GQ25<(GP25-5)),GQ25,GP25)))","v":""},{"$f":"IF(GQ25=\"\",\"\",IF(OR(GQ25>(GP25+5),GQ25<(GP25-5)),\"Agncy Repl.\",\"\"))","v":""},{"$f":"IF(GR25=\"\",\"\",IF(GS25=\"\",GR25,IF(OR(GS25>(GR25+5),GS25<(GR25-5)),GS25,GR25)))","v":""},{"$f":"IF(GS25=\"\",\"\",IF(OR(GS25>(GR25+5),GS25<(GR25-5)),\"Agncy Repl.\",\"\"))","v":""},{"$f":"IF(GT25=\"\",\"\",IF(GU25=\"\",GT25,IF(OR(GU25>(GT25+5),GU25<(GT25-5)),GU25,GT25)))","v":""},{"$f":"IF(GU25=\"\",\"\",IF(OR(GU25>(GT25+5),GU25<(GT25-5)),\"Agncy Repl.\",\"\"))","v":""},null,"Calc. %",null,null,{"$f":"IF(GZ25=\"\",\"\",IF(HA25=\"\",GZ25,IF(OR(HA25>(GZ25+5),HA25<(GZ25-5)),HA25,GZ25)))","v":""},{"$f":"IF(HA25=\"\",\"\",IF(OR(HA25>(GZ25+5),HA25<(GZ25-5)),\"Agncy Repl.\",\"\"))","v":""},{"$f":"IF(HB25=\"\",\"\",IF(HC25=\"\",HB25,IF(OR(HC25>(HB25+5),HC25<(HB25-5)),HC25,HB25)))","v":""},{"$f":"IF(HC25=\"\",\"\",IF(OR(HC25>(HB25+5),HC25<(HB25-5)),\"Agncy Repl.\",\"\"))","v":""},{"$f":"IF(HD25=\"\",\"\",IF(HE25=\"\",HD25,IF(OR(HE25>(HD25+5),HE25<(HD25-5)),HE25,HD25)))","v":""},{"$f":"IF(HE25=\"\",\"\",IF(OR(HE25>(HD25+5),HE25<(HD25-5)),\"Agncy Repl.\",\"\"))","v":""},{"$f":"IF(HF25=\"\",\"\",IF(HG25=\"\",HF25,IF(OR(HG25>(HF25+5),HG25<(HF25-5)),HG25,HF25)))","v":""},{"$f":"IF(HG25=\"\",\"\",IF(OR(HG25>(HF25+5),HG25<(HF25-5)),\"Agncy Repl.\",\"\"))","v":""},null,"Calc. %",null,null,{"$f":"IF(HL25=\"\",\"\",IF(HM25=\"\",HL25,IF(OR(HM25>(HL25+5),HM25<(HL25-5)),HM25,HL25)))","v":""},{"$f":"IF(HM25=\"\",\"\",IF(OR(HM25>(HL25+5),HM25<(HL25-5)),\"Agncy Repl.\",\"\"))","v":""},{"$f":"IF(HN25=\"\",\"\",IF(HO25=\"\",HN25,IF(OR(HO25>(HN25+5),HO25<(HN25-5)),HO25,HN25)))","v":""},{"$f":"IF(HO25=\"\",\"\",IF(OR(HO25>(HN25+5),HO25<(HN25-5)),\"Agncy Repl.\",\"\"))","v":""},{"$f":"IF(HP25=\"\",\"\",IF(HQ25=\"\",HP25,IF(OR(HQ25>(HP25+5),HQ25<(HP25-5)),HQ25,HP25)))","v":""},{"$f":"IF(HQ25=\"\",\"\",IF(OR(HQ25>(HP25+5),HQ25<(HP25-5)),\"Agncy Repl.\",\"\"))","v":""},{"$f":"IF(HR25=\"\",\"\",IF(HS25=\"\",HR25,IF(OR(HS25>(HR25+5),HS25<(HR25-5)),HS25,HR25)))","v":""},{"$f":"IF(HS25=\"\",\"\",IF(OR(HS25>(HR25+5),HS25<(HR25-5)),\"Agncy Repl.\",\"\"))","v":""},null,"Calc. %",null,null,{"$f":"IF(HX25=\"\",\"\",IF(HY25=\"\",HX25,IF(OR(HY25>(HX25+5),HY25<(HX25-5)),HY25,HX25)))","v":""},{"$f":"IF(HY25=\"\",\"\",IF(OR(HY25>(HX25+5),HY25<(HX25-5)),\"Agncy Repl.\",\"\"))","v":""},{"$f":"IF(HZ25=\"\",\"\",IF(IA25=\"\",HZ25,IF(OR(IA25>(HZ25+5),IA25<(HZ25-5)),IA25,HZ25)))","v":""},{"$f":"IF(IA25=\"\",\"\",IF(OR(IA25>(HZ25+5),IA25<(HZ25-5)),\"Agncy Repl.\",\"\"))","v":""},{"$f":"IF(IB25=\"\",\"\",IF(IC25=\"\",IB25,IF(OR(IC25>(IB25+5),IC25<(IB25-5)),IC25,IB25)))","v":""},{"$f":"IF(IC25=\"\",\"\",IF(OR(IC25>(IB25+5),IC25<(IB25-5)),\"Agncy Repl.\",\"\"))","v":""},{"$f":"IF(ID25=\"\",\"\",IF(IE25=\"\",ID25,IF(OR(IE25>(ID25+5),IE25<(ID25-5)),IE25,ID25)))","v":""},{"$f":"IF(IE25=\"\",\"\",IF(OR(IE25>(ID25+5),IE25<(ID25-5)),\"Agncy Repl.\",\"\"))","v":""},null,"Calc. %",null,null,{"$f":"IF(IJ25=\"\",\"\",IF(IK25=\"\",IJ25,IF(OR(IK25>(IJ25+5),IK25<(IJ25-5)),IK25,IJ25)))","v":""},{"$f":"IF(IK25=\"\",\"\",IF(OR(IK25>(IJ25+5),IK25<(IJ25-5)),\"Agncy Repl.\",\"\"))","v":""},{"$f":"IF(IL25=\"\",\"\",IF(IM25=\"\",IL25,IF(OR(IM25>(IL25+5),IM25<(IL25-5)),IM25,IL25)))","v":""},{"$f":"IF(IM25=\"\",\"\",IF(OR(IM25>(IL25+5),IM25<(IL25-5)),\"Agncy Repl.\",\"\"))","v":""},{"$f":"IF(IN25=\"\",\"\",IF(IO25=\"\",IN25,IF(OR(IO25>(IN25+5),IO25<(IN25-5)),IO25,IN25)))","v":""},{"$f":"IF(IO25=\"\",\"\",IF(OR(IO25>(IN25+5),IO25<(IN25-5)),\"Agncy Repl.\",\"\"))","v":""},{"$f":"IF(IP25=\"\",\"\",IF(IQ25=\"\",IP25,IF(OR(IQ25>(IP25+5),IQ25<(IP25-5)),IQ25,IP25)))","v":""},{"$f":"IF(IQ25=\"\",\"\",IF(OR(IQ25>(IP25+5),IQ25<(IP25-5)),\"Agncy Repl.\",\"\"))","v":""}]
["#8",null,null,null,null,null,null,null,null,null,null,null,"#8",null,null,null,null,null,null,null,null,null,null,null,"#8",null,null,null,null,null,null,null,null,null,null,null,"#8",null,null,null,null,null,null,null,null,null,null,null,"#8",null,null,null,null,null,null,null,null,null,null,null,"#8",null,null,null,null,null,null,null,null,null,null,null,"#8",null,null,null,null,null,null,null,null,null,null,null,"#8",null,null,null,null,null,null,null,null,null,null,null,"#8",null,null,null,null,null,null,null,null,null,null,null,"#8",null,null,null,null,null,null,null,null,null,null,null,"#8",null,null,null,null,null,null,null,null,null,null,null,"#8",null,null,null,null,null,null,null,null,null,null,null,"#8",null,null,null,null,null,null,null,null,null,null,null,"#8",null,null,null,null,null,null,null,null,null,null,null,"#8",null,null,null,null,null,null,null,null,null,null,null,"#8",null,null,null,null,null,null,null,null,null,null,null,"#8",null,null,null,null,null,null,null,null,null,null,null,"#8",null,null,null,null,null,null,null,null,null,null,null,"#8",null,null,null,null,null,null,null,null,null,null,null,"#8",null,null,null,null,null,null,null,null,null,null,null,"#8",null,null,null,null,null,null,null,null,null,null,null,null,0,"Agency AFT Substituted"]
["Mov Avg.",{"$f":"IF(MDR!$AL$4=\"YES\",MDR!$BQ$49,MDR!$AK12)","v":25},{"$f":"IF(MDR!$AL$4=\"YES\",MDR!BR49,MDR!$AL12)","v":65},null,{"$f":"IF(E28=\"\",\"\",IF(OR(E28>(D28+4),E28<(D28-4)),\"Tolerance\",\"\"))","v":""},null,{"$f":"IF(G28=\"\",\"\",IF(OR(G28>(F28+4),G28<(F28-4)),\"Tolerance\",\"\"))","v":""},null,{"$f":"IF(I28=\"\",\"\",IF(OR(I28>(H28+4),I28<(H28-4)),\"Tolerance\",\"\"))","v":""},{"$f":"mndot_rounding_0(IF(D28=\"\",\"\",IF(F28=\"\",\"\",IF(H28=\"\",\"\",IF(J28=\"\",\"\",Grad!M14)))))","v":{"$error":"#VALUE!"}},{"$f":"IF(K28=\"\",\"\",IF(OR(K28>(J28+4),K28<(J28-4)),\"Tolerance\",\"\"))","v":""},null,"Mov Avg.",{"$f":"IF(MDR!$AL$4=\"YES\",MDR!$BQ$49,MDR!$AK16)","v":25},{"$f":"IF(MDR!$AL$4=\"YES\",MDR!BR49,MDR!$AL16)","v":65},{"$f":"mndot_rounding_0(Grad!$W15)","v":{"$error":"#VALUE!"}},{"$f":"IF(Q28=\"\",\"\",IF(OR(Q28>(P28+4),Q28<(P28-4)),\"Tolerance\",\"\"))","v":""},{"$f":"mndot_rounding_0(Grad!$W16)","v":{"$error":"#VALUE!"}},{"$f":"IF(S28=\"\",\"\",IF(OR(S28>(R28+4),S28<(R28-4)),\"Tolerance\",\"\"))","v":""},{"$f":"mndot_rounding_0(Grad!$W17)","v":{"$error":"#VALUE!"}},{"$f":"IF(U28=\"\",\"\",IF(OR(U28>(T28+4),U28<(T28-4)),\"Tolerance\",\"\"))","v":""},{"$f":"mndot_rounding_0(Grad!$W18)","v":{"$error":"#VALUE!"}},{"$f":"IF(W28=\"\",\"\",IF(OR(W28>(V28+4),W28<(V28-4)),\"Tolerance\",\"\"))","v":""},null,"Mov Avg.",{"$f":"IF(MDR!$AL$4=\"YES\",MDR!$BQ$49,MDR!$AK20)","v":25},{"$f":"IF(MDR!$AL$4=\"YES\",MDR!BR49,MDR!$AL20)","v":65},{"$f":"mndot_rounding_0(Grad!$W19)","v":{"$error":"#VALUE!"}},{"$f":"IF(AC28=\"\",\"\",IF(OR(AC28>(AB28+4),AC28<(AB28-4)),\"Tolerance\",\"\"))","v":""},{"$f":"mndot_rounding_0(Grad!$W20)","v":{"$error":"#VALUE!"}},{"$f":"IF(AE28=\"\",\"\",IF(OR(AE28>(AD28+4),AE28<(AD28-4)),\"Tolerance\",\"\"))","v":""},{"$f":"mndot_rounding_0(Grad!$W21)","v":{"$error":"#VALUE!"}},{"$f":"IF(AG28=\"\",\"\",IF(OR(AG28>(AF28+4),AG28<(AF28-4)),\"Tolerance\",\"\"))","v":""},{"$f":"mndot_rounding_0(Grad!$W22)","v":{"$error":"#VALUE!"}},{"$f":"IF(AI28=\"\",\"\",IF(OR(AI28>(AH28+4),AI28<(AH28-4)),\"Tolerance\",\"\"))","v":""},null,"Mov Avg.",{"$f":"IF(MDR!$AL$4=\"YES\",MDR!$BQ$49,MDR!$AK24)","v":25},{"$f":"IF(MDR!$AL$4=\"YES\",MDR!BR49,MDR!$AL24)","v":65},{"$f":"mndot_rounding_0(Grad!$W23)","v":{"$error":"#VALUE!"}},{"$f":"IF(AO28=\"\",\"\",IF(OR(AO28>(AN28+4),AO28<(AN28-4)),\"Tolerance\",\"\"))","v":""},{"$f":"mndot_rounding_0(Grad!$W24)","v":{"$error":"#VALUE!"}},{"$f":"IF(AQ28=\"\",\"\",IF(OR(AQ28>(AP28+4),AQ28<(AP28-4)),\"Tolerance\",\"\"))","v":""},{"$f":"mndot_rounding_0(Grad!$W25)","v":{"$error":"#VALUE!"}},{"$f":"IF(AS28=\"\",\"\",IF(OR(AS28>(AR28+4),AS28<(AR28-4)),\"Tolerance\",\"\"))","v":""},{"$f":"mndot_rounding_0(Grad!$W26)","v":{"$error":"#VALUE!"}},{"$f":"IF(AU28=\"\",\"\",IF(OR(AU28>(AT28+4),AU28<(AT28-4)),\"Tolerance\",\"\"))","v":""},null,"Mov Avg.",{"$f":"IF(MDR!$AL$4=\"YES\",MDR!$BQ$49,MDR!$AK28)","v":25},{"$f":"IF(MDR!$AL$4=\"YES\",MDR!BR49,MDR!$AL28)","v":65},{"$f":"mndot_rounding_0(Grad!$W27)","v":{"$error":"#VALUE!"}},{"$f":"IF(BA28=\"\",\"\",IF(OR(BA28>(AZ28+4),BA28<(AZ28-4)),\"Tolerance\",\"\"))","v":""},{"$f":"mndot_rounding_0(Grad!$W28)","v":{"$error":"#VALUE!"}},{"$f":"IF(BC28=\"\",\"\",IF(OR(BC28>(BB28+4),BC28<(BB28-4)),\"Tolerance\",\"\"))","v":""},{"$f":"mndot_rounding_0(Grad!$W29)","v":{"$error":"#VALUE!"}},{"$f":"IF(BE28=\"\",\"\",IF(OR(BE28>(BD28+4),BE28<(BD28-4)),\"Tolerance\",\"\"))","v":""},{"$f":"mndot_rounding_0(Grad!$W30)","v":{"$error":"#VALUE!"}},{"$f":"IF(BG28=\"\",\"\",IF(OR(BG28>(BF28+4),BG28<(BF28-4)),\"Tolerance\",\"\"))","v":""},null,"Mov Avg.",{"$f":"IF(MDR!$AL$4=\"YES\",MDR!$BQ$49,MDR!$AK32)","v":25},{"$f":"IF(MDR!$AL$4=\"YES\",MDR!BR49,MDR!$AL32)","v":65},{"$f":"mndot_rounding_0(Grad!$W31)","v":{"$error":"#VALUE!"}},{"$f":"IF(BM28=\"\",\"\",IF(OR(BM28>(BL28+4),BM28<(BL28-4)),\"Tolerance\",\"\"))","v":""},{"$f":"mndot_rounding_0(Grad!$W32)","v":{"$error":"#VALUE!"}},{"$f":"IF(BO28=\"\",\"\",IF(OR(BO28>(BN28+4),BO28<(BN28-4)),\"Tolerance\",\"\"))","v":""},{"$f":"mndot_rounding_0(Grad!$W33)","v":{"$error":"#VALUE!"}},{"$f":"IF(BQ28=\"\",\"\",IF(OR(BQ28>(BP28+4),BQ28<(BP28-4)),\"Tolerance\",\"\"))","v":""},{"$f":"mndot_rounding_0(Grad!$W34)","v":{"$error":"#VALUE!"}},{"$f":"IF(BS28=\"\",\"\",IF(OR(BS28>(BR28+4),BS28<(BR28-4)),\"Tolerance\",\"\"))","v":""},null,"Mov Avg.",{"$f":"IF(MDR!$AL$4=\"YES\",MDR!$BQ$49,MDR!$AK36)","v":25},{"$f":"IF(MDR!$AL$4=\"YES\",MDR!BR49,MDR!$AL36)","v":65},{"$f":"mndot_rounding_0(Grad!$W35)","v":{"$error":"#VALUE!"}},{"$f":"IF(BY28=\"\",\"\",IF(OR(BY28>(BX28+4),BY28<(BX28-4)),\"Tolerance\",\"\"))","v":""},{"$f":"mndot_rounding_0(Grad!$W36)","v":{"$error":"#VALUE!"}},{"$f":"IF(CA28=\"\",\"\",IF(OR(CA28>(BZ28+4),CA28<(BZ28-4)),\"Tolerance\",\"\"))","v":""},{"$f":"mndot_rounding_0(Grad!$W37)","v":{"$error":"#VALUE!"}},{"$f":"IF(CC28=\"\",\"\",IF(OR(CC28>(CB28+4),CC28<(CB28-4)),\"Tolerance\",\"\"))","v":""},{"$f":"mndot_rounding_0(Grad!$W38)","v":{"$error":"#VALUE!"}},{"$f":"IF(CE28=\"\",\"\",IF(OR(CE28>(CD28+4),CE28<(CD28-4)),\"Tolerance\",\"\"))","v":""},null,"Mov Avg.",{"$f":"IF(MDR!$AL$4=\"YES\",MDR!$BQ$49,MDR!$AK40)","v":25},{"$f":"IF(MDR!$AL$4=\"YES\",MDR!BR49,MDR!$AL40)","v":65},{"$f":"mndot_rounding_0(Grad!$W39)","v":{"$error":"#VALUE!"}},{"$f":"IF(CK28=\"\",\"\",IF(OR(CK28>(CJ28+4),CK28<(CJ28-4)),\"Tolerance\",\"\"))","v":""},{"$f":"mndot_rounding_0(Grad!$W40)","v":{"$error":"#VALUE!"}},{"$f":"IF(CM28=\"\",\"\",IF(OR(CM28>(CL28+4),CM28<(CL28-4)),\"Tolerance\",\"\"))","v":""},{"$f":"mndot_rounding_0(Grad!$W41)","v":{"$error":"#VALUE!"}},{"$f":"IF(CO28=\"\",\"\",IF(OR(CO28>(CN28+4),CO28<(CN28-4)),\"Tolerance\",\"\"))","v":""},{"$f":"mndot_rounding_0(Grad!$W42)","v":{"$error":"#VALUE!"}},{"$f":"IF(CQ28=\"\",\"\",IF(OR(CQ28>(CP28+4),CQ28<(CP28-4)),\"Tolerance\",\"\"))","v":""},null,"Mov Avg.",{"$f":"IF(MDR!$AL$4=\"YES\",MDR!$BQ$49,MDR!$AK44)","v":25},{"$f":"IF(MDR!$AL$4=\"YES\",MDR!BR49,MDR!$AL44)","v":65},{"$f":"mndot_rounding_0(Grad!$W43)","v":{"$error":"#VALUE!"}},{"$f":"IF(CW28=\"\",\"\",IF(OR(CW28>(CV28+4),CW28<(CV28-4)),\"Tolerance\",\"\"))","v":""},{"$f":"mndot_rounding_0(Grad!$W44)","v":{"$error":"#VALUE!"}},{"$f":"IF(CY28=\"\",\"\",IF(OR(CY28>(CX28+4),CY28<(CX28-4)),\"Tolerance\",\"\"))","v":""},{"$f":"mndot_rounding_0(Grad!$W45)","v":{"$error":"#VALUE!"}},{"$f":"IF(DA28=\"\",\"\",IF(OR(DA28>(CZ28+4),DA28<(CZ28-4)),\"Tolerance\",\"\"))","v":""},{"$f":"mndot_rounding_0(Grad!$W46)","v":{"$error":"#VALUE!"}},{"$f":"IF(DC28=\"\",\"\",IF(OR(DC28>(DB28+4),DC28<(DB28-4)),\"Tolerance\",\"\"))","v":""},null,"Mov Avg.",{"$f":"IF(MDR!$AL$4=\"YES\",MDR!$BQ$49,MDR!$AK48)","v":25},{"$f":"IF(MDR!$AL$4=\"YES\",MDR!BR49,MDR!$AL48)","v":65},{"$f":"mndot_rounding_0(Grad!$W47)","v":{"$error":"#VALUE!"}},{"$f":"IF(DI28=\"\",\"\",IF(OR(DI28>(DH28+4),DI28<(DH28-4)),\"Tolerance\",\"\"))","v":""},{"$f":"mndot_rounding_0(Grad!$W48)","v":{"$error":"#VALUE!"}},{"$f":"IF(DK28=\"\",\"\",IF(OR(DK28>(DJ28+4),DK28<(DJ28-4)),\"Tolerance\",\"\"))","v":""},{"$f":"mndot_rounding_0(Grad!$W49)","v":{"$error":"#VALUE!"}},{"$f":"IF(DM28=\"\",\"\",IF(OR(DM28>(DL28+4),DM28<(DL28-4)),\"Tolerance\",\"\"))","v":""},{"$f":"mndot_rounding_0(Grad!$W50)","v":{"$error":"#VALUE!"}},{"$f":"IF(DO28=\"\",\"\",IF(OR(DO28>(DN28+4),DO28<(DN28-4)),\"Tolerance\",\"\"))","v":""},null,"Mov Avg.",{"$f":"IF(MDR!$AL$4=\"YES\",MDR!$BQ$49,MDR!$AK52)","v":25},{"$f":"IF(MDR!$AL$4=\"YES\",MDR!BR49,MDR!$AL52)","v":65},{"$f":"mndot_rounding_0(Grad!$W51)","v":{"$error":"#VALUE!"}},{"$f":"IF(DU28=\"\",\"\",IF(OR(DU28>(DT28+4),DU28<(DT28-4)),\"Tolerance\",\"\"))","v":""},{"$f":"mndot_rounding_0(Grad!$W52)","v":{"$error":"#VALUE!"}},{"$f":"IF(DW28=\"\",\"\",IF(OR(DW28>(DV28+4),DW28<(DV28-4)),\"Tolerance\",\"\"))","v":""},{"$f":"mndot_rounding_0(Grad!$W53)","v":{"$error":"#VALUE!"}},{"$f":"IF(DY28=\"\",\"\",IF(OR(DY28>(DX28+4),DY28<(DX28-4)),\"Tolerance\",\"\"))","v":""},{"$f":"mndot_rounding_0(Grad!$W54)","v":{"$error":"#VALUE!"}},{"$f":"IF(EA28=\"\",\"\",IF(OR(EA28>(DZ28+4),EA28<(DZ28-4)),\"Tolerance\",\"\"))","v":""},null,"Mov Avg.",{"$f":"IF(MDR!$AL$4=\"YES\",MDR!$BQ$49,MDR!$AK56)","v":25},{"$f":"IF(MDR!$AL$4=\"YES\",MDR!BR49,MDR!$AL56)","v":65},{"$f":"mndot_rounding_0(Grad!$W55)","v":{"$error":"#VALUE!"}},{"$f":"IF(EG28=\"\",\"\",IF(OR(EG28>(EF28+4),EG28<(EF28-4)),\"Tolerance\",\"\"))","v":""},{"$f":"mndot_rounding_0(Grad!$W56)","v":{"$error":"#VALUE!"}},{"$f":"IF(EI28=\"\",\"\",IF(OR(EI28>(EH28+4),EI28<(EH28-4)),\"Tolerance\",\"\"))","v":""},{"$f":"mndot_rounding_0(Grad!$W57)","v":{"$error":"#VALUE!"}},{"$f":"IF(EK28=\"\",\"\",IF(OR(EK28>(EJ28+4),EK28<(EJ28-4)),\"Tolerance\",\"\"))","v":""},{"$f":"mndot_rounding_0(Grad!$W58)","v":{"$error":"#VALUE!"}},{"$f":"IF(EM28=\"\",\"\",IF(OR(EM28>(EL28+4),EM28<(EL28-4)),\"Tolerance\",\"\"))","v":""},null,"Mov Avg.",{"$f":"IF(MDR!$AL$4=\"YES\",MDR!$BQ$49,MDR!$AK60)","v":25},{"$f":"IF(MDR!$AL$4=\"YES\",MDR!BR49,MDR!$AL60)","v":65},{"$f":"mndot_rounding_0(Grad!$W59)","v":{"$error":"#VALUE!"}},{"$f":"IF(ES28=\"\",\"\",IF(OR(ES28>(ER28+4),ES28<(ER28-4)),\"Tolerance\",\"\"))","v":""},{"$f":"mndot_rounding_0(Grad!$W60)","v":{"$error":"#VALUE!"}},{"$f":"IF(EU28=\"\",\"\",IF(OR(EU28>(ET28+4),EU28<(ET28-4)),\"Tolerance\",\"\"))","v":""},{"$f":"mndot_rounding_0(Grad!$W61)","v":{"$error":"#VALUE!"}},{"$f":"IF(EW28=\"\",\"\",IF(OR(EW28>(EV28+4),EW28<(EV28-4)),\"Tolerance\",\"\"))","v":""},{"$f":"mndot_rounding_0(Grad!$W62)","v":{"$error":"#VALUE!"}},{"$f":"IF(EY28=\"\",\"\",IF(OR(EY28>(EX28+4),EY28<(EX28-4)),\"Tolerance\",\"\"))","v":""},null,"Mov Avg.",{"$f":"IF(MDR!$AL$4=\"YES\",MDR!$BQ$49,MDR!$AK64)","v":25},{"$f":"IF(MDR!$AL$4=\"YES\",MDR!BR49,MDR!$AL64)","v":65},{"$f":"mndot_rounding_0(Grad!$W63)","v":{"$error":"#VALUE!"}},{"$f":"IF(FE28=\"\",\"\",IF(OR(FE28>(FD28+4),FE28<(FD28-4)),\"Tolerance\",\"\"))","v":""},{"$f":"mndot_rounding_0(Grad!$W64)","v":{"$error":"#VALUE!"}},{"$f":"IF(FG28=\"\",\"\",IF(OR(FG28>(FF28+4),FG28<(FF28-4)),\"Tolerance\",\"\"))","v":""},{"$f":"mndot_rounding_0(Grad!$W65)","v":{"$error":"#VALUE!"}},{"$f":"IF(FI28=\"\",\"\",IF(OR(FI28>(FH28+4),FI28<(FH28-4)),\"Tolerance\",\"\"))","v":""},{"$f":"mndot_rounding_0(Grad!$W66)","v":{"$error":"#VALUE!"}},{"$f":"IF(FK28=\"\",\"\",IF(OR(FK28>(FJ28+4),FK28<(FJ28-4)),\"Tolerance\",\"\"))","v":""},null,"Mov Avg.",{"$f":"IF(MDR!$AL$4=\"YES\",MDR!$BQ$49,MDR!$AK68)","v":25},{"$f":"IF(MDR!$AL$4=\"YES\",MDR!BR49,MDR!$AL68)","v":65},{"$f":"mndot_rounding_0(Grad!$W67)","v":{"$error":"#VALUE!"}},{"$f":"IF(FQ28=\"\",\"\",IF(OR(FQ28>(FP28+4),FQ28<(FP28-4)),\"Tolerance\",\"\"))","v":""},{"$f":"mndot_rounding_0(Grad!$W68)","v":{"$error":"#VALUE!"}},{"$f":"IF(FS28=\"\",\"\",IF(OR(FS28>(FR28+4),FS28<(FR28-4)),\"Tolerance\",\"\"))","v":""},{"$f":"mndot_rounding_0(Grad!$W69)","v":{"$error":"#VALUE!"}},{"$f":"IF(FU28=\"\",\"\",IF(OR(FU28>(FT28+4),FU28<(FT28-4)),\"Tolerance\",\"\"))","v":""},{"$f":"mndot_rounding_0(Grad!$W70)","v":{"$error":"#VALUE!"}},{"$f":"IF(FW28=\"\",\"\",IF(OR(FW28>(FV28+4),FW28<(FV28-4)),\"Tolerance\",\"\"))","v":""},null,"Mov Avg.",{"$f":"IF(MDR!$AL$4=\"YES\",MDR!$BQ$49,MDR!$AK72)","v":25},{"$f":"IF(MDR!$AL$4=\"YES\",MDR!BR49,MDR!$AL72)","v":65},{"$f":"mndot_rounding_0(Grad!$W71)","v":{"$error":"#VALUE!"}},{"$f":"IF(GC28=\"\",\"\",IF(OR(GC28>(GB28+4),GC28<(GB28-4)),\"Tolerance\",\"\"))","v":""},{"$f":"mndot_rounding_0(Grad!$W72)","v":{"$error":"#VALUE!"}},{"$f":"IF(GE28=\"\",\"\",IF(OR(GE28>(GD28+4),GE28<(GD28-4)),\"Tolerance\",\"\"))","v":""},{"$f":"mndot_rounding_0(Grad!$W73)","v":{"$error":"#VALUE!"}},{"$f":"IF(GG28=\"\",\"\",IF(OR(GG28>(GF28+4),GG28<(GF28-4)),\"Tolerance\",\"\"))","v":""},{"$f":"mndot_rounding_0(Grad!$W74)","v":{"$error":"#VALUE!"}},{"$f":"IF(GI28=\"\",\"\",IF(OR(GI28>(GH28+4),GI28<(GH28-4)),\"Tolerance\",\"\"))","v":""},null,"Mov Avg.",{"$f":"IF(MDR!$AL$4=\"YES\",MDR!$BQ$49,MDR!$AK76)","v":25},{"$f":"IF(MDR!$AL$4=\"YES\",MDR!BR49,MDR!$AL76)","v":65},{"$f":"mndot_rounding_0(Grad!$W75)","v":{"$error":"#VALUE!"}},{"$f":"IF(GO28=\"\",\"\",IF(OR(GO28>(GN28+4),GO28<(GN28-4)),\"Tolerance\",\"\"))","v":""},{"$f":"mndot_rounding_0(Grad!$W76)","v":{"$error":"#VALUE!"}},{"$f":"IF(GQ28=\"\",\"\",IF(OR(GQ28>(GP28+4),GQ28<(GP28-4)),\"Tolerance\",\"\"))","v":""},{"$f":"mndot_rounding_0(Grad!$W77)","v":{"$error":"#VALUE!"}},{"$f":"IF(GS28=\"\",\"\",IF(OR(GS28>(GR28+4),GS28<(GR28-4)),\"Tolerance\",\"\"))","v":""},{"$f":"mndot_rounding_0(Grad!$W78)","v":{"$error":"#VALUE!"}},{"$f":"IF(GU28=\"\",\"\",IF(OR(GU28>(GT28+4),GU28<(GT28-4)),\"Tolerance\",\"\"))","v":""},null,"Mov Avg.",{"$f":"IF(MDR!$AL$4=\"YES\",MDR!$BQ$49,MDR!$AK80)","v":25},{"$f":"IF(MDR!$AL$4=\"YES\",MDR!BR49,MDR!$AL80)","v":65},{"$f":"mndot_rounding_0(Grad!$W79)","v":{"$error":"#VALUE!"}},{"$f":"IF(HA28=\"\",\"\",IF(OR(HA28>(GZ28+4),HA28<(GZ28-4)),\"Tolerance\",\"\"))","v":""},{"$f":"mndot_rounding_0(Grad!$W80)","v":{"$error":"#VALUE!"}},{"$f":"IF(HC28=\"\",\"\",IF(OR(HC28>(HB28+4),HC28<(HB28-4)),\"Tolerance\",\"\"))","v":""},{"$f":"mndot_rounding_0(Grad!$W81)","v":{"$error":"#VALUE!"}},{"$f":"IF(HE28=\"\",\"\",IF(OR(HE28>(HD28+4),HE28<(HD28-4)),\"Tolerance\",\"\"))","v":""},{"$f":"mndot_rounding_0(Grad!$W82)","v":{"$error":"#VALUE!"}},{"$f":"IF(HG28=\"\",\"\",IF(OR(HG28>(HF28+4),HG28<(HF28-4)),\"Tolerance\",\"\"))","v":""},null,"Mov Avg.",{"$f":"IF(MDR!$AL$4=\"YES\",MDR!$BQ$49,MDR!$AK84)","v":25},{"$f":"IF(MDR!$AL$4=\"YES\",MDR!BR49,MDR!$AL84)","v":65},{"$f":"mndot_rounding_0(Grad!$W83)","v":{"$error":"#VALUE!"}},{"$f":"IF(HM28=\"\",\"\",IF(OR(HM28>(HL28+4),HM28<(HL28-4)),\"Tolerance\",\"\"))","v":""},{"$f":"mndot_rounding_0(Grad!$W84)","v":{"$error":"#VALUE!"}},{"$f":"IF(HO28=\"\",\"\",IF(OR(HO28>(HN28+4),HO28<(HN28-4)),\"Tolerance\",\"\"))","v":""},{"$f":"mndot_rounding_0(Grad!$W85)","v":{"$error":"#VALUE!"}},{"$f":"IF(HQ28=\"\",\"\",IF(OR(HQ28>(HP28+4),HQ28<(HP28-4)),\"Tolerance\",\"\"))","v":""},{"$f":"mndot_rounding_0(Grad!$W86)","v":{"$error":"#VALUE!"}},{"$f":"IF(HS28=\"\",\"\",IF(OR(HS28>(HR28+4),HS28<(HR28-4)),\"Tolerance\",\"\"))","v":""},null,"Mov Avg.",{"$f":"IF(MDR!$AL$4=\"YES\",MDR!$BQ$49,MDR!$AK88)","v":25},{"$f":"IF(MDR!$AL$4=\"YES\",MDR!BR49,MDR!$AL88)","v":65},{"$f":"mndot_rounding_0(Grad!$W87)","v":{"$error":"#VALUE!"}},{"$f":"IF(HY28=\"\",\"\",IF(OR(HY28>(HX28+4),HY28<(HX28-4)),\"Tolerance\",\"\"))","v":""},{"$f":"mndot_rounding_0(Grad!$W88)","v":{"$error":"#VALUE!"}},{"$f":"IF(IA28=\"\",\"\",IF(OR(IA28>(HZ28+4),IA28<(HZ28-4)),\"Tolerance\",\"\"))","v":""},{"$f":"mndot_rounding_0(Grad!$W89)","v":{"$error":"#VALUE!"}},{"$f":"IF(IC28=\"\",\"\",IF(OR(IC28>(IB28+4),IC28<(IB28-4)),\"Tolerance\",\"\"))","v":""},{"$f":"mndot_rounding_0(Grad!$W90)","v":{"$error":"#VALUE!"}},{"$f":"IF(IE28=\"\",\"\",IF(OR(IE28>(ID28+4),IE28<(ID28-4)),\"Tolerance\",\"\"))","v":""},null,"Mov Avg.",{"$f":"IF(MDR!$AL$4=\"YES\",MDR!$BQ$49,MDR!$AK92)","v":25},{"$f":"IF(MDR!$AL$4=\"YES\",MDR!BR49,MDR!$AL92)","v":65},{"$f":"mndot_rounding_0(Grad!$W91)","v":{"$error":"#VALUE!"}},{"$f":"IF(IK28=\"\",\"\",IF(OR(IK28>(IJ28+4),IK28<(IJ28-4)),\"Tolerance\",\"\"))","v":""},{"$f":"mndot_rounding_0(Grad!$W92)","v":{"$error":"#VALUE!"}},{"$f":"IF(IM28=\"\",\"\",IF(OR(IM28>(IL28+4),IM28<(IL28-4)),\"Tolerance\",\"\"))","v":""},{"$f":"mndot_rounding_0(Grad!$W93)","v":{"$error":"#VALUE!"}},{"$f":"IF(IO28=\"\",\"\",IF(OR(IO28>(IN28+4),IO28<(IN28-4)),\"Tolerance\",\"\"))","v":""},{"$f":"mndot_rounding_0(Grad!$W94)","v":{"$error":"#VALUE!"}},{"$f":"IF(IQ28=\"\",\"\",IF(OR(IQ28>(IP28+4),IQ28<(IP28-4)),\"Tolerance\",\"\"))","v":""},null,null,0,"Agency AFT Substituted"]
["#8 Calc. %",null,null,{"$f":"IF(D28=\"\",\"\",IF(E28=\"\",D28,IF(OR(E28>(D28+4),E28<(D28-4)),E28,D28)))","v":""},{"$f":"IF(E28=\"\",\"\",IF(OR(E28>(D28+4),E28<(D28-4)),\"Agncy Repl.\",\"\"))","v":""},{"$f":"IF(F28=\"\",\"\",IF(G28=\"\",F28,IF(OR(G28>(F28+4),G28<(F28-4)),G28,F28)))","v":""},{"$f":"IF(G28=\"\",\"\",IF(OR(G28>(F28+4),G28<(F28-4)),\"Agncy Repl.\",\"\"))","v":""},{"$f":"IF(H28=\"\",\"\",IF(I28=\"\",H28,IF(OR(I28>(H28+4),I28<(H28-4)),I28,H28)))","v":""},{"$f":"IF(I28=\"\",\"\",IF(OR(I28>(H28+4),I28<(H28-4)),\"Agncy Repl.\",\"\"))","v":""},{"$f":"IF(J28=\"\",\"\",IF(K28=\"\",J28,IF(OR(K28>(J28+4),K28<(J28-4)),K28,J28)))","v":""},{"$f":"IF(K28=\"\",\"\",IF(OR(K28>(J28+4),K28<(J28-4)),\"Agncy Repl.\",\"\"))","v":""},null,"Calc. %",null,null,{"$f":"IF(P28=\"\",\"\",IF(Q28=\"\",P28,IF(OR(Q28>(P28+4),Q28<(P28-4)),Q28,P28)))","v":""},{"$f":"IF(Q28=\"\",\"\",IF(OR(Q28>(P28+4),Q28<(P28-4)),\"Agncy Repl.\",\"\"))","v":""},{"$f":"IF(R28=\"\",\"\",IF(S28=\"\",R28,IF(OR(S28>(R28+4),S28<(R28-4)),S28,R28)))","v":""},{"$f":"IF(S28=\"\",\"\",IF(OR(S28>(R28+4),S28<(R28-4)),\"Agncy Repl.\",\"\"))","v":""},{"$f":"IF(T28=\"\",\"\",IF(U28=\"\",T28,IF(OR(U28>(T28+4),U28<(T28-4)),U28,T28)))","v":""},{"$f":"IF(U28=\"\",\"\",IF(OR(U28>(T28+4),U28<(T28-4)),\"Agncy Repl.\",\"\"))","v":""},{"$f":"IF(V28=\"\",\"\",IF(W28=\"\",V28,IF(OR(W28>(V28+4),W28<(V28-4)),W28,V28)))","v":""},{"$f":"IF(W28=\"\",\"\",IF(OR(W28>(V28+4),W28<(V28-4)),\"Agncy Repl.\",\"\"))","v":""},null,"Calc. %",null,null,{"$f":"IF(AB28=\"\",\"\",IF(AC28=\"\",AB28,IF(OR(AC28>(AB28+4),AC28<(AB28-4)),AC28,AB28)))","v":""},{"$f":"IF(AC28=\"\",\"\",IF(OR(AC28>(AB28+4),AC28<(AB28-4)),\"Agncy Repl.\",\"\"))","v":""},{"$f":"IF(AD28=\"\",\"\",IF(AE28=\"\",AD28,IF(OR(AE28>(AD28+4),AE28<(AD28-4)),AE28,AD28)))","v":""},{"$f":"IF(AE28=\"\",\"\",IF(OR(AE28>(AD28+4),AE28<(AD28-4)),\"Agncy Repl.\",\"\"))","v":""},{"$f":"IF(AF28=\"\",\"\",IF(AG28=\"\",AF28,IF(OR(AG28>(AF28+4),AG28<(AF28-4)),AG28,AF28)))","v":""},{"$f":"IF(AG28=\"\",\"\",IF(OR(AG28>(AF28+4),AG28<(AF28-4)),\"Agncy Repl.\",\"\"))","v":""},{"$f":"IF(AH28=\"\",\"\",IF(AI28=\"\",AH28,IF(OR(AI28>(AH28+4),AI28<(AH28-4)),AI28,AH28)))","v":""},{"$f":"IF(AI28=\"\",\"\",IF(OR(AI28>(AH28+4),AI28<(AH28-4)),\"Agncy Repl.\",\"\"))","v":""},null,"Calc. %",null,null,{"$f":"IF(AN28=\"\",\"\",IF(AO28=\"\",AN28,IF(OR(AO28>(AN28+4),AO28<(AN28-4)),AO28,AN28)))","v":""},{"$f":"IF(AO28=\"\",\"\",IF(OR(AO28>(AN28+4),AO28<(AN28-4)),\"Agncy Repl.\",\"\"))","v":""},{"$f":"IF(AP28=\"\",\"\",IF(AQ28=\"\",AP28,IF(OR(AQ28>(AP28+4),AQ28<(AP28-4)),AQ28,AP28)))","v":""},{"$f":"IF(AQ28=\"\",\"\",IF(OR(AQ28>(AP28+4),AQ28<(AP28-4)),\"Agncy Repl.\",\"\"))","v":""},{"$f":"IF(AR28=\"\",\"\",IF(AS28=\"\",AR28,IF(OR(AS28>(AR28+4),AS28<(AR28-4)),AS28,AR28)))","v":""},{"$f":"IF(AS28=\"\",\"\",IF(OR(AS28>(AR28+4),AS28<(AR28-4)),\"Agncy Repl.\",\"\"))","v":""},{"$f":"IF(AT28=\"\",\"\",IF(AU28=\"\",AT28,IF(OR(AU28>(AT28+4),AU28<(AT28-4)),AU28,AT28)))","v":""},{"$f":"IF(AU28=\"\",\"\",IF(OR(AU28>(AT28+4),AU28<(AT28-4)),\"Agncy Repl.\",\"\"))","v":""},null,"Calc. %",null,null,{"$f":"IF(AZ28=\"\",\"\",IF(BA28=\"\",AZ28,IF(OR(BA28>(AZ28+4),BA28<(AZ28-4)),BA28,AZ28)))","v":""},{"$f":"IF(BA28=\"\",\"\",IF(OR(BA28>(AZ28+4),BA28<(AZ28-4)),\"Agncy Repl.\",\"\"))","v":""},{"$f":"IF(BB28=\"\",\"\",IF(BC28=\"\",BB28,IF(OR(BC28>(BB28+4),BC28<(BB28-4)),BC28,BB28)))","v":""},{"$f":"IF(BC28=\"\",\"\",IF(OR(BC28>(BB28+4),BC28<(BB28-4)),\"Agncy Repl.\",\"\"))","v":""},{"$f":"IF(BD28=\"\",\"\",IF(BE28=\"\",BD28,IF(OR(BE28>(BD28+4),BE28<(BD28-4)),BE28,BD28)))","v":""},{"$f":"IF(BE28=\"\",\"\",IF(OR(BE28>(BD28+4),BE28<(BD28-4)),\"Agncy Repl.\",\"\"))","v":""},{"$f":"IF(BF28=\"\",\"\",IF(BG28=\"\",BF28,IF(OR(BG28>(BF28+4),BG28<(BF28-4)),BG28,BF28)))","v":""},{"$f":"IF(BG28=\"\",\"\",IF(OR(BG28>(BF28+4),BG28<(BF28-4)),\"Agncy Repl.\",\"\"))","v":""},null,"Calc. %",null,null,{"$f":"IF(BL28=\"\",\"\",IF(BM28=\"\",BL28,IF(OR(BM28>(BL28+4),BM28<(BL28-4)),BM28,BL28)))","v":""},{"$f":"IF(BM28=\"\",\"\",IF(OR(BM28>(BL28+4),BM28<(BL28-4)),\"Agncy Repl.\",\"\"))","v":""},{"$f":"IF(BN28=\"\",\"\",IF(BO28=\"\",BN28,IF(OR(BO28>(BN28+4),BO28<(BN28-4)),BO28,BN28)))","v":""},{"$f":"IF(BO28=\"\",\"\",IF(OR(BO28>(BN28+4),BO28<(BN28-4)),\"Agncy Repl.\",\"\"))","v":""},{"$f":"IF(BP28=\"\",\"\",IF(BQ28=\"\",BP28,IF(OR(BQ28>(BP28+4),BQ28<(BP28-4)),BQ28,BP28)))","v":""},{"$f":"IF(BQ28=\"\",\"\",IF(OR(BQ28>(BP28+4),BQ28<(BP28-4)),\"Agncy Repl.\",\"\"))","v":""},{"$f":"IF(BR28=\"\",\"\",IF(BS28=\"\",BR28,IF(OR(BS28>(BR28+4),BS28<(BR28-4)),BS28,BR28)))","v":""},{"$f":"IF(BS28=\"\",\"\",IF(OR(BS28>(BR28+4),BS28<(BR28-4)),\"Agncy Repl.\",\"\"))","v":""},null,"Calc. %",null,null,{"$f":"IF(BX28=\"\",\"\",IF(BY28=\"\",BX28,IF(OR(BY28>(BX28+4),BY28<(BX28-4)),BY28,BX28)))","v":""},{"$f":"IF(BY28=\"\",\"\",IF(OR(BY28>(BX28+4),BY28<(BX28-4)),\"Agncy Repl.\",\"\"))","v":""},{"$f":"IF(BZ28=\"\",\"\",IF(CA28=\"\",BZ28,IF(OR(CA28>(BZ28+4),CA28<(BZ28-4)),CA28,BZ28)))","v":""},{"$f":"IF(CA28=\"\",\"\",IF(OR(CA28>(BZ28+4),CA28<(BZ28-4)),\"Agncy Repl.\",\"\"))","v":""},{"$f":"IF(CB28=\"\",\"\",IF(CC28=\"\",CB28,IF(OR(CC28>(CB28+4),CC28<(CB28-4)),CC28,CB28)))","v":""},{"$f":"IF(CC28=\"\",\"\",IF(OR(CC28>(CB28+4),CC28<(CB28-4)),\"Agncy Repl.\",\"\"))","v":""},{"$f":"IF(CD28=\"\",\"\",IF(CE28=\"\",CD28,IF(OR(CE28>(CD28+4),CE28<(CD28-4)),CE28,CD28)))","v":""},{"$f":"IF(CE28=\"\",\"\",IF(OR(CE28>(CD28+4),CE28<(CD28-4)),\"Agncy Repl.\",\"\"))","v":""},null,"Calc. %",null,null,{"$f":"IF(CJ28=\"\",\"\",IF(CK28=\"\",CJ28,IF(OR(CK28>(CJ28+4),CK28<(CJ28-4)),CK28,CJ28)))","v":""},{"$f":"IF(CK28=\"\",\"\",IF(OR(CK28>(CJ28+4),CK28<(CJ28-4)),\"Agncy Repl.\",\"\"))","v":""},{"$f":"IF(CL28=\"\",\"\",IF(CM28=\"\",CL28,IF(OR(CM28>(CL28+4),CM28<(CL28-4)),CM28,CL28)))","v":""},{"$f":"IF(CM28=\"\",\"\",IF(OR(CM28>(CL28+4),CM28<(CL28-4)),\"Agncy Repl.\",\"\"))","v":""},{"$f":"IF(CN28=\"\",\"\",IF(CO28=\"\",CN28,IF(OR(CO28>(CN28+4),CO28<(CN28-4)),CO28,CN28)))","v":""},{"$f":"IF(CO28=\"\",\"\",IF(OR(CO28>(CN28+4),CO28<(CN28-4)),\"Agncy Repl.\",\"\"))","v":""},{"$f":"IF(CP28=\"\",\"\",IF(CQ28=\"\",CP28,IF(OR(CQ28>(CP28+4),CQ28<(CP28-4)),CQ28,CP28)))","v":""},{"$f":"IF(CQ28=\"\",\"\",IF(OR(CQ28>(CP28+4),CQ28<(CP28-4)),\"Agncy Repl.\",\"\"))","v":""},null,"Calc. %",null,null,{"$f":"IF(CV28=\"\",\"\",IF(CW28=\"\",CV28,IF(OR(CW28>(CV28+4),CW28<(CV28-4)),CW28,CV28)))","v":""},{"$f":"IF(CW28=\"\",\"\",IF(OR(CW28>(CV28+4),CW28<(CV28-4)),\"Agncy Repl.\",\"\"))","v":""},{"$f":"IF(CX28=\"\",\"\",IF(CY28=\"\",CX28,IF(OR(CY28>(CX28+4),CY28<(CX28-4)),CY28,CX28)))","v":""},{"$f":"IF(CY28=\"\",\"\",IF(OR(CY28>(CX28+4),CY28<(CX28-4)),\"Agncy Repl.\",\"\"))","v":""},{"$f":"IF(CZ28=\"\",\"\",IF(DA28=\"\",CZ28,IF(OR(DA28>(CZ28+4),DA28<(CZ28-4)),DA28,CZ28)))","v":""},{"$f":"IF(DA28=\"\",\"\",IF(OR(DA28>(CZ28+4),DA28<(CZ28-4)),\"Agncy Repl.\",\"\"))","v":""},{"$f":"IF(DB28=\"\",\"\",IF(DC28=\"\",DB28,IF(OR(DC28>(DB28+4),DC28<(DB28-4)),DC28,DB28)))","v":""},{"$f":"IF(DC28=\"\",\"\",IF(OR(DC28>(DB28+4),DC28<(DB28-4)),\"Agncy Repl.\",\"\"))","v":""},null,"Calc. %",null,null,{"$f":"IF(DH28=\"\",\"\",IF(DI28=\"\",DH28,IF(OR(DI28>(DH28+4),DI28<(DH28-4)),DI28,DH28)))","v":""},{"$f":"IF(DI28=\"\",\"\",IF(OR(DI28>(DH28+4),DI28<(DH28-4)),\"Agncy Repl.\",\"\"))","v":""},{"$f":"IF(DJ28=\"\",\"\",IF(DK28=\"\",DJ28,IF(OR(DK28>(DJ28+4),DK28<(DJ28-4)),DK28,DJ28)))","v":""},{"$f":"IF(DK28=\"\",\"\",IF(OR(DK28>(DJ28+4),DK28<(DJ28-4)),\"Agncy Repl.\",\"\"))","v":""},{"$f":"IF(DL28=\"\",\"\",IF(DM28=\"\",DL28,IF(OR(DM28>(DL28+4),DM28<(DL28-4)),DM28,DL28)))","v":""},{"$f":"IF(DM28=\"\",\"\",IF(OR(DM28>(DL28+4),DM28<(DL28-4)),\"Agncy Repl.\",\"\"))","v":""},{"$f":"IF(DN28=\"\",\"\",IF(DO28=\"\",DN28,IF(OR(DO28>(DN28+4),DO28<(DN28-4)),DO28,DN28)))","v":""},{"$f":"IF(DO28=\"\",\"\",IF(OR(DO28>(DN28+4),DO28<(DN28-4)),\"Agncy Repl.\",\"\"))","v":""},null,"Calc. %",null,null,{"$f":"IF(DT28=\"\",\"\",IF(DU28=\"\",DT28,IF(OR(DU28>(DT28+4),DU28<(DT28-4)),DU28,DT28)))","v":""},{"$f":"IF(DU28=\"\",\"\",IF(OR(DU28>(DT28+4),DU28<(DT28-4)),\"Agncy Repl.\",\"\"))","v":""},{"$f":"IF(DV28=\"\",\"\",IF(DW28=\"\",DV28,IF(OR(DW28>(DV28+4),DW28<(DV28-4)),DW28,DV28)))","v":""},{"$f":"IF(DW28=\"\",\"\",IF(OR(DW28>(DV28+4),DW28<(DV28-4)),\"Agncy Repl.\",\"\"))","v":""},{"$f":"IF(DX28=\"\",\"\",IF(DY28=\"\",DX28,IF(OR(DY28>(DX28+4),DY28<(DX28-4)),DY28,DX28)))","v":""},{"$f":"IF(DY28=\"\",\"\",IF(OR(DY28>(DX28+4),DY28<(DX28-4)),\"Agncy Repl.\",\"\"))","v":""},{"$f":"IF(DZ28=\"\",\"\",IF(EA28=\"\",DZ28,IF(OR(EA28>(DZ28+4),EA28<(DZ28-4)),EA28,DZ28)))","v":""},{"$f":"IF(EA28=\"\",\"\",IF(OR(EA28>(DZ28+4),EA28<(DZ28-4)),\"Agncy Repl.\",\"\"))","v":""},null,"Calc. %",null,null,{"$f":"IF(EF28=\"\",\"\",IF(EG28=\"\",EF28,IF(OR(EG28>(EF28+4),EG28<(EF28-4)),EG28,EF28)))","v":""},{"$f":"IF(EG28=\"\",\"\",IF(OR(EG28>(EF28+4),EG28<(EF28-4)),\"Agncy Repl.\",\"\"))","v":""},{"$f":"IF(EH28=\"\",\"\",IF(EI28=\"\",EH28,IF(OR(EI28>(EH28+4),EI28<(EH28-4)),EI28,EH28)))","v":""},{"$f":"IF(EI28=\"\",\"\",IF(OR(EI28>(EH28+4),EI28<(EH28-4)),\"Agncy Repl.\",\"\"))","v":""},{"$f":"IF(EJ28=\"\",\"\",IF(EK28=\"\",EJ28,IF(OR(EK28>(EJ28+4),EK28<(EJ28-4)),EK28,EJ28)))","v":""},{"$f":"IF(EK28=\"\",\"\",IF(OR(EK28>(EJ28+4),EK28<(EJ28-4)),\"Agncy Repl.\",\"\"))","v":""},{"$f":"IF(EL28=\"\",\"\",IF(EM28=\"\",EL28,IF(OR(EM28>(EL28+4),EM28<(EL28-4)),EM28,EL28)))","v":""},{"$f":"IF(EM28=\"\",\"\",IF(OR(EM28>(EL28+4),EM28<(EL28-4)),\"Agncy Repl.\",\"\"))","v":""},null,"Calc. %",null,null,{"$f":"IF(ER28=\"\",\"\",IF(ES28=\"\",ER28,IF(OR(ES28>(ER28+4),ES28<(ER28-4)),ES28,ER28)))","v":""},{"$f":"IF(ES28=\"\",\"\",IF(OR(ES28>(ER28+4),ES28<(ER28-4)),\"Agncy Repl.\",\"\"))","v":""},{"$f":"IF(ET28=\"\",\"\",IF(EU28=\"\",ET28,IF(OR(EU28>(ET28+4),EU28<(ET28-4)),EU28,ET28)))","v":""},{"$f":"IF(EU28=\"\",\"\",IF(OR(EU28>(ET28+4),EU28<(ET28-4)),\"Agncy Repl.\",\"\"))","v":""},{"$f":"IF(EV28=\"\",\"\",IF(EW28=\"\",EV28,IF(OR(EW28>(EV28+4),EW28<(EV28-4)),EW28,EV28)))","v":""},{"$f":"IF(EW28=\"\",\"\",IF(OR(EW28>(EV28+4),EW28<(EV28-4)),\"Agncy Repl.\",\"\"))","v":""},{"$f":"IF(EX28=\"\",\"\",IF(EY28=\"\",EX28,IF(OR(EY28>(EX28+4),EY28<(EX28-4)),EY28,EX28)))","v":""},{"$f":"IF(EY28=\"\",\"\",IF(OR(EY28>(EX28+4),EY28<(EX28-4)),\"Agncy Repl.\",\"\"))","v":""},null,"Calc. %",null,null,{"$f":"IF(FD28=\"\",\"\",IF(FE28=\"\",FD28,IF(OR(FE28>(FD28+4),FE28<(FD28-4)),FE28,FD28)))","v":""},{"$f":"IF(FE28=\"\",\"\",IF(OR(FE28>(FD28+4),FE28<(FD28-4)),\"Agncy Repl.\",\"\"))","v":""},{"$f":"IF(FF28=\"\",\"\",IF(FG28=\"\",FF28,IF(OR(FG28>(FF28+4),FG28<(FF28-4)),FG28,FF28)))","v":""},{"$f":"IF(FG28=\"\",\"\",IF(OR(FG28>(FF28+4),FG28<(FF28-4)),\"Agncy Repl.\",\"\"))","v":""},{"$f":"IF(FH28=\"\",\"\",IF(FI28=\"\",FH28,IF(OR(FI28>(FH28+4),FI28<(FH28-4)),FI28,FH28)))","v":""},{"$f":"IF(FI28=\"\",\"\",IF(OR(FI28>(FH28+4),FI28<(FH28-4)),\"Agncy Repl.\",\"\"))","v":""},{"$f":"IF(FJ28=\"\",\"\",IF(FK28=\"\",FJ28,IF(OR(FK28>(FJ28+4),FK28<(FJ28-4)),FK28,FJ28)))","v":""},{"$f":"IF(FK28=\"\",\"\",IF(OR(FK28>(FJ28+4),FK28<(FJ28-4)),\"Agncy Repl.\",\"\"))","v":""},null,"Calc. %",null,null,{"$f":"IF(FP28=\"\",\"\",IF(FQ28=\"\",FP28,IF(OR(FQ28>(FP28+4),FQ28<(FP28-4)),FQ28,FP28)))","v":""},{"$f":"IF(FQ28=\"\",\"\",IF(OR(FQ28>(FP28+4),FQ28<(FP28-4)),\"Agncy Repl.\",\"\"))","v":""},{"$f":"IF(FR28=\"\",\"\",IF(FS28=\"\",FR28,IF(OR(FS28>(FR28+4),FS28<(FR28-4)),FS28,FR28)))","v":""},{"$f":"IF(FS28=\"\",\"\",IF(OR(FS28>(FR28+4),FS28<(FR28-4)),\"Agncy Repl.\",\"\"))","v":""},{"$f":"IF(FT28=\"\",\"\",IF(FU28=\"\",FT28,IF(OR(FU28>(FT28+4),FU28<(FT28-4)),FU28,FT28)))","v":""},{"$f":"IF(FU28=\"\",\"\",IF(OR(FU28>(FT28+4),FU28<(FT28-4)),\"Agncy Repl.\",\"\"))","v":""},{"$f":"IF(FV28=\"\",\"\",IF(FW28=\"\",FV28,IF(OR(FW28>(FV28+4),FW28<(FV28-4)),FW28,FV28)))","v":""},{"$f":"IF(FW28=\"\",\"\",IF(OR(FW28>(FV28+4),FW28<(FV28-4)),\"Agncy Repl.\",\"\"))","v":""},null,"Calc. %",null,null,{"$f":"IF(GB28=\"\",\"\",IF(GC28=\"\",GB28,IF(OR(GC28>(GB28+4),GC28<(GB28-4)),GC28,GB28)))","v":""},{"$f":"IF(GC28=\"\",\"\",IF(OR(GC28>(GB28+4),GC28<(GB28-4)),\"Agncy Repl.\",\"\"))","v":""},{"$f":"IF(GD28=\"\",\"\",IF(GE28=\"\",GD28,IF(OR(GE28>(GD28+4),GE28<(GD28-4)),GE28,GD28)))","v":""},{"$f":"IF(GE28=\"\",\"\",IF(OR(GE28>(GD28+4),GE28<(GD28-4)),\"Agncy Repl.\",\"\"))","v":""},{"$f":"IF(GF28=\"\",\"\",IF(GG28=\"\",GF28,IF(OR(GG28>(GF28+4),GG28<(GF28-4)),GG28,GF28)))","v":""},{"$f":"IF(GG28=\"\",\"\",IF(OR(GG28>(GF28+4),GG28<(GF28-4)),\"Agncy Repl.\",\"\"))","v":""},{"$f":"IF(GH28=\"\",\"\",IF(GI28=\"\",GH28,IF(OR(GI28>(GH28+4),GI28<(GH28-4)),GI28,GH28)))","v":""},{"$f":"IF(GI28=\"\",\"\",IF(OR(GI28>(GH28+4),GI28<(GH28-4)),\"Agncy Repl.\",\"\"))","v":""},null,"Calc. %",null,null,{"$f":"IF(GN28=\"\",\"\",IF(GO28=\"\",GN28,IF(OR(GO28>(GN28+4),GO28<(GN28-4)),GO28,GN28)))","v":""},{"$f":"IF(GO28=\"\",\"\",IF(OR(GO28>(GN28+4),GO28<(GN28-4)),\"Agncy Repl.\",\"\"))","v":""},{"$f":"IF(GP28=\"\",\"\",IF(GQ28=\"\",GP28,IF(OR(GQ28>(GP28+4),GQ28<(GP28-4)),GQ28,GP28)))","v":""},{"$f":"IF(GQ28=\"\",\"\",IF(OR(GQ28>(GP28+4),GQ28<(GP28-4)),\"Agncy Repl.\",\"\"))","v":""},{"$f":"IF(GR28=\"\",\"\",IF(GS28=\"\",GR28,IF(OR(GS28>(GR28+4),GS28<(GR28-4)),GS28,GR28)))","v":""},{"$f":"IF(GS28=\"\",\"\",IF(OR(GS28>(GR28+4),GS28<(GR28-4)),\"Agncy Repl.\",\"\"))","v":""},{"$f":"IF(GT28=\"\",\"\",IF(GU28=\"\",GT28,IF(OR(GU28>(GT28+4),GU28<(GT28-4)),GU28,GT28)))","v":""},{"$f":"IF(GU28=\"\",\"\",IF(OR(GU28>(GT28+4),GU28<(GT28-4)),\"Agncy Repl.\",\"\"))","v":""},null,"Calc. %",null,null,{"$f":"IF(GZ28=\"\",\"\",IF(HA28=\"\",GZ28,IF(OR(HA28>(GZ28+4),HA28<(GZ28-4)),HA28,GZ28)))","v":""},{"$f":"IF(HA28=\"\",\"\",IF(OR(HA28>(GZ28+4),HA28<(GZ28-4)),\"Agncy Repl.\",\"\"))","v":""},{"$f":"IF(HB28=\"\",\"\",IF(HC28=\"\",HB28,IF(OR(HC28>(HB28+4),HC28<(HB28-4)),HC28,HB28)))","v":""},{"$f":"IF(HC28=\"\",\"\",IF(OR(HC28>(HB28+4),HC28<(HB28-4)),\"Agncy Repl.\",\"\"))","v":""},{"$f":"IF(HD28=\"\",\"\",IF(HE28=\"\",HD28,IF(OR(HE28>(HD28+4),HE28<(HD28-4)),HE28,HD28)))","v":""},{"$f":"IF(HE28=\"\",\"\",IF(OR(HE28>(HD28+4),HE28<(HD28-4)),\"Agncy Repl.\",\"\"))","v":""},{"$f":"IF(HF28=\"\",\"\",IF(HG28=\"\",HF28,IF(OR(HG28>(HF28+4),HG28<(HF28-4)),HG28,HF28)))","v":""},{"$f":"IF(HG28=\"\",\"\",IF(OR(HG28>(HF28+4),HG28<(HF28-4)),\"Agncy Repl.\",\"\"))","v":""},null,"Calc. %",null,null,{"$f":"IF(HL28=\"\",\"\",IF(HM28=\"\",HL28,IF(OR(HM28>(HL28+4),HM28<(HL28-4)),HM28,HL28)))","v":""},{"$f":"IF(HM28=\"\",\"\",IF(OR(HM28>(HL28+4),HM28<(HL28-4)),\"Agncy Repl.\",\"\"))","v":""},{"$f":"IF(HN28=\"\",\"\",IF(HO28=\"\",HN28,IF(OR(HO28>(HN28+4),HO28<(HN28-4)),HO28,HN28)))","v":""},{"$f":"IF(HO28=\"\",\"\",IF(OR(HO28>(HN28+4),HO28<(HN28-4)),\"Agncy Repl.\",\"\"))","v":""},{"$f":"IF(HP28=\"\",\"\",IF(HQ28=\"\",HP28,IF(OR(HQ28>(HP28+4),HQ28<(HP28-4)),HQ28,HP28)))","v":""},{"$f":"IF(HQ28=\"\",\"\",IF(OR(HQ28>(HP28+4),HQ28<(HP28-4)),\"Agncy Repl.\",\"\"))","v":""},{"$f":"IF(HR28=\"\",\"\",IF(HS28=\"\",HR28,IF(OR(HS28>(HR28+4),HS28<(HR28-4)),HS28,HR28)))","v":""},{"$f":"IF(HS28=\"\",\"\",IF(OR(HS28>(HR28+4),HS28<(HR28-4)),\"Agncy Repl.\",\"\"))","v":""},null,"Calc. %",null,null,{"$f":"IF(HX28=\"\",\"\",IF(HY28=\"\",HX28,IF(OR(HY28>(HX28+4),HY28<(HX28-4)),HY28,HX28)))","v":""},{"$f":"IF(HY28=\"\",\"\",IF(OR(HY28>(HX28+4),HY28<(HX28-4)),\"Agncy Repl.\",\"\"))","v":""},{"$f":"IF(HZ28=\"\",\"\",IF(IA28=\"\",HZ28,IF(OR(IA28>(HZ28+4),IA28<(HZ28-4)),IA28,HZ28)))","v":""},{"$f":"IF(IA28=\"\",\"\",IF(OR(IA28>(HZ28+4),IA28<(HZ28-4)),\"Agncy Repl.\",\"\"))","v":""},{"$f":"IF(IB28=\"\",\"\",IF(IC28=\"\",IB28,IF(OR(IC28>(IB28+4),IC28<(IB28-4)),IC28,IB28)))","v":""},{"$f":"IF(IC28=\"\",\"\",IF(OR(IC28>(IB28+4),IC28<(IB28-4)),\"Agncy Repl.\",\"\"))","v":""},{"$f":"IF(ID28=\"\",\"\",IF(IE28=\"\",ID28,IF(OR(IE28>(ID28+4),IE28<(ID28-4)),IE28,ID28)))","v":""},{"$f":"IF(IE28=\"\",\"\",IF(OR(IE28>(ID28+4),IE28<(ID28-4)),\"Agncy Repl.\",\"\"))","v":""},null,"Calc. %",null,null,{"$f":"IF(IJ28=\"\",\"\",IF(IK28=\"\",IJ28,IF(OR(IK28>(IJ28+4),IK28<(IJ28-4)),IK28,IJ28)))","v":""},{"$f":"IF(IK28=\"\",\"\",IF(OR(IK28>(IJ28+4),IK28<(IJ28-4)),\"Agncy Repl.\",\"\"))","v":""},{"$f":"IF(IL28=\"\",\"\",IF(IM28=\"\",IL28,IF(OR(IM28>(IL28+4),IM28<(IL28-4)),IM28,IL28)))","v":""},{"$f":"IF(IM28=\"\",\"\",IF(OR(IM28>(IL28+4),IM28<(IL28-4)),\"Agncy Repl.\",\"\"))","v":""},{"$f":"IF(IN28=\"\",\"\",IF(IO28=\"\",IN28,IF(OR(IO28>(IN28+4),IO28<(IN28-4)),IO28,IN28)))","v":""},{"$f":"IF(IO28=\"\",\"\",IF(OR(IO28>(IN28+4),IO28<(IN28-4)),\"Agncy Repl.\",\"\"))","v":""},{"$f":"IF(IP28=\"\",\"\",IF(IQ28=\"\",IP28,IF(OR(IQ28>(IP28+4),IQ28<(IP28-4)),IQ28,IP28)))","v":""},{"$f":"IF(IQ28=\"\",\"\",IF(OR(IQ28>(IP28+4),IQ28<(IP28-4)),\"Agncy Repl.\",\"\"))","v":""}]
["# 16",null,null,null,null,null,null,null,null,null,null,null,"# 16",null,null,null,null,null,null,null,null,null,null,null,"# 16",null,null,null,null,null,null,null,null,null,null,null,"# 16",null,null,null,null,null,null,null,null,null,null,null,"# 16",null,null,null,null,null,null,null,null,null,null,null,"# 16",null,null,null,null,null,null,null,null,null,null,null,"# 16",null,null,null,null,null,null,null,null,null,null,null,"# 16",null,null,null,null,null,null,null,null,null,null,null,"# 16",null,null,null,null,null,null,null,null,null,null,null,"# 16",null,null,null,null,null,null,null,null,null,null,null,"# 16",null,null,null,null,null,null,null,null,null,null,null,"# 16",null,null,null,null,null,null,null,null,null,null,null,"# 16",null,null,null,null,null,null,null,null,null,null,null,"# 16",null,null,null,null,null,null,null,null,null,null,null,"# 16",null,null,null,null,null,null,null,null,null,null,null,"# 16",null,null,null,null,null,null,null,null,null,null,null,"# 16",null,null,null,null,null,null,null,null,null,null,null,"# 16",null,null,null,null,null,null,null,null,null,null,null,"# 16",null,null,null,null,null,null,null,null,null,null,null,"# 16",null,null,null,null,null,null,null,null,null,null,null,"# 16",null,null,null,null,null,null,null,null,null,null,null,null,0,"Agency AFT Substituted"]
["#16 Calc. %",null,null,{"$f":"IF(D31=\"\",\"\",IF(E31=\"\",D31,IF(OR(E31>(D31+4),E31<(D31-4)),E31,D31)))","v":""},{"$f":"IF(E31=\"\",\"\",IF(OR(E31>(D31+4),E31<(D31-4)),\"Agncy Repl.\",\"\"))","v":""},{"$f":"IF(F31=\"\",\"\",IF(G31=\"\",F31,IF(OR(G31>(F31+4),G31<(F31-4)),G31,F31)))","v":""},{"$f":"IF(G31=\"\",\"\",IF(OR(G31>(F31+4),G31<(F31-4)),\"Agncy Repl.\",\"\"))","v":""},{"$f":"IF(H31=\"\",\"\",IF(I31=\"\",H31,IF(OR(I31>(H31+4),I31<(H31-4)),I31,H31)))","v":""},{"$f":"IF(I31=\"\",\"\",IF(OR(I31>(H31+4),I31<(H31-4)),\"Agncy Repl.\",\"\"))","v":""},{"$f":"IF(J31=\"\",\"\",IF(K31=\"\",J31,IF(OR(K31>(J31+4),K31<(J31-4)),K31,J31)))","v":""},{"$f":"IF(K31=\"\",\"\",IF(OR(K31>(J31+4),K31<(J31-4)),\"Agncy Repl.\",\"\"))","v":""},null,"#16 Calc. %",null,null,{"$f":"IF(P31=\"\",\"\",IF(Q31=\"\",P31,IF(OR(Q31>(P31+4),Q31<(P31-4)),Q31,P31)))","v":""},{"$f":"IF(Q31=\"\",\"\",IF(OR(Q31>(P31+4),Q31<(P31-4)),\"Agncy Repl.\",\"\"))","v":""},{"$f":"IF(R31=\"\",\"\",IF(S31=\"\",R31,IF(OR(S31>(R31+4),S31<(R31-4)),S31,R31)))","v":""},{"$f":"IF(S31=\"\",\"\",IF(OR(S31>(R31+4),S31<(R31-4)),\"Agncy Repl.\",\"\"))","v":""},{"$f":"IF(T31=\"\",\"\",IF(U31=\"\",T31,IF(OR(U31>(T31+4),U31<(T31-4)),U31,T31)))","v":""},{"$f":"IF(U31=\"\",\"\",IF(OR(U31>(T31+4),U31<(T31-4)),\"Agncy Repl.\",\"\"))","v":""},{"$f":"IF(V31=\"\",\"\",IF(W31=\"\",V31,IF(OR(W31>(V31+4),W31<(V31-4)),W31,V31)))","v":""},{"$f":"IF(W31=\"\",\"\",IF(OR(W31>(V31+4),W31<(V31-4)),\"Agncy Repl.\",\"\"))","v":""},null,"#16 Calc. %",null,null,{"$f":"IF(AB31=\"\",\"\",IF(AC31=\"\",AB31,IF(OR(AC31>(AB31+4),AC31<(AB31-4)),AC31,AB31)))","v":""},{"$f":"IF(AC31=\"\",\"\",IF(OR(AC31>(AB31+4),AC31<(AB31-4)),\"Agncy Repl.\",\"\"))","v":""},{"$f":"IF(AD31=\"\",\"\",IF(AE31=\"\",AD31,IF(OR(AE31>(AD31+4),AE31<(AD31-4)),AE31,AD31)))","v":""},{"$f":"IF(AE31=\"\",\"\",IF(OR(AE31>(AD31+4),AE31<(AD31-4)),\"Agncy Repl.\",\"\"))","v":""},{"$f":"IF(AF31=\"\",\"\",IF(AG31=\"\",AF31,IF(OR(AG31>(AF31+4),AG31<(AF31-4)),AG31,AF31)))","v":""},{"$f":"IF(AG31=\"\",\"\",IF(OR(AG31>(AF31+4),AG31<(AF31-4)),\"Agncy Repl.\",\"\"))","v":""},{"$f":"IF(AH31=\"\",\"\",IF(AI31=\"\",AH31,IF(OR(AI31>(AH31+4),AI31<(AH31-4)),AI31,AH31)))","v":""},{"$f":"IF(AI31=\"\",\"\",IF(OR(AI31>(AH31+4),AI31<(AH31-4)),\"Agncy Repl.\",\"\"))","v":""},null,"#16 Calc. %",null,null,{"$f":"IF(AN31=\"\",\"\",IF(AO31=\"\",AN31,IF(OR(AO31>(AN31+4),AO31<(AN31-4)),AO31,AN31)))","v":""},{"$f":"IF(AO31=\"\",\"\",IF(OR(AO31>(AN31+4),AO31<(AN31-4)),\"Agncy Repl.\",\"\"))","v":""},{"$f":"IF(AP31=\"\",\"\",IF(AQ31=\"\",AP31,IF(OR(AQ31>(AP31+4),AQ31<(AP31-4)),AQ31,AP31)))","v":""},{"$f":"IF(AQ31=\"\",\"\",IF(OR(AQ31>(AP31+4),AQ31<(AP31-4)),\"Agncy Repl.\",\"\"))","v":""},{"$f":"IF(AR31=\"\",\"\",IF(AS31=\"\",AR31,IF(OR(AS31>(AR31+4),AS31<(AR31-4)),AS31,AR31)))","v":""},{"$f":"IF(AS31=\"\",\"\",IF(OR(AS31>(AR31+4),AS31<(AR31-4)),\"Agncy Repl.\",\"\"))","v":""},{"$f":"IF(AT31=\"\",\"\",IF(AU31=\"\",AT31,IF(OR(AU31>(AT31+4),AU31<(AT31-4)),AU31,AT31)))","v":""},{"$f":"IF(AU31=\"\",\"\",IF(OR(AU31>(AT31+4),AU31<(AT31-4)),\"Agncy Repl.\",\"\"))","v":""},null,"#16 Calc. %",null,null,{"$f":"IF(AZ31=\"\",\"\",IF(BA31=\"\",AZ31,IF(OR(BA31>(AZ31+4),BA31<(AZ31-4)),BA31,AZ31)))","v":""},{"$f":"IF(BA31=\"\",\"\",IF(OR(BA31>(AZ31+4),BA31<(AZ31-4)),\"Agncy Repl.\",\"\"))","v":""},{"$f":"IF(BB31=\"\",\"\",IF(BC31=\"\",BB31,IF(OR(BC31>(BB31+4),BC31<(BB31-4)),BC31,BB31)))","v":""},{"$f":"IF(BC31=\"\",\"\",IF(OR(BC31>(BB31+4),BC31<(BB31-4)),\"Agncy Repl.\",\"\"))","v":""},{"$f":"IF(BD31=\"\",\"\",IF(BE31=\"\",BD31,IF(OR(BE31>(BD31+4),BE31<(BD31-4)),BE31,BD31)))","v":""},{"$f":"IF(BE31=\"\",\"\",IF(OR(BE31>(BD31+4),BE31<(BD31-4)),\"Agncy Repl.\",\"\"))","v":""},{"$f":"IF(BF31=\"\",\"\",IF(BG31=\"\",BF31,IF(OR(BG31>(BF31+4),BG31<(BF31-4)),BG31,BF31)))","v":""},{"$f":"IF(BG31=\"\",\"\",IF(OR(BG31>(BF31+4),BG31<(BF31-4)),\"Agncy Repl.\",\"\"))","v":""},null,"#16 Calc. %",null,null,{"$f":"IF(BL31=\"\",\"\",IF(BM31=\"\",BL31,IF(OR(BM31>(BL31+4),BM31<(BL31-4)),BM31,BL31)))","v":""},{"$f":"IF(BM31=\"\",\"\",IF(OR(BM31>(BL31+4),BM31<(BL31-4)),\"Agncy Repl.\",\"\"))","v":""},{"$f":"IF(BN31=\"\",\"\",IF(BO31=\"\",BN31,IF(OR(BO31>(BN31+4),BO31<(BN31-4)),BO31,BN31)))","v":""},{"$f":"IF(BO31=\"\",\"\",IF(OR(BO31>(BN31+4),BO31<(BN31-4)),\"Agncy Repl.\",\"\"))","v":""},{"$f":"IF(BP31=\"\",\"\",IF(BQ31=\"\",BP31,IF(OR(BQ31>(BP31+4),BQ31<(BP31-4)),BQ31,BP31)))","v":""},{"$f":"IF(BQ31=\"\",\"\",IF(OR(BQ31>(BP31+4),BQ31<(BP31-4)),\"Agncy Repl.\",\"\"))","v":""},{"$f":"IF(BR31=\"\",\"\",IF(BS31=\"\",BR31,IF(OR(BS31>(BR31+4),BS31<(BR31-4)),BS31,BR31)))","v":""},{"$f":"IF(BS31=\"\",\"\",IF(OR(BS31>(BR31+4),BS31<(BR31-4)),\"Agncy Repl.\",\"\"))","v":""},null,"#16 Calc. %",null,null,{"$f":"IF(BX31=\"\",\"\",IF(BY31=\"\",BX31,IF(OR(BY31>(BX31+4),BY31<(BX31-4)),BY31,BX31)))","v":""},{"$f":"IF(BY31=\"\",\"\",IF(OR(BY31>(BX31+4),BY31<(BX31-4)),\"Agncy Repl.\",\"\"))","v":""},{"$f":"IF(BZ31=\"\",\"\",IF(CA31=\"\",BZ31,IF(OR(CA31>(BZ31+4),CA31<(BZ31-4)),CA31,BZ31)))","v":""},{"$f":"IF(CA31=\"\",\"\",IF(OR(CA31>(BZ31+4),CA31<(BZ31-4)),\"Agncy Repl.\",\"\"))","v":""},{"$f":"IF(CB31=\"\",\"\",IF(CC31=\"\",CB31,IF(OR(CC31>(CB31+4),CC31<(CB31-4)),CC31,CB31)))","v":""},{"$f":"IF(CC31=\"\",\"\",IF(OR(CC31>(CB31+4),CC31<(CB31-4)),\"Agncy Repl.\",\"\"))","v":""},{"$f":"IF(CD31=\"\",\"\",IF(CE31=\"\",CD31,IF(OR(CE31>(CD31+4),CE31<(CD31-4)),CE31,CD31)))","v":""},{"$f":"IF(CE31=\"\",\"\",IF(OR(CE31>(CD31+4),CE31<(CD31-4)),\"Agncy Repl.\",\"\"))","v":""},null,"#16 Calc. %",null,null,{"$f":"IF(CJ31=\"\",\"\",IF(CK31=\"\",CJ31,IF(OR(CK31>(CJ31+4),CK31<(CJ31-4)),CK31,CJ31)))","v":""},{"$f":"IF(CK31=\"\",\"\",IF(OR(CK31>(CJ31+4),CK31<(CJ31-4)),\"Agncy Repl.\",\"\"))","v":""},{"$f":"IF(CL31=\"\",\"\",IF(CM31=\"\",CL31,IF(OR(CM31>(CL31+4),CM31<(CL31-4)),CM31,CL31)))","v":""},{"$f":"IF(CM31=\"\",\"\",IF(OR(CM31>(CL31+4),CM31<(CL31-4)),\"Agncy Repl.\",\"\"))","v":""},{"$f":"IF(CN31=\"\",\"\",IF(CO31=\"\",CN31,IF(OR(CO31>(CN31+4),CO31<(CN31-4)),CO31,CN31)))","v":""},{"$f":"IF(CO31=\"\",\"\",IF(OR(CO31>(CN31+4),CO31<(CN31-4)),\"Agncy Repl.\",\"\"))","v":""},{"$f":"IF(CP31=\"\",\"\",IF(CQ31=\"\",CP31,IF(OR(CQ31>(CP31+4),CQ31<(CP31-4)),CQ31,CP31)))","v":""},{"$f":"IF(CQ31=\"\",\"\",IF(OR(CQ31>(CP31+4),CQ31<(CP31-4)),\"Agncy Repl.\",\"\"))","v":""},null,"#16 Calc. %",null,null,{"$f":"IF(CV31=\"\",\"\",IF(CW31=\"\",CV31,IF(OR(CW31>(CV31+4),CW31<(CV31-4)),CW31,CV31)))","v":""},{"$f":"IF(CW31=\"\",\"\",IF(OR(CW31>(CV31+4),CW31<(CV31-4)),\"Agncy Repl.\",\"\"))","v":""},{"$f":"IF(CX31=\"\",\"\",IF(CY31=\"\",CX31,IF(OR(CY31>(CX31+4),CY31<(CX31-4)),CY31,CX31)))","v":""},{"$f":"IF(CY31=\"\",\"\",IF(OR(CY31>(CX31+4),CY31<(CX31-4)),\"Agncy Repl.\",\"\"))","v":""},{"$f":"IF(CZ31=\"\",\"\",IF(DA31=\"\",CZ31,IF(OR(DA31>(CZ31+4),DA31<(CZ31-4)),DA31,CZ31)))","v":""},{"$f":"IF(DA31=\"\",\"\",IF(OR(DA31>(CZ31+4),DA31<(CZ31-4)),\"Agncy Repl.\",\"\"))","v":""},{"$f":"IF(DB31=\"\",\"\",IF(DC31=\"\",DB31,IF(OR(DC31>(DB31+4),DC31<(DB31-4)),DC31,DB31)))","v":""},{"$f":"IF(DC31=\"\",\"\",IF(OR(DC31>(DB31+4),DC31<(DB31-4)),\"Agncy Repl.\",\"\"))","v":""},null,"#16 Calc. %",null,null,{"$f":"IF(DH31=\"\",\"\",IF(DI31=\"\",DH31,IF(OR(DI31>(DH31+4),DI31<(DH31-4)),DI31,DH31)))","v":""},{"$f":"IF(DI31=\"\",\"\",IF(OR(DI31>(DH31+4),DI31<(DH31-4)),\"Agncy Repl.\",\"\"))","v":""},{"$f":"IF(DJ31=\"\",\"\",IF(DK31=\"\",DJ31,IF(OR(DK31>(DJ31+4),DK31<(DJ31-4)),DK31,DJ31)))","v":""},{"$f":"IF(DK31=\"\",\"\",IF(OR(DK31>(DJ31+4),DK31<(DJ31-4)),\"Agncy Repl.\",\"\"))","v":""},{"$f":"IF(DL31=\"\",\"\",IF(DM31=\"\",DL31,IF(OR(DM31>(DL31+4),DM31<(DL31-4)),DM31,DL31)))","v":""},{"$f":"IF(DM31=\"\",\"\",IF(OR(DM31>(DL31+4),DM31<(DL31-4)),\"Agncy Repl.\",\"\"))","v":""},{"$f":"IF(DN31=\"\",\"\",IF(DO31=\"\",DN31,IF(OR(DO31>(DN31+4),DO31<(DN31-4)),DO31,DN31)))","v":""},{"$f":"IF(DO31=\"\",\"\",IF(OR(DO31>(DN31+4),DO31<(DN31-4)),\"Agncy Repl.\",\"\"))","v":""},null,"#16 Calc. %",null,null,{"$f":"IF(DT31=\"\",\"\",IF(DU31=\"\",DT31,IF(OR(DU31>(DT31+4),DU31<(DT31-4)),DU31,DT31)))","v":""},{"$f":"IF(DU31=\"\",\"\",IF(OR(DU31>(DT31+4),DU31<(DT31-4)),\"Agncy Repl.\",\"\"))","v":""},{"$f":"IF(DV31=\"\",\"\",IF(DW31=\"\",DV31,IF(OR(DW31>(DV31+4),DW31<(DV31-4)),DW31,DV31)))","v":""},{"$f":"IF(DW31=\"\",\"\",IF(OR(DW31>(DV31+4),DW31<(DV31-4)),\"Agncy Repl.\",\"\"))","v":""},{"$f":"IF(DX31=\"\",\"\",IF(DY31=\"\",DX31,IF(OR(DY31>(DX31+4),DY31<(DX31-4)),DY31,DX31)))","v":""},{"$f":"IF(DY31=\"\",\"\",IF(OR(DY31>(DX31+4),DY31<(DX31-4)),\"Agncy Repl.\",\"\"))","v":""},{"$f":"IF(DZ31=\"\",\"\",IF(EA31=\"\",DZ31,IF(OR(EA31>(DZ31+4),EA31<(DZ31-4)),EA31,DZ31)))","v":""},{"$f":"IF(EA31=\"\",\"\",IF(OR(EA31>(DZ31+4),EA31<(DZ31-4)),\"Agncy Repl.\",\"\"))","v":""},null,"#16 Calc. %",null,null,{"$f":"IF(EF31=\"\",\"\",IF(EG31=\"\",EF31,IF(OR(EG31>(EF31+4),EG31<(EF31-4)),EG31,EF31)))","v":""},{"$f":"IF(EG31=\"\",\"\",IF(OR(EG31>(EF31+4),EG31<(EF31-4)),\"Agncy Repl.\",\"\"))","v":""},{"$f":"IF(EH31=\"\",\"\",IF(EI31=\"\",EH31,IF(OR(EI31>(EH31+4),EI31<(EH31-4)),EI31,EH31)))","v":""},{"$f":"IF(EI31=\"\",\"\",IF(OR(EI31>(EH31+4),EI31<(EH31-4)),\"Agncy Repl.\",\"\"))","v":""},{"$f":"IF(EJ31=\"\",\"\",IF(EK31=\"\",EJ31,IF(OR(EK31>(EJ31+4),EK31<(EJ31-4)),EK31,EJ31)))","v":""},{"$f":"IF(EK31=\"\",\"\",IF(OR(EK31>(EJ31+4),EK31<(EJ31-4)),\"Agncy Repl.\",\"\"))","v":""},{"$f":"IF(EL31=\"\",\"\",IF(EM31=\"\",EL31,IF(OR(EM31>(EL31+4),EM31<(EL31-4)),EM31,EL31)))","v":""},{"$f":"IF(EM31=\"\",\"\",IF(OR(EM31>(EL31+4),EM31<(EL31-4)),\"Agncy Repl.\",\"\"))","v":""},null,"#16 Calc. %",null,null,{"$f":"IF(ER31=\"\",\"\",IF(ES31=\"\",ER31,IF(OR(ES31>(ER31+4),ES31<(ER31-4)),ES31,ER31)))","v":""},{"$f":"IF(ES31=\"\",\"\",IF(OR(ES31>(ER31+4),ES31<(ER31-4)),\"Agncy Repl.\",\"\"))","v":""},{"$f":"IF(ET31=\"\",\"\",IF(EU31=\"\",ET31,IF(OR(EU31>(ET31+4),EU31<(ET31-4)),EU31,ET31)))","v":""},{"$f":"IF(EU31=\"\",\"\",IF(OR(EU31>(ET31+4),EU31<(ET31-4)),\"Agncy Repl.\",\"\"))","v":""},{"$f":"IF(EV31=\"\",\"\",IF(EW31=\"\",EV31,IF(OR(EW31>(EV31+4),EW31<(EV31-4)),EW31,EV31)))","v":""},{"$f":"IF(EW31=\"\",\"\",IF(OR(EW31>(EV31+4),EW31<(EV31-4)),\"Agncy Repl.\",\"\"))","v":""},{"$f":"IF(EX31=\"\",\"\",IF(EY31=\"\",EX31,IF(OR(EY31>(EX31+4),EY31<(EX31-4)),EY31,EX31)))","v":""},{"$f":"IF(EY31=\"\",\"\",IF(OR(EY31>(EX31+4),EY31<(EX31-4)),\"Agncy Repl.\",\"\"))","v":""},null,"#16 Calc. %",null,null,{"$f":"IF(FD31=\"\",\"\",IF(FE31=\"\",FD31,IF(OR(FE31>(FD31+4),FE31<(FD31-4)),FE31,FD31)))","v":""},{"$f":"IF(FE31=\"\",\"\",IF(OR(FE31>(FD31+4),FE31<(FD31-4)),\"Agncy Repl.\",\"\"))","v":""},{"$f":"IF(FF31=\"\",\"\",IF(FG31=\"\",FF31,IF(OR(FG31>(FF31+4),FG31<(FF31-4)),FG31,FF31)))","v":""},{"$f":"IF(FG31=\"\",\"\",IF(OR(FG31>(FF31+4),FG31<(FF31-4)),\"Agncy Repl.\",\"\"))","v":""},{"$f":"IF(FH31=\"\",\"\",IF(FI31=\"\",FH31,IF(OR(FI31>(FH31+4),FI31<(FH31-4)),FI31,FH31)))","v":""},{"$f":"IF(FI31=\"\",\"\",IF(OR(FI31>(FH31+4),FI31<(FH31-4)),\"Agncy Repl.\",\"\"))","v":""},{"$f":"IF(FJ31=\"\",\"\",IF(FK31=\"\",FJ31,IF(OR(FK31>(FJ31+4),FK31<(FJ31-4)),FK31,FJ31)))","v":""},{"$f":"IF(FK31=\"\",\"\",IF(OR(FK31>(FJ31+4),FK31<(FJ31-4)),\"Agncy Repl.\",\"\"))","v":""},null,"#16 Calc. %",null,null,{"$f":"IF(FP31=\"\",\"\",IF(FQ31=\"\",FP31,IF(OR(FQ31>(FP31+4),FQ31<(FP31-4)),FQ31,FP31)))","v":""},{"$f":"IF(FQ31=\"\",\"\",IF(OR(FQ31>(FP31+4),FQ31<(FP31-4)),\"Agncy Repl.\",\"\"))","v":""},{"$f":"IF(FR31=\"\",\"\",IF(FS31=\"\",FR31,IF(OR(FS31>(FR31+4),FS31<(FR31-4)),FS31,FR31)))","v":""},{"$f":"IF(FS31=\"\",\"\",IF(OR(FS31>(FR31+4),FS31<(FR31-4)),\"Agncy Repl.\",\"\"))","v":""},{"$f":"IF(FT31=\"\",\"\",IF(FU31=\"\",FT31,IF(OR(FU31>(FT31+4),FU31<(FT31-4)),FU31,FT31)))","v":""},{"$f":"IF(FU31=\"\",\"\",IF(OR(FU31>(FT31+4),FU31<(FT31-4)),\"Agncy Repl.\",\"\"))","v":""},{"$f":"IF(FV31=\"\",\"\",IF(FW31=\"\",FV31,IF(OR(FW31>(FV31+4),FW31<(FV31-4)),FW31,FV31)))","v":""},{"$f":"IF(FW31=\"\",\"\",IF(OR(FW31>(FV31+4),FW31<(FV31-4)),\"Agncy Repl.\",\"\"))","v":""},null,"#16 Calc. %",null,null,{"$f":"IF(GB31=\"\",\"\",IF(GC31=\"\",GB31,IF(OR(GC31>(GB31+4),GC31<(GB31-4)),GC31,GB31)))","v":""},{"$f":"IF(GC31=\"\",\"\",IF(OR(GC31>(GB31+4),GC31<(GB31-4)),\"Agncy Repl.\",\"\"))","v":""},{"$f":"IF(GD31=\"\",\"\",IF(GE31=\"\",GD31,IF(OR(GE31>(GD31+4),GE31<(GD31-4)),GE31,GD31)))","v":""},{"$f":"IF(GE31=\"\",\"\",IF(OR(GE31>(GD31+4),GE31<(GD31-4)),\"Agncy Repl.\",\"\"))","v":""},{"$f":"IF(GF31=\"\",\"\",IF(GG31=\"\",GF31,IF(OR(GG31>(GF31+4),GG31<(GF31-4)),GG31,GF31)))","v":""},{"$f":"IF(GG31=\"\",\"\",IF(OR(GG31>(GF31+4),GG31<(GF31-4)),\"Agncy Repl.\",\"\"))","v":""},{"$f":"IF(GH31=\"\",\"\",IF(GI31=\"\",GH31,IF(OR(GI31>(GH31+4),GI31<(GH31-4)),GI31,GH31)))","v":""},{"$f":"IF(GI31=\"\",\"\",IF(OR(GI31>(GH31+4),GI31<(GH31-4)),\"Agncy Repl.\",\"\"))","v":""},null,"#16 Calc. %",null,null,{"$f":"IF(GN31=\"\",\"\",IF(GO31=\"\",GN31,IF(OR(GO31>(GN31+4),GO31<(GN31-4)),GO31,GN31)))","v":""},{"$f":"IF(GO31=\"\",\"\",IF(OR(GO31>(GN31+4),GO31<(GN31-4)),\"Agncy Repl.\",\"\"))","v":""},{"$f":"IF(GP31=\"\",\"\",IF(GQ31=\"\",GP31,IF(OR(GQ31>(GP31+4),GQ31<(GP31-4)),GQ31,GP31)))","v":""},{"$f":"IF(GQ31=\"\",\"\",IF(OR(GQ31>(GP31+4),GQ31<(GP31-4)),\"Agncy Repl.\",\"\"))","v":""},{"$f":"IF(GR31=\"\",\"\",IF(GS31=\"\",GR31,IF(OR(GS31>(GR31+4),GS31<(GR31-4)),GS31,GR31)))","v":""},{"$f":"IF(GS31=\"\",\"\",IF(OR(GS31>(GR31+4),GS31<(GR31-4)),\"Agncy Repl.\",\"\"))","v":""},{"$f":"IF(GT31=\"\",\"\",IF(GU31=\"\",GT31,IF(OR(GU31>(GT31+4),GU31<(GT31-4)),GU31,GT31)))","v":""},{"$f":"IF(GU31=\"\",\"\",IF(OR(GU31>(GT31+4),GU31<(GT31-4)),\"Agncy Repl.\",\"\"))","v":""},null,"#16 Calc. %",null,null,{"$f":"IF(GZ31=\"\",\"\",IF(HA31=\"\",GZ31,IF(OR(HA31>(GZ31+4),HA31<(GZ31-4)),HA31,GZ31)))","v":""},{"$f":"IF(HA31=\"\",\"\",IF(OR(HA31>(GZ31+4),HA31<(GZ31-4)),\"Agncy Repl.\",\"\"))","v":""},{"$f":"IF(HB31=\"\",\"\",IF(HC31=\"\",HB31,IF(OR(HC31>(HB31+4),HC31<(HB31-4)),HC31,HB31)))","v":""},{"$f":"IF(HC31=\"\",\"\",IF(OR(HC31>(HB31+4),HC31<(HB31-4)),\"Agncy Repl.\",\"\"))","v":""},{"$f":"IF(HD31=\"\",\"\",IF(HE31=\"\",HD31,IF(OR(HE31>(HD31+4),HE31<(HD31-4)),HE31,HD31)))","v":""},{"$f":"IF(HE31=\"\",\"\",IF(OR(HE31>(HD31+4),HE31<(HD31-4)),\"Agncy Repl.\",\"\"))","v":""},{"$f":"IF(HF31=\"\",\"\",IF(HG31=\"\",HF31,IF(OR(HG31>(HF31+4),HG31<(HF31-4)),HG31,HF31)))","v":""},{"$f":"IF(HG31=\"\",\"\",IF(OR(HG31>(HF31+4),HG31<(HF31-4)),\"Agncy Repl.\",\"\"))","v":""},null,"#16 Calc. %",null,null,{"$f":"IF(HL31=\"\",\"\",IF(HM31=\"\",HL31,IF(OR(HM31>(HL31+4),HM31<(HL31-4)),HM31,HL31)))","v":""},{"$f":"IF(HM31=\"\",\"\",IF(OR(HM31>(HL31+4),HM31<(HL31-4)),\"Agncy Repl.\",\"\"))","v":""},{"$f":"IF(HN31=\"\",\"\",IF(HO31=\"\",HN31,IF(OR(HO31>(HN31+4),HO31<(HN31-4)),HO31,HN31)))","v":""},{"$f":"IF(HO31=\"\",\"\",IF(OR(HO31>(HN31+4),HO31<(HN31-4)),\"Agncy Repl.\",\"\"))","v":""},{"$f":"IF(HP31=\"\",\"\",IF(HQ31=\"\",HP31,IF(OR(HQ31>(HP31+4),HQ31<(HP31-4)),HQ31,HP31)))","v":""},{"$f":"IF(HQ31=\"\",\"\",IF(OR(HQ31>(HP31+4),HQ31<(HP31-4)),\"Agncy Repl.\",\"\"))","v":""},{"$f":"IF(HR31=\"\",\"\",IF(HS31=\"\",HR31,IF(OR(HS31>(HR31+4),HS31<(HR31-4)),HS31,HR31)))","v":""},{"$f":"IF(HS31=\"\",\"\",IF(OR(HS31>(HR31+4),HS31<(HR31-4)),\"Agncy Repl.\",\"\"))","v":""},null,"#16 Calc. %",null,null,{"$f":"IF(HX31=\"\",\"\",IF(HY31=\"\",HX31,IF(OR(HY31>(HX31+4),HY31<(HX31-4)),HY31,HX31)))","v":""},{"$f":"IF(HY31=\"\",\"\",IF(OR(HY31>(HX31+4),HY31<(HX31-4)),\"Agncy Repl.\",\"\"))","v":""},{"$f":"IF(HZ31=\"\",\"\",IF(IA31=\"\",HZ31,IF(OR(IA31>(HZ31+4),IA31<(HZ31-4)),IA31,HZ31)))","v":""},{"$f":"IF(IA31=\"\",\"\",IF(OR(IA31>(HZ31+4),IA31<(HZ31-4)),\"Agncy Repl.\",\"\"))","v":""},{"$f":"IF(IB31=\"\",\"\",IF(IC31=\"\",IB31,IF(OR(IC31>(IB31+4),IC31<(IB31-4)),IC31,IB31)))","v":""},{"$f":"IF(IC31=\"\",\"\",IF(OR(IC31>(IB31+4),IC31<(IB31-4)),\"Agncy Repl.\",\"\"))","v":""},{"$f":"IF(ID31=\"\",\"\",IF(IE31=\"\",ID31,IF(OR(IE31>(ID31+4),IE31<(ID31-4)),IE31,ID31)))","v":""},{"$f":"IF(IE31=\"\",\"\",IF(OR(IE31>(ID31+4),IE31<(ID31-4)),\"Agncy Repl.\",\"\"))","v":""},null,"#16 Calc. %",null,null,{"$f":"IF(IJ31=\"\",\"\",IF(IK31=\"\",IJ31,IF(OR(IK31>(IJ31+4),IK31<(IJ31-4)),IK31,IJ31)))","v":""},{"$f":"IF(IK31=\"\",\"\",IF(OR(IK31>(IJ31+4),IK31<(IJ31-4)),\"Agncy Repl.\",\"\"))","v":""},{"$f":"IF(IL31=\"\",\"\",IF(IM31=\"\",IL31,IF(OR(IM31>(IL31+4),IM31<(IL31-4)),IM31,IL31)))","v":""},{"$f":"IF(IM31=\"\",\"\",IF(OR(IM31>(IL31+4),IM31<(IL31-4)),\"Agncy Repl.\",\"\"))","v":""},{"$f":"IF(IN31=\"\",\"\",IF(IO31=\"\",IN31,IF(OR(IO31>(IN31+4),IO31<(IN31-4)),IO31,IN31)))","v":""},{"$f":"IF(IO31=\"\",\"\",IF(OR(IO31>(IN31+4),IO31<(IN31-4)),\"Agncy Repl.\",\"\"))","v":""},{"$f":"IF(IP31=\"\",\"\",IF(IQ31=\"\",IP31,IF(OR(IQ31>(IP31+4),IQ31<(IP31-4)),IQ31,IP31)))","v":""},{"$f":"IF(IQ31=\"\",\"\",IF(OR(IQ31>(IP31+4),IQ31<(IP31-4)),\"Agncy Repl.\",\"\"))","v":""}]
["# 30",null,null,null,null,null,null,null,null,null,null,null,"# 30",null,null,null,null,null,null,null,null,null,null,null,"# 30",null,null,null,null,null,null,null,null,null,null,null,"# 30",null,null,null,null,null,null,null,null,null,null,null,"# 30",null,null,null,null,null,null,null,null,null,null,null,"# 30",null,null,null,null,null,null,null,null,null,null,null,"# 30",null,null,null,null,null,null,null,null,null,null,null,"# 30",null,null,null,null,null,null,null,null,null,null,null,"# 30",null,null,null,null,null,null,null,null,null,null,null,"# 30",null,null,null,null,null,null,null,null,null,null,null,"# 30",null,null,null,null,null,null,null,null,null,null,null,"# 30",null,null,null,null,null,null,null,null,null,null,null,"# 30",null,null,null,null,null,null,null,null,null,null,null,"# 30",null,null,null,null,null,null,null,null,null,null,null,"# 30",null,null,null,null,null,null,null,null,null,null,null,"# 30",null,null,null,null,null,null,null,null,null,null,null,"# 30",null,null,null,null,null,null,null,null,null,null,null,"# 30",null,null,null,null,null,null,null,null,null,null,null,"# 30",null,null,null,null,null,null,null,null,null,null,null,"# 30",null,null,null,null,null,null,null,null,null,null,null,"# 30",null,null,null,null,null,null,null,null,null,null,null,null,0,"Agency AFT Substituted"]
["#30 Calc. %",null,null,{"$f":"IF(D33=\"\",\"\",IF(E33=\"\",D33,IF(OR(E33>(D33+4),E33<(D33-4)),E33,D33)))","v":""},{"$f":"IF(E33=\"\",\"\",IF(OR(E33>(D33+4),E33<(D33-4)),\"Agncy Repl.\",\"\"))","v":""},{"$f":"IF(F33=\"\",\"\",IF(G33=\"\",F33,IF(OR(G33>(F33+4),G33<(F33-4)),G33,F33)))","v":""},{"$f":"IF(G33=\"\",\"\",IF(OR(G33>(F33+4),G33<(F33-4)),\"Agncy Repl.\",\"\"))","v":""},{"$f":"IF(H33=\"\",\"\",IF(I33=\"\",H33,IF(OR(I33>(H33+4),I33<(H33-4)),I33,H33)))","v":""},{"$f":"IF(I33=\"\",\"\",IF(OR(I33>(H33+4),I33<(H33-4)),\"Agncy Repl.\",\"\"))","v":""},{"$f":"IF(J33=\"\",\"\",IF(K33=\"\",J33,IF(OR(K33>(J33+4),K33<(J33-4)),K33,J33)))","v":""},{"$f":"IF(K33=\"\",\"\",IF(OR(K33>(J33+4),K33<(J33-4)),\"Agncy Repl.\",\"\"))","v":""},null,"#30 Calc. %",null,null,{"$f":"IF(P33=\"\",\"\",IF(Q33=\"\",P33,IF(OR(Q33>(P33+4),Q33<(P33-4)),Q33,P33)))","v":""},{"$f":"IF(Q33=\"\",\"\",IF(OR(Q33>(P33+4),Q33<(P33-4)),\"Agncy Repl.\",\"\"))","v":""},{"$f":"IF(R33=\"\",\"\",IF(S33=\"\",R33,IF(OR(S33>(R33+4),S33<(R33-4)),S33,R33)))","v":""},{"$f":"IF(S33=\"\",\"\",IF(OR(S33>(R33+4),S33<(R33-4)),\"Agncy Repl.\",\"\"))","v":""},{"$f":"IF(T33=\"\",\"\",IF(U33=\"\",T33,IF(OR(U33>(T33+4),U33<(T33-4)),U33,T33)))","v":""},{"$f":"IF(U33=\"\",\"\",IF(OR(U33>(T33+4),U33<(T33-4)),\"Agncy Repl.\",\"\"))","v":""},{"$f":"IF(V33=\"\",\"\",IF(W33=\"\",V33,IF(OR(W33>(V33+4),W33<(V33-4)),W33,V33)))","v":""},{"$f":"IF(W33=\"\",\"\",IF(OR(W33>(V33+4),W33<(V33-4)),\"Agncy Repl.\",\"\"))","v":""},null,"#30 Calc. %",null,null,{"$f":"IF(AB33=\"\",\"\",IF(AC33=\"\",AB33,IF(OR(AC33>(AB33+4),AC33<(AB33-4)),AC33,AB33)))","v":""},{"$f":"IF(AC33=\"\",\"\",IF(OR(AC33>(AB33+4),AC33<(AB33-4)),\"Agncy Repl.\",\"\"))","v":""},{"$f":"IF(AD33=\"\",\"\",IF(AE33=\"\",AD33,IF(OR(AE33>(AD33+4),AE33<(AD33-4)),AE33,AD33)))","v":""},{"$f":"IF(AE33=\"\",\"\",IF(OR(AE33>(AD33+4),AE33<(AD33-4)),\"Agncy Repl.\",\"\"))","v":""},{"$f":"IF(AF33=\"\",\"\",IF(AG33=\"\",AF33,IF(OR(AG33>(AF33+4),AG33<(AF33-4)),AG33,AF33)))","v":""},{"$f":"IF(AG33=\"\",\"\",IF(OR(AG33>(AF33+4),AG33<(AF33-4)),\"Agncy Repl.\",\"\"))","v":""},{"$f":"IF(AH33=\"\",\"\",IF(AI33=\"\",AH33,IF(OR(AI33>(AH33+4),AI33<(AH33-4)),AI33,AH33)))","v":""},{"$f":"IF(AI33=\"\",\"\",IF(OR(AI33>(AH33+4),AI33<(AH33-4)),\"Agncy Repl.\",\"\"))","v":""},null,"#30 Calc. %",null,null,{"$f":"IF(AN33=\"\",\"\",IF(AO33=\"\",AN33,IF(OR(AO33>(AN33+4),AO33<(AN33-4)),AO33,AN33)))","v":""},{"$f":"IF(AO33=\"\",\"\",IF(OR(AO33>(AN33+4),AO33<(AN33-4)),\"Agncy Repl.\",\"\"))","v":""},{"$f":"IF(AP33=\"\",\"\",IF(AQ33=\"\",AP33,IF(OR(AQ33>(AP33+4),AQ33<(AP33-4)),AQ33,AP33)))","v":""},{"$f":"IF(AQ33=\"\",\"\",IF(OR(AQ33>(AP33+4),AQ33<(AP33-4)),\"Agncy Repl.\",\"\"))","v":""},{"$f":"IF(AR33=\"\",\"\",IF(AS33=\"\",AR33,IF(OR(AS33>(AR33+4),AS33<(AR33-4)),AS33,AR33)))","v":""},{"$f":"IF(AS33=\"\",\"\",IF(OR(AS33>(AR33+4),AS33<(AR33-4)),\"Agncy Repl.\",\"\"))","v":""},{"$f":"IF(AT33=\"\",\"\",IF(AU33=\"\",AT33,IF(OR(AU33>(AT33+4),AU33<(AT33-4)),AU33,AT33)))","v":""},{"$f":"IF(AU33=\"\",\"\",IF(OR(AU33>(AT33+4),AU33<(AT33-4)),\"Agncy Repl.\",\"\"))","v":""},null,"#30 Calc. %",null,null,{"$f":"IF(AZ33=\"\",\"\",IF(BA33=\"\",AZ33,IF(OR(BA33>(AZ33+4),BA33<(AZ33-4)),BA33,AZ33)))","v":""},{"$f":"IF(BA33=\"\",\"\",IF(OR(BA33>(AZ33+4),BA33<(AZ33-4)),\"Agncy Repl.\",\"\"))","v":""},{"$f":"IF(BB33=\"\",\"\",IF(BC33=\"\",BB33,IF(OR(BC33>(BB33+4),BC33<(BB33-4)),BC33,BB33)))","v":""},{"$f":"IF(BC33=\"\",\"\",IF(OR(BC33>(BB33+4),BC33<(BB33-4)),\"Agncy Repl.\",\"\"))","v":""},{"$f":"IF(BD33=\"\",\"\",IF(BE33=\"\",BD33,IF(OR(BE33>(BD33+4),BE33<(BD33-4)),BE33,BD33)))","v":""},{"$f":"IF(BE33=\"\",\"\",IF(OR(BE33>(BD33+4),BE33<(BD33-4)),\"Agncy Repl.\",\"\"))","v":""},{"$f":"IF(BF33=\"\",\"\",IF(BG33=\"\",BF33,IF(OR(BG33>(BF33+4),BG33<(BF33-4)),BG33,BF33)))","v":""},{"$f":"IF(BG33=\"\",\"\",IF(OR(BG33>(BF33+4),BG33<(BF33-4)),\"Agncy Repl.\",\"\"))","v":""},null,"#30 Calc. %",null,null,{"$f":"IF(BL33=\"\",\"\",IF(BM33=\"\",BL33,IF(OR(BM33>(BL33+4),BM33<(BL33-4)),BM33,BL33)))","v":""},{"$f":"IF(BM33=\"\",\"\",IF(OR(BM33>(BL33+4),BM33<(BL33-4)),\"Agncy Repl.\",\"\"))","v":""},{"$f":"IF(BN33=\"\",\"\",IF(BO33=\"\",BN33,IF(OR(BO33>(BN33+4),BO33<(BN33-4)),BO33,BN33)))","v":""},{"$f":"IF(BO33=\"\",\"\",IF(OR(BO33>(BN33+4),BO33<(BN33-4)),\"Agncy Repl.\",\"\"))","v":""},{"$f":"IF(BP33=\"\",\"\",IF(BQ33=\"\",BP33,IF(OR(BQ33>(BP33+4),BQ33<(BP33-4)),BQ33,BP33)))","v":""},{"$f":"IF(BQ33=\"\",\"\",IF(OR(BQ33>(BP33+4),BQ33<(BP33-4)),\"Agncy Repl.\",\"\"))","v":""},{"$f":"IF(BR33=\"\",\"\",IF(BS33=\"\",BR33,IF(OR(BS33>(BR33+4),BS33<(BR33-4)),BS33,BR33)))","v":""},{"$f":"IF(BS33=\"\",\"\",IF(OR(BS33>(BR33+4),BS33<(BR33-4)),\"Agncy Repl.\",\"\"))","v":""},null,"#30 Calc. %",null,null,{"$f":"IF(BX33=\"\",\"\",IF(BY33=\"\",BX33,IF(OR(BY33>(BX33+4),BY33<(BX33-4)),BY33,BX33)))","v":""},{"$f":"IF(BY33=\"\",\"\",IF(OR(BY33>(BX33+4),BY33<(BX33-4)),\"Agncy Repl.\",\"\"))","v":""},{"$f":"IF(BZ33=\"\",\"\",IF(CA33=\"\",BZ33,IF(OR(CA33>(BZ33+4),CA33<(BZ33-4)),CA33,BZ33)))","v":""},{"$f":"IF(CA33=\"\",\"\",IF(OR(CA33>(BZ33+4),CA33<(BZ33-4)),\"Agncy Repl.\",\"\"))","v":""},{"$f":"IF(CB33=\"\",\"\",IF(CC33=\"\",CB33,IF(OR(CC33>(CB33+4),CC33<(CB33-4)),CC33,CB33)))","v":""},{"$f":"IF(CC33=\"\",\"\",IF(OR(CC33>(CB33+4),CC33<(CB33-4)),\"Agncy Repl.\",\"\"))","v":""},{"$f":"IF(CD33=\"\",\"\",IF(CE33=\"\",CD33,IF(OR(CE33>(CD33+4),CE33<(CD33-4)),CE33,CD33)))","v":""},{"$f":"IF(CE33=\"\",\"\",IF(OR(CE33>(CD33+4),CE33<(CD33-4)),\"Agncy Repl.\",\"\"))","v":""},null,"#30 Calc. %",null,null,{"$f":"IF(CJ33=\"\",\"\",IF(CK33=\"\",CJ33,IF(OR(CK33>(CJ33+4),CK33<(CJ33-4)),CK33,CJ33)))","v":""},{"$f":"IF(CK33=\"\",\"\",IF(OR(CK33>(CJ33+4),CK33<(CJ33-4)),\"Agncy Repl.\",\"\"))","v":""},{"$f":"IF(CL33=\"\",\"\",IF(CM33=\"\",CL33,IF(OR(CM33>(CL33+4),CM33<(CL33-4)),CM33,CL33)))","v":""},{"$f":"IF(CM33=\"\",\"\",IF(OR(CM33>(CL33+4),CM33<(CL33-4)),\"Agncy Repl.\",\"\"))","v":""},{"$f":"IF(CN33=\"\",\"\",IF(CO33=\"\",CN33,IF(OR(CO33>(CN33+4),CO33<(CN33-4)),CO33,CN33)))","v":""},{"$f":"IF(CO33=\"\",\"\",IF(OR(CO33>(CN33+4),CO33<(CN33-4)),\"Agncy Repl.\",\"\"))","v":""},{"$f":"IF(CP33=\"\",\"\",IF(CQ33=\"\",CP33,IF(OR(CQ33>(CP33+4),CQ33<(CP33-4)),CQ33,CP33)))","v":""},{"$f":"IF(CQ33=\"\",\"\",IF(OR(CQ33>(CP33+4),CQ33<(CP33-4)),\"Agncy Repl.\",\"\"))","v":""},null,"#30 Calc. %",null,null,{"$f":"IF(CV33=\"\",\"\",IF(CW33=\"\",CV33,IF(OR(CW33>(CV33+4),CW33<(CV33-4)),CW33,CV33)))","v":""},{"$f":"IF(CW33=\"\",\"\",IF(OR(CW33>(CV33+4),CW33<(CV33-4)),\"Agncy Repl.\",\"\"))","v":""},{"$f":"IF(CX33=\"\",\"\",IF(CY33=\"\",CX33,IF(OR(CY33>(CX33+4),CY33<(CX33-4)),CY33,CX33)))","v":""},{"$f":"IF(CY33=\"\",\"\",IF(OR(CY33>(CX33+4),CY33<(CX33-4)),\"Agncy Repl.\",\"\"))","v":""},{"$f":"IF(CZ33=\"\",\"\",IF(DA33=\"\",CZ33,IF(OR(DA33>(CZ33+4),DA33<(CZ33-4)),DA33,CZ33)))","v":""},{"$f":"IF(DA33=\"\",\"\",IF(OR(DA33>(CZ33+4),DA33<(CZ33-4)),\"Agncy Repl.\",\"\"))","v":""},{"$f":"IF(DB33=\"\",\"\",IF(DC33=\"\",DB33,IF(OR(DC33>(DB33+4),DC33<(DB33-4)),DC33,DB33)))","v":""},{"$f":"IF(DC33=\"\",\"\",IF(OR(DC33>(DB33+4),DC33<(DB33-4)),\"Agncy Repl.\",\"\"))","v":""},null,"#30 Calc. %",null,null,{"$f":"IF(DH33=\"\",\"\",IF(DI33=\"\",DH33,IF(OR(DI33>(DH33+4),DI33<(DH33-4)),DI33,DH33)))","v":""},{"$f":"IF(DI33=\"\",\"\",IF(OR(DI33>(DH33+4),DI33<(DH33-4)),\"Agncy Repl.\",\"\"))","v":""},{"$f":"IF(DJ33=\"\",\"\",IF(DK33=\"\",DJ33,IF(OR(DK33>(DJ33+4),DK33<(DJ33-4)),DK33,DJ33)))","v":""},{"$f":"IF(DK33=\"\",\"\",IF(OR(DK33>(DJ33+4),DK33<(DJ33-4)),\"Agncy Repl.\",\"\"))","v":""},{"$f":"IF(DL33=\"\",\"\",IF(DM33=\"\",DL33,IF(OR(DM33>(DL33+4),DM33<(DL33-4)),DM33,DL33)))","v":""},{"$f":"IF(DM33=\"\",\"\",IF(OR(DM33>(DL33+4),DM33<(DL33-4)),\"Agncy Repl.\",\"\"))","v":""},{"$f":"IF(DN33=\"\",\"\",IF(DO33=\"\",DN33,IF(OR(DO33>(DN33+4),DO33<(DN33-4)),DO33,DN33)))","v":""},{"$f":"IF(DO33=\"\",\"\",IF(OR(DO33>(DN33+4),DO33<(DN33-4)),\"Agncy Repl.\",\"\"))","v":""},null,"#30 Calc. %",null,null,{"$f":"IF(DT33=\"\",\"\",IF(DU33=\"\",DT33,IF(OR(DU33>(DT33+4),DU33<(DT33-4)),DU33,DT33)))","v":""},{"$f":"IF(DU33=\"\",\"\",IF(OR(DU33>(DT33+4),DU33<(DT33-4)),\"Agncy Repl.\",\"\"))","v":""},{"$f":"IF(DV33=\"\",\"\",IF(DW33=\"\",DV33,IF(OR(DW33>(DV33+4),DW33<(DV33-4)),DW33,DV33)))","v":""},{"$f":"IF(DW33=\"\",\"\",IF(OR(DW33>(DV33+4),DW33<(DV33-4)),\"Agncy Repl.\",\"\"))","v":""},{"$f":"IF(DX33=\"\",\"\",IF(DY33=\"\",DX33,IF(OR(DY33>(DX33+4),DY33<(DX33-4)),DY33,DX33)))","v":""},{"$f":"IF(DY33=\"\",\"\",IF(OR(DY33>(DX33+4),DY33<(DX33-4)),\"Agncy Repl.\",\"\"))","v":""},{"$f":"IF(DZ33=\"\",\"\",IF(EA33=\"\",DZ33,IF(OR(EA33>(DZ33+4),EA33<(DZ33-4)),EA33,DZ33)))","v":""},{"$f":"IF(EA33=\"\",\"\",IF(OR(EA33>(DZ33+4),EA33<(DZ33-4)),\"Agncy Repl.\",\"\"))","v":""},null,"#30 Calc. %",null,null,{"$f":"IF(EF33=\"\",\"\",IF(EG33=\"\",EF33,IF(OR(EG33>(EF33+4),EG33<(EF33-4)),EG33,EF33)))","v":""},{"$f":"IF(EG33=\"\",\"\",IF(OR(EG33>(EF33+4),EG33<(EF33-4)),\"Agncy Repl.\",\"\"))","v":""},{"$f":"IF(EH33=\"\",\"\",IF(EI33=\"\",EH33,IF(OR(EI33>(EH33+4),EI33<(EH33-4)),EI33,EH33)))","v":""},{"$f":"IF(EI33=\"\",\"\",IF(OR(EI33>(EH33+4),EI33<(EH33-4)),\"Agncy Repl.\",\"\"))","v":""},{"$f":"IF(EJ33=\"\",\"\",IF(EK33=\"\",EJ33,IF(OR(EK33>(EJ33+4),EK33<(EJ33-4)),EK33,EJ33)))","v":""},{"$f":"IF(EK33=\"\",\"\",IF(OR(EK33>(EJ33+4),EK33<(EJ33-4)),\"Agncy Repl.\",\"\"))","v":""},{"$f":"IF(EL33=\"\",\"\",IF(EM33=\"\",EL33,IF(OR(EM33>(EL33+4),EM33<(EL33-4)),EM33,EL33)))","v":""},{"$f":"IF(EM33=\"\",\"\",IF(OR(EM33>(EL33+4),EM33<(EL33-4)),\"Agncy Repl.\",\"\"))","v":""},null,"#30 Calc. %",null,null,{"$f":"IF(ER33=\"\",\"\",IF(ES33=\"\",ER33,IF(OR(ES33>(ER33+4),ES33<(ER33-4)),ES33,ER33)))","v":""},{"$f":"IF(ES33=\"\",\"\",IF(OR(ES33>(ER33+4),ES33<(ER33-4)),\"Agncy Repl.\",\"\"))","v":""},{"$f":"IF(ET33=\"\",\"\",IF(EU33=\"\",ET33,IF(OR(EU33>(ET33+4),EU33<(ET33-4)),EU33,ET33)))","v":""},{"$f":"IF(EU33=\"\",\"\",IF(OR(EU33>(ET33+4),EU33<(ET33-4)),\"Agncy Repl.\",\"\"))","v":""},{"$f":"IF(EV33=\"\",\"\",IF(EW33=\"\",EV33,IF(OR(EW33>(EV33+4),EW33<(EV33-4)),EW33,EV33)))","v":""},{"$f":"IF(EW33=\"\",\"\",IF(OR(EW33>(EV33+4),EW33<(EV33-4)),\"Agncy Repl.\",\"\"))","v":""},{"$f":"IF(EX33=\"\",\"\",IF(EY33=\"\",EX33,IF(OR(EY33>(EX33+4),EY33<(EX33-4)),EY33,EX33)))","v":""},{"$f":"IF(EY33=\"\",\"\",IF(OR(EY33>(EX33+4),EY33<(EX33-4)),\"Agncy Repl.\",\"\"))","v":""},null,"#30 Calc. %",null,null,{"$f":"IF(FD33=\"\",\"\",IF(FE33=\"\",FD33,IF(OR(FE33>(FD33+4),FE33<(FD33-4)),FE33,FD33)))","v":""},{"$f":"IF(FE33=\"\",\"\",IF(OR(FE33>(FD33+4),FE33<(FD33-4)),\"Agncy Repl.\",\"\"))","v":""},{"$f":"IF(FF33=\"\",\"\",IF(FG33=\"\",FF33,IF(OR(FG33>(FF33+4),FG33<(FF33-4)),FG33,FF33)))","v":""},{"$f":"IF(FG33=\"\",\"\",IF(OR(FG33>(FF33+4),FG33<(FF33-4)),\"Agncy Repl.\",\"\"))","v":""},{"$f":"IF(FH33=\"\",\"\",IF(FI33=\"\",FH33,IF(OR(FI33>(FH33+4),FI33<(FH33-4)),FI33,FH33)))","v":""},{"$f":"IF(FI33=\"\",\"\",IF(OR(FI33>(FH33+4),FI33<(FH33-4)),\"Agncy Repl.\",\"\"))","v":""},{"$f":"IF(FJ33=\"\",\"\",IF(FK33=\"\",FJ33,IF(OR(FK33>(FJ33+4),FK33<(FJ33-4)),FK33,FJ33)))","v":""},{"$f":"IF(FK33=\"\",\"\",IF(OR(FK33>(FJ33+4),FK33<(FJ33-4)),\"Agncy Repl.\",\"\"))","v":""},null,"#30 Calc. %",null,null,{"$f":"IF(FP33=\"\",\"\",IF(FQ33=\"\",FP33,IF(OR(FQ33>(FP33+4),FQ33<(FP33-4)),FQ33,FP33)))","v":""},{"$f":"IF(FQ33=\"\",\"\",IF(OR(FQ33>(FP33+4),FQ33<(FP33-4)),\"Agncy Repl.\",\"\"))","v":""},{"$f":"IF(FR33=\"\",\"\",IF(FS33=\"\",FR33,IF(OR(FS33>(FR33+4),FS33<(FR33-4)),FS33,FR33)))","v":""},{"$f":"IF(FS33=\"\",\"\",IF(OR(FS33>(FR33+4),FS33<(FR33-4)),\"Agncy Repl.\",\"\"))","v":""},{"$f":"IF(FT33=\"\",\"\",IF(FU33=\"\",FT33,IF(OR(FU33>(FT33+4),FU33<(FT33-4)),FU33,FT33)))","v":""},{"$f":"IF(FU33=\"\",\"\",IF(OR(FU33>(FT33+4),FU33<(FT33-4)),\"Agncy Repl.\",\"\"))","v":""},{"$f":"IF(FV33=\"\",\"\",IF(FW33=\"\",FV33,IF(OR(FW33>(FV33+4),FW33<(FV33-4)),FW33,FV33)))","v":""},{"$f":"IF(FW33=\"\",\"\",IF(OR(FW33>(FV33+4),FW33<(FV33-4)),\"Agncy Repl.\",\"\"))","v":""},null,"#30 Calc. %",null,null,{"$f":"IF(GB33=\"\",\"\",IF(GC33=\"\",GB33,IF(OR(GC33>(GB33+4),GC33<(GB33-4)),GC33,GB33)))","v":""},{"$f":"IF(GC33=\"\",\"\",IF(OR(GC33>(GB33+4),GC33<(GB33-4)),\"Agncy Repl.\",\"\"))","v":""},{"$f":"IF(GD33=\"\",\"\",IF(GE33=\"\",GD33,IF(OR(GE33>(GD33+4),GE33<(GD33-4)),GE33,GD33)))","v":""},{"$f":"IF(GE33=\"\",\"\",IF(OR(GE33>(GD33+4),GE33<(GD33-4)),\"Agncy Repl.\",\"\"))","v":""},{"$f":"IF(GF33=\"\",\"\",IF(GG33=\"\",GF33,IF(OR(GG33>(GF33+4),GG33<(GF33-4)),GG33,GF33)))","v":""},{"$f":"IF(GG33=\"\",\"\",IF(OR(GG33>(GF33+4),GG33<(GF33-4)),\"Agncy Repl.\",\"\"))","v":""},{"$f":"IF(GH33=\"\",\"\",IF(GI33=\"\",GH33,IF(OR(GI33>(GH33+4),GI33<(GH33-4)),GI33,GH33)))","v":""},{"$f":"IF(GI33=\"\",\"\",IF(OR(GI33>(GH33+4),GI33<(GH33-4)),\"Agncy Repl.\",\"\"))","v":""},null,"#30 Calc. %",null,null,{"$f":"IF(GN33=\"\",\"\",IF(GO33=\"\",GN33,IF(OR(GO33>(GN33+4),GO33<(GN33-4)),GO33,GN33)))","v":""},{"$f":"IF(GO33=\"\",\"\",IF(OR(GO33>(GN33+4),GO33<(GN33-4)),\"Agncy Repl.\",\"\"))","v":""},{"$f":"IF(GP33=\"\",\"\",IF(GQ33=\"\",GP33,IF(OR(GQ33>(GP33+4),GQ33<(GP33-4)),GQ33,GP33)))","v":""},{"$f":"IF(GQ33=\"\",\"\",IF(OR(GQ33>(GP33+4),GQ33<(GP33-4)),\"Agncy Repl.\",\"\"))","v":""},{"$f":"IF(GR33=\"\",\"\",IF(GS33=\"\",GR33,IF(OR(GS33>(GR33+4),GS33<(GR33-4)),GS33,GR33)))","v":""},{"$f":"IF(GS33=\"\",\"\",IF(OR(GS33>(GR33+4),GS33<(GR33-4)),\"Agncy Repl.\",\"\"))","v":""},{"$f":"IF(GT33=\"\",\"\",IF(GU33=\"\",GT33,IF(OR(GU33>(GT33+4),GU33<(GT33-4)),GU33,GT33)))","v":""},{"$f":"IF(GU33=\"\",\"\",IF(OR(GU33>(GT33+4),GU33<(GT33-4)),\"Agncy Repl.\",\"\"))","v":""},null,"#30 Calc. %",null,null,{"$f":"IF(GZ33=\"\",\"\",IF(HA33=\"\",GZ33,IF(OR(HA33>(GZ33+4),HA33<(GZ33-4)),HA33,GZ33)))","v":""},{"$f":"IF(HA33=\"\",\"\",IF(OR(HA33>(GZ33+4),HA33<(GZ33-4)),\"Agncy Repl.\",\"\"))","v":""},{"$f":"IF(HB33=\"\",\"\",IF(HC33=\"\",HB33,IF(OR(HC33>(HB33+4),HC33<(HB33-4)),HC33,HB33)))","v":""},{"$f":"IF(HC33=\"\",\"\",IF(OR(HC33>(HB33+4),HC33<(HB33-4)),\"Agncy Repl.\",\"\"))","v":""},{"$f":"IF(HD33=\"\",\"\",IF(HE33=\"\",HD33,IF(OR(HE33>(HD33+4),HE33<(HD33-4)),HE33,HD33)))","v":""},{"$f":"IF(HE33=\"\",\"\",IF(OR(HE33>(HD33+4),HE33<(HD33-4)),\"Agncy Repl.\",\"\"))","v":""},{"$f":"IF(HF33=\"\",\"\",IF(HG33=\"\",HF33,IF(OR(HG33>(HF33+4),HG33<(HF33-4)),HG33,HF33)))","v":""},{"$f":"IF(HG33=\"\",\"\",IF(OR(HG33>(HF33+4),HG33<(HF33-4)),\"Agncy Repl.\",\"\"))","v":""},null,"#30 Calc. %",null,null,{"$f":"IF(HL33=\"\",\"\",IF(HM33=\"\",HL33,IF(OR(HM33>(HL33+4),HM33<(HL33-4)),HM33,HL33)))","v":""},{"$f":"IF(HM33=\"\",\"\",IF(OR(HM33>(HL33+4),HM33<(HL33-4)),\"Agncy Repl.\",\"\"))","v":""},{"$f":"IF(HN33=\"\",\"\",IF(HO33=\"\",HN33,IF(OR(HO33>(HN33+4),HO33<(HN33-4)),HO33,HN33)))","v":""},{"$f":"IF(HO33=\"\",\"\",IF(OR(HO33>(HN33+4),HO33<(HN33-4)),\"Agncy Repl.\",\"\"))","v":""},{"$f":"IF(HP33=\"\",\"\",IF(HQ33=\"\",HP33,IF(OR(HQ33>(HP33+4),HQ33<(HP33-4)),HQ33,HP33)))","v":""},{"$f":"IF(HQ33=\"\",\"\",IF(OR(HQ33>(HP33+4),HQ33<(HP33-4)),\"Agncy Repl.\",\"\"))","v":""},{"$f":"IF(HR33=\"\",\"\",IF(HS33=\"\",HR33,IF(OR(HS33>(HR33+4),HS33<(HR33-4)),HS33,HR33)))","v":""},{"$f":"IF(HS33=\"\",\"\",IF(OR(HS33>(HR33+4),HS33<(HR33-4)),\"Agncy Repl.\",\"\"))","v":""},null,"#30 Calc. %",null,null,{"$f":"IF(HX33=\"\",\"\",IF(HY33=\"\",HX33,IF(OR(HY33>(HX33+4),HY33<(HX33-4)),HY33,HX33)))","v":""},{"$f":"IF(HY33=\"\",\"\",IF(OR(HY33>(HX33+4),HY33<(HX33-4)),\"Agncy Repl.\",\"\"))","v":""},{"$f":"IF(HZ33=\"\",\"\",IF(IA33=\"\",HZ33,IF(OR(IA33>(HZ33+4),IA33<(HZ33-4)),IA33,HZ33)))","v":""},{"$f":"IF(IA33=\"\",\"\",IF(OR(IA33>(HZ33+4),IA33<(HZ33-4)),\"Agncy Repl.\",\"\"))","v":""},{"$f":"IF(IB33=\"\",\"\",IF(IC33=\"\",IB33,IF(OR(IC33>(IB33+4),IC33<(IB33-4)),IC33,IB33)))","v":""},{"$f":"IF(IC33=\"\",\"\",IF(OR(IC33>(IB33+4),IC33<(IB33-4)),\"Agncy Repl.\",\"\"))","v":""},{"$f":"IF(ID33=\"\",\"\",IF(IE33=\"\",ID33,IF(OR(IE33>(ID33+4),IE33<(ID33-4)),IE33,ID33)))","v":""},{"$f":"IF(IE33=\"\",\"\",IF(OR(IE33>(ID33+4),IE33<(ID33-4)),\"Agncy Repl.\",\"\"))","v":""},null,"#30 Calc. %",null,null,{"$f":"IF(IJ33=\"\",\"\",IF(IK33=\"\",IJ33,IF(OR(IK33>(IJ33+4),IK33<(IJ33-4)),IK33,IJ33)))","v":""},{"$f":"IF(IK33=\"\",\"\",IF(OR(IK33>(IJ33+4),IK33<(IJ33-4)),\"Agncy Repl.\",\"\"))","v":""},{"$f":"IF(IL33=\"\",\"\",IF(IM33=\"\",IL33,IF(OR(IM33>(IL33+4),IM33<(IL33-4)),IM33,IL33)))","v":""},{"$f":"IF(IM33=\"\",\"\",IF(OR(IM33>(IL33+4),IM33<(IL33-4)),\"Agncy Repl.\",\"\"))","v":""},{"$f":"IF(IN33=\"\",\"\",IF(IO33=\"\",IN33,IF(OR(IO33>(IN33+4),IO33<(IN33-4)),IO33,IN33)))","v":""},{"$f":"IF(IO33=\"\",\"\",IF(OR(IO33>(IN33+4),IO33<(IN33-4)),\"Agncy Repl.\",\"\"))","v":""},{"$f":"IF(IP33=\"\",\"\",IF(IQ33=\"\",IP33,IF(OR(IQ33>(IP33+4),IQ33<(IP33-4)),IQ33,IP33)))","v":""},{"$f":"IF(IQ33=\"\",\"\",IF(OR(IQ33>(IP33+4),IQ33<(IP33-4)),\"Agncy Repl.\",\"\"))","v":""}]
["# 50",null,null,null,null,null,null,null,null,null,null,null,"# 50",null,null,null,null,null,null,null,null,null,null,null,"# 50",null,null,null,null,null,null,null,null,null,null,null,"# 50",null,null,null,null,null,null,null,null,null,null,null,"# 50",null,null,null,null,null,null,null,null,null,null,null,"# 50",null,null,null,null,null,null,null,null,null,null,null,"# 50",null,null,null,null,null,null,null,null,null,null,null,"# 50",null,null,null,null,null,null,null,null,null,null,null,"# 50",null,null,null,null,null,null,null,null,null,null,null,"# 50",null,null,null,null,null,null,null,null,null,null,null,"# 50",null,null,null,null,null,null,null,null,null,null,null,"# 50",null,null,null,null,null,null,null,null,null,null,null,"# 50",null,null,null,null,null,null,null,null,null,null,null,"# 50",null,null,null,null,null,null,null,null,null,null,null,"# 50",null,null,null,null,null,null,null,null,null,null,null,"# 50",null,null,null,null,null,null,null,null,null,null,null,"# 50",null,null,null,null,null,null,null,null,null,null,null,"# 50",null,null,null,null,null,null,null,null,null,null,null,"# 50",null,null,null,null,null,null,null,null,null,null,null,"# 50",null,null,null,null,null,null,null,null,null,null,null,"# 50",null,null,null,null,null,null,null,null,null,null,null,null,0,"Agency AFT Substituted"]
["#50 Calc. %",null,null,{"$f":"IF(D35=\"\",\"\",IF(E35=\"\",D35,IF(OR(E35>(D35+3),E35<(D35-3)),E35,D35)))","v":""},{"$f":"IF(E35=\"\",\"\",IF(OR(E35>(D35+3),E35<(D35-3)),\"Agncy Repl.\",\"\"))","v":""},{"$f":"IF(F35=\"\",\"\",IF(G35=\"\",F35,IF(OR(G35>(F35+3),G35<(F35-3)),G35,F35)))","v":""},{"$f":"IF(G35=\"\",\"\",IF(OR(G35>(F35+3),G35<(F35-3)),\"Agncy Repl.\",\"\"))","v":""},{"$f":"IF(H35=\"\",\"\",IF(I35=\"\",H35,IF(OR(I35>(H35+3),I35<(H35-3)),I35,H35)))","v":""},{"$f":"IF(I35=\"\",\"\",IF(OR(I35>(H35+3),I35<(H35-3)),\"Agncy Repl.\",\"\"))","v":""},{"$f":"IF(J35=\"\",\"\",IF(K35=\"\",J35,IF(OR(K35>(J35+3),K35<(J35-3)),K35,J35)))","v":""},{"$f":"IF(K35=\"\",\"\",IF(OR(K35>(J35+3),K35<(J35-3)),\"Agncy Repl.\",\"\"))","v":""},null,"#50 Calc. %",null,null,{"$f":"IF(P35=\"\",\"\",IF(Q35=\"\",P35,IF(OR(Q35>(P35+3),Q35<(P35-3)),Q35,P35)))","v":""},{"$f":"IF(Q35=\"\",\"\",IF(OR(Q35>(P35+3),Q35<(P35-3)),\"Agncy Repl.\",\"\"))","v":""},{"$f":"IF(R35=\"\",\"\",IF(S35=\"\",R35,IF(OR(S35>(R35+3),S35<(R35-3)),S35,R35)))","v":""},{"$f":"IF(S35=\"\",\"\",IF(OR(S35>(R35+3),S35<(R35-3)),\"Agncy Repl.\",\"\"))","v":""},{"$f":"IF(T35=\"\",\"\",IF(U35=\"\",T35,IF(OR(U35>(T35+3),U35<(T35-3)),U35,T35)))","v":""},{"$f":"IF(U35=\"\",\"\",IF(OR(U35>(T35+3),U35<(T35-3)),\"Agncy Repl.\",\"\"))","v":""},{"$f":"IF(V35=\"\",\"\",IF(W35=\"\",V35,IF(OR(W35>(V35+3),W35<(V35-3)),W35,V35)))","v":""},{"$f":"IF(W35=\"\",\"\",IF(OR(W35>(V35+3),W35<(V35-3)),\"Agncy Repl.\",\"\"))","v":""},null,"#50 Calc. %",null,null,{"$f":"IF(AB35=\"\",\"\",IF(AC35=\"\",AB35,IF(OR(AC35>(AB35+3),AC35<(AB35-3)),AC35,AB35)))","v":""},{"$f":"IF(AC35=\"\",\"\",IF(OR(AC35>(AB35+3),AC35<(AB35-3)),\"Agncy Repl.\",\"\"))","v":""},{"$f":"IF(AD35=\"\",\"\",IF(AE35=\"\",AD35,IF(OR(AE35>(AD35+3),AE35<(AD35-3)),AE35,AD35)))","v":""},{"$f":"IF(AE35=\"\",\"\",IF(OR(AE35>(AD35+3),AE35<(AD35-3)),\"Agncy Repl.\",\"\"))","v":""},{"$f":"IF(AF35=\"\",\"\",IF(AG35=\"\",AF35,IF(OR(AG35>(AF35+3),AG35<(AF35-3)),AG35,AF35)))","v":""},{"$f":"IF(AG35=\"\",\"\",IF(OR(AG35>(AF35+3),AG35<(AF35-3)),\"Agncy Repl.\",\"\"))","v":""},{"$f":"IF(AH35=\"\",\"\",IF(AI35=\"\",AH35,IF(OR(AI35>(AH35+3),AI35<(AH35-3)),AI35,AH35)))","v":""},{"$f":"IF(AI35=\"\",\"\",IF(OR(AI35>(AH35+3),AI35<(AH35-3)),\"Agncy Repl.\",\"\"))","v":""},null,"#50 Calc. %",null,null,{"$f":"IF(AN35=\"\",\"\",IF(AO35=\"\",AN35,IF(OR(AO35>(AN35+3),AO35<(AN35-3)),AO35,AN35)))","v":""},{"$f":"IF(AO35=\"\",\"\",IF(OR(AO35>(AN35+3),AO35<(AN35-3)),\"Agncy Repl.\",\"\"))","v":""},{"$f":"IF(AP35=\"\",\"\",IF(AQ35=\"\",AP35,IF(OR(AQ35>(AP35+3),AQ35<(AP35-3)),AQ35,AP35)))","v":""},{"$f":"IF(AQ35=\"\",\"\",IF(OR(AQ35>(AP35+3),AQ35<(AP35-3)),\"Agncy Repl.\",\"\"))","v":""},{"$f":"IF(AR35=\"\",\"\",IF(AS35=\"\",AR35,IF(OR(AS35>(AR35+3),AS35<(AR35-3)),AS35,AR35)))","v":""},{"$f":"IF(AS35=\"\",\"\",IF(OR(AS35>(AR35+3),AS35<(AR35-3)),\"Agncy Repl.\",\"\"))","v":""},{"$f":"IF(AT35=\"\",\"\",IF(AU35=\"\",AT35,IF(OR(AU35>(AT35+3),AU35<(AT35-3)),AU35,AT35)))","v":""},{"$f":"IF(AU35=\"\",\"\",IF(OR(AU35>(AT35+3),AU35<(AT35-3)),\"Agncy Repl.\",\"\"))","v":""},null,"#50 Calc. %",null,null,{"$f":"IF(AZ35=\"\",\"\",IF(BA35=\"\",AZ35,IF(OR(BA35>(AZ35+3),BA35<(AZ35-3)),BA35,AZ35)))","v":""},{"$f":"IF(BA35=\"\",\"\",IF(OR(BA35>(AZ35+3),BA35<(AZ35-3)),\"Agncy Repl.\",\"\"))","v":""},{"$f":"IF(BB35=\"\",\"\",IF(BC35=\"\",BB35,IF(OR(BC35>(BB35+3),BC35<(BB35-3)),BC35,BB35)))","v":""},{"$f":"IF(BC35=\"\",\"\",IF(OR(BC35>(BB35+3),BC35<(BB35-3)),\"Agncy Repl.\",\"\"))","v":""},{"$f":"IF(BD35=\"\",\"\",IF(BE35=\"\",BD35,IF(OR(BE35>(BD35+3),BE35<(BD35-3)),BE35,BD35)))","v":""},{"$f":"IF(BE35=\"\",\"\",IF(OR(BE35>(BD35+3),BE35<(BD35-3)),\"Agncy Repl.\",\"\"))","v":""},{"$f":"IF(BF35=\"\",\"\",IF(BG35=\"\",BF35,IF(OR(BG35>(BF35+3),BG35<(BF35-3)),BG35,BF35)))","v":""},{"$f":"IF(BG35=\"\",\"\",IF(OR(BG35>(BF35+3),BG35<(BF35-3)),\"Agncy Repl.\",\"\"))","v":""},null,"#50 Calc. %",null,null,{"$f":"IF(BL35=\"\",\"\",IF(BM35=\"\",BL35,IF(OR(BM35>(BL35+3),BM35<(BL35-3)),BM35,BL35)))","v":""},{"$f":"IF(BM35=\"\",\"\",IF(OR(BM35>(BL35+3),BM35<(BL35-3)),\"Agncy Repl.\",\"\"))","v":""},{"$f":"IF(BN35=\"\",\"\",IF(BO35=\"\",BN35,IF(OR(BO35>(BN35+3),BO35<(BN35-3)),BO35,BN35)))","v":""},{"$f":"IF(BO35=\"\",\"\",IF(OR(BO35>(BN35+3),BO35<(BN35-3)),\"Agncy Repl.\",\"\"))","v":""},{"$f":"IF(BP35=\"\",\"\",IF(BQ35=\"\",BP35,IF(OR(BQ35>(BP35+3),BQ35<(BP35-3)),BQ35,BP35)))","v":""},{"$f":"IF(BQ35=\"\",\"\",IF(OR(BQ35>(BP35+3),BQ35<(BP35-3)),\"Agncy Repl.\",\"\"))","v":""},{"$f":"IF(BR35=\"\",\"\",IF(BS35=\"\",BR35,IF(OR(BS35>(BR35+3),BS35<(BR35-3)),BS35,BR35)))","v":""},{"$f":"IF(BS35=\"\",\"\",IF(OR(BS35>(BR35+3),BS35<(BR35-3)),\"Agncy Repl.\",\"\"))","v":""},null,"#50 Calc. %",null,null,{"$f":"IF(BX35=\"\",\"\",IF(BY35=\"\",BX35,IF(OR(BY35>(BX35+3),BY35<(BX35-3)),BY35,BX35)))","v":""},{"$f":"IF(BY35=\"\",\"\",IF(OR(BY35>(BX35+3),BY35<(BX35-3)),\"Agncy Repl.\",\"\"))","v":""},{"$f":"IF(BZ35=\"\",\"\",IF(CA35=\"\",BZ35,IF(OR(CA35>(BZ35+3),CA35<(BZ35-3)),CA35,BZ35)))","v":""},{"$f":"IF(CA35=\"\",\"\",IF(OR(CA35>(BZ35+3),CA35<(BZ35-3)),\"Agncy Repl.\",\"\"))","v":""},{"$f":"IF(CB35=\"\",\"\",IF(CC35=\"\",CB35,IF(OR(CC35>(CB35+3),CC35<(CB35-3)),CC35,CB35)))","v":""},{"$f":"IF(CC35=\"\",\"\",IF(OR(CC35>(CB35+3),CC35<(CB35-3)),\"Agncy Repl.\",\"\"))","v":""},{"$f":"IF(CD35=\"\",\"\",IF(CE35=\"\",CD35,IF(OR(CE35>(CD35+3),CE35<(CD35-3)),CE35,CD35)))","v":""},{"$f":"IF(CE35=\"\",\"\",IF(OR(CE35>(CD35+3),CE35<(CD35-3)),\"Agncy Repl.\",\"\"))","v":""},null,"#50 Calc. %",null,null,{"$f":"IF(CJ35=\"\",\"\",IF(CK35=\"\",CJ35,IF(OR(CK35>(CJ35+3),CK35<(CJ35-3)),CK35,CJ35)))","v":""},{"$f":"IF(CK35=\"\",\"\",IF(OR(CK35>(CJ35+3),CK35<(CJ35-3)),\"Agncy Repl.\",\"\"))","v":""},{"$f":"IF(CL35=\"\",\"\",IF(CM35=\"\",CL35,IF(OR(CM35>(CL35+3),CM35<(CL35-3)),CM35,CL35)))","v":""},{"$f":"IF(CM35=\"\",\"\",IF(OR(CM35>(CL35+3),CM35<(CL35-3)),\"Agncy Repl.\",\"\"))","v":""},{"$f":"IF(CN35=\"\",\"\",IF(CO35=\"\",CN35,IF(OR(CO35>(CN35+3),CO35<(CN35-3)),CO35,CN35)))","v":""},{"$f":"IF(CO35=\"\",\"\",IF(OR(CO35>(CN35+3),CO35<(CN35-3)),\"Agncy Repl.\",\"\"))","v":""},{"$f":"IF(CP35=\"\",\"\",IF(CQ35=\"\",CP35,IF(OR(CQ35>(CP35+3),CQ35<(CP35-3)),CQ35,CP35)))","v":""},{"$f":"IF(CQ35=\"\",\"\",IF(OR(CQ35>(CP35+3),CQ35<(CP35-3)),\"Agncy Repl.\",\"\"))","v":""},null,"#50 Calc. %",null,null,{"$f":"IF(CV35=\"\",\"\",IF(CW35=\"\",CV35,IF(OR(CW35>(CV35+3),CW35<(CV35-3)),CW35,CV35)))","v":""},{"$f":"IF(CW35=\"\",\"\",IF(OR(CW35>(CV35+3),CW35<(CV35-3)),\"Agncy Repl.\",\"\"))","v":""},{"$f":"IF(CX35=\"\",\"\",IF(CY35=\"\",CX35,IF(OR(CY35>(CX35+3),CY35<(CX35-3)),CY35,CX35)))","v":""},{"$f":"IF(CY35=\"\",\"\",IF(OR(CY35>(CX35+3),CY35<(CX35-3)),\"Agncy Repl.\",\"\"))","v":""},{"$f":"IF(CZ35=\"\",\"\",IF(DA35=\"\",CZ35,IF(OR(DA35>(CZ35+3),DA35<(CZ35-3)),DA35,CZ35)))","v":""},{"$f":"IF(DA35=\"\",\"\",IF(OR(DA35>(CZ35+3),DA35<(CZ35-3)),\"Agncy Repl.\",\"\"))","v":""},{"$f":"IF(DB35=\"\",\"\",IF(DC35=\"\",DB35,IF(OR(DC35>(DB35+3),DC35<(DB35-3)),DC35,DB35)))","v":""},{"$f":"IF(DC35=\"\",\"\",IF(OR(DC35>(DB35+3),DC35<(DB35-3)),\"Agncy Repl.\",\"\"))","v":""},null,"#50 Calc. %",null,null,{"$f":"IF(DH35=\"\",\"\",IF(DI35=\"\",DH35,IF(OR(DI35>(DH35+3),DI35<(DH35-3)),DI35,DH35)))","v":""},{"$f":"IF(DI35=\"\",\"\",IF(OR(DI35>(DH35+3),DI35<(DH35-3)),\"Agncy Repl.\",\"\"))","v":""},{"$f":"IF(DJ35=\"\",\"\",IF(DK35=\"\",DJ35,IF(OR(DK35>(DJ35+3),DK35<(DJ35-3)),DK35,DJ35)))","v":""},{"$f":"IF(DK35=\"\",\"\",IF(OR(DK35>(DJ35+3),DK35<(DJ35-3)),\"Agncy Repl.\",\"\"))","v":""},{"$f":"IF(DL35=\"\",\"\",IF(DM35=\"\",DL35,IF(OR(DM35>(DL35+3),DM35<(DL35-3)),DM35,DL35)))","v":""},{"$f":"IF(DM35=\"\",\"\",IF(OR(DM35>(DL35+3),DM35<(DL35-3)),\"Agncy Repl.\",\"\"))","v":""},{"$f":"IF(DN35=\"\",\"\",IF(DO35=\"\",DN35,IF(OR(DO35>(DN35+3),DO35<(DN35-3)),DO35,DN35)))","v":""},{"$f":"IF(DO35=\"\",\"\",IF(OR(DO35>(DN35+3),DO35<(DN35-3)),\"Agncy Repl.\",\"\"))","v":""},null,"#50 Calc. %",null,null,{"$f":"IF(DT35=\"\",\"\",IF(DU35=\"\",DT35,IF(OR(DU35>(DT35+3),DU35<(DT35-3)),DU35,DT35)))","v":""},{"$f":"IF(DU35=\"\",\"\",IF(OR(DU35>(DT35+3),DU35<(DT35-3)),\"Agncy Repl.\",\"\"))","v":""},{"$f":"IF(DV35=\"\",\"\",IF(DW35=\"\",DV35,IF(OR(DW35>(DV35+3),DW35<(DV35-3)),DW35,DV35)))","v":""},{"$f":"IF(DW35=\"\",\"\",IF(OR(DW35>(DV35+3),DW35<(DV35-3)),\"Agncy Repl.\",\"\"))","v":""},{"$f":"IF(DX35=\"\",\"\",IF(DY35=\"\",DX35,IF(OR(DY35>(DX35+3),DY35<(DX35-3)),DY35,DX35)))","v":""},{"$f":"IF(DY35=\"\",\"\",IF(OR(DY35>(DX35+3),DY35<(DX35-3)),\"Agncy Repl.\",\"\"))","v":""},{"$f":"IF(DZ35=\"\",\"\",IF(EA35=\"\",DZ35,IF(OR(EA35>(DZ35+3),EA35<(DZ35-3)),EA35,DZ35)))","v":""},{"$f":"IF(EA35=\"\",\"\",IF(OR(EA35>(DZ35+3),EA35<(DZ35-3)),\"Agncy Repl.\",\"\"))","v":""},null,"#50 Calc. %",null,null,{"$f":"IF(EF35=\"\",\"\",IF(EG35=\"\",EF35,IF(OR(EG35>(EF35+3),EG35<(EF35-3)),EG35,EF35)))","v":""},{"$f":"IF(EG35=\"\",\"\",IF(OR(EG35>(EF35+3),EG35<(EF35-3)),\"Agncy Repl.\",\"\"))","v":""},{"$f":"IF(EH35=\"\",\"\",IF(EI35=\"\",EH35,IF(OR(EI35>(EH35+3),EI35<(EH35-3)),EI35,EH35)))","v":""},{"$f":"IF(EI35=\"\",\"\",IF(OR(EI35>(EH35+3),EI35<(EH35-3)),\"Agncy Repl.\",\"\"))","v":""},{"$f":"IF(EJ35=\"\",\"\",IF(EK35=\"\",EJ35,IF(OR(EK35>(EJ35+3),EK35<(EJ35-3)),EK35,EJ35)))","v":""},{"$f":"IF(EK35=\"\",\"\",IF(OR(EK35>(EJ35+3),EK35<(EJ35-3)),\"Agncy Repl.\",\"\"))","v":""},{"$f":"IF(EL35=\"\",\"\",IF(EM35=\"\",EL35,IF(OR(EM35>(EL35+3),EM35<(EL35-3)),EM35,EL35)))","v":""},{"$f":"IF(EM35=\"\",\"\",IF(OR(EM35>(EL35+3),EM35<(EL35-3)),\"Agncy Repl.\",\"\"))","v":""},null,"#50 Calc. %",null,null,{"$f":"IF(ER35=\"\",\"\",IF(ES35=\"\",ER35,IF(OR(ES35>(ER35+3),ES35<(ER35-3)),ES35,ER35)))","v":""},{"$f":"IF(ES35=\"\",\"\",IF(OR(ES35>(ER35+3),ES35<(ER35-3)),\"Agncy Repl.\",\"\"))","v":""},{"$f":"IF(ET35=\"\",\"\",IF(EU35=\"\",ET35,IF(OR(EU35>(ET35+3),EU35<(ET35-3)),EU35,ET35)))","v":""},{"$f":"IF(EU35=\"\",\"\",IF(OR(EU35>(ET35+3),EU35<(ET35-3)),\"Agncy Repl.\",\"\"))","v":""},{"$f":"IF(EV35=\"\",\"\",IF(EW35=\"\",EV35,IF(OR(EW35>(EV35+3),EW35<(EV35-3)),EW35,EV35)))","v":""},{"$f":"IF(EW35=\"\",\"\",IF(OR(EW35>(EV35+3),EW35<(EV35-3)),\"Agncy Repl.\",\"\"))","v":""},{"$f":"IF(EX35=\"\",\"\",IF(EY35=\"\",EX35,IF(OR(EY35>(EX35+3),EY35<(EX35-3)),EY35,EX35)))","v":""},{"$f":"IF(EY35=\"\",\"\",IF(OR(EY35>(EX35+3),EY35<(EX35-3)),\"Agncy Repl.\",\"\"))","v":""},null,"#50 Calc. %",null,null,{"$f":"IF(FD35=\"\",\"\",IF(FE35=\"\",FD35,IF(OR(FE35>(FD35+3),FE35<(FD35-3)),FE35,FD35)))","v":""},{"$f":"IF(FE35=\"\",\"\",IF(OR(FE35>(FD35+3),FE35<(FD35-3)),\"Agncy Repl.\",\"\"))","v":""},{"$f":"IF(FF35=\"\",\"\",IF(FG35=\"\",FF35,IF(OR(FG35>(FF35+3),FG35<(FF35-3)),FG35,FF35)))","v":""},{"$f":"IF(FG35=\"\",\"\",IF(OR(FG35>(FF35+3),FG35<(FF35-3)),\"Agncy Repl.\",\"\"))","v":""},{"$f":"IF(FH35=\"\",\"\",IF(FI35=\"\",FH35,IF(OR(FI35>(FH35+3),FI35<(FH35-3)),FI35,FH35)))","v":""},{"$f":"IF(FI35=\"\",\"\",IF(OR(FI35>(FH35+3),FI35<(FH35-3)),\"Agncy Repl.\",\"\"))","v":""},{"$f":"IF(FJ35=\"\",\"\",IF(FK35=\"\",FJ35,IF(OR(FK35>(FJ35+3),FK35<(FJ35-3)),FK35,FJ35)))","v":""},{"$f":"IF(FK35=\"\",\"\",IF(OR(FK35>(FJ35+3),FK35<(FJ35-3)),\"Agncy Repl.\",\"\"))","v":""},null,"#50 Calc. %",null,null,{"$f":"IF(FP35=\"\",\"\",IF(FQ35=\"\",FP35,IF(OR(FQ35>(FP35+3),FQ35<(FP35-3)),FQ35,FP35)))","v":""},{"$f":"IF(FQ35=\"\",\"\",IF(OR(FQ35>(FP35+3),FQ35<(FP35-3)),\"Agncy Repl.\",\"\"))","v":""},{"$f":"IF(FR35=\"\",\"\",IF(FS35=\"\",FR35,IF(OR(FS35>(FR35+3),FS35<(FR35-3)),FS35,FR35)))","v":""},{"$f":"IF(FS35=\"\",\"\",IF(OR(FS35>(FR35+3),FS35<(FR35-3)),\"Agncy Repl.\",\"\"))","v":""},{"$f":"IF(FT35=\"\",\"\",IF(FU35=\"\",FT35,IF(OR(FU35>(FT35+3),FU35<(FT35-3)),FU35,FT35)))","v":""},{"$f":"IF(FU35=\"\",\"\",IF(OR(FU35>(FT35+3),FU35<(FT35-3)),\"Agncy Repl.\",\"\"))","v":""},{"$f":"IF(FV35=\"\",\"\",IF(FW35=\"\",FV35,IF(OR(FW35>(FV35+3),FW35<(FV35-3)),FW35,FV35)))","v":""},{"$f":"IF(FW35=\"\",\"\",IF(OR(FW35>(FV35+3),FW35<(FV35-3)),\"Agncy Repl.\",\"\"))","v":""},null,"#50 Calc. %",null,null,{"$f":"IF(GB35=\"\",\"\",IF(GC35=\"\",GB35,IF(OR(GC35>(GB35+3),GC35<(GB35-3)),GC35,GB35)))","v":""},{"$f":"IF(GC35=\"\",\"\",IF(OR(GC35>(GB35+3),GC35<(GB35-3)),\"Agncy Repl.\",\"\"))","v":""},{"$f":"IF(GD35=\"\",\"\",IF(GE35=\"\",GD35,IF(OR(GE35>(GD35+3),GE35<(GD35-3)),GE35,GD35)))","v":""},{"$f":"IF(GE35=\"\",\"\",IF(OR(GE35>(GD35+3),GE35<(GD35-3)),\"Agncy Repl.\",\"\"))","v":""},{"$f":"IF(GF35=\"\",\"\",IF(GG35=\"\",GF35,IF(OR(GG35>(GF35+3),GG35<(GF35-3)),GG35,GF35)))","v":""},{"$f":"IF(GG35=\"\",\"\",IF(OR(GG35>(GF35+3),GG35<(GF35-3)),\"Agncy Repl.\",\"\"))","v":""},{"$f":"IF(GH35=\"\",\"\",IF(GI35=\"\",GH35,IF(OR(GI35>(GH35+3),GI35<(GH35-3)),GI35,GH35)))","v":""},{"$f":"IF(GI35=\"\",\"\",IF(OR(GI35>(GH35+3),GI35<(GH35-3)),\"Agncy Repl.\",\"\"))","v":""},null,"#50 Calc. %",null,null,{"$f":"IF(GN35=\"\",\"\",IF(GO35=\"\",GN35,IF(OR(GO35>(GN35+3),GO35<(GN35-3)),GO35,GN35)))","v":""},{"$f":"IF(GO35=\"\",\"\",IF(OR(GO35>(GN35+3),GO35<(GN35-3)),\"Agncy Repl.\",\"\"))","v":""},{"$f":"IF(GP35=\"\",\"\",IF(GQ35=\"\",GP35,IF(OR(GQ35>(GP35+3),GQ35<(GP35-3)),GQ35,GP35)))","v":""},{"$f":"IF(GQ35=\"\",\"\",IF(OR(GQ35>(GP35+3),GQ35<(GP35-3)),\"Agncy Repl.\",\"\"))","v":""},{"$f":"IF(GR35=\"\",\"\",IF(GS35=\"\",GR35,IF(OR(GS35>(GR35+3),GS35<(GR35-3)),GS35,GR35)))","v":""},{"$f":"IF(GS35=\"\",\"\",IF(OR(GS35>(GR35+3),GS35<(GR35-3)),\"Agncy Repl.\",\"\"))","v":""},{"$f":"IF(GT35=\"\",\"\",IF(GU35=\"\",GT35,IF(OR(GU35>(GT35+3),GU35<(GT35-3)),GU35,GT35)))","v":""},{"$f":"IF(GU35=\"\",\"\",IF(OR(GU35>(GT35+3),GU35<(GT35-3)),\"Agncy Repl.\",\"\"))","v":""},null,"#50 Calc. %",null,null,{"$f":"IF(GZ35=\"\",\"\",IF(HA35=\"\",GZ35,IF(OR(HA35>(GZ35+3),HA35<(GZ35-3)),HA35,GZ35)))","v":""},{"$f":"IF(HA35=\"\",\"\",IF(OR(HA35>(GZ35+3),HA35<(GZ35-3)),\"Agncy Repl.\",\"\"))","v":""},{"$f":"IF(HB35=\"\",\"\",IF(HC35=\"\",HB35,IF(OR(HC35>(HB35+3),HC35<(HB35-3)),HC35,HB35)))","v":""},{"$f":"IF(HC35=\"\",\"\",IF(OR(HC35>(HB35+3),HC35<(HB35-3)),\"Agncy Repl.\",\"\"))","v":""},{"$f":"IF(HD35=\"\",\"\",IF(HE35=\"\",HD35,IF(OR(HE35>(HD35+3),HE35<(HD35-3)),HE35,HD35)))","v":""},{"$f":"IF(HE35=\"\",\"\",IF(OR(HE35>(HD35+3),HE35<(HD35-3)),\"Agncy Repl.\",\"\"))","v":""},{"$f":"IF(HF35=\"\",\"\",IF(HG35=\"\",HF35,IF(OR(HG35>(HF35+3),HG35<(HF35-3)),HG35,HF35)))","v":""},{"$f":"IF(HG35=\"\",\"\",IF(OR(HG35>(HF35+3),HG35<(HF35-3)),\"Agncy Repl.\",\"\"))","v":""},null,"#50 Calc. %",null,null,{"$f":"IF(HL35=\"\",\"\",IF(HM35=\"\",HL35,IF(OR(HM35>(HL35+3),HM35<(HL35-3)),HM35,HL35)))","v":""},{"$f":"IF(HM35=\"\",\"\",IF(OR(HM35>(HL35+3),HM35<(HL35-3)),\"Agncy Repl.\",\"\"))","v":""},{"$f":"IF(HN35=\"\",\"\",IF(HO35=\"\",HN35,IF(OR(HO35>(HN35+3),HO35<(HN35-3)),HO35,HN35)))","v":""},{"$f":"IF(HO35=\"\",\"\",IF(OR(HO35>(HN35+3),HO35<(HN35-3)),\"Agncy Repl.\",\"\"))","v":""},{"$f":"IF(HP35=\"\",\"\",IF(HQ35=\"\",HP35,IF(OR(HQ35>(HP35+3),HQ35<(HP35-3)),HQ35,HP35)))","v":""},{"$f":"IF(HQ35=\"\",\"\",IF(OR(HQ35>(HP35+3),HQ35<(HP35-3)),\"Agncy Repl.\",\"\"))","v":""},{"$f":"IF(HR35=\"\",\"\",IF(HS35=\"\",HR35,IF(OR(HS35>(HR35+3),HS35<(HR35-3)),HS35,HR35)))","v":""},{"$f":"IF(HS35=\"\",\"\",IF(OR(HS35>(HR35+3),HS35<(HR35-3)),\"Agncy Repl.\",\"\"))","v":""},null,"#50 Calc. %",null,null,{"$f":"IF(HX35=\"\",\"\",IF(HY35=\"\",HX35,IF(OR(HY35>(HX35+3),HY35<(HX35-3)),HY35,HX35)))","v":""},{"$f":"IF(HY35=\"\",\"\",IF(OR(HY35>(HX35+3),HY35<(HX35-3)),\"Agncy Repl.\",\"\"))","v":""},{"$f":"IF(HZ35=\"\",\"\",IF(IA35=\"\",HZ35,IF(OR(IA35>(HZ35+3),IA35<(HZ35-3)),IA35,HZ35)))","v":""},{"$f":"IF(IA35=\"\",\"\",IF(OR(IA35>(HZ35+3),IA35<(HZ35-3)),\"Agncy Repl.\",\"\"))","v":""},{"$f":"IF(IB35=\"\",\"\",IF(IC35=\"\",IB35,IF(OR(IC35>(IB35+3),IC35<(IB35-3)),IC35,IB35)))","v":""},{"$f":"IF(IC35=\"\",\"\",IF(OR(IC35>(IB35+3),IC35<(IB35-3)),\"Agncy Repl.\",\"\"))","v":""},{"$f":"IF(ID35=\"\",\"\",IF(IE35=\"\",ID35,IF(OR(IE35>(ID35+3),IE35<(ID35-3)),IE35,ID35)))","v":""},{"$f":"IF(IE35=\"\",\"\",IF(OR(IE35>(ID35+3),IE35<(ID35-3)),\"Agncy Repl.\",\"\"))","v":""},null,"#50 Calc. %",null,null,{"$f":"IF(IJ35=\"\",\"\",IF(IK35=\"\",IJ35,IF(OR(IK35>(IJ35+3),IK35<(IJ35-3)),IK35,IJ35)))","v":""},{"$f":"IF(IK35=\"\",\"\",IF(OR(IK35>(IJ35+3),IK35<(IJ35-3)),\"Agncy Repl.\",\"\"))","v":""},{"$f":"IF(IL35=\"\",\"\",IF(IM35=\"\",IL35,IF(OR(IM35>(IL35+3),IM35<(IL35-3)),IM35,IL35)))","v":""},{"$f":"IF(IM35=\"\",\"\",IF(OR(IM35>(IL35+3),IM35<(IL35-3)),\"Agncy Repl.\",\"\"))","v":""},{"$f":"IF(IN35=\"\",\"\",IF(IO35=\"\",IN35,IF(OR(IO35>(IN35+3),IO35<(IN35-3)),IO35,IN35)))","v":""},{"$f":"IF(IO35=\"\",\"\",IF(OR(IO35>(IN35+3),IO35<(IN35-3)),\"Agncy Repl.\",\"\"))","v":""},{"$f":"IF(IP35=\"\",\"\",IF(IQ35=\"\",IP35,IF(OR(IQ35>(IP35+3),IQ35<(IP35-3)),IQ35,IP35)))","v":""},{"$f":"IF(IQ35=\"\",\"\",IF(OR(IQ35>(IP35+3),IQ35<(IP35-3)),\"Agncy Repl.\",\"\"))","v":""}]
["# 100",null,null,null,null,null,null,null,null,null,null,null,"# 100",null,null,null,null,null,null,null,null,null,null,null,"# 100",null,null,null,null,null,null,null,null,null,null,null,"# 100",null,null,null,null,null,null,null,null,null,null,null,"# 100",null,null,null,null,null,null,null,null,null,null,null,"# 100",null,null,null,null,null,null,null,null,null,null,null,"# 100",null,null,null,null,null,null,null,null,null,null,null,"# 100",null,null,null,null,null,null,null,null,null,null,null,"# 100",null,null,null,null,null,null,null,null,null,null,null,"# 100",null,null,null,null,null,null,null,null,null,null,null,"# 100",null,null,null,null,null,null,null,null,null,null,null,"# 100",null,null,null,null,null,null,null,null,null,null,null,"# 100",null,null,null,null,null,null,null,null,null,null,null,"# 100",null,null,null,null,null,null,null,null,null,null,null,"# 100",null,null,null,null,null,null,null,null,null,null,null,"# 100",null,null,null,null,null,null,null,null,null,null,null,"# 100",null,null,null,null,null,null,null,null,null,null,null,"# 100",null,null,null,null,null,null,null,null,null,null,null,"# 100",null,null,null,null,null,null,null,null,null,null,null,"# 100",null,null,null,null,null,null,null,null,null,null,null,"# 100",null,null,null,null,null,null,null,null,null,null,null,null,0,"Agency AFT Substituted"]
["#100 Calc. %",null,null,{"$f":"IF(D37=\"\",\"\",IF(E37=\"\",D37,IF(OR(E37>(D37+2),E37<(D37-2)),E37,D37)))","v":""},{"$f":"IF(E37=\"\",\"\",IF(OR(E37>(D37+2),E37<(D37-2)),\"Agncy Repl.\",\"\"))","v":""},{"$f":"IF(F37=\"\",\"\",IF(G37=\"\",F37,IF(OR(G37>(F37+2),G37<(F37-2)),G37,F37)))","v":""},{"$f":"IF(G37=\"\",\"\",IF(OR(G37>(F37+2),G37<(F37-2)),\"Agncy Repl.\",\"\"))","v":""},{"$f":"IF(H37=\"\",\"\",IF(I37=\"\",H37,IF(OR(I37>(H37+2),I37<(H37-2)),I37,H37)))","v":""},{"$f":"IF(I37=\"\",\"\",IF(OR(I37>(H37+2),I37<(H37-2)),\"Agncy Repl.\",\"\"))","v":""},{"$f":"IF(J37=\"\",\"\",IF(K37=\"\",J37,IF(OR(K37>(J37+2),K37<(J37-2)),K37,J37)))","v":""},{"$f":"IF(K37=\"\",\"\",IF(OR(K37>(J37+2),K37<(J37-2)),\"Agncy Repl.\",\"\"))","v":""},null,"#100 Calc. %",null,null,{"$f":"IF(P37=\"\",\"\",IF(Q37=\"\",P37,IF(OR(Q37>(P37+2),Q37<(P37-2)),Q37,P37)))","v":""},{"$f":"IF(Q37=\"\",\"\",IF(OR(Q37>(P37+2),Q37<(P37-2)),\"Agncy Repl.\",\"\"))","v":""},{"$f":"IF(R37=\"\",\"\",IF(S37=\"\",R37,IF(OR(S37>(R37+2),S37<(R37-2)),S37,R37)))","v":""},{"$f":"IF(S37=\"\",\"\",IF(OR(S37>(R37+2),S37<(R37-2)),\"Agncy Repl.\",\"\"))","v":""},{"$f":"IF(T37=\"\",\"\",IF(U37=\"\",T37,IF(OR(U37>(T37+2),U37<(T37-2)),U37,T37)))","v":""},{"$f":"IF(U37=\"\",\"\",IF(OR(U37>(T37+2),U37<(T37-2)),\"Agncy Repl.\",\"\"))","v":""},{"$f":"IF(V37=\"\",\"\",IF(W37=\"\",V37,IF(OR(W37>(V37+2),W37<(V37-2)),W37,V37)))","v":""},{"$f":"IF(W37=\"\",\"\",IF(OR(W37>(V37+2),W37<(V37-2)),\"Agncy Repl.\",\"\"))","v":""},null,"#100 Calc. %",null,null,{"$f":"IF(AB37=\"\",\"\",IF(AC37=\"\",AB37,IF(OR(AC37>(AB37+2),AC37<(AB37-2)),AC37,AB37)))","v":""},{"$f":"IF(AC37=\"\",\"\",IF(OR(AC37>(AB37+2),AC37<(AB37-2)),\"Agncy Repl.\",\"\"))","v":""},{"$f":"IF(AD37=\"\",\"\",IF(AE37=\"\",AD37,IF(OR(AE37>(AD37+2),AE37<(AD37-2)),AE37,AD37)))","v":""},{"$f":"IF(AE37=\"\",\"\",IF(OR(AE37>(AD37+2),AE37<(AD37-2)),\"Agncy Repl.\",\"\"))","v":""},{"$f":"IF(AF37=\"\",\"\",IF(AG37=\"\",AF37,IF(OR(AG37>(AF37+2),AG37<(AF37-2)),AG37,AF37)))","v":""},{"$f":"IF(AG37=\"\",\"\",IF(OR(AG37>(AF37+2),AG37<(AF37-2)),\"Agncy Repl.\",\"\"))","v":""},{"$f":"IF(AH37=\"\",\"\",IF(AI37=\"\",AH37,IF(OR(AI37>(AH37+2),AI37<(AH37-2)),AI37,AH37)))","v":""},{"$f":"IF(AI37=\"\",\"\",IF(OR(AI37>(AH37+2),AI37<(AH37-2)),\"Agncy Repl.\",\"\"))","v":""},null,"#100 Calc. %",null,null,{"$f":"IF(AN37=\"\",\"\",IF(AO37=\"\",AN37,IF(OR(AO37>(AN37+2),AO37<(AN37-2)),AO37,AN37)))","v":""},{"$f":"IF(AO37=\"\",\"\",IF(OR(AO37>(AN37+2),AO37<(AN37-2)),\"Agncy Repl.\",\"\"))","v":""},{"$f":"IF(AP37=\"\",\"\",IF(AQ37=\"\",AP37,IF(OR(AQ37>(AP37+2),AQ37<(AP37-2)),AQ37,AP37)))","v":""},{"$f":"IF(AQ37=\"\",\"\",IF(OR(AQ37>(AP37+2),AQ37<(AP37-2)),\"Agncy Repl.\",\"\"))","v":""},{"$f":"IF(AR37=\"\",\"\",IF(AS37=\"\",AR37,IF(OR(AS37>(AR37+2),AS37<(AR37-2)),AS37,AR37)))","v":""},{"$f":"IF(AS37=\"\",\"\",IF(OR(AS37>(AR37+2),AS37<(AR37-2)),\"Agncy Repl.\",\"\"))","v":""},{"$f":"IF(AT37=\"\",\"\",IF(AU37=\"\",AT37,IF(OR(AU37>(AT37+2),AU37<(AT37-2)),AU37,AT37)))","v":""},{"$f":"IF(AU37=\"\",\"\",IF(OR(AU37>(AT37+2),AU37<(AT37-2)),\"Agncy Repl.\",\"\"))","v":""},null,"#100 Calc. %",null,null,{"$f":"IF(AZ37=\"\",\"\",IF(BA37=\"\",AZ37,IF(OR(BA37>(AZ37+2),BA37<(AZ37-2)),BA37,AZ37)))","v":""},{"$f":"IF(BA37=\"\",\"\",IF(OR(BA37>(AZ37+2),BA37<(AZ37-2)),\"Agncy Repl.\",\"\"))","v":""},{"$f":"IF(BB37=\"\",\"\",IF(BC37=\"\",BB37,IF(OR(BC37>(BB37+2),BC37<(BB37-2)),BC37,BB37)))","v":""},{"$f":"IF(BC37=\"\",\"\",IF(OR(BC37>(BB37+2),BC37<(BB37-2)),\"Agncy Repl.\",\"\"))","v":""},{"$f":"IF(BD37=\"\",\"\",IF(BE37=\"\",BD37,IF(OR(BE37>(BD37+2),BE37<(BD37-2)),BE37,BD37)))","v":""},{"$f":"IF(BE37=\"\",\"\",IF(OR(BE37>(BD37+2),BE37<(BD37-2)),\"Agncy Repl.\",\"\"))","v":""},{"$f":"IF(BF37=\"\",\"\",IF(BG37=\"\",BF37,IF(OR(BG37>(BF37+2),BG37<(BF37-2)),BG37,BF37)))","v":""},{"$f":"IF(BG37=\"\",\"\",IF(OR(BG37>(BF37+2),BG37<(BF37-2)),\"Agncy Repl.\",\"\"))","v":""},null,"#100 Calc. %",null,null,{"$f":"IF(BL37=\"\",\"\",IF(BM37=\"\",BL37,IF(OR(BM37>(BL37+2),BM37<(BL37-2)),BM37,BL37)))","v":""},{"$f":"IF(BM37=\"\",\"\",IF(OR(BM37>(BL37+2),BM37<(BL37-2)),\"Agncy Repl.\",\"\"))","v":""},{"$f":"IF(BN37=\"\",\"\",IF(BO37=\"\",BN37,IF(OR(BO37>(BN37+2),BO37<(BN37-2)),BO37,BN37)))","v":""},{"$f":"IF(BO37=\"\",\"\",IF(OR(BO37>(BN37+2),BO37<(BN37-2)),\"Agncy Repl.\",\"\"))","v":""},{"$f":"IF(BP37=\"\",\"\",IF(BQ37=\"\",BP37,IF(OR(BQ37>(BP37+2),BQ37<(BP37-2)),BQ37,BP37)))","v":""},{"$f":"IF(BQ37=\"\",\"\",IF(OR(BQ37>(BP37+2),BQ37<(BP37-2)),\"Agncy Repl.\",\"\"))","v":""},{"$f":"IF(BR37=\"\",\"\",IF(BS37=\"\",BR37,IF(OR(BS37>(BR37+2),BS37<(BR37-2)),BS37,BR37)))","v":""},{"$f":"IF(BS37=\"\",\"\",IF(OR(BS37>(BR37+2),BS37<(BR37-2)),\"Agncy Repl.\",\"\"))","v":""},null,"#100 Calc. %",null,null,{"$f":"IF(BX37=\"\",\"\",IF(BY37=\"\",BX37,IF(OR(BY37>(BX37+2),BY37<(BX37-2)),BY37,BX37)))","v":""},{"$f":"IF(BY37=\"\",\"\",IF(OR(BY37>(BX37+2),BY37<(BX37-2)),\"Agncy Repl.\",\"\"))","v":""},{"$f":"IF(BZ37=\"\",\"\",IF(CA37=\"\",BZ37,IF(OR(CA37>(BZ37+2),CA37<(BZ37-2)),CA37,BZ37)))","v":""},{"$f":"IF(CA37=\"\",\"\",IF(OR(CA37>(BZ37+2),CA37<(BZ37-2)),\"Agncy Repl.\",\"\"))","v":""},{"$f":"IF(CB37=\"\",\"\",IF(CC37=\"\",CB37,IF(OR(CC37>(CB37+2),CC37<(CB37-2)),CC37,CB37)))","v":""},{"$f":"IF(CC37=\"\",\"\",IF(OR(CC37>(CB37+2),CC37<(CB37-2)),\"Agncy Repl.\",\"\"))","v":""},{"$f":"IF(CD37=\"\",\"\",IF(CE37=\"\",CD37,IF(OR(CE37>(CD37+2),CE37<(CD37-2)),CE37,CD37)))","v":""},{"$f":"IF(CE37=\"\",\"\",IF(OR(CE37>(CD37+2),CE37<(CD37-2)),\"Agncy Repl.\",\"\"))","v":""},null,"#100 Calc. %",null,null,{"$f":"IF(CJ37=\"\",\"\",IF(CK37=\"\",CJ37,IF(OR(CK37>(CJ37+2),CK37<(CJ37-2)),CK37,CJ37)))","v":""},{"$f":"IF(CK37=\"\",\"\",IF(OR(CK37>(CJ37+2),CK37<(CJ37-2)),\"Agncy Repl.\",\"\"))","v":""},{"$f":"IF(CL37=\"\",\"\",IF(CM37=\"\",CL37,IF(OR(CM37>(CL37+2),CM37<(CL37-2)),CM37,CL37)))","v":""},{"$f":"IF(CM37=\"\",\"\",IF(OR(CM37>(CL37+2),CM37<(CL37-2)),\"Agncy Repl.\",\"\"))","v":""},{"$f":"IF(CN37=\"\",\"\",IF(CO37=\"\",CN37,IF(OR(CO37>(CN37+2),CO37<(CN37-2)),CO37,CN37)))","v":""},{"$f":"IF(CO37=\"\",\"\",IF(OR(CO37>(CN37+2),CO37<(CN37-2)),\"Agncy Repl.\",\"\"))","v":""},{"$f":"IF(CP37=\"\",\"\",IF(CQ37=\"\",CP37,IF(OR(CQ37>(CP37+2),CQ37<(CP37-2)),CQ37,CP37)))","v":""},{"$f":"IF(CQ37=\"\",\"\",IF(OR(CQ37>(CP37+2),CQ37<(CP37-2)),\"Agncy Repl.\",\"\"))","v":""},null,"#100 Calc. %",null,null,{"$f":"IF(CV37=\"\",\"\",IF(CW37=\"\",CV37,IF(OR(CW37>(CV37+2),CW37<(CV37-2)),CW37,CV37)))","v":""},{"$f":"IF(CW37=\"\",\"\",IF(OR(CW37>(CV37+2),CW37<(CV37-2)),\"Agncy Repl.\",\"\"))","v":""},{"$f":"IF(CX37=\"\",\"\",IF(CY37=\"\",CX37,IF(OR(CY37>(CX37+2),CY37<(CX37-2)),CY37,CX37)))","v":""},{"$f":"IF(CY37=\"\",\"\",IF(OR(CY37>(CX37+2),CY37<(CX37-2)),\"Agncy Repl.\",\"\"))","v":""},{"$f":"IF(CZ37=\"\",\"\",IF(DA37=\"\",CZ37,IF(OR(DA37>(CZ37+2),DA37<(CZ37-2)),DA37,CZ37)))","v":""},{"$f":"IF(DA37=\"\",\"\",IF(OR(DA37>(CZ37+2),DA37<(CZ37-2)),\"Agncy Repl.\",\"\"))","v":""},{"$f":"IF(DB37=\"\",\"\",IF(DC37=\"\",DB37,IF(OR(DC37>(DB37+2),DC37<(DB37-2)),DC37,DB37)))","v":""},{"$f":"IF(DC37=\"\",\"\",IF(OR(DC37>(DB37+2),DC37<(DB37-2)),\"Agncy Repl.\",\"\"))","v":""},null,"#100 Calc. %",null,null,{"$f":"IF(DH37=\"\",\"\",IF(DI37=\"\",DH37,IF(OR(DI37>(DH37+2),DI37<(DH37-2)),DI37,DH37)))","v":""},{"$f":"IF(DI37=\"\",\"\",IF(OR(DI37>(DH37+2),DI37<(DH37-2)),\"Agncy Repl.\",\"\"))","v":""},{"$f":"IF(DJ37=\"\",\"\",IF(DK37=\"\",DJ37,IF(OR(DK37>(DJ37+2),DK37<(DJ37-2)),DK37,DJ37)))","v":""},{"$f":"IF(DK37=\"\",\"\",IF(OR(DK37>(DJ37+2),DK37<(DJ37-2)),\"Agncy Repl.\",\"\"))","v":""},{"$f":"IF(DL37=\"\",\"\",IF(DM37=\"\",DL37,IF(OR(DM37>(DL37+2),DM37<(DL37-2)),DM37,DL37)))","v":""},{"$f":"IF(DM37=\"\",\"\",IF(OR(DM37>(DL37+2),DM37<(DL37-2)),\"Agncy Repl.\",\"\"))","v":""},{"$f":"IF(DN37=\"\",\"\",IF(DO37=\"\",DN37,IF(OR(DO37>(DN37+2),DO37<(DN37-2)),DO37,DN37)))","v":""},{"$f":"IF(DO37=\"\",\"\",IF(OR(DO37>(DN37+2),DO37<(DN37-2)),\"Agncy Repl.\",\"\"))","v":""},null,"#100 Calc. %",null,null,{"$f":"IF(DT37=\"\",\"\",IF(DU37=\"\",DT37,IF(OR(DU37>(DT37+2),DU37<(DT37-2)),DU37,DT37)))","v":""},{"$f":"IF(DU37=\"\",\"\",IF(OR(DU37>(DT37+2),DU37<(DT37-2)),\"Agncy Repl.\",\"\"))","v":""},{"$f":"IF(DV37=\"\",\"\",IF(DW37=\"\",DV37,IF(OR(DW37>(DV37+2),DW37<(DV37-2)),DW37,DV37)))","v":""},{"$f":"IF(DW37=\"\",\"\",IF(OR(DW37>(DV37+2),DW37<(DV37-2)),\"Agncy Repl.\",\"\"))","v":""},{"$f":"IF(DX37=\"\",\"\",IF(DY37=\"\",DX37,IF(OR(DY37>(DX37+2),DY37<(DX37-2)),DY37,DX37)))","v":""},{"$f":"IF(DY37=\"\",\"\",IF(OR(DY37>(DX37+2),DY37<(DX37-2)),\"Agncy Repl.\",\"\"))","v":""},{"$f":"IF(DZ37=\"\",\"\",IF(EA37=\"\",DZ37,IF(OR(EA37>(DZ37+2),EA37<(DZ37-2)),EA37,DZ37)))","v":""},{"$f":"IF(EA37=\"\",\"\",IF(OR(EA37>(DZ37+2),EA37<(DZ37-2)),\"Agncy Repl.\",\"\"))","v":""},null,"#100 Calc. %",null,null,{"$f":"IF(EF37=\"\",\"\",IF(EG37=\"\",EF37,IF(OR(EG37>(EF37+2),EG37<(EF37-2)),EG37,EF37)))","v":""},{"$f":"IF(EG37=\"\",\"\",IF(OR(EG37>(EF37+2),EG37<(EF37-2)),\"Agncy Repl.\",\"\"))","v":""},{"$f":"IF(EH37=\"\",\"\",IF(EI37=\"\",EH37,IF(OR(EI37>(EH37+2),EI37<(EH37-2)),EI37,EH37)))","v":""},{"$f":"IF(EI37=\"\",\"\",IF(OR(EI37>(EH37+2),EI37<(EH37-2)),\"Agncy Repl.\",\"\"))","v":""},{"$f":"IF(EJ37=\"\",\"\",IF(EK37=\"\",EJ37,IF(OR(EK37>(EJ37+2),EK37<(EJ37-2)),EK37,EJ37)))","v":""},{"$f":"IF(EK37=\"\",\"\",IF(OR(EK37>(EJ37+2),EK37<(EJ37-2)),\"Agncy Repl.\",\"\"))","v":""},{"$f":"IF(EL37=\"\",\"\",IF(EM37=\"\",EL37,IF(OR(EM37>(EL37+2),EM37<(EL37-2)),EM37,EL37)))","v":""},{"$f":"IF(EM37=\"\",\"\",IF(OR(EM37>(EL37+2),EM37<(EL37-2)),\"Agncy Repl.\",\"\"))","v":""},null,"#100 Calc. %",null,null,{"$f":"IF(ER37=\"\",\"\",IF(ES37=\"\",ER37,IF(OR(ES37>(ER37+2),ES37<(ER37-2)),ES37,ER37)))","v":""},{"$f":"IF(ES37=\"\",\"\",IF(OR(ES37>(ER37+2),ES37<(ER37-2)),\"Agncy Repl.\",\"\"))","v":""},{"$f":"IF(ET37=\"\",\"\",IF(EU37=\"\",ET37,IF(OR(EU37>(ET37+2),EU37<(ET37-2)),EU37,ET37)))","v":""},{"$f":"IF(EU37=\"\",\"\",IF(OR(EU37>(ET37+2),EU37<(ET37-2)),\"Agncy Repl.\",\"\"))","v":""},{"$f":"IF(EV37=\"\",\"\",IF(EW37=\"\",EV37,IF(OR(EW37>(EV37+2),EW37<(EV37-2)),EW37,EV37)))","v":""},{"$f":"IF(EW37=\"\",\"\",IF(OR(EW37>(EV37+2),EW37<(EV37-2)),\"Agncy Repl.\",\"\"))","v":""},{"$f":"IF(EX37=\"\",\"\",IF(EY37=\"\",EX37,IF(OR(EY37>(EX37+2),EY37<(EX37-2)),EY37,EX37)))","v":""},{"$f":"IF(EY37=\"\",\"\",IF(OR(EY37>(EX37+2),EY37<(EX37-2)),\"Agncy Repl.\",\"\"))","v":""},null,"#100 Calc. %",null,null,{"$f":"IF(FD37=\"\",\"\",IF(FE37=\"\",FD37,IF(OR(FE37>(FD37+2),FE37<(FD37-2)),FE37,FD37)))","v":""},{"$f":"IF(FE37=\"\",\"\",IF(OR(FE37>(FD37+2),FE37<(FD37-2)),\"Agncy Repl.\",\"\"))","v":""},{"$f":"IF(FF37=\"\",\"\",IF(FG37=\"\",FF37,IF(OR(FG37>(FF37+2),FG37<(FF37-2)),FG37,FF37)))","v":""},{"$f":"IF(FG37=\"\",\"\",IF(OR(FG37>(FF37+2),FG37<(FF37-2)),\"Agncy Repl.\",\"\"))","v":""},{"$f":"IF(FH37=\"\",\"\",IF(FI37=\"\",FH37,IF(OR(FI37>(FH37+2),FI37<(FH37-2)),FI37,FH37)))","v":""},{"$f":"IF(FI37=\"\",\"\",IF(OR(FI37>(FH37+2),FI37<(FH37-2)),\"Agncy Repl.\",\"\"))","v":""},{"$f":"IF(FJ37=\"\",\"\",IF(FK37=\"\",FJ37,IF(OR(FK37>(FJ37+2),FK37<(FJ37-2)),FK37,FJ37)))","v":""},{"$f":"IF(FK37=\"\",\"\",IF(OR(FK37>(FJ37+2),FK37<(FJ37-2)),\"Agncy Repl.\",\"\"))","v":""},null,"#100 Calc. %",null,null,{"$f":"IF(FP37=\"\",\"\",IF(FQ37=\"\",FP37,IF(OR(FQ37>(FP37+2),FQ37<(FP37-2)),FQ37,FP37)))","v":""},{"$f":"IF(FQ37=\"\",\"\",IF(OR(FQ37>(FP37+2),FQ37<(FP37-2)),\"Agncy Repl.\",\"\"))","v":""},{"$f":"IF(FR37=\"\",\"\",IF(FS37=\"\",FR37,IF(OR(FS37>(FR37+2),FS37<(FR37-2)),FS37,FR37)))","v":""},{"$f":"IF(FS37=\"\",\"\",IF(OR(FS37>(FR37+2),FS37<(FR37-2)),\"Agncy Repl.\",\"\"))","v":""},{"$f":"IF(FT37=\"\",\"\",IF(FU37=\"\",FT37,IF(OR(FU37>(FT37+2),FU37<(FT37-2)),FU37,FT37)))","v":""},{"$f":"IF(FU37=\"\",\"\",IF(OR(FU37>(FT37+2),FU37<(FT37-2)),\"Agncy Repl.\",\"\"))","v":""},{"$f":"IF(FV37=\"\",\"\",IF(FW37=\"\",FV37,IF(OR(FW37>(FV37+2),FW37<(FV37-2)),FW37,FV37)))","v":""},{"$f":"IF(FW37=\"\",\"\",IF(OR(FW37>(FV37+2),FW37<(FV37-2)),\"Agncy Repl.\",\"\"))","v":""},null,"#100 Calc. %",null,null,{"$f":"IF(GB37=\"\",\"\",IF(GC37=\"\",GB37,IF(OR(GC37>(GB37+2),GC37<(GB37-2)),GC37,GB37)))","v":""},{"$f":"IF(GC37=\"\",\"\",IF(OR(GC37>(GB37+2),GC37<(GB37-2)),\"Agncy Repl.\",\"\"))","v":""},{"$f":"IF(GD37=\"\",\"\",IF(GE37=\"\",GD37,IF(OR(GE37>(GD37+2),GE37<(GD37-2)),GE37,GD37)))","v":""},{"$f":"IF(GE37=\"\",\"\",IF(OR(GE37>(GD37+2),GE37<(GD37-2)),\"Agncy Repl.\",\"\"))","v":""},{"$f":"IF(GF37=\"\",\"\",IF(GG37=\"\",GF37,IF(OR(GG37>(GF37+2),GG37<(GF37-2)),GG37,GF37)))","v":""},{"$f":"IF(GG37=\"\",\"\",IF(OR(GG37>(GF37+2),GG37<(GF37-2)),\"Agncy Repl.\",\"\"))","v":""},{"$f":"IF(GH37=\"\",\"\",IF(GI37=\"\",GH37,IF(OR(GI37>(GH37+2),GI37<(GH37-2)),GI37,GH37)))","v":""},{"$f":"IF(GI37=\"\",\"\",IF(OR(GI37>(GH37+2),GI37<(GH37-2)),\"Agncy Repl.\",\"\"))","v":""},null,"#100 Calc. %",null,null,{"$f":"IF(GN37=\"\",\"\",IF(GO37=\"\",GN37,IF(OR(GO37>(GN37+2),GO37<(GN37-2)),GO37,GN37)))","v":""},{"$f":"IF(GO37=\"\",\"\",IF(OR(GO37>(GN37+2),GO37<(GN37-2)),\"Agncy Repl.\",\"\"))","v":""},{"$f":"IF(GP37=\"\",\"\",IF(GQ37=\"\",GP37,IF(OR(GQ37>(GP37+2),GQ37<(GP37-2)),GQ37,GP37)))","v":""},{"$f":"IF(GQ37=\"\",\"\",IF(OR(GQ37>(GP37+2),GQ37<(GP37-2)),\"Agncy Repl.\",\"\"))","v":""},{"$f":"IF(GR37=\"\",\"\",IF(GS37=\"\",GR37,IF(OR(GS37>(GR37+2),GS37<(GR37-2)),GS37,GR37)))","v":""},{"$f":"IF(GS37=\"\",\"\",IF(OR(GS37>(GR37+2),GS37<(GR37-2)),\"Agncy Repl.\",\"\"))","v":""},{"$f":"IF(GT37=\"\",\"\",IF(GU37=\"\",GT37,IF(OR(GU37>(GT37+2),GU37<(GT37-2)),GU37,GT37)))","v":""},{"$f":"IF(GU37=\"\",\"\",IF(OR(GU37>(GT37+2),GU37<(GT37-2)),\"Agncy Repl.\",\"\"))","v":""},null,"#100 Calc. %",null,null,{"$f":"IF(GZ37=\"\",\"\",IF(HA37=\"\",GZ37,IF(OR(HA37>(GZ37+2),HA37<(GZ37-2)),HA37,GZ37)))","v":""},{"$f":"IF(HA37=\"\",\"\",IF(OR(HA37>(GZ37+2),HA37<(GZ37-2)),\"Agncy Repl.\",\"\"))","v":""},{"$f":"IF(HB37=\"\",\"\",IF(HC37=\"\",HB37,IF(OR(HC37>(HB37+2),HC37<(HB37-2)),HC37,HB37)))","v":""},{"$f":"IF(HC37=\"\",\"\",IF(OR(HC37>(HB37+2),HC37<(HB37-2)),\"Agncy Repl.\",\"\"))","v":""},{"$f":"IF(HD37=\"\",\"\",IF(HE37=\"\",HD37,IF(OR(HE37>(HD37+2),HE37<(HD37-2)),HE37,HD37)))","v":""},{"$f":"IF(HE37=\"\",\"\",IF(OR(HE37>(HD37+2),HE37<(HD37-2)),\"Agncy Repl.\",\"\"))","v":""},{"$f":"IF(HF37=\"\",\"\",IF(HG37=\"\",HF37,IF(OR(HG37>(HF37+2),HG37<(HF37-2)),HG37,HF37)))","v":""},{"$f":"IF(HG37=\"\",\"\",IF(OR(HG37>(HF37+2),HG37<(HF37-2)),\"Agncy Repl.\",\"\"))","v":""},null,"#100 Calc. %",null,null,{"$f":"IF(HL37=\"\",\"\",IF(HM37=\"\",HL37,IF(OR(HM37>(HL37+2),HM37<(HL37-2)),HM37,HL37)))","v":""},{"$f":"IF(HM37=\"\",\"\",IF(OR(HM37>(HL37+2),HM37<(HL37-2)),\"Agncy Repl.\",\"\"))","v":""},{"$f":"IF(HN37=\"\",\"\",IF(HO37=\"\",HN37,IF(OR(HO37>(HN37+2),HO37<(HN37-2)),HO37,HN37)))","v":""},{"$f":"IF(HO37=\"\",\"\",IF(OR(HO37>(HN37+2),HO37<(HN37-2)),\"Agncy Repl.\",\"\"))","v":""},{"$f":"IF(HP37=\"\",\"\",IF(HQ37=\"\",HP37,IF(OR(HQ37>(HP37+2),HQ37<(HP37-2)),HQ37,HP37)))","v":""},{"$f":"IF(HQ37=\"\",\"\",IF(OR(HQ37>(HP37+2),HQ37<(HP37-2)),\"Agncy Repl.\",\"\"))","v":""},{"$f":"IF(HR37=\"\",\"\",IF(HS37=\"\",HR37,IF(OR(HS37>(HR37+2),HS37<(HR37-2)),HS37,HR37)))","v":""},{"$f":"IF(HS37=\"\",\"\",IF(OR(HS37>(HR37+2),HS37<(HR37-2)),\"Agncy Repl.\",\"\"))","v":""},null,"#100 Calc. %",null,null,{"$f":"IF(HX37=\"\",\"\",IF(HY37=\"\",HX37,IF(OR(HY37>(HX37+2),HY37<(HX37-2)),HY37,HX37)))","v":""},{"$f":"IF(HY37=\"\",\"\",IF(OR(HY37>(HX37+2),HY37<(HX37-2)),\"Agncy Repl.\",\"\"))","v":""},{"$f":"IF(HZ37=\"\",\"\",IF(IA37=\"\",HZ37,IF(OR(IA37>(HZ37+2),IA37<(HZ37-2)),IA37,HZ37)))","v":""},{"$f":"IF(IA37=\"\",\"\",IF(OR(IA37>(HZ37+2),IA37<(HZ37-2)),\"Agncy Repl.\",\"\"))","v":""},{"$f":"IF(IB37=\"\",\"\",IF(IC37=\"\",IB37,IF(OR(IC37>(IB37+2),IC37<(IB37-2)),IC37,IB37)))","v":""},{"$f":"IF(IC37=\"\",\"\",IF(OR(IC37>(IB37+2),IC37<(IB37-2)),\"Agncy Repl.\",\"\"))","v":""},{"$f":"IF(ID37=\"\",\"\",IF(IE37=\"\",ID37,IF(OR(IE37>(ID37+2),IE37<(ID37-2)),IE37,ID37)))","v":""},{"$f":"IF(IE37=\"\",\"\",IF(OR(IE37>(ID37+2),IE37<(ID37-2)),\"Agncy Repl.\",\"\"))","v":""},null,"#100 Calc. %",null,null,{"$f":"IF(IJ37=\"\",\"\",IF(IK37=\"\",IJ37,IF(OR(IK37>(IJ37+2),IK37<(IJ37-2)),IK37,IJ37)))","v":""},{"$f":"IF(IK37=\"\",\"\",IF(OR(IK37>(IJ37+2),IK37<(IJ37-2)),\"Agncy Repl.\",\"\"))","v":""},{"$f":"IF(IL37=\"\",\"\",IF(IM37=\"\",IL37,IF(OR(IM37>(IL37+2),IM37<(IL37-2)),IM37,IL37)))","v":""},{"$f":"IF(IM37=\"\",\"\",IF(OR(IM37>(IL37+2),IM37<(IL37-2)),\"Agncy Repl.\",\"\"))","v":""},{"$f":"IF(IN37=\"\",\"\",IF(IO37=\"\",IN37,IF(OR(IO37>(IN37+2),IO37<(IN37-2)),IO37,IN37)))","v":""},{"$f":"IF(IO37=\"\",\"\",IF(OR(IO37>(IN37+2),IO37<(IN37-2)),\"Agncy Repl.\",\"\"))","v":""},{"$f":"IF(IP37=\"\",\"\",IF(IQ37=\"\",IP37,IF(OR(IQ37>(IP37+2),IQ37<(IP37-2)),IQ37,IP37)))","v":""},{"$f":"IF(IQ37=\"\",\"\",IF(OR(IQ37>(IP37+2),IQ37<(IP37-2)),\"Agncy Repl.\",\"\"))","v":""}]
["#200",null,null,null,null,null,null,null,null,null,null,null,"#200",null,null,null,null,null,null,null,null,null,null,null,"#200",null,null,null,null,null,null,null,null,null,null,null,"#200",null,null,null,null,null,null,null,null,null,null,null,"#200",null,null,null,null,null,null,null,null,null,null,null,"#200",null,null,null,null,null,null,null,null,null,null,null,"#200",null,null,null,null,null,null,null,null,null,null,null,"#200",null,null,null,null,null,null,null,null,null,null,null,"#200",null,null,null,null,null,null,null,null,null,null,null,"#200",null,null,null,null,null,null,null,null,null,null,null,"#200",null,null,null,null,null,null,null,null,null,null,null,"#200",null,null,null,null,null,null,null,null,null,null,null,"#200",null,null,null,null,null,null,null,null,null,null,null,"#200",null,null,null,null,null,null,null,null,null,null,null,"#200",null,null,null,null,null,null,null,null,null,null,null,"#200",null,null,null,null,null,null,null,null,null,null,null,"#200",null,null,null,null,null,null,null,null,null,null,null,"#200",null,null,null,null,null,null,null,null,null,null,null,"#200",null,null,null,null,null,null,null,null,null,null,null,"#200",null,null,null,null,null,null,null,null,null,null,null,"#200",null,null,null,null,null,null,null,null,null,null,null,null,0,"Agency AFT Substituted"]
["Mov Avg.",{"$f":"IF(MDR!$AL$4=\"YES\",MDR!$BQ$50,MDR!$AQ12)","v":2},{"$f":"IF(MDR!$AL$4=\"YES\",MDR!$BR$50,MDR!$AR12)","v":7},null,{"$f":"IF(E39=\"\",\"\",IF(OR(E39>(D39+MDR!$BY$4),E39<(D39-MDR!$BY$4)),\"Tolerance\",\"\"))","v":""},null,{"$f":"IF(G39=\"\",\"\",IF(OR(G39>(F39+MDR!$BY$4),G39<(F39-MDR!$BY$4)),\"Tolerance\",\"\"))","v":""},null,{"$f":"IF(I39=\"\",\"\",IF(OR(I39>(H39+MDR!$BY$4),I39<(H39-MDR!$BY$4)),\"Tolerance\",\"\"))","v":""},{"$f":"mndot_rounding_1(Grad!O14)","v":{"$error":"#VALUE!"}},{"$f":"IF(K39=\"\",\"\",IF(OR(K39>(J39+MDR!$BY$4),K39<(J39-MDR!$BY$4)),\"Tolerance\",\"\"))","v":""},null,"Mov Avg.",{"$f":"IF(MDR!$AL$4=\"YES\",MDR!$BQ$50,MDR!$AQ16)","v":2},{"$f":"IF(MDR!$AL$4=\"YES\",MDR!$BR$50,MDR!$AR16)","v":7},{"$f":"mndot_rounding_1(Grad!O15)","v":{"$error":"#VALUE!"}},{"$f":"IF(Q39=\"\",\"\",IF(OR(Q39>(P39+MDR!$BY$4),Q39<(P39-MDR!$BY$4)),\"Tolerance\",\"\"))","v":""},{"$f":"mndot_rounding_1(Grad!O16)","v":{"$error":"#VALUE!"}},{"$f":"IF(S39=\"\",\"\",IF(OR(S39>(R39+MDR!$BY$4),S39<(R39-MDR!$BY$4)),\"Tolerance\",\"\"))","v":""},{"$f":"mndot_rounding_1(Grad!O17)","v":{"$error":"#VALUE!"}},{"$f":"IF(U39=\"\",\"\",IF(OR(U39>(T39+MDR!$BY$4),U39<(T39-MDR!$BY$4)),\"Tolerance\",\"\"))","v":""},{"$f":"mndot_rounding_1(Grad!O18)","v":{"$error":"#VALUE!"}},{"$f":"IF(W39=\"\",\"\",IF(OR(W39>(V39+MDR!$BY$4),W39<(V39-MDR!$BY$4)),\"Tolerance\",\"\"))","v":""},null,"Mov Avg.",{"$f":"IF(MDR!$AL$4=\"YES\",MDR!$BQ$50,MDR!$AQ20)","v":2},{"$f":"IF(MDR!$AL$4=\"YES\",MDR!$BR$50,MDR!$AR20)","v":7},{"$f":"mndot_rounding_1(Grad!O19)","v":{"$error":"#VALUE!"}},{"$f":"IF(AC39=\"\",\"\",IF(OR(AC39>(AB39+MDR!$BY$4),AC39<(AB39-MDR!$BY$4)),\"Tolerance\",\"\"))","v":""},{"$f":"mndot_rounding_1(Grad!O20)","v":{"$error":"#VALUE!"}},{"$f":"IF(AE39=\"\",\"\",IF(OR(AE39>(AD39+MDR!$BY$4),AE39<(AD39-MDR!$BY$4)),\"Tolerance\",\"\"))","v":""},{"$f":"mndot_rounding_1(Grad!O21)","v":{"$error":"#VALUE!"}},{"$f":"IF(AG39=\"\",\"\",IF(OR(AG39>(AF39+MDR!$BY$4),AG39<(AF39-MDR!$BY$4)),\"Tolerance\",\"\"))","v":""},{"$f":"mndot_rounding_1(Grad!O22)","v":{"$error":"#VALUE!"}},{"$f":"IF(AI39=\"\",\"\",IF(OR(AI39>(AH39+MDR!$BY$4),AI39<(AH39-MDR!$BY$4)),\"Tolerance\",\"\"))","v":""},null,"Mov Avg.",{"$f":"IF(MDR!$AL$4=\"YES\",MDR!$BQ$50,MDR!$AQ24)","v":2},{"$f":"IF(MDR!$AL$4=\"YES\",MDR!$BR$50,MDR!$AR24)","v":7},{"$f":"mndot_rounding_1(Grad!O23)","v":{"$error":"#VALUE!"}},{"$f":"IF(AO39=\"\",\"\",IF(OR(AO39>(AN39+MDR!$BY$4),AO39<(AN39-MDR!$BY$4)),\"Tolerance\",\"\"))","v":""},{"$f":"mndot_rounding_1(Grad!O24)","v":{"$error":"#VALUE!"}},{"$f":"IF(AQ39=\"\",\"\",IF(OR(AQ39>(AP39+MDR!$BY$4),AQ39<(AP39-MDR!$BY$4)),\"Tolerance\",\"\"))","v":""},{"$f":"mndot_rounding_1(Grad!O25)","v":{"$error":"#VALUE!"}},{"$f":"IF(AS39=\"\",\"\",IF(OR(AS39>(AR39+MDR!$BY$4),AS39<(AR39-MDR!$BY$4)),\"Tolerance\",\"\"))","v":""},{"$f":"mndot_rounding_1(Grad!O26)","v":{"$error":"#VALUE!"}},{"$f":"IF(AU39=\"\",\"\",IF(OR(AU39>(AT39+MDR!$BY$4),AU39<(AT39-MDR!$BY$4)),\"Tolerance\",\"\"))","v":""},null,"Mov Avg.",{"$f":"IF(MDR!$AL$4=\"YES\",MDR!$BQ$50,MDR!$AQ28)","v":2},{"$f":"IF(MDR!$AL$4=\"YES\",MDR!$BR$50,MDR!$AR28)","v":7},{"$f":"mndot_rounding_1(Grad!O27)","v":{"$error":"#VALUE!"}},{"$f":"IF(BA39=\"\",\"\",IF(OR(BA39>(AZ39+MDR!$BY$4),BA39<(AZ39-MDR!$BY$4)),\"Tolerance\",\"\"))","v":""},{"$f":"mndot_rounding_1(Grad!O28)","v":{"$error":"#VALUE!"}},{"$f":"IF(BC39=\"\",\"\",IF(OR(BC39>(BB39+MDR!$BY$4),BC39<(BB39-MDR!$BY$4)),\"Tolerance\",\"\"))","v":""},{"$f":"mndot_rounding_1(Grad!O29)","v":{"$error":"#VALUE!"}},{"$f":"IF(BE39=\"\",\"\",IF(OR(BE39>(BD39+MDR!$BY$4),BE39<(BD39-MDR!$BY$4)),\"Tolerance\",\"\"))","v":""},{"$f":"mndot_rounding_1(Grad!O30)","v":{"$error":"#VALUE!"}},{"$f":"IF(BG39=\"\",\"\",IF(OR(BG39>(BF39+MDR!$BY$4),BG39<(BF39-MDR!$BY$4)),\"Tolerance\",\"\"))","v":""},null,"Mov Avg.",{"$f":"IF(MDR!$AL$4=\"YES\",MDR!$BQ$50,MDR!$AQ32)","v":2},{"$f":"IF(MDR!$AL$4=\"YES\",MDR!$BR$50,MDR!$AR32)","v":7},{"$f":"mndot_rounding_1(Grad!O31)","v":{"$error":"#VALUE!"}},{"$f":"IF(BM39=\"\",\"\",IF(OR(BM39>(BL39+MDR!$BY$4),BM39<(BL39-MDR!$BY$4)),\"Tolerance\",\"\"))","v":""},{"$f":"mndot_rounding_1(Grad!O32)","v":{"$error":"#VALUE!"}},{"$f":"IF(BO39=\"\",\"\",IF(OR(BO39>(BN39+MDR!$BY$4),BO39<(BN39-MDR!$BY$4)),\"Tolerance\",\"\"))","v":""},{"$f":"mndot_rounding_1(Grad!O33)","v":{"$error":"#VALUE!"}},{"$f":"IF(BQ39=\"\",\"\",IF(OR(BQ39>(BP39+MDR!$BY$4),BQ39<(BP39-MDR!$BY$4)),\"Tolerance\",\"\"))","v":""},{"$f":"mndot_rounding_1(Grad!O34)","v":{"$error":"#VALUE!"}},{"$f":"IF(BS39=\"\",\"\",IF(OR(BS39>(BR39+MDR!$BY$4),BS39<(BR39-MDR!$BY$4)),\"Tolerance\",\"\"))","v":""},null,"Mov Avg.",{"$f":"IF(MDR!$AL$4=\"YES\",MDR!$BQ$50,MDR!$AQ36)","v":2},{"$f":"IF(MDR!$AL$4=\"YES\",MDR!$BR$50,MDR!$AR36)","v":7},{"$f":"mndot_rounding_1(Grad!O35)","v":{"$error":"#VALUE!"}},{"$f":"IF(BY39=\"\",\"\",IF(OR(BY39>(BX39+MDR!$BY$4),BY39<(BX39-MDR!$BY$4)),\"Tolerance\",\"\"))","v":""},{"$f":"mndot_rounding_1(Grad!O36)","v":{"$error":"#VALUE!"}},{"$f":"IF(CA39=\"\",\"\",IF(OR(CA39>(BZ39+MDR!$BY$4),CA39<(BZ39-MDR!$BY$4)),\"Tolerance\",\"\"))","v":""},{"$f":"mndot_rounding_1(Grad!O37)","v":{"$error":"#VALUE!"}},{"$f":"IF(CC39=\"\",\"\",IF(OR(CC39>(CB39+MDR!$BY$4),CC39<(CB39-MDR!$BY$4)),\"Tolerance\",\"\"))","v":""},{"$f":"mndot_rounding_1(Grad!O38)","v":{"$error":"#VALUE!"}},{"$f":"IF(CE39=\"\",\"\",IF(OR(CE39>(CD39+MDR!$BY$4),CE39<(CD39-MDR!$BY$4)),\"Tolerance\",\"\"))","v":""},null,"Mov Avg.",{"$f":"IF(MDR!$AL$4=\"YES\",MDR!$BQ$50,MDR!$AQ40)","v":2},{"$f":"IF(MDR!$AL$4=\"YES\",MDR!$BR$50,MDR!$AR40)","v":7},{"$f":"mndot_rounding_1(Grad!O39)","v":{"$error":"#VALUE!"}},{"$f":"IF(CK39=\"\",\"\",IF(OR(CK39>(CJ39+MDR!$BY$4),CK39<(CJ39-MDR!$BY$4)),\"Tolerance\",\"\"))","v":""},{"$f":"mndot_rounding_1(Grad!O40)","v":{"$error":"#VALUE!"}},{"$f":"IF(CM39=\"\",\"\",IF(OR(CM39>(CL39+MDR!$BY$4),CM39<(CL39-MDR!$BY$4)),\"Tolerance\",\"\"))","v":""},{"$f":"mndot_rounding_1(Grad!O41)","v":{"$error":"#VALUE!"}},{"$f":"IF(CO39=\"\",\"\",IF(OR(CO39>(CN39+MDR!$BY$4),CO39<(CN39-MDR!$BY$4)),\"Tolerance\",\"\"))","v":""},{"$f":"mndot_rounding_1(Grad!O42)","v":{"$error":"#VALUE!"}},{"$f":"IF(CQ39=\"\",\"\",IF(OR(CQ39>(CP39+MDR!$BY$4),CQ39<(CP39-MDR!$BY$4)),\"Tolerance\",\"\"))","v":""},null,"Mov Avg.",{"$f":"IF(MDR!$AL$4=\"YES\",MDR!$BQ$50,MDR!$AQ44)","v":2},{"$f":"IF(MDR!$AL$4=\"YES\",MDR!$BR$50,MDR!$AR44)","v":7},{"$f":"mndot_rounding_1(Grad!O43)","v":{"$error":"#VALUE!"}},{"$f":"IF(CW39=\"\",\"\",IF(OR(CW39>(CV39+MDR!$BY$4),CW39<(CV39-MDR!$BY$4)),\"Tolerance\",\"\"))","v":""},{"$f":"mndot_rounding_1(Grad!O44)","v":{"$error":"#VALUE!"}},{"$f":"IF(CY39=\"\",\"\",IF(OR(CY39>(CX39+MDR!$BY$4),CY39<(CX39-MDR!$BY$4)),\"Tolerance\",\"\"))","v":""},{"$f":"mndot_rounding_1(Grad!O45)","v":{"$error":"#VALUE!"}},{"$f":"IF(DA39=\"\",\"\",IF(OR(DA39>(CZ39+MDR!$BY$4),DA39<(CZ39-MDR!$BY$4)),\"Tolerance\",\"\"))","v":""},{"$f":"mndot_rounding_1(Grad!O46)","v":{"$error":"#VALUE!"}},{"$f":"IF(DC39=\"\",\"\",IF(OR(DC39>(DB39+MDR!$BY$4),DC39<(DB39-MDR!$BY$4)),\"Tolerance\",\"\"))","v":""},null,"Mov Avg.",{"$f":"IF(MDR!$AL$4=\"YES\",MDR!$BQ$50,MDR!$AQ48)","v":2},{"$f":"IF(MDR!$AL$4=\"YES\",MDR!$BR$50,MDR!$AR48)","v":7},{"$f":"mndot_rounding_1(Grad!O47)","v":{"$error":"#VALUE!"}},{"$f":"IF(DI39=\"\",\"\",IF(OR(DI39>(DH39+MDR!$BY$4),DI39<(DH39-MDR!$BY$4)),\"Tolerance\",\"\"))","v":""},{"$f":"mndot_rounding_1(Grad!O48)","v":{"$error":"#VALUE!"}},{"$f":"IF(DK39=\"\",\"\",IF(OR(DK39>(DJ39+MDR!$BY$4),DK39<(DJ39-MDR!$BY$4)),\"Tolerance\",\"\"))","v":""},{"$f":"mndot_rounding_1(Grad!O49)","v":{"$error":"#VALUE!"}},{"$f":"IF(DM39=\"\",\"\",IF(OR(DM39>(DL39+MDR!$BY$4),DM39<(DL39-MDR!$BY$4)),\"Tolerance\",\"\"))","v":""},{"$f":"mndot_rounding_1(Grad!O50)","v":{"$error":"#VALUE!"}},{"$f":"IF(DO39=\"\",\"\",IF(OR(DO39>(DN39+MDR!$BY$4),DO39<(DN39-MDR!$BY$4)),\"Tolerance\",\"\"))","v":""},null,"Mov Avg.",{"$f":"IF(MDR!$AL$4=\"YES\",MDR!$BQ$50,MDR!$AQ52)","v":2},{"$f":"IF(MDR!$AL$4=\"YES\",MDR!$BR$50,MDR!$AR52)","v":7},{"$f":"mndot_rounding_1(Grad!O51)","v":{"$error":"#VALUE!"}},{"$f":"IF(DU39=\"\",\"\",IF(OR(DU39>(DT39+MDR!$BY$4),DU39<(DT39-MDR!$BY$4)),\"Tolerance\",\"\"))","v":""},{"$f":"mndot_rounding_1(Grad!O52)","v":{"$error":"#VALUE!"}},{"$f":"IF(DW39=\"\",\"\",IF(OR(DW39>(DV39+MDR!$BY$4),DW39<(DV39-MDR!$BY$4)),\"Tolerance\",\"\"))","v":""},{"$f":"mndot_rounding_1(Grad!O53)","v":{"$error":"#VALUE!"}},{"$f":"IF(DY39=\"\",\"\",IF(OR(DY39>(DX39+MDR!$BY$4),DY39<(DX39-MDR!$BY$4)),\"Tolerance\",\"\"))","v":""},{"$f":"mndot_rounding_1(Grad!O54)","v":{"$error":"#VALUE!"}},{"$f":"IF(EA39=\"\",\"\",IF(OR(EA39>(DZ39+MDR!$BY$4),EA39<(DZ39-MDR!$BY$4)),\"Tolerance\",\"\"))","v":""},null,"Mov Avg.",{"$f":"IF(MDR!$AL$4=\"YES\",MDR!$BQ$50,MDR!$AQ56)","v":2},{"$f":"IF(MDR!$AL$4=\"YES\",MDR!$BR$50,MDR!$AR56)","v":7},{"$f":"mndot_rounding_1(Grad!O55)","v":{"$error":"#VALUE!"}},{"$f":"IF(EG39=\"\",\"\",IF(OR(EG39>(EF39+MDR!$BY$4),EG39<(EF39-MDR!$BY$4)),\"Tolerance\",\"\"))","v":""},{"$f":"mndot_rounding_1(Grad!O56)","v":{"$error":"#VALUE!"}},{"$f":"IF(EI39=\"\",\"\",IF(OR(EI39>(EH39+MDR!$BY$4),EI39<(EH39-MDR!$BY$4)),\"Tolerance\",\"\"))","v":""},{"$f":"mndot_rounding_1(Grad!O57)","v":{"$error":"#VALUE!"}},{"$f":"IF(EK39=\"\",\"\",IF(OR(EK39>(EJ39+MDR!$BY$4),EK39<(EJ39-MDR!$BY$4)),\"Tolerance\",\"\"))","v":""},{"$f":"mndot_rounding_1(Grad!O58)","v":{"$error":"#VALUE!"}},{"$f":"IF(EM39=\"\",\"\",IF(OR(EM39>(EL39+MDR!$BY$4),EM39<(EL39-MDR!$BY$4)),\"Tolerance\",\"\"))","v":""},null,"Mov Avg.",{"$f":"IF(MDR!$AL$4=\"YES\",MDR!$BQ$50,MDR!$AQ60)","v":2},{"$f":"IF(MDR!$AL$4=\"YES\",MDR!$BR$50,MDR!$AR60)","v":7},{"$f":"mndot_rounding_1(Grad!O59)","v":{"$error":"#VALUE!"}},{"$f":"IF(ES39=\"\",\"\",IF(OR(ES39>(ER39+MDR!$BY$4),ES39<(ER39-MDR!$BY$4)),\"Tolerance\",\"\"))","v":""},{"$f":"mndot_rounding_1(Grad!O60)","v":{"$error":"#VALUE!"}},{"$f":"IF(EU39=\"\",\"\",IF(OR(EU39>(ET39+MDR!$BY$4),EU39<(ET39-MDR!$BY$4)),\"Tolerance\",\"\"))","v":""},{"$f":"mndot_rounding_1(Grad!O61)","v":{"$error":"#VALUE!"}},{"$f":"IF(EW39=\"\",\"\",IF(OR(EW39>(EV39+MDR!$BY$4),EW39<(EV39-MDR!$BY$4)),\"Tolerance\",\"\"))","v":""},{"$f":"mndot_rounding_1(Grad!O62)","v":{"$error":"#VALUE!"}},{"$f":"IF(EY39=\"\",\"\",IF(OR(EY39>(EX39+MDR!$BY$4),EY39<(EX39-MDR!$BY$4)),\"Tolerance\",\"\"))","v":""},null,"Mov Avg.",{"$f":"IF(MDR!$AL$4=\"YES\",MDR!$BQ$50,MDR!$AQ64)","v":2},{"$f":"IF(MDR!$AL$4=\"YES\",MDR!$BR$50,MDR!$AR64)","v":7},{"$f":"mndot_rounding_1(Grad!O63)","v":{"$error":"#VALUE!"}},{"$f":"IF(FE39=\"\",\"\",IF(OR(FE39>(FD39+MDR!$BY$4),FE39<(FD39-MDR!$BY$4)),\"Tolerance\",\"\"))","v":""},{"$f":"mndot_rounding_1(Grad!O64)","v":{"$error":"#VALUE!"}},{"$f":"IF(FG39=\"\",\"\",IF(OR(FG39>(FF39+MDR!$BY$4),FG39<(FF39-MDR!$BY$4)),\"Tolerance\",\"\"))","v":""},{"$f":"mndot_rounding_1(Grad!O65)","v":{"$error":"#VALUE!"}},{"$f":"IF(FI39=\"\",\"\",IF(OR(FI39>(FH39+MDR!$BY$4),FI39<(FH39-MDR!$BY$4)),\"Tolerance\",\"\"))","v":""},{"$f":"mndot_rounding_1(Grad!O66)","v":{"$error":"#VALUE!"}},{"$f":"IF(FK39=\"\",\"\",IF(OR(FK39>(FJ39+MDR!$BY$4),FK39<(FJ39-MDR!$BY$4)),\"Tolerance\",\"\"))","v":""},null,"Mov Avg.",{"$f":"IF(MDR!$AL$4=\"YES\",MDR!$BQ$50,MDR!$AQ68)","v":2},{"$f":"IF(MDR!$AL$4=\"YES\",MDR!$BR$50,MDR!$AR68)","v":7},{"$f":"mndot_rounding_1(Grad!O67)","v":{"$error":"#VALUE!"}},{"$f":"IF(FQ39=\"\",\"\",IF(OR(FQ39>(FP39+MDR!$BY$4),FQ39<(FP39-MDR!$BY$4)),\"Tolerance\",\"\"))","v":""},{"$f":"mndot_rounding_1(Grad!O68)","v":{"$error":"#VALUE!"}},{"$f":"IF(FS39=\"\",\"\",IF(OR(FS39>(FR39+MDR!$BY$4),FS39<(FR39-MDR!$BY$4)),\"Tolerance\",\"\"))","v":""},{"$f":"mndot_rounding_1(Grad!O69)","v":{"$error":"#VALUE!"}},{"$f":"IF(FU39=\"\",\"\",IF(OR(FU39>(FT39+MDR!$BY$4),FU39<(FT39-MDR!$BY$4)),\"Tolerance\",\"\"))","v":""},{"$f":"mndot_rounding_1(Grad!O70)","v":{"$error":"#VALUE!"}},{"$f":"IF(FW39=\"\",\"\",IF(OR(FW39>(FV39+MDR!$BY$4),FW39<(FV39-MDR!$BY$4)),\"Tolerance\",\"\"))","v":""},null,"Mov Avg.",{"$f":"IF(MDR!$AL$4=\"YES\",MDR!$BQ$50,MDR!$AQ72)","v":2},{"$f":"IF(MDR!$AL$4=\"YES\",MDR!$BR$50,MDR!$AR72)","v":7},{"$f":"mndot_rounding_1(Grad!O71)","v":{"$error":"#VALUE!"}},{"$f":"IF(GC39=\"\",\"\",IF(OR(GC39>(GB39+MDR!$BY$4),GC39<(GB39-MDR!$BY$4)),\"Tolerance\",\"\"))","v":""},{"$f":"mndot_rounding_1(Grad!O72)","v":{"$error":"#VALUE!"}},{"$f":"IF(GE39=\"\",\"\",IF(OR(GE39>(GD39+MDR!$BY$4),GE39<(GD39-MDR!$BY$4)),\"Tolerance\",\"\"))","v":""},{"$f":"mndot_rounding_1(Grad!O73)","v":{"$error":"#VALUE!"}},{"$f":"IF(GG39=\"\",\"\",IF(OR(GG39>(GF39+MDR!$BY$4),GG39<(GF39-MDR!$BY$4)),\"Tolerance\",\"\"))","v":""},{"$f":"mndot_rounding_1(Grad!O74)","v":{"$error":"#VALUE!"}},{"$f":"IF(GI39=\"\",\"\",IF(OR(GI39>(GH39+MDR!$BY$4),GI39<(GH39-MDR!$BY$4)),\"Tolerance\",\"\"))","v":""},null,"Mov Avg.",{"$f":"IF(MDR!$AL$4=\"YES\",MDR!$BQ$50,MDR!$AQ76)","v":2},{"$f":"IF(MDR!$AL$4=\"YES\",MDR!$BR$50,MDR!$AR76)","v":7},{"$f":"mndot_rounding_1(Grad!O75)","v":{"$error":"#VALUE!"}},{"$f":"IF(GO39=\"\",\"\",IF(OR(GO39>(GN39+MDR!$BY$4),GO39<(GN39-MDR!$BY$4)),\"Tolerance\",\"\"))","v":""},{"$f":"mndot_rounding_1(Grad!O76)","v":{"$error":"#VALUE!"}},{"$f":"IF(GQ39=\"\",\"\",IF(OR(GQ39>(GP39+MDR!$BY$4),GQ39<(GP39-MDR!$BY$4)),\"Tolerance\",\"\"))","v":""},{"$f":"mndot_rounding_1(Grad!O77)","v":{"$error":"#VALUE!"}},{"$f":"IF(GS39=\"\",\"\",IF(OR(GS39>(GR39+MDR!$BY$4),GS39<(GR39-MDR!$BY$4)),\"Tolerance\",\"\"))","v":""},{"$f":"mndot_rounding_1(Grad!O78)","v":{"$error":"#VALUE!"}},{"$f":"IF(GU39=\"\",\"\",IF(OR(GU39>(GT39+MDR!$BY$4),GU39<(GT39-MDR!$BY$4)),\"Tolerance\",\"\"))","v":""},null,"Mov Avg.",{"$f":"IF(MDR!$AL$4=\"YES\",MDR!$BQ$50,MDR!$AQ80)","v":2},{"$f":"IF(MDR!$AL$4=\"YES\",MDR!$BR$50,MDR!$AR80)","v":7},{"$f":"mndot_rounding_1(Grad!O79)","v":{"$error":"#VALUE!"}},{"$f":"IF(HA39=\"\",\"\",IF(OR(HA39>(GZ39+MDR!$BY$4),HA39<(GZ39-MDR!$BY$4)),\"Tolerance\",\"\"))","v":""},{"$f":"mndot_rounding_1(Grad!O80)","v":{"$error":"#VALUE!"}},{"$f":"IF(HC39=\"\",\"\",IF(OR(HC39>(HB39+MDR!$BY$4),HC39<(HB39-MDR!$BY$4)),\"Tolerance\",\"\"))","v":""},{"$f":"mndot_rounding_1(Grad!O81)","v":{"$error":"#VALUE!"}},{"$f":"IF(HE39=\"\",\"\",IF(OR(HE39>(HD39+MDR!$BY$4),HE39<(HD39-MDR!$BY$4)),\"Tolerance\",\"\"))","v":""},{"$f":"mndot_rounding_1(Grad!O82)","v":{"$error":"#VALUE!"}},{"$f":"IF(HG39=\"\",\"\",IF(OR(HG39>(HF39+MDR!$BY$4),HG39<(HF39-MDR!$BY$4)),\"Tolerance\",\"\"))","v":""},null,"Mov Avg.",{"$f":"IF(MDR!$AL$4=\"YES\",MDR!$BQ$50,MDR!$AQ84)","v":2},{"$f":"IF(MDR!$AL$4=\"YES\",MDR!$BR$50,MDR!$AR84)","v":7},{"$f":"mndot_rounding_1(Grad!O83)","v":{"$error":"#VALUE!"}},{"$f":"IF(HM39=\"\",\"\",IF(OR(HM39>(HL39+MDR!$BY$4),HM39<(HL39-MDR!$BY$4)),\"Tolerance\",\"\"))","v":""},{"$f":"mndot_rounding_1(Grad!O84)","v":{"$error":"#VALUE!"}},{"$f":"IF(HO39=\"\",\"\",IF(OR(HO39>(HN39+MDR!$BY$4),HO39<(HN39-MDR!$BY$4)),\"Tolerance\",\"\"))","v":""},{"$f":"mndot_rounding_1(Grad!O85)","v":{"$error":"#VALUE!"}},{"$f":"IF(HQ39=\"\",\"\",IF(OR(HQ39>(HP39+MDR!$BY$4),HQ39<(HP39-MDR!$BY$4)),\"Tolerance\",\"\"))","v":""},{"$f":"mndot_rounding_1(Grad!O86)","v":{"$error":"#VALUE!"}},{"$f":"IF(HS39=\"\",\"\",IF(OR(HS39>(HR39+MDR!$BY$4),HS39<(HR39-MDR!$BY$4)),\"Tolerance\",\"\"))","v":""},null,"Mov Avg.",{"$f":"IF(MDR!$AL$4=\"YES\",MDR!$BQ$50,MDR!$AQ88)","v":2},{"$f":"IF(MDR!$AL$4=\"YES\",MDR!$BR$50,MDR!$AR88)","v":7},{"$f":"mndot_rounding_1(Grad!O87)","v":{"$error":"#VALUE!"}},{"$f":"IF(HY39=\"\",\"\",IF(OR(HY39>(HX39+MDR!$BY$4),HY39<(HX39-MDR!$BY$4)),\"Tolerance\",\"\"))","v":""},{"$f":"mndot_rounding_1(Grad!O88)","v":{"$error":"#VALUE!"}},{"$f":"IF(IA39=\"\",\"\",IF(OR(IA39>(HZ39+MDR!$BY$4),IA39<(HZ39-MDR!$BY$4)),\"Tolerance\",\"\"))","v":""},{"$f":"mndot_rounding_1(Grad!O89)","v":{"$error":"#VALUE!"}},{"$f":"IF(IC39=\"\",\"\",IF(OR(IC39>(IB39+MDR!$BY$4),IC39<(IB39-MDR!$BY$4)),\"Tolerance\",\"\"))","v":""},{"$f":"mndot_rounding_1(Grad!O90)","v":{"$error":"#VALUE!"}},{"$f":"IF(IE39=\"\",\"\",IF(OR(IE39>(ID39+MDR!$BY$4),IE39<(ID39-MDR!$BY$4)),\"Tolerance\",\"\"))","v":""},null,"Mov Avg.",{"$f":"IF(MDR!$AL$4=\"YES\",MDR!$BQ$50,MDR!$AQ92)","v":2},{"$f":"IF(MDR!$AL$4=\"YES\",MDR!$BR$50,MDR!$AR92)","v":7},{"$f":"mndot_rounding_1(Grad!O91)","v":{"$error":"#VALUE!"}},{"$f":"IF(IK39=\"\",\"\",IF(OR(IK39>(IJ39+MDR!$BY$4),IK39<(IJ39-MDR!$BY$4)),\"Tolerance\",\"\"))","v":""},{"$f":"mndot_rounding_1(Grad!O92)","v":{"$error":"#VALUE!"}},{"$f":"IF(IM39=\"\",\"\",IF(OR(IM39>(IL39+MDR!$BY$4),IM39<(IL39-MDR!$BY$4)),\"Tolerance\",\"\"))","v":""},{"$f":"mndot_rounding_1(Grad!O93)","v":{"$error":"#VALUE!"}},{"$f":"IF(IO39=\"\",\"\",IF(OR(IO39>(IN39+MDR!$BY$4),IO39<(IN39-MDR!$BY$4)),\"Tolerance\",\"\"))","v":""},{"$f":"mndot_rounding_1(Grad!O94)","v":{"$error":"#VALUE!"}},{"$f":"IF(IQ39=\"\",\"\",IF(OR(IQ39>(IP39+MDR!$BY$4),IQ39<(IP39-MDR!$BY$4)),\"Tolerance\",\"\"))","v":""},null,null,0,"Agency AFT Substituted"]
["#200 Calc. %",null,null,{"$f":"IF(D39=\"\",\"\",IF(E39=\"\",D39,IF(OR(E39>(D39+MDR!$BY$4),E39<(D39-MDR!$BY$4)),E39,D39)))","v":""},{"$f":"IF(E39=\"\",\"\",IF(OR(E39>(D39+MDR!$BY$4),E39<(D39-MDR!$BY$4)),\"Agncy Repl.\",\"\"))","v":""},{"$f":"IF(F39=\"\",\"\",IF(G39=\"\",F39,IF(OR(G39>(F39+MDR!$BY$4),G39<(F39-MDR!$BY$4)),G39,F39)))","v":""},{"$f":"IF(G39=\"\",\"\",IF(OR(G39>(F39+MDR!$BY$4),G39<(F39-MDR!$BY$4)),\"Agncy Repl.\",\"\"))","v":""},{"$f":"IF(H39=\"\",\"\",IF(I39=\"\",H39,IF(OR(I39>(H39+MDR!$BY$4),I39<(H39-MDR!$BY$4)),I39,H39)))","v":""},{"$f":"IF(I39=\"\",\"\",IF(OR(I39>(H39+MDR!$BY$4),I39<(H39-MDR!$BY$4)),\"Agncy Repl.\",\"\"))","v":""},{"$f":"IF(J39=\"\",\"\",IF(K39=\"\",J39,IF(OR(K39>(J39+MDR!$BY$4),K39<(J39-MDR!$BY$4)),K39,J39)))","v":""},{"$f":"IF(K39=\"\",\"\",IF(OR(K39>(J39+MDR!$BY$4),K39<(J39-MDR!$BY$4)),\"Agncy Repl.\",\"\"))","v":""},null,"#200 Calc. %",null,null,{"$f":"IF(P39=\"\",\"\",IF(Q39=\"\",P39,IF(OR(Q39>(P39+MDR!$BY$4),Q39<(P39-MDR!$BY$4)),Q39,P39)))","v":""},{"$f":"IF(Q39=\"\",\"\",IF(OR(Q39>(P39+MDR!$BY$4),Q39<(P39-MDR!$BY$4)),\"Agncy Repl.\",\"\"))","v":""},{"$f":"IF(R39=\"\",\"\",IF(S39=\"\",R39,IF(OR(S39>(R39+MDR!$BY$4),S39<(R39-MDR!$BY$4)),S39,R39)))","v":""},{"$f":"IF(S39=\"\",\"\",IF(OR(S39>(R39+MDR!$BY$4),S39<(R39-MDR!$BY$4)),\"Agncy Repl.\",\"\"))","v":""},{"$f":"IF(T39=\"\",\"\",IF(U39=\"\",T39,IF(OR(U39>(T39+MDR!$BY$4),U39<(T39-MDR!$BY$4)),U39,T39)))","v":""},{"$f":"IF(U39=\"\",\"\",IF(OR(U39>(T39+MDR!$BY$4),U39<(T39-MDR!$BY$4)),\"Agncy Repl.\",\"\"))","v":""},{"$f":"IF(V39=\"\",\"\",IF(W39=\"\",V39,IF(OR(W39>(V39+MDR!$BY$4),W39<(V39-MDR!$BY$4)),W39,V39)))","v":""},{"$f":"IF(W39=\"\",\"\",IF(OR(W39>(V39+MDR!$BY$4),W39<(V39-MDR!$BY$4)),\"Agncy Repl.\",\"\"))","v":""},null,"#200 Calc. %",null,null,{"$f":"IF(AB39=\"\",\"\",IF(AC39=\"\",AB39,IF(OR(AC39>(AB39+MDR!$BY$4),AC39<(AB39-MDR!$BY$4)),AC39,AB39)))","v":""},{"$f":"IF(AC39=\"\",\"\",IF(OR(AC39>(AB39+MDR!$BY$4),AC39<(AB39-MDR!$BY$4)),\"Agncy Repl.\",\"\"))","v":""},{"$f":"IF(AD39=\"\",\"\",IF(AE39=\"\",AD39,IF(OR(AE39>(AD39+MDR!$BY$4),AE39<(AD39-MDR!$BY$4)),AE39,AD39)))","v":""},{"$f":"IF(AE39=\"\",\"\",IF(OR(AE39>(AD39+MDR!$BY$4),AE39<(AD39-MDR!$BY$4)),\"Agncy Repl.\",\"\"))","v":""},{"$f":"IF(AF39=\"\",\"\",IF(AG39=\"\",AF39,IF(OR(AG39>(AF39+MDR!$BY$4),AG39<(AF39-MDR!$BY$4)),AG39,AF39)))","v":""},{"$f":"IF(AG39=\"\",\"\",IF(OR(AG39>(AF39+MDR!$BY$4),AG39<(AF39-MDR!$BY$4)),\"Agncy Repl.\",\"\"))","v":""},{"$f":"IF(AH39=\"\",\"\",IF(AI39=\"\",AH39,IF(OR(AI39>(AH39+MDR!$BY$4),AI39<(AH39-MDR!$BY$4)),AI39,AH39)))","v":""},{"$f":"IF(AI39=\"\",\"\",IF(OR(AI39>(AH39+MDR!$BY$4),AI39<(AH39-MDR!$BY$4)),\"Agncy Repl.\",\"\"))","v":""},null,"#200 Calc. %",null,null,{"$f":"IF(AN39=\"\",\"\",IF(AO39=\"\",AN39,IF(OR(AO39>(AN39+MDR!$BY$4),AO39<(AN39-MDR!$BY$4)),AO39,AN39)))","v":""},{"$f":"IF(AO39=\"\",\"\",IF(OR(AO39>(AN39+MDR!$BY$4),AO39<(AN39-MDR!$BY$4)),\"Agncy Repl.\",\"\"))","v":""},{"$f":"IF(AP39=\"\",\"\",IF(AQ39=\"\",AP39,IF(OR(AQ39>(AP39+MDR!$BY$4),AQ39<(AP39-MDR!$BY$4)),AQ39,AP39)))","v":""},{"$f":"IF(AQ39=\"\",\"\",IF(OR(AQ39>(AP39+MDR!$BY$4),AQ39<(AP39-MDR!$BY$4)),\"Agncy Repl.\",\"\"))","v":""},{"$f":"IF(AR39=\"\",\"\",IF(AS39=\"\",AR39,IF(OR(AS39>(AR39+MDR!$BY$4),AS39<(AR39-MDR!$BY$4)),AS39,AR39)))","v":""},{"$f":"IF(AS39=\"\",\"\",IF(OR(AS39>(AR39+MDR!$BY$4),AS39<(AR39-MDR!$BY$4)),\"Agncy Repl.\",\"\"))","v":""},{"$f":"IF(AT39=\"\",\"\",IF(AU39=\"\",AT39,IF(OR(AU39>(AT39+MDR!$BY$4),AU39<(AT39-MDR!$BY$4)),AU39,AT39)))","v":""},{"$f":"IF(AU39=\"\",\"\",IF(OR(AU39>(AT39+MDR!$BY$4),AU39<(AT39-MDR!$BY$4)),\"Agncy Repl.\",\"\"))","v":""},null,"#200 Calc. %",null,null,{"$f":"IF(AZ39=\"\",\"\",IF(BA39=\"\",AZ39,IF(OR(BA39>(AZ39+MDR!$BY$4),BA39<(AZ39-MDR!$BY$4)),BA39,AZ39)))","v":""},{"$f":"IF(BA39=\"\",\"\",IF(OR(BA39>(AZ39+MDR!$BY$4),BA39<(AZ39-MDR!$BY$4)),\"Agncy Repl.\",\"\"))","v":""},{"$f":"IF(BB39=\"\",\"\",IF(BC39=\"\",BB39,IF(OR(BC39>(BB39+MDR!$BY$4),BC39<(BB39-MDR!$BY$4)),BC39,BB39)))","v":""},{"$f":"IF(BC39=\"\",\"\",IF(OR(BC39>(BB39+MDR!$BY$4),BC39<(BB39-MDR!$BY$4)),\"Agncy Repl.\",\"\"))","v":""},{"$f":"IF(BD39=\"\",\"\",IF(BE39=\"\",BD39,IF(OR(BE39>(BD39+MDR!$BY$4),BE39<(BD39-MDR!$BY$4)),BE39,BD39)))","v":""},{"$f":"IF(BE39=\"\",\"\",IF(OR(BE39>(BD39+MDR!$BY$4),BE39<(BD39-MDR!$BY$4)),\"Agncy Repl.\",\"\"))","v":""},{"$f":"IF(BF39=\"\",\"\",IF(BG39=\"\",BF39,IF(OR(BG39>(BF39+MDR!$BY$4),BG39<(BF39-MDR!$BY$4)),BG39,BF39)))","v":""},{"$f":"IF(BG39=\"\",\"\",IF(OR(BG39>(BF39+MDR!$BY$4),BG39<(BF39-MDR!$BY$4)),\"Agncy Repl.\",\"\"))","v":""},null,"#200 Calc. %",null,null,{"$f":"IF(BL39=\"\",\"\",IF(BM39=\"\",BL39,IF(OR(BM39>(BL39+MDR!$BY$4),BM39<(BL39-MDR!$BY$4)),BM39,BL39)))","v":""},{"$f":"IF(BM39=\"\",\"\",IF(OR(BM39>(BL39+MDR!$BY$4),BM39<(BL39-MDR!$BY$4)),\"Agncy Repl.\",\"\"))","v":""},{"$f":"IF(BN39=\"\",\"\",IF(BO39=\"\",BN39,IF(OR(BO39>(BN39+MDR!$BY$4),BO39<(BN39-MDR!$BY$4)),BO39,BN39)))","v":""},{"$f":"IF(BO39=\"\",\"\",IF(OR(BO39>(BN39+MDR!$BY$4),BO39<(BN39-MDR!$BY$4)),\"Agncy Repl.\",\"\"))","v":""},{"$f":"IF(BP39=\"\",\"\",IF(BQ39=\"\",BP39,IF(OR(BQ39>(BP39+MDR!$BY$4),BQ39<(BP39-MDR!$BY$4)),BQ39,BP39)))","v":""},{"$f":"IF(BQ39=\"\",\"\",IF(OR(BQ39>(BP39+MDR!$BY$4),BQ39<(BP39-MDR!$BY$4)),\"Agncy Repl.\",\"\"))","v":""},{"$f":"IF(BR39=\"\",\"\",IF(BS39=\"\",BR39,IF(OR(BS39>(BR39+MDR!$BY$4),BS39<(BR39-MDR!$BY$4)),BS39,BR39)))","v":""},{"$f":"IF(BS39=\"\",\"\",IF(OR(BS39>(BR39+MDR!$BY$4),BS39<(BR39-MDR!$BY$4)),\"Agncy Repl.\",\"\"))","v":""},null,"#200 Calc. %",null,null,{"$f":"IF(BX39=\"\",\"\",IF(BY39=\"\",BX39,IF(OR(BY39>(BX39+MDR!$BY$4),BY39<(BX39-MDR!$BY$4)),BY39,BX39)))","v":""},{"$f":"IF(BY39=\"\",\"\",IF(OR(BY39>(BX39+MDR!$BY$4),BY39<(BX39-MDR!$BY$4)),\"Agncy Repl.\",\"\"))","v":""},{"$f":"IF(BZ39=\"\",\"\",IF(CA39=\"\",BZ39,IF(OR(CA39>(BZ39+MDR!$BY$4),CA39<(BZ39-MDR!$BY$4)),CA39,BZ39)))","v":""},{"$f":"IF(CA39=\"\",\"\",IF(OR(CA39>(BZ39+MDR!$BY$4),CA39<(BZ39-MDR!$BY$4)),\"Agncy Repl.\",\"\"))","v":""},{"$f":"IF(CB39=\"\",\"\",IF(CC39=\"\",CB39,IF(OR(CC39>(CB39+MDR!$BY$4),CC39<(CB39-MDR!$BY$4)),CC39,CB39)))","v":""},{"$f":"IF(CC39=\"\",\"\",IF(OR(CC39>(CB39+MDR!$BY$4),CC39<(CB39-MDR!$BY$4)),\"Agncy Repl.\",\"\"))","v":""},{"$f":"IF(CD39=\"\",\"\",IF(CE39=\"\",CD39,IF(OR(CE39>(CD39+MDR!$BY$4),CE39<(CD39-MDR!$BY$4)),CE39,CD39)))","v":""},{"$f":"IF(CE39=\"\",\"\",IF(OR(CE39>(CD39+MDR!$BY$4),CE39<(CD39-MDR!$BY$4)),\"Agncy Repl.\",\"\"))","v":""},null,"#200 Calc. %",null,null,{"$f":"IF(CJ39=\"\",\"\",IF(CK39=\"\",CJ39,IF(OR(CK39>(CJ39+MDR!$BY$4),CK39<(CJ39-MDR!$BY$4)),CK39,CJ39)))","v":""},{"$f":"IF(CK39=\"\",\"\",IF(OR(CK39>(CJ39+MDR!$BY$4),CK39<(CJ39-MDR!$BY$4)),\"Agncy Repl.\",\"\"))","v":""},{"$f":"IF(CL39=\"\",\"\",IF(CM39=\"\",CL39,IF(OR(CM39>(CL39+MDR!$BY$4),CM39<(CL39-MDR!$BY$4)),CM39,CL39)))","v":""},{"$f":"IF(CM39=\"\",\"\",IF(OR(CM39>(CL39+MDR!$BY$4),CM39<(CL39-MDR!$BY$4)),\"Agncy Repl.\",\"\"))","v":""},{"$f":"IF(CN39=\"\",\"\",IF(CO39=\"\",CN39,IF(OR(CO39>(CN39+MDR!$BY$4),CO39<(CN39-MDR!$BY$4)),CO39,CN39)))","v":""},{"$f":"IF(CO39=\"\",\"\",IF(OR(CO39>(CN39+MDR!$BY$4),CO39<(CN39-MDR!$BY$4)),\"Agncy Repl.\",\"\"))","v":""},{"$f":"IF(CP39=\"\",\"\",IF(CQ39=\"\",CP39,IF(OR(CQ39>(CP39+MDR!$BY$4),CQ39<(CP39-MDR!$BY$4)),CQ39,CP39)))","v":""},{"$f":"IF(CQ39=\"\",\"\",IF(OR(CQ39>(CP39+MDR!$BY$4),CQ39<(CP39-MDR!$BY$4)),\"Agncy Repl.\",\"\"))","v":""},null,"#200 Calc. %",null,null,{"$f":"IF(CV39=\"\",\"\",IF(CW39=\"\",CV39,IF(OR(CW39>(CV39+MDR!$BY$4),CW39<(CV39-MDR!$BY$4)),CW39,CV39)))","v":""},{"$f":"IF(CW39=\"\",\"\",IF(OR(CW39>(CV39+MDR!$BY$4),CW39<(CV39-MDR!$BY$4)),\"Agncy Repl.\",\"\"))","v":""},{"$f":"IF(CX39=\"\",\"\",IF(CY39=\"\",CX39,IF(OR(CY39>(CX39+MDR!$BY$4),CY39<(CX39-MDR!$BY$4)),CY39,CX39)))","v":""},{"$f":"IF(CY39=\"\",\"\",IF(OR(CY39>(CX39+MDR!$BY$4),CY39<(CX39-MDR!$BY$4)),\"Agncy Repl.\",\"\"))","v":""},{"$f":"IF(CZ39=\"\",\"\",IF(DA39=\"\",CZ39,IF(OR(DA39>(CZ39+MDR!$BY$4),DA39<(CZ39-MDR!$BY$4)),DA39,CZ39)))","v":""},{"$f":"IF(DA39=\"\",\"\",IF(OR(DA39>(CZ39+MDR!$BY$4),DA39<(CZ39-MDR!$BY$4)),\"Agncy Repl.\",\"\"))","v":""},{"$f":"IF(DB39=\"\",\"\",IF(DC39=\"\",DB39,IF(OR(DC39>(DB39+MDR!$BY$4),DC39<(DB39-MDR!$BY$4)),DC39,DB39)))","v":""},{"$f":"IF(DC39=\"\",\"\",IF(OR(DC39>(DB39+MDR!$BY$4),DC39<(DB39-MDR!$BY$4)),\"Agncy Repl.\",\"\"))","v":""},null,"#200 Calc. %",null,null,{"$f":"IF(DH39=\"\",\"\",IF(DI39=\"\",DH39,IF(OR(DI39>(DH39+MDR!$BY$4),DI39<(DH39-MDR!$BY$4)),DI39,DH39)))","v":""},{"$f":"IF(DI39=\"\",\"\",IF(OR(DI39>(DH39+MDR!$BY$4),DI39<(DH39-MDR!$BY$4)),\"Agncy Repl.\",\"\"))","v":""},{"$f":"IF(DJ39=\"\",\"\",IF(DK39=\"\",DJ39,IF(OR(DK39>(DJ39+MDR!$BY$4),DK39<(DJ39-MDR!$BY$4)),DK39,DJ39)))","v":""},{"$f":"IF(DK39=\"\",\"\",IF(OR(DK39>(DJ39+MDR!$BY$4),DK39<(DJ39-MDR!$BY$4)),\"Agncy Repl.\",\"\"))","v":""},{"$f":"IF(DL39=\"\",\"\",IF(DM39=\"\",DL39,IF(OR(DM39>(DL39+MDR!$BY$4),DM39<(DL39-MDR!$BY$4)),DM39,DL39)))","v":""},{"$f":"IF(DM39=\"\",\"\",IF(OR(DM39>(DL39+MDR!$BY$4),DM39<(DL39-MDR!$BY$4)),\"Agncy Repl.\",\"\"))","v":""},{"$f":"IF(DN39=\"\",\"\",IF(DO39=\"\",DN39,IF(OR(DO39>(DN39+MDR!$BY$4),DO39<(DN39-MDR!$BY$4)),DO39,DN39)))","v":""},{"$f":"IF(DO39=\"\",\"\",IF(OR(DO39>(DN39+MDR!$BY$4),DO39<(DN39-MDR!$BY$4)),\"Agncy Repl.\",\"\"))","v":""},null,"#200 Calc. %",null,null,{"$f":"IF(DT39=\"\",\"\",IF(DU39=\"\",DT39,IF(OR(DU39>(DT39+MDR!$BY$4),DU39<(DT39-MDR!$BY$4)),DU39,DT39)))","v":""},{"$f":"IF(DU39=\"\",\"\",IF(OR(DU39>(DT39+MDR!$BY$4),DU39<(DT39-MDR!$BY$4)),\"Agncy Repl.\",\"\"))","v":""},{"$f":"IF(DV39=\"\",\"\",IF(DW39=\"\",DV39,IF(OR(DW39>(DV39+MDR!$BY$4),DW39<(DV39-MDR!$BY$4)),DW39,DV39)))","v":""},{"$f":"IF(DW39=\"\",\"\",IF(OR(DW39>(DV39+MDR!$BY$4),DW39<(DV39-MDR!$BY$4)),\"Agncy Repl.\",\"\"))","v":""},{"$f":"IF(DX39=\"\",\"\",IF(DY39=\"\",DX39,IF(OR(DY39>(DX39+MDR!$BY$4),DY39<(DX39-MDR!$BY$4)),DY39,DX39)))","v":""},{"$f":"IF(DY39=\"\",\"\",IF(OR(DY39>(DX39+MDR!$BY$4),DY39<(DX39-MDR!$BY$4)),\"Agncy Repl.\",\"\"))","v":""},{"$f":"IF(DZ39=\"\",\"\",IF(EA39=\"\",DZ39,IF(OR(EA39>(DZ39+MDR!$BY$4),EA39<(DZ39-MDR!$BY$4)),EA39,DZ39)))","v":""},{"$f":"IF(EA39=\"\",\"\",IF(OR(EA39>(DZ39+MDR!$BY$4),EA39<(DZ39-MDR!$BY$4)),\"Agncy Repl.\",\"\"))","v":""},null,"#200 Calc. %",null,null,{"$f":"IF(EF39=\"\",\"\",IF(EG39=\"\",EF39,IF(OR(EG39>(EF39+MDR!$BY$4),EG39<(EF39-MDR!$BY$4)),EG39,EF39)))","v":""},{"$f":"IF(EG39=\"\",\"\",IF(OR(EG39>(EF39+MDR!$BY$4),EG39<(EF39-MDR!$BY$4)),\"Agncy Repl.\",\"\"))","v":""},{"$f":"IF(EH39=\"\",\"\",IF(EI39=\"\",EH39,IF(OR(EI39>(EH39+MDR!$BY$4),EI39<(EH39-MDR!$BY$4)),EI39,EH39)))","v":""},{"$f":"IF(EI39=\"\",\"\",IF(OR(EI39>(EH39+MDR!$BY$4),EI39<(EH39-MDR!$BY$4)),\"Agncy Repl.\",\"\"))","v":""},{"$f":"IF(EJ39=\"\",\"\",IF(EK39=\"\",EJ39,IF(OR(EK39>(EJ39+MDR!$BY$4),EK39<(EJ39-MDR!$BY$4)),EK39,EJ39)))","v":""},{"$f":"IF(EK39=\"\",\"\",IF(OR(EK39>(EJ39+MDR!$BY$4),EK39<(EJ39-MDR!$BY$4)),\"Agncy Repl.\",\"\"))","v":""},{"$f":"IF(EL39=\"\",\"\",IF(EM39=\"\",EL39,IF(OR(EM39>(EL39+MDR!$BY$4),EM39<(EL39-MDR!$BY$4)),EM39,EL39)))","v":""},{"$f":"IF(EM39=\"\",\"\",IF(OR(EM39>(EL39+MDR!$BY$4),EM39<(EL39-MDR!$BY$4)),\"Agncy Repl.\",\"\"))","v":""},null,"#200 Calc. %",null,null,{"$f":"IF(ER39=\"\",\"\",IF(ES39=\"\",ER39,IF(OR(ES39>(ER39+MDR!$BY$4),ES39<(ER39-MDR!$BY$4)),ES39,ER39)))","v":""},{"$f":"IF(ES39=\"\",\"\",IF(OR(ES39>(ER39+MDR!$BY$4),ES39<(ER39-MDR!$BY$4)),\"Agncy Repl.\",\"\"))","v":""},{"$f":"IF(ET39=\"\",\"\",IF(EU39=\"\",ET39,IF(OR(EU39>(ET39+MDR!$BY$4),EU39<(ET39-MDR!$BY$4)),EU39,ET39)))","v":""},{"$f":"IF(EU39=\"\",\"\",IF(OR(EU39>(ET39+MDR!$BY$4),EU39<(ET39-MDR!$BY$4)),\"Agncy Repl.\",\"\"))","v":""},{"$f":"IF(EV39=\"\",\"\",IF(EW39=\"\",EV39,IF(OR(EW39>(EV39+MDR!$BY$4),EW39<(EV39-MDR!$BY$4)),EW39,EV39)))","v":""},{"$f":"IF(EW39=\"\",\"\",IF(OR(EW39>(EV39+MDR!$BY$4),EW39<(EV39-MDR!$BY$4)),\"Agncy Repl.\",\"\"))","v":""},{"$f":"IF(EX39=\"\",\"\",IF(EY39=\"\",EX39,IF(OR(EY39>(EX39+MDR!$BY$4),EY39<(EX39-MDR!$BY$4)),EY39,EX39)))","v":""},{"$f":"IF(EY39=\"\",\"\",IF(OR(EY39>(EX39+MDR!$BY$4),EY39<(EX39-MDR!$BY$4)),\"Agncy Repl.\",\"\"))","v":""},null,"#200 Calc. %",null,null,{"$f":"IF(FD39=\"\",\"\",IF(FE39=\"\",FD39,IF(OR(FE39>(FD39+MDR!$BY$4),FE39<(FD39-MDR!$BY$4)),FE39,FD39)))","v":""},{"$f":"IF(FE39=\"\",\"\",IF(OR(FE39>(FD39+MDR!$BY$4),FE39<(FD39-MDR!$BY$4)),\"Agncy Repl.\",\"\"))","v":""},{"$f":"IF(FF39=\"\",\"\",IF(FG39=\"\",FF39,IF(OR(FG39>(FF39+MDR!$BY$4),FG39<(FF39-MDR!$BY$4)),FG39,FF39)))","v":""},{"$f":"IF(FG39=\"\",\"\",IF(OR(FG39>(FF39+MDR!$BY$4),FG39<(FF39-MDR!$BY$4)),\"Agncy Repl.\",\"\"))","v":""},{"$f":"IF(FH39=\"\",\"\",IF(FI39=\"\",FH39,IF(OR(FI39>(FH39+MDR!$BY$4),FI39<(FH39-MDR!$BY$4)),FI39,FH39)))","v":""},{"$f":"IF(FI39=\"\",\"\",IF(OR(FI39>(FH39+MDR!$BY$4),FI39<(FH39-MDR!$BY$4)),\"Agncy Repl.\",\"\"))","v":""},{"$f":"IF(FJ39=\"\",\"\",IF(FK39=\"\",FJ39,IF(OR(FK39>(FJ39+MDR!$BY$4),FK39<(FJ39-MDR!$BY$4)),FK39,FJ39)))","v":""},{"$f":"IF(FK39=\"\",\"\",IF(OR(FK39>(FJ39+MDR!$BY$4),FK39<(FJ39-MDR!$BY$4)),\"Agncy Repl.\",\"\"))","v":""},null,"#200 Calc. %",null,null,{"$f":"IF(FP39=\"\",\"\",IF(FQ39=\"\",FP39,IF(OR(FQ39>(FP39+MDR!$BY$4),FQ39<(FP39-MDR!$BY$4)),FQ39,FP39)))","v":""},{"$f":"IF(FQ39=\"\",\"\",IF(OR(FQ39>(FP39+MDR!$BY$4),FQ39<(FP39-MDR!$BY$4)),\"Agncy Repl.\",\"\"))","v":""},{"$f":"IF(FR39=\"\",\"\",IF(FS39=\"\",FR39,IF(OR(FS39>(FR39+MDR!$BY$4),FS39<(FR39-MDR!$BY$4)),FS39,FR39)))","v":""},{"$f":"IF(FS39=\"\",\"\",IF(OR(FS39>(FR39+MDR!$BY$4),FS39<(FR39-MDR!$BY$4)),\"Agncy Repl.\",\"\"))","v":""},{"$f":"IF(FT39=\"\",\"\",IF(FU39=\"\",FT39,IF(OR(FU39>(FT39+MDR!$BY$4),FU39<(FT39-MDR!$BY$4)),FU39,FT39)))","v":""},{"$f":"IF(FU39=\"\",\"\",IF(OR(FU39>(FT39+MDR!$BY$4),FU39<(FT39-MDR!$BY$4)),\"Agncy Repl.\",\"\"))","v":""},{"$f":"IF(FV39=\"\",\"\",IF(FW39=\"\",FV39,IF(OR(FW39>(FV39+MDR!$BY$4),FW39<(FV39-MDR!$BY$4)),FW39,FV39)))","v":""},{"$f":"IF(FW39=\"\",\"\",IF(OR(FW39>(FV39+MDR!$BY$4),FW39<(FV39-MDR!$BY$4)),\"Agncy Repl.\",\"\"))","v":""},null,"#200 Calc. %",null,null,{"$f":"IF(GB39=\"\",\"\",IF(GC39=\"\",GB39,IF(OR(GC39>(GB39+MDR!$BY$4),GC39<(GB39-MDR!$BY$4)),GC39,GB39)))","v":""},{"$f":"IF(GC39=\"\",\"\",IF(OR(GC39>(GB39+MDR!$BY$4),GC39<(GB39-MDR!$BY$4)),\"Agncy Repl.\",\"\"))","v":""},{"$f":"IF(GD39=\"\",\"\",IF(GE39=\"\",GD39,IF(OR(GE39>(GD39+MDR!$BY$4),GE39<(GD39-MDR!$BY$4)),GE39,GD39)))","v":""},{"$f":"IF(GE39=\"\",\"\",IF(OR(GE39>(GD39+MDR!$BY$4),GE39<(GD39-MDR!$BY$4)),\"Agncy Repl.\",\"\"))","v":""},{"$f":"IF(GF39=\"\",\"\",IF(GG39=\"\",GF39,IF(OR(GG39>(GF39+MDR!$BY$4),GG39<(GF39-MDR!$BY$4)),GG39,GF39)))","v":""},{"$f":"IF(GG39=\"\",\"\",IF(OR(GG39>(GF39+MDR!$BY$4),GG39<(GF39-MDR!$BY$4)),\"Agncy Repl.\",\"\"))","v":""},{"$f":"IF(GH39=\"\",\"\",IF(GI39=\"\",GH39,IF(OR(GI39>(GH39+MDR!$BY$4),GI39<(GH39-MDR!$BY$4)),GI39,GH39)))","v":""},{"$f":"IF(GI39=\"\",\"\",IF(OR(GI39>(GH39+MDR!$BY$4),GI39<(GH39-MDR!$BY$4)),\"Agncy Repl.\",\"\"))","v":""},null,"#200 Calc. %",null,null,{"$f":"IF(GN39=\"\",\"\",IF(GO39=\"\",GN39,IF(OR(GO39>(GN39+MDR!$BY$4),GO39<(GN39-MDR!$BY$4)),GO39,GN39)))","v":""},{"$f":"IF(GO39=\"\",\"\",IF(OR(GO39>(GN39+MDR!$BY$4),GO39<(GN39-MDR!$BY$4)),\"Agncy Repl.\",\"\"))","v":""},{"$f":"IF(GP39=\"\",\"\",IF(GQ39=\"\",GP39,IF(OR(GQ39>(GP39+MDR!$BY$4),GQ39<(GP39-MDR!$BY$4)),GQ39,GP39)))","v":""},{"$f":"IF(GQ39=\"\",\"\",IF(OR(GQ39>(GP39+MDR!$BY$4),GQ39<(GP39-MDR!$BY$4)),\"Agncy Repl.\",\"\"))","v":""},{"$f":"IF(GR39=\"\",\"\",IF(GS39=\"\",GR39,IF(OR(GS39>(GR39+MDR!$BY$4),GS39<(GR39-MDR!$BY$4)),GS39,GR39)))","v":""},{"$f":"IF(GS39=\"\",\"\",IF(OR(GS39>(GR39+MDR!$BY$4),GS39<(GR39-MDR!$BY$4)),\"Agncy Repl.\",\"\"))","v":""},{"$f":"IF(GT39=\"\",\"\",IF(GU39=\"\",GT39,IF(OR(GU39>(GT39+MDR!$BY$4),GU39<(GT39-MDR!$BY$4)),GU39,GT39)))","v":""},{"$f":"IF(GU39=\"\",\"\",IF(OR(GU39>(GT39+MDR!$BY$4),GU39<(GT39-MDR!$BY$4)),\"Agncy Repl.\",\"\"))","v":""},null,"#200 Calc. %",null,null,{"$f":"IF(GZ39=\"\",\"\",IF(HA39=\"\",GZ39,IF(OR(HA39>(GZ39+MDR!$BY$4),HA39<(GZ39-MDR!$BY$4)),HA39,GZ39)))","v":""},{"$f":"IF(HA39=\"\",\"\",IF(OR(HA39>(GZ39+MDR!$BY$4),HA39<(GZ39-MDR!$BY$4)),\"Agncy Repl.\",\"\"))","v":""},{"$f":"IF(HB39=\"\",\"\",IF(HC39=\"\",HB39,IF(OR(HC39>(HB39+MDR!$BY$4),HC39<(HB39-MDR!$BY$4)),HC39,HB39)))","v":""},{"$f":"IF(HC39=\"\",\"\",IF(OR(HC39>(HB39+MDR!$BY$4),HC39<(HB39-MDR!$BY$4)),\"Agncy Repl.\",\"\"))","v":""},{"$f":"IF(HD39=\"\",\"\",IF(HE39=\"\",HD39,IF(OR(HE39>(HD39+MDR!$BY$4),HE39<(HD39-MDR!$BY$4)),HE39,HD39)))","v":""},{"$f":"IF(HE39=\"\",\"\",IF(OR(HE39>(HD39+MDR!$BY$4),HE39<(HD39-MDR!$BY$4)),\"Agncy Repl.\",\"\"))","v":""},{"$f":"IF(HF39=\"\",\"\",IF(HG39=\"\",HF39,IF(OR(HG39>(HF39+MDR!$BY$4),HG39<(HF39-MDR!$BY$4)),HG39,HF39)))","v":""},{"$f":"IF(HG39=\"\",\"\",IF(OR(HG39>(HF39+MDR!$BY$4),HG39<(HF39-MDR!$BY$4)),\"Agncy Repl.\",\"\"))","v":""},null,"#200 Calc. %",null,null,{"$f":"IF(HL39=\"\",\"\",IF(HM39=\"\",HL39,IF(OR(HM39>(HL39+MDR!$BY$4),HM39<(HL39-MDR!$BY$4)),HM39,HL39)))","v":""},{"$f":"IF(HM39=\"\",\"\",IF(OR(HM39>(HL39+MDR!$BY$4),HM39<(HL39-MDR!$BY$4)),\"Agncy Repl.\",\"\"))","v":""},{"$f":"IF(HN39=\"\",\"\",IF(HO39=\"\",HN39,IF(OR(HO39>(HN39+MDR!$BY$4),HO39<(HN39-MDR!$BY$4)),HO39,HN39)))","v":""},{"$f":"IF(HO39=\"\",\"\",IF(OR(HO39>(HN39+MDR!$BY$4),HO39<(HN39-MDR!$BY$4)),\"Agncy Repl.\",\"\"))","v":""},{"$f":"IF(HP39=\"\",\"\",IF(HQ39=\"\",HP39,IF(OR(HQ39>(HP39+MDR!$BY$4),HQ39<(HP39-MDR!$BY$4)),HQ39,HP39)))","v":""},{"$f":"IF(HQ39=\"\",\"\",IF(OR(HQ39>(HP39+MDR!$BY$4),HQ39<(HP39-MDR!$BY$4)),\"Agncy Repl.\",\"\"))","v":""},{"$f":"IF(HR39=\"\",\"\",IF(HS39=\"\",HR39,IF(OR(HS39>(HR39+MDR!$BY$4),HS39<(HR39-MDR!$BY$4)),HS39,HR39)))","v":""},{"$f":"IF(HS39=\"\",\"\",IF(OR(HS39>(HR39+MDR!$BY$4),HS39<(HR39-MDR!$BY$4)),\"Agncy Repl.\",\"\"))","v":""},null,"#200 Calc. %",null,null,{"$f":"IF(HX39=\"\",\"\",IF(HY39=\"\",HX39,IF(OR(HY39>(HX39+MDR!$BY$4),HY39<(HX39-MDR!$BY$4)),HY39,HX39)))","v":""},{"$f":"IF(HY39=\"\",\"\",IF(OR(HY39>(HX39+MDR!$BY$4),HY39<(HX39-MDR!$BY$4)),\"Agncy Repl.\",\"\"))","v":""},{"$f":"IF(HZ39=\"\",\"\",IF(IA39=\"\",HZ39,IF(OR(IA39>(HZ39+MDR!$BY$4),IA39<(HZ39-MDR!$BY$4)),IA39,HZ39)))","v":""},{"$f":"IF(IA39=\"\",\"\",IF(OR(IA39>(HZ39+MDR!$BY$4),IA39<(HZ39-MDR!$BY$4)),\"Agncy Repl.\",\"\"))","v":""},{"$f":"IF(IB39=\"\",\"\",IF(IC39=\"\",IB39,IF(OR(IC39>(IB39+MDR!$BY$4),IC39<(IB39-MDR!$BY$4)),IC39,IB39)))","v":""},{"$f":"IF(IC39=\"\",\"\",IF(OR(IC39>(IB39+MDR!$BY$4),IC39<(IB39-MDR!$BY$4)),\"Agncy Repl.\",\"\"))","v":""},{"$f":"IF(ID39=\"\",\"\",IF(IE39=\"\",ID39,IF(OR(IE39>(ID39+MDR!$BY$4),IE39<(ID39-MDR!$BY$4)),IE39,ID39)))","v":""},{"$f":"IF(IE39=\"\",\"\",IF(OR(IE39>(ID39+MDR!$BY$4),IE39<(ID39-MDR!$BY$4)),\"Agncy Repl.\",\"\"))","v":""},null,"#200 Calc. %",null,null,{"$f":"IF(IJ39=\"\",\"\",IF(IK39=\"\",IJ39,IF(OR(IK39>(IJ39+MDR!$BY$4),IK39<(IJ39-MDR!$BY$4)),IK39,IJ39)))","v":""},{"$f":"IF(IK39=\"\",\"\",IF(OR(IK39>(IJ39+MDR!$BY$4),IK39<(IJ39-MDR!$BY$4)),\"Agncy Repl.\",\"\"))","v":""},{"$f":"IF(IL39=\"\",\"\",IF(IM39=\"\",IL39,IF(OR(IM39>(IL39+MDR!$BY$4),IM39<(IL39-MDR!$BY$4)),IM39,IL39)))","v":""},{"$f":"IF(IM39=\"\",\"\",IF(OR(IM39>(IL39+MDR!$BY$4),IM39<(IL39-MDR!$BY$4)),\"Agncy Repl.\",\"\"))","v":""},{"$f":"IF(IN39=\"\",\"\",IF(IO39=\"\",IN39,IF(OR(IO39>(IN39+MDR!$BY$4),IO39<(IN39-MDR!$BY$4)),IO39,IN39)))","v":""},{"$f":"IF(IO39=\"\",\"\",IF(OR(IO39>(IN39+MDR!$BY$4),IO39<(IN39-MDR!$BY$4)),\"Agncy Repl.\",\"\"))","v":""},{"$f":"IF(IP39=\"\",\"\",IF(IQ39=\"\",IP39,IF(OR(IQ39>(IP39+MDR!$BY$4),IQ39<(IP39-MDR!$BY$4)),IQ39,IP39)))","v":""},{"$f":"IF(IQ39=\"\",\"\",IF(OR(IQ39>(IP39+MDR!$BY$4),IQ39<(IP39-MDR!$BY$4)),\"Agncy Repl.\",\"\"))","v":""}]
["% Asphalt Content  ",null,"Individual",null,null,null,null,null,null,null,null,null,"% Asphalt Content  ",null,"Individual",null,null,null,null,null,null,null,null,null,"% Asphalt Content  ",null,"Individual",null,null,null,null,null,null,null,null,null,"% Asphalt Content  ",null,"Individual",null,null,null,null,null,null,null,null,null,"% Asphalt Content  ",null,"Individual",null,null,null,null,null,null,null,null,null,"% Asphalt Content  ",null,"Individual",null,null,null,null,null,null,null,null,null,"% Asphalt Content  ",null,"Individual",null,null,null,null,null,null,null,null,null,"% Asphalt Content  ",null,"Individual",null,null,null,null,null,null,null,null,null,"% Asphalt Content  ",null,"Individual",null,null,null,null,null,null,null,null,null,"% Asphalt Content  ",null,"Individual",null,null,null,null,null,null,null,null,null,"% Asphalt Content  ",null,"Individual",null,null,null,null,null,null,null,null,null,"% Asphalt Content  ",null,"Individual",null,null,null,null,null,null,null,null,null,"% Asphalt Content  ",null,"Individual",null,null,null,null,null,null,null,null,null,"% Asphalt Content  ",null,"Individual",null,null,null,null,null,null,null,null,null,"% Asphalt Content  ",null,"Individual",null,null,null,null,null,null,null,null,null,"% Asphalt Content  ",null,"Individual",null,null,null,null,null,null,null,null,null,"% Asphalt Content  ",null,"Individual",null,null,null,null,null,null,null,null,null,"% Asphalt Content  ",null,"Individual",null,null,null,null,null,null,null,null,null,"% Asphalt Content  ",null,"Individual",null,null,null,null,null,null,null,null,null,"% Asphalt Content  ",null,"Individual",null,null,null,null,null,null,null,null,null,"% Asphalt Content  ",null,"Individual",null,null,null,null,null,null,null,null,null,null,0,"Agency AFT Substituted"]
["Design =",{"$f":"MDR!D12","v":0},"Mov. Avg.",null,{"$f":"IF(E42=\"\",\"\",IF(OR(E42>(D42+$F$102),E42<(D42-$F$102)),\"Tolerance\",\"\"))","v":""},null,{"$f":"IF(G42=\"\",\"\",IF(OR(G42>(F42+$F$102),G42<(F42-$F$102)),\"Tolerance\",\"\"))","v":""},null,{"$f":"IF(I42=\"\",\"\",IF(OR(I42>(H42+$F$102),I42<(H42-$F$102)),\"Tolerance\",\"\"))","v":""},{"$f":"mndot_rounding_1(IF(J42=\"\",\"\",Mix!C14))","v":{"$error":"#VALUE!"}},{"$f":"IF(K42=\"\",\"\",IF(OR(K42>(J42+$F$102),K42<(J42-$F$102)),\"Tolerance\",\"\"))","v":""},null,"Design =",{"$f":"MDR!D16","v":""},"Mov. Avg.",{"$f":"mndot_rounding_1(IF(P42=\"\",\"\",Mix!$C15))","v":{"$error":"#VALUE!"}},{"$f":"IF(Q42=\"\",\"\",IF(OR(Q42>(P42+$F$102),Q42<(P42-$F$102)),\"Tolerance\",\"\"))","v":""},{"$f":"mndot_rounding_1(IF(R42=\"\",\"\",Mix!$C16))","v":{"$error":"#VALUE!"}},{"$f":"IF(S42=\"\",\"\",IF(OR(S42>(R42+$F$102),S42<(R42-$F$102)),\"Tolerance\",\"\"))","v":""},{"$f":"mndot_rounding_1(IF(T42=\"\",\"\",Mix!$C17))","v":{"$error":"#VALUE!"}},{"$f":"IF(U42=\"\",\"\",IF(OR(U42>(T42+$F$102),U42<(T42-$F$102)),\"Tolerance\",\"\"))","v":""},{"$f":"mndot_rounding_1(IF(V42=\"\",\"\",Mix!$C18))","v":{"$error":"#VALUE!"}},{"$f":"IF(W42=\"\",\"\",IF(OR(W42>(V42+$F$102),W42<(V42-$F$102)),\"Tolerance\",\"\"))","v":""},null,"Design =",{"$f":"MDR!D20","v":""},"Mov. Avg.",{"$f":"mndot_rounding_1(IF(AB42=\"\",\"\",Mix!C19))","v":{"$error":"#VALUE!"}},{"$f":"IF(AC42=\"\",\"\",IF(OR(AC42>(AB42+$F$102),AC42<(AB42-$F$102)),\"Tolerance\",\"\"))","v":""},{"$f":"mndot_rounding_1(IF(AD42=\"\",\"\",Mix!C20))","v":{"$error":"#VALUE!"}},{"$f":"IF(AE42=\"\",\"\",IF(OR(AE42>(AD42+$F$102),AE42<(AD42-$F$102)),\"Tolerance\",\"\"))","v":""},{"$f":"mndot_rounding_1(IF(AF42=\"\",\"\",Mix!C21))","v":{"$error":"#VALUE!"}},{"$f":"IF(AG42=\"\",\"\",IF(OR(AG42>(AF42+$F$102),AG42<(AF42-$F$102)),\"Tolerance\",\"\"))","v":""},{"$f":"mndot_rounding_1(IF(AH42=\"\",\"\",Mix!C22))","v":{"$error":"#VALUE!"}},{"$f":"IF(AI42=\"\",\"\",IF(OR(AI42>(AH42+$F$102),AI42<(AH42-$F$102)),\"Tolerance\",\"\"))","v":""},null,"Design =",{"$f":"MDR!D24","v":""},"Mov. Avg.",{"$f":"mndot_rounding_1(IF(AN42=\"\",\"\",Mix!C23))","v":{"$error":"#VALUE!"}},{"$f":"IF(AO42=\"\",\"\",IF(OR(AO42>(AN42+$F$102),AO42<(AN42-$F$102)),\"Tolerance\",\"\"))","v":""},{"$f":"mndot_rounding_1(IF(AP42=\"\",\"\",Mix!C24))","v":{"$error":"#VALUE!"}},{"$f":"IF(AQ42=\"\",\"\",IF(OR(AQ42>(AP42+$F$102),AQ42<(AP42-$F$102)),\"Tolerance\",\"\"))","v":""},{"$f":"mndot_rounding_1(IF(AR42=\"\",\"\",Mix!C25))","v":{"$error":"#VALUE!"}},{"$f":"IF(AS42=\"\",\"\",IF(OR(AS42>(AR42+$F$102),AS42<(AR42-$F$102)),\"Tolerance\",\"\"))","v":""},{"$f":"mndot_rounding_1(IF(AT42=\"\",\"\",Mix!C26))","v":{"$error":"#VALUE!"}},{"$f":"IF(AU42=\"\",\"\",IF(OR(AU42>(AT42+$F$102),AU42<(AT42-$F$102)),\"Tolerance\",\"\"))","v":""},null,"Design =",{"$f":"MDR!D28","v":""},"Mov. Avg.",{"$f":"mndot_rounding_1(IF(AZ42=\"\",\"\",Mix!C27))","v":{"$error":"#VALUE!"}},{"$f":"IF(BA42=\"\",\"\",IF(OR(BA42>(AZ42+$F$102),BA42<(AZ42-$F$102)),\"Tolerance\",\"\"))","v":""},{"$f":"mndot_rounding_1(IF(BB42=\"\",\"\",Mix!C28))","v":{"$error":"#VALUE!"}},{"$f":"IF(BC42=\"\",\"\",IF(OR(BC42>(BB42+$F$102),BC42<(BB42-$F$102)),\"Tolerance\",\"\"))","v":""},{"$f":"mndot_rounding_1(IF(BD42=\"\",\"\",Mix!C29))","v":{"$error":"#VALUE!"}},{"$f":"IF(BE42=\"\",\"\",IF(OR(BE42>(BD42+$F$102),BE42<(BD42-$F$102)),\"Tolerance\",\"\"))","v":""},{"$f":"mndot_rounding_1(IF(BF42=\"\",\"\",Mix!C30))","v":{"$error":"#VALUE!"}},{"$f":"IF(BG42=\"\",\"\",IF(OR(BG42>(BF42+$F$102),BG42<(BF42-$F$102)),\"Tolerance\",\"\"))","v":""},null,"Design =",{"$f":"MDR!D32","v":""},"Mov. Avg.",{"$f":"mndot_rounding_1(IF(BL42=\"\",\"\",Mix!C31))","v":{"$error":"#VALUE!"}},{"$f":"IF(BM42=\"\",\"\",IF(OR(BM42>(BL42+$F$102),BM42<(BL42-$F$102)),\"Tolerance\",\"\"))","v":""},{"$f":"mndot_rounding_1(IF(BN42=\"\",\"\",Mix!C32))","v":{"$error":"#VALUE!"}},{"$f":"IF(BO42=\"\",\"\",IF(OR(BO42>(BN42+$F$102),BO42<(BN42-$F$102)),\"Tolerance\",\"\"))","v":""},{"$f":"mndot_rounding_1(IF(BP42=\"\",\"\",Mix!C33))","v":{"$error":"#VALUE!"}},{"$f":"IF(BQ42=\"\",\"\",IF(OR(BQ42>(BP42+$F$102),BQ42<(BP42-$F$102)),\"Tolerance\",\"\"))","v":""},{"$f":"mndot_rounding_1(IF(BR42=\"\",\"\",Mix!C34))","v":{"$error":"#VALUE!"}},{"$f":"IF(BS42=\"\",\"\",IF(OR(BS42>(BR42+$F$102),BS42<(BR42-$F$102)),\"Tolerance\",\"\"))","v":""},null,"Design =",{"$f":"MDR!D36","v":""},"Mov. Avg.",{"$f":"mndot_rounding_1(IF(BX42=\"\",\"\",Mix!C35))","v":{"$error":"#VALUE!"}},{"$f":"IF(BY42=\"\",\"\",IF(OR(BY42>(BX42+$F$102),BY42<(BX42-$F$102)),\"Tolerance\",\"\"))","v":""},{"$f":"mndot_rounding_1(IF(BZ42=\"\",\"\",Mix!C36))","v":{"$error":"#VALUE!"}},{"$f":"IF(CA42=\"\",\"\",IF(OR(CA42>(BZ42+$F$102),CA42<(BZ42-$F$102)),\"Tolerance\",\"\"))","v":""},{"$f":"mndot_rounding_1(IF(CB42=\"\",\"\",Mix!C37))","v":{"$error":"#VALUE!"}},{"$f":"IF(CC42=\"\",\"\",IF(OR(CC42>(CB42+$F$102),CC42<(CB42-$F$102)),\"Tolerance\",\"\"))","v":""},{"$f":"mndot_rounding_1(IF(CD42=\"\",\"\",Mix!C38))","v":{"$error":"#VALUE!"}},{"$f":"IF(CE42=\"\",\"\",IF(OR(CE42>(CD42+$F$102),CE42<(CD42-$F$102)),\"Tolerance\",\"\"))","v":""},null,"Design =",{"$f":"MDR!D40","v":""},"Mov. Avg.",{"$f":"mndot_rounding_1(IF(CJ42=\"\",\"\",Mix!C39))","v":{"$error":"#VALUE!"}},{"$f":"IF(CK42=\"\",\"\",IF(OR(CK42>(CJ42+$F$102),CK42<(CJ42-$F$102)),\"Tolerance\",\"\"))","v":""},{"$f":"mndot_rounding_1(IF(CL42=\"\",\"\",Mix!C40))","v":{"$error":"#VALUE!"}},{"$f":"IF(CM42=\"\",\"\",IF(OR(CM42>(CL42+$F$102),CM42<(CL42-$F$102)),\"Tolerance\",\"\"))","v":""},{"$f":"mndot_rounding_1(IF(CN42=\"\",\"\",Mix!C41))","v":{"$error":"#VALUE!"}},{"$f":"IF(CO42=\"\",\"\",IF(OR(CO42>(CN42+$F$102),CO42<(CN42-$F$102)),\"Tolerance\",\"\"))","v":""},{"$f":"mndot_rounding_1(IF(CP42=\"\",\"\",Mix!C42))","v":{"$error":"#VALUE!"}},{"$f":"IF(CQ42=\"\",\"\",IF(OR(CQ42>(CP42+$F$102),CQ42<(CP42-$F$102)),\"Tolerance\",\"\"))","v":""},null,"Design =",{"$f":"MDR!D44","v":""},"Mov. Avg.",{"$f":"mndot_rounding_1(IF(CV42=\"\",\"\",Mix!C43))","v":{"$error":"#VALUE!"}},{"$f":"IF(CW42=\"\",\"\",IF(OR(CW42>(CV42+$F$102),CW42<(CV42-$F$102)),\"Tolerance\",\"\"))","v":""},{"$f":"mndot_rounding_1(IF(CX42=\"\",\"\",Mix!C44))","v":{"$error":"#VALUE!"}},{"$f":"IF(CY42=\"\",\"\",IF(OR(CY42>(CX42+$F$102),CY42<(CX42-$F$102)),\"Tolerance\",\"\"))","v":""},{"$f":"mndot_rounding_1(IF(CZ42=\"\",\"\",Mix!C45))","v":{"$error":"#VALUE!"}},{"$f":"IF(DA42=\"\",\"\",IF(OR(DA42>(CZ42+$F$102),DA42<(CZ42-$F$102)),\"Tolerance\",\"\"))","v":""},{"$f":"mndot_rounding_1(IF(DB42=\"\",\"\",Mix!C46))","v":{"$error":"#VALUE!"}},{"$f":"IF(DC42=\"\",\"\",IF(OR(DC42>(DB42+$F$102),DC42<(DB42-$F$102)),\"Tolerance\",\"\"))","v":""},null,"Design =",{"$f":"MDR!D48","v":""},"Mov. Avg.",{"$f":"mndot_rounding_1(IF(DH42=\"\",\"\",Mix!C47))","v":{"$error":"#VALUE!"}},{"$f":"IF(DI42=\"\",\"\",IF(OR(DI42>(DH42+$F$102),DI42<(DH42-$F$102)),\"Tolerance\",\"\"))","v":""},{"$f":"mndot_rounding_1(IF(DJ42=\"\",\"\",Mix!C48))","v":{"$error":"#VALUE!"}},{"$f":"IF(DK42=\"\",\"\",IF(OR(DK42>(DJ42+$F$102),DK42<(DJ42-$F$102)),\"Tolerance\",\"\"))","v":""},{"$f":"mndot_rounding_1(IF(DL42=\"\",\"\",Mix!C49))","v":{"$error":"#VALUE!"}},{"$f":"IF(DM42=\"\",\"\",IF(OR(DM42>(DL42+$F$102),DM42<(DL42-$F$102)),\"Tolerance\",\"\"))","v":""},{"$f":"mndot_rounding_1(IF(DN42=\"\",\"\",Mix!C50))","v":{"$error":"#VALUE!"}},{"$f":"IF(DO42=\"\",\"\",IF(OR(DO42>(DN42+$F$102),DO42<(DN42-$F$102)),\"Tolerance\",\"\"))","v":""},null,"Design =",{"$f":"MDR!D52","v":""},"Mov. Avg.",{"$f":"mndot_rounding_1(IF(DT42=\"\",\"\",Mix!C51))","v":{"$error":"#VALUE!"}},{"$f":"IF(DU42=\"\",\"\",IF(OR(DU42>(DT42+$F$102),DU42<(DT42-$F$102)),\"Tolerance\",\"\"))","v":""},{"$f":"mndot_rounding_1(IF(DV42=\"\",\"\",Mix!C52))","v":{"$error":"#VALUE!"}},{"$f":"IF(DW42=\"\",\"\",IF(OR(DW42>(DV42+$F$102),DW42<(DV42-$F$102)),\"Tolerance\",\"\"))","v":""},{"$f":"mndot_rounding_1(IF(DX42=\"\",\"\",Mix!C53))","v":{"$error":"#VALUE!"}},{"$f":"IF(DY42=\"\",\"\",IF(OR(DY42>(DX42+$F$102),DY42<(DX42-$F$102)),\"Tolerance\",\"\"))","v":""},{"$f":"mndot_rounding_1(IF(DZ42=\"\",\"\",Mix!C54))","v":{"$error":"#VALUE!"}},{"$f":"IF(EA42=\"\",\"\",IF(OR(EA42>(DZ42+$F$102),EA42<(DZ42-$F$102)),\"Tolerance\",\"\"))","v":""},null,"Design =",{"$f":"MDR!D56","v":""},"Mov. Avg.",{"$f":"mndot_rounding_1(IF(EF42=\"\",\"\",Mix!C55))","v":{"$error":"#VALUE!"}},{"$f":"IF(EG42=\"\",\"\",IF(OR(EG42>(EF42+$F$102),EG42<(EF42-$F$102)),\"Tolerance\",\"\"))","v":""},{"$f":"mndot_rounding_1(IF(EH42=\"\",\"\",Mix!C56))","v":{"$error":"#VALUE!"}},{"$f":"IF(EI42=\"\",\"\",IF(OR(EI42>(EH42+$F$102),EI42<(EH42-$F$102)),\"Tolerance\",\"\"))","v":""},{"$f":"mndot_rounding_1(IF(EJ42=\"\",\"\",Mix!C57))","v":{"$error":"#VALUE!"}},{"$f":"IF(EK42=\"\",\"\",IF(OR(EK42>(EJ42+$F$102),EK42<(EJ42-$F$102)),\"Tolerance\",\"\"))","v":""},{"$f":"mndot_rounding_1(IF(EL42=\"\",\"\",Mix!C58))","v":{"$error":"#VALUE!"}},{"$f":"IF(EM42=\"\",\"\",IF(OR(EM42>(EL42+$F$102),EM42<(EL42-$F$102)),\"Tolerance\",\"\"))","v":""},null,"Design =",{"$f":"MDR!D60","v":""},"Mov. Avg.",{"$f":"mndot_rounding_1(IF(ER42=\"\",\"\",Mix!C59))","v":{"$error":"#VALUE!"}},{"$f":"IF(ES42=\"\",\"\",IF(OR(ES42>(ER42+$F$102),ES42<(ER42-$F$102)),\"Tolerance\",\"\"))","v":""},{"$f":"mndot_rounding_1(IF(ET42=\"\",\"\",Mix!C60))","v":{"$error":"#VALUE!"}},{"$f":"IF(EU42=\"\",\"\",IF(OR(EU42>(ET42+$F$102),EU42<(ET42-$F$102)),\"Tolerance\",\"\"))","v":""},{"$f":"mndot_rounding_1(IF(EV42=\"\",\"\",Mix!C61))","v":{"$error":"#VALUE!"}},{"$f":"IF(EW42=\"\",\"\",IF(OR(EW42>(EV42+$F$102),EW42<(EV42-$F$102)),\"Tolerance\",\"\"))","v":""},{"$f":"mndot_rounding_1(IF(EX42=\"\",\"\",Mix!C62))","v":{"$error":"#VALUE!"}},{"$f":"IF(EY42=\"\",\"\",IF(OR(EY42>(EX42+$F$102),EY42<(EX42-$F$102)),\"Tolerance\",\"\"))","v":""},null,"Design =",{"$f":"MDR!D64","v":""},"Mov. Avg.",{"$f":"mndot_rounding_1(IF(FD42=\"\",\"\",Mix!C63))","v":{"$error":"#VALUE!"}},{"$f":"IF(FE42=\"\",\"\",IF(OR(FE42>(FD42+$F$102),FE42<(FD42-$F$102)),\"Tolerance\",\"\"))","v":""},{"$f":"mndot_rounding_1(IF(FF42=\"\",\"\",Mix!C64))","v":{"$error":"#VALUE!"}},{"$f":"IF(FG42=\"\",\"\",IF(OR(FG42>(FF42+$F$102),FG42<(FF42-$F$102)),\"Tolerance\",\"\"))","v":""},{"$f":"mndot_rounding_1(IF(FH42=\"\",\"\",Mix!C65))","v":{"$error":"#VALUE!"}},{"$f":"IF(FI42=\"\",\"\",IF(OR(FI42>(FH42+$F$102),FI42<(FH42-$F$102)),\"Tolerance\",\"\"))","v":""},{"$f":"mndot_rounding_1(IF(FJ42=\"\",\"\",Mix!C66))","v":{"$error":"#VALUE!"}},{"$f":"IF(FK42=\"\",\"\",IF(OR(FK42>(FJ42+$F$102),FK42<(FJ42-$F$102)),\"Tolerance\",\"\"))","v":""},null,"Design =",{"$f":"MDR!D68","v":""},"Mov. Avg.",{"$f":"mndot_rounding_1(IF(FP42=\"\",\"\",Mix!C67))","v":{"$error":"#VALUE!"}},{"$f":"IF(FQ42=\"\",\"\",IF(OR(FQ42>(FP42+$F$102),FQ42<(FP42-$F$102)),\"Tolerance\",\"\"))","v":""},{"$f":"mndot_rounding_1(IF(FR42=\"\",\"\",Mix!C68))","v":{"$error":"#VALUE!"}},{"$f":"IF(FS42=\"\",\"\",IF(OR(FS42>(FR42+$F$102),FS42<(FR42-$F$102)),\"Tolerance\",\"\"))","v":""},{"$f":"mndot_rounding_1(IF(FT42=\"\",\"\",Mix!C69))","v":{"$error":"#VALUE!"}},{"$f":"IF(FU42=\"\",\"\",IF(OR(FU42>(FT42+$F$102),FU42<(FT42-$F$102)),\"Tolerance\",\"\"))","v":""},{"$f":"mndot_rounding_1(IF(FV42=\"\",\"\",Mix!C70))","v":{"$error":"#VALUE!"}},{"$f":"IF(FW42=\"\",\"\",IF(OR(FW42>(FV42+$F$102),FW42<(FV42-$F$102)),\"Tolerance\",\"\"))","v":""},null,"Design =",{"$f":"MDR!D72","v":""},"Mov. Avg.",{"$f":"mndot_rounding_1(IF(GB42=\"\",\"\",Mix!C71))","v":{"$error":"#VALUE!"}},{"$f":"IF(GC42=\"\",\"\",IF(OR(GC42>(GB42+$F$102),GC42<(GB42-$F$102)),\"Tolerance\",\"\"))","v":""},{"$f":"mndot_rounding_1(IF(GD42=\"\",\"\",Mix!C72))","v":{"$error":"#VALUE!"}},{"$f":"IF(GE42=\"\",\"\",IF(OR(GE42>(GD42+$F$102),GE42<(GD42-$F$102)),\"Tolerance\",\"\"))","v":""},{"$f":"mndot_rounding_1(IF(GF42=\"\",\"\",Mix!C73))","v":{"$error":"#VALUE!"}},{"$f":"IF(GG42=\"\",\"\",IF(OR(GG42>(GF42+$F$102),GG42<(GF42-$F$102)),\"Tolerance\",\"\"))","v":""},{"$f":"mndot_rounding_1(IF(GH42=\"\",\"\",Mix!C74))","v":{"$error":"#VALUE!"}},{"$f":"IF(GI42=\"\",\"\",IF(OR(GI42>(GH42+$F$102),GI42<(GH42-$F$102)),\"Tolerance\",\"\"))","v":""},null,"Design =",{"$f":"MDR!D76","v":""},"Mov. Avg.",{"$f":"mndot_rounding_1(IF(GN42=\"\",\"\",Mix!C75))","v":{"$error":"#VALUE!"}},{"$f":"IF(GO42=\"\",\"\",IF(OR(GO42>(GN42+$F$102),GO42<(GN42-$F$102)),\"Tolerance\",\"\"))","v":""},{"$f":"mndot_rounding_1(IF(GP42=\"\",\"\",Mix!C76))","v":{"$error":"#VALUE!"}},{"$f":"IF(GQ42=\"\",\"\",IF(OR(GQ42>(GP42+$F$102),GQ42<(GP42-$F$102)),\"Tolerance\",\"\"))","v":""},{"$f":"mndot_rounding_1(IF(GR42=\"\",\"\",Mix!C77))","v":{"$error":"#VALUE!"}},{"$f":"IF(GS42=\"\",\"\",IF(OR(GS42>(GR42+$F$102),GS42<(GR42-$F$102)),\"Tolerance\",\"\"))","v":""},{"$f":"mndot_rounding_1(IF(GT42=\"\",\"\",Mix!C78))","v":{"$error":"#VALUE!"}},{"$f":"IF(GU42=\"\",\"\",IF(OR(GU42>(GT42+$F$102),GU42<(GT42-$F$102)),\"Tolerance\",\"\"))","v":""},null,"Design =",{"$f":"MDR!D80","v":""},"Mov. Avg.",{"$f":"mndot_rounding_1(IF(GZ42=\"\",\"\",Mix!C79))","v":{"$error":"#VALUE!"}},{"$f":"IF(HA42=\"\",\"\",IF(OR(HA42>(GZ42+$F$102),HA42<(GZ42-$F$102)),\"Tolerance\",\"\"))","v":""},{"$f":"mndot_rounding_1(IF(HB42=\"\",\"\",Mix!C80))","v":{"$error":"#VALUE!"}},{"$f":"IF(HC42=\"\",\"\",IF(OR(HC42>(HB42+$F$102),HC42<(HB42-$F$102)),\"Tolerance\",\"\"))","v":""},{"$f":"mndot_rounding_1(IF(HD42=\"\",\"\",Mix!C81))","v":{"$error":"#VALUE!"}},{"$f":"IF(HE42=\"\",\"\",IF(OR(HE42>(HD42+$F$102),HE42<(HD42-$F$102)),\"Tolerance\",\"\"))","v":""},{"$f":"mndot_rounding_1(IF(HF42=\"\",\"\",Mix!C82))","v":{"$error":"#VALUE!"}},{"$f":"IF(HG42=\"\",\"\",IF(OR(HG42>(HF42+$F$102),HG42<(HF42-$F$102)),\"Tolerance\",\"\"))","v":""},null,"Design =",{"$f":"MDR!D84","v":""},"Mov. Avg.",{"$f":"mndot_rounding_1(IF(HL42=\"\",\"\",Mix!C83))","v":{"$error":"#VALUE!"}},{"$f":"IF(HM42=\"\",\"\",IF(OR(HM42>(HL42+$F$102),HM42<(HL42-$F$102)),\"Tolerance\",\"\"))","v":""},{"$f":"mndot_rounding_1(IF(HN42=\"\",\"\",Mix!C84))","v":{"$error":"#VALUE!"}},{"$f":"IF(HO42=\"\",\"\",IF(OR(HO42>(HN42+$F$102),HO42<(HN42-$F$102)),\"Tolerance\",\"\"))","v":""},{"$f":"mndot_rounding_1(IF(HP42=\"\",\"\",Mix!C85))","v":{"$error":"#VALUE!"}},{"$f":"IF(HQ42=\"\",\"\",IF(OR(HQ42>(HP42+$F$102),HQ42<(HP42-$F$102)),\"Tolerance\",\"\"))","v":""},{"$f":"mndot_rounding_1(IF(HR42=\"\",\"\",Mix!C86))","v":{"$error":"#VALUE!"}},{"$f":"IF(HS42=\"\",\"\",IF(OR(HS42>(HR42+$F$102),HS42<(HR42-$F$102)),\"Tolerance\",\"\"))","v":""},null,"Design =",{"$f":"MDR!D88","v":""},"Mov. Avg.",{"$f":"mndot_rounding_1(IF(HX42=\"\",\"\",Mix!C87))","v":{"$error":"#VALUE!"}},{"$f":"IF(HY42=\"\",\"\",IF(OR(HY42>(HX42+$F$102),HY42<(HX42-$F$102)),\"Tolerance\",\"\"))","v":""},{"$f":"mndot_rounding_1(IF(HZ42=\"\",\"\",Mix!C88))","v":{"$error":"#VALUE!"}},{"$f":"IF(IA42=\"\",\"\",IF(OR(IA42>(HZ42+$F$102),IA42<(HZ42-$F$102)),\"Tolerance\",\"\"))","v":""},{"$f":"mndot_rounding_1(IF(IB42=\"\",\"\",Mix!C89))","v":{"$error":"#VALUE!"}},{"$f":"IF(IC42=\"\",\"\",IF(OR(IC42>(IB42+$F$102),IC42<(IB42-$F$102)),\"Tolerance\",\"\"))","v":""},{"$f":"mndot_rounding_1(IF(ID42=\"\",\"\",Mix!C90))","v":{"$error":"#VALUE!"}},{"$f":"IF(IE42=\"\",\"\",IF(OR(IE42>(ID42+$F$102),IE42<(ID42-$F$102)),\"Tolerance\",\"\"))","v":""},null,"Design =",{"$f":"MDR!D92","v":""},"Mov. Avg.",{"$f":"mndot_rounding_1(IF(IJ42=\"\",\"\",Mix!C91))","v":{"$error":"#VALUE!"}},{"$f":"IF(IK42=\"\",\"\",IF(OR(IK42>(IJ42+$F$102),IK42<(IJ42-$F$102)),\"Tolerance\",\"\"))","v":""},{"$f":"mndot_rounding_1(IF(IL42=\"\",\"\",Mix!C92))","v":{"$error":"#VALUE!"}},{"$f":"IF(IM42=\"\",\"\",IF(OR(IM42>(IL42+$F$102),IM42<(IL42-$F$102)),\"Tolerance\",\"\"))","v":""},{"$f":"mndot_rounding_1(IF(IN42=\"\",\"\",Mix!C93))","v":{"$error":"#VALUE!"}},{"$f":"IF(IO42=\"\",\"\",IF(OR(IO42>(IN42+$F$102),IO42<(IN42-$F$102)),\"Tolerance\",\"\"))","v":""},{"$f":"mndot_rounding_1(IF(IP42=\"\",\"\",Mix!C94))","v":{"$error":"#VALUE!"}},{"$f":"IF(IQ42=\"\",\"\",IF(OR(IQ42>(IP42+$F$102),IQ42<(IP42-$F$102)),\"Tolerance\",\"\"))","v":""},null,null,0,"Agency AFT Substituted"]
[null,null,"Calc. %AC",{"$f":"IF(D42=\"\",\"\",IF(E42=\"\",D42,IF(OR(E42>(D42+$F$102),E42<(D42-$F$102)),E42,D42)))","v":""},{"$f":"IF(E43=\"\",\"\",IF(OR(E42>(D42+$F$102),E42<(D42-$F$102)),\"Agncy Repl.\",\"\"))","v":""},{"$f":"IF(F42=\"\",\"\",IF(G42=\"\",F42,IF(OR(G42>(F42+$F$102),G42<(F42-$F$102)),G42,F42)))","v":""},{"$f":"IF(G43=\"\",\"\",IF(OR(G42>(F42+$F$102),G42<(F42-$F$102)),\"Agncy Repl.\",\"\"))","v":""},{"$f":"IF(H42=\"\",\"\",IF(I42=\"\",H42,IF(OR(I42>(H42+$F$102),I42<(H42-$F$102)),I42,H42)))","v":""},{"$f":"IF(I43=\"\",\"\",IF(OR(I42>(H42+$F$102),I42<(H42-$F$102)),\"Agncy Repl.\",\"\"))","v":""},{"$f":"IF(J42=\"\",\"\",IF(K42=\"\",J42,IF(OR(K42>(J42+$F$102),K42<(J42-$F$102)),K42,J42)))","v":""},{"$f":"IF(K43=\"\",\"\",IF(OR(K42>(J42+$F$102),K42<(J42-$F$102)),\"Agncy Repl.\",\"\"))","v":""},null,null,null,"Calc. %AC",{"$f":"IF(P42=\"\",\"\",IF(Q42=\"\",P42,IF(OR(Q42>(P42+$F$102),Q42<(P42-$F$102)),Q42,P42)))","v":""},{"$f":"IF(Q43=\"\",\"\",IF(OR(Q42>(P42+$F$102),Q42<(P42-$F$102)),\"Agncy Repl.\",\"\"))","v":""},{"$f":"IF(R42=\"\",\"\",IF(S42=\"\",R42,IF(OR(S42>(R42+$F$102),S42<(R42-$F$102)),S42,R42)))","v":""},{"$f":"IF(S43=\"\",\"\",IF(OR(S42>(R42+$F$102),S42<(R42-$F$102)),\"Agncy Repl.\",\"\"))","v":""},{"$f":"IF(T42=\"\",\"\",IF(U42=\"\",T42,IF(OR(U42>(T42+$F$102),U42<(T42-$F$102)),U42,T42)))","v":""},{"$f":"IF(U43=\"\",\"\",IF(OR(U42>(T42+$F$102),U42<(T42-$F$102)),\"Agncy Repl.\",\"\"))","v":""},{"$f":"IF(V42=\"\",\"\",IF(W42=\"\",V42,IF(OR(W42>(V42+$F$102),W42<(V42-$F$102)),W42,V42)))","v":""},{"$f":"IF(W43=\"\",\"\",IF(OR(W42>(V42+$F$102),W42<(V42-$F$102)),\"Agncy Repl.\",\"\"))","v":""},null,null,null,"Calc. %AC",{"$f":"IF(AB42=\"\",\"\",IF(AC42=\"\",AB42,IF(OR(AC42>(AB42+$F$102),AC42<(AB42-$F$102)),AC42,AB42)))","v":""},{"$f":"IF(AC43=\"\",\"\",IF(OR(AC42>(AB42+$F$102),AC42<(AB42-$F$102)),\"Agncy Repl.\",\"\"))","v":""},{"$f":"IF(AD42=\"\",\"\",IF(AE42=\"\",AD42,IF(OR(AE42>(AD42+$F$102),AE42<(AD42-$F$102)),AE42,AD42)))","v":""},{"$f":"IF(AE43=\"\",\"\",IF(OR(AE42>(AD42+$F$102),AE42<(AD42-$F$102)),\"Agncy Repl.\",\"\"))","v":""},{"$f":"IF(AF42=\"\",\"\",IF(AG42=\"\",AF42,IF(OR(AG42>(AF42+$F$102),AG42<(AF42-$F$102)),AG42,AF42)))","v":""},{"$f":"IF(AG43=\"\",\"\",IF(OR(AG42>(AF42+$F$102),AG42<(AF42-$F$102)),\"Agncy Repl.\",\"\"))","v":""},{"$f":"IF(AH42=\"\",\"\",IF(AI42=\"\",AH42,IF(OR(AI42>(AH42+$F$102),AI42<(AH42-$F$102)),AI42,AH42)))","v":""},{"$f":"IF(AI43=\"\",\"\",IF(OR(AI42>(AH42+$F$102),AI42<(AH42-$F$102)),\"Agncy Repl.\",\"\"))","v":""},null,null,null,"Calc. %AC",{"$f":"IF(AN42=\"\",\"\",IF(AO42=\"\",AN42,IF(OR(AO42>(AN42+$F$102),AO42<(AN42-$F$102)),AO42,AN42)))","v":""},{"$f":"IF(AO43=\"\",\"\",IF(OR(AO42>(AN42+$F$102),AO42<(AN42-$F$102)),\"Agncy Repl.\",\"\"))","v":""},{"$f":"IF(AP42=\"\",\"\",IF(AQ42=\"\",AP42,IF(OR(AQ42>(AP42+$F$102),AQ42<(AP42-$F$102)),AQ42,AP42)))","v":""},{"$f":"IF(AQ43=\"\",\"\",IF(OR(AQ42>(AP42+$F$102),AQ42<(AP42-$F$102)),\"Agncy Repl.\",\"\"))","v":""},{"$f":"IF(AR42=\"\",\"\",IF(AS42=\"\",AR42,IF(OR(AS42>(AR42+$F$102),AS42<(AR42-$F$102)),AS42,AR42)))","v":""},{"$f":"IF(AS43=\"\",\"\",IF(OR(AS42>(AR42+$F$102),AS42<(AR42-$F$102)),\"Agncy Repl.\",\"\"))","v":""},{"$f":"IF(AT42=\"\",\"\",IF(AU42=\"\",AT42,IF(OR(AU42>(AT42+$F$102),AU42<(AT42-$F$102)),AU42,AT42)))","v":""},{"$f":"IF(AU43=\"\",\"\",IF(OR(AU42>(AT42+$F$102),AU42<(AT42-$F$102)),\"Agncy Repl.\",\"\"))","v":""},null,null,null,"Calc. %AC",{"$f":"IF(AZ42=\"\",\"\",IF(BA42=\"\",AZ42,IF(OR(BA42>(AZ42+$F$102),BA42<(AZ42-$F$102)),BA42,AZ42)))","v":""},{"$f":"IF(BA43=\"\",\"\",IF(OR(BA42>(AZ42+$F$102),BA42<(AZ42-$F$102)),\"Agncy Repl.\",\"\"))","v":""},{"$f":"IF(BB42=\"\",\"\",IF(BC42=\"\",BB42,IF(OR(BC42>(BB42+$F$102),BC42<(BB42-$F$102)),BC42,BB42)))","v":""},{"$f":"IF(BC43=\"\",\"\",IF(OR(BC42>(BB42+$F$102),BC42<(BB42-$F$102)),\"Agncy Repl.\",\"\"))","v":""},{"$f":"IF(BD42=\"\",\"\",IF(BE42=\"\",BD42,IF(OR(BE42>(BD42+$F$102),BE42<(BD42-$F$102)),BE42,BD42)))","v":""},{"$f":"IF(BE43=\"\",\"\",IF(OR(BE42>(BD42+$F$102),BE42<(BD42-$F$102)),\"Agncy Repl.\",\"\"))","v":""},{"$f":"IF(BF42=\"\",\"\",IF(BG42=\"\",BF42,IF(OR(BG42>(BF42+$F$102),BG42<(BF42-$F$102)),BG42,BF42)))","v":""},{"$f":"IF(BG43=\"\",\"\",IF(OR(BG42>(BF42+$F$102),BG42<(BF42-$F$102)),\"Agncy Repl.\",\"\"))","v":""},null,null,null,"Calc. %AC",{"$f":"IF(BL42=\"\",\"\",IF(BM42=\"\",BL42,IF(OR(BM42>(BL42+$F$102),BM42<(BL42-$F$102)),BM42,BL42)))","v":""},{"$f":"IF(BM43=\"\",\"\",IF(OR(BM42>(BL42+$F$102),BM42<(BL42-$F$102)),\"Agncy Repl.\",\"\"))","v":""},{"$f":"IF(BN42=\"\",\"\",IF(BO42=\"\",BN42,IF(OR(BO42>(BN42+$F$102),BO42<(BN42-$F$102)),BO42,BN42)))","v":""},{"$f":"IF(BO43=\"\",\"\",IF(OR(BO42>(BN42+$F$102),BO42<(BN42-$F$102)),\"Agncy Repl.\",\"\"))","v":""},{"$f":"IF(BP42=\"\",\"\",IF(BQ42=\"\",BP42,IF(OR(BQ42>(BP42+$F$102),BQ42<(BP42-$F$102)),BQ42,BP42)))","v":""},{"$f":"IF(BQ43=\"\",\"\",IF(OR(BQ42>(BP42+$F$102),BQ42<(BP42-$F$102)),\"Agncy Repl.\",\"\"))","v":""},{"$f":"IF(BR42=\"\",\"\",IF(BS42=\"\",BR42,IF(OR(BS42>(BR42+$F$102),BS42<(BR42-$F$102)),BS42,BR42)))","v":""},{"$f":"IF(BS43=\"\",\"\",IF(OR(BS42>(BR42+$F$102),BS42<(BR42-$F$102)),\"Agncy Repl.\",\"\"))","v":""},null,null,null,"Calc. %AC",{"$f":"IF(BX42=\"\",\"\",IF(BY42=\"\",BX42,IF(OR(BY42>(BX42+$F$102),BY42<(BX42-$F$102)),BY42,BX42)))","v":""},{"$f":"IF(BY43=\"\",\"\",IF(OR(BY42>(BX42+$F$102),BY42<(BX42-$F$102)),\"Agncy Repl.\",\"\"))","v":""},{"$f":"IF(BZ42=\"\",\"\",IF(CA42=\"\",BZ42,IF(OR(CA42>(BZ42+$F$102),CA42<(BZ42-$F$102)),CA42,BZ42)))","v":""},{"$f":"IF(CA43=\"\",\"\",IF(OR(CA42>(BZ42+$F$102),CA42<(BZ42-$F$102)),\"Agncy Repl.\",\"\"))","v":""},{"$f":"IF(CB42=\"\",\"\",IF(CC42=\"\",CB42,IF(OR(CC42>(CB42+$F$102),CC42<(CB42-$F$102)),CC42,CB42)))","v":""},{"$f":"IF(CC43=\"\",\"\",IF(OR(CC42>(CB42+$F$102),CC42<(CB42-$F$102)),\"Agncy Repl.\",\"\"))","v":""},{"$f":"IF(CD42=\"\",\"\",IF(CE42=\"\",CD42,IF(OR(CE42>(CD42+$F$102),CE42<(CD42-$F$102)),CE42,CD42)))","v":""},{"$f":"IF(CE43=\"\",\"\",IF(OR(CE42>(CD42+$F$102),CE42<(CD42-$F$102)),\"Agncy Repl.\",\"\"))","v":""},null,null,null,"Calc. %AC",{"$f":"IF(CJ42=\"\",\"\",IF(CK42=\"\",CJ42,IF(OR(CK42>(CJ42+$F$102),CK42<(CJ42-$F$102)),CK42,CJ42)))","v":""},{"$f":"IF(CK43=\"\",\"\",IF(OR(CK42>(CJ42+$F$102),CK42<(CJ42-$F$102)),\"Agncy Repl.\",\"\"))","v":""},{"$f":"IF(CL42=\"\",\"\",IF(CM42=\"\",CL42,IF(OR(CM42>(CL42+$F$102),CM42<(CL42-$F$102)),CM42,CL42)))","v":""},{"$f":"IF(CM43=\"\",\"\",IF(OR(CM42>(CL42+$F$102),CM42<(CL42-$F$102)),\"Agncy Repl.\",\"\"))","v":""},{"$f":"IF(CN42=\"\",\"\",IF(CO42=\"\",CN42,IF(OR(CO42>(CN42+$F$102),CO42<(CN42-$F$102)),CO42,CN42)))","v":""},{"$f":"IF(CO43=\"\",\"\",IF(OR(CO42>(CN42+$F$102),CO42<(CN42-$F$102)),\"Agncy Repl.\",\"\"))","v":""},{"$f":"IF(CP42=\"\",\"\",IF(CQ42=\"\",CP42,IF(OR(CQ42>(CP42+$F$102),CQ42<(CP42-$F$102)),CQ42,CP42)))","v":""},{"$f":"IF(CQ43=\"\",\"\",IF(OR(CQ42>(CP42+$F$102),CQ42<(CP42-$F$102)),\"Agncy Repl.\",\"\"))","v":""},null,null,null,"Calc. %AC",{"$f":"IF(CV42=\"\",\"\",IF(CW42=\"\",CV42,IF(OR(CW42>(CV42+$F$102),CW42<(CV42-$F$102)),CW42,CV42)))","v":""},{"$f":"IF(CW43=\"\",\"\",IF(OR(CW42>(CV42+$F$102),CW42<(CV42-$F$102)),\"Agncy Repl.\",\"\"))","v":""},{"$f":"IF(CX42=\"\",\"\",IF(CY42=\"\",CX42,IF(OR(CY42>(CX42+$F$102),CY42<(CX42-$F$102)),CY42,CX42)))","v":""},{"$f":"IF(CY43=\"\",\"\",IF(OR(CY42>(CX42+$F$102),CY42<(CX42-$F$102)),\"Agncy Repl.\",\"\"))","v":""},{"$f":"IF(CZ42=\"\",\"\",IF(DA42=\"\",CZ42,IF(OR(DA42>(CZ42+$F$102),DA42<(CZ42-$F$102)),DA42,CZ42)))","v":""},{"$f":"IF(DA43=\"\",\"\",IF(OR(DA42>(CZ42+$F$102),DA42<(CZ42-$F$102)),\"Agncy Repl.\",\"\"))","v":""},{"$f":"IF(DB42=\"\",\"\",IF(DC42=\"\",DB42,IF(OR(DC42>(DB42+$F$102),DC42<(DB42-$F$102)),DC42,DB42)))","v":""},{"$f":"IF(DC43=\"\",\"\",IF(OR(DC42>(DB42+$F$102),DC42<(DB42-$F$102)),\"Agncy Repl.\",\"\"))","v":""},null,null,null,"Calc. %AC",{"$f":"IF(DH42=\"\",\"\",IF(DI42=\"\",DH42,IF(OR(DI42>(DH42+$F$102),DI42<(DH42-$F$102)),DI42,DH42)))","v":""},{"$f":"IF(DI43=\"\",\"\",IF(OR(DI42>(DH42+$F$102),DI42<(DH42-$F$102)),\"Agncy Repl.\",\"\"))","v":""},{"$f":"IF(DJ42=\"\",\"\",IF(DK42=\"\",DJ42,IF(OR(DK42>(DJ42+$F$102),DK42<(DJ42-$F$102)),DK42,DJ42)))","v":""},{"$f":"IF(DK43=\"\",\"\",IF(OR(DK42>(DJ42+$F$102),DK42<(DJ42-$F$102)),\"Agncy Repl.\",\"\"))","v":""},{"$f":"IF(DL42=\"\",\"\",IF(DM42=\"\",DL42,IF(OR(DM42>(DL42+$F$102),DM42<(DL42-$F$102)),DM42,DL42)))","v":""},{"$f":"IF(DM43=\"\",\"\",IF(OR(DM42>(DL42+$F$102),DM42<(DL42-$F$102)),\"Agncy Repl.\",\"\"))","v":""},{"$f":"IF(DN42=\"\",\"\",IF(DO42=\"\",DN42,IF(OR(DO42>(DN42+$F$102),DO42<(DN42-$F$102)),DO42,DN42)))","v":""},{"$f":"IF(DO43=\"\",\"\",IF(OR(DO42>(DN42+$F$102),DO42<(DN42-$F$102)),\"Agncy Repl.\",\"\"))","v":""},null,null,null,"Calc. %AC",{"$f":"IF(DT42=\"\",\"\",IF(DU42=\"\",DT42,IF(OR(DU42>(DT42+$F$102),DU42<(DT42-$F$102)),DU42,DT42)))","v":""},{"$f":"IF(DU43=\"\",\"\",IF(OR(DU42>(DT42+$F$102),DU42<(DT42-$F$102)),\"Agncy Repl.\",\"\"))","v":""},{"$f":"IF(DV42=\"\",\"\",IF(DW42=\"\",DV42,IF(OR(DW42>(DV42+$F$102),DW42<(DV42-$F$102)),DW42,DV42)))","v":""},{"$f":"IF(DW43=\"\",\"\",IF(OR(DW42>(DV42+$F$102),DW42<(DV42-$F$102)),\"Agncy Repl.\",\"\"))","v":""},{"$f":"IF(DX42=\"\",\"\",IF(DY42=\"\",DX42,IF(OR(DY42>(DX42+$F$102),DY42<(DX42-$F$102)),DY42,DX42)))","v":""},{"$f":"IF(DY43=\"\",\"\",IF(OR(DY42>(DX42+$F$102),DY42<(DX42-$F$102)),\"Agncy Repl.\",\"\"))","v":""},{"$f":"IF(DZ42=\"\",\"\",IF(EA42=\"\",DZ42,IF(OR(EA42>(DZ42+$F$102),EA42<(DZ42-$F$102)),EA42,DZ42)))","v":""},{"$f":"IF(EA43=\"\",\"\",IF(OR(EA42>(DZ42+$F$102),EA42<(DZ42-$F$102)),\"Agncy Repl.\",\"\"))","v":""},null,null,null,"Calc. %AC",{"$f":"IF(EF42=\"\",\"\",IF(EG42=\"\",EF42,IF(OR(EG42>(EF42+$F$102),EG42<(EF42-$F$102)),EG42,EF42)))","v":""},{"$f":"IF(EG43=\"\",\"\",IF(OR(EG42>(EF42+$F$102),EG42<(EF42-$F$102)),\"Agncy Repl.\",\"\"))","v":""},{"$f":"IF(EH42=\"\",\"\",IF(EI42=\"\",EH42,IF(OR(EI42>(EH42+$F$102),EI42<(EH42-$F$102)),EI42,EH42)))","v":""},{"$f":"IF(EI43=\"\",\"\",IF(OR(EI42>(EH42+$F$102),EI42<(EH42-$F$102)),\"Agncy Repl.\",\"\"))","v":""},{"$f":"IF(EJ42=\"\",\"\",IF(EK42=\"\",EJ42,IF(OR(EK42>(EJ42+$F$102),EK42<(EJ42-$F$102)),EK42,EJ42)))","v":""},{"$f":"IF(EK43=\"\",\"\",IF(OR(EK42>(EJ42+$F$102),EK42<(EJ42-$F$102)),\"Agncy Repl.\",\"\"))","v":""},{"$f":"IF(EL42=\"\",\"\",IF(EM42=\"\",EL42,IF(OR(EM42>(EL42+$F$102),EM42<(EL42-$F$102)),EM42,EL42)))","v":""},{"$f":"IF(EM43=\"\",\"\",IF(OR(EM42>(EL42+$F$102),EM42<(EL42-$F$102)),\"Agncy Repl.\",\"\"))","v":""},null,null,null,"Calc. %AC",{"$f":"IF(ER42=\"\",\"\",IF(ES42=\"\",ER42,IF(OR(ES42>(ER42+$F$102),ES42<(ER42-$F$102)),ES42,ER42)))","v":""},{"$f":"IF(ES43=\"\",\"\",IF(OR(ES42>(ER42+$F$102),ES42<(ER42-$F$102)),\"Agncy Repl.\",\"\"))","v":""},{"$f":"IF(ET42=\"\",\"\",IF(EU42=\"\",ET42,IF(OR(EU42>(ET42+$F$102),EU42<(ET42-$F$102)),EU42,ET42)))","v":""},{"$f":"IF(EU43=\"\",\"\",IF(OR(EU42>(ET42+$F$102),EU42<(ET42-$F$102)),\"Agncy Repl.\",\"\"))","v":""},{"$f":"IF(EV42=\"\",\"\",IF(EW42=\"\",EV42,IF(OR(EW42>(EV42+$F$102),EW42<(EV42-$F$102)),EW42,EV42)))","v":""},{"$f":"IF(EW43=\"\",\"\",IF(OR(EW42>(EV42+$F$102),EW42<(EV42-$F$102)),\"Agncy Repl.\",\"\"))","v":""},{"$f":"IF(EX42=\"\",\"\",IF(EY42=\"\",EX42,IF(OR(EY42>(EX42+$F$102),EY42<(EX42-$F$102)),EY42,EX42)))","v":""},{"$f":"IF(EY43=\"\",\"\",IF(OR(EY42>(EX42+$F$102),EY42<(EX42-$F$102)),\"Agncy Repl.\",\"\"))","v":""},null,null,null,"Calc. %AC",{"$f":"IF(FD42=\"\",\"\",IF(FE42=\"\",FD42,IF(OR(FE42>(FD42+$F$102),FE42<(FD42-$F$102)),FE42,FD42)))","v":""},{"$f":"IF(FE43=\"\",\"\",IF(OR(FE42>(FD42+$F$102),FE42<(FD42-$F$102)),\"Agncy Repl.\",\"\"))","v":""},{"$f":"IF(FF42=\"\",\"\",IF(FG42=\"\",FF42,IF(OR(FG42>(FF42+$F$102),FG42<(FF42-$F$102)),FG42,FF42)))","v":""},{"$f":"IF(FG43=\"\",\"\",IF(OR(FG42>(FF42+$F$102),FG42<(FF42-$F$102)),\"Agncy Repl.\",\"\"))","v":""},{"$f":"IF(FH42=\"\",\"\",IF(FI42=\"\",FH42,IF(OR(FI42>(FH42+$F$102),FI42<(FH42-$F$102)),FI42,FH42)))","v":""},{"$f":"IF(FI43=\"\",\"\",IF(OR(FI42>(FH42+$F$102),FI42<(FH42-$F$102)),\"Agncy Repl.\",\"\"))","v":""},{"$f":"IF(FJ42=\"\",\"\",IF(FK42=\"\",FJ42,IF(OR(FK42>(FJ42+$F$102),FK42<(FJ42-$F$102)),FK42,FJ42)))","v":""},{"$f":"IF(FK43=\"\",\"\",IF(OR(FK42>(FJ42+$F$102),FK42<(FJ42-$F$102)),\"Agncy Repl.\",\"\"))","v":""},null,null,null,"Calc. %AC",{"$f":"IF(FP42=\"\",\"\",IF(FQ42=\"\",FP42,IF(OR(FQ42>(FP42+$F$102),FQ42<(FP42-$F$102)),FQ42,FP42)))","v":""},{"$f":"IF(FQ43=\"\",\"\",IF(OR(FQ42>(FP42+$F$102),FQ42<(FP42-$F$102)),\"Agncy Repl.\",\"\"))","v":""},{"$f":"IF(FR42=\"\",\"\",IF(FS42=\"\",FR42,IF(OR(FS42>(FR42+$F$102),FS42<(FR42-$F$102)),FS42,FR42)))","v":""},{"$f":"IF(FS43=\"\",\"\",IF(OR(FS42>(FR42+$F$102),FS42<(FR42-$F$102)),\"Agncy Repl.\",\"\"))","v":""},{"$f":"IF(FT42=\"\",\"\",IF(FU42=\"\",FT42,IF(OR(FU42>(FT42+$F$102),FU42<(FT42-$F$102)),FU42,FT42)))","v":""},{"$f":"IF(FU43=\"\",\"\",IF(OR(FU42>(FT42+$F$102),FU42<(FT42-$F$102)),\"Agncy Repl.\",\"\"))","v":""},{"$f":"IF(FV42=\"\",\"\",IF(FW42=\"\",FV42,IF(OR(FW42>(FV42+$F$102),FW42<(FV42-$F$102)),FW42,FV42)))","v":""},{"$f":"IF(FW43=\"\",\"\",IF(OR(FW42>(FV42+$F$102),FW42<(FV42-$F$102)),\"Agncy Repl.\",\"\"))","v":""},null,null,null,"Calc. %AC",{"$f":"IF(GB42=\"\",\"\",IF(GC42=\"\",GB42,IF(OR(GC42>(GB42+$F$102),GC42<(GB42-$F$102)),GC42,GB42)))","v":""},{"$f":"IF(GC43=\"\",\"\",IF(OR(GC42>(GB42+$F$102),GC42<(GB42-$F$102)),\"Agncy Repl.\",\"\"))","v":""},{"$f":"IF(GD42=\"\",\"\",IF(GE42=\"\",GD42,IF(OR(GE42>(GD42+$F$102),GE42<(GD42-$F$102)),GE42,GD42)))","v":""},{"$f":"IF(GE43=\"\",\"\",IF(OR(GE42>(GD42+$F$102),GE42<(GD42-$F$102)),\"Agncy Repl.\",\"\"))","v":""},{"$f":"IF(GF42=\"\",\"\",IF(GG42=\"\",GF42,IF(OR(GG42>(GF42+$F$102),GG42<(GF42-$F$102)),GG42,GF42)))","v":""},{"$f":"IF(GG43=\"\",\"\",IF(OR(GG42>(GF42+$F$102),GG42<(GF42-$F$102)),\"Agncy Repl.\",\"\"))","v":""},{"$f":"IF(GH42=\"\",\"\",IF(GI42=\"\",GH42,IF(OR(GI42>(GH42+$F$102),GI42<(GH42-$F$102)),GI42,GH42)))","v":""},{"$f":"IF(GI43=\"\",\"\",IF(OR(GI42>(GH42+$F$102),GI42<(GH42-$F$102)),\"Agncy Repl.\",\"\"))","v":""},null,null,null,"Calc. %AC",{"$f":"IF(GN42=\"\",\"\",IF(GO42=\"\",GN42,IF(OR(GO42>(GN42+$F$102),GO42<(GN42-$F$102)),GO42,GN42)))","v":""},{"$f":"IF(GO43=\"\",\"\",IF(OR(GO42>(GN42+$F$102),GO42<(GN42-$F$102)),\"Agncy Repl.\",\"\"))","v":""},{"$f":"IF(GP42=\"\",\"\",IF(GQ42=\"\",GP42,IF(OR(GQ42>(GP42+$F$102),GQ42<(GP42-$F$102)),GQ42,GP42)))","v":""},{"$f":"IF(GQ43=\"\",\"\",IF(OR(GQ42>(GP42+$F$102),GQ42<(GP42-$F$102)),\"Agncy Repl.\",\"\"))","v":""},{"$f":"IF(GR42=\"\",\"\",IF(GS42=\"\",GR42,IF(OR(GS42>(GR42+$F$102),GS42<(GR42-$F$102)),GS42,GR42)))","v":""},{"$f":"IF(GS43=\"\",\"\",IF(OR(GS42>(GR42+$F$102),GS42<(GR42-$F$102)),\"Agncy Repl.\",\"\"))","v":""},{"$f":"IF(GT42=\"\",\"\",IF(GU42=\"\",GT42,IF(OR(GU42>(GT42+$F$102),GU42<(GT42-$F$102)),GU42,GT42)))","v":""},{"$f":"IF(GU43=\"\",\"\",IF(OR(GU42>(GT42+$F$102),GU42<(GT42-$F$102)),\"Agncy Repl.\",\"\"))","v":""},null,null,null,"Calc. %AC",{"$f":"IF(GZ42=\"\",\"\",IF(HA42=\"\",GZ42,IF(OR(HA42>(GZ42+$F$102),HA42<(GZ42-$F$102)),HA42,GZ42)))","v":""},{"$f":"IF(HA43=\"\",\"\",IF(OR(HA42>(GZ42+$F$102),HA42<(GZ42-$F$102)),\"Agncy Repl.\",\"\"))","v":""},{"$f":"IF(HB42=\"\",\"\",IF(HC42=\"\",HB42,IF(OR(HC42>(HB42+$F$102),HC42<(HB42-$F$102)),HC42,HB42)))","v":""},{"$f":"IF(HC43=\"\",\"\",IF(OR(HC42>(HB42+$F$102),HC42<(HB42-$F$102)),\"Agncy Repl.\",\"\"))","v":""},{"$f":"IF(HD42=\"\",\"\",IF(HE42=\"\",HD42,IF(OR(HE42>(HD42+$F$102),HE42<(HD42-$F$102)),HE42,HD42)))","v":""},{"$f":"IF(HE43=\"\",\"\",IF(OR(HE42>(HD42+$F$102),HE42<(HD42-$F$102)),\"Agncy Repl.\",\"\"))","v":""},{"$f":"IF(HF42=\"\",\"\",IF(HG42=\"\",HF42,IF(OR(HG42>(HF42+$F$102),HG42<(HF42-$F$102)),HG42,HF42)))","v":""},{"$f":"IF(HG43=\"\",\"\",IF(OR(HG42>(HF42+$F$102),HG42<(HF42-$F$102)),\"Agncy Repl.\",\"\"))","v":""},null,null,null,"Calc. %AC",{"$f":"IF(HL42=\"\",\"\",IF(HM42=\"\",HL42,IF(OR(HM42>(HL42+$F$102),HM42<(HL42-$F$102)),HM42,HL42)))","v":""},{"$f":"IF(HM43=\"\",\"\",IF(OR(HM42>(HL42+$F$102),HM42<(HL42-$F$102)),\"Agncy Repl.\",\"\"))","v":""},{"$f":"IF(HN42=\"\",\"\",IF(HO42=\"\",HN42,IF(OR(HO42>(HN42+$F$102),HO42<(HN42-$F$102)),HO42,HN42)))","v":""},{"$f":"IF(HO43=\"\",\"\",IF(OR(HO42>(HN42+$F$102),HO42<(HN42-$F$102)),\"Agncy Repl.\",\"\"))","v":""},{"$f":"IF(HP42=\"\",\"\",IF(HQ42=\"\",HP42,IF(OR(HQ42>(HP42+$F$102),HQ42<(HP42-$F$102)),HQ42,HP42)))","v":""},{"$f":"IF(HQ43=\"\",\"\",IF(OR(HQ42>(HP42+$F$102),HQ42<(HP42-$F$102)),\"Agncy Repl.\",\"\"))","v":""},{"$f":"IF(HR42=\"\",\"\",IF(HS42=\"\",HR42,IF(OR(HS42>(HR42+$F$102),HS42<(HR42-$F$102)),HS42,HR42)))","v":""},{"$f":"IF(HS43=\"\",\"\",IF(OR(HS42>(HR42+$F$102),HS42<(HR42-$F$102)),\"Agncy Repl.\",\"\"))","v":""},null,null,null,"Calc. %AC",{"$f":"IF(HX42=\"\",\"\",IF(HY42=\"\",HX42,IF(OR(HY42>(HX42+$F$102),HY42<(HX42-$F$102)),HY42,HX42)))","v":""},{"$f":"IF(HY43=\"\",\"\",IF(OR(HY42>(HX42+$F$102),HY42<(HX42-$F$102)),\"Agncy Repl.\",\"\"))","v":""},{"$f":"IF(HZ42=\"\",\"\",IF(IA42=\"\",HZ42,IF(OR(IA42>(HZ42+$F$102),IA42<(HZ42-$F$102)),IA42,HZ42)))","v":""},{"$f":"IF(IA43=\"\",\"\",IF(OR(IA42>(HZ42+$F$102),IA42<(HZ42-$F$102)),\"Agncy Repl.\",\"\"))","v":""},{"$f":"IF(IB42=\"\",\"\",IF(IC42=\"\",IB42,IF(OR(IC42>(IB42+$F$102),IC42<(IB42-$F$102)),IC42,IB42)))","v":""},{"$f":"IF(IC43=\"\",\"\",IF(OR(IC42>(IB42+$F$102),IC42<(IB42-$F$102)),\"Agncy Repl.\",\"\"))","v":""},{"$f":"IF(ID42=\"\",\"\",IF(IE42=\"\",ID42,IF(OR(IE42>(ID42+$F$102),IE42<(ID42-$F$102)),IE42,ID42)))","v":""},{"$f":"IF(IE43=\"\",\"\",IF(OR(IE42>(ID42+$F$102),IE42<(ID42-$F$102)),\"Agncy Repl.\",\"\"))","v":""},null,null,null,"Calc. %AC",{"$f":"IF(IJ42=\"\",\"\",IF(IK42=\"\",IJ42,IF(OR(IK42>(IJ42+$F$102),IK42<(IJ42-$F$102)),IK42,IJ42)))","v":""},{"$f":"IF(IK43=\"\",\"\",IF(OR(IK42>(IJ42+$F$102),IK42<(IJ42-$F$102)),\"Agncy Repl.\",\"\"))","v":""},{"$f":"IF(IL42=\"\",\"\",IF(IM42=\"\",IL42,IF(OR(IM42>(IL42+$F$102),IM42<(IL42-$F$102)),IM42,IL42)))","v":""},{"$f":"IF(IM43=\"\",\"\",IF(OR(IM42>(IL42+$F$102),IM42<(IL42-$F$102)),\"Agncy Repl.\",\"\"))","v":""},{"$f":"IF(IN42=\"\",\"\",IF(IO42=\"\",IN42,IF(OR(IO42>(IN42+$F$102),IO42<(IN42-$F$102)),IO42,IN42)))","v":""},{"$f":"IF(IO43=\"\",\"\",IF(OR(IO42>(IN42+$F$102),IO42<(IN42-$F$102)),\"Agncy Repl.\",\"\"))","v":""},{"$f":"IF(IP42=\"\",\"\",IF(IQ42=\"\",IP42,IF(OR(IQ42>(IP42+$F$102),IQ42<(IP42-$F$102)),IQ42,IP42)))","v":""},{"$f":"IF(IQ43=\"\",\"\",IF(OR(IQ42>(IP42+$F$102),IQ42<(IP42-$F$102)),\"Agncy Repl.\",\"\"))","v":""}]
["Gmm - Max.SpG",null,"Individual",null,null,null,null,null,null,null,null,null,"Gmm - Max.SpG",null,"Individual",null,null,null,null,null,null,null,null,null,"Gmm - Max.SpG",null,"Individual",null,null,null,null,null,null,null,null,null,"Gmm - Max.SpG",null,"Individual",null,null,null,null,null,null,null,null,null,"Gmm - Max.SpG",null,"Individual",null,null,null,null,null,null,null,null,null,"Gmm - Max.SpG",null,"Individual",null,null,null,null,null,null,null,null,null,"Gmm - Max.SpG",null,"Individual",null,null,null,null,null,null,null,null,null,"Gmm - Max.SpG",null,"Individual",null,null,null,null,null,null,null,null,null,"Gmm - Max.SpG",null,"Individual",null,null,null,null,null,null,null,null,null,"Gmm - Max.SpG",null,"Individual",null,null,null,null,null,null,null,null,null,"Gmm - Max.SpG",null,"Individual",null,null,null,null,null,null,null,null,null,"Gmm - Max.SpG",null,"Individual",null,null,null,null,null,null,null,null,null,"Gmm - Max.SpG",null,"Individual",null,null,null,null,null,null,null,null,null,"Gmm - Max.SpG",null,"Individual",null,null,null,null,null,null,null,null,null,"Gmm - Max.SpG",null,"Individual",null,null,null,null,null,null,null,null,null,"Gmm - Max.SpG",null,"Individual",null,null,null,null,null,null,null,null,null,"Gmm - Max.SpG",null,"Individual",null,null,null,null,null,null,null,null,null,"Gmm - Max.SpG",null,"Individual",null,null,null,null,null,null,null,null,null,"Gmm - Max.SpG",null,"Individual",null,null,null,null,null,null,null,null,null,"Gmm - Max.SpG",null,"Individual",null,null,null,null,null,null,null,null,null,"Gmm - Max.SpG",null,"Individual",null,null,null,null,null,null,null,null,null,null,0,"Agency AFT Substituted"]
["( Rice Test )",null,"Mov. Avg.",null,{"$f":"IF(E45=\"\",\"\",IF(OR(E45>(D45+0.019),E45<(D45-0.019)),\"Tolerance\",\"\"))","v":""},null,{"$f":"IF(G45=\"\",\"\",IF(OR(G45>(F45+0.019),G45<(F45-0.019)),\"Tolerance\",\"\"))","v":""},null,{"$f":"IF(I45=\"\",\"\",IF(OR(I45>(H45+0.019),I45<(H45-0.019)),\"Tolerance\",\"\"))","v":""},{"$f":"IF(J45=\"\",\"\",Mix!E14)","v":""},{"$f":"IF(K45=\"\",\"\",IF(OR(K45>(J45+0.019),K45<(J45-0.019)),\"Tolerance\",\"\"))","v":""},null,"( Rice Test )",null,"Mov. Avg.",{"$f":"(IF(P45=\"\",\"\",Mix!E15))","v":""},{"$f":"IF(Q45=\"\",\"\",IF(OR(Q45>(P45+0.019),Q45<(P45-0.019)),\"Tolerance\",\"\"))","v":""},{"$f":"(IF(R45=\"\",\"\",Mix!E16))","v":""},{"$f":"IF(S45=\"\",\"\",IF(OR(S45>(R45+0.019),S45<(R45-0.019)),\"Tolerance\",\"\"))","v":""},{"$f":"(IF(T45=\"\",\"\",Mix!E17))","v":""},{"$f":"IF(U45=\"\",\"\",IF(OR(U45>(T45+0.019),U45<(T45-0.019)),\"Tolerance\",\"\"))","v":""},{"$f":"(IF(V45=\"\",\"\",Mix!E18))","v":""},{"$f":"IF(W45=\"\",\"\",IF(OR(W45>(V45+0.019),W45<(V45-0.019)),\"Tolerance\",\"\"))","v":""},null,"( Rice Test )",null,"Mov. Avg.",{"$f":"(IF(AB45=\"\",\"\",Mix!E19))","v":""},{"$f":"IF(AC45=\"\",\"\",IF(OR(AC45>(AB45+0.019),AC45<(AB45-0.019)),\"Tolerance\",\"\"))","v":""},{"$f":"(IF(AD45=\"\",\"\",Mix!E20))","v":""},{"$f":"IF(AE45=\"\",\"\",IF(OR(AE45>(AD45+0.019),AE45<(AD45-0.019)),\"Tolerance\",\"\"))","v":""},{"$f":"(IF(AF45=\"\",\"\",Mix!E21))","v":""},{"$f":"IF(AG45=\"\",\"\",IF(OR(AG45>(AF45+0.019),AG45<(AF45-0.019)),\"Tolerance\",\"\"))","v":""},{"$f":"(IF(AH45=\"\",\"\",Mix!E22))","v":""},{"$f":"IF(AI45=\"\",\"\",IF(OR(AI45>(AH45+0.019),AI45<(AH45-0.019)),\"Tolerance\",\"\"))","v":""},null,"( Rice Test )",null,"Mov. Avg.",{"$f":"(IF(AN45=\"\",\"\",Mix!E23))","v":""},{"$f":"IF(AO45=\"\",\"\",IF(OR(AO45>(AN45+0.019),AO45<(AN45-0.019)),\"Tolerance\",\"\"))","v":""},{"$f":"(IF(AP45=\"\",\"\",Mix!E24))","v":""},{"$f":"IF(AQ45=\"\",\"\",IF(OR(AQ45>(AP45+0.019),AQ45<(AP45-0.019)),\"Tolerance\",\"\"))","v":""},{"$f":"(IF(AR45=\"\",\"\",Mix!E25))","v":""},{"$f":"IF(AS45=\"\",\"\",IF(OR(AS45>(AR45+0.019),AS45<(AR45-0.019)),\"Tolerance\",\"\"))","v":""},{"$f":"(IF(AT45=\"\",\"\",Mix!E26))","v":""},{"$f":"IF(AU45=\"\",\"\",IF(OR(AU45>(AT45+0.019),AU45<(AT45-0.019)),\"Tolerance\",\"\"))","v":""},null,"( Rice Test )",null,"Mov. Avg.",{"$f":"(IF(AZ45=\"\",\"\",Mix!E27))","v":""},{"$f":"IF(BA45=\"\",\"\",IF(OR(BA45>(AZ45+0.019),BA45<(AZ45-0.019)),\"Tolerance\",\"\"))","v":""},{"$f":"(IF(BB45=\"\",\"\",Mix!E28))","v":""},{"$f":"IF(BC45=\"\",\"\",IF(OR(BC45>(BB45+0.019),BC45<(BB45-0.019)),\"Tolerance\",\"\"))","v":""},{"$f":"IF(BD45=\"\",\"\",Mix!E29)","v":""},{"$f":"IF(BE45=\"\",\"\",IF(OR(BE45>(BD45+0.019),BE45<(BD45-0.019)),\"Tolerance\",\"\"))","v":""},{"$f":"IF(BF45=\"\",\"\",Mix!E30)","v":""},{"$f":"IF(BG45=\"\",\"\",IF(OR(BG45>(BF45+0.019),BG45<(BF45-0.019)),\"Tolerance\",\"\"))","v":""},null,"( Rice Test )",null,"Mov. Avg.",{"$f":"IF(BL45=\"\",\"\",Mix!E31)","v":""},{"$f":"IF(BM45=\"\",\"\",IF(OR(BM45>(BL45+0.019),BM45<(BL45-0.019)),\"Tolerance\",\"\"))","v":""},{"$f":"IF(BN45=\"\",\"\",Mix!E32)","v":""},{"$f":"IF(BO45=\"\",\"\",IF(OR(BO45>(BN45+0.019),BO45<(BN45-0.019)),\"Tolerance\",\"\"))","v":""},{"$f":"IF(BP45=\"\",\"\",Mix!E33)","v":""},{"$f":"IF(BQ45=\"\",\"\",IF(OR(BQ45>(BP45+0.019),BQ45<(BP45-0.019)),\"Tolerance\",\"\"))","v":""},{"$f":"IF(BR45=\"\",\"\",Mix!E34)","v":""},{"$f":"IF(BS45=\"\",\"\",IF(OR(BS45>(BR45+0.019),BS45<(BR45-0.019)),\"Tolerance\",\"\"))","v":""},null,"( Rice Test )",null,"Mov. Avg.",{"$f":"IF(BX45=\"\",\"\",Mix!E35)","v":""},{"$f":"IF(BY45=\"\",\"\",IF(OR(BY45>(BX45+0.019),BY45<(BX45-0.019)),\"Tolerance\",\"\"))","v":""},{"$f":"IF(BZ45=\"\",\"\",Mix!E36)","v":""},{"$f":"IF(CA45=\"\",\"\",IF(OR(CA45>(BZ45+0.019),CA45<(BZ45-0.019)),\"Tolerance\",\"\"))","v":""},{"$f":"IF(CB45=\"\",\"\",Mix!E37)","v":""},{"$f":"IF(CC45=\"\",\"\",IF(OR(CC45>(CB45+0.019),CC45<(CB45-0.019)),\"Tolerance\",\"\"))","v":""},{"$f":"IF(CD45=\"\",\"\",Mix!E38)","v":""},{"$f":"IF(CE45=\"\",\"\",IF(OR(CE45>(CD45+0.019),CE45<(CD45-0.019)),\"Tolerance\",\"\"))","v":""},null,"( Rice Test )",null,"Mov. Avg.",{"$f":"IF(CJ45=\"\",\"\",Mix!E39)","v":""},{"$f":"IF(CK45=\"\",\"\",IF(OR(CK45>(CJ45+0.019),CK45<(CJ45-0.019)),\"Tolerance\",\"\"))","v":""},{"$f":"IF(CL45=\"\",\"\",Mix!E40)","v":""},{"$f":"IF(CM45=\"\",\"\",IF(OR(CM45>(CL45+0.019),CM45<(CL45-0.019)),\"Tolerance\",\"\"))","v":""},{"$f":"IF(CN45=\"\",\"\",Mix!E41)","v":""},{"$f":"IF(CO45=\"\",\"\",IF(OR(CO45>(CN45+0.019),CO45<(CN45-0.019)),\"Tolerance\",\"\"))","v":""},{"$f":"IF(CP45=\"\",\"\",Mix!E42)","v":""},{"$f":"IF(CQ45=\"\",\"\",IF(OR(CQ45>(CP45+0.019),CQ45<(CP45-0.019)),\"Tolerance\",\"\"))","v":""},null,"( Rice Test )",null,"Mov. Avg.",{"$f":"IF(CV45=\"\",\"\",Mix!E43)","v":""},{"$f":"IF(CW45=\"\",\"\",IF(OR(CW45>(CV45+0.019),CW45<(CV45-0.019)),\"Tolerance\",\"\"))","v":""},{"$f":"IF(CX45=\"\",\"\",Mix!E44)","v":""},{"$f":"IF(CY45=\"\",\"\",IF(OR(CY45>(CX45+0.019),CY45<(CX45-0.019)),\"Tolerance\",\"\"))","v":""},{"$f":"IF(CZ45=\"\",\"\",Mix!E45)","v":""},{"$f":"IF(DA45=\"\",\"\",IF(OR(DA45>(CZ45+0.019),DA45<(CZ45-0.019)),\"Tolerance\",\"\"))","v":""},{"$f":"IF(DB45=\"\",\"\",Mix!E46)","v":""},{"$f":"IF(DC45=\"\",\"\",IF(OR(DC45>(DB45+0.019),DC45<(DB45-0.019)),\"Tolerance\",\"\"))","v":""},null,"( Rice Test )",null,"Mov. Avg.",{"$f":"IF(DH45=\"\",\"\",Mix!E47)","v":""},{"$f":"IF(DI45=\"\",\"\",IF(OR(DI45>(DH45+0.019),DI45<(DH45-0.019)),\"Tolerance\",\"\"))","v":""},{"$f":"IF(DJ45=\"\",\"\",Mix!E48)","v":""},{"$f":"IF(DK45=\"\",\"\",IF(OR(DK45>(DJ45+0.019),DK45<(DJ45-0.019)),\"Tolerance\",\"\"))","v":""},{"$f":"IF(DL45=\"\",\"\",Mix!E49)","v":""},{"$f":"IF(DM45=\"\",\"\",IF(OR(DM45>(DL45+0.019),DM45<(DL45-0.019)),\"Tolerance\",\"\"))","v":""},{"$f":"IF(DN45=\"\",\"\",Mix!E50)","v":""},{"$f":"IF(DO45=\"\",\"\",IF(OR(DO45>(DN45+0.019),DO45<(DN45-0.019)),\"Tolerance\",\"\"))","v":""},null,"( Rice Test )",null,"Mov. Avg.",{"$f":"IF(DT45=\"\",\"\",Mix!E51)","v":""},{"$f":"IF(DU45=\"\",\"\",IF(OR(DU45>(DT45+0.019),DU45<(DT45-0.019)),\"Tolerance\",\"\"))","v":""},{"$f":"IF(DV45=\"\",\"\",Mix!E52)","v":""},{"$f":"IF(DW45=\"\",\"\",IF(OR(DW45>(DV45+0.019),DW45<(DV45-0.019)),\"Tolerance\",\"\"))","v":""},{"$f":"IF(DX45=\"\",\"\",Mix!E53)","v":""},{"$f":"IF(DY45=\"\",\"\",IF(OR(DY45>(DX45+0.019),DY45<(DX45-0.019)),\"Tolerance\",\"\"))","v":""},{"$f":"IF(DZ45=\"\",\"\",Mix!E54)","v":""},{"$f":"IF(EA45=\"\",\"\",IF(OR(EA45>(DZ45+0.019),EA45<(DZ45-0.019)),\"Tolerance\",\"\"))","v":""},null,"( Rice Test )",null,"Mov. Avg.",{"$f":"IF(EF45=\"\",\"\",Mix!E55)","v":""},{"$f":"IF(EG45=\"\",\"\",IF(OR(EG45>(EF45+0.019),EG45<(EF45-0.019)),\"Tolerance\",\"\"))","v":""},{"$f":"IF(EH45=\"\",\"\",Mix!E56)","v":""},{"$f":"IF(EI45=\"\",\"\",IF(OR(EI45>(EH45+0.019),EI45<(EH45-0.019)),\"Tolerance\",\"\"))","v":""},{"$f":"IF(EJ45=\"\",\"\",Mix!E57)","v":""},{"$f":"IF(EK45=\"\",\"\",IF(OR(EK45>(EJ45+0.019),EK45<(EJ45-0.019)),\"Tolerance\",\"\"))","v":""},{"$f":"IF(EL45=\"\",\"\",Mix!E58)","v":""},{"$f":"IF(EM45=\"\",\"\",IF(OR(EM45>(EL45+0.019),EM45<(EL45-0.019)),\"Tolerance\",\"\"))","v":""},null,"( Rice Test )",null,"Mov. Avg.",{"$f":"IF(ER45=\"\",\"\",Mix!E59)","v":""},{"$f":"IF(ES45=\"\",\"\",IF(OR(ES45>(ER45+0.019),ES45<(ER45-0.019)),\"Tolerance\",\"\"))","v":""},{"$f":"IF(ET45=\"\",\"\",Mix!E60)","v":""},{"$f":"IF(EU45=\"\",\"\",IF(OR(EU45>(ET45+0.019),EU45<(ET45-0.019)),\"Tolerance\",\"\"))","v":""},{"$f":"IF(EV45=\"\",\"\",Mix!E61)","v":""},{"$f":"IF(EW45=\"\",\"\",IF(OR(EW45>(EV45+0.019),EW45<(EV45-0.019)),\"Tolerance\",\"\"))","v":""},{"$f":"IF(EX45=\"\",\"\",Mix!E62)","v":""},{"$f":"IF(EY45=\"\",\"\",IF(OR(EY45>(EX45+0.019),EY45<(EX45-0.019)),\"Tolerance\",\"\"))","v":""},null,"( Rice Test )",null,"Mov. Avg.",{"$f":"IF(FD45=\"\",\"\",Mix!E63)","v":""},{"$f":"IF(FE45=\"\",\"\",IF(OR(FE45>(FD45+0.019),FE45<(FD45-0.019)),\"Tolerance\",\"\"))","v":""},{"$f":"IF(FF45=\"\",\"\",Mix!E64)","v":""},{"$f":"IF(FG45=\"\",\"\",IF(OR(FG45>(FF45+0.019),FG45<(FF45-0.019)),\"Tolerance\",\"\"))","v":""},{"$f":"IF(FH45=\"\",\"\",Mix!E65)","v":""},{"$f":"IF(FI45=\"\",\"\",IF(OR(FI45>(FH45+0.019),FI45<(FH45-0.019)),\"Tolerance\",\"\"))","v":""},{"$f":"IF(FJ45=\"\",\"\",Mix!E66)","v":""},{"$f":"IF(FK45=\"\",\"\",IF(OR(FK45>(FJ45+0.019),FK45<(FJ45-0.019)),\"Tolerance\",\"\"))","v":""},null,"( Rice Test )",null,"Mov. Avg.",{"$f":"IF(FP45=\"\",\"\",Mix!E67)","v":""},{"$f":"IF(FQ45=\"\",\"\",IF(OR(FQ45>(FP45+0.019),FQ45<(FP45-0.019)),\"Tolerance\",\"\"))","v":""},{"$f":"IF(FR45=\"\",\"\",Mix!E68)","v":""},{"$f":"IF(FS45=\"\",\"\",IF(OR(FS45>(FR45+0.019),FS45<(FR45-0.019)),\"Tolerance\",\"\"))","v":""},{"$f":"IF(FT45=\"\",\"\",Mix!E69)","v":""},{"$f":"IF(FU45=\"\",\"\",IF(OR(FU45>(FT45+0.019),FU45<(FT45-0.019)),\"Tolerance\",\"\"))","v":""},{"$f":"IF(FV45=\"\",\"\",Mix!E70)","v":""},{"$f":"IF(FW45=\"\",\"\",IF(OR(FW45>(FV45+0.019),FW45<(FV45-0.019)),\"Tolerance\",\"\"))","v":""},null,"( Rice Test )",null,"Mov. Avg.",{"$f":"IF(GB45=\"\",\"\",Mix!E71)","v":""},{"$f":"IF(GC45=\"\",\"\",IF(OR(GC45>(GB45+0.019),GC45<(GB45-0.019)),\"Tolerance\",\"\"))","v":""},{"$f":"IF(GD45=\"\",\"\",Mix!E72)","v":""},{"$f":"IF(GE45=\"\",\"\",IF(OR(GE45>(GD45+0.019),GE45<(GD45-0.019)),\"Tolerance\",\"\"))","v":""},{"$f":"IF(GF45=\"\",\"\",Mix!E73)","v":""},{"$f":"IF(GG45=\"\",\"\",IF(OR(GG45>(GF45+0.019),GG45<(GF45-0.019)),\"Tolerance\",\"\"))","v":""},{"$f":"IF(GH45=\"\",\"\",Mix!E74)","v":""},{"$f":"IF(GI45=\"\",\"\",IF(OR(GI45>(GH45+0.019),GI45<(GH45-0.019)),\"Tolerance\",\"\"))","v":""},null,"( Rice Test )",null,"Mov. Avg.",{"$f":"IF(GN45=\"\",\"\",Mix!E75)","v":""},{"$f":"IF(GO45=\"\",\"\",IF(OR(GO45>(GN45+0.019),GO45<(GN45-0.019)),\"Tolerance\",\"\"))","v":""},{"$f":"IF(GP45=\"\",\"\",Mix!E76)","v":""},{"$f":"IF(GQ45=\"\",\"\",IF(OR(GQ45>(GP45+0.019),GQ45<(GP45-0.019)),\"Tolerance\",\"\"))","v":""},{"$f":"IF(GR45=\"\",\"\",Mix!E77)","v":""},{"$f":"IF(GS45=\"\",\"\",IF(OR(GS45>(GR45+0.019),GS45<(GR45-0.019)),\"Tolerance\",\"\"))","v":""},{"$f":"IF(GT45=\"\",\"\",Mix!E78)","v":""},{"$f":"IF(GU45=\"\",\"\",IF(OR(GU45>(GT45+0.019),GU45<(GT45-0.019)),\"Tolerance\",\"\"))","v":""},null,"( Rice Test )",null,"Mov. Avg.",{"$f":"IF(GZ45=\"\",\"\",Mix!E79)","v":""},{"$f":"IF(HA45=\"\",\"\",IF(OR(HA45>(GZ45+0.019),HA45<(GZ45-0.019)),\"Tolerance\",\"\"))","v":""},{"$f":"IF(HB45=\"\",\"\",Mix!E80)","v":""},{"$f":"IF(HC45=\"\",\"\",IF(OR(HC45>(HB45+0.019),HC45<(HB45-0.019)),\"Tolerance\",\"\"))","v":""},{"$f":"IF(HD45=\"\",\"\",Mix!E81)","v":""},{"$f":"IF(HE45=\"\",\"\",IF(OR(HE45>(HD45+0.019),HE45<(HD45-0.019)),\"Tolerance\",\"\"))","v":""},{"$f":"IF(HF45=\"\",\"\",Mix!E82)","v":""},{"$f":"IF(HG45=\"\",\"\",IF(OR(HG45>(HF45+0.019),HG45<(HF45-0.019)),\"Tolerance\",\"\"))","v":""},null,"( Rice Test )",null,"Mov. Avg.",{"$f":"IF(HL45=\"\",\"\",Mix!E83)","v":""},{"$f":"IF(HM45=\"\",\"\",IF(OR(HM45>(HL45+0.019),HM45<(HL45-0.019)),\"Tolerance\",\"\"))","v":""},{"$f":"IF(HN45=\"\",\"\",Mix!E84)","v":""},{"$f":"IF(HO45=\"\",\"\",IF(OR(HO45>(HN45+0.019),HO45<(HN45-0.019)),\"Tolerance\",\"\"))","v":""},{"$f":"IF(HP45=\"\",\"\",Mix!E85)","v":""},{"$f":"IF(HQ45=\"\",\"\",IF(OR(HQ45>(HP45+0.019),HQ45<(HP45-0.019)),\"Tolerance\",\"\"))","v":""},{"$f":"IF(HR45=\"\",\"\",Mix!E86)","v":""},{"$f":"IF(HS45=\"\",\"\",IF(OR(HS45>(HR45+0.019),HS45<(HR45-0.019)),\"Tolerance\",\"\"))","v":""},null,"( Rice Test )",null,"Mov. Avg.",{"$f":"IF(HX45=\"\",\"\",Mix!E87)","v":""},{"$f":"IF(HY45=\"\",\"\",IF(OR(HY45>(HX45+0.019),HY45<(HX45-0.019)),\"Tolerance\",\"\"))","v":""},{"$f":"IF(HZ45=\"\",\"\",Mix!E88)","v":""},{"$f":"IF(IA45=\"\",\"\",IF(OR(IA45>(HZ45+0.019),IA45<(HZ45-0.019)),\"Tolerance\",\"\"))","v":""},{"$f":"IF(IB45=\"\",\"\",Mix!E89)","v":""},{"$f":"IF(IC45=\"\",\"\",IF(OR(IC45>(IB45+0.019),IC45<(IB45-0.019)),\"Tolerance\",\"\"))","v":""},{"$f":"IF(ID45=\"\",\"\",Mix!E90)","v":""},{"$f":"IF(IE45=\"\",\"\",IF(OR(IE45>(ID45+0.019),IE45<(ID45-0.019)),\"Tolerance\",\"\"))","v":""},null,"( Rice Test )",null,"Mov. Avg.",{"$f":"IF(IJ45=\"\",\"\",Mix!E91)","v":""},{"$f":"IF(IK45=\"\",\"\",IF(OR(IK45>(IJ45+0.019),IK45<(IJ45-0.019)),\"Tolerance\",\"\"))","v":""},{"$f":"IF(IL45=\"\",\"\",Mix!E92)","v":""},{"$f":"IF(IM45=\"\",\"\",IF(OR(IM45>(IL45+0.019),IM45<(IL45-0.019)),\"Tolerance\",\"\"))","v":""},{"$f":"IF(IN45=\"\",\"\",Mix!E93)","v":""},{"$f":"IF(IO45=\"\",\"\",IF(OR(IO45>(IN45+0.019),IO45<(IN45-0.019)),\"Tolerance\",\"\"))","v":""},{"$f":"IF(IP45=\"\",\"\",Mix!E94)","v":""},{"$f":"IF(IQ45=\"\",\"\",IF(OR(IQ45>(IP45+0.019),IQ45<(IP45-0.019)),\"Tolerance\",\"\"))","v":""},null,null,0,"Agency AFT Substituted"]
[null,null,"Calc. Gmm",{"$f":"IF(D45=\"\",\"\",IF(E45=\"\",D45,IF(OR(E45>(D45+0.019),E45<(D45-0.019)),E45,D45)))","v":""},{"$f":"IF(E45=\"\",\"\",IF(OR(E45>(D45+0.019),E45<(D45-0.019)),\"Agncy Repl.\",\"\"))","v":""},{"$f":"IF(F45=\"\",\"\",IF(G45=\"\",F45,IF(OR(G45>(F45+0.019),G45<(F45-0.019)),G45,F45)))","v":""},{"$f":"IF(G45=\"\",\"\",IF(OR(G45>(F45+0.019),G45<(F45-0.019)),\"Agncy Repl.\",\"\"))","v":""},{"$f":"IF(H45=\"\",\"\",IF(I45=\"\",H45,IF(OR(I45>(H45+0.019),I45<(H45-0.019)),I45,H45)))","v":""},{"$f":"IF(I45=\"\",\"\",IF(OR(I45>(H45+0.019),I45<(H45-0.019)),\"Agncy Repl.\",\"\"))","v":""},{"$f":"IF(J45=\"\",\"\",IF(K45=\"\",J45,IF(OR(K45>(J45+0.019),K45<(J45-0.019)),K45,J45)))","v":""},{"$f":"IF(K45=\"\",\"\",IF(OR(K45>(J45+0.019),K45<(J45-0.019)),\"Agncy Repl.\",\"\"))","v":""},null,null,null,"Calc. Gmm",{"$f":"IF(P45=\"\",\"\",IF(Q45=\"\",P45,IF(OR(Q45>(P45+0.019),Q45<(P45-0.019)),Q45,P45)))","v":""},{"$f":"IF(Q45=\"\",\"\",IF(OR(Q45>(P45+0.019),Q45<(P45-0.019)),\"Agncy Repl.\",\"\"))","v":""},{"$f":"IF(R45=\"\",\"\",IF(S45=\"\",R45,IF(OR(S45>(R45+0.019),S45<(R45-0.019)),S45,R45)))","v":""},{"$f":"IF(S45=\"\",\"\",IF(OR(S45>(R45+0.019),S45<(R45-0.019)),\"Agncy Repl.\",\"\"))","v":""},{"$f":"IF(T45=\"\",\"\",IF(U45=\"\",T45,IF(OR(U45>(T45+0.019),U45<(T45-0.019)),U45,T45)))","v":""},{"$f":"IF(U45=\"\",\"\",IF(OR(U45>(T45+0.019),U45<(T45-0.019)),\"Agncy Repl.\",\"\"))","v":""},{"$f":"IF(V45=\"\",\"\",IF(W45=\"\",V45,IF(OR(W45>(V45+0.019),W45<(V45-0.019)),W45,V45)))","v":""},{"$f":"IF(W45=\"\",\"\",IF(OR(W45>(V45+0.019),W45<(V45-0.019)),\"Agncy Repl.\",\"\"))","v":""},null,null,null,"Calc. Gmm",{"$f":"IF(AB45=\"\",\"\",IF(AC45=\"\",AB45,IF(OR(AC45>(AB45+0.019),AC45<(AB45-0.019)),AC45,AB45)))","v":""},{"$f":"IF(AC45=\"\",\"\",IF(OR(AC45>(AB45+0.019),AC45<(AB45-0.019)),\"Agncy Repl.\",\"\"))","v":""},{"$f":"IF(AD45=\"\",\"\",IF(AE45=\"\",AD45,IF(OR(AE45>(AD45+0.019),AE45<(AD45-0.019)),AE45,AD45)))","v":""},{"$f":"IF(AE45=\"\",\"\",IF(OR(AE45>(AD45+0.019),AE45<(AD45-0.019)),\"Agncy Repl.\",\"\"))","v":""},{"$f":"IF(AF45=\"\",\"\",IF(AG45=\"\",AF45,IF(OR(AG45>(AF45+0.019),AG45<(AF45-0.019)),AG45,AF45)))","v":""},{"$f":"IF(AG45=\"\",\"\",IF(OR(AG45>(AF45+0.019),AG45<(AF45-0.019)),\"Agncy Repl.\",\"\"))","v":""},{"$f":"IF(AH45=\"\",\"\",IF(AI45=\"\",AH45,IF(OR(AI45>(AH45+0.019),AI45<(AH45-0.019)),AI45,AH45)))","v":""},{"$f":"IF(AI45=\"\",\"\",IF(OR(AI45>(AH45+0.019),AI45<(AH45-0.019)),\"Agncy Repl.\",\"\"))","v":""},null,null,null,"Calc. Gmm",{"$f":"IF(AN45=\"\",\"\",IF(AO45=\"\",AN45,IF(OR(AO45>(AN45+0.019),AO45<(AN45-0.019)),AO45,AN45)))","v":""},{"$f":"IF(AO45=\"\",\"\",IF(OR(AO45>(AN45+0.019),AO45<(AN45-0.019)),\"Agncy Repl.\",\"\"))","v":""},{"$f":"IF(AP45=\"\",\"\",IF(AQ45=\"\",AP45,IF(OR(AQ45>(AP45+0.019),AQ45<(AP45-0.019)),AQ45,AP45)))","v":""},{"$f":"IF(AQ45=\"\",\"\",IF(OR(AQ45>(AP45+0.019),AQ45<(AP45-0.019)),\"Agncy Repl.\",\"\"))","v":""},{"$f":"IF(AR45=\"\",\"\",IF(AS45=\"\",AR45,IF(OR(AS45>(AR45+0.019),AS45<(AR45-0.019)),AS45,AR45)))","v":""},{"$f":"IF(AS45=\"\",\"\",IF(OR(AS45>(AR45+0.019),AS45<(AR45-0.019)),\"Agncy Repl.\",\"\"))","v":""},{"$f":"IF(AT45=\"\",\"\",IF(AU45=\"\",AT45,IF(OR(AU45>(AT45+0.019),AU45<(AT45-0.019)),AU45,AT45)))","v":""},{"$f":"IF(AU45=\"\",\"\",IF(OR(AU45>(AT45+0.019),AU45<(AT45-0.019)),\"Agncy Repl.\",\"\"))","v":""},null,null,null,"Calc. Gmm",{"$f":"IF(AZ45=\"\",\"\",IF(BA45=\"\",AZ45,IF(OR(BA45>(AZ45+0.019),BA45<(AZ45-0.019)),BA45,AZ45)))","v":""},{"$f":"IF(BA45=\"\",\"\",IF(OR(BA45>(AZ45+0.019),BA45<(AZ45-0.019)),\"Agncy Repl.\",\"\"))","v":""},{"$f":"IF(BB45=\"\",\"\",IF(BC45=\"\",BB45,IF(OR(BC45>(BB45+0.019),BC45<(BB45-0.019)),BC45,BB45)))","v":""},{"$f":"IF(BC45=\"\",\"\",IF(OR(BC45>(BB45+0.019),BC45<(BB45-0.019)),\"Agncy Repl.\",\"\"))","v":""},{"$f":"IF(BD45=\"\",\"\",IF(BE45=\"\",BD45,IF(OR(BE45>(BD45+0.019),BE45<(BD45-0.019)),BE45,BD45)))","v":""},{"$f":"IF(BE45=\"\",\"\",IF(OR(BE45>(BD45+0.019),BE45<(BD45-0.019)),\"Agncy Repl.\",\"\"))","v":""},{"$f":"IF(BF45=\"\",\"\",IF(BG45=\"\",BF45,IF(OR(BG45>(BF45+0.019),BG45<(BF45-0.019)),BG45,BF45)))","v":""},{"$f":"IF(BG45=\"\",\"\",IF(OR(BG45>(BF45+0.019),BG45<(BF45-0.019)),\"Agncy Repl.\",\"\"))","v":""},null,null,null,"Calc. Gmm",{"$f":"IF(BL45=\"\",\"\",IF(BM45=\"\",BL45,IF(OR(BM45>(BL45+0.019),BM45<(BL45-0.019)),BM45,BL45)))","v":""},{"$f":"IF(BM45=\"\",\"\",IF(OR(BM45>(BL45+0.019),BM45<(BL45-0.019)),\"Agncy Repl.\",\"\"))","v":""},{"$f":"IF(BN45=\"\",\"\",IF(BO45=\"\",BN45,IF(OR(BO45>(BN45+0.019),BO45<(BN45-0.019)),BO45,BN45)))","v":""},{"$f":"IF(BO45=\"\",\"\",IF(OR(BO45>(BN45+0.019),BO45<(BN45-0.019)),\"Agncy Repl.\",\"\"))","v":""},{"$f":"IF(BP45=\"\",\"\",IF(BQ45=\"\",BP45,IF(OR(BQ45>(BP45+0.019),BQ45<(BP45-0.019)),BQ45,BP45)))","v":""},{"$f":"IF(BQ45=\"\",\"\",IF(OR(BQ45>(BP45+0.019),BQ45<(BP45-0.019)),\"Agncy Repl.\",\"\"))","v":""},{"$f":"IF(BR45=\"\",\"\",IF(BS45=\"\",BR45,IF(OR(BS45>(BR45+0.019),BS45<(BR45-0.019)),BS45,BR45)))","v":""},{"$f":"IF(BS45=\"\",\"\",IF(OR(BS45>(BR45+0.019),BS45<(BR45-0.019)),\"Agncy Repl.\",\"\"))","v":""},null,null,null,"Calc. Gmm",{"$f":"IF(BX45=\"\",\"\",IF(BY45=\"\",BX45,IF(OR(BY45>(BX45+0.019),BY45<(BX45-0.019)),BY45,BX45)))","v":""},{"$f":"IF(BY45=\"\",\"\",IF(OR(BY45>(BX45+0.019),BY45<(BX45-0.019)),\"Agncy Repl.\",\"\"))","v":""},{"$f":"IF(BZ45=\"\",\"\",IF(CA45=\"\",BZ45,IF(OR(CA45>(BZ45+0.019),CA45<(BZ45-0.019)),CA45,BZ45)))","v":""},{"$f":"IF(CA45=\"\",\"\",IF(OR(CA45>(BZ45+0.019),CA45<(BZ45-0.019)),\"Agncy Repl.\",\"\"))","v":""},{"$f":"IF(CB45=\"\",\"\",IF(CC45=\"\",CB45,IF(OR(CC45>(CB45+0.019),CC45<(CB45-0.019)),CC45,CB45)))","v":""},{"$f":"IF(CC45=\"\",\"\",IF(OR(CC45>(CB45+0.019),CC45<(CB45-0.019)),\"Agncy Repl.\",\"\"))","v":""},{"$f":"IF(CD45=\"\",\"\",IF(CE45=\"\",CD45,IF(OR(CE45>(CD45+0.019),CE45<(CD45-0.019)),CE45,CD45)))","v":""},{"$f":"IF(CE45=\"\",\"\",IF(OR(CE45>(CD45+0.019),CE45<(CD45-0.019)),\"Agncy Repl.\",\"\"))","v":""},null,null,null,"Calc. Gmm",{"$f":"IF(CJ45=\"\",\"\",IF(CK45=\"\",CJ45,IF(OR(CK45>(CJ45+0.019),CK45<(CJ45-0.019)),CK45,CJ45)))","v":""},{"$f":"IF(CK45=\"\",\"\",IF(OR(CK45>(CJ45+0.019),CK45<(CJ45-0.019)),\"Agncy Repl.\",\"\"))","v":""},{"$f":"IF(CL45=\"\",\"\",IF(CM45=\"\",CL45,IF(OR(CM45>(CL45+0.019),CM45<(CL45-0.019)),CM45,CL45)))","v":""},{"$f":"IF(CM45=\"\",\"\",IF(OR(CM45>(CL45+0.019),CM45<(CL45-0.019)),\"Agncy Repl.\",\"\"))","v":""},{"$f":"IF(CN45=\"\",\"\",IF(CO45=\"\",CN45,IF(OR(CO45>(CN45+0.019),CO45<(CN45-0.019)),CO45,CN45)))","v":""},{"$f":"IF(CO45=\"\",\"\",IF(OR(CO45>(CN45+0.019),CO45<(CN45-0.019)),\"Agncy Repl.\",\"\"))","v":""},{"$f":"IF(CP45=\"\",\"\",IF(CQ45=\"\",CP45,IF(OR(CQ45>(CP45+0.019),CQ45<(CP45-0.019)),CQ45,CP45)))","v":""},{"$f":"IF(CQ45=\"\",\"\",IF(OR(CQ45>(CP45+0.019),CQ45<(CP45-0.019)),\"Agncy Repl.\",\"\"))","v":""},null,null,null,"Calc. Gmm",{"$f":"IF(CV45=\"\",\"\",IF(CW45=\"\",CV45,IF(OR(CW45>(CV45+0.019),CW45<(CV45-0.019)),CW45,CV45)))","v":""},{"$f":"IF(CW45=\"\",\"\",IF(OR(CW45>(CV45+0.019),CW45<(CV45-0.019)),\"Agncy Repl.\",\"\"))","v":""},{"$f":"IF(CX45=\"\",\"\",IF(CY45=\"\",CX45,IF(OR(CY45>(CX45+0.019),CY45<(CX45-0.019)),CY45,CX45)))","v":""},{"$f":"IF(CY45=\"\",\"\",IF(OR(CY45>(CX45+0.019),CY45<(CX45-0.019)),\"Agncy Repl.\",\"\"))","v":""},{"$f":"IF(CZ45=\"\",\"\",IF(DA45=\"\",CZ45,IF(OR(DA45>(CZ45+0.019),DA45<(CZ45-0.019)),DA45,CZ45)))","v":""},{"$f":"IF(DA45=\"\",\"\",IF(OR(DA45>(CZ45+0.019),DA45<(CZ45-0.019)),\"Agncy Repl.\",\"\"))","v":""},{"$f":"IF(DB45=\"\",\"\",IF(DC45=\"\",DB45,IF(OR(DC45>(DB45+0.019),DC45<(DB45-0.019)),DC45,DB45)))","v":""},{"$f":"IF(DC45=\"\",\"\",IF(OR(DC45>(DB45+0.019),DC45<(DB45-0.019)),\"Agncy Repl.\",\"\"))","v":""},null,null,null,"Calc. Gmm",{"$f":"IF(DH45=\"\",\"\",IF(DI45=\"\",DH45,IF(OR(DI45>(DH45+0.019),DI45<(DH45-0.019)),DI45,DH45)))","v":""},{"$f":"IF(DI45=\"\",\"\",IF(OR(DI45>(DH45+0.019),DI45<(DH45-0.019)),\"Agncy Repl.\",\"\"))","v":""},{"$f":"IF(DJ45=\"\",\"\",IF(DK45=\"\",DJ45,IF(OR(DK45>(DJ45+0.019),DK45<(DJ45-0.019)),DK45,DJ45)))","v":""},{"$f":"IF(DK45=\"\",\"\",IF(OR(DK45>(DJ45+0.019),DK45<(DJ45-0.019)),\"Agncy Repl.\",\"\"))","v":""},{"$f":"IF(DL45=\"\",\"\",IF(DM45=\"\",DL45,IF(OR(DM45>(DL45+0.019),DM45<(DL45-0.019)),DM45,DL45)))","v":""},{"$f":"IF(DM45=\"\",\"\",IF(OR(DM45>(DL45+0.019),DM45<(DL45-0.019)),\"Agncy Repl.\",\"\"))","v":""},{"$f":"IF(DN45=\"\",\"\",IF(DO45=\"\",DN45,IF(OR(DO45>(DN45+0.019),DO45<(DN45-0.019)),DO45,DN45)))","v":""},{"$f":"IF(DO45=\"\",\"\",IF(OR(DO45>(DN45+0.019),DO45<(DN45-0.019)),\"Agncy Repl.\",\"\"))","v":""},null,null,null,"Calc. Gmm",{"$f":"IF(DT45=\"\",\"\",IF(DU45=\"\",DT45,IF(OR(DU45>(DT45+0.019),DU45<(DT45-0.019)),DU45,DT45)))","v":""},{"$f":"IF(DU45=\"\",\"\",IF(OR(DU45>(DT45+0.019),DU45<(DT45-0.019)),\"Agncy Repl.\",\"\"))","v":""},{"$f":"IF(DV45=\"\",\"\",IF(DW45=\"\",DV45,IF(OR(DW45>(DV45+0.019),DW45<(DV45-0.019)),DW45,DV45)))","v":""},{"$f":"IF(DW45=\"\",\"\",IF(OR(DW45>(DV45+0.019),DW45<(DV45-0.019)),\"Agncy Repl.\",\"\"))","v":""},{"$f":"IF(DX45=\"\",\"\",IF(DY45=\"\",DX45,IF(OR(DY45>(DX45+0.019),DY45<(DX45-0.019)),DY45,DX45)))","v":""},{"$f":"IF(DY45=\"\",\"\",IF(OR(DY45>(DX45+0.019),DY45<(DX45-0.019)),\"Agncy Repl.\",\"\"))","v":""},{"$f":"IF(DZ45=\"\",\"\",IF(EA45=\"\",DZ45,IF(OR(EA45>(DZ45+0.019),EA45<(DZ45-0.019)),EA45,DZ45)))","v":""},{"$f":"IF(EA45=\"\",\"\",IF(OR(EA45>(DZ45+0.019),EA45<(DZ45-0.019)),\"Agncy Repl.\",\"\"))","v":""},null,null,null,"Calc. Gmm",{"$f":"IF(EF45=\"\",\"\",IF(EG45=\"\",EF45,IF(OR(EG45>(EF45+0.019),EG45<(EF45-0.019)),EG45,EF45)))","v":""},{"$f":"IF(EG45=\"\",\"\",IF(OR(EG45>(EF45+0.019),EG45<(EF45-0.019)),\"Agncy Repl.\",\"\"))","v":""},{"$f":"IF(EH45=\"\",\"\",IF(EI45=\"\",EH45,IF(OR(EI45>(EH45+0.019),EI45<(EH45-0.019)),EI45,EH45)))","v":""},{"$f":"IF(EI45=\"\",\"\",IF(OR(EI45>(EH45+0.019),EI45<(EH45-0.019)),\"Agncy Repl.\",\"\"))","v":""},{"$f":"IF(EJ45=\"\",\"\",IF(EK45=\"\",EJ45,IF(OR(EK45>(EJ45+0.019),EK45<(EJ45-0.019)),EK45,EJ45)))","v":""},{"$f":"IF(EK45=\"\",\"\",IF(OR(EK45>(EJ45+0.019),EK45<(EJ45-0.019)),\"Agncy Repl.\",\"\"))","v":""},{"$f":"IF(EL45=\"\",\"\",IF(EM45=\"\",EL45,IF(OR(EM45>(EL45+0.019),EM45<(EL45-0.019)),EM45,EL45)))","v":""},{"$f":"IF(EM45=\"\",\"\",IF(OR(EM45>(EL45+0.019),EM45<(EL45-0.019)),\"Agncy Repl.\",\"\"))","v":""},null,null,null,"Calc. Gmm",{"$f":"IF(ER45=\"\",\"\",IF(ES45=\"\",ER45,IF(OR(ES45>(ER45+0.019),ES45<(ER45-0.019)),ES45,ER45)))","v":""},{"$f":"IF(ES45=\"\",\"\",IF(OR(ES45>(ER45+0.019),ES45<(ER45-0.019)),\"Agncy Repl.\",\"\"))","v":""},{"$f":"IF(ET45=\"\",\"\",IF(EU45=\"\",ET45,IF(OR(EU45>(ET45+0.019),EU45<(ET45-0.019)),EU45,ET45)))","v":""},{"$f":"IF(EU45=\"\",\"\",IF(OR(EU45>(ET45+0.019),EU45<(ET45-0.019)),\"Agncy Repl.\",\"\"))","v":""},{"$f":"IF(EV45=\"\",\"\",IF(EW45=\"\",EV45,IF(OR(EW45>(EV45+0.019),EW45<(EV45-0.019)),EW45,EV45)))","v":""},{"$f":"IF(EW45=\"\",\"\",IF(OR(EW45>(EV45+0.019),EW45<(EV45-0.019)),\"Agncy Repl.\",\"\"))","v":""},{"$f":"IF(EX45=\"\",\"\",IF(EY45=\"\",EX45,IF(OR(EY45>(EX45+0.019),EY45<(EX45-0.019)),EY45,EX45)))","v":""},{"$f":"IF(EY45=\"\",\"\",IF(OR(EY45>(EX45+0.019),EY45<(EX45-0.019)),\"Agncy Repl.\",\"\"))","v":""},null,null,null,"Calc. Gmm",{"$f":"IF(FD45=\"\",\"\",IF(FE45=\"\",FD45,IF(OR(FE45>(FD45+0.019),FE45<(FD45-0.019)),FE45,FD45)))","v":""},{"$f":"IF(FE45=\"\",\"\",IF(OR(FE45>(FD45+0.019),FE45<(FD45-0.019)),\"Agncy Repl.\",\"\"))","v":""},{"$f":"IF(FF45=\"\",\"\",IF(FG45=\"\",FF45,IF(OR(FG45>(FF45+0.019),FG45<(FF45-0.019)),FG45,FF45)))","v":""},{"$f":"IF(FG45=\"\",\"\",IF(OR(FG45>(FF45+0.019),FG45<(FF45-0.019)),\"Agncy Repl.\",\"\"))","v":""},{"$f":"IF(FH45=\"\",\"\",IF(FI45=\"\",FH45,IF(OR(FI45>(FH45+0.019),FI45<(FH45-0.019)),FI45,FH45)))","v":""},{"$f":"IF(FI45=\"\",\"\",IF(OR(FI45>(FH45+0.019),FI45<(FH45-0.019)),\"Agncy Repl.\",\"\"))","v":""},{"$f":"IF(FJ45=\"\",\"\",IF(FK45=\"\",FJ45,IF(OR(FK45>(FJ45+0.019),FK45<(FJ45-0.019)),FK45,FJ45)))","v":""},{"$f":"IF(FK45=\"\",\"\",IF(OR(FK45>(FJ45+0.019),FK45<(FJ45-0.019)),\"Agncy Repl.\",\"\"))","v":""},null,null,null,"Calc. Gmm",{"$f":"IF(FP45=\"\",\"\",IF(FQ45=\"\",FP45,IF(OR(FQ45>(FP45+0.019),FQ45<(FP45-0.019)),FQ45,FP45)))","v":""},{"$f":"IF(FQ45=\"\",\"\",IF(OR(FQ45>(FP45+0.019),FQ45<(FP45-0.019)),\"Agncy Repl.\",\"\"))","v":""},{"$f":"IF(FR45=\"\",\"\",IF(FS45=\"\",FR45,IF(OR(FS45>(FR45+0.019),FS45<(FR45-0.019)),FS45,FR45)))","v":""},{"$f":"IF(FS45=\"\",\"\",IF(OR(FS45>(FR45+0.019),FS45<(FR45-0.019)),\"Agncy Repl.\",\"\"))","v":""},{"$f":"IF(FT45=\"\",\"\",IF(FU45=\"\",FT45,IF(OR(FU45>(FT45+0.019),FU45<(FT45-0.019)),FU45,FT45)))","v":""},{"$f":"IF(FU45=\"\",\"\",IF(OR(FU45>(FT45+0.019),FU45<(FT45-0.019)),\"Agncy Repl.\",\"\"))","v":""},{"$f":"IF(FV45=\"\",\"\",IF(FW45=\"\",FV45,IF(OR(FW45>(FV45+0.019),FW45<(FV45-0.019)),FW45,FV45)))","v":""},{"$f":"IF(FW45=\"\",\"\",IF(OR(FW45>(FV45+0.019),FW45<(FV45-0.019)),\"Agncy Repl.\",\"\"))","v":""},null,null,null,"Calc. Gmm",{"$f":"IF(GB45=\"\",\"\",IF(GC45=\"\",GB45,IF(OR(GC45>(GB45+0.019),GC45<(GB45-0.019)),GC45,GB45)))","v":""},{"$f":"IF(GC45=\"\",\"\",IF(OR(GC45>(GB45+0.019),GC45<(GB45-0.019)),\"Agncy Repl.\",\"\"))","v":""},{"$f":"IF(GD45=\"\",\"\",IF(GE45=\"\",GD45,IF(OR(GE45>(GD45+0.019),GE45<(GD45-0.019)),GE45,GD45)))","v":""},{"$f":"IF(GE45=\"\",\"\",IF(OR(GE45>(GD45+0.019),GE45<(GD45-0.019)),\"Agncy Repl.\",\"\"))","v":""},{"$f":"IF(GF45=\"\",\"\",IF(GG45=\"\",GF45,IF(OR(GG45>(GF45+0.019),GG45<(GF45-0.019)),GG45,GF45)))","v":""},{"$f":"IF(GG45=\"\",\"\",IF(OR(GG45>(GF45+0.019),GG45<(GF45-0.019)),\"Agncy Repl.\",\"\"))","v":""},{"$f":"IF(GH45=\"\",\"\",IF(GI45=\"\",GH45,IF(OR(GI45>(GH45+0.019),GI45<(GH45-0.019)),GI45,GH45)))","v":""},{"$f":"IF(GI45=\"\",\"\",IF(OR(GI45>(GH45+0.019),GI45<(GH45-0.019)),\"Agncy Repl.\",\"\"))","v":""},null,null,null,"Calc. Gmm",{"$f":"IF(GN45=\"\",\"\",IF(GO45=\"\",GN45,IF(OR(GO45>(GN45+0.019),GO45<(GN45-0.019)),GO45,GN45)))","v":""},{"$f":"IF(GO45=\"\",\"\",IF(OR(GO45>(GN45+0.019),GO45<(GN45-0.019)),\"Agncy Repl.\",\"\"))","v":""},{"$f":"IF(GP45=\"\",\"\",IF(GQ45=\"\",GP45,IF(OR(GQ45>(GP45+0.019),GQ45<(GP45-0.019)),GQ45,GP45)))","v":""},{"$f":"IF(GQ45=\"\",\"\",IF(OR(GQ45>(GP45+0.019),GQ45<(GP45-0.019)),\"Agncy Repl.\",\"\"))","v":""},{"$f":"IF(GR45=\"\",\"\",IF(GS45=\"\",GR45,IF(OR(GS45>(GR45+0.019),GS45<(GR45-0.019)),GS45,GR45)))","v":""},{"$f":"IF(GS45=\"\",\"\",IF(OR(GS45>(GR45+0.019),GS45<(GR45-0.019)),\"Agncy Repl.\",\"\"))","v":""},{"$f":"IF(GT45=\"\",\"\",IF(GU45=\"\",GT45,IF(OR(GU45>(GT45+0.019),GU45<(GT45-0.019)),GU45,GT45)))","v":""},{"$f":"IF(GU45=\"\",\"\",IF(OR(GU45>(GT45+0.019),GU45<(GT45-0.019)),\"Agncy Repl.\",\"\"))","v":""},null,null,null,"Calc. Gmm",{"$f":"IF(GZ45=\"\",\"\",IF(HA45=\"\",GZ45,IF(OR(HA45>(GZ45+0.019),HA45<(GZ45-0.019)),HA45,GZ45)))","v":""},{"$f":"IF(HA45=\"\",\"\",IF(OR(HA45>(GZ45+0.019),HA45<(GZ45-0.019)),\"Agncy Repl.\",\"\"))","v":""},{"$f":"IF(HB45=\"\",\"\",IF(HC45=\"\",HB45,IF(OR(HC45>(HB45+0.019),HC45<(HB45-0.019)),HC45,HB45)))","v":""},{"$f":"IF(HC45=\"\",\"\",IF(OR(HC45>(HB45+0.019),HC45<(HB45-0.019)),\"Agncy Repl.\",\"\"))","v":""},{"$f":"IF(HD45=\"\",\"\",IF(HE45=\"\",HD45,IF(OR(HE45>(HD45+0.019),HE45<(HD45-0.019)),HE45,HD45)))","v":""},{"$f":"IF(HE45=\"\",\"\",IF(OR(HE45>(HD45+0.019),HE45<(HD45-0.019)),\"Agncy Repl.\",\"\"))","v":""},{"$f":"IF(HF45=\"\",\"\",IF(HG45=\"\",HF45,IF(OR(HG45>(HF45+0.019),HG45<(HF45-0.019)),HG45,HF45)))","v":""},{"$f":"IF(HG45=\"\",\"\",IF(OR(HG45>(HF45+0.019),HG45<(HF45-0.019)),\"Agncy Repl.\",\"\"))","v":""},null,null,null,"Calc. Gmm",{"$f":"IF(HL45=\"\",\"\",IF(HM45=\"\",HL45,IF(OR(HM45>(HL45+0.019),HM45<(HL45-0.019)),HM45,HL45)))","v":""},{"$f":"IF(HM45=\"\",\"\",IF(OR(HM45>(HL45+0.019),HM45<(HL45-0.019)),\"Agncy Repl.\",\"\"))","v":""},{"$f":"IF(HN45=\"\",\"\",IF(HO45=\"\",HN45,IF(OR(HO45>(HN45+0.019),HO45<(HN45-0.019)),HO45,HN45)))","v":""},{"$f":"IF(HO45=\"\",\"\",IF(OR(HO45>(HN45+0.019),HO45<(HN45-0.019)),\"Agncy Repl.\",\"\"))","v":""},{"$f":"IF(HP45=\"\",\"\",IF(HQ45=\"\",HP45,IF(OR(HQ45>(HP45+0.019),HQ45<(HP45-0.019)),HQ45,HP45)))","v":""},{"$f":"IF(HQ45=\"\",\"\",IF(OR(HQ45>(HP45+0.019),HQ45<(HP45-0.019)),\"Agncy Repl.\",\"\"))","v":""},{"$f":"IF(HR45=\"\",\"\",IF(HS45=\"\",HR45,IF(OR(HS45>(HR45+0.019),HS45<(HR45-0.019)),HS45,HR45)))","v":""},{"$f":"IF(HS45=\"\",\"\",IF(OR(HS45>(HR45+0.019),HS45<(HR45-0.019)),\"Agncy Repl.\",\"\"))","v":""},null,null,null,"Calc. Gmm",{"$f":"IF(HX45=\"\",\"\",IF(HY45=\"\",HX45,IF(OR(HY45>(HX45+0.019),HY45<(HX45-0.019)),HY45,HX45)))","v":""},{"$f":"IF(HY45=\"\",\"\",IF(OR(HY45>(HX45+0.019),HY45<(HX45-0.019)),\"Agncy Repl.\",\"\"))","v":""},{"$f":"IF(HZ45=\"\",\"\",IF(IA45=\"\",HZ45,IF(OR(IA45>(HZ45+0.019),IA45<(HZ45-0.019)),IA45,HZ45)))","v":""},{"$f":"IF(IA45=\"\",\"\",IF(OR(IA45>(HZ45+0.019),IA45<(HZ45-0.019)),\"Agncy Repl.\",\"\"))","v":""},{"$f":"IF(IB45=\"\",\"\",IF(IC45=\"\",IB45,IF(OR(IC45>(IB45+0.019),IC45<(IB45-0.019)),IC45,IB45)))","v":""},{"$f":"IF(IC45=\"\",\"\",IF(OR(IC45>(IB45+0.019),IC45<(IB45-0.019)),\"Agncy Repl.\",\"\"))","v":""},{"$f":"IF(ID45=\"\",\"\",IF(IE45=\"\",ID45,IF(OR(IE45>(ID45+0.019),IE45<(ID45-0.019)),IE45,ID45)))","v":""},{"$f":"IF(IE45=\"\",\"\",IF(OR(IE45>(ID45+0.019),IE45<(ID45-0.019)),\"Agncy Repl.\",\"\"))","v":""},null,null,null,"Calc. Gmm",{"$f":"IF(IJ45=\"\",\"\",IF(IK45=\"\",IJ45,IF(OR(IK45>(IJ45+0.019),IK45<(IJ45-0.019)),IK45,IJ45)))","v":""},{"$f":"IF(IK45=\"\",\"\",IF(OR(IK45>(IJ45+0.019),IK45<(IJ45-0.019)),\"Agncy Repl.\",\"\"))","v":""},{"$f":"IF(IL45=\"\",\"\",IF(IM45=\"\",IL45,IF(OR(IM45>(IL45+0.019),IM45<(IL45-0.019)),IM45,IL45)))","v":""},{"$f":"IF(IM45=\"\",\"\",IF(OR(IM45>(IL45+0.019),IM45<(IL45-0.019)),\"Agncy Repl.\",\"\"))","v":""},{"$f":"IF(IN45=\"\",\"\",IF(IO45=\"\",IN45,IF(OR(IO45>(IN45+0.019),IO45<(IN45-0.019)),IO45,IN45)))","v":""},{"$f":"IF(IO45=\"\",\"\",IF(OR(IO45>(IN45+0.019),IO45<(IN45-0.019)),\"Agncy Repl.\",\"\"))","v":""},{"$f":"IF(IP45=\"\",\"\",IF(IQ45=\"\",IP45,IF(OR(IQ45>(IP45+0.019),IQ45<(IP45-0.019)),IQ45,IP45)))","v":""},{"$f":"IF(IQ45=\"\",\"\",IF(OR(IQ45>(IP45+0.019),IQ45<(IP45-0.019)),\"Agncy Repl.\",\"\"))","v":""}]
[{"$f":"IF(G2=\"Marshall Design\",\"Gmb - Marshall\",IF(G2=\"Gyratory Design\",\"Gmb - N-design calc.\",\"\"))","v":"Gmb - N-design calc."},null,"Individual",null,null,null,null,null,null,null,null,null,{"$f":"IF(S2=\"Marshall Design\",\"Gmb - Marshall\",IF(S2=\"Gyratory Design\",\"Gmb - N-design calc.\",\"\"))","v":"Gmb - N-design calc."},null,"Individual",null,null,null,null,null,null,null,null,null,{"$f":"IF(AE2=\"Marshall Design\",\"Gmb - Marshall\",IF(AE2=\"Gyratory Design\",\"Gmb - N-design calc.\",\"\"))","v":"Gmb - N-design calc."},null,"Individual",null,null,null,null,null,null,null,null,null,{"$f":"IF(AQ2=\"Marshall Design\",\"Gmb - Marshall\",IF(AQ2=\"Gyratory Design\",\"Gmb - N-design calc.\",\"\"))","v":"Gmb - N-design calc."},null,"Individual",null,null,null,null,null,null,null,null,null,{"$f":"IF(BC2=\"Marshall Design\",\"Gmb - Marshall\",IF(BC2=\"Gyratory Design\",\"Gmb - N-design calc.\",\"\"))","v":"Gmb - N-design calc."},null,"Individual",null,null,null,null,null,null,null,null,null,{"$f":"IF(BO2=\"Marshall Design\",\"Gmb - Marshall\",IF(BO2=\"Gyratory Design\",\"Gmb - N-design calc.\",\"\"))","v":"Gmb - N-design calc."},null,"Individual",null,null,null,null,null,null,null,null,null,{"$f":"IF(CA2=\"Marshall Design\",\"Gmb - Marshall\",IF(CA2=\"Gyratory Design\",\"Gmb - N-design calc.\",\"\"))","v":"Gmb - N-design calc."},null,"Individual",null,null,null,null,null,null,null,null,null,{"$f":"IF(CM2=\"Marshall Design\",\"Gmb - Marshall\",IF(CM2=\"Gyratory Design\",\"Gmb - N-design calc.\",\"\"))","v":"Gmb - N-design calc."},null,"Individual",null,null,null,null,null,null,null,null,null,{"$f":"IF(CY2=\"Marshall Design\",\"Gmb - Marshall\",IF(CY2=\"Gyratory Design\",\"Gmb - N-design calc.\",\"\"))","v":"Gmb - N-design calc."},null,"Individual",null,null,null,null,null,null,null,null,null,{"$f":"IF(DK2=\"Marshall Design\",\"Gmb - Marshall\",IF(DK2=\"Gyratory Design\",\"Gmb - N-design calc.\",\"\"))","v":"Gmb - N-design calc."},null,"Individual",null,null,null,null,null,null,null,null,null,{"$f":"IF(DW2=\"Marshall Design\",\"Gmb - Marshall\",IF(DW2=\"Gyratory Design\",\"Gmb - N-design calc.\",\"\"))","v":"Gmb - N-design calc."},null,"Individual",null,null,null,null,null,null,null,null,null,{"$f":"IF(EI2=\"Marshall Design\",\"Gmb - Marshall\",IF(EI2=\"Gyratory Design\",\"Gmb - N-design calc.\",\"\"))","v":"Gmb - N-design calc."},null,"Individual",null,null,null,null,null,null,null,null,null,{"$f":"IF(EU2=\"Marshall Design\",\"Gmb - Marshall\",IF(EU2=\"Gyratory Design\",\"Gmb - N-design calc.\",\"\"))","v":"Gmb - N-design calc."},null,"Individual",null,null,null,null,null,null,null,null,null,{"$f":"IF(FG2=\"Marshall Design\",\"Gmb - Marshall\",IF(FG2=\"Gyratory Design\",\"Gmb - N-design calc.\",\"\"))","v":"Gmb - N-design calc."},null,"Individual",null,null,null,null,null,null,null,null,null,{"$f":"IF(FS2=\"Marshall Design\",\"Gmb - Marshall\",IF(FS2=\"Gyratory Design\",\"Gmb - N-design calc.\",\"\"))","v":"Gmb - N-design calc."},null,"Individual",null,null,null,null,null,null,null,null,null,{"$f":"IF(GE2=\"Marshall Design\",\"Gmb - Marshall\",IF(GE2=\"Gyratory Design\",\"Gmb - N-design calc.\",\"\"))","v":"Gmb - N-design calc."},null,"Individual",null,null,null,null,null,null,null,null,null,{"$f":"IF(GQ2=\"Marshall Design\",\"Gmb - Marshall\",IF(GQ2=\"Gyratory Design\",\"Gmb - N-design calc.\",\"\"))","v":"Gmb - N-design calc."},null,"Individual",null,null,null,null,null,null,null,null,null,{"$f":"IF(HC2=\"Marshall Design\",\"Gmb - Marshall\",IF(HC2=\"Gyratory Design\",\"Gmb - N-design calc.\",\"\"))","v":"Gmb - N-design calc."},null,"Individual",null,null,null,null,null,null,null,null,null,{"$f":"IF(HO2=\"Marshall Design\",\"Gmb - Marshall\",IF(HO2=\"Gyratory Design\",\"Gmb - N-design calc.\",\"\"))","v":"Gmb - N-design calc."},null,"Individual",null,null,null,null,null,null,null,null,null,{"$f":"IF(IA2=\"Marshall Design\",\"Gmb - Marshall\",IF(IA2=\"Gyratory Design\",\"Gmb - N-design calc.\",\"\"))","v":"Gmb - N-design calc."},null,"Individual",null,null,null,null,null,null,null,null,null,{"$f":"IF(IM2=\"Marshall Design\",\"Gmb - Marshall\",IF(IM2=\"Gyratory Design\",\"Gmb - N-design calc.\",\"\"))","v":"Gmb - N-design calc."},null,"Individual",null,null,null,null,null,null,null,null,null,null,0,"Agency AFT Substituted"]
[{"$f":"MDR!$BO$68","v":60},"Gyrations","Calc. Gmb",{"$f":"IF(D48=\"\",\"\",IF(E48=\"\",D48,IF(OR(E48>(D48+0.03),E48<(D48-0.03)),E48,D48)))","v":""},{"$f":"IF(E48=\"\",\"\",IF(OR(E48>(D48+0.03),E48<(D48-0.03)),\"Agncy Repl.\",\"\"))","v":""},{"$f":"IF(F48=\"\",\"\",IF(G48=\"\",F48,IF(OR(G48>(F48+0.03),G48<(F48-0.03)),G48,F48)))","v":""},{"$f":"IF(G48=\"\",\"\",IF(OR(G48>(F48+0.03),G48<(F48-0.03)),\"Agncy Repl.\",\"\"))","v":""},{"$f":"IF(H48=\"\",\"\",IF(I48=\"\",H48,IF(OR(I48>(H48+0.03),I48<(H48-0.03)),I48,H48)))","v":""},{"$f":"IF(I48=\"\",\"\",IF(OR(I48>(H48+0.03),I48<(H48-0.03)),\"Agncy Repl.\",\"\"))","v":""},{"$f":"IF(J48=\"\",\"\",IF(K48=\"\",J48,IF(OR(K48>(J48+0.03),K48<(J48-0.03)),K48,J48)))","v":""},{"$f":"IF(K48=\"\",\"\",IF(OR(K48>(J48+0.03),K48<(J48-0.03)),\"Agncy Repl.\",\"\"))","v":""},null,{"$f":"$A$49","v":60},{"$f":"$B$49","v":"Gyrations"},"Calc. Gmb",{"$f":"IF(P48=\"\",\"\",IF(Q48=\"\",P48,IF(OR(Q48>(P48+0.03),Q48<(P48-0.03)),Q48,P48)))","v":""},{"$f":"IF(Q48=\"\",\"\",IF(OR(Q48>(P48+0.03),Q48<(P48-0.03)),\"Agncy Repl.\",\"\"))","v":""},{"$f":"IF(R48=\"\",\"\",IF(S48=\"\",R48,IF(OR(S48>(R48+0.03),S48<(R48-0.03)),S48,R48)))","v":""},{"$f":"IF(S48=\"\",\"\",IF(OR(S48>(R48+0.03),S48<(R48-0.03)),\"Agncy Repl.\",\"\"))","v":""},{"$f":"IF(T48=\"\",\"\",IF(U48=\"\",T48,IF(OR(U48>(T48+0.03),U48<(T48-0.03)),U48,T48)))","v":""},{"$f":"IF(U48=\"\",\"\",IF(OR(U48>(T48+0.03),U48<(T48-0.03)),\"Agncy Repl.\",\"\"))","v":""},{"$f":"IF(V48=\"\",\"\",IF(W48=\"\",V48,IF(OR(W48>(V48+0.03),W48<(V48-0.03)),W48,V48)))","v":""},{"$f":"IF(W48=\"\",\"\",IF(OR(W48>(V48+0.03),W48<(V48-0.03)),\"Agncy Repl.\",\"\"))","v":""},null,{"$f":"$A$49","v":60},{"$f":"$B$49","v":"Gyrations"},"Calc. Gmb",{"$f":"IF(AB48=\"\",\"\",IF(AC48=\"\",AB48,IF(OR(AC48>(AB48+0.03),AC48<(AB48-0.03)),AC48,AB48)))","v":""},{"$f":"IF(AC48=\"\",\"\",IF(OR(AC48>(AB48+0.03),AC48<(AB48-0.03)),\"Agncy Repl.\",\"\"))","v":""},{"$f":"IF(AD48=\"\",\"\",IF(AE48=\"\",AD48,IF(OR(AE48>(AD48+0.03),AE48<(AD48-0.03)),AE48,AD48)))","v":""},{"$f":"IF(AE48=\"\",\"\",IF(OR(AE48>(AD48+0.03),AE48<(AD48-0.03)),\"Agncy Repl.\",\"\"))","v":""},{"$f":"IF(AF48=\"\",\"\",IF(AG48=\"\",AF48,IF(OR(AG48>(AF48+0.03),AG48<(AF48-0.03)),AG48,AF48)))","v":""},{"$f":"IF(AG48=\"\",\"\",IF(OR(AG48>(AF48+0.03),AG48<(AF48-0.03)),\"Agncy Repl.\",\"\"))","v":""},{"$f":"IF(AH48=\"\",\"\",IF(AI48=\"\",AH48,IF(OR(AI48>(AH48+0.03),AI48<(AH48-0.03)),AI48,AH48)))","v":""},{"$f":"IF(AI48=\"\",\"\",IF(OR(AI48>(AH48+0.03),AI48<(AH48-0.03)),\"Agncy Repl.\",\"\"))","v":""},null,{"$f":"$A$49","v":60},{"$f":"$B$49","v":"Gyrations"},"Calc. Gmb",{"$f":"IF(AN48=\"\",\"\",IF(AO48=\"\",AN48,IF(OR(AO48>(AN48+0.03),AO48<(AN48-0.03)),AO48,AN48)))","v":""},{"$f":"IF(AO48=\"\",\"\",IF(OR(AO48>(AN48+0.03),AO48<(AN48-0.03)),\"Agncy Repl.\",\"\"))","v":""},{"$f":"IF(AP48=\"\",\"\",IF(AQ48=\"\",AP48,IF(OR(AQ48>(AP48+0.03),AQ48<(AP48-0.03)),AQ48,AP48)))","v":""},{"$f":"IF(AQ48=\"\",\"\",IF(OR(AQ48>(AP48+0.03),AQ48<(AP48-0.03)),\"Agncy Repl.\",\"\"))","v":""},{"$f":"IF(AR48=\"\",\"\",IF(AS48=\"\",AR48,IF(OR(AS48>(AR48+0.03),AS48<(AR48-0.03)),AS48,AR48)))","v":""},{"$f":"IF(AS48=\"\",\"\",IF(OR(AS48>(AR48+0.03),AS48<(AR48-0.03)),\"Agncy Repl.\",\"\"))","v":""},{"$f":"IF(AT48=\"\",\"\",IF(AU48=\"\",AT48,IF(OR(AU48>(AT48+0.03),AU48<(AT48-0.03)),AU48,AT48)))","v":""},{"$f":"IF(AU48=\"\",\"\",IF(OR(AU48>(AT48+0.03),AU48<(AT48-0.03)),\"Agncy Repl.\",\"\"))","v":""},null,{"$f":"$A$49","v":60},{"$f":"$B$49","v":"Gyrations"},"Calc. Gmb",{"$f":"IF(AZ48=\"\",\"\",IF(BA48=\"\",AZ48,IF(OR(BA48>(AZ48+0.03),BA48<(AZ48-0.03)),BA48,AZ48)))","v":""},{"$f":"IF(BA48=\"\",\"\",IF(OR(BA48>(AZ48+0.03),BA48<(AZ48-0.03)),\"Agncy Repl.\",\"\"))","v":""},{"$f":"IF(BB48=\"\",\"\",IF(BC48=\"\",BB48,IF(OR(BC48>(BB48+0.03),BC48<(BB48-0.03)),BC48,BB48)))","v":""},{"$f":"IF(BC48=\"\",\"\",IF(OR(BC48>(BB48+0.03),BC48<(BB48-0.03)),\"Agncy Repl.\",\"\"))","v":""},{"$f":"IF(BD48=\"\",\"\",IF(BE48=\"\",BD48,IF(OR(BE48>(BD48+0.03),BE48<(BD48-0.03)),BE48,BD48)))","v":""},{"$f":"IF(BE48=\"\",\"\",IF(OR(BE48>(BD48+0.03),BE48<(BD48-0.03)),\"Agncy Repl.\",\"\"))","v":""},{"$f":"IF(BF48=\"\",\"\",IF(BG48=\"\",BF48,IF(OR(BG48>(BF48+0.03),BG48<(BF48-0.03)),BG48,BF48)))","v":""},{"$f":"IF(BG48=\"\",\"\",IF(OR(BG48>(BF48+0.03),BG48<(BF48-0.03)),\"Agncy Repl.\",\"\"))","v":""},null,{"$f":"$A$49","v":60},{"$f":"$B$49","v":"Gyrations"},"Calc. Gmb",{"$f":"IF(BL48=\"\",\"\",IF(BM48=\"\",BL48,IF(OR(BM48>(BL48+0.03),BM48<(BL48-0.03)),BM48,BL48)))","v":""},{"$f":"IF(BM48=\"\",\"\",IF(OR(BM48>(BL48+0.03),BM48<(BL48-0.03)),\"Agncy Repl.\",\"\"))","v":""},{"$f":"IF(BN48=\"\",\"\",IF(BO48=\"\",BN48,IF(OR(BO48>(BN48+0.03),BO48<(BN48-0.03)),BO48,BN48)))","v":""},{"$f":"IF(BO48=\"\",\"\",IF(OR(BO48>(BN48+0.03),BO48<(BN48-0.03)),\"Agncy Repl.\",\"\"))","v":""},{"$f":"IF(BP48=\"\",\"\",IF(BQ48=\"\",BP48,IF(OR(BQ48>(BP48+0.03),BQ48<(BP48-0.03)),BQ48,BP48)))","v":""},{"$f":"IF(BQ48=\"\",\"\",IF(OR(BQ48>(BP48+0.03),BQ48<(BP48-0.03)),\"Agncy Repl.\",\"\"))","v":""},{"$f":"IF(BR48=\"\",\"\",IF(BS48=\"\",BR48,IF(OR(BS48>(BR48+0.03),BS48<(BR48-0.03)),BS48,BR48)))","v":""},{"$f":"IF(BS48=\"\",\"\",IF(OR(BS48>(BR48+0.03),BS48<(BR48-0.03)),\"Agncy Repl.\",\"\"))","v":""},null,{"$f":"$A$49","v":60},{"$f":"$B$49","v":"Gyrations"},"Calc. Gmb",{"$f":"IF(BX48=\"\",\"\",IF(BY48=\"\",BX48,IF(OR(BY48>(BX48+0.03),BY48<(BX48-0.03)),BY48,BX48)))","v":""},{"$f":"IF(BY48=\"\",\"\",IF(OR(BY48>(BX48+0.03),BY48<(BX48-0.03)),\"Agncy Repl.\",\"\"))","v":""},{"$f":"IF(BZ48=\"\",\"\",IF(CA48=\"\",BZ48,IF(OR(CA48>(BZ48+0.03),CA48<(BZ48-0.03)),CA48,BZ48)))","v":""},{"$f":"IF(CA48=\"\",\"\",IF(OR(CA48>(BZ48+0.03),CA48<(BZ48-0.03)),\"Agncy Repl.\",\"\"))","v":""},{"$f":"IF(CB48=\"\",\"\",IF(CC48=\"\",CB48,IF(OR(CC48>(CB48+0.03),CC48<(CB48-0.03)),CC48,CB48)))","v":""},{"$f":"IF(CC48=\"\",\"\",IF(OR(CC48>(CB48+0.03),CC48<(CB48-0.03)),\"Agncy Repl.\",\"\"))","v":""},{"$f":"IF(CD48=\"\",\"\",IF(CE48=\"\",CD48,IF(OR(CE48>(CD48+0.03),CE48<(CD48-0.03)),CE48,CD48)))","v":""},{"$f":"IF(CE48=\"\",\"\",IF(OR(CE48>(CD48+0.03),CE48<(CD48-0.03)),\"Agncy Repl.\",\"\"))","v":""},null,{"$f":"$A$49","v":60},{"$f":"$B$49","v":"Gyrations"},"Calc. Gmb",{"$f":"IF(CJ48=\"\",\"\",IF(CK48=\"\",CJ48,IF(OR(CK48>(CJ48+0.03),CK48<(CJ48-0.03)),CK48,CJ48)))","v":""},{"$f":"IF(CK48=\"\",\"\",IF(OR(CK48>(CJ48+0.03),CK48<(CJ48-0.03)),\"Agncy Repl.\",\"\"))","v":""},{"$f":"IF(CL48=\"\",\"\",IF(CM48=\"\",CL48,IF(OR(CM48>(CL48+0.03),CM48<(CL48-0.03)),CM48,CL48)))","v":""},{"$f":"IF(CM48=\"\",\"\",IF(OR(CM48>(CL48+0.03),CM48<(CL48-0.03)),\"Agncy Repl.\",\"\"))","v":""},{"$f":"IF(CN48=\"\",\"\",IF(CO48=\"\",CN48,IF(OR(CO48>(CN48+0.03),CO48<(CN48-0.03)),CO48,CN48)))","v":""},{"$f":"IF(CO48=\"\",\"\",IF(OR(CO48>(CN48+0.03),CO48<(CN48-0.03)),\"Agncy Repl.\",\"\"))","v":""},{"$f":"IF(CP48=\"\",\"\",IF(CQ48=\"\",CP48,IF(OR(CQ48>(CP48+0.03),CQ48<(CP48-0.03)),CQ48,CP48)))","v":""},{"$f":"IF(CQ48=\"\",\"\",IF(OR(CQ48>(CP48+0.03),CQ48<(CP48-0.03)),\"Agncy Repl.\",\"\"))","v":""},null,{"$f":"$A$49","v":60},{"$f":"$B$49","v":"Gyrations"},"Calc. Gmb",{"$f":"IF(CV48=\"\",\"\",IF(CW48=\"\",CV48,IF(OR(CW48>(CV48+0.03),CW48<(CV48-0.03)),CW48,CV48)))","v":""},{"$f":"IF(CW48=\"\",\"\",IF(OR(CW48>(CV48+0.03),CW48<(CV48-0.03)),\"Agncy Repl.\",\"\"))","v":""},{"$f":"IF(CX48=\"\",\"\",IF(CY48=\"\",CX48,IF(OR(CY48>(CX48+0.03),CY48<(CX48-0.03)),CY48,CX48)))","v":""},{"$f":"IF(CY48=\"\",\"\",IF(OR(CY48>(CX48+0.03),CY48<(CX48-0.03)),\"Agncy Repl.\",\"\"))","v":""},{"$f":"IF(CZ48=\"\",\"\",IF(DA48=\"\",CZ48,IF(OR(DA48>(CZ48+0.03),DA48<(CZ48-0.03)),DA48,CZ48)))","v":""},{"$f":"IF(DA48=\"\",\"\",IF(OR(DA48>(CZ48+0.03),DA48<(CZ48-0.03)),\"Agncy Repl.\",\"\"))","v":""},{"$f":"IF(DB48=\"\",\"\",IF(DC48=\"\",DB48,IF(OR(DC48>(DB48+0.03),DC48<(DB48-0.03)),DC48,DB48)))","v":""},{"$f":"IF(DC48=\"\",\"\",IF(OR(DC48>(DB48+0.03),DC48<(DB48-0.03)),\"Agncy Repl.\",\"\"))","v":""},null,{"$f":"$A$49","v":60},{"$f":"$B$49","v":"Gyrations"},"Calc. Gmb",{"$f":"IF(DH48=\"\",\"\",IF(DI48=\"\",DH48,IF(OR(DI48>(DH48+0.03),DI48<(DH48-0.03)),DI48,DH48)))","v":""},{"$f":"IF(DI48=\"\",\"\",IF(OR(DI48>(DH48+0.03),DI48<(DH48-0.03)),\"Agncy Repl.\",\"\"))","v":""},{"$f":"IF(DJ48=\"\",\"\",IF(DK48=\"\",DJ48,IF(OR(DK48>(DJ48+0.03),DK48<(DJ48-0.03)),DK48,DJ48)))","v":""},{"$f":"IF(DK48=\"\",\"\",IF(OR(DK48>(DJ48+0.03),DK48<(DJ48-0.03)),\"Agncy Repl.\",\"\"))","v":""},{"$f":"IF(DL48=\"\",\"\",IF(DM48=\"\",DL48,IF(OR(DM48>(DL48+0.03),DM48<(DL48-0.03)),DM48,DL48)))","v":""},{"$f":"IF(DM48=\"\",\"\",IF(OR(DM48>(DL48+0.03),DM48<(DL48-0.03)),\"Agncy Repl.\",\"\"))","v":""},{"$f":"IF(DN48=\"\",\"\",IF(DO48=\"\",DN48,IF(OR(DO48>(DN48+0.03),DO48<(DN48-0.03)),DO48,DN48)))","v":""},{"$f":"IF(DO48=\"\",\"\",IF(OR(DO48>(DN48+0.03),DO48<(DN48-0.03)),\"Agncy Repl.\",\"\"))","v":""},null,{"$f":"$A$49","v":60},{"$f":"$B$49","v":"Gyrations"},"Calc. Gmb",{"$f":"IF(DT48=\"\",\"\",IF(DU48=\"\",DT48,IF(OR(DU48>(DT48+0.03),DU48<(DT48-0.03)),DU48,DT48)))","v":""},{"$f":"IF(DU48=\"\",\"\",IF(OR(DU48>(DT48+0.03),DU48<(DT48-0.03)),\"Agncy Repl.\",\"\"))","v":""},{"$f":"IF(DV48=\"\",\"\",IF(DW48=\"\",DV48,IF(OR(DW48>(DV48+0.03),DW48<(DV48-0.03)),DW48,DV48)))","v":""},{"$f":"IF(DW48=\"\",\"\",IF(OR(DW48>(DV48+0.03),DW48<(DV48-0.03)),\"Agncy Repl.\",\"\"))","v":""},{"$f":"IF(DX48=\"\",\"\",IF(DY48=\"\",DX48,IF(OR(DY48>(DX48+0.03),DY48<(DX48-0.03)),DY48,DX48)))","v":""},{"$f":"IF(DY48=\"\",\"\",IF(OR(DY48>(DX48+0.03),DY48<(DX48-0.03)),\"Agncy Repl.\",\"\"))","v":""},{"$f":"IF(DZ48=\"\",\"\",IF(EA48=\"\",DZ48,IF(OR(EA48>(DZ48+0.03),EA48<(DZ48-0.03)),EA48,DZ48)))","v":""},{"$f":"IF(EA48=\"\",\"\",IF(OR(EA48>(DZ48+0.03),EA48<(DZ48-0.03)),\"Agncy Repl.\",\"\"))","v":""},null,{"$f":"$A$49","v":60},{"$f":"$B$49","v":"Gyrations"},"Calc. Gmb",{"$f":"IF(EF48=\"\",\"\",IF(EG48=\"\",EF48,IF(OR(EG48>(EF48+0.03),EG48<(EF48-0.03)),EG48,EF48)))","v":""},{"$f":"IF(EG48=\"\",\"\",IF(OR(EG48>(EF48+0.03),EG48<(EF48-0.03)),\"Agncy Repl.\",\"\"))","v":""},{"$f":"IF(EH48=\"\",\"\",IF(EI48=\"\",EH48,IF(OR(EI48>(EH48+0.03),EI48<(EH48-0.03)),EI48,EH48)))","v":""},{"$f":"IF(EI48=\"\",\"\",IF(OR(EI48>(EH48+0.03),EI48<(EH48-0.03)),\"Agncy Repl.\",\"\"))","v":""},{"$f":"IF(EJ48=\"\",\"\",IF(EK48=\"\",EJ48,IF(OR(EK48>(EJ48+0.03),EK48<(EJ48-0.03)),EK48,EJ48)))","v":""},{"$f":"IF(EK48=\"\",\"\",IF(OR(EK48>(EJ48+0.03),EK48<(EJ48-0.03)),\"Agncy Repl.\",\"\"))","v":""},{"$f":"IF(EL48=\"\",\"\",IF(EM48=\"\",EL48,IF(OR(EM48>(EL48+0.03),EM48<(EL48-0.03)),EM48,EL48)))","v":""},{"$f":"IF(EM48=\"\",\"\",IF(OR(EM48>(EL48+0.03),EM48<(EL48-0.03)),\"Agncy Repl.\",\"\"))","v":""},null,{"$f":"$A$49","v":60},{"$f":"$B$49","v":"Gyrations"},"Calc. Gmb",{"$f":"IF(ER48=\"\",\"\",IF(ES48=\"\",ER48,IF(OR(ES48>(ER48+0.03),ES48<(ER48-0.03)),ES48,ER48)))","v":""},{"$f":"IF(ES48=\"\",\"\",IF(OR(ES48>(ER48+0.03),ES48<(ER48-0.03)),\"Agncy Repl.\",\"\"))","v":""},{"$f":"IF(ET48=\"\",\"\",IF(EU48=\"\",ET48,IF(OR(EU48>(ET48+0.03),EU48<(ET48-0.03)),EU48,ET48)))","v":""},{"$f":"IF(EU48=\"\",\"\",IF(OR(EU48>(ET48+0.03),EU48<(ET48-0.03)),\"Agncy Repl.\",\"\"))","v":""},{"$f":"IF(EV48=\"\",\"\",IF(EW48=\"\",EV48,IF(OR(EW48>(EV48+0.03),EW48<(EV48-0.03)),EW48,EV48)))","v":""},{"$f":"IF(EW48=\"\",\"\",IF(OR(EW48>(EV48+0.03),EW48<(EV48-0.03)),\"Agncy Repl.\",\"\"))","v":""},{"$f":"IF(EX48=\"\",\"\",IF(EY48=\"\",EX48,IF(OR(EY48>(EX48+0.03),EY48<(EX48-0.03)),EY48,EX48)))","v":""},{"$f":"IF(EY48=\"\",\"\",IF(OR(EY48>(EX48+0.03),EY48<(EX48-0.03)),\"Agncy Repl.\",\"\"))","v":""},null,{"$f":"$A$49","v":60},{"$f":"$B$49","v":"Gyrations"},"Calc. Gmb",{"$f":"IF(FD48=\"\",\"\",IF(FE48=\"\",FD48,IF(OR(FE48>(FD48+0.03),FE48<(FD48-0.03)),FE48,FD48)))","v":""},{"$f":"IF(FE48=\"\",\"\",IF(OR(FE48>(FD48+0.03),FE48<(FD48-0.03)),\"Agncy Repl.\",\"\"))","v":""},{"$f":"IF(FF48=\"\",\"\",IF(FG48=\"\",FF48,IF(OR(FG48>(FF48+0.03),FG48<(FF48-0.03)),FG48,FF48)))","v":""},{"$f":"IF(FG48=\"\",\"\",IF(OR(FG48>(FF48+0.03),FG48<(FF48-0.03)),\"Agncy Repl.\",\"\"))","v":""},{"$f":"IF(FH48=\"\",\"\",IF(FI48=\"\",FH48,IF(OR(FI48>(FH48+0.03),FI48<(FH48-0.03)),FI48,FH48)))","v":""},{"$f":"IF(FI48=\"\",\"\",IF(OR(FI48>(FH48+0.03),FI48<(FH48-0.03)),\"Agncy Repl.\",\"\"))","v":""},{"$f":"IF(FJ48=\"\",\"\",IF(FK48=\"\",FJ48,IF(OR(FK48>(FJ48+0.03),FK48<(FJ48-0.03)),FK48,FJ48)))","v":""},{"$f":"IF(FK48=\"\",\"\",IF(OR(FK48>(FJ48+0.03),FK48<(FJ48-0.03)),\"Agncy Repl.\",\"\"))","v":""},null,{"$f":"$A$49","v":60},{"$f":"$B$49","v":"Gyrations"},"Calc. Gmb",{"$f":"IF(FP48=\"\",\"\",IF(FQ48=\"\",FP48,IF(OR(FQ48>(FP48+0.03),FQ48<(FP48-0.03)),FQ48,FP48)))","v":""},{"$f":"IF(FQ48=\"\",\"\",IF(OR(FQ48>(FP48+0.03),FQ48<(FP48-0.03)),\"Agncy Repl.\",\"\"))","v":""},{"$f":"IF(FR48=\"\",\"\",IF(FS48=\"\",FR48,IF(OR(FS48>(FR48+0.03),FS48<(FR48-0.03)),FS48,FR48)))","v":""},{"$f":"IF(FS48=\"\",\"\",IF(OR(FS48>(FR48+0.03),FS48<(FR48-0.03)),\"Agncy Repl.\",\"\"))","v":""},{"$f":"IF(FT48=\"\",\"\",IF(FU48=\"\",FT48,IF(OR(FU48>(FT48+0.03),FU48<(FT48-0.03)),FU48,FT48)))","v":""},{"$f":"IF(FU48=\"\",\"\",IF(OR(FU48>(FT48+0.03),FU48<(FT48-0.03)),\"Agncy Repl.\",\"\"))","v":""},{"$f":"IF(FV48=\"\",\"\",IF(FW48=\"\",FV48,IF(OR(FW48>(FV48+0.03),FW48<(FV48-0.03)),FW48,FV48)))","v":""},{"$f":"IF(FW48=\"\",\"\",IF(OR(FW48>(FV48+0.03),FW48<(FV48-0.03)),\"Agncy Repl.\",\"\"))","v":""},null,{"$f":"$A$49","v":60},{"$f":"$B$49","v":"Gyrations"},"Calc. Gmb",{"$f":"IF(GB48=\"\",\"\",IF(GC48=\"\",GB48,IF(OR(GC48>(GB48+0.03),GC48<(GB48-0.03)),GC48,GB48)))","v":""},{"$f":"IF(GC48=\"\",\"\",IF(OR(GC48>(GB48+0.03),GC48<(GB48-0.03)),\"Agncy Repl.\",\"\"))","v":""},{"$f":"IF(GD48=\"\",\"\",IF(GE48=\"\",GD48,IF(OR(GE48>(GD48+0.03),GE48<(GD48-0.03)),GE48,GD48)))","v":""},{"$f":"IF(GE48=\"\",\"\",IF(OR(GE48>(GD48+0.03),GE48<(GD48-0.03)),\"Agncy Repl.\",\"\"))","v":""},{"$f":"IF(GF48=\"\",\"\",IF(GG48=\"\",GF48,IF(OR(GG48>(GF48+0.03),GG48<(GF48-0.03)),GG48,GF48)))","v":""},{"$f":"IF(GG48=\"\",\"\",IF(OR(GG48>(GF48+0.03),GG48<(GF48-0.03)),\"Agncy Repl.\",\"\"))","v":""},{"$f":"IF(GH48=\"\",\"\",IF(GI48=\"\",GH48,IF(OR(GI48>(GH48+0.03),GI48<(GH48-0.03)),GI48,GH48)))","v":""},{"$f":"IF(GI48=\"\",\"\",IF(OR(GI48>(GH48+0.03),GI48<(GH48-0.03)),\"Agncy Repl.\",\"\"))","v":""},null,{"$f":"$A$49","v":60},{"$f":"$B$49","v":"Gyrations"},"Calc. Gmb",{"$f":"IF(GN48=\"\",\"\",IF(GO48=\"\",GN48,IF(OR(GO48>(GN48+0.03),GO48<(GN48-0.03)),GO48,GN48)))","v":""},{"$f":"IF(GO48=\"\",\"\",IF(OR(GO48>(GN48+0.03),GO48<(GN48-0.03)),\"Agncy Repl.\",\"\"))","v":""},{"$f":"IF(GP48=\"\",\"\",IF(GQ48=\"\",GP48,IF(OR(GQ48>(GP48+0.03),GQ48<(GP48-0.03)),GQ48,GP48)))","v":""},{"$f":"IF(GQ48=\"\",\"\",IF(OR(GQ48>(GP48+0.03),GQ48<(GP48-0.03)),\"Agncy Repl.\",\"\"))","v":""},{"$f":"IF(GR48=\"\",\"\",IF(GS48=\"\",GR48,IF(OR(GS48>(GR48+0.03),GS48<(GR48-0.03)),GS48,GR48)))","v":""},{"$f":"IF(GS48=\"\",\"\",IF(OR(GS48>(GR48+0.03),GS48<(GR48-0.03)),\"Agncy Repl.\",\"\"))","v":""},{"$f":"IF(GT48=\"\",\"\",IF(GU48=\"\",GT48,IF(OR(GU48>(GT48+0.03),GU48<(GT48-0.03)),GU48,GT48)))","v":""},{"$f":"IF(GU48=\"\",\"\",IF(OR(GU48>(GT48+0.03),GU48<(GT48-0.03)),\"Agncy Repl.\",\"\"))","v":""},null,{"$f":"$A$49","v":60},{"$f":"$B$49","v":"Gyrations"},"Calc. Gmb",{"$f":"IF(GZ48=\"\",\"\",IF(HA48=\"\",GZ48,IF(OR(HA48>(GZ48+0.03),HA48<(GZ48-0.03)),HA48,GZ48)))","v":""},{"$f":"IF(HA48=\"\",\"\",IF(OR(HA48>(GZ48+0.03),HA48<(GZ48-0.03)),\"Agncy Repl.\",\"\"))","v":""},{"$f":"IF(HB48=\"\",\"\",IF(HC48=\"\",HB48,IF(OR(HC48>(HB48+0.03),HC48<(HB48-0.03)),HC48,HB48)))","v":""},{"$f":"IF(HC48=\"\",\"\",IF(OR(HC48>(HB48+0.03),HC48<(HB48-0.03)),\"Agncy Repl.\",\"\"))","v":""},{"$f":"IF(HD48=\"\",\"\",IF(HE48=\"\",HD48,IF(OR(HE48>(HD48+0.03),HE48<(HD48-0.03)),HE48,HD48)))","v":""},{"$f":"IF(HE48=\"\",\"\",IF(OR(HE48>(HD48+0.03),HE48<(HD48-0.03)),\"Agncy Repl.\",\"\"))","v":""},{"$f":"IF(HF48=\"\",\"\",IF(HG48=\"\",HF48,IF(OR(HG48>(HF48+0.03),HG48<(HF48-0.03)),HG48,HF48)))","v":""},{"$f":"IF(HG48=\"\",\"\",IF(OR(HG48>(HF48+0.03),HG48<(HF48-0.03)),\"Agncy Repl.\",\"\"))","v":""},null,{"$f":"$A$49","v":60},{"$f":"$B$49","v":"Gyrations"},"Calc. Gmb",{"$f":"IF(HL48=\"\",\"\",IF(HM48=\"\",HL48,IF(OR(HM48>(HL48+0.03),HM48<(HL48-0.03)),HM48,HL48)))","v":""},{"$f":"IF(HM48=\"\",\"\",IF(OR(HM48>(HL48+0.03),HM48<(HL48-0.03)),\"Agncy Repl.\",\"\"))","v":""},{"$f":"IF(HN48=\"\",\"\",IF(HO48=\"\",HN48,IF(OR(HO48>(HN48+0.03),HO48<(HN48-0.03)),HO48,HN48)))","v":""},{"$f":"IF(HO48=\"\",\"\",IF(OR(HO48>(HN48+0.03),HO48<(HN48-0.03)),\"Agncy Repl.\",\"\"))","v":""},{"$f":"IF(HP48=\"\",\"\",IF(HQ48=\"\",HP48,IF(OR(HQ48>(HP48+0.03),HQ48<(HP48-0.03)),HQ48,HP48)))","v":""},{"$f":"IF(HQ48=\"\",\"\",IF(OR(HQ48>(HP48+0.03),HQ48<(HP48-0.03)),\"Agncy Repl.\",\"\"))","v":""},{"$f":"IF(HR48=\"\",\"\",IF(HS48=\"\",HR48,IF(OR(HS48>(HR48+0.03),HS48<(HR48-0.03)),HS48,HR48)))","v":""},{"$f":"IF(HS48=\"\",\"\",IF(OR(HS48>(HR48+0.03),HS48<(HR48-0.03)),\"Agncy Repl.\",\"\"))","v":""},null,{"$f":"$A$49","v":60},{"$f":"$B$49","v":"Gyrations"},"Calc. Gmb",{"$f":"IF(HX48=\"\",\"\",IF(HY48=\"\",HX48,IF(OR(HY48>(HX48+0.03),HY48<(HX48-0.03)),HY48,HX48)))","v":""},{"$f":"IF(HY48=\"\",\"\",IF(OR(HY48>(HX48+0.03),HY48<(HX48-0.03)),\"Agncy Repl.\",\"\"))","v":""},{"$f":"IF(HZ48=\"\",\"\",IF(IA48=\"\",HZ48,IF(OR(IA48>(HZ48+0.03),IA48<(HZ48-0.03)),IA48,HZ48)))","v":""},{"$f":"IF(IA48=\"\",\"\",IF(OR(IA48>(HZ48+0.03),IA48<(HZ48-0.03)),\"Agncy Repl.\",\"\"))","v":""},{"$f":"IF(IB48=\"\",\"\",IF(IC48=\"\",IB48,IF(OR(IC48>(IB48+0.03),IC48<(IB48-0.03)),IC48,IB48)))","v":""},{"$f":"IF(IC48=\"\",\"\",IF(OR(IC48>(IB48+0.03),IC48<(IB48-0.03)),\"Agncy Repl.\",\"\"))","v":""},{"$f":"IF(ID48=\"\",\"\",IF(IE48=\"\",ID48,IF(OR(IE48>(ID48+0.03),IE48<(ID48-0.03)),IE48,ID48)))","v":""},{"$f":"IF(IE48=\"\",\"\",IF(OR(IE48>(ID48+0.03),IE48<(ID48-0.03)),\"Agncy Repl.\",\"\"))","v":""},null,{"$f":"$A$49","v":60},{"$f":"$B$49","v":"Gyrations"},"Calc. Gmb",{"$f":"IF(IJ48=\"\",\"\",IF(IK48=\"\",IJ48,IF(OR(IK48>(IJ48+0.03),IK48<(IJ48-0.03)),IK48,IJ48)))","v":""},{"$f":"IF(IK48=\"\",\"\",IF(OR(IK48>(IJ48+0.03),IK48<(IJ48-0.03)),\"Agncy Repl.\",\"\"))","v":""},{"$f":"IF(IL48=\"\",\"\",IF(IM48=\"\",IL48,IF(OR(IM48>(IL48+0.03),IM48<(IL48-0.03)),IM48,IL48)))","v":""},{"$f":"IF(IM48=\"\",\"\",IF(OR(IM48>(IL48+0.03),IM48<(IL48-0.03)),\"Agncy Repl.\",\"\"))","v":""},{"$f":"IF(IN48=\"\",\"\",IF(IO48=\"\",IN48,IF(OR(IO48>(IN48+0.03),IO48<(IN48-0.03)),IO48,IN48)))","v":""},{"$f":"IF(IO48=\"\",\"\",IF(OR(IO48>(IN48+0.03),IO48<(IN48-0.03)),\"Agncy Repl.\",\"\"))","v":""},{"$f":"IF(IP48=\"\",\"\",IF(IQ48=\"\",IP48,IF(OR(IQ48>(IP48+0.03),IQ48<(IP48-0.03)),IQ48,IP48)))","v":""},{"$f":"IF(IQ48=\"\",\"\",IF(OR(IQ48>(IP48+0.03),IQ48<(IP48-0.03)),\"Agncy Repl.\",\"\"))","v":""}]
[null,null,"Isolated",{"$f":"IF(D48=\"\",\"\",Mix!J11)","v":""},{"$f":"IF(E48=\"\",\"\",ROUND(((E45-E48)/E45*100),1))","v":""},{"$f":"IF(F48=\"\",\"\",Mix!J12)","v":""},{"$f":"IF(G48=\"\",\"\",ROUND(((G45-G48)/G45*100),1))","v":""},{"$f":"IF(H48=\"\",\"\",Mix!J13)","v":""},{"$f":"IF(I48=\"\",\"\",ROUND(((I45-I48)/I45*100),1))","v":""},{"$f":"IF(J48=\"\",\"\",Mix!J14)","v":""},{"$f":"IF(K48=\"\",\"\",ROUND(((K45-K48)/K45*100),1))","v":""},null,null,null,"Isolated",{"$f":"IF(P48=\"\",\"\",Mix!J15)","v":""},{"$f":"IF(Q48=\"\",\"\",ROUND(((Q45-Q48)/Q45*100),1))","v":""},{"$f":"IF(R48=\"\",\"\",Mix!J16)","v":""},{"$f":"IF(S48=\"\",\"\",ROUND(((S45-S48)/S45*100),1))","v":""},{"$f":"IF(T48=\"\",\"\",Mix!J17)","v":""},{"$f":"IF(U48=\"\",\"\",ROUND(((U45-U48)/U45*100),1))","v":""},{"$f":"IF(V48=\"\",\"\",Mix!J18)","v":""},{"$f":"IF(W48=\"\",\"\",ROUND(((W45-W48)/W45*100),1))","v":""},null,null,null,"Isolated",{"$f":"IF(AB48=\"\",\"\",Mix!J19)","v":""},{"$f":"IF(AC48=\"\",\"\",ROUND(((AC45-AC48)/AC45*100),1))","v":""},{"$f":"IF(AD48=\"\",\"\",Mix!J20)","v":""},{"$f":"IF(AE48=\"\",\"\",ROUND(((AE45-AE48)/AE45*100),1))","v":""},{"$f":"IF(AF48=\"\",\"\",Mix!J21)","v":""},{"$f":"IF(AG48=\"\",\"\",ROUND(((AG45-AG48)/AG45*100),1))","v":""},{"$f":"IF(AH48=\"\",\"\",Mix!J22)","v":""},{"$f":"IF(AI48=\"\",\"\",ROUND(((AI45-AI48)/AI45*100),1))","v":""},null,null,null,"Isolated",{"$f":"IF(AN48=\"\",\"\",Mix!J23)","v":""},{"$f":"IF(AO48=\"\",\"\",ROUND(((AO45-AO48)/AO45*100),1))","v":""},{"$f":"IF(AP48=\"\",\"\",Mix!J24)","v":""},{"$f":"IF(AQ48=\"\",\"\",ROUND(((AQ45-AQ48)/AQ45*100),1))","v":""},{"$f":"IF(AR48=\"\",\"\",Mix!J25)","v":""},{"$f":"IF(AS48=\"\",\"\",ROUND(((AS45-AS48)/AS45*100),1))","v":""},{"$f":"IF(AT48=\"\",\"\",Mix!J26)","v":""},{"$f":"IF(AU48=\"\",\"\",ROUND(((AU45-AU48)/AU45*100),1))","v":""},null,null,null,"Isolated",{"$f":"IF(AZ48=\"\",\"\",Mix!J27)","v":""},{"$f":"IF(BA48=\"\",\"\",ROUND(((BA45-BA48)/BA45*100),1))","v":""},{"$f":"IF(BB48=\"\",\"\",Mix!J28)","v":""},{"$f":"IF(BC48=\"\",\"\",ROUND(((BC45-BC48)/BC45*100),1))","v":""},{"$f":"IF(BD48=\"\",\"\",Mix!J29)","v":""},{"$f":"IF(BE48=\"\",\"\",ROUND(((BE45-BE48)/BE45*100),1))","v":""},{"$f":"IF(BF48=\"\",\"\",Mix!J30)","v":""},{"$f":"IF(BG48=\"\",\"\",ROUND(((BG45-BG48)/BG45*100),1))","v":""},null,null,null,"Isolated",{"$f":"IF(BL48=\"\",\"\",Mix!J31)","v":""},{"$f":"IF(BM48=\"\",\"\",ROUND(((BM45-BM48)/BM45*100),1))","v":""},{"$f":"IF(BN48=\"\",\"\",Mix!J32)","v":""},{"$f":"IF(BO48=\"\",\"\",ROUND(((BO45-BO48)/BO45*100),1))","v":""},{"$f":"IF(BP48=\"\",\"\",Mix!J33)","v":""},{"$f":"IF(BQ48=\"\",\"\",ROUND(((BQ45-BQ48)/BQ45*100),1))","v":""},{"$f":"IF(BR48=\"\",\"\",Mix!J34)","v":""},{"$f":"IF(BS48=\"\",\"\",ROUND(((BS45-BS48)/BS45*100),1))","v":""},null,null,null,"Isolated",{"$f":"IF(BX48=\"\",\"\",Mix!J35)","v":""},{"$f":"IF(BY48=\"\",\"\",ROUND(((BY45-BY48)/BY45*100),1))","v":""},{"$f":"IF(BZ48=\"\",\"\",Mix!J36)","v":""},{"$f":"IF(CA48=\"\",\"\",ROUND(((CA45-CA48)/CA45*100),1))","v":""},{"$f":"IF(CB48=\"\",\"\",Mix!J37)","v":""},{"$f":"IF(CC48=\"\",\"\",ROUND(((CC45-CC48)/CC45*100),1))","v":""},{"$f":"IF(CD48=\"\",\"\",Mix!J38)","v":""},{"$f":"IF(CE48=\"\",\"\",ROUND(((CE45-CE48)/CE45*100),1))","v":""},null,null,null,"Isolated",{"$f":"IF(CJ48=\"\",\"\",Mix!J39)","v":""},{"$f":"IF(CK48=\"\",\"\",ROUND(((CK45-CK48)/CK45*100),1))","v":""},{"$f":"IF(CL48=\"\",\"\",Mix!J40)","v":""},{"$f":"IF(CM48=\"\",\"\",ROUND(((CM45-CM48)/CM45*100),1))","v":""},{"$f":"IF(CN48=\"\",\"\",Mix!J41)","v":""},{"$f":"IF(CO48=\"\",\"\",ROUND(((CO45-CO48)/CO45*100),1))","v":""},{"$f":"IF(CP48=\"\",\"\",Mix!J42)","v":""},{"$f":"IF(CQ48=\"\",\"\",ROUND(((CQ45-CQ48)/CQ45*100),1))","v":""},null,null,null,"Isolated",{"$f":"IF(CV48=\"\",\"\",Mix!J43)","v":""},{"$f":"IF(CW48=\"\",\"\",ROUND(((CW45-CW48)/CW45*100),1))","v":""},{"$f":"IF(CX48=\"\",\"\",Mix!J44)","v":""},{"$f":"IF(CY48=\"\",\"\",ROUND(((CY45-CY48)/CY45*100),1))","v":""},{"$f":"IF(CZ48=\"\",\"\",Mix!J45)","v":""},{"$f":"IF(DA48=\"\",\"\",ROUND(((DA45-DA48)/DA45*100),1))","v":""},{"$f":"IF(DB48=\"\",\"\",Mix!J46)","v":""},{"$f":"IF(DC48=\"\",\"\",ROUND(((DC45-DC48)/DC45*100),1))","v":""},null,null,null,"Isolated",{"$f":"IF(DH48=\"\",\"\",Mix!J47)","v":""},{"$f":"IF(DI48=\"\",\"\",ROUND(((DI45-DI48)/DI45*100),1))","v":""},{"$f":"IF(DJ48=\"\",\"\",Mix!J48)","v":""},{"$f":"IF(DK48=\"\",\"\",ROUND(((DK45-DK48)/DK45*100),1))","v":""},{"$f":"IF(DL48=\"\",\"\",Mix!J49)","v":""},{"$f":"IF(DM48=\"\",\"\",ROUND(((DM45-DM48)/DM45*100),1))","v":""},{"$f":"IF(DN48=\"\",\"\",Mix!J50)","v":""},{"$f":"IF(DO48=\"\",\"\",ROUND(((DO45-DO48)/DO45*100),1))","v":""},null,null,null,"Isolated",{"$f":"IF(DT48=\"\",\"\",Mix!J51)","v":""},{"$f":"IF(DU48=\"\",\"\",ROUND(((DU45-DU48)/DU45*100),1))","v":""},{"$f":"IF(DV48=\"\",\"\",Mix!J52)","v":""},{"$f":"IF(DW48=\"\",\"\",ROUND(((DW45-DW48)/DW45*100),1))","v":""},{"$f":"IF(DX48=\"\",\"\",Mix!J53)","v":""},{"$f":"IF(DY48=\"\",\"\",ROUND(((DY45-DY48)/DY45*100),1))","v":""},{"$f":"IF(DZ48=\"\",\"\",Mix!J54)","v":""},{"$f":"IF(EA48=\"\",\"\",ROUND(((EA45-EA48)/EA45*100),1))","v":""},null,null,null,"Isolated",{"$f":"IF(EF48=\"\",\"\",Mix!J55)","v":""},{"$f":"IF(EG48=\"\",\"\",ROUND(((EG45-EG48)/EG45*100),1))","v":""},{"$f":"IF(EH48=\"\",\"\",Mix!J56)","v":""},{"$f":"IF(EI48=\"\",\"\",ROUND(((EI45-EI48)/EI45*100),1))","v":""},{"$f":"IF(EJ48=\"\",\"\",Mix!J57)","v":""},{"$f":"IF(EK48=\"\",\"\",ROUND(((EK45-EK48)/EK45*100),1))","v":""},{"$f":"IF(EL48=\"\",\"\",Mix!J58)","v":""},{"$f":"IF(EM48=\"\",\"\",ROUND(((EM45-EM48)/EM45*100),1))","v":""},null,null,null,"Isolated",{"$f":"IF(ER48=\"\",\"\",Mix!J59)","v":""},{"$f":"IF(ES48=\"\",\"\",ROUND(((ES45-ES48)/ES45*100),1))","v":""},{"$f":"IF(ET48=\"\",\"\",Mix!J60)","v":""},{"$f":"IF(EU48=\"\",\"\",ROUND(((EU45-EU48)/EU45*100),1))","v":""},{"$f":"IF(EV48=\"\",\"\",Mix!J61)","v":""},{"$f":"IF(EW48=\"\",\"\",ROUND(((EW45-EW48)/EW45*100),1))","v":""},{"$f":"IF(EX48=\"\",\"\",Mix!J62)","v":""},{"$f":"IF(EY48=\"\",\"\",ROUND(((EY45-EY48)/EY45*100),1))","v":""},null,null,null,"Isolated",{"$f":"IF(FD48=\"\",\"\",Mix!J63)","v":""},{"$f":"IF(FE48=\"\",\"\",ROUND(((FE45-FE48)/FE45*100),1))","v":""},{"$f":"IF(FF48=\"\",\"\",Mix!J64)","v":""},{"$f":"IF(FG48=\"\",\"\",ROUND(((FG45-FG48)/FG45*100),1))","v":""},{"$f":"IF(FH48=\"\",\"\",Mix!J65)","v":""},{"$f":"IF(FI48=\"\",\"\",ROUND(((FI45-FI48)/FI45*100),1))","v":""},{"$f":"IF(FJ48=\"\",\"\",Mix!J66)","v":""},{"$f":"IF(FK48=\"\",\"\",ROUND(((FK45-FK48)/FK45*100),1))","v":""},null,null,null,"Isolated",{"$f":"IF(FP48=\"\",\"\",Mix!J67)","v":""},{"$f":"IF(FQ48=\"\",\"\",ROUND(((FQ45-FQ48)/FQ45*100),1))","v":""},{"$f":"IF(FR48=\"\",\"\",Mix!J68)","v":""},{"$f":"IF(FS48=\"\",\"\",ROUND(((FS45-FS48)/FS45*100),1))","v":""},{"$f":"IF(FT48=\"\",\"\",Mix!J69)","v":""},{"$f":"IF(FU48=\"\",\"\",ROUND(((FU45-FU48)/FU45*100),1))","v":""},{"$f":"IF(FV48=\"\",\"\",Mix!J70)","v":""},{"$f":"IF(FW48=\"\",\"\",ROUND(((FW45-FW48)/FW45*100),1))","v":""},null,null,null,"Isolated",{"$f":"IF(GB48=\"\",\"\",Mix!J71)","v":""},{"$f":"IF(GC48=\"\",\"\",ROUND(((GC45-GC48)/GC45*100),1))","v":""},{"$f":"IF(GD48=\"\",\"\",Mix!J72)","v":""},{"$f":"IF(GE48=\"\",\"\",ROUND(((GE45-GE48)/GE45*100),1))","v":""},{"$f":"IF(GF48=\"\",\"\",Mix!J73)","v":""},{"$f":"IF(GG48=\"\",\"\",ROUND(((GG45-GG48)/GG45*100),1))","v":""},{"$f":"IF(GH48=\"\",\"\",Mix!J74)","v":""},{"$f":"IF(GI48=\"\",\"\",ROUND(((GI45-GI48)/GI45*100),1))","v":""},null,null,null,"Isolated",{"$f":"IF(GN48=\"\",\"\",Mix!J75)","v":""},{"$f":"IF(GO48=\"\",\"\",ROUND(((GO45-GO48)/GO45*100),1))","v":""},{"$f":"IF(GP48=\"\",\"\",Mix!J76)","v":""},{"$f":"IF(GQ48=\"\",\"\",ROUND(((GQ45-GQ48)/GQ45*100),1))","v":""},{"$f":"IF(GR48=\"\",\"\",Mix!J77)","v":""},{"$f":"IF(GS48=\"\",\"\",ROUND(((GS45-GS48)/GS45*100),1))","v":""},{"$f":"IF(GT48=\"\",\"\",Mix!J78)","v":""},{"$f":"IF(GU48=\"\",\"\",ROUND(((GU45-GU48)/GU45*100),1))","v":""},null,null,null,"Isolated",{"$f":"IF(GZ48=\"\",\"\",Mix!J79)","v":""},{"$f":"IF(HA48=\"\",\"\",ROUND(((HA45-HA48)/HA45*100),1))","v":""},{"$f":"IF(HB48=\"\",\"\",Mix!J80)","v":""},{"$f":"IF(HC48=\"\",\"\",ROUND(((HC45-HC48)/HC45*100),1))","v":""},{"$f":"IF(HD48=\"\",\"\",Mix!J81)","v":""},{"$f":"IF(HE48=\"\",\"\",ROUND(((HE45-HE48)/HE45*100),1))","v":""},{"$f":"IF(HF48=\"\",\"\",Mix!J82)","v":""},{"$f":"IF(HG48=\"\",\"\",ROUND(((HG45-HG48)/HG45*100),1))","v":""},null,null,null,"Isolated",{"$f":"IF(HL48=\"\",\"\",Mix!J83)","v":""},{"$f":"IF(HM48=\"\",\"\",ROUND(((HM45-HM48)/HM45*100),1))","v":""},{"$f":"IF(HN48=\"\",\"\",Mix!J84)","v":""},{"$f":"IF(HO48=\"\",\"\",ROUND(((HO45-HO48)/HO45*100),1))","v":""},{"$f":"IF(HP48=\"\",\"\",Mix!J85)","v":""},{"$f":"IF(HQ48=\"\",\"\",ROUND(((HQ45-HQ48)/HQ45*100),1))","v":""},{"$f":"IF(HR48=\"\",\"\",Mix!J86)","v":""},{"$f":"IF(HS48=\"\",\"\",ROUND(((HS45-HS48)/HS45*100),1))","v":""},null,null,null,"Isolated",{"$f":"IF(HX48=\"\",\"\",Mix!J87)","v":""},{"$f":"IF(HY48=\"\",\"\",ROUND(((HY45-HY48)/HY45*100),1))","v":""},{"$f":"IF(HZ48=\"\",\"\",Mix!J88)","v":""},{"$f":"IF(IA48=\"\",\"\",ROUND(((IA45-IA48)/IA45*100),1))","v":""},{"$f":"IF(IB48=\"\",\"\",Mix!J89)","v":""},{"$f":"IF(IC48=\"\",\"\",ROUND(((IC45-IC48)/IC45*100),1))","v":""},{"$f":"IF(ID48=\"\",\"\",Mix!J90)","v":""},{"$f":"IF(IE48=\"\",\"\",ROUND(((IE45-IE48)/IE45*100),1))","v":""},null,null,null,"Isolated",{"$f":"IF(IJ48=\"\",\"\",Mix!J91)","v":""},{"$f":"IF(IK48=\"\",\"\",ROUND(((IK45-IK48)/IK45*100),1))","v":""},{"$f":"IF(IL48=\"\",\"\",Mix!J92)","v":""},{"$f":"IF(IM48=\"\",\"\",ROUND(((IM45-IM48)/IM45*100),1))","v":""},{"$f":"IF(IN48=\"\",\"\",Mix!J93)","v":""},{"$f":"IF(IO48=\"\",\"\",ROUND(((IO45-IO48)/IO45*100),1))","v":""},{"$f":"IF(IP48=\"\",\"\",Mix!J94)","v":""},{"$f":"IF(IQ48=\"\",\"\",ROUND(((IQ45-IQ48)/IQ45*100),1))","v":""},null,null,0,"Agency AFT Substituted"]
["% Air Voids",null,"Individual",{"$f":"IF(OR(D48=\"\",J46=\"\"),\"\",Mix!H11)","v":""},{"$f":"IF(E48=\"\",\"\",IF(OR(E48>(D48+0.03),E48<(D48-0.03)),\"Tolerance\",\"\"))","v":""},{"$f":"IF(OR(F48=\"\",J46=\"\"),\"\",Mix!H12)","v":""},{"$f":"IF(G48=\"\",\"\",IF(OR(G48>(F48+0.03),G48<(F48-0.03)),\"Tolerance\",\"\"))","v":""},{"$f":"IF(OR(H48=\"\",J46=\"\"),\"\",Mix!H13)","v":""},{"$f":"IF(I48=\"\",\"\",IF(OR(I48>(H48+0.03),I48<(H48-0.03)),\"Tolerance\",\"\"))","v":""},{"$f":"IF(J48=\"\",\"\",Mix!H14)","v":""},{"$f":"IF(K48=\"\",\"\",IF(OR(K48>(J48+0.03),K48<(J48-0.03)),\"Tolerance\",\"\"))","v":""},null,"% Air Voids",null,"Individual",{"$f":"IF(P48=\"\",\"\",Mix!H15)","v":""},{"$f":"IF(Q48=\"\",\"\",IF(OR(Q48>(P48+0.03),Q48<(P48-0.03)),\"Tolerance\",\"\"))","v":""},{"$f":"IF(R48=\"\",\"\",Mix!H16)","v":""},{"$f":"IF(S48=\"\",\"\",IF(OR(S48>(R48+0.03),S48<(R48-0.03)),\"Tolerance\",\"\"))","v":""},{"$f":"IF(T48=\"\",\"\",Mix!H17)","v":""},{"$f":"IF(U48=\"\",\"\",IF(OR(U48>(T48+0.03),U48<(T48-0.03)),\"Tolerance\",\"\"))","v":""},{"$f":"IF(V48=\"\",\"\",Mix!H18)","v":""},{"$f":"IF(W48=\"\",\"\",IF(OR(W48>(V48+0.03),W48<(V48-0.03)),\"Tolerance\",\"\"))","v":""},null,"% Air Voids",null,"Individual",{"$f":"IF(AB48=\"\",\"\",Mix!H19)","v":""},{"$f":"IF(AC48=\"\",\"\",IF(OR(AC48>(AB48+0.03),AC48<(AB48-0.03)),\"Tolerance\",\"\"))","v":""},{"$f":"IF(AD48=\"\",\"\",Mix!H20)","v":""},{"$f":"IF(AE48=\"\",\"\",IF(OR(AE48>(AD48+0.03),AE48<(AD48-0.03)),\"Tolerance\",\"\"))","v":""},{"$f":"IF(AF48=\"\",\"\",Mix!H21)","v":""},{"$f":"IF(AG48=\"\",\"\",IF(OR(AG48>(AF48+0.03),AG48<(AF48-0.03)),\"Tolerance\",\"\"))","v":""},{"$f":"IF(AH48=\"\",\"\",Mix!H22)","v":""},{"$f":"IF(AI48=\"\",\"\",IF(OR(AI48>(AH48+0.03),AI48<(AH48-0.03)),\"Tolerance\",\"\"))","v":""},null,"% Air Voids",null,"Individual",{"$f":"IF(AN48=\"\",\"\",Mix!H23)","v":""},{"$f":"IF(AO48=\"\",\"\",IF(OR(AO48>(AN48+0.03),AO48<(AN48-0.03)),\"Tolerance\",\"\"))","v":""},{"$f":"IF(AP48=\"\",\"\",Mix!H24)","v":""},{"$f":"IF(AQ48=\"\",\"\",IF(OR(AQ48>(AP48+0.03),AQ48<(AP48-0.03)),\"Tolerance\",\"\"))","v":""},{"$f":"IF(AR48=\"\",\"\",Mix!H25)","v":""},{"$f":"IF(AS48=\"\",\"\",IF(OR(AS48>(AR48+0.03),AS48<(AR48-0.03)),\"Tolerance\",\"\"))","v":""},{"$f":"IF(AT48=\"\",\"\",Mix!H26)","v":""},{"$f":"IF(AU48=\"\",\"\",IF(OR(AU48>(AT48+0.03),AU48<(AT48-0.03)),\"Tolerance\",\"\"))","v":""},null,"% Air Voids",null,"Individual",{"$f":"IF(AZ48=\"\",\"\",Mix!H27)","v":""},{"$f":"IF(BA48=\"\",\"\",IF(OR(BA48>(AZ48+0.03),BA48<(AZ48-0.03)),\"Tolerance\",\"\"))","v":""},{"$f":"IF(BB48=\"\",\"\",Mix!H28)","v":""},{"$f":"IF(BC48=\"\",\"\",IF(OR(BC48>(BB48+0.03),BC48<(BB48-0.03)),\"Tolerance\",\"\"))","v":""},{"$f":"IF(BD48=\"\",\"\",Mix!H29)","v":""},{"$f":"IF(BE48=\"\",\"\",IF(OR(BE48>(BD48+0.03),BE48<(BD48-0.03)),\"Tolerance\",\"\"))","v":""},{"$f":"IF(BF48=\"\",\"\",Mix!H30)","v":""},{"$f":"IF(BG48=\"\",\"\",IF(OR(BG48>(BF48+0.03),BG48<(BF48-0.03)),\"Tolerance\",\"\"))","v":""},null,"% Air Voids",null,"Individual",{"$f":"IF(BL48=\"\",\"\",Mix!H31)","v":""},{"$f":"IF(BM48=\"\",\"\",IF(OR(BM48>(BL48+0.03),BM48<(BL48-0.03)),\"Tolerance\",\"\"))","v":""},{"$f":"IF(BN48=\"\",\"\",Mix!H32)","v":""},{"$f":"IF(BO48=\"\",\"\",IF(OR(BO48>(BN48+0.03),BO48<(BN48-0.03)),\"Tolerance\",\"\"))","v":""},{"$f":"IF(BP48=\"\",\"\",Mix!H33)","v":""},{"$f":"IF(BQ48=\"\",\"\",IF(OR(BQ48>(BP48+0.03),BQ48<(BP48-0.03)),\"Tolerance\",\"\"))","v":""},{"$f":"IF(BR48=\"\",\"\",Mix!H34)","v":""},{"$f":"IF(BS48=\"\",\"\",IF(OR(BS48>(BR48+0.03),BS48<(BR48-0.03)),\"Tolerance\",\"\"))","v":""},null,"% Air Voids",null,"Individual",{"$f":"IF(BX48=\"\",\"\",Mix!H35)","v":""},{"$f":"IF(BY48=\"\",\"\",IF(OR(BY48>(BX48+0.03),BY48<(BX48-0.03)),\"Tolerance\",\"\"))","v":""},{"$f":"IF(BZ48=\"\",\"\",Mix!H36)","v":""},{"$f":"IF(CA48=\"\",\"\",IF(OR(CA48>(BZ48+0.03),CA48<(BZ48-0.03)),\"Tolerance\",\"\"))","v":""},{"$f":"IF(CB48=\"\",\"\",Mix!H37)","v":""},{"$f":"IF(CC48=\"\",\"\",IF(OR(CC48>(CB48+0.03),CC48<(CB48-0.03)),\"Tolerance\",\"\"))","v":""},{"$f":"IF(CD48=\"\",\"\",Mix!H38)","v":""},{"$f":"IF(CE48=\"\",\"\",IF(OR(CE48>(CD48+0.03),CE48<(CD48-0.03)),\"Tolerance\",\"\"))","v":""},null,"% Air Voids",null,"Individual",{"$f":"IF(CJ48=\"\",\"\",Mix!H39)","v":""},{"$f":"IF(CK48=\"\",\"\",IF(OR(CK48>(CJ48+0.03),CK48<(CJ48-0.03)),\"Tolerance\",\"\"))","v":""},{"$f":"IF(CL48=\"\",\"\",Mix!H40)","v":""},{"$f":"IF(CM48=\"\",\"\",IF(OR(CM48>(CL48+0.03),CM48<(CL48-0.03)),\"Tolerance\",\"\"))","v":""},{"$f":"IF(CN48=\"\",\"\",Mix!H41)","v":""},{"$f":"IF(CO48=\"\",\"\",IF(OR(CO48>(CN48+0.03),CO48<(CN48-0.03)),\"Tolerance\",\"\"))","v":""},{"$f":"IF(CP48=\"\",\"\",Mix!H42)","v":""},{"$f":"IF(CQ48=\"\",\"\",IF(OR(CQ48>(CP48+0.03),CQ48<(CP48-0.03)),\"Tolerance\",\"\"))","v":""},null,"% Air Voids",null,"Individual",{"$f":"IF(CV48=\"\",\"\",Mix!H43)","v":""},{"$f":"IF(CW48=\"\",\"\",IF(OR(CW48>(CV48+0.03),CW48<(CV48-0.03)),\"Tolerance\",\"\"))","v":""},{"$f":"IF(CX48=\"\",\"\",Mix!H44)","v":""},{"$f":"IF(CY48=\"\",\"\",IF(OR(CY48>(CX48+0.03),CY48<(CX48-0.03)),\"Tolerance\",\"\"))","v":""},{"$f":"IF(CZ48=\"\",\"\",Mix!H45)","v":""},{"$f":"IF(DA48=\"\",\"\",IF(OR(DA48>(CZ48+0.03),DA48<(CZ48-0.03)),\"Tolerance\",\"\"))","v":""},{"$f":"IF(DB48=\"\",\"\",Mix!H46)","v":""},{"$f":"IF(DC48=\"\",\"\",IF(OR(DC48>(DB48+0.03),DC48<(DB48-0.03)),\"Tolerance\",\"\"))","v":""},null,"% Air Voids",null,"Individual",{"$f":"IF(DH48=\"\",\"\",Mix!H47)","v":""},{"$f":"IF(DI48=\"\",\"\",IF(OR(DI48>(DH48+0.03),DI48<(DH48-0.03)),\"Tolerance\",\"\"))","v":""},{"$f":"IF(DJ48=\"\",\"\",Mix!H48)","v":""},{"$f":"IF(DK48=\"\",\"\",IF(OR(DK48>(DJ48+0.03),DK48<(DJ48-0.03)),\"Tolerance\",\"\"))","v":""},{"$f":"IF(DL48=\"\",\"\",Mix!H49)","v":""},{"$f":"IF(DM48=\"\",\"\",IF(OR(DM48>(DL48+0.03),DM48<(DL48-0.03)),\"Tolerance\",\"\"))","v":""},{"$f":"IF(DN48=\"\",\"\",Mix!H50)","v":""},{"$f":"IF(DO48=\"\",\"\",IF(OR(DO48>(DN48+0.03),DO48<(DN48-0.03)),\"Tolerance\",\"\"))","v":""},null,"% Air Voids",null,"Individual",{"$f":"IF(DT48=\"\",\"\",Mix!H51)","v":""},{"$f":"IF(DU48=\"\",\"\",IF(OR(DU48>(DT48+0.03),DU48<(DT48-0.03)),\"Tolerance\",\"\"))","v":""},{"$f":"IF(DV48=\"\",\"\",Mix!H52)","v":""},{"$f":"IF(DW48=\"\",\"\",IF(OR(DW48>(DV48+0.03),DW48<(DV48-0.03)),\"Tolerance\",\"\"))","v":""},{"$f":"IF(DX48=\"\",\"\",Mix!H53)","v":""},{"$f":"IF(DY48=\"\",\"\",IF(OR(DY48>(DX48+0.03),DY48<(DX48-0.03)),\"Tolerance\",\"\"))","v":""},{"$f":"IF(DZ48=\"\",\"\",Mix!H54)","v":""},{"$f":"IF(EA48=\"\",\"\",IF(OR(EA48>(DZ48+0.03),EA48<(DZ48-0.03)),\"Tolerance\",\"\"))","v":""},null,"% Air Voids",null,"Individual",{"$f":"IF(EF48=\"\",\"\",Mix!H55)","v":""},{"$f":"IF(EG48=\"\",\"\",IF(OR(EG48>(EF48+0.03),EG48<(EF48-0.03)),\"Tolerance\",\"\"))","v":""},{"$f":"IF(EH48=\"\",\"\",Mix!H56)","v":""},{"$f":"IF(EI48=\"\",\"\",IF(OR(EI48>(EH48+0.03),EI48<(EH48-0.03)),\"Tolerance\",\"\"))","v":""},{"$f":"IF(EJ48=\"\",\"\",Mix!H57)","v":""},{"$f":"IF(EK48=\"\",\"\",IF(OR(EK48>(EJ48+0.03),EK48<(EJ48-0.03)),\"Tolerance\",\"\"))","v":""},{"$f":"IF(EL48=\"\",\"\",Mix!H58)","v":""},{"$f":"IF(EM48=\"\",\"\",IF(OR(EM48>(EL48+0.03),EM48<(EL48-0.03)),\"Tolerance\",\"\"))","v":""},null,"% Air Voids",null,"Individual",{"$f":"IF(ER48=\"\",\"\",Mix!H59)","v":""},{"$f":"IF(ES48=\"\",\"\",IF(OR(ES48>(ER48+0.03),ES48<(ER48-0.03)),\"Tolerance\",\"\"))","v":""},{"$f":"IF(ET48=\"\",\"\",Mix!H60)","v":""},{"$f":"IF(EU48=\"\",\"\",IF(OR(EU48>(ET48+0.03),EU48<(ET48-0.03)),\"Tolerance\",\"\"))","v":""},{"$f":"IF(EV48=\"\",\"\",Mix!H61)","v":""},{"$f":"IF(EW48=\"\",\"\",IF(OR(EW48>(EV48+0.03),EW48<(EV48-0.03)),\"Tolerance\",\"\"))","v":""},{"$f":"IF(EX48=\"\",\"\",Mix!H62)","v":""},{"$f":"IF(EY48=\"\",\"\",IF(OR(EY48>(EX48+0.03),EY48<(EX48-0.03)),\"Tolerance\",\"\"))","v":""},null,"% Air Voids",null,"Individual",{"$f":"IF(FD48=\"\",\"\",Mix!H63)","v":""},{"$f":"IF(FE48=\"\",\"\",IF(OR(FE48>(FD48+0.03),FE48<(FD48-0.03)),\"Tolerance\",\"\"))","v":""},{"$f":"IF(FF48=\"\",\"\",Mix!H64)","v":""},{"$f":"IF(FG48=\"\",\"\",IF(OR(FG48>(FF48+0.03),FG48<(FF48-0.03)),\"Tolerance\",\"\"))","v":""},{"$f":"IF(FH48=\"\",\"\",Mix!H65)","v":""},{"$f":"IF(FI48=\"\",\"\",IF(OR(FI48>(FH48+0.03),FI48<(FH48-0.03)),\"Tolerance\",\"\"))","v":""},{"$f":"IF(FJ48=\"\",\"\",Mix!H66)","v":""},{"$f":"IF(FK48=\"\",\"\",IF(OR(FK48>(FJ48+0.03),FK48<(FJ48-0.03)),\"Tolerance\",\"\"))","v":""},null,"% Air Voids",null,"Individual",{"$f":"IF(FP48=\"\",\"\",Mix!H67)","v":""},{"$f":"IF(FQ48=\"\",\"\",IF(OR(FQ48>(FP48+0.03),FQ48<(FP48-0.03)),\"Tolerance\",\"\"))","v":""},{"$f":"IF(FR48=\"\",\"\",Mix!H68)","v":""},{"$f":"IF(FS48=\"\",\"\",IF(OR(FS48>(FR48+0.03),FS48<(FR48-0.03)),\"Tolerance\",\"\"))","v":""},{"$f":"IF(FT48=\"\",\"\",Mix!H69)","v":""},{"$f":"IF(FU48=\"\",\"\",IF(OR(FU48>(FT48+0.03),FU48<(FT48-0.03)),\"Tolerance\",\"\"))","v":""},{"$f":"IF(FV48=\"\",\"\",Mix!H70)","v":""},{"$f":"IF(FW48=\"\",\"\",IF(OR(FW48>(FV48+0.03),FW48<(FV48-0.03)),\"Tolerance\",\"\"))","v":""},null,"% Air Voids",null,"Individual",{"$f":"IF(GB48=\"\",\"\",Mix!H71)","v":""},{"$f":"IF(GC48=\"\",\"\",IF(OR(GC48>(GB48+0.03),GC48<(GB48-0.03)),\"Tolerance\",\"\"))","v":""},{"$f":"IF(GD48=\"\",\"\",Mix!H72)","v":""},{"$f":"IF(GE48=\"\",\"\",IF(OR(GE48>(GD48+0.03),GE48<(GD48-0.03)),\"Tolerance\",\"\"))","v":""},{"$f":"IF(GF48=\"\",\"\",Mix!H73)","v":""},{"$f":"IF(GG48=\"\",\"\",IF(OR(GG48>(GF48+0.03),GG48<(GF48-0.03)),\"Tolerance\",\"\"))","v":""},{"$f":"IF(GH48=\"\",\"\",Mix!H74)","v":""},{"$f":"IF(GI48=\"\",\"\",IF(OR(GI48>(GH48+0.03),GI48<(GH48-0.03)),\"Tolerance\",\"\"))","v":""},null,"% Air Voids",null,"Individual",{"$f":"IF(GN48=\"\",\"\",Mix!H75)","v":""},{"$f":"IF(GO48=\"\",\"\",IF(OR(GO48>(GN48+0.03),GO48<(GN48-0.03)),\"Tolerance\",\"\"))","v":""},{"$f":"IF(GP48=\"\",\"\",Mix!H76)","v":""},{"$f":"IF(GQ48=\"\",\"\",IF(OR(GQ48>(GP48+0.03),GQ48<(GP48-0.03)),\"Tolerance\",\"\"))","v":""},{"$f":"IF(GR48=\"\",\"\",Mix!H77)","v":""},{"$f":"IF(GS48=\"\",\"\",IF(OR(GS48>(GR48+0.03),GS48<(GR48-0.03)),\"Tolerance\",\"\"))","v":""},{"$f":"IF(GT48=\"\",\"\",Mix!H78)","v":""},{"$f":"IF(GU48=\"\",\"\",IF(OR(GU48>(GT48+0.03),GU48<(GT48-0.03)),\"Tolerance\",\"\"))","v":""},null,"% Air Voids",null,"Individual",{"$f":"IF(GZ48=\"\",\"\",Mix!H79)","v":""},{"$f":"IF(HA48=\"\",\"\",IF(OR(HA48>(GZ48+0.03),HA48<(GZ48-0.03)),\"Tolerance\",\"\"))","v":""},{"$f":"IF(HB48=\"\",\"\",Mix!H80)","v":""},{"$f":"IF(HC48=\"\",\"\",IF(OR(HC48>(HB48+0.03),HC48<(HB48-0.03)),\"Tolerance\",\"\"))","v":""},{"$f":"IF(HD48=\"\",\"\",Mix!H81)","v":""},{"$f":"IF(HE48=\"\",\"\",IF(OR(HE48>(HD48+0.03),HE48<(HD48-0.03)),\"Tolerance\",\"\"))","v":""},{"$f":"IF(HF48=\"\",\"\",Mix!H82)","v":""},{"$f":"IF(HG48=\"\",\"\",IF(OR(HG48>(HF48+0.03),HG48<(HF48-0.03)),\"Tolerance\",\"\"))","v":""},null,"% Air Voids",null,"Individual",{"$f":"IF(HL48=\"\",\"\",Mix!H83)","v":""},{"$f":"IF(HM48=\"\",\"\",IF(OR(HM48>(HL48+0.03),HM48<(HL48-0.03)),\"Tolerance\",\"\"))","v":""},{"$f":"IF(HN48=\"\",\"\",Mix!H84)","v":""},{"$f":"IF(HO48=\"\",\"\",IF(OR(HO48>(HN48+0.03),HO48<(HN48-0.03)),\"Tolerance\",\"\"))","v":""},{"$f":"IF(HP48=\"\",\"\",Mix!H85)","v":""},{"$f":"IF(HQ48=\"\",\"\",IF(OR(HQ48>(HP48+0.03),HQ48<(HP48-0.03)),\"Tolerance\",\"\"))","v":""},{"$f":"IF(HR48=\"\",\"\",Mix!H86)","v":""},{"$f":"IF(HS48=\"\",\"\",IF(OR(HS48>(HR48+0.03),HS48<(HR48-0.03)),\"Tolerance\",\"\"))","v":""},null,"% Air Voids",null,"Individual",{"$f":"IF(HX48=\"\",\"\",Mix!H87)","v":""},{"$f":"IF(HY48=\"\",\"\",IF(OR(HY48>(HX48+0.03),HY48<(HX48-0.03)),\"Tolerance\",\"\"))","v":""},{"$f":"IF(HZ48=\"\",\"\",Mix!H88)","v":""},{"$f":"IF(IA48=\"\",\"\",IF(OR(IA48>(HZ48+0.03),IA48<(HZ48-0.03)),\"Tolerance\",\"\"))","v":""},{"$f":"IF(IB48=\"\",\"\",Mix!H89)","v":""},{"$f":"IF(IC48=\"\",\"\",IF(OR(IC48>(IB48+0.03),IC48<(IB48-0.03)),\"Tolerance\",\"\"))","v":""},{"$f":"IF(ID48=\"\",\"\",Mix!H90)","v":""},{"$f":"IF(IE48=\"\",\"\",IF(OR(IE48>(ID48+0.03),IE48<(ID48-0.03)),\"Tolerance\",\"\"))","v":""},null,"% Air Voids",null,"Individual",{"$f":"IF(IJ48=\"\",\"\",Mix!H91)","v":""},{"$f":"IF(IK48=\"\",\"\",IF(OR(IK48>(IJ48+0.03),IK48<(IJ48-0.03)),\"Tolerance\",\"\"))","v":""},{"$f":"IF(IL48=\"\",\"\",Mix!H92)","v":""},{"$f":"IF(IM48=\"\",\"\",IF(OR(IM48>(IL48+0.03),IM48<(IL48-0.03)),\"Tolerance\",\"\"))","v":""},{"$f":"IF(IN48=\"\",\"\",Mix!H93)","v":""},{"$f":"IF(IO48=\"\",\"\",IF(OR(IO48>(IN48+0.03),IO48<(IN48-0.03)),\"Tolerance\",\"\"))","v":""},{"$f":"IF(IP48=\"\",\"\",Mix!H94)","v":""},{"$f":"IF(IQ48=\"\",\"\",IF(OR(IQ48>(IP48+0.03),IQ48<(IP48-0.03)),\"Tolerance\",\"\"))","v":""},null,null,0,"Agency AFT Substituted"]
["Design =",{"$f":"MDR!BM74","v":3},"Mov. Avg.",null,null,null,null,null,null,{"$f":"IF(J48=\"\",\"\",Mix!$I14)","v":""},null,null,"Design =",{"$f":"B52","v":3},"Mov. Avg.",{"$f":"IF(P48=\"\",\"\",Mix!$I15)","v":""},null,{"$f":"IF(R48=\"\",\"\",Mix!$I16)","v":""},null,{"$f":"IF(T48=\"\",\"\",Mix!$I17)","v":""},null,{"$f":"IF(V48=\"\",\"\",Mix!$I18)","v":""},null,null,"Design =",{"$f":"N52","v":3},"Mov. Avg.",{"$f":"IF(AB48=\"\",\"\",Mix!I19)","v":""},null,{"$f":"IF(AD48=\"\",\"\",Mix!I20)","v":""},null,{"$f":"IF(AF48=\"\",\"\",Mix!I21)","v":""},null,{"$f":"IF(AH48=\"\",\"\",Mix!I22)","v":""},null,null,"Design =",{"$f":"Z52","v":3},"Mov. Avg.",{"$f":"IF(AN48=\"\",\"\",Mix!I23)","v":""},null,{"$f":"IF(AP48=\"\",\"\",Mix!I24)","v":""},null,{"$f":"IF(AR48=\"\",\"\",Mix!I25)","v":""},null,{"$f":"IF(AT48=\"\",\"\",Mix!I26)","v":""},null,null,"Design =",{"$f":"AL52","v":3},"Mov. Avg.",{"$f":"IF(AZ48=\"\",\"\",Mix!I27)","v":""},null,{"$f":"IF(BB48=\"\",\"\",Mix!I28)","v":""},null,{"$f":"IF(BD48=\"\",\"\",Mix!I29)","v":""},null,{"$f":"IF(BF48=\"\",\"\",Mix!I30)","v":""},null,null,"Design =",{"$f":"AX52","v":3},"Mov. Avg.",{"$f":"IF(BL48=\"\",\"\",Mix!I31)","v":""},null,{"$f":"IF(BN48=\"\",\"\",Mix!I32)","v":""},null,{"$f":"IF(BP48=\"\",\"\",Mix!I33)","v":""},null,{"$f":"IF(BR48=\"\",\"\",Mix!I34)","v":""},null,null,"Design =",{"$f":"BJ52","v":3},"Mov. Avg.",{"$f":"IF(BX48=\"\",\"\",Mix!I35)","v":""},null,{"$f":"IF(BZ48=\"\",\"\",Mix!I36)","v":""},null,{"$f":"IF(CB48=\"\",\"\",Mix!I37)","v":""},null,{"$f":"IF(CD48=\"\",\"\",Mix!I38)","v":""},null,null,"Design =",{"$f":"BV52","v":3},"Mov. Avg.",{"$f":"IF(CJ48=\"\",\"\",Mix!I39)","v":""},null,{"$f":"IF(CL48=\"\",\"\",Mix!I40)","v":""},null,{"$f":"IF(CN48=\"\",\"\",Mix!I41)","v":""},null,{"$f":"IF(CP48=\"\",\"\",Mix!I42)","v":""},null,null,"Design =",{"$f":"CH52","v":3},"Mov. Avg.",{"$f":"IF(CV48=\"\",\"\",Mix!I43)","v":""},null,{"$f":"IF(CX48=\"\",\"\",Mix!I44)","v":""},null,{"$f":"IF(CZ48=\"\",\"\",Mix!I45)","v":""},null,{"$f":"IF(DB48=\"\",\"\",Mix!I46)","v":""},null,null,"Design =",{"$f":"CT52","v":3},"Mov. Avg.",{"$f":"IF(DH48=\"\",\"\",Mix!I47)","v":""},null,{"$f":"IF(DJ48=\"\",\"\",Mix!I48)","v":""},null,{"$f":"IF(DL48=\"\",\"\",Mix!I49)","v":""},null,{"$f":"IF(DN48=\"\",\"\",Mix!I50)","v":""},null,null,"Design =",{"$f":"DF52","v":3},"Mov. Avg.",{"$f":"IF(DT48=\"\",\"\",Mix!I51)","v":""},null,{"$f":"IF(DV48=\"\",\"\",Mix!I52)","v":""},null,{"$f":"IF(DX48=\"\",\"\",Mix!I53)","v":""},null,{"$f":"IF(DZ48=\"\",\"\",Mix!I54)","v":""},null,null,"Design =",{"$f":"DR52","v":3},"Mov. Avg.",{"$f":"IF(EF48=\"\",\"\",Mix!I55)","v":""},null,{"$f":"IF(EH48=\"\",\"\",Mix!I56)","v":""},null,{"$f":"IF(EJ48=\"\",\"\",Mix!I57)","v":""},null,{"$f":"IF(EL48=\"\",\"\",Mix!I58)","v":""},null,null,"Design =",{"$f":"ED52","v":3},"Mov. Avg.",{"$f":"IF(ER48=\"\",\"\",Mix!I59)","v":""},null,{"$f":"IF(ET48=\"\",\"\",Mix!I60)","v":""},null,{"$f":"IF(EV48=\"\",\"\",Mix!I61)","v":""},null,{"$f":"IF(EX48=\"\",\"\",Mix!I62)","v":""},null,null,"Design =",{"$f":"EP52","v":3},"Mov. Avg.",{"$f":"IF(FD48=\"\",\"\",Mix!I63)","v":""},null,{"$f":"IF(FF48=\"\",\"\",Mix!I64)","v":""},null,{"$f":"IF(FH48=\"\",\"\",Mix!I65)","v":""},null,{"$f":"IF(FJ48=\"\",\"\",Mix!I66)","v":""},null,null,"Design =",{"$f":"FB52","v":3},"Mov. Avg.",{"$f":"IF(FP48=\"\",\"\",Mix!I67)","v":""},null,{"$f":"IF(FR48=\"\",\"\",Mix!I68)","v":""},null,{"$f":"IF(FT48=\"\",\"\",Mix!I69)","v":""},null,{"$f":"IF(FV48=\"\",\"\",Mix!I70)","v":""},null,null,"Design =",{"$f":"FN52","v":3},"Mov. Avg.",{"$f":"IF(GB48=\"\",\"\",Mix!I71)","v":""},null,{"$f":"IF(GD48=\"\",\"\",Mix!I72)","v":""},null,{"$f":"IF(GF48=\"\",\"\",Mix!I73)","v":""},null,{"$f":"IF(GH48=\"\",\"\",Mix!I74)","v":""},null,null,"Design =",{"$f":"FZ52","v":3},"Mov. Avg.",{"$f":"IF(GN48=\"\",\"\",Mix!I75)","v":""},null,{"$f":"IF(GP48=\"\",\"\",Mix!I76)","v":""},null,{"$f":"IF(GR48=\"\",\"\",Mix!I77)","v":""},null,{"$f":"IF(GT48=\"\",\"\",Mix!I78)","v":""},null,null,"Design =",{"$f":"GL52","v":3},"Mov. Avg.",{"$f":"IF(GZ48=\"\",\"\",Mix!I79)","v":""},null,{"$f":"IF(HB48=\"\",\"\",Mix!I80)","v":""},null,{"$f":"IF(HD48=\"\",\"\",Mix!I81)","v":""},null,{"$f":"IF(HF48=\"\",\"\",Mix!I82)","v":""},null,null,"Design =",{"$f":"GX52","v":3},"Mov. Avg.",{"$f":"IF(HL48=\"\",\"\",Mix!I83)","v":""},null,{"$f":"IF(HN48=\"\",\"\",Mix!I84)","v":""},null,{"$f":"IF(HP48=\"\",\"\",Mix!I85)","v":""},null,{"$f":"IF(HR48=\"\",\"\",Mix!I86)","v":""},null,null,"Design =",{"$f":"HJ52","v":3},"Mov. Avg.",{"$f":"IF(HX48=\"\",\"\",Mix!I87)","v":""},null,{"$f":"IF(HZ48=\"\",\"\",Mix!I88)","v":""},null,{"$f":"IF(IB48=\"\",\"\",Mix!I89)","v":""},null,{"$f":"IF(ID48=\"\",\"\",Mix!I90)","v":""},null,null,"Design =",{"$f":"HV52","v":3},"Mov. Avg.",{"$f":"IF(IJ48=\"\",\"\",Mix!I91)","v":""},null,{"$f":"IF(IL48=\"\",\"\",Mix!I92)","v":""},null,{"$f":"IF(IN48=\"\",\"\",Mix!I93)","v":""},null,{"$f":"IF(IP48=\"\",\"\",Mix!I94)","v":""},null,null,null,0,"Agency AFT Substituted"]
["% VMA",null,"Individual",{"$f":"IF(D48=\"\",\"\",Mix!L11)","v":""},{"$f":"IF(E48=\"\",\"\",IF(E42=\"\",\"\",ROUND(100-(E48*(100-E42)/D11),1)))","v":""},{"$f":"IF(F48=\"\",\"\",Mix!L12)","v":""},{"$f":"IF(G48=\"\",\"\",IF(G42=\"\",\"\",ROUND(100-(G48*(100-G42)/F11),1)))","v":""},{"$f":"IF(H48=\"\",\"\",Mix!L13)","v":""},{"$f":"IF(I48=\"\",\"\",IF(I42=\"\",\"\",ROUND(100-(I48*(100-I42)/H11),1)))","v":""},{"$f":"IF(J48=\"\",\"\",Mix!L14)","v":""},{"$f":"IF(K48=\"\",\"\",IF(K42=\"\",\"\",ROUND(100-(K48*(100-K42)/J11),1)))","v":""},null,"% VMA",null,"Individual",{"$f":"IF(P48=\"\",\"\",Mix!L15)","v":""},{"$f":"IF(Q48=\"\",\"\",IF(Q42=\"\",\"\",ROUND(100-(Q48*(100-Q42)/P11),1)))","v":""},{"$f":"IF(R48=\"\",\"\",Mix!L16)","v":""},{"$f":"IF(S48=\"\",\"\",IF(S42=\"\",\"\",ROUND(100-(S48*(100-S42)/R11),1)))","v":""},{"$f":"IF(T48=\"\",\"\",Mix!L17)","v":""},{"$f":"IF(U48=\"\",\"\",IF(U42=\"\",\"\",ROUND(100-(U48*(100-U42)/T11),1)))","v":""},{"$f":"IF(V48=\"\",\"\",Mix!L18)","v":""},{"$f":"IF(W48=\"\",\"\",IF(W42=\"\",\"\",ROUND(100-(W48*(100-W42)/V11),1)))","v":""},null,"% VMA",null,"Individual",{"$f":"IF(AB48=\"\",\"\",Mix!L19)","v":""},{"$f":"IF(AC48=\"\",\"\",IF(AC42=\"\",\"\",ROUND(100-(AC48*(100-AC42)/AB11),1)))","v":""},{"$f":"IF(AD48=\"\",\"\",Mix!L20)","v":""},{"$f":"IF(AE48=\"\",\"\",IF(AE42=\"\",\"\",ROUND(100-(AE48*(100-AE42)/AD11),1)))","v":""},{"$f":"IF(AF48=\"\",\"\",Mix!L21)","v":""},{"$f":"IF(AG48=\"\",\"\",IF(AG42=\"\",\"\",ROUND(100-(AG48*(100-AG42)/AF11),1)))","v":""},{"$f":"IF(AH48=\"\",\"\",Mix!L22)","v":""},{"$f":"IF(AI48=\"\",\"\",IF(AI42=\"\",\"\",ROUND(100-(AI48*(100-AI42)/AH11),1)))","v":""},null,"% VMA",null,"Individual",{"$f":"IF(AN48=\"\",\"\",Mix!L23)","v":""},{"$f":"IF(AO48=\"\",\"\",IF(AO42=\"\",\"\",ROUND(100-(AO48*(100-AO42)/AN11),1)))","v":""},{"$f":"IF(AP48=\"\",\"\",Mix!L24)","v":""},{"$f":"IF(AQ48=\"\",\"\",IF(AQ42=\"\",\"\",ROUND(100-(AQ48*(100-AQ42)/AP11),1)))","v":""},{"$f":"IF(AR48=\"\",\"\",Mix!L25)","v":""},{"$f":"IF(AS48=\"\",\"\",IF(AS42=\"\",\"\",ROUND(100-(AS48*(100-AS42)/AR11),1)))","v":""},{"$f":"IF(AT48=\"\",\"\",Mix!L26)","v":""},{"$f":"IF(AU48=\"\",\"\",IF(AU42=\"\",\"\",ROUND(100-(AU48*(100-AU42)/AT11),1)))","v":""},null,"% VMA",null,"Individual",{"$f":"IF(AZ48=\"\",\"\",Mix!$L27)","v":""},{"$f":"IF(BA48=\"\",\"\",IF(BA42=\"\",\"\",ROUND(100-(BA48*(100-BA42)/AZ11),1)))","v":""},{"$f":"IF(BB48=\"\",\"\",Mix!$L28)","v":""},{"$f":"IF(BC48=\"\",\"\",IF(BC42=\"\",\"\",ROUND(100-(BC48*(100-BC42)/BB11),1)))","v":""},{"$f":"IF(BD48=\"\",\"\",Mix!$L29)","v":""},{"$f":"IF(BE48=\"\",\"\",IF(BE42=\"\",\"\",ROUND(100-(BE48*(100-BE42)/BD11),1)))","v":""},{"$f":"IF(BF48=\"\",\"\",Mix!$L30)","v":""},{"$f":"IF(BG48=\"\",\"\",IF(BG42=\"\",\"\",ROUND(100-(BG48*(100-BG42)/BF11),1)))","v":""},null,"% VMA",null,"Individual",{"$f":"IF(BL48=\"\",\"\",Mix!$L31)","v":""},{"$f":"IF(BM48=\"\",\"\",IF(BM42=\"\",\"\",ROUND(100-(BM48*(100-BM42)/BL11),1)))","v":""},{"$f":"IF(BN48=\"\",\"\",Mix!L32)","v":""},{"$f":"IF(BO48=\"\",\"\",IF(BO42=\"\",\"\",ROUND(100-(BO48*(100-BO42)/BN11),1)))","v":""},{"$f":"IF(BP48=\"\",\"\",Mix!L33)","v":""},{"$f":"IF(BQ48=\"\",\"\",IF(BQ42=\"\",\"\",ROUND(100-(BQ48*(100-BQ42)/BP11),1)))","v":""},{"$f":"IF(BR48=\"\",\"\",Mix!L34)","v":""},{"$f":"IF(BS48=\"\",\"\",IF(BS42=\"\",\"\",ROUND(100-(BS48*(100-BS42)/BR11),1)))","v":""},null,"% VMA",null,"Individual",{"$f":"IF(BX48=\"\",\"\",Mix!$L35)","v":""},{"$f":"IF(BY48=\"\",\"\",IF(BY42=\"\",\"\",ROUND(100-(BY48*(100-BY42)/BX11),1)))","v":""},{"$f":"IF(BZ48=\"\",\"\",Mix!$L36)","v":""},{"$f":"IF(CA48=\"\",\"\",IF(CA42=\"\",\"\",ROUND(100-(CA48*(100-CA42)/BZ11),1)))","v":""},{"$f":"IF(CB48=\"\",\"\",Mix!$L37)","v":""},{"$f":"IF(CC48=\"\",\"\",IF(CC42=\"\",\"\",ROUND(100-(CC48*(100-CC42)/CB11),1)))","v":""},{"$f":"IF(CD48=\"\",\"\",Mix!$L38)","v":""},{"$f":"IF(CE48=\"\",\"\",IF(CE42=\"\",\"\",ROUND(100-(CE48*(100-CE42)/CD11),1)))","v":""},null,"% VMA",null,"Individual",{"$f":"IF(CJ48=\"\",\"\",Mix!$L39)","v":""},{"$f":"IF(CK48=\"\",\"\",IF(CK42=\"\",\"\",ROUND(100-(CK48*(100-CK42)/CJ11),1)))","v":""},{"$f":"IF(CL48=\"\",\"\",Mix!$L40)","v":""},{"$f":"IF(CM48=\"\",\"\",IF(CL42=\"\",\"\",ROUND(100-(CM48*(100-CM42)/CL11),1)))","v":""},{"$f":"IF(CN48=\"\",\"\",Mix!$L41)","v":""},{"$f":"IF(CO48=\"\",\"\",IF(CO42=\"\",\"\",ROUND(100-(CO48*(100-CO42)/CN11),1)))","v":""},{"$f":"IF(CP48=\"\",\"\",Mix!$L42)","v":""},{"$f":"IF(CQ48=\"\",\"\",IF(CQ42=\"\",\"\",ROUND(100-(CQ48*(100-CQ42)/CP11),1)))","v":""},null,"% VMA",null,"Individual",{"$f":"IF(CV48=\"\",\"\",Mix!$L43)","v":""},{"$f":"IF(CW48=\"\",\"\",IF(CW42=\"\",\"\",ROUND(100-(CW48*(100-CW42)/CV11),1)))","v":""},{"$f":"IF(CX48=\"\",\"\",Mix!$L44)","v":""},{"$f":"IF(CY48=\"\",\"\",IF(CY42=\"\",\"\",ROUND(100-(CY48*(100-CY42)/CX11),1)))","v":""},{"$f":"IF(CZ48=\"\",\"\",Mix!$L45)","v":""},{"$f":"IF(DA48=\"\",\"\",IF(DA42=\"\",\"\",ROUND(100-(DA48*(100-DA42)/CZ11),1)))","v":""},{"$f":"IF(DB48=\"\",\"\",Mix!$L46)","v":""},{"$f":"IF(DC48=\"\",\"\",IF(DC42=\"\",\"\",ROUND(100-(DC48*(100-DC42)/DB11),1)))","v":""},null,"% VMA",null,"Individual",{"$f":"IF(DH48=\"\",\"\",Mix!$L47)","v":""},{"$f":"IF(DI48=\"\",\"\",IF(DI42=\"\",\"\",ROUND(100-(DI48*(100-DI42)/DH11),1)))","v":""},{"$f":"IF(DJ48=\"\",\"\",Mix!$L48)","v":""},{"$f":"IF(DK48=\"\",\"\",IF(DK42=\"\",\"\",ROUND(100-(DK48*(100-DK42)/DJ11),1)))","v":""},{"$f":"IF(DL48=\"\",\"\",Mix!$L49)","v":""},{"$f":"IF(DM48=\"\",\"\",IF(DM42=\"\",\"\",ROUND(100-(DM48*(100-DM42)/DL11),1)))","v":""},{"$f":"IF(DN48=\"\",\"\",Mix!$L50)","v":""},{"$f":"IF(DO48=\"\",\"\",IF(DO42=\"\",\"\",ROUND(100-(DO48*(100-DO42)/DN11),1)))","v":""},null,"% VMA",null,"Individual",{"$f":"IF(DT48=\"\",\"\",Mix!$L51)","v":""},{"$f":"IF(DU48=\"\",\"\",IF(DU42=\"\",\"\",ROUND(100-(DU48*(100-DU42)/DT11),1)))","v":""},{"$f":"IF(DV48=\"\",\"\",Mix!$L52)","v":""},{"$f":"IF(DW48=\"\",\"\",IF(DW42=\"\",\"\",ROUND(100-(DW48*(100-DW42)/DV11),1)))","v":""},{"$f":"IF(DX48=\"\",\"\",Mix!$L53)","v":""},{"$f":"IF(DY48=\"\",\"\",IF(DY42=\"\",\"\",ROUND(100-(DY48*(100-DY42)/DX11),1)))","v":""},{"$f":"IF(DZ48=\"\",\"\",Mix!$L54)","v":""},{"$f":"IF(EA48=\"\",\"\",IF(EA42=\"\",\"\",ROUND(100-(EA48*(100-EA42)/DZ11),1)))","v":""},null,"% VMA",null,"Individual",{"$f":"IF(EF48=\"\",\"\",Mix!L55)","v":""},{"$f":"IF(EG48=\"\",\"\",IF(EG42=\"\",\"\",ROUND(100-(EG48*(100-EG42)/EF11),1)))","v":""},{"$f":"IF(EH48=\"\",\"\",Mix!L56)","v":""},{"$f":"IF(EI48=\"\",\"\",IF(EI42=\"\",\"\",ROUND(100-(EI48*(100-EI42)/EH11),1)))","v":""},{"$f":"IF(EJ48=\"\",\"\",Mix!L57)","v":""},{"$f":"IF(EK48=\"\",\"\",IF(EK42=\"\",\"\",ROUND(100-(EK48*(100-EK42)/EJ11),1)))","v":""},{"$f":"IF(EL48=\"\",\"\",Mix!L58)","v":""},{"$f":"IF(EM48=\"\",\"\",IF(EM42=\"\",\"\",ROUND(100-(EM48*(100-EM42)/EL11),1)))","v":""},null,"% VMA",null,"Individual",{"$f":"IF(ER48=\"\",\"\",Mix!L59)","v":""},{"$f":"IF(ES48=\"\",\"\",IF(ES42=\"\",\"\",ROUND(100-(ES48*(100-ES42)/ER11),1)))","v":""},{"$f":"IF(ET48=\"\",\"\",Mix!L60)","v":""},{"$f":"IF(EU48=\"\",\"\",IF(EU42=\"\",\"\",ROUND(100-(EU48*(100-EU42)/ET11),1)))","v":""},{"$f":"IF(EV48=\"\",\"\",Mix!L61)","v":""},{"$f":"IF(EW48=\"\",\"\",IF(EW42=\"\",\"\",ROUND(100-(EW48*(100-EW42)/EV11),1)))","v":""},{"$f":"IF(EX48=\"\",\"\",Mix!L62)","v":""},{"$f":"IF(EY48=\"\",\"\",IF(EY42=\"\",\"\",ROUND(100-(EY48*(100-EY42)/EX11),1)))","v":""},null,"% VMA",null,"Individual",{"$f":"IF(FD48=\"\",\"\",Mix!L63)","v":""},{"$f":"IF(FE48=\"\",\"\",IF(FE42=\"\",\"\",ROUND(100-(FE48*(100-FE42)/FD11),1)))","v":""},{"$f":"IF(FF48=\"\",\"\",Mix!L64)","v":""},{"$f":"IF(FG48=\"\",\"\",IF(FG42=\"\",\"\",ROUND(100-(FG48*(100-FG42)/FF11),1)))","v":""},{"$f":"IF(FH48=\"\",\"\",Mix!L65)","v":""},{"$f":"IF(FI48=\"\",\"\",IF(FI42=\"\",\"\",ROUND(100-(FI48*(100-FI42)/FH11),1)))","v":""},{"$f":"IF(FJ48=\"\",\"\",Mix!L66)","v":""},{"$f":"IF(FK48=\"\",\"\",IF(FK42=\"\",\"\",ROUND(100-(FK48*(100-FK42)/FJ11),1)))","v":""},null,"% VMA",null,"Individual",{"$f":"IF(FP48=\"\",\"\",Mix!L67)","v":""},{"$f":"IF(FQ48=\"\",\"\",IF(FQ42=\"\",\"\",ROUND(100-(FQ48*(100-FQ42)/FP11),1)))","v":""},{"$f":"IF(FR48=\"\",\"\",Mix!L68)","v":""},{"$f":"IF(FS48=\"\",\"\",IF(FS42=\"\",\"\",ROUND(100-(FS48*(100-FS42)/FR11),1)))","v":""},{"$f":"IF(FT48=\"\",\"\",Mix!L69)","v":""},{"$f":"IF(FU48=\"\",\"\",IF(FU42=\"\",\"\",ROUND(100-(FU48*(100-FU42)/FT11),1)))","v":""},{"$f":"IF(FV48=\"\",\"\",Mix!L70)","v":""},{"$f":"IF(FW48=\"\",\"\",IF(FW42=\"\",\"\",ROUND(100-(FW48*(100-FW42)/FV11),1)))","v":""},null,"% VMA",null,"Individual",{"$f":"IF(GB48=\"\",\"\",Mix!L71)","v":""},{"$f":"IF(GC48=\"\",\"\",IF(GC42=\"\",\"\",ROUND(100-(GC48*(100-GC42)/GB11),1)))","v":""},{"$f":"IF(GD48=\"\",\"\",Mix!L72)","v":""},{"$f":"IF(GE48=\"\",\"\",IF(GE42=\"\",\"\",ROUND(100-(GE48*(100-GE42)/GD11),1)))","v":""},{"$f":"IF(GF48=\"\",\"\",Mix!L73)","v":""},{"$f":"IF(GG48=\"\",\"\",IF(GG42=\"\",\"\",ROUND(100-(GG48*(100-GG42)/GF11),1)))","v":""},{"$f":"IF(GH48=\"\",\"\",Mix!L74)","v":""},{"$f":"IF(GI48=\"\",\"\",IF(GI42=\"\",\"\",ROUND(100-(GI48*(100-GI42)/GH11),1)))","v":""},null,"% VMA",null,"Individual",{"$f":"IF(GN48=\"\",\"\",Mix!L75)","v":""},{"$f":"IF(GO48=\"\",\"\",IF(GO42=\"\",\"\",ROUND(100-(GO48*(100-GO42)/GN11),1)))","v":""},{"$f":"IF(GP48=\"\",\"\",Mix!L76)","v":""},{"$f":"IF(GQ48=\"\",\"\",IF(GQ42=\"\",\"\",ROUND(100-(GQ48*(100-GQ42)/GP11),1)))","v":""},{"$f":"IF(GR48=\"\",\"\",Mix!L77)","v":""},{"$f":"IF(GS48=\"\",\"\",IF(GS42=\"\",\"\",ROUND(100-(GS48*(100-GS42)/GR11),1)))","v":""},{"$f":"IF(GT48=\"\",\"\",Mix!L78)","v":""},{"$f":"IF(GU48=\"\",\"\",IF(GU42=\"\",\"\",ROUND(100-(GU48*(100-GU42)/GT11),1)))","v":""},null,"% VMA",null,"Individual",{"$f":"IF(GZ48=\"\",\"\",Mix!L79)","v":""},{"$f":"IF(HA48=\"\",\"\",IF(HA42=\"\",\"\",ROUND(100-(HA48*(100-HA42)/GZ11),1)))","v":""},{"$f":"IF(HB48=\"\",\"\",Mix!L80)","v":""},{"$f":"IF(HC48=\"\",\"\",IF(HC42=\"\",\"\",ROUND(100-(HC48*(100-HC42)/HB11),1)))","v":""},{"$f":"IF(HD48=\"\",\"\",Mix!L81)","v":""},{"$f":"IF(HE48=\"\",\"\",IF(HE42=\"\",\"\",ROUND(100-(HE48*(100-HE42)/HD11),1)))","v":""},{"$f":"IF(HF48=\"\",\"\",Mix!L82)","v":""},{"$f":"IF(HG48=\"\",\"\",IF(HG42=\"\",\"\",ROUND(100-(HG48*(100-HG42)/HF11),1)))","v":""},null,"% VMA",null,"Individual",{"$f":"IF(HL48=\"\",\"\",Mix!L83)","v":""},{"$f":"IF(HM48=\"\",\"\",IF(HM42=\"\",\"\",ROUND(100-(HM48*(100-HM42)/HL11),1)))","v":""},{"$f":"IF(HN48=\"\",\"\",Mix!L84)","v":""},{"$f":"IF(HO48=\"\",\"\",IF(HO42=\"\",\"\",ROUND(100-(HO48*(100-HO42)/HN11),1)))","v":""},{"$f":"IF(HP48=\"\",\"\",Mix!L85)","v":""},{"$f":"IF(HQ48=\"\",\"\",IF(HQ42=\"\",\"\",ROUND(100-(HQ48*(100-HQ42)/HP11),1)))","v":""},{"$f":"IF(HR48=\"\",\"\",Mix!L86)","v":""},{"$f":"IF(HS48=\"\",\"\",IF(HS42=\"\",\"\",ROUND(100-(HS48*(100-HS42)/HR11),1)))","v":""},null,"% VMA",null,"Individual",{"$f":"IF(HX48=\"\",\"\",Mix!L87)","v":""},{"$f":"IF(HY48=\"\",\"\",IF(HY42=\"\",\"\",ROUND(100-(HY48*(100-HY42)/HX11),1)))","v":""},{"$f":"IF(HZ48=\"\",\"\",Mix!L88)","v":""},{"$f":"IF(IA48=\"\",\"\",IF(IA42=\"\",\"\",ROUND(100-(IA48*(100-IA42)/HZ11),1)))","v":""},{"$f":"IF(IB48=\"\",\"\",Mix!L89)","v":""},{"$f":"IF(IC48=\"\",\"\",IF(IC42=\"\",\"\",ROUND(100-(IC48*(100-IC42)/IB11),1)))","v":""},{"$f":"IF(ID48=\"\",\"\",Mix!L90)","v":""},{"$f":"IF(IE48=\"\",\"\",IF(IE42=\"\",\"\",ROUND(100-(IE48*(100-IE42)/ID11),1)))","v":""},null,"% VMA",null,"Individual",{"$f":"IF(IJ48=\"\",\"\",Mix!L91)","v":""},{"$f":"IF(IK48=\"\",\"\",IF(IK42=\"\",\"\",ROUND(100-(IK48*(100-IK42)/IJ11),1)))","v":""},{"$f":"IF(IL48=\"\",\"\",Mix!L92)","v":""},{"$f":"IF(IM48=\"\",\"\",IF(IM42=\"\",\"\",ROUND(100-(IM48*(100-IM42)/IL11),1)))","v":""},{"$f":"IF(IN48=\"\",\"\",Mix!L93)","v":""},{"$f":"IF(IO48=\"\",\"\",IF(IO42=\"\",\"\",ROUND(100-(IO48*(100-IO42)/IN11),1)))","v":""},{"$f":"IF(IP48=\"\",\"\",Mix!L94)","v":""},{"$f":"IF(IQ48=\"\",\"\",IF(IQ42=\"\",\"\",ROUND(100-(IQ48*(100-IQ42)/IP11),1)))","v":""},null,null,0,"Agency AFT Substituted"]
[null,null,"Calc. VMA",{"$f":"IF(D53=\"\",\"\",IF(E53=\"\",D53,IF(OR(E53>(D53+1.2),E53<(D53-1.2)),E53,D53)))","v":""},{"$f":"IF(E53=\"\",\"\",IF(OR(E53>(D53+1.2),E53<(D53-1.2)),\"Agncy Repl.\",\"\"))","v":""},{"$f":"IF(F53=\"\",\"\",IF(G53=\"\",F53,IF(OR(G53>(F53+1.2),G53<(F53-1.2)),G53,F53)))","v":""},{"$f":"IF(G53=\"\",\"\",IF(OR(G53>(F53+1.2),G53<(F53-1.2)),\"Agncy Repl.\",\"\"))","v":""},{"$f":"IF(H53=\"\",\"\",IF(I53=\"\",H53,IF(OR(I53>(H53+1.2),I53<(H53-1.2)),I53,H53)))","v":""},{"$f":"IF(I53=\"\",\"\",IF(OR(I53>(H53+1.2),I53<(H53-1.2)),\"Agncy Repl.\",\"\"))","v":""},{"$f":"IF(J53=\"\",\"\",IF(K53=\"\",J53,IF(OR(K53>(J53+1.2),K53<(J53-1.2)),K53,J53)))","v":""},{"$f":"IF(K53=\"\",\"\",IF(OR(K53>(J53+1.2),K53<(J53-1.2)),\"Agncy Repl.\",\"\"))","v":""},null,null,null,"Calc. VMA",{"$f":"IF(P53=\"\",\"\",IF(Q53=\"\",P53,IF(OR(Q53>(P53+1.2),Q53<(P53-1.2)),Q53,P53)))","v":""},{"$f":"IF(Q53=\"\",\"\",IF(OR(Q53>(P53+1.2),Q53<(P53-1.2)),\"Agncy Repl.\",\"\"))","v":""},{"$f":"IF(R53=\"\",\"\",IF(S53=\"\",R53,IF(OR(S53>(R53+1.2),S53<(R53-1.2)),S53,R53)))","v":""},{"$f":"IF(S53=\"\",\"\",IF(OR(S53>(R53+1.2),S53<(R53-1.2)),\"Agncy Repl.\",\"\"))","v":""},{"$f":"IF(T53=\"\",\"\",IF(U53=\"\",T53,IF(OR(U53>(T53+1.2),U53<(T53-1.2)),U53,T53)))","v":""},{"$f":"IF(U53=\"\",\"\",IF(OR(U53>(T53+1.2),U53<(T53-1.2)),\"Agncy Repl.\",\"\"))","v":""},{"$f":"IF(V53=\"\",\"\",IF(W53=\"\",V53,IF(OR(W53>(V53+1.2),W53<(V53-1.2)),W53,V53)))","v":""},{"$f":"IF(W53=\"\",\"\",IF(OR(W53>(V53+1.2),W53<(V53-1.2)),\"Agncy Repl.\",\"\"))","v":""},null,null,null,"Calc. VMA",{"$f":"IF(AB53=\"\",\"\",IF(AC53=\"\",AB53,IF(OR(AC53>(AB53+1.2),AC53<(AB53-1.2)),AC53,AB53)))","v":""},{"$f":"IF(AC53=\"\",\"\",IF(OR(AC53>(AB53+1.2),AC53<(AB53-1.2)),\"Agncy Repl.\",\"\"))","v":""},{"$f":"IF(AD53=\"\",\"\",IF(AE53=\"\",AD53,IF(OR(AE53>(AD53+1.2),AE53<(AD53-1.2)),AE53,AD53)))","v":""},{"$f":"IF(AE53=\"\",\"\",IF(OR(AE53>(AD53+1.2),AE53<(AD53-1.2)),\"Agncy Repl.\",\"\"))","v":""},{"$f":"IF(AF53=\"\",\"\",IF(AG53=\"\",AF53,IF(OR(AG53>(AF53+1.2),AG53<(AF53-1.2)),AG53,AF53)))","v":""},{"$f":"IF(AG53=\"\",\"\",IF(OR(AG53>(AF53+1.2),AG53<(AF53-1.2)),\"Agncy Repl.\",\"\"))","v":""},{"$f":"IF(AH53=\"\",\"\",IF(AI53=\"\",AH53,IF(OR(AI53>(AH53+1.2),AI53<(AH53-1.2)),AI53,AH53)))","v":""},{"$f":"IF(AI53=\"\",\"\",IF(OR(AI53>(AH53+1.2),AI53<(AH53-1.2)),\"Agncy Repl.\",\"\"))","v":""},null,null,null,"Calc. VMA",{"$f":"IF(AN53=\"\",\"\",IF(AO53=\"\",AN53,IF(OR(AO53>(AN53+1.2),AO53<(AN53-1.2)),AO53,AN53)))","v":""},{"$f":"IF(AO53=\"\",\"\",IF(OR(AO53>(AN53+1.2),AO53<(AN53-1.2)),\"Agncy Repl.\",\"\"))","v":""},{"$f":"IF(AP53=\"\",\"\",IF(AQ53=\"\",AP53,IF(OR(AQ53>(AP53+1.2),AQ53<(AP53-1.2)),AQ53,AP53)))","v":""},{"$f":"IF(AQ53=\"\",\"\",IF(OR(AQ53>(AP53+1.2),AQ53<(AP53-1.2)),\"Agncy Repl.\",\"\"))","v":""},{"$f":"IF(AR53=\"\",\"\",IF(AS53=\"\",AR53,IF(OR(AS53>(AR53+1.2),AS53<(AR53-1.2)),AS53,AR53)))","v":""},{"$f":"IF(AS53=\"\",\"\",IF(OR(AS53>(AR53+1.2),AS53<(AR53-1.2)),\"Agncy Repl.\",\"\"))","v":""},{"$f":"IF(AT53=\"\",\"\",IF(AU53=\"\",AT53,IF(OR(AU53>(AT53+1.2),AU53<(AT53-1.2)),AU53,AT53)))","v":""},{"$f":"IF(AU53=\"\",\"\",IF(OR(AU53>(AT53+1.2),AU53<(AT53-1.2)),\"Agncy Repl.\",\"\"))","v":""},null,null,null,"Calc. VMA",{"$f":"IF(AZ53=\"\",\"\",IF(BA53=\"\",AZ53,IF(OR(BA53>(AZ53+1.2),BA53<(AZ53-1.2)),BA53,AZ53)))","v":""},{"$f":"IF(BA53=\"\",\"\",IF(OR(BA53>(AZ53+1.2),BA53<(AZ53-1.2)),\"Agncy Repl.\",\"\"))","v":""},{"$f":"IF(BB53=\"\",\"\",IF(BC53=\"\",BB53,IF(OR(BC53>(BB53+1.2),BC53<(BB53-1.2)),BC53,BB53)))","v":""},{"$f":"IF(BC53=\"\",\"\",IF(OR(BC53>(BB53+1.2),BC53<(BB53-1.2)),\"Agncy Repl.\",\"\"))","v":""},{"$f":"IF(BD53=\"\",\"\",IF(BE53=\"\",BD53,IF(OR(BE53>(BD53+1.2),BE53<(BD53-1.2)),BE53,BD53)))","v":""},{"$f":"IF(BE53=\"\",\"\",IF(OR(BE53>(BD53+1.2),BE53<(BD53-1.2)),\"Agncy Repl.\",\"\"))","v":""},{"$f":"IF(BF53=\"\",\"\",IF(BG53=\"\",BF53,IF(OR(BG53>(BF53+1.2),BG53<(BF53-1.2)),BG53,BF53)))","v":""},{"$f":"IF(BG53=\"\",\"\",IF(OR(BG53>(BF53+1.2),BG53<(BF53-1.2)),\"Agncy Repl.\",\"\"))","v":""},null,null,null,"Calc. VMA",{"$f":"IF(BL53=\"\",\"\",IF(BM53=\"\",BL53,IF(OR(BM53>(BL53+1.2),BM53<(BL53-1.2)),BM53,BL53)))","v":""},{"$f":"IF(BM53=\"\",\"\",IF(OR(BM53>(BL53+1.2),BM53<(BL53-1.2)),\"Agncy Repl.\",\"\"))","v":""},{"$f":"IF(BN53=\"\",\"\",IF(BO53=\"\",BN53,IF(OR(BO53>(BN53+1.2),BO53<(BN53-1.2)),BO53,BN53)))","v":""},{"$f":"IF(BO53=\"\",\"\",IF(OR(BO53>(BN53+1.2),BO53<(BN53-1.2)),\"Agncy Repl.\",\"\"))","v":""},{"$f":"IF(BP53=\"\",\"\",IF(BQ53=\"\",BP53,IF(OR(BQ53>(BP53+1.2),BQ53<(BP53-1.2)),BQ53,BP53)))","v":""},{"$f":"IF(BQ53=\"\",\"\",IF(OR(BQ53>(BP53+1.2),BQ53<(BP53-1.2)),\"Agncy Repl.\",\"\"))","v":""},{"$f":"IF(BR53=\"\",\"\",IF(BS53=\"\",BR53,IF(OR(BS53>(BR53+1.2),BS53<(BR53-1.2)),BS53,BR53)))","v":""},{"$f":"IF(BS53=\"\",\"\",IF(OR(BS53>(BR53+1.2),BS53<(BR53-1.2)),\"Agncy Repl.\",\"\"))","v":""},null,null,null,"Calc. VMA",{"$f":"IF(BX53=\"\",\"\",IF(BY53=\"\",BX53,IF(OR(BY53>(BX53+1.2),BY53<(BX53-1.2)),BY53,BX53)))","v":""},{"$f":"IF(BY53=\"\",\"\",IF(OR(BY53>(BX53+1.2),BY53<(BX53-1.2)),\"Agncy Repl.\",\"\"))","v":""},{"$f":"IF(BZ53=\"\",\"\",IF(CA53=\"\",BZ53,IF(OR(CA53>(BZ53+1.2),CA53<(BZ53-1.2)),CA53,BZ53)))","v":""},{"$f":"IF(CA53=\"\",\"\",IF(OR(CA53>(BZ53+1.2),CA53<(BZ53-1.2)),\"Agncy Repl.\",\"\"))","v":""},{"$f":"IF(CB53=\"\",\"\",IF(CC53=\"\",CB53,IF(OR(CC53>(CB53+1.2),CC53<(CB53-1.2)),CC53,CB53)))","v":""},{"$f":"IF(CC53=\"\",\"\",IF(OR(CC53>(CB53+1.2),CC53<(CB53-1.2)),\"Agncy Repl.\",\"\"))","v":""},{"$f":"IF(CD53=\"\",\"\",IF(CE53=\"\",CD53,IF(OR(CE53>(CD53+1.2),CE53<(CD53-1.2)),CE53,CD53)))","v":""},{"$f":"IF(CE53=\"\",\"\",IF(OR(CE53>(CD53+1.2),CE53<(CD53-1.2)),\"Agncy Repl.\",\"\"))","v":""},null,null,null,"Calc. VMA",{"$f":"IF(CJ53=\"\",\"\",IF(CK53=\"\",CJ53,IF(OR(CK53>(CJ53+1.2),CK53<(CJ53-1.2)),CK53,CJ53)))","v":""},{"$f":"IF(CK53=\"\",\"\",IF(OR(CK53>(CJ53+1.2),CK53<(CJ53-1.2)),\"Agncy Repl.\",\"\"))","v":""},{"$f":"IF(CL53=\"\",\"\",IF(CM53=\"\",CL53,IF(OR(CM53>(CL53+1.2),CM53<(CL53-1.2)),CM53,CL53)))","v":""},{"$f":"IF(CM53=\"\",\"\",IF(OR(CM53>(CL53+1.2),CM53<(CL53-1.2)),\"Agncy Repl.\",\"\"))","v":""},{"$f":"IF(CN53=\"\",\"\",IF(CO53=\"\",CN53,IF(OR(CO53>(CN53+1.2),CO53<(CN53-1.2)),CO53,CN53)))","v":""},{"$f":"IF(CO53=\"\",\"\",IF(OR(CO53>(CN53+1.2),CO53<(CN53-1.2)),\"Agncy Repl.\",\"\"))","v":""},{"$f":"IF(CP53=\"\",\"\",IF(CQ53=\"\",CP53,IF(OR(CQ53>(CP53+1.2),CQ53<(CP53-1.2)),CQ53,CP53)))","v":""},{"$f":"IF(CQ53=\"\",\"\",IF(OR(CQ53>(CP53+1.2),CQ53<(CP53-1.2)),\"Agncy Repl.\",\"\"))","v":""},null,null,null,"Calc. VMA",{"$f":"IF(CV53=\"\",\"\",IF(CW53=\"\",CV53,IF(OR(CW53>(CV53+1.2),CW53<(CV53-1.2)),CW53,CV53)))","v":""},{"$f":"IF(CW53=\"\",\"\",IF(OR(CW53>(CV53+1.2),CW53<(CV53-1.2)),\"Agncy Repl.\",\"\"))","v":""},{"$f":"IF(CX53=\"\",\"\",IF(CY53=\"\",CX53,IF(OR(CY53>(CX53+1.2),CY53<(CX53-1.2)),CY53,CX53)))","v":""},{"$f":"IF(CY53=\"\",\"\",IF(OR(CY53>(CX53+1.2),CY53<(CX53-1.2)),\"Agncy Repl.\",\"\"))","v":""},{"$f":"IF(CZ53=\"\",\"\",IF(DA53=\"\",CZ53,IF(OR(DA53>(CZ53+1.2),DA53<(CZ53-1.2)),DA53,CZ53)))","v":""},{"$f":"IF(DA53=\"\",\"\",IF(OR(DA53>(CZ53+1.2),DA53<(CZ53-1.2)),\"Agncy Repl.\",\"\"))","v":""},{"$f":"IF(DB53=\"\",\"\",IF(DC53=\"\",DB53,IF(OR(DC53>(DB53+1.2),DC53<(DB53-1.2)),DC53,DB53)))","v":""},{"$f":"IF(DC53=\"\",\"\",IF(OR(DC53>(DB53+1.2),DC53<(DB53-1.2)),\"Agncy Repl.\",\"\"))","v":""},null,null,null,"Calc. VMA",{"$f":"IF(DH53=\"\",\"\",IF(DI53=\"\",DH53,IF(OR(DI53>(DH53+1.2),DI53<(DH53-1.2)),DI53,DH53)))","v":""},{"$f":"IF(DI53=\"\",\"\",IF(OR(DI53>(DH53+1.2),DI53<(DH53-1.2)),\"Agncy Repl.\",\"\"))","v":""},{"$f":"IF(DJ53=\"\",\"\",IF(DK53=\"\",DJ53,IF(OR(DK53>(DJ53+1.2),DK53<(DJ53-1.2)),DK53,DJ53)))","v":""},{"$f":"IF(DK53=\"\",\"\",IF(OR(DK53>(DJ53+1.2),DK53<(DJ53-1.2)),\"Agncy Repl.\",\"\"))","v":""},{"$f":"IF(DL53=\"\",\"\",IF(DM53=\"\",DL53,IF(OR(DM53>(DL53+1.2),DM53<(DL53-1.2)),DM53,DL53)))","v":""},{"$f":"IF(DM53=\"\",\"\",IF(OR(DM53>(DL53+1.2),DM53<(DL53-1.2)),\"Agncy Repl.\",\"\"))","v":""},{"$f":"IF(DN53=\"\",\"\",IF(DO53=\"\",DN53,IF(OR(DO53>(DN53+1.2),DO53<(DN53-1.2)),DO53,DN53)))","v":""},{"$f":"IF(DO53=\"\",\"\",IF(OR(DO53>(DN53+1.2),DO53<(DN53-1.2)),\"Agncy Repl.\",\"\"))","v":""},null,null,null,"Calc. VMA",{"$f":"IF(DT53=\"\",\"\",IF(DU53=\"\",DT53,IF(OR(DU53>(DT53+1.2),DU53<(DT53-1.2)),DU53,DT53)))","v":""},{"$f":"IF(DU53=\"\",\"\",IF(OR(DU53>(DT53+1.2),DU53<(DT53-1.2)),\"Agncy Repl.\",\"\"))","v":""},{"$f":"IF(DV53=\"\",\"\",IF(DW53=\"\",DV53,IF(OR(DW53>(DV53+1.2),DW53<(DV53-1.2)),DW53,DV53)))","v":""},{"$f":"IF(DW53=\"\",\"\",IF(OR(DW53>(DV53+1.2),DW53<(DV53-1.2)),\"Agncy Repl.\",\"\"))","v":""},{"$f":"IF(DX53=\"\",\"\",IF(DY53=\"\",DX53,IF(OR(DY53>(DX53+1.2),DY53<(DX53-1.2)),DY53,DX53)))","v":""},{"$f":"IF(DY53=\"\",\"\",IF(OR(DY53>(DX53+1.2),DY53<(DX53-1.2)),\"Agncy Repl.\",\"\"))","v":""},{"$f":"IF(DZ53=\"\",\"\",IF(EA53=\"\",DZ53,IF(OR(EA53>(DZ53+1.2),EA53<(DZ53-1.2)),EA53,DZ53)))","v":""},{"$f":"IF(EA53=\"\",\"\",IF(OR(EA53>(DZ53+1.2),EA53<(DZ53-1.2)),\"Agncy Repl.\",\"\"))","v":""},null,null,null,"Calc. VMA",{"$f":"IF(EF53=\"\",\"\",IF(EG53=\"\",EF53,IF(OR(EG53>(EF53+1.2),EG53<(EF53-1.2)),EG53,EF53)))","v":""},{"$f":"IF(EG53=\"\",\"\",IF(OR(EG53>(EF53+1.2),EG53<(EF53-1.2)),\"Agncy Repl.\",\"\"))","v":""},{"$f":"IF(EH53=\"\",\"\",IF(EI53=\"\",EH53,IF(OR(EI53>(EH53+1.2),EI53<(EH53-1.2)),EI53,EH53)))","v":""},{"$f":"IF(EI53=\"\",\"\",IF(OR(EI53>(EH53+1.2),EI53<(EH53-1.2)),\"Agncy Repl.\",\"\"))","v":""},{"$f":"IF(EJ53=\"\",\"\",IF(EK53=\"\",EJ53,IF(OR(EK53>(EJ53+1.2),EK53<(EJ53-1.2)),EK53,EJ53)))","v":""},{"$f":"IF(EK53=\"\",\"\",IF(OR(EK53>(EJ53+1.2),EK53<(EJ53-1.2)),\"Agncy Repl.\",\"\"))","v":""},{"$f":"IF(EL53=\"\",\"\",IF(EM53=\"\",EL53,IF(OR(EM53>(EL53+1.2),EM53<(EL53-1.2)),EM53,EL53)))","v":""},{"$f":"IF(EM53=\"\",\"\",IF(OR(EM53>(EL53+1.2),EM53<(EL53-1.2)),\"Agncy Repl.\",\"\"))","v":""},null,null,null,"Calc. VMA",{"$f":"IF(ER53=\"\",\"\",IF(ES53=\"\",ER53,IF(OR(ES53>(ER53+1.2),ES53<(ER53-1.2)),ES53,ER53)))","v":""},{"$f":"IF(ES53=\"\",\"\",IF(OR(ES53>(ER53+1.2),ES53<(ER53-1.2)),\"Agncy Repl.\",\"\"))","v":""},{"$f":"IF(ET53=\"\",\"\",IF(EU53=\"\",ET53,IF(OR(EU53>(ET53+1.2),EU53<(ET53-1.2)),EU53,ET53)))","v":""},{"$f":"IF(EU53=\"\",\"\",IF(OR(EU53>(ET53+1.2),EU53<(ET53-1.2)),\"Agncy Repl.\",\"\"))","v":""},{"$f":"IF(EV53=\"\",\"\",IF(EW53=\"\",EV53,IF(OR(EW53>(EV53+1.2),EW53<(EV53-1.2)),EW53,EV53)))","v":""},{"$f":"IF(EW53=\"\",\"\",IF(OR(EW53>(EV53+1.2),EW53<(EV53-1.2)),\"Agncy Repl.\",\"\"))","v":""},{"$f":"IF(EX53=\"\",\"\",IF(EY53=\"\",EX53,IF(OR(EY53>(EX53+1.2),EY53<(EX53-1.2)),EY53,EX53)))","v":""},{"$f":"IF(EY53=\"\",\"\",IF(OR(EY53>(EX53+1.2),EY53<(EX53-1.2)),\"Agncy Repl.\",\"\"))","v":""},null,null,null,"Calc. VMA",{"$f":"IF(FD53=\"\",\"\",IF(FE53=\"\",FD53,IF(OR(FE53>(FD53+1.2),FE53<(FD53-1.2)),FE53,FD53)))","v":""},{"$f":"IF(FE53=\"\",\"\",IF(OR(FE53>(FD53+1.2),FE53<(FD53-1.2)),\"Agncy Repl.\",\"\"))","v":""},{"$f":"IF(FF53=\"\",\"\",IF(FG53=\"\",FF53,IF(OR(FG53>(FF53+1.2),FG53<(FF53-1.2)),FG53,FF53)))","v":""},{"$f":"IF(FG53=\"\",\"\",IF(OR(FG53>(FF53+1.2),FG53<(FF53-1.2)),\"Agncy Repl.\",\"\"))","v":""},{"$f":"IF(FH53=\"\",\"\",IF(FI53=\"\",FH53,IF(OR(FI53>(FH53+1.2),FI53<(FH53-1.2)),FI53,FH53)))","v":""},{"$f":"IF(FI53=\"\",\"\",IF(OR(FI53>(FH53+1.2),FI53<(FH53-1.2)),\"Agncy Repl.\",\"\"))","v":""},{"$f":"IF(FJ53=\"\",\"\",IF(FK53=\"\",FJ53,IF(OR(FK53>(FJ53+1.2),FK53<(FJ53-1.2)),FK53,FJ53)))","v":""},{"$f":"IF(FK53=\"\",\"\",IF(OR(FK53>(FJ53+1.2),FK53<(FJ53-1.2)),\"Agncy Repl.\",\"\"))","v":""},null,null,null,"Calc. VMA",{"$f":"IF(FP53=\"\",\"\",IF(FQ53=\"\",FP53,IF(OR(FQ53>(FP53+1.2),FQ53<(FP53-1.2)),FQ53,FP53)))","v":""},{"$f":"IF(FQ53=\"\",\"\",IF(OR(FQ53>(FP53+1.2),FQ53<(FP53-1.2)),\"Agncy Repl.\",\"\"))","v":""},{"$f":"IF(FR53=\"\",\"\",IF(FS53=\"\",FR53,IF(OR(FS53>(FR53+1.2),FS53<(FR53-1.2)),FS53,FR53)))","v":""},{"$f":"IF(FS53=\"\",\"\",IF(OR(FS53>(FR53+1.2),FS53<(FR53-1.2)),\"Agncy Repl.\",\"\"))","v":""},{"$f":"IF(FT53=\"\",\"\",IF(FU53=\"\",FT53,IF(OR(FU53>(FT53+1.2),FU53<(FT53-1.2)),FU53,FT53)))","v":""},{"$f":"IF(FU53=\"\",\"\",IF(OR(FU53>(FT53+1.2),FU53<(FT53-1.2)),\"Agncy Repl.\",\"\"))","v":""},{"$f":"IF(FV53=\"\",\"\",IF(FW53=\"\",FV53,IF(OR(FW53>(FV53+1.2),FW53<(FV53-1.2)),FW53,FV53)))","v":""},{"$f":"IF(FW53=\"\",\"\",IF(OR(FW53>(FV53+1.2),FW53<(FV53-1.2)),\"Agncy Repl.\",\"\"))","v":""},null,null,null,"Calc. VMA",{"$f":"IF(GB53=\"\",\"\",IF(GC53=\"\",GB53,IF(OR(GC53>(GB53+1.2),GC53<(GB53-1.2)),GC53,GB53)))","v":""},{"$f":"IF(GC53=\"\",\"\",IF(OR(GC53>(GB53+1.2),GC53<(GB53-1.2)),\"Agncy Repl.\",\"\"))","v":""},{"$f":"IF(GD53=\"\",\"\",IF(GE53=\"\",GD53,IF(OR(GE53>(GD53+1.2),GE53<(GD53-1.2)),GE53,GD53)))","v":""},{"$f":"IF(GE53=\"\",\"\",IF(OR(GE53>(GD53+1.2),GE53<(GD53-1.2)),\"Agncy Repl.\",\"\"))","v":""},{"$f":"IF(GF53=\"\",\"\",IF(GG53=\"\",GF53,IF(OR(GG53>(GF53+1.2),GG53<(GF53-1.2)),GG53,GF53)))","v":""},{"$f":"IF(GG53=\"\",\"\",IF(OR(GG53>(GF53+1.2),GG53<(GF53-1.2)),\"Agncy Repl.\",\"\"))","v":""},{"$f":"IF(GH53=\"\",\"\",IF(GI53=\"\",GH53,IF(OR(GI53>(GH53+1.2),GI53<(GH53-1.2)),GI53,GH53)))","v":""},{"$f":"IF(GI53=\"\",\"\",IF(OR(GI53>(GH53+1.2),GI53<(GH53-1.2)),\"Agncy Repl.\",\"\"))","v":""},null,null,null,"Calc. VMA",{"$f":"IF(GN53=\"\",\"\",IF(GO53=\"\",GN53,IF(OR(GO53>(GN53+1.2),GO53<(GN53-1.2)),GO53,GN53)))","v":""},{"$f":"IF(GO53=\"\",\"\",IF(OR(GO53>(GN53+1.2),GO53<(GN53-1.2)),\"Agncy Repl.\",\"\"))","v":""},{"$f":"IF(GP53=\"\",\"\",IF(GQ53=\"\",GP53,IF(OR(GQ53>(GP53+1.2),GQ53<(GP53-1.2)),GQ53,GP53)))","v":""},{"$f":"IF(GQ53=\"\",\"\",IF(OR(GQ53>(GP53+1.2),GQ53<(GP53-1.2)),\"Agncy Repl.\",\"\"))","v":""},{"$f":"IF(GR53=\"\",\"\",IF(GS53=\"\",GR53,IF(OR(GS53>(GR53+1.2),GS53<(GR53-1.2)),GS53,GR53)))","v":""},{"$f":"IF(GS53=\"\",\"\",IF(OR(GS53>(GR53+1.2),GS53<(GR53-1.2)),\"Agncy Repl.\",\"\"))","v":""},{"$f":"IF(GT53=\"\",\"\",IF(GU53=\"\",GT53,IF(OR(GU53>(GT53+1.2),GU53<(GT53-1.2)),GU53,GT53)))","v":""},{"$f":"IF(GU53=\"\",\"\",IF(OR(GU53>(GT53+1.2),GU53<(GT53-1.2)),\"Agncy Repl.\",\"\"))","v":""},null,null,null,"Calc. VMA",{"$f":"IF(GZ53=\"\",\"\",IF(HA53=\"\",GZ53,IF(OR(HA53>(GZ53+1.2),HA53<(GZ53-1.2)),HA53,GZ53)))","v":""},{"$f":"IF(HA53=\"\",\"\",IF(OR(HA53>(GZ53+1.2),HA53<(GZ53-1.2)),\"Agncy Repl.\",\"\"))","v":""},{"$f":"IF(HB53=\"\",\"\",IF(HC53=\"\",HB53,IF(OR(HC53>(HB53+1.2),HC53<(HB53-1.2)),HC53,HB53)))","v":""},{"$f":"IF(HC53=\"\",\"\",IF(OR(HC53>(HB53+1.2),HC53<(HB53-1.2)),\"Agncy Repl.\",\"\"))","v":""},{"$f":"IF(HD53=\"\",\"\",IF(HE53=\"\",HD53,IF(OR(HE53>(HD53+1.2),HE53<(HD53-1.2)),HE53,HD53)))","v":""},{"$f":"IF(HE53=\"\",\"\",IF(OR(HE53>(HD53+1.2),HE53<(HD53-1.2)),\"Agncy Repl.\",\"\"))","v":""},{"$f":"IF(HF53=\"\",\"\",IF(HG53=\"\",HF53,IF(OR(HG53>(HF53+1.2),HG53<(HF53-1.2)),HG53,HF53)))","v":""},{"$f":"IF(HG53=\"\",\"\",IF(OR(HG53>(HF53+1.2),HG53<(HF53-1.2)),\"Agncy Repl.\",\"\"))","v":""},null,null,null,"Calc. VMA",{"$f":"IF(HL53=\"\",\"\",IF(HM53=\"\",HL53,IF(OR(HM53>(HL53+1.2),HM53<(HL53-1.2)),HM53,HL53)))","v":""},{"$f":"IF(HM53=\"\",\"\",IF(OR(HM53>(HL53+1.2),HM53<(HL53-1.2)),\"Agncy Repl.\",\"\"))","v":""},{"$f":"IF(HN53=\"\",\"\",IF(HO53=\"\",HN53,IF(OR(HO53>(HN53+1.2),HO53<(HN53-1.2)),HO53,HN53)))","v":""},{"$f":"IF(HO53=\"\",\"\",IF(OR(HO53>(HN53+1.2),HO53<(HN53-1.2)),\"Agncy Repl.\",\"\"))","v":""},{"$f":"IF(HP53=\"\",\"\",IF(HQ53=\"\",HP53,IF(OR(HQ53>(HP53+1.2),HQ53<(HP53-1.2)),HQ53,HP53)))","v":""},{"$f":"IF(HQ53=\"\",\"\",IF(OR(HQ53>(HP53+1.2),HQ53<(HP53-1.2)),\"Agncy Repl.\",\"\"))","v":""},{"$f":"IF(HR53=\"\",\"\",IF(HS53=\"\",HR53,IF(OR(HS53>(HR53+1.2),HS53<(HR53-1.2)),HS53,HR53)))","v":""},{"$f":"IF(HS53=\"\",\"\",IF(OR(HS53>(HR53+1.2),HS53<(HR53-1.2)),\"Agncy Repl.\",\"\"))","v":""},null,null,null,"Calc. VMA",{"$f":"IF(HX53=\"\",\"\",IF(HY53=\"\",HX53,IF(OR(HY53>(HX53+1.2),HY53<(HX53-1.2)),HY53,HX53)))","v":""},{"$f":"IF(HY53=\"\",\"\",IF(OR(HY53>(HX53+1.2),HY53<(HX53-1.2)),\"Agncy Repl.\",\"\"))","v":""},{"$f":"IF(HZ53=\"\",\"\",IF(IA53=\"\",HZ53,IF(OR(IA53>(HZ53+1.2),IA53<(HZ53-1.2)),IA53,HZ53)))","v":""},{"$f":"IF(IA53=\"\",\"\",IF(OR(IA53>(HZ53+1.2),IA53<(HZ53-1.2)),\"Agncy Repl.\",\"\"))","v":""},{"$f":"IF(IB53=\"\",\"\",IF(IC53=\"\",IB53,IF(OR(IC53>(IB53+1.2),IC53<(IB53-1.2)),IC53,IB53)))","v":""},{"$f":"IF(IC53=\"\",\"\",IF(OR(IC53>(IB53+1.2),IC53<(IB53-1.2)),\"Agncy Repl.\",\"\"))","v":""},{"$f":"IF(ID53=\"\",\"\",IF(IE53=\"\",ID53,IF(OR(IE53>(ID53+1.2),IE53<(ID53-1.2)),IE53,ID53)))","v":""},{"$f":"IF(IE53=\"\",\"\",IF(OR(IE53>(ID53+1.2),IE53<(ID53-1.2)),\"Agncy Repl.\",\"\"))","v":""},null,null,null,"Calc. VMA",{"$f":"IF(IJ53=\"\",\"\",IF(IK53=\"\",IJ53,IF(OR(IK53>(IJ53+1.2),IK53<(IJ53-1.2)),IK53,IJ53)))","v":""},{"$f":"IF(IK53=\"\",\"\",IF(OR(IK53>(IJ53+1.2),IK53<(IJ53-1.2)),\"Agncy Repl.\",\"\"))","v":""},{"$f":"IF(IL53=\"\",\"\",IF(IM53=\"\",IL53,IF(OR(IM53>(IL53+1.2),IM53<(IL53-1.2)),IM53,IL53)))","v":""},{"$f":"IF(IM53=\"\",\"\",IF(OR(IM53>(IL53+1.2),IM53<(IL53-1.2)),\"Agncy Repl.\",\"\"))","v":""},{"$f":"IF(IN53=\"\",\"\",IF(IO53=\"\",IN53,IF(OR(IO53>(IN53+1.2),IO53<(IN53-1.2)),IO53,IN53)))","v":""},{"$f":"IF(IO53=\"\",\"\",IF(OR(IO53>(IN53+1.2),IO53<(IN53-1.2)),\"Agncy Repl.\",\"\"))","v":""},{"$f":"IF(IP53=\"\",\"\",IF(IQ53=\"\",IP53,IF(OR(IQ53>(IP53+1.2),IQ53<(IP53-1.2)),IQ53,IP53)))","v":""},{"$f":"IF(IQ53=\"\",\"\",IF(OR(IQ53>(IP53+1.2),IQ53<(IP53-1.2)),\"Agncy Repl.\",\"\"))","v":""}]
["Design =",{"$f":"MDR!C5","v":0},"Mov. Avg.",null,{"$f":"IF(E53=\"\",\"\",IF(OR(E53>(D53+1.2),E53<(D53-1.2)),\"Tolerance\",\"\"))","v":""},null,{"$f":"IF(G53=\"\",\"\",IF(OR(G53>(F53+1.2),G53<(F53-1.2)),\"Tolerance\",\"\"))","v":""},null,{"$f":"IF(I53=\"\",\"\",IF(OR(I53>(H53+1.2),I53<(H53-1.2)),\"Tolerance\",\"\"))","v":""},{"$f":"IF(J48=\"\",\"\",Mix!$M14)","v":""},{"$f":"IF(K53=\"\",\"\",IF(OR(K53>(J53+1.2),K53<(J53-1.2)),\"Tolerance\",\"\"))","v":""},null,"Design =",{"$f":"B55","v":0},"Mov. Avg.",{"$f":"IF(P48=\"\",\"\",Mix!$M15)","v":""},{"$f":"IF(Q53=\"\",\"\",IF(OR(Q53>(P53+1.2),Q53<(P53-1.2)),\"Tolerance\",\"\"))","v":""},{"$f":"IF(R48=\"\",\"\",Mix!$M16)","v":""},{"$f":"IF(S53=\"\",\"\",IF(OR(S53>(R53+1.2),S53<(R53-1.2)),\"Tolerance\",\"\"))","v":""},{"$f":"IF(T48=\"\",\"\",Mix!$M17)","v":""},{"$f":"IF(U53=\"\",\"\",IF(OR(U53>(T53+1.2),U53<(T53-1.2)),\"Tolerance\",\"\"))","v":""},{"$f":"IF(V48=\"\",\"\",Mix!$M18)","v":""},{"$f":"IF(W53=\"\",\"\",IF(OR(W53>(V53+1.2),W53<(V53-1.2)),\"Tolerance\",\"\"))","v":""},null,"Design =",{"$f":"N55","v":0},"Mov. Avg.",{"$f":"IF(AB48=\"\",\"\",Mix!M19)","v":""},{"$f":"IF(AC53=\"\",\"\",IF(OR(AC53>(AB53+1.2),AC53<(AB53-1.2)),\"Tolerance\",\"\"))","v":""},{"$f":"IF(AD48=\"\",\"\",Mix!M20)","v":""},{"$f":"IF(AE53=\"\",\"\",IF(OR(AE53>(AD53+1.2),AE53<(AD53-1.2)),\"Tolerance\",\"\"))","v":""},{"$f":"IF(AF48=\"\",\"\",Mix!M21)","v":""},{"$f":"IF(AG53=\"\",\"\",IF(OR(AG53>(AF53+1.2),AG53<(AF53-1.2)),\"Tolerance\",\"\"))","v":""},{"$f":"IF(AH48=\"\",\"\",Mix!M22)","v":""},{"$f":"IF(AI53=\"\",\"\",IF(OR(AI53>(AH53+1.2),AI53<(AH53-1.2)),\"Tolerance\",\"\"))","v":""},null,"Design =",{"$f":"Z55","v":0},"Mov. Avg.",{"$f":"IF(AN48=\"\",\"\",Mix!M23)","v":""},{"$f":"IF(AO53=\"\",\"\",IF(OR(AO53>(AN53+1.2),AO53<(AN53-1.2)),\"Tolerance\",\"\"))","v":""},{"$f":"IF(AP48=\"\",\"\",Mix!M24)","v":""},{"$f":"IF(AQ53=\"\",\"\",IF(OR(AQ53>(AP53+1.2),AQ53<(AP53-1.2)),\"Tolerance\",\"\"))","v":""},{"$f":"IF(AR48=\"\",\"\",Mix!M25)","v":""},{"$f":"IF(AS53=\"\",\"\",IF(OR(AS53>(AR53+1.2),AS53<(AR53-1.2)),\"Tolerance\",\"\"))","v":""},{"$f":"IF(AT48=\"\",\"\",Mix!M26)","v":""},{"$f":"IF(AU53=\"\",\"\",IF(OR(AU53>(AT53+1.2),AU53<(AT53-1.2)),\"Tolerance\",\"\"))","v":""},null,"Design =",{"$f":"AL55","v":0},"Mov. Avg.",{"$f":"IF(AZ48=\"\",\"\",Mix!$M27)","v":""},{"$f":"IF(BA53=\"\",\"\",IF(OR(BA53>(AZ53+1.2),BA53<(AZ53-1.2)),\"Tolerance\",\"\"))","v":""},{"$f":"IF(BB48=\"\",\"\",Mix!$M28)","v":""},{"$f":"IF(BC53=\"\",\"\",IF(OR(BC53>(BB53+1.2),BC53<(BB53-1.2)),\"Tolerance\",\"\"))","v":""},{"$f":"IF(BD48=\"\",\"\",Mix!$M29)","v":""},{"$f":"IF(BE53=\"\",\"\",IF(OR(BE53>(BD53+1.2),BE53<(BD53-1.2)),\"Tolerance\",\"\"))","v":""},{"$f":"IF(BF48=\"\",\"\",Mix!$M30)","v":""},{"$f":"IF(BG53=\"\",\"\",IF(OR(BG53>(BF53+1.2),BG53<(BF53-1.2)),\"Tolerance\",\"\"))","v":""},null,"Design =",{"$f":"AX55","v":0},"Mov. Avg.",{"$f":"IF(BL48=\"\",\"\",Mix!$M31)","v":""},{"$f":"IF(BM53=\"\",\"\",IF(OR(BM53>(BL53+1.2),BM53<(BL53-1.2)),\"Tolerance\",\"\"))","v":""},{"$f":"IF(BN48=\"\",\"\",Mix!$M32)","v":""},{"$f":"IF(BO53=\"\",\"\",IF(OR(BO53>(BN53+1.2),BO53<(BN53-1.2)),\"Tolerance\",\"\"))","v":""},{"$f":"IF(BP48=\"\",\"\",Mix!$M33)","v":""},{"$f":"IF(BQ53=\"\",\"\",IF(OR(BQ53>(BP53+1.2),BQ53<(BP53-1.2)),\"Tolerance\",\"\"))","v":""},{"$f":"IF(BR48=\"\",\"\",Mix!$M34)","v":""},{"$f":"IF(BS53=\"\",\"\",IF(OR(BS53>(BR53+1.2),BS53<(BR53-1.2)),\"Tolerance\",\"\"))","v":""},null,"Design =",{"$f":"BJ55","v":0},"Mov. Avg.",{"$f":"IF(BX48=\"\",\"\",Mix!$M35)","v":""},{"$f":"IF(BY53=\"\",\"\",IF(OR(BY53>(BX53+1.2),BY53<(BX53-1.2)),\"Tolerance\",\"\"))","v":""},{"$f":"IF(BZ48=\"\",\"\",Mix!$M36)","v":""},{"$f":"IF(CA53=\"\",\"\",IF(OR(CA53>(BZ53+1.2),CA53<(BZ53-1.2)),\"Tolerance\",\"\"))","v":""},{"$f":"IF(CB48=\"\",\"\",Mix!$M37)","v":""},{"$f":"IF(CC53=\"\",\"\",IF(OR(CC53>(CB53+1.2),CC53<(CB53-1.2)),\"Tolerance\",\"\"))","v":""},{"$f":"IF(CD48=\"\",\"\",Mix!$M38)","v":""},{"$f":"IF(CE53=\"\",\"\",IF(OR(CE53>(CD53+1.2),CE53<(CD53-1.2)),\"Tolerance\",\"\"))","v":""},null,"Design =",{"$f":"BV55","v":0},"Mov. Avg.",{"$f":"IF(CJ48=\"\",\"\",Mix!$M39)","v":""},{"$f":"IF(CK53=\"\",\"\",IF(OR(CK53>(CJ53+1.2),CK53<(CJ53-1.2)),\"Tolerance\",\"\"))","v":""},{"$f":"IF(CL48=\"\",\"\",Mix!$M40)","v":""},{"$f":"IF(CM53=\"\",\"\",IF(OR(CM53>(CL53+1.2),CM53<(CL53-1.2)),\"Tolerance\",\"\"))","v":""},{"$f":"IF(CN48=\"\",\"\",Mix!$M41)","v":""},{"$f":"IF(CO53=\"\",\"\",IF(OR(CO53>(CN53+1.2),CO53<(CN53-1.2)),\"Tolerance\",\"\"))","v":""},{"$f":"IF(CP48=\"\",\"\",Mix!$M42)","v":""},{"$f":"IF(CQ53=\"\",\"\",IF(OR(CQ53>(CP53+1.2),CQ53<(CP53-1.2)),\"Tolerance\",\"\"))","v":""},null,"Design =",{"$f":"CH55","v":0},"Mov. Avg.",{"$f":"IF(CV48=\"\",\"\",Mix!$M43)","v":""},{"$f":"IF(CW53=\"\",\"\",IF(OR(CW53>(CV53+1.2),CW53<(CV53-1.2)),\"Tolerance\",\"\"))","v":""},{"$f":"IF(CX48=\"\",\"\",Mix!$M44)","v":""},{"$f":"IF(CY53=\"\",\"\",IF(OR(CY53>(CX53+1.2),CY53<(CX53-1.2)),\"Tolerance\",\"\"))","v":""},{"$f":"IF(CZ48=\"\",\"\",Mix!$M45)","v":""},{"$f":"IF(DA53=\"\",\"\",IF(OR(DA53>(CZ53+1.2),DA53<(CZ53-1.2)),\"Tolerance\",\"\"))","v":""},{"$f":"IF(DB48=\"\",\"\",Mix!$M46)","v":""},{"$f":"IF(DC53=\"\",\"\",IF(OR(DC53>(DB53+1.2),DC53<(DB53-1.2)),\"Tolerance\",\"\"))","v":""},null,"Design =",{"$f":"CT55","v":0},"Mov. Avg.",{"$f":"IF(DH48=\"\",\"\",Mix!$M47)","v":""},{"$f":"IF(DI53=\"\",\"\",IF(OR(DI53>(DH53+1.2),DI53<(DH53-1.2)),\"Tolerance\",\"\"))","v":""},{"$f":"IF(DJ48=\"\",\"\",Mix!$M48)","v":""},{"$f":"IF(DK53=\"\",\"\",IF(OR(DK53>(DJ53+1.2),DK53<(DJ53-1.2)),\"Tolerance\",\"\"))","v":""},{"$f":"IF(DL48=\"\",\"\",Mix!$M49)","v":""},{"$f":"IF(DM53=\"\",\"\",IF(OR(DM53>(DL53+1.2),DM53<(DL53-1.2)),\"Tolerance\",\"\"))","v":""},{"$f":"IF(DN48=\"\",\"\",Mix!$M50)","v":""},{"$f":"IF(DO53=\"\",\"\",IF(OR(DO53>(DN53+1.2),DO53<(DN53-1.2)),\"Tolerance\",\"\"))","v":""},null,"Design =",{"$f":"DF55","v":0},"Mov. Avg.",{"$f":"IF(DT48=\"\",\"\",Mix!$M51)","v":""},{"$f":"IF(DU53=\"\",\"\",IF(OR(DU53>(DT53+1.2),DU53<(DT53-1.2)),\"Tolerance\",\"\"))","v":""},{"$f":"IF(DV48=\"\",\"\",Mix!$M52)","v":""},{"$f":"IF(DW53=\"\",\"\",IF(OR(DW53>(DV53+1.2),DW53<(DV53-1.2)),\"Tolerance\",\"\"))","v":""},{"$f":"IF(DX48=\"\",\"\",Mix!$M53)","v":""},{"$f":"IF(DY53=\"\",\"\",IF(OR(DY53>(DX53+1.2),DY53<(DX53-1.2)),\"Tolerance\",\"\"))","v":""},{"$f":"IF(DZ48=\"\",\"\",Mix!$M54)","v":""},{"$f":"IF(EA53=\"\",\"\",IF(OR(EA53>(DZ53+1.2),EA53<(DZ53-1.2)),\"Tolerance\",\"\"))","v":""},null,"Design =",{"$f":"DR55","v":0},"Mov. Avg.",{"$f":"IF(EF48=\"\",\"\",Mix!$M55)","v":""},{"$f":"IF(EG53=\"\",\"\",IF(OR(EG53>(EF53+1.2),EG53<(EF53-1.2)),\"Tolerance\",\"\"))","v":""},{"$f":"IF(EH48=\"\",\"\",Mix!$M56)","v":""},{"$f":"IF(EI53=\"\",\"\",IF(OR(EI53>(EH53+1.2),EI53<(EH53-1.2)),\"Tolerance\",\"\"))","v":""},{"$f":"IF(EJ48=\"\",\"\",Mix!$M57)","v":""},{"$f":"IF(EK53=\"\",\"\",IF(OR(EK53>(EJ53+1.2),EK53<(EJ53-1.2)),\"Tolerance\",\"\"))","v":""},{"$f":"IF(EL48=\"\",\"\",Mix!$M58)","v":""},{"$f":"IF(EM53=\"\",\"\",IF(OR(EM53>(EL53+1.2),EM53<(EL53-1.2)),\"Tolerance\",\"\"))","v":""},null,"Design =",{"$f":"ED55","v":0},"Mov. Avg.",{"$f":"IF(ER48=\"\",\"\",Mix!$M59)","v":""},{"$f":"IF(ES53=\"\",\"\",IF(OR(ES53>(ER53+1.2),ES53<(ER53-1.2)),\"Tolerance\",\"\"))","v":""},{"$f":"IF(ET48=\"\",\"\",Mix!$M60)","v":""},{"$f":"IF(EU53=\"\",\"\",IF(OR(EU53>(ET53+1.2),EU53<(ET53-1.2)),\"Tolerance\",\"\"))","v":""},{"$f":"IF(EV48=\"\",\"\",Mix!$M61)","v":""},{"$f":"IF(EW53=\"\",\"\",IF(OR(EW53>(EV53+1.2),EW53<(EV53-1.2)),\"Tolerance\",\"\"))","v":""},{"$f":"IF(EX48=\"\",\"\",Mix!$M62)","v":""},{"$f":"IF(EY53=\"\",\"\",IF(OR(EY53>(EX53+1.2),EY53<(EX53-1.2)),\"Tolerance\",\"\"))","v":""},null,"Design =",{"$f":"EP55","v":0},"Mov. Avg.",{"$f":"IF(FD48=\"\",\"\",Mix!$M63)","v":""},{"$f":"IF(FE53=\"\",\"\",IF(OR(FE53>(FD53+1.2),FE53<(FD53-1.2)),\"Tolerance\",\"\"))","v":""},{"$f":"IF(FF48=\"\",\"\",Mix!$M64)","v":""},{"$f":"IF(FG53=\"\",\"\",IF(OR(FG53>(FF53+1.2),FG53<(FF53-1.2)),\"Tolerance\",\"\"))","v":""},{"$f":"IF(FH48=\"\",\"\",Mix!$M65)","v":""},{"$f":"IF(FI53=\"\",\"\",IF(OR(FI53>(FH53+1.2),FI53<(FH53-1.2)),\"Tolerance\",\"\"))","v":""},{"$f":"IF(FJ48=\"\",\"\",Mix!$M66)","v":""},{"$f":"IF(FK53=\"\",\"\",IF(OR(FK53>(FJ53+1.2),FK53<(FJ53-1.2)),\"Tolerance\",\"\"))","v":""},null,"Design =",{"$f":"FB55","v":0},"Mov. Avg.",{"$f":"IF(FP48=\"\",\"\",Mix!$M67)","v":""},{"$f":"IF(FQ53=\"\",\"\",IF(OR(FQ53>(FP53+1.2),FQ53<(FP53-1.2)),\"Tolerance\",\"\"))","v":""},{"$f":"IF(FR48=\"\",\"\",Mix!$M68)","v":""},{"$f":"IF(FS53=\"\",\"\",IF(OR(FS53>(FR53+1.2),FS53<(FR53-1.2)),\"Tolerance\",\"\"))","v":""},{"$f":"IF(FT48=\"\",\"\",Mix!$M69)","v":""},{"$f":"IF(FU53=\"\",\"\",IF(OR(FU53>(FT53+1.2),FU53<(FT53-1.2)),\"Tolerance\",\"\"))","v":""},{"$f":"IF(FV48=\"\",\"\",Mix!$M70)","v":""},{"$f":"IF(FW53=\"\",\"\",IF(OR(FW53>(FV53+1.2),FW53<(FV53-1.2)),\"Tolerance\",\"\"))","v":""},null,"Design =",{"$f":"FN55","v":0},"Mov. Avg.",{"$f":"IF(GB48=\"\",\"\",Mix!$M71)","v":""},{"$f":"IF(GC53=\"\",\"\",IF(OR(GC53>(GB53+1.2),GC53<(GB53-1.2)),\"Tolerance\",\"\"))","v":""},{"$f":"IF(GD48=\"\",\"\",Mix!$M72)","v":""},{"$f":"IF(GE53=\"\",\"\",IF(OR(GE53>(GD53+1.2),GE53<(GD53-1.2)),\"Tolerance\",\"\"))","v":""},{"$f":"IF(GF48=\"\",\"\",Mix!$M73)","v":""},{"$f":"IF(GG53=\"\",\"\",IF(OR(GG53>(GF53+1.2),GG53<(GF53-1.2)),\"Tolerance\",\"\"))","v":""},{"$f":"IF(GH48=\"\",\"\",Mix!$M74)","v":""},{"$f":"IF(GI53=\"\",\"\",IF(OR(GI53>(GH53+1.2),GI53<(GH53-1.2)),\"Tolerance\",\"\"))","v":""},null,"Design =",{"$f":"FZ55","v":0},"Mov. Avg.",{"$f":"IF(GN48=\"\",\"\",Mix!$M75)","v":""},{"$f":"IF(GO53=\"\",\"\",IF(OR(GO53>(GN53+1.2),GO53<(GN53-1.2)),\"Tolerance\",\"\"))","v":""},{"$f":"IF(GP48=\"\",\"\",Mix!$M76)","v":""},{"$f":"IF(GQ53=\"\",\"\",IF(OR(GQ53>(GP53+1.2),GQ53<(GP53-1.2)),\"Tolerance\",\"\"))","v":""},{"$f":"IF(GR48=\"\",\"\",Mix!$M77)","v":""},{"$f":"IF(GS53=\"\",\"\",IF(OR(GS53>(GR53+1.2),GS53<(GR53-1.2)),\"Tolerance\",\"\"))","v":""},{"$f":"IF(GT48=\"\",\"\",Mix!$M78)","v":""},{"$f":"IF(GU53=\"\",\"\",IF(OR(GU53>(GT53+1.2),GU53<(GT53-1.2)),\"Tolerance\",\"\"))","v":""},null,"Design =",{"$f":"GL55","v":0},"Mov. Avg.",{"$f":"IF(GZ48=\"\",\"\",Mix!$M79)","v":""},{"$f":"IF(HA53=\"\",\"\",IF(OR(HA53>(GZ53+1.2),HA53<(GZ53-1.2)),\"Tolerance\",\"\"))","v":""},{"$f":"IF(HB48=\"\",\"\",Mix!$M80)","v":""},{"$f":"IF(HC53=\"\",\"\",IF(OR(HC53>(HB53+1.2),HC53<(HB53-1.2)),\"Tolerance\",\"\"))","v":""},{"$f":"IF(HD48=\"\",\"\",Mix!$M81)","v":""},{"$f":"IF(HE53=\"\",\"\",IF(OR(HE53>(HD53+1.2),HE53<(HD53-1.2)),\"Tolerance\",\"\"))","v":""},{"$f":"IF(HF48=\"\",\"\",Mix!$M82)","v":""},{"$f":"IF(HG53=\"\",\"\",IF(OR(HG53>(HF53+1.2),HG53<(HF53-1.2)),\"Tolerance\",\"\"))","v":""},null,"Design =",{"$f":"GX55","v":0},"Mov. Avg.",{"$f":"IF(HL48=\"\",\"\",Mix!$M83)","v":""},{"$f":"IF(HM53=\"\",\"\",IF(OR(HM53>(HL53+1.2),HM53<(HL53-1.2)),\"Tolerance\",\"\"))","v":""},{"$f":"IF(HN48=\"\",\"\",Mix!$M84)","v":""},{"$f":"IF(HO53=\"\",\"\",IF(OR(HO53>(HN53+1.2),HO53<(HN53-1.2)),\"Tolerance\",\"\"))","v":""},{"$f":"IF(HP48=\"\",\"\",Mix!$M85)","v":""},{"$f":"IF(HQ53=\"\",\"\",IF(OR(HQ53>(HP53+1.2),HQ53<(HP53-1.2)),\"Tolerance\",\"\"))","v":""},{"$f":"IF(HR48=\"\",\"\",Mix!$M86)","v":""},{"$f":"IF(HS53=\"\",\"\",IF(OR(HS53>(HR53+1.2),HS53<(HR53-1.2)),\"Tolerance\",\"\"))","v":""},null,"Design =",{"$f":"HJ55","v":0},"Mov. Avg.",{"$f":"IF(HX48=\"\",\"\",Mix!$M87)","v":""},{"$f":"IF(HY53=\"\",\"\",IF(OR(HY53>(HX53+1.2),HY53<(HX53-1.2)),\"Tolerance\",\"\"))","v":""},{"$f":"IF(HZ48=\"\",\"\",Mix!$M88)","v":""},{"$f":"IF(IA53=\"\",\"\",IF(OR(IA53>(HZ53+1.2),IA53<(HZ53-1.2)),\"Tolerance\",\"\"))","v":""},{"$f":"IF(IB48=\"\",\"\",Mix!$M89)","v":""},{"$f":"IF(IC53=\"\",\"\",IF(OR(IC53>(IB53+1.2),IC53<(IB53-1.2)),\"Tolerance\",\"\"))","v":""},{"$f":"IF(ID48=\"\",\"\",Mix!$M90)","v":""},{"$f":"IF(IE53=\"\",\"\",IF(OR(IE53>(ID53+1.2),IE53<(ID53-1.2)),\"Tolerance\",\"\"))","v":""},null,"Design =",{"$f":"HV55","v":0},"Mov. Avg.",{"$f":"IF(IJ48=\"\",\"\",Mix!$M91)","v":""},{"$f":"IF(IK53=\"\",\"\",IF(OR(IK53>(IJ53+1.2),IK53<(IJ53-1.2)),\"Tolerance\",\"\"))","v":""},{"$f":"IF(IL48=\"\",\"\",Mix!$M92)","v":""},{"$f":"IF(IM53=\"\",\"\",IF(OR(IM53>(IL53+1.2),IM53<(IL53-1.2)),\"Tolerance\",\"\"))","v":""},{"$f":"IF(IN48=\"\",\"\",Mix!$M93)","v":""},{"$f":"IF(IO53=\"\",\"\",IF(OR(IO53>(IN53+1.2),IO53<(IN53-1.2)),\"Tolerance\",\"\"))","v":""},{"$f":"IF(IP48=\"\",\"\",Mix!$M94)","v":""},{"$f":"IF(IQ53=\"\",\"\",IF(OR(IQ53>(IP53+1.2),IQ53<(IP53-1.2)),\"Tolerance\",\"\"))","v":""},null,null,0,"Agency AFT Substituted"]
["Fines / Effective Asphalt Content",null,null,{"$f":"IF(ISERROR(Mix!U11),\"\",Mix!U11)","v":""},{"$f":"IF(E39=\"\",\"\",E39/E101)","v":""},{"$f":"IF(ISERROR(Mix!U12),\"\",Mix!U12)","v":""},{"$f":"IF(G39=\"\",\"\",G39/G101)","v":""},{"$f":"IF(ISERROR(Mix!U13),\"\",Mix!U13)","v":""},{"$f":"IF(I39=\"\",\"\",I39/I101)","v":""},{"$f":"IF(ISERROR(Mix!U14),\"\",Mix!U14)","v":""},{"$f":"IF(K39=\"\",\"\",K39/K101)","v":""},null,"Fines / Effective Asphalt Content",null,null,{"$f":"IF(ISERROR(Mix!U15),\"\",Mix!U15)","v":""},{"$f":"IF(Q39=\"\",\"\",Q39/Q101)","v":""},{"$f":"IF(ISERROR(Mix!U16),\"\",Mix!U16)","v":""},{"$f":"IF(S39=\"\",\"\",S39/S101)","v":""},{"$f":"IF(ISERROR(Mix!U17),\"\",Mix!U17)","v":""},{"$f":"IF(U39=\"\",\"\",U39/U101)","v":""},{"$f":"IF(ISERROR(Mix!U18),\"\",Mix!U18)","v":""},{"$f":"IF(W39=\"\",\"\",W39/W101)","v":""},null,"Fines / Effective Asphalt Content",null,null,{"$f":"IF(ISERROR(Mix!U19),\"\",Mix!U19)","v":""},{"$f":"IF(AC39=\"\",\"\",AC39/AC101)","v":""},{"$f":"IF(ISERROR(Mix!U20),\"\",Mix!U20)","v":""},{"$f":"IF(AE39=\"\",\"\",AE39/AE101)","v":""},{"$f":"IF(ISERROR(Mix!U21),\"\",Mix!U21)","v":""},{"$f":"IF(AG39=\"\",\"\",AG39/AG101)","v":""},{"$f":"IF(ISERROR(Mix!U22),\"\",Mix!U22)","v":""},{"$f":"IF(AI39=\"\",\"\",AI39/AI101)","v":""},null,"Fines / Effective Asphalt Content",null,null,{"$f":"IF(ISERROR(Mix!U23),\"\",Mix!U23)","v":""},{"$f":"IF(AO39=\"\",\"\",AO39/AO101)","v":""},{"$f":"IF(ISERROR(Mix!U24),\"\",Mix!U24)","v":""},{"$f":"IF(AQ39=\"\",\"\",AQ39/AQ101)","v":""},{"$f":"IF(ISERROR(Mix!U25),\"\",Mix!U25)","v":""},{"$f":"IF(AS39=\"\",\"\",AS39/AS101)","v":""},{"$f":"IF(ISERROR(Mix!U26),\"\",Mix!U26)","v":""},{"$f":"IF(AU39=\"\",\"\",AU39/AU101)","v":""},null,"Fines / Effective Asphalt Content",null,null,{"$f":"IF(ISERROR(Mix!U27),\"\",Mix!U27)","v":""},{"$f":"IF(BA39=\"\",\"\",BA39/BA101)","v":""},{"$f":"IF(ISERROR(Mix!U28),\"\",Mix!U28)","v":""},{"$f":"IF(BC39=\"\",\"\",BC39/BC101)","v":""},{"$f":"IF(ISERROR(Mix!U29),\"\",Mix!U29)","v":""},{"$f":"IF(BE39=\"\",\"\",BE39/BE101)","v":""},{"$f":"IF(ISERROR(Mix!U30),\"\",Mix!U30)","v":""},{"$f":"IF(BG39=\"\",\"\",BG39/BG101)","v":""},null,"Fines / Effective Asphalt Content",null,null,{"$f":"IF(ISERROR(Mix!U31),\"\",Mix!U31)","v":""},{"$f":"IF(BM39=\"\",\"\",BM39/BM101)","v":""},{"$f":"IF(ISERROR(Mix!U32),\"\",Mix!U32)","v":""},{"$f":"IF(BO39=\"\",\"\",BO39/BO101)","v":""},{"$f":"IF(ISERROR(Mix!U33),\"\",Mix!U33)","v":""},{"$f":"IF(BQ39=\"\",\"\",BQ39/BQ101)","v":""},{"$f":"IF(ISERROR(Mix!U34),\"\",Mix!U34)","v":""},{"$f":"IF(BS39=\"\",\"\",BS39/BS101)","v":""},null,"Fines / Effective Asphalt Content",null,null,{"$f":"IF(ISERROR(Mix!U35),\"\",Mix!U35)","v":""},{"$f":"IF(BY39=\"\",\"\",BY39/BY101)","v":""},{"$f":"IF(ISERROR(Mix!U36),\"\",Mix!U36)","v":""},{"$f":"IF(CA39=\"\",\"\",CA39/CA101)","v":""},{"$f":"IF(ISERROR(Mix!U37),\"\",Mix!U37)","v":""},{"$f":"IF(CC39=\"\",\"\",CC39/CC101)","v":""},{"$f":"IF(ISERROR(Mix!U38),\"\",Mix!U38)","v":""},{"$f":"IF(CE39=\"\",\"\",CE39/CE101)","v":""},null,"Fines / Effective Asphalt Content",null,null,{"$f":"IF(ISERROR(Mix!U39),\"\",Mix!U39)","v":""},{"$f":"IF(CK39=\"\",\"\",CK39/CK101)","v":""},{"$f":"IF(ISERROR(Mix!U40),\"\",Mix!U40)","v":""},{"$f":"IF(CM39=\"\",\"\",CM39/CM101)","v":""},{"$f":"IF(ISERROR(Mix!U41),\"\",Mix!U41)","v":""},{"$f":"IF(CO39=\"\",\"\",CO39/CO101)","v":""},{"$f":"IF(ISERROR(Mix!U42),\"\",Mix!U42)","v":""},{"$f":"IF(CQ39=\"\",\"\",CQ39/CQ101)","v":""},null,"Fines / Effective Asphalt Content",null,null,{"$f":"IF(ISERROR(Mix!U43),\"\",Mix!U43)","v":""},{"$f":"IF(CW39=\"\",\"\",CW39/CW101)","v":""},{"$f":"IF(ISERROR(Mix!U44),\"\",Mix!U44)","v":""},{"$f":"IF(CY39=\"\",\"\",CY39/CY101)","v":""},{"$f":"IF(ISERROR(Mix!U45),\"\",Mix!U45)","v":""},{"$f":"IF(DA39=\"\",\"\",DA39/DA101)","v":""},{"$f":"IF(ISERROR(Mix!U46),\"\",Mix!U46)","v":""},{"$f":"IF(DC39=\"\",\"\",DC39/DC101)","v":""},null,"Fines / Effective Asphalt Content",null,null,{"$f":"IF(ISERROR(Mix!U47),\"\",Mix!U47)","v":""},{"$f":"IF(DI39=\"\",\"\",DI39/DI101)","v":""},{"$f":"IF(ISERROR(Mix!U48),\"\",Mix!U48)","v":""},{"$f":"IF(DK39=\"\",\"\",DK39/DK101)","v":""},{"$f":"IF(ISERROR(Mix!U49),\"\",Mix!U49)","v":""},{"$f":"IF(DM39=\"\",\"\",DM39/DM101)","v":""},{"$f":"IF(ISERROR(Mix!U50),\"\",Mix!U50)","v":""},{"$f":"IF(DO39=\"\",\"\",DO39/DO101)","v":""},null,"Fines / Effective Asphalt Content",null,null,{"$f":"IF(ISERROR(Mix!U51),\"\",Mix!U51)","v":""},{"$f":"IF(DU39=\"\",\"\",DU39/DU101)","v":""},{"$f":"IF(ISERROR(Mix!U52),\"\",Mix!U52)","v":""},{"$f":"IF(DW39=\"\",\"\",DW39/DW101)","v":""},{"$f":"IF(ISERROR(Mix!U53),\"\",Mix!U53)","v":""},{"$f":"IF(DY39=\"\",\"\",DY39/DY101)","v":""},{"$f":"IF(ISERROR(Mix!U54),\"\",Mix!U54)","v":""},{"$f":"IF(EA39=\"\",\"\",EA39/EA101)","v":""},null,"Fines / Effective Asphalt Content",null,null,{"$f":"IF(ISERROR(Mix!U55),\"\",Mix!U55)","v":""},{"$f":"IF(EG39=\"\",\"\",EG39/EG101)","v":""},{"$f":"IF(ISERROR(Mix!U56),\"\",Mix!U56)","v":""},{"$f":"IF(EI39=\"\",\"\",EI39/EI101)","v":""},{"$f":"IF(ISERROR(Mix!U57),\"\",Mix!U57)","v":""},{"$f":"IF(EK39=\"\",\"\",EK39/EK101)","v":""},{"$f":"IF(ISERROR(Mix!U58),\"\",Mix!U58)","v":""},{"$f":"IF(EM39=\"\",\"\",EM39/EM101)","v":""},null,"Fines / Effective Asphalt Content",null,null,{"$f":"IF(ISERROR(Mix!U59),\"\",Mix!U59)","v":""},{"$f":"IF(ES39=\"\",\"\",ES39/ES101)","v":""},{"$f":"IF(ISERROR(Mix!U60),\"\",Mix!U60)","v":""},{"$f":"IF(EU39=\"\",\"\",EU39/EU101)","v":""},{"$f":"IF(ISERROR(Mix!U61),\"\",Mix!U61)","v":""},{"$f":"IF(EW39=\"\",\"\",EW39/EW101)","v":""},{"$f":"IF(ISERROR(Mix!U62),\"\",Mix!U62)","v":""},{"$f":"IF(EY39=\"\",\"\",EY39/EY101)","v":""},null,"Fines / Effective Asphalt Content",null,null,{"$f":"IF(ISERROR(Mix!U63),\"\",Mix!U63)","v":""},{"$f":"IF(IK155=\"\",\"\",IK155/FE101)","v":""},{"$f":"IF(ISERROR(Mix!U64),\"\",Mix!U64)","v":""},{"$f":"IF(IM155=\"\",\"\",IM155/FG101)","v":""},{"$f":"IF(ISERROR(Mix!U65),\"\",Mix!U65)","v":""},{"$f":"IF(IO155=\"\",\"\",IO155/FI101)","v":""},{"$f":"IF(ISERROR(Mix!U66),\"\",Mix!U66)","v":""},{"$f":"IF(IQ155=\"\",\"\",IQ155/FK101)","v":""},null,"Fines / Effective Asphalt Content",null,null,{"$f":"IF(ISERROR(Mix!U67),\"\",Mix!U67)","v":""},{"$f":"IF(FQ39=\"\",\"\",FQ39/FQ101)","v":""},{"$f":"IF(ISERROR(Mix!U68),\"\",Mix!U68)","v":""},{"$f":"IF(FS39=\"\",\"\",FS39/FS101)","v":""},{"$f":"IF(ISERROR(Mix!U69),\"\",Mix!U69)","v":""},{"$f":"IF(FU39=\"\",\"\",FU39/FU101)","v":""},{"$f":"IF(ISERROR(Mix!U70),\"\",Mix!U70)","v":""},{"$f":"IF(FW39=\"\",\"\",FW39/FW101)","v":""},null,"Fines / Effective Asphalt Content",null,null,{"$f":"IF(ISERROR(Mix!U71),\"\",Mix!U71)","v":""},{"$f":"IF(GC39=\"\",\"\",GC39/GC101)","v":""},{"$f":"IF(ISERROR(Mix!U72),\"\",Mix!U72)","v":""},{"$f":"IF(GE39=\"\",\"\",GE39/GE101)","v":""},{"$f":"IF(ISERROR(Mix!U73),\"\",Mix!U73)","v":""},{"$f":"IF(GG39=\"\",\"\",GG39/GG101)","v":""},{"$f":"IF(ISERROR(Mix!U74),\"\",Mix!U74)","v":""},{"$f":"IF(GI39=\"\",\"\",GI39/GI101)","v":""},null,"Fines / Effective Asphalt Content",null,null,{"$f":"IF(ISERROR(Mix!U75),\"\",Mix!U75)","v":""},{"$f":"IF(GO39=\"\",\"\",GO39/GO101)","v":""},{"$f":"IF(ISERROR(Mix!U76),\"\",Mix!U76)","v":""},{"$f":"IF(GQ39=\"\",\"\",GQ39/GQ101)","v":""},{"$f":"IF(ISERROR(Mix!U77),\"\",Mix!U77)","v":""},{"$f":"IF(GS39=\"\",\"\",GS39/GS101)","v":""},{"$f":"IF(ISERROR(Mix!U78),\"\",Mix!U78)","v":""},{"$f":"IF(GU39=\"\",\"\",GU39/GU101)","v":""},null,"Fines / Effective Asphalt Content",null,null,{"$f":"IF(ISERROR(Mix!U79),\"\",Mix!U79)","v":""},{"$f":"IF(HA39=\"\",\"\",HA39/HA101)","v":""},{"$f":"IF(ISERROR(Mix!U80),\"\",Mix!U80)","v":""},{"$f":"IF(HC39=\"\",\"\",HC39/HC101)","v":""},{"$f":"IF(ISERROR(Mix!U81),\"\",Mix!U81)","v":""},{"$f":"IF(HE39=\"\",\"\",HE39/HE101)","v":""},{"$f":"IF(ISERROR(Mix!U82),\"\",Mix!U82)","v":""},{"$f":"IF(HG39=\"\",\"\",HG39/HG101)","v":""},null,"Fines / Effective Asphalt Content",null,null,{"$f":"IF(ISERROR(Mix!U83),\"\",Mix!U83)","v":""},{"$f":"IF(HM39=\"\",\"\",HM39/HM101)","v":""},{"$f":"IF(ISERROR(Mix!U84),\"\",Mix!U84)","v":""},{"$f":"IF(HO39=\"\",\"\",HO39/HO101)","v":""},{"$f":"IF(ISERROR(Mix!U85),\"\",Mix!U85)","v":""},{"$f":"IF(HQ39=\"\",\"\",HQ39/HQ101)","v":""},{"$f":"IF(ISERROR(Mix!U86),\"\",Mix!U86)","v":""},{"$f":"IF(HS39=\"\",\"\",HS39/HS101)","v":""},null,"Fines / Effective Asphalt Content",null,null,{"$f":"IF(ISERROR(Mix!U87),\"\",Mix!U87)","v":""},{"$f":"IF(HY39=\"\",\"\",HY39/HY101)","v":""},{"$f":"IF(ISERROR(Mix!U88),\"\",Mix!U88)","v":""},{"$f":"IF(IA39=\"\",\"\",IA39/IA101)","v":""},{"$f":"IF(ISERROR(Mix!U89),\"\",Mix!U89)","v":""},{"$f":"IF(IC39=\"\",\"\",IC39/IC101)","v":""},{"$f":"IF(ISERROR(Mix!U90),\"\",Mix!U90)","v":""},{"$f":"IF(IE39=\"\",\"\",IE39/IE101)","v":""},null,"Fines / Effective Asphalt Content",null,null,{"$f":"IF(ISERROR(Mix!U91),\"\",Mix!U91)","v":""},{"$f":"IF(IK39=\"\",\"\",IK39/IK101)","v":""},{"$f":"IF(ISERROR(Mix!U92),\"\",Mix!U92)","v":""},{"$f":"IF(IM39=\"\",\"\",IM39/IM101)","v":""},{"$f":"IF(ISERROR(Mix!U93),\"\",Mix!U93)","v":""},{"$f":"IF(IO39=\"\",\"\",IO39/IO101)","v":""},{"$f":"IF(ISERROR(Mix!U94),\"\",Mix!U94)","v":""},{"$f":"IF(IQ39=\"\",\"\",IQ39/IQ101)","v":""},null,null,0,"Agency AFT Substituted"]
["\nAdjusted AFT\n",null,"Individual",{"$f":"+Mix!AF111","v":{"$error":"#VALUE!"}},{"$f":"+E132","v":""},{"$f":"+Mix!AF112","v":{"$error":"#VALUE!"}},{"$f":"+G132","v":""},{"$f":"+Mix!AF113","v":{"$error":"#VALUE!"}},{"$f":"+I132","v":""},{"$f":"+Mix!AF114","v":{"$error":"#VALUE!"}},{"$f":"+K132","v":""},null,"\nAdjusted AFT\n",null,"Individual",{"$f":"+Mix!AF115","v":{"$error":"#VALUE!"}},{"$f":"+Q132","v":""},{"$f":"+Mix!AF116","v":{"$error":"#VALUE!"}},{"$f":"+S132","v":""},{"$f":"+Mix!AF117","v":{"$error":"#VALUE!"}},{"$f":"+U132","v":""},{"$f":"+Mix!AF118","v":{"$error":"#VALUE!"}},{"$f":"+W132","v":""},null,"\nAdjusted AFT\n",null,"Individual",{"$f":"+Mix!AF119","v":{"$error":"#VALUE!"}},{"$f":"+AC132","v":""},{"$f":"+Mix!AF120","v":{"$error":"#VALUE!"}},{"$f":"+AE132","v":""},{"$f":"+Mix!AF121","v":{"$error":"#VALUE!"}},{"$f":"+AG132","v":""},{"$f":"+Mix!AF122","v":{"$error":"#VALUE!"}},{"$f":"+AI132","v":""},null,"\nAdjusted AFT\n",null,"Individual",{"$f":"+Mix!AF123","v":{"$error":"#VALUE!"}},{"$f":"+AO132","v":""},{"$f":"+Mix!AF124","v":{"$error":"#VALUE!"}},{"$f":"+AQ132","v":""},{"$f":"+Mix!AF125","v":{"$error":"#VALUE!"}},{"$f":"+AS132","v":""},{"$f":"+Mix!AF126","v":{"$error":"#VALUE!"}},{"$f":"+AU132","v":""},null,"\nAdjusted AFT\n",null,"Individual",{"$f":"+Mix!AF127","v":{"$error":"#VALUE!"}},{"$f":"+BA132","v":""},{"$f":"+Mix!AF128","v":{"$error":"#VALUE!"}},{"$f":"+BC132","v":""},{"$f":"+Mix!AF129","v":{"$error":"#VALUE!"}},{"$f":"+BE132","v":""},{"$f":"+Mix!AF130","v":{"$error":"#VALUE!"}},{"$f":"+BG132","v":""},null,"\nAdjusted AFT\n",null,"Individual",{"$f":"+Mix!AF131","v":{"$error":"#VALUE!"}},{"$f":"+BM132","v":""},{"$f":"+Mix!AF132","v":{"$error":"#VALUE!"}},{"$f":"+BO132","v":""},{"$f":"+Mix!AF133","v":{"$error":"#VALUE!"}},{"$f":"+BQ132","v":""},{"$f":"+Mix!AF134","v":{"$error":"#VALUE!"}},{"$f":"+BS132","v":""},null,"\nAdjusted AFT\n",null,"Individual",{"$f":"+Mix!AF135","v":{"$error":"#VALUE!"}},{"$f":"+BY132","v":""},{"$f":"+Mix!AF136","v":{"$error":"#VALUE!"}},{"$f":"+CA132","v":""},{"$f":"+Mix!AF137","v":{"$error":"#VALUE!"}},{"$f":"+CC132","v":""},{"$f":"+Mix!AF138","v":{"$error":"#VALUE!"}},{"$f":"+CE132","v":""},null,"\nAdjusted AFT\n",null,"Individual",{"$f":"+Mix!AF139","v":{"$error":"#VALUE!"}},{"$f":"+CK132","v":""},{"$f":"+Mix!AF140","v":{"$error":"#VALUE!"}},{"$f":"+CM132","v":""},{"$f":"+Mix!AF141","v":{"$error":"#VALUE!"}},{"$f":"+CO132","v":""},{"$f":"+Mix!AF142","v":{"$error":"#VALUE!"}},{"$f":"+CQ132","v":""},null,"\nAdjusted AFT\n",null,"Individual",{"$f":"+Mix!AF143","v":{"$error":"#VALUE!"}},{"$f":"+CW132","v":""},{"$f":"+Mix!AF144","v":{"$error":"#VALUE!"}},{"$f":"+CY132","v":""},{"$f":"+Mix!AF145","v":{"$error":"#VALUE!"}},{"$f":"+DA132","v":""},{"$f":"+Mix!AF146","v":{"$error":"#VALUE!"}},{"$f":"+DC132","v":""},null,"\nAdjusted AFT\n",null,"Individual",{"$f":"+Mix!AF147","v":{"$error":"#VALUE!"}},{"$f":"+DI132","v":""},{"$f":"+Mix!AF148","v":{"$error":"#VALUE!"}},{"$f":"+DK132","v":""},{"$f":"+Mix!AF149","v":{"$error":"#VALUE!"}},{"$f":"+DM132","v":""},{"$f":"+Mix!AF150","v":{"$error":"#VALUE!"}},{"$f":"+DO132","v":""},null,"\nAdjusted AFT\n",null,"Individual",{"$f":"+Mix!AF151","v":{"$error":"#VALUE!"}},{"$f":"+DU132","v":""},{"$f":"+Mix!AF152","v":{"$error":"#VALUE!"}},{"$f":"+DW132","v":""},{"$f":"+Mix!AF153","v":{"$error":"#VALUE!"}},{"$f":"+DY132","v":""},{"$f":"+Mix!AF154","v":{"$error":"#VALUE!"}},{"$f":"+EA132","v":""},null,"\nAdjusted AFT\n",null,"Individual",{"$f":"+Mix!AF155","v":{"$error":"#VALUE!"}},{"$f":"+EG132","v":""},{"$f":"+Mix!AF156","v":{"$error":"#VALUE!"}},{"$f":"+EI132","v":""},{"$f":"+Mix!AF157","v":{"$error":"#VALUE!"}},{"$f":"+EK132","v":""},{"$f":"+Mix!AF158","v":{"$error":"#VALUE!"}},{"$f":"+EM132","v":""},null,"\nAdjusted AFT\n",null,"Individual",{"$f":"+Mix!AF159","v":{"$error":"#VALUE!"}},{"$f":"+ES132","v":""},{"$f":"+Mix!AF160","v":{"$error":"#VALUE!"}},{"$f":"+EU132","v":""},{"$f":"+Mix!AF161","v":{"$error":"#VALUE!"}},{"$f":"+EW132","v":""},{"$f":"+Mix!AF162","v":{"$error":"#VALUE!"}},{"$f":"+EY132","v":""},null,"\nAdjusted AFT\n",null,"Individual",{"$f":"+Mix!AF163","v":{"$error":"#VALUE!"}},{"$f":"+FE132","v":""},{"$f":"+Mix!AF164","v":{"$error":"#VALUE!"}},{"$f":"+FG132","v":""},{"$f":"+Mix!AF165","v":{"$error":"#VALUE!"}},{"$f":"+FI132","v":""},{"$f":"+Mix!AF166","v":{"$error":"#VALUE!"}},{"$f":"+FK132","v":""},null,"\nAdjusted AFT\n",null,"Individual",{"$f":"+Mix!AF167","v":{"$error":"#VALUE!"}},{"$f":"+FQ132","v":""},{"$f":"+Mix!AF168","v":{"$error":"#VALUE!"}},{"$f":"+FS132","v":""},{"$f":"+Mix!AF169","v":{"$error":"#VALUE!"}},{"$f":"+FU132","v":""},{"$f":"+Mix!AF170","v":{"$error":"#VALUE!"}},{"$f":"+FW132","v":""},null,"\nAdjusted AFT\n",null,"Individual",{"$f":"+Mix!AF171","v":{"$error":"#VALUE!"}},{"$f":"+GC132","v":""},{"$f":"+Mix!AF172","v":{"$error":"#VALUE!"}},{"$f":"+GE132","v":""},{"$f":"+Mix!AF173","v":{"$error":"#VALUE!"}},{"$f":"+GG132","v":""},{"$f":"+Mix!AF174","v":{"$error":"#VALUE!"}},{"$f":"+GI132","v":""},null,"\nAdjusted AFT\n",null,"Individual",{"$f":"+Mix!AF175","v":{"$error":"#VALUE!"}},{"$f":"+GO132","v":""},{"$f":"+Mix!AF176","v":{"$error":"#VALUE!"}},{"$f":"+GQ132","v":""},{"$f":"+Mix!AF177","v":{"$error":"#VALUE!"}},{"$f":"+GS132","v":""},{"$f":"+Mix!AF178","v":{"$error":"#VALUE!"}},{"$f":"+GU132","v":""},null,"\nAdjusted AFT\n",null,"Individual",{"$f":"+Mix!AF179","v":{"$error":"#VALUE!"}},{"$f":"+HA132","v":""},{"$f":"+Mix!AF180","v":{"$error":"#VALUE!"}},{"$f":"+HC132","v":""},{"$f":"+Mix!AF181","v":{"$error":"#VALUE!"}},{"$f":"+HE132","v":""},{"$f":"+Mix!AF182","v":{"$error":"#VALUE!"}},{"$f":"+HG132","v":""},null,"\nAdjusted AFT\n",null,"Individual",{"$f":"+Mix!AF183","v":{"$error":"#VALUE!"}},{"$f":"+HM132","v":""},{"$f":"+Mix!AF184","v":{"$error":"#VALUE!"}},{"$f":"+HO132","v":""},{"$f":"+Mix!AF185","v":{"$error":"#VALUE!"}},{"$f":"+HQ132","v":""},{"$f":"+Mix!AF186","v":{"$error":"#VALUE!"}},{"$f":"+HS132","v":""},null,"\nAdjusted AFT\n",null,"Individual",{"$f":"+Mix!AF187","v":{"$error":"#VALUE!"}},{"$f":"+HY132","v":""},{"$f":"+Mix!AF188","v":{"$error":"#VALUE!"}},{"$f":"+IA132","v":""},{"$f":"+Mix!AF189","v":{"$error":"#VALUE!"}},{"$f":"+IC132","v":""},{"$f":"+Mix!AF190","v":{"$error":"#VALUE!"}},{"$f":"+IE132","v":""},null,"\nAdjusted AFT\n",null,"Individual",{"$f":"+Mix!AF191","v":{"$error":"#VALUE!"}},{"$f":"+IK132","v":""},{"$f":"+Mix!AF192","v":{"$error":"#VALUE!"}},{"$f":"+IM132","v":""},{"$f":"+Mix!AF193","v":{"$error":"#VALUE!"}},{"$f":"+IO132","v":""},{"$f":"+Mix!AF194","v":{"$error":"#VALUE!"}},{"$f":"+IQ132","v":""},null,null,0,"Agency AFT Substituted"]
[null,null,"Working AFT",{"$f":"Mix!AL111","v":{"$error":"#VALUE!"}},{"$f":"Mix!AM111","v":""},{"$f":"Mix!AL112","v":{"$error":"#VALUE!"}},{"$f":"Mix!AM112","v":""},{"$f":"Mix!AL113","v":{"$error":"#VALUE!"}},{"$f":"Mix!AM113","v":""},{"$f":"Mix!AL114","v":{"$error":"#VALUE!"}},{"$f":"Mix!AM113","v":""},null,null,null,"Working AFT",{"$f":"Mix!AL115","v":{"$error":"#VALUE!"}},{"$f":"Mix!AM115","v":""},{"$f":"Mix!AL116","v":{"$error":"#VALUE!"}},{"$f":"Mix!AM116","v":""},{"$f":"Mix!AL117","v":{"$error":"#VALUE!"}},{"$f":"Mix!AM117","v":""},{"$f":"Mix!AL118","v":{"$error":"#VALUE!"}},{"$f":"Mix!AM118","v":""},null,null,null,"Working AFT",{"$f":"Mix!AL119","v":{"$error":"#VALUE!"}},{"$f":"Mix!AM119","v":""},{"$f":"Mix!AL120","v":{"$error":"#VALUE!"}},{"$f":"Mix!AM120","v":""},{"$f":"Mix!AL121","v":{"$error":"#VALUE!"}},{"$f":"Mix!AM121","v":""},{"$f":"Mix!AL122","v":{"$error":"#VALUE!"}},{"$f":"Mix!AM122","v":""},null,null,null,"Working AFT",{"$f":"Mix!AL123","v":{"$error":"#VALUE!"}},{"$f":"Mix!AM123","v":""},{"$f":"Mix!AL124","v":{"$error":"#VALUE!"}},{"$f":"Mix!AM124","v":""},{"$f":"Mix!AL125","v":{"$error":"#VALUE!"}},{"$f":"Mix!AM125","v":""},{"$f":"Mix!AL126","v":{"$error":"#VALUE!"}},{"$f":"Mix!AM126","v":""},null,null,null,"Working AFT",{"$f":"Mix!AL127","v":{"$error":"#VALUE!"}},{"$f":"Mix!AM127","v":""},{"$f":"Mix!AL128","v":{"$error":"#VALUE!"}},{"$f":"Mix!AM128","v":""},{"$f":"Mix!AL129","v":{"$error":"#VALUE!"}},{"$f":"Mix!AM129","v":""},{"$f":"Mix!AL130","v":{"$error":"#VALUE!"}},{"$f":"Mix!AM130","v":""},null,null,null,"Working AFT",{"$f":"Mix!AL131","v":{"$error":"#VALUE!"}},{"$f":"Mix!AM131","v":""},{"$f":"Mix!AL132","v":{"$error":"#VALUE!"}},{"$f":"Mix!AM132","v":""},{"$f":"Mix!AL133","v":{"$error":"#VALUE!"}},{"$f":"Mix!AM133","v":""},{"$f":"Mix!AL134","v":{"$error":"#VALUE!"}},{"$f":"Mix!AM134","v":""},null,null,null,"Working AFT",{"$f":"Mix!AL135","v":{"$error":"#VALUE!"}},{"$f":"Mix!AM135","v":""},{"$f":"Mix!AL136","v":{"$error":"#VALUE!"}},{"$f":"Mix!AM136","v":""},{"$f":"Mix!AL137","v":{"$error":"#VALUE!"}},{"$f":"Mix!AM137","v":""},{"$f":"Mix!AL138","v":{"$error":"#VALUE!"}},{"$f":"Mix!AM138","v":""},null,null,null,"Working AFT",{"$f":"Mix!AL139","v":{"$error":"#VALUE!"}},{"$f":"Mix!AM139","v":""},{"$f":"Mix!AL140","v":{"$error":"#VALUE!"}},{"$f":"Mix!AM140","v":""},{"$f":"Mix!AL141","v":{"$error":"#VALUE!"}},{"$f":"Mix!AM141","v":""},{"$f":"Mix!AL142","v":{"$error":"#VALUE!"}},{"$f":"Mix!AM142","v":""},null,null,null,"Working AFT",{"$f":"Mix!AL143","v":{"$error":"#VALUE!"}},{"$f":"Mix!AM143","v":""},{"$f":"Mix!AL144","v":{"$error":"#VALUE!"}},{"$f":"Mix!AM144","v":""},{"$f":"Mix!AL145","v":{"$error":"#VALUE!"}},{"$f":"Mix!AM145","v":""},{"$f":"Mix!AL146","v":{"$error":"#VALUE!"}},{"$f":"Mix!AM146","v":""},null,null,null,"Working AFT",{"$f":"Mix!AL147","v":{"$error":"#VALUE!"}},{"$f":"Mix!AM147","v":""},{"$f":"Mix!AL148","v":{"$error":"#VALUE!"}},{"$f":"Mix!AM148","v":""},{"$f":"Mix!AL149","v":{"$error":"#VALUE!"}},{"$f":"Mix!AM149","v":""},{"$f":"Mix!AL150","v":{"$error":"#VALUE!"}},{"$f":"Mix!AM150","v":""},null,null,null,"Working AFT",{"$f":"Mix!AL151","v":{"$error":"#VALUE!"}},{"$f":"Mix!AM151","v":""},{"$f":"Mix!AL152","v":{"$error":"#VALUE!"}},{"$f":"Mix!AM152","v":""},{"$f":"Mix!AL153","v":{"$error":"#VALUE!"}},{"$f":"Mix!AM153","v":""},{"$f":"Mix!AL154","v":{"$error":"#VALUE!"}},{"$f":"Mix!AM154","v":""},null,null,null,"Working AFT",{"$f":"Mix!AL155","v":{"$error":"#VALUE!"}},{"$f":"Mix!AM155","v":""},{"$f":"Mix!AL156","v":{"$error":"#VALUE!"}},{"$f":"Mix!AM156","v":""},{"$f":"Mix!AL157","v":{"$error":"#VALUE!"}},{"$f":"Mix!AM157","v":""},{"$f":"Mix!AL158","v":{"$error":"#VALUE!"}},{"$f":"Mix!AM158","v":""},null,null,null,"Working AFT",{"$f":"Mix!AL159","v":{"$error":"#VALUE!"}},{"$f":"Mix!AM159","v":""},{"$f":"Mix!AL160","v":{"$error":"#VALUE!"}},{"$f":"Mix!AM160","v":""},{"$f":"Mix!AL161","v":{"$error":"#VALUE!"}},{"$f":"Mix!AM161","v":""},{"$f":"Mix!AL162","v":{"$error":"#VALUE!"}},{"$f":"Mix!AM162","v":""},null,null,null,"Working AFT",{"$f":"Mix!AL163","v":{"$error":"#VALUE!"}},{"$f":"Mix!AM163","v":""},{"$f":"Mix!AL164","v":{"$error":"#VALUE!"}},{"$f":"Mix!AM164","v":""},{"$f":"Mix!AL165","v":{"$error":"#VALUE!"}},{"$f":"Mix!AM165","v":""},{"$f":"Mix!AL166","v":{"$error":"#VALUE!"}},{"$f":"Mix!AM166","v":""},null,null,null,"Working AFT",{"$f":"Mix!AL167","v":{"$error":"#VALUE!"}},{"$f":"Mix!AM167","v":""},{"$f":"Mix!AL168","v":{"$error":"#VALUE!"}},{"$f":"Mix!AM168","v":""},{"$f":"Mix!AL169","v":{"$error":"#VALUE!"}},{"$f":"Mix!AM169","v":""},{"$f":"Mix!AL170","v":{"$error":"#VALUE!"}},{"$f":"Mix!AM170","v":""},null,null,null,"Working AFT",{"$f":"Mix!AL171","v":{"$error":"#VALUE!"}},{"$f":"Mix!AM171","v":""},{"$f":"Mix!AL172","v":{"$error":"#VALUE!"}},{"$f":"Mix!AM172","v":""},{"$f":"Mix!AL173","v":{"$error":"#VALUE!"}},{"$f":"Mix!AM173","v":""},{"$f":"Mix!AL174","v":{"$error":"#VALUE!"}},{"$f":"Mix!AM174","v":""},null,null,null,"Working AFT",{"$f":"Mix!AL175","v":{"$error":"#VALUE!"}},{"$f":"Mix!AM175","v":""},{"$f":"Mix!AL176","v":{"$error":"#VALUE!"}},{"$f":"Mix!AM176","v":""},{"$f":"Mix!AL177","v":{"$error":"#VALUE!"}},{"$f":"Mix!AM177","v":""},{"$f":"Mix!AL178","v":{"$error":"#VALUE!"}},{"$f":"Mix!AM178","v":""},null,null,null,"Working AFT",{"$f":"Mix!AL179","v":{"$error":"#VALUE!"}},{"$f":"Mix!AM179","v":""},{"$f":"Mix!AL180","v":{"$error":"#VALUE!"}},{"$f":"Mix!AM180","v":""},{"$f":"Mix!AL181","v":{"$error":"#VALUE!"}},{"$f":"Mix!AM181","v":""},{"$f":"Mix!AL182","v":{"$error":"#VALUE!"}},{"$f":"Mix!AM182","v":""},null,null,null,"Working AFT",{"$f":"Mix!AL183","v":{"$error":"#VALUE!"}},{"$f":"Mix!AM183","v":""},{"$f":"Mix!AL184","v":{"$error":"#VALUE!"}},{"$f":"Mix!AM184","v":""},{"$f":"Mix!AL185","v":{"$error":"#VALUE!"}},{"$f":"Mix!AM185","v":""},{"$f":"Mix!AL186","v":{"$error":"#VALUE!"}},{"$f":"Mix!AM186","v":""},null,null,null,"Working AFT",{"$f":"Mix!AL187","v":{"$error":"#VALUE!"}},{"$f":"Mix!AM187","v":""},{"$f":"Mix!AL188","v":{"$error":"#VALUE!"}},{"$f":"Mix!AM188","v":""},{"$f":"Mix!AL189","v":{"$error":"#VALUE!"}},{"$f":"Mix!AM189","v":""},{"$f":"Mix!AL190","v":{"$error":"#VALUE!"}},{"$f":"Mix!AM190","v":""},null,null,null,"Working AFT",{"$f":"Mix!AL191","v":{"$error":"#VALUE!"}},{"$f":"Mix!AM191","v":""},{"$f":"Mix!AL192","v":{"$error":"#VALUE!"}},{"$f":"Mix!AM192","v":""},{"$f":"Mix!AL193","v":{"$error":"#VALUE!"}},{"$f":"Mix!AM193","v":""},{"$f":"Mix!AL194","v":{"$error":"#VALUE!"}},{"$f":"Mix!AM194","v":""}]
[null,null,"Mov. Avg.",null,{"$f":"Mix!AN111","v":""},null,{"$f":"Mix!AN112","v":""},null,{"$f":"Mix!AN113","v":""},{"$f":"Mix!AQ114","v":{"$error":"#VALUE!"}},{"$f":"Mix!AN113","v":""},null,null,null,"Mov. Avg.",{"$f":"Mix!AQ115","v":{"$error":"#VALUE!"}},{"$f":"Mix!AN115","v":""},{"$f":"Mix!AQ116","v":{"$error":"#VALUE!"}},{"$f":"Mix!AN116","v":""},{"$f":"Mix!AQ117","v":{"$error":"#VALUE!"}},{"$f":"Mix!AN117","v":""},{"$f":"Mix!AQ118","v":{"$error":"#VALUE!"}},{"$f":"Mix!AN118","v":""},null,null,null,"Mov. Avg.",{"$f":"Mix!AQ119","v":{"$error":"#VALUE!"}},{"$f":"Mix!AN119","v":""},{"$f":"Mix!AQ120","v":{"$error":"#VALUE!"}},{"$f":"Mix!AN120","v":""},{"$f":"Mix!AQ121","v":{"$error":"#VALUE!"}},{"$f":"Mix!AN121","v":""},{"$f":"Mix!AQ122","v":{"$error":"#VALUE!"}},{"$f":"Mix!AN122","v":""},null,null,null,"Mov. Avg.",{"$f":"Mix!AQ123","v":{"$error":"#VALUE!"}},{"$f":"Mix!AN123","v":""},{"$f":"Mix!AQ124","v":{"$error":"#VALUE!"}},{"$f":"Mix!AN124","v":""},{"$f":"Mix!AQ125","v":{"$error":"#VALUE!"}},{"$f":"Mix!AN125","v":""},{"$f":"Mix!AQ126","v":{"$error":"#VALUE!"}},{"$f":"Mix!AN126","v":""},null,null,null,"Mov. Avg.",{"$f":"Mix!AQ127","v":{"$error":"#VALUE!"}},{"$f":"Mix!AN127","v":""},{"$f":"Mix!AQ128","v":{"$error":"#VALUE!"}},{"$f":"Mix!AN128","v":""},{"$f":"Mix!AQ129","v":{"$error":"#VALUE!"}},{"$f":"Mix!AN129","v":""},{"$f":"Mix!AQ130","v":{"$error":"#VALUE!"}},{"$f":"Mix!AN130","v":""},null,null,null,"Mov. Avg.",{"$f":"Mix!AQ131","v":{"$error":"#VALUE!"}},{"$f":"Mix!AN131","v":""},{"$f":"Mix!AQ132","v":{"$error":"#VALUE!"}},{"$f":"Mix!AN132","v":""},{"$f":"Mix!AQ133","v":{"$error":"#VALUE!"}},{"$f":"Mix!AN133","v":""},{"$f":"Mix!AQ134","v":{"$error":"#VALUE!"}},{"$f":"Mix!AN134","v":""},null,null,null,"Mov. Avg.",{"$f":"Mix!AQ135","v":{"$error":"#VALUE!"}},{"$f":"Mix!AN135","v":""},{"$f":"Mix!AQ136","v":{"$error":"#VALUE!"}},{"$f":"Mix!AN136","v":""},{"$f":"Mix!AQ137","v":{"$error":"#VALUE!"}},{"$f":"Mix!AN137","v":""},{"$f":"Mix!AQ138","v":{"$error":"#VALUE!"}},{"$f":"Mix!AN138","v":""},null,null,null,"Mov. Avg.",{"$f":"Mix!AQ139","v":{"$error":"#VALUE!"}},{"$f":"Mix!AN139","v":""},{"$f":"Mix!AQ140","v":{"$error":"#VALUE!"}},{"$f":"Mix!AN140","v":""},{"$f":"Mix!AQ141","v":{"$error":"#VALUE!"}},{"$f":"Mix!AN141","v":""},{"$f":"Mix!AQ142","v":{"$error":"#VALUE!"}},{"$f":"Mix!AN142","v":""},null,null,null,"Mov. Avg.",{"$f":"Mix!AQ143","v":{"$error":"#VALUE!"}},{"$f":"Mix!AN143","v":""},{"$f":"Mix!AQ144","v":{"$error":"#VALUE!"}},{"$f":"Mix!AN144","v":""},{"$f":"Mix!AQ145","v":{"$error":"#VALUE!"}},{"$f":"Mix!AN145","v":""},{"$f":"Mix!AQ146","v":{"$error":"#VALUE!"}},{"$f":"Mix!AN146","v":""},null,null,null,"Mov. Avg.",{"$f":"Mix!AQ147","v":{"$error":"#VALUE!"}},{"$f":"Mix!AN147","v":""},{"$f":"Mix!AQ148","v":{"$error":"#VALUE!"}},{"$f":"Mix!AN148","v":""},{"$f":"Mix!AQ149","v":{"$error":"#VALUE!"}},{"$f":"Mix!AN149","v":""},{"$f":"Mix!AQ150","v":{"$error":"#VALUE!"}},{"$f":"Mix!AN150","v":""},null,null,null,"Mov. Avg.",{"$f":"Mix!AQ151","v":{"$error":"#VALUE!"}},{"$f":"Mix!AN151","v":""},{"$f":"Mix!AQ152","v":{"$error":"#VALUE!"}},{"$f":"Mix!AN152","v":""},{"$f":"Mix!AQ153","v":{"$error":"#VALUE!"}},{"$f":"Mix!AN153","v":""},{"$f":"Mix!AQ154","v":{"$error":"#VALUE!"}},{"$f":"Mix!AN154","v":""},null,null,null,"Mov. Avg.",{"$f":"Mix!AQ155","v":{"$error":"#VALUE!"}},{"$f":"Mix!AN155","v":""},{"$f":"Mix!AQ156","v":{"$error":"#VALUE!"}},{"$f":"Mix!AN156","v":""},{"$f":"Mix!AQ157","v":{"$error":"#VALUE!"}},{"$f":"Mix!AN157","v":""},{"$f":"Mix!AQ158","v":{"$error":"#VALUE!"}},{"$f":"Mix!AN158","v":""},null,null,null,"Mov. Avg.",{"$f":"Mix!AQ159","v":{"$error":"#VALUE!"}},{"$f":"Mix!AN159","v":""},{"$f":"Mix!AQ160","v":{"$error":"#VALUE!"}},{"$f":"Mix!AN160","v":""},{"$f":"Mix!AQ161","v":{"$error":"#VALUE!"}},{"$f":"Mix!AN161","v":""},{"$f":"Mix!AQ162","v":{"$error":"#VALUE!"}},{"$f":"Mix!AN162","v":""},null,null,null,"Mov. Avg.",{"$f":"Mix!AQ163","v":{"$error":"#VALUE!"}},{"$f":"Mix!AN163","v":""},{"$f":"Mix!AQ164","v":{"$error":"#VALUE!"}},{"$f":"Mix!AN164","v":""},{"$f":"Mix!AQ165","v":{"$error":"#VALUE!"}},{"$f":"Mix!AN165","v":""},{"$f":"Mix!AQ166","v":{"$error":"#VALUE!"}},{"$f":"Mix!AN166","v":""},null,null,null,"Mov. Avg.",{"$f":"Mix!AQ167","v":{"$error":"#VALUE!"}},{"$f":"Mix!AN167","v":""},{"$f":"Mix!AQ168","v":{"$error":"#VALUE!"}},{"$f":"Mix!AN168","v":""},{"$f":"Mix!AQ169","v":{"$error":"#VALUE!"}},{"$f":"Mix!AN169","v":""},{"$f":"Mix!AQ170","v":{"$error":"#VALUE!"}},{"$f":"Mix!AN170","v":""},null,null,null,"Mov. Avg.",{"$f":"Mix!AQ171","v":{"$error":"#VALUE!"}},{"$f":"Mix!AN171","v":""},{"$f":"Mix!AQ172","v":{"$error":"#VALUE!"}},{"$f":"Mix!AN172","v":""},{"$f":"Mix!AQ173","v":{"$error":"#VALUE!"}},{"$f":"Mix!AN173","v":""},{"$f":"Mix!AQ174","v":{"$error":"#VALUE!"}},{"$f":"Mix!AN174","v":""},null,null,null,"Mov. Avg.",{"$f":"Mix!AQ175","v":{"$error":"#VALUE!"}},{"$f":"Mix!AN175","v":""},{"$f":"Mix!AQ176","v":{"$error":"#VALUE!"}},{"$f":"Mix!AN176","v":""},{"$f":"Mix!AQ177","v":{"$error":"#VALUE!"}},{"$f":"Mix!AN177","v":""},{"$f":"Mix!AQ178","v":{"$error":"#VALUE!"}},{"$f":"Mix!AN178","v":""},null,null,null,"Mov. Avg.",{"$f":"Mix!AQ179","v":{"$error":"#VALUE!"}},{"$f":"Mix!AN179","v":""},{"$f":"Mix!AQ180","v":{"$error":"#VALUE!"}},{"$f":"Mix!AN180","v":""},{"$f":"Mix!AQ181","v":{"$error":"#VALUE!"}},{"$f":"Mix!AN181","v":""},{"$f":"Mix!AQ182","v":{"$error":"#VALUE!"}},{"$f":"Mix!AN182","v":""},null,null,null,"Mov. Avg.",{"$f":"Mix!AQ183","v":{"$error":"#VALUE!"}},{"$f":"Mix!AN183","v":""},{"$f":"Mix!AQ184","v":{"$error":"#VALUE!"}},{"$f":"Mix!AN184","v":""},{"$f":"Mix!AQ185","v":{"$error":"#VALUE!"}},{"$f":"Mix!AN185","v":""},{"$f":"Mix!AQ186","v":{"$error":"#VALUE!"}},{"$f":"Mix!AN186","v":""},null,null,null,"Mov. Avg.",{"$f":"Mix!AQ187","v":{"$error":"#VALUE!"}},{"$f":"Mix!AN187","v":""},{"$f":"Mix!AQ188","v":{"$error":"#VALUE!"}},{"$f":"Mix!AN188","v":""},{"$f":"Mix!AQ189","v":{"$error":"#VALUE!"}},{"$f":"Mix!AN189","v":""},{"$f":"Mix!AQ190","v":{"$error":"#VALUE!"}},{"$f":"Mix!AN190","v":""},null,null,null,"Mov. Avg.",{"$f":"Mix!AQ191","v":{"$error":"#VALUE!"}},{"$f":"Mix!AN191","v":""},{"$f":"Mix!AQ192","v":{"$error":"#VALUE!"}},{"$f":"Mix!AN192","v":""},{"$f":"Mix!AQ193","v":{"$error":"#VALUE!"}},{"$f":"Mix!AN193","v":""},{"$f":"Mix!AQ194","v":{"$error":"#VALUE!"}},{"$f":"Mix!AN194","v":""},null,null,0,"Agency AFT Substituted"]
["% Add AC/Total AC ","66% Min.","Individual",{"$f":"IF(ISNUMBER(E96),mndot_rounding_1((E96/D44)*100),\"\")","v":{"$error":"#VALUE!"}},{"$f":"IF(D60<66,\"Stop Prod\",\"\")","v":{"$error":"#VALUE!"}},{"$f":"IF(ISNUMBER(G96),mndot_rounding_1((G96/F44)*100),\"\")","v":""},{"$f":"IF(F60<66,\"Stop Prod\",\"\")","v":""},{"$f":"IF(ISNUMBER(I96),mndot_rounding_1((I96/H44)*100),\"\")","v":""},{"$f":"IF(H60<66,\"Stop Prod\",\"\")","v":""},{"$f":"IF(ISNUMBER(K96),mndot_rounding_1((K96/J44)*100),\"\")","v":""},{"$f":"IF(J60<66,\"Stop Prod\",\"\")","v":""},null,"% Add AC/Total AC ","66% Min.","Individual",{"$f":"IF(ISNUMBER(Q96),mndot_rounding_1((Q96/P44)*100),\"\")","v":""},{"$f":"IF(P60<66,\"Stop Prod\",\"\")","v":""},{"$f":"IF(ISNUMBER(S96),mndot_rounding_1((S96/R44)*100),\"\")","v":""},{"$f":"IF(R60<66,\"Stop Prod\",\"\")","v":""},{"$f":"IF(ISNUMBER(U96),mndot_rounding_1((U96/T44)*100),\"\")","v":""},{"$f":"IF(T60<66,\"Stop Prod\",\"\")","v":""},{"$f":"IF(ISNUMBER(W96),mndot_rounding_1((W96/V44)*100),\"\")","v":""},{"$f":"IF(V60<66,\"Stop Prod\",\"\")","v":""},null,"% Add AC/Total AC ","66% Min.","Individual",{"$f":"IF(ISNUMBER(AC96),mndot_rounding_1((AC96/AB44)*100),\"\")","v":""},{"$f":"IF(AB60<66,\"Stop Prod\",\"\")","v":""},{"$f":"IF(ISNUMBER(AE96),mndot_rounding_1((AE96/AD44)*100),\"\")","v":""},{"$f":"IF(AD60<66,\"Stop Prod\",\"\")","v":""},{"$f":"IF(ISNUMBER(AG96),mndot_rounding_1((AG96/AF44)*100),\"\")","v":""},{"$f":"IF(AF60<66,\"Stop Prod\",\"\")","v":""},{"$f":"IF(ISNUMBER(AI96),mndot_rounding_1((AI96/AH44)*100),\"\")","v":""},{"$f":"IF(AH60<66,\"Stop Prod\",\"\")","v":""},null,"% Add AC/Total AC ","66% Min.","Individual",{"$f":"IF(ISNUMBER(AO96),mndot_rounding_1((AO96/AN44)*100),\"\")","v":""},{"$f":"IF(AN60<66,\"Stop Prod\",\"\")","v":""},{"$f":"IF(ISNUMBER(AQ96),mndot_rounding_1((AQ96/AP44)*100),\"\")","v":""},{"$f":"IF(AP60<66,\"Stop Prod\",\"\")","v":""},{"$f":"IF(ISNUMBER(AS96),mndot_rounding_1((AS96/AR44)*100),\"\")","v":""},{"$f":"IF(AR60<66,\"Stop Prod\",\"\")","v":""},{"$f":"IF(ISNUMBER(AU96),mndot_rounding_1((AU96/AT44)*100),\"\")","v":""},{"$f":"IF(AT60<66,\"Stop Prod\",\"\")","v":""},null,"% Add AC/Total AC ","66% Min.","Individual",{"$f":"IF(ISNUMBER(BA96),mndot_rounding_1((BA96/AZ44)*100),\"\")","v":""},{"$f":"IF(AZ60<66,\"Stop Prod\",\"\")","v":""},{"$f":"IF(ISNUMBER(BC96),mndot_rounding_1((BC96/BB44)*100),\"\")","v":""},{"$f":"IF(BB60<66,\"Stop Prod\",\"\")","v":""},{"$f":"IF(ISNUMBER(BE96),mndot_rounding_1((BE96/BD44)*100),\"\")","v":""},{"$f":"IF(BD60<66,\"Stop Prod\",\"\")","v":""},{"$f":"IF(ISNUMBER(BG96),mndot_rounding_1((BG96/BF44)*100),\"\")","v":""},{"$f":"IF(BF60<66,\"Stop Prod\",\"\")","v":""},null,"% Add AC/Total AC ","66% Min.","Individual",{"$f":"IF(ISNUMBER(BM96),mndot_rounding_1((BM96/BL44)*100),\"\")","v":""},{"$f":"IF(BL60<66,\"Stop Prod\",\"\")","v":""},{"$f":"IF(ISNUMBER(BO96),mndot_rounding_1((BO96/BN44)*100),\"\")","v":""},{"$f":"IF(BN60<66,\"Stop Prod\",\"\")","v":""},{"$f":"IF(ISNUMBER(BQ96),mndot_rounding_1((BQ96/BP44)*100),\"\")","v":""},{"$f":"IF(BP60<66,\"Stop Prod\",\"\")","v":""},{"$f":"IF(ISNUMBER(BS96),mndot_rounding_1((BS96/BR44)*100),\"\")","v":""},{"$f":"IF(BR60<66,\"Stop Prod\",\"\")","v":""},null,"% Add AC/Total AC ","66% Min.","Individual",{"$f":"IF(ISNUMBER(BY96),mndot_rounding_1((BY96/BX44)*100),\"\")","v":""},{"$f":"IF(BX60<66,\"Stop Prod\",\"\")","v":""},{"$f":"IF(ISNUMBER(CA96),mndot_rounding_1((CA96/BZ44)*100),\"\")","v":""},{"$f":"IF(BZ60<66,\"Stop Prod\",\"\")","v":""},{"$f":"IF(ISNUMBER(CC96),mndot_rounding_1((CC96/CB44)*100),\"\")","v":""},{"$f":"IF(CB60<66,\"Stop Prod\",\"\")","v":""},{"$f":"IF(ISNUMBER(CE96),mndot_rounding_1((CE96/CD44)*100),\"\")","v":""},{"$f":"IF(CD60<66,\"Stop Prod\",\"\")","v":""},null,"% Add AC/Total AC ","66% Min.","Individual",{"$f":"IF(ISNUMBER(CK96),mndot_rounding_1((CK96/CJ44)*100),\"\")","v":""},{"$f":"IF(CJ60<66,\"Stop Prod\",\"\")","v":""},{"$f":"IF(ISNUMBER(CM96),mndot_rounding_1((CM96/CL44)*100),\"\")","v":""},{"$f":"IF(CL60<66,\"Stop Prod\",\"\")","v":""},{"$f":"IF(ISNUMBER(CO96),mndot_rounding_1((CO96/CN44)*100),\"\")","v":""},{"$f":"IF(CN60<66,\"Stop Prod\",\"\")","v":""},{"$f":"IF(ISNUMBER(CQ96),mndot_rounding_1((CQ96/CP44)*100),\"\")","v":""},{"$f":"IF(CP60<66,\"Stop Prod\",\"\")","v":""},null,"% Add AC/Total AC ","66% Min.","Individual",{"$f":"IF(ISNUMBER(CW96),mndot_rounding_1((CW96/CV44)*100),\"\")","v":""},{"$f":"IF(CV60<66,\"Stop Prod\",\"\")","v":""},{"$f":"IF(ISNUMBER(CY96),mndot_rounding_1((CY96/CX44)*100),\"\")","v":""},{"$f":"IF(CX60<66,\"Stop Prod\",\"\")","v":""},{"$f":"IF(ISNUMBER(DA96),mndot_rounding_1((DA96/CZ44)*100),\"\")","v":""},{"$f":"IF(CZ60<66,\"Stop Prod\",\"\")","v":""},{"$f":"IF(ISNUMBER(DC96),mndot_rounding_1((DC96/DB44)*100),\"\")","v":""},{"$f":"IF(DB60<66,\"Stop Prod\",\"\")","v":""},null,"% Add AC/Total AC ","66% Min.","Individual",{"$f":"IF(ISNUMBER(DI96),mndot_rounding_1((DI96/DH44)*100),\"\")","v":""},{"$f":"IF(DH60<66,\"Stop Prod\",\"\")","v":""},{"$f":"IF(ISNUMBER(DK96),mndot_rounding_1((DK96/DJ44)*100),\"\")","v":""},{"$f":"IF(DJ60<66,\"Stop Prod\",\"\")","v":""},{"$f":"IF(ISNUMBER(DM96),mndot_rounding_1((DM96/DL44)*100),\"\")","v":""},{"$f":"IF(DL60<66,\"Stop Prod\",\"\")","v":""},{"$f":"IF(ISNUMBER(DO96),mndot_rounding_1((DO96/DN44)*100),\"\")","v":""},{"$f":"IF(DN60<66,\"Stop Prod\",\"\")","v":""},null,"% Add AC/Total AC ","66% Min.","Individual",{"$f":"IF(ISNUMBER(DU96),mndot_rounding_1((DU96/DT44)*100),\"\")","v":""},{"$f":"IF(DT60<66,\"Stop Prod\",\"\")","v":""},{"$f":"IF(ISNUMBER(DW96),mndot_rounding_1((DW96/DV44)*100),\"\")","v":""},{"$f":"IF(DV60<66,\"Stop Prod\",\"\")","v":""},{"$f":"IF(ISNUMBER(DY96),mndot_rounding_1((DY96/DX44)*100),\"\")","v":""},{"$f":"IF(DX60<66,\"Stop Prod\",\"\")","v":""},{"$f":"IF(ISNUMBER(EA96),mndot_rounding_1((EA96/DZ44)*100),\"\")","v":""},{"$f":"IF(DZ60<66,\"Stop Prod\",\"\")","v":""},null,"% Add AC/Total AC ","66% Min.","Individual",{"$f":"IF(ISNUMBER(EG96),mndot_rounding_1((EG96/EF44)*100),\"\")","v":""},{"$f":"IF(EF60<66,\"Stop Prod\",\"\")","v":""},{"$f":"IF(ISNUMBER(EI96),mndot_rounding_1((EI96/EH44)*100),\"\")","v":""},{"$f":"IF(EH60<66,\"Stop Prod\",\"\")","v":""},{"$f":"IF(ISNUMBER(EK96),mndot_rounding_1((EK96/EJ44)*100),\"\")","v":""},{"$f":"IF(EJ60<66,\"Stop Prod\",\"\")","v":""},{"$f":"IF(ISNUMBER(EM96),mndot_rounding_1((EM96/EL44)*100),\"\")","v":""},{"$f":"IF(EL60<66,\"Stop Prod\",\"\")","v":""},null,"% Add AC/Total AC ","66% Min.","Individual",{"$f":"IF(ISNUMBER(ES96),mndot_rounding_1((ES96/ER44)*100),\"\")","v":""},{"$f":"IF(ER60<66,\"Stop Prod\",\"\")","v":""},{"$f":"IF(ISNUMBER(EU96),mndot_rounding_1((EU96/ET44)*100),\"\")","v":""},{"$f":"IF(ET60<66,\"Stop Prod\",\"\")","v":""},{"$f":"IF(ISNUMBER(EW96),mndot_rounding_1((EW96/EV44)*100),\"\")","v":""},{"$f":"IF(EV60<66,\"Stop Prod\",\"\")","v":""},{"$f":"IF(ISNUMBER(EY96),mndot_rounding_1((EY96/EX44)*100),\"\")","v":""},{"$f":"IF(EX60<66,\"Stop Prod\",\"\")","v":""},null,"% Add AC/Total AC ","66% Min.","Individual",{"$f":"IF(ISNUMBER(FE96),mndot_rounding_1((FE96/FD44)*100),\"\")","v":""},{"$f":"IF(FD60<66,\"Stop Prod\",\"\")","v":""},{"$f":"IF(ISNUMBER(FG96),mndot_rounding_1((FG96/FF44)*100),\"\")","v":""},{"$f":"IF(FF60<66,\"Stop Prod\",\"\")","v":""},{"$f":"IF(ISNUMBER(FI96),mndot_rounding_1((FI96/FH44)*100),\"\")","v":""},{"$f":"IF(FH60<66,\"Stop Prod\",\"\")","v":""},{"$f":"IF(ISNUMBER(FK96),mndot_rounding_1((FK96/FJ44)*100),\"\")","v":""},{"$f":"IF(FJ60<66,\"Stop Prod\",\"\")","v":""},null,"% Add AC/Total AC ","66% Min.","Individual",{"$f":"IF(ISNUMBER(FQ96),mndot_rounding_1((FQ96/FP44)*100),\"\")","v":""},{"$f":"IF(FP60<66,\"Stop Prod\",\"\")","v":""},{"$f":"IF(ISNUMBER(FS96),mndot_rounding_1((FS96/FR44)*100),\"\")","v":""},{"$f":"IF(FR60<66,\"Stop Prod\",\"\")","v":""},{"$f":"IF(ISNUMBER(FU96),mndot_rounding_1((FU96/FT44)*100),\"\")","v":""},{"$f":"IF(FT60<66,\"Stop Prod\",\"\")","v":""},{"$f":"IF(ISNUMBER(FW96),mndot_rounding_1((FW96/FV44)*100),\"\")","v":""},{"$f":"IF(FV60<66,\"Stop Prod\",\"\")","v":""},null,"% Add AC/Total AC ","66% Min.","Individual",{"$f":"IF(ISNUMBER(GC96),mndot_rounding_1((GC96/GB44)*100),\"\")","v":""},{"$f":"IF(GB60<66,\"Stop Prod\",\"\")","v":""},{"$f":"IF(ISNUMBER(GE96),mndot_rounding_1((GE96/GD44)*100),\"\")","v":""},{"$f":"IF(GD60<66,\"Stop Prod\",\"\")","v":""},{"$f":"IF(ISNUMBER(GG96),mndot_rounding_1((GG96/GF44)*100),\"\")","v":""},{"$f":"IF(GF60<66,\"Stop Prod\",\"\")","v":""},{"$f":"IF(ISNUMBER(GI96),mndot_rounding_1((GI96/GH44)*100),\"\")","v":""},{"$f":"IF(GH60<66,\"Stop Prod\",\"\")","v":""},null,"% Add AC/Total AC ","66% Min.","Individual",{"$f":"IF(ISNUMBER(GO96),mndot_rounding_1((GO96/GN44)*100),\"\")","v":""},{"$f":"IF(GN60<66,\"Stop Prod\",\"\")","v":""},{"$f":"IF(ISNUMBER(GQ96),mndot_rounding_1((GQ96/GP44)*100),\"\")","v":""},{"$f":"IF(GP60<66,\"Stop Prod\",\"\")","v":""},{"$f":"IF(ISNUMBER(GS96),mndot_rounding_1((GS96/GR44)*100),\"\")","v":""},{"$f":"IF(GR60<66,\"Stop Prod\",\"\")","v":""},{"$f":"IF(ISNUMBER(GU96),mndot_rounding_1((GU96/GT44)*100),\"\")","v":""},{"$f":"IF(GT60<66,\"Stop Prod\",\"\")","v":""},null,"% Add AC/Total AC ","66% Min.","Individual",{"$f":"IF(ISNUMBER(HA96),mndot_rounding_1((HA96/GZ44)*100),\"\")","v":""},{"$f":"IF(GZ60<66,\"Stop Prod\",\"\")","v":""},{"$f":"IF(ISNUMBER(HC96),mndot_rounding_1((HC96/HB44)*100),\"\")","v":""},{"$f":"IF(HB60<66,\"Stop Prod\",\"\")","v":""},{"$f":"IF(ISNUMBER(HE96),mndot_rounding_1((HE96/HD44)*100),\"\")","v":""},{"$f":"IF(HD60<66,\"Stop Prod\",\"\")","v":""},{"$f":"IF(ISNUMBER(HG96),mndot_rounding_1((HG96/HF44)*100),\"\")","v":""},{"$f":"IF(HF60<66,\"Stop Prod\",\"\")","v":""},null,"% Add AC/Total AC ","66% Min.","Individual",{"$f":"IF(ISNUMBER(HM96),mndot_rounding_1((HM96/HL44)*100),\"\")","v":""},{"$f":"IF(HL60<66,\"Stop Prod\",\"\")","v":""},{"$f":"IF(ISNUMBER(HO96),mndot_rounding_1((HO96/HN44)*100),\"\")","v":""},{"$f":"IF(HN60<66,\"Stop Prod\",\"\")","v":""},{"$f":"IF(ISNUMBER(HQ96),mndot_rounding_1((HQ96/HP44)*100),\"\")","v":""},{"$f":"IF(HP60<66,\"Stop Prod\",\"\")","v":""},{"$f":"IF(ISNUMBER(HS96),mndot_rounding_1((HS96/HR44)*100),\"\")","v":""},{"$f":"IF(HR60<66,\"Stop Prod\",\"\")","v":""},null,"% Add AC/Total AC ","66% Min.","Individual",{"$f":"IF(ISNUMBER(HY96),mndot_rounding_1((HY96/HX44)*100),\"\")","v":""},{"$f":"IF(HX60<66,\"Stop Prod\",\"\")","v":""},{"$f":"IF(ISNUMBER(IA96),mndot_rounding_1((IA96/HZ44)*100),\"\")","v":""},{"$f":"IF(HZ60<66,\"Stop Prod\",\"\")","v":""},{"$f":"IF(ISNUMBER(IC96),mndot_rounding_1((IC96/IB44)*100),\"\")","v":""},{"$f":"IF(IB60<66,\"Stop Prod\",\"\")","v":""},{"$f":"IF(ISNUMBER(IE96),mndot_rounding_1((IE96/ID44)*100),\"\")","v":""},{"$f":"IF(ID60<66,\"Stop Prod\",\"\")","v":""},null,"% Add AC/Total AC ","66% Min.","Individual",{"$f":"IF(ISNUMBER(IK96),mndot_rounding_1((IK96/IJ44)*100),\"\")","v":""},{"$f":"IF(IJ60<66,\"Stop Prod\",\"\")","v":""},{"$f":"IF(ISNUMBER(IM96),mndot_rounding_1((IM96/IL44)*100),\"\")","v":""},{"$f":"IF(IL60<66,\"Stop Prod\",\"\")","v":""},{"$f":"IF(ISNUMBER(IO96),mndot_rounding_1((IO96/IN44)*100),\"\")","v":""},{"$f":"IF(IN60<66,\"Stop Prod\",\"\")","v":""},{"$f":"IF(ISNUMBER(IQ96),mndot_rounding_1((IQ96/IP44)*100),\"\")","v":""},{"$f":"IF(IP60<66,\"Stop Prod\",\"\")","v":""}]
[null,"70% Min.","Mov. Avg.",null,null,null,null,null,null,{"$f":"IF(ISNUMBER(J44),mndot_rounding_1(((D60+F60+H60+J60)/4)),\"\")","v":""},{"$f":"IF(J61<70,\"Stop Prod\",\"\")","v":""},null,null,"70% Min.","Mov. Avg.",{"$f":"IF(ISNUMBER(P44),mndot_rounding_1(((F60+H60+J60+P60)/4)),\"\")","v":""},{"$f":"IF(P61<70,\"Stop Prod\",\"\")","v":""},{"$f":"IF(ISNUMBER(R44),mndot_rounding_1(((H60+J60+P60+R60)/4)),\"\")","v":""},{"$f":"IF(R61<70,\"Stop Prod\",\"\")","v":""},{"$f":"IF(ISNUMBER(T44),mndot_rounding_1(((J60+P60+R60+T60)/4)),\"\")","v":""},{"$f":"IF(T61<70,\"Stop Prod\",\"\")","v":""},{"$f":"IF(ISNUMBER(V44),mndot_rounding_1(((P60+R60+T60+V60)/4)),\"\")","v":""},{"$f":"IF(V61<70,\"Stop Prod\",\"\")","v":""},null,null,"70% Min.","Mov. Avg.",{"$f":"IF(ISNUMBER(AB44),mndot_rounding_1(((R60+T60+V60+AB60)/4)),\"\")","v":""},{"$f":"IF(AB61<70,\"Stop Prod\",\"\")","v":""},{"$f":"IF(ISNUMBER(AD44),mndot_rounding_1(((T60+V60+AB60+AD60)/4)),\"\")","v":""},{"$f":"IF(AD61<70,\"Stop Prod\",\"\")","v":""},{"$f":"IF(ISNUMBER(AF44),mndot_rounding_1(((V60+AB60+AD60+AF60)/4)),\"\")","v":""},{"$f":"IF(AF61<70,\"Stop Prod\",\"\")","v":""},{"$f":"IF(ISNUMBER(AH44),mndot_rounding_1(((AB60+AD60+AF60+AH60)/4)),\"\")","v":""},{"$f":"IF(AH61<70,\"Stop Prod\",\"\")","v":""},null,null,"70% Min.","Mov. Avg.",{"$f":"IF(ISNUMBER(AN44),mndot_rounding_1(((AD60+AF60+AH60+AN60)/4)),\"\")","v":""},{"$f":"IF(AN61<70,\"Stop Prod\",\"\")","v":""},{"$f":"IF(ISNUMBER(AP44),mndot_rounding_1(((AF60+AH60+AN60+AP60)/4)),\"\")","v":""},{"$f":"IF(AP61<70,\"Stop Prod\",\"\")","v":""},{"$f":"IF(ISNUMBER(AR44),mndot_rounding_1(((AH60+AN60+AP60+AR60)/4)),\"\")","v":""},{"$f":"IF(AR61<70,\"Stop Prod\",\"\")","v":""},{"$f":"IF(ISNUMBER(AT44),mndot_rounding_1(((AN60+AP60+AR60+AT60)/4)),\"\")","v":""},{"$f":"IF(AT61<70,\"Stop Prod\",\"\")","v":""},null,null,"70% Min.","Mov. Avg.",{"$f":"IF(ISNUMBER(AZ44),mndot_rounding_1(((AP60+AR60+AT60+AZ60)/4)),\"\")","v":""},{"$f":"IF(AZ61<70,\"Stop Prod\",\"\")","v":""},{"$f":"IF(ISNUMBER(BB44),mndot_rounding_1(((AR60+AT60+AZ60+BB60)/4)),\"\")","v":""},{"$f":"IF(BB61<70,\"Stop Prod\",\"\")","v":""},{"$f":"IF(ISNUMBER(BD44),mndot_rounding_1(((AT60+AZ60+BB60+BD60)/4)),\"\")","v":""},{"$f":"IF(BD61<70,\"Stop Prod\",\"\")","v":""},{"$f":"IF(ISNUMBER(BF44),mndot_rounding_1(((AZ60+BB60+BD60+BF60)/4)),\"\")","v":""},{"$f":"IF(BF61<70,\"Stop Prod\",\"\")","v":""},null,null,"70% Min.","Mov. Avg.",{"$f":"IF(ISNUMBER(BL44),mndot_rounding_1(((BB60+BD60+BF60+BL60)/4)),\"\")","v":""},{"$f":"IF(BL61<70,\"Stop Prod\",\"\")","v":""},{"$f":"IF(ISNUMBER(BN44),mndot_rounding_1(((BD60+BF60+BL60+BN60)/4)),\"\")","v":""},{"$f":"IF(BN61<70,\"Stop Prod\",\"\")","v":""},{"$f":"IF(ISNUMBER(BP44),mndot_rounding_1(((BF60+BL60+BN60+BP60)/4)),\"\")","v":""},{"$f":"IF(BP61<70,\"Stop Prod\",\"\")","v":""},{"$f":"IF(ISNUMBER(BR44),mndot_rounding_1(((BL60+BN60+BP60+BR60)/4)),\"\")","v":""},{"$f":"IF(BR61<70,\"Stop Prod\",\"\")","v":""},null,null,"70% Min.","Mov. Avg.",{"$f":"IF(ISNUMBER(BX44),mndot_rounding_1(((BN60+BP60+BR60+BX60)/4)),\"\")","v":""},{"$f":"IF(BX61<70,\"Stop Prod\",\"\")","v":""},{"$f":"IF(ISNUMBER(BZ44),mndot_rounding_1(((BP60+BR60+BX60+BZ60)/4)),\"\")","v":""},{"$f":"IF(BZ61<70,\"Stop Prod\",\"\")","v":""},{"$f":"IF(ISNUMBER(CB44),mndot_rounding_1(((BR60+BX60+BZ60+CB60)/4)),\"\")","v":""},{"$f":"IF(CB61<70,\"Stop Prod\",\"\")","v":""},{"$f":"IF(ISNUMBER(CD44),mndot_rounding_1(((BX60+BZ60+CB60+CD60)/4)),\"\")","v":""},{"$f":"IF(CD61<70,\"Stop Prod\",\"\")","v":""},null,null,"70% Min.","Mov. Avg.",{"$f":"IF(ISNUMBER(CJ44),mndot_rounding_1(((BZ60+CB60+CD60+CJ60)/4)),\"\")","v":""},{"$f":"IF(CJ61<70,\"Stop Prod\",\"\")","v":""},{"$f":"IF(ISNUMBER(CL44),mndot_rounding_1(((CB60+CD60+CJ60+CL60)/4)),\"\")","v":""},{"$f":"IF(CL61<70,\"Stop Prod\",\"\")","v":""},{"$f":"IF(ISNUMBER(CN44),mndot_rounding_1(((CD60+CJ60+CL60+CN60)/4)),\"\")","v":""},{"$f":"IF(CN61<70,\"Stop Prod\",\"\")","v":""},{"$f":"IF(ISNUMBER(CP44),mndot_rounding_1(((CJ60+CL60+CN60+CP60)/4)),\"\")","v":""},{"$f":"IF(CP61<70,\"Stop Prod\",\"\")","v":""},null,null,"70% Min.","Mov. Avg.",{"$f":"IF(ISNUMBER(CV44),mndot_rounding_1(((CL60+CN60+CP60+CV60)/4)),\"\")","v":""},{"$f":"IF(CV61<70,\"Stop Prod\",\"\")","v":""},{"$f":"IF(ISNUMBER(CX44),mndot_rounding_1(((CN60+CP60+CV60+CX60)/4)),\"\")","v":""},{"$f":"IF(CX61<70,\"Stop Prod\",\"\")","v":""},{"$f":"IF(ISNUMBER(CZ44),mndot_rounding_1(((CP60+CV60+CX60+CZ60)/4)),\"\")","v":""},{"$f":"IF(CZ61<70,\"Stop Prod\",\"\")","v":""},{"$f":"IF(ISNUMBER(DB44),mndot_rounding_1(((CV60+CX60+CZ60+DB60)/4)),\"\")","v":""},{"$f":"IF(DB61<70,\"Stop Prod\",\"\")","v":""},null,null,"70% Min.","Mov. Avg.",{"$f":"IF(ISNUMBER(DH44),mndot_rounding_1(((CX60+CZ60+DB60+DH60)/4)),\"\")","v":""},{"$f":"IF(DH61<70,\"Stop Prod\",\"\")","v":""},{"$f":"IF(ISNUMBER(DJ44),mndot_rounding_1(((CZ60+DB60+DH60+DJ60)/4)),\"\")","v":""},{"$f":"IF(DJ61<70,\"Stop Prod\",\"\")","v":""},{"$f":"IF(ISNUMBER(DL44),mndot_rounding_1(((DB60+DH60+DJ60+DL60)/4)),\"\")","v":""},{"$f":"IF(DL61<70,\"Stop Prod\",\"\")","v":""},{"$f":"IF(ISNUMBER(DN44),mndot_rounding_1(((DH60+DJ60+DL60+DN60)/4)),\"\")","v":""},{"$f":"IF(DN61<70,\"Stop Prod\",\"\")","v":""},null,null,"70% Min.","Mov. Avg.",{"$f":"IF(ISNUMBER(DT44),mndot_rounding_1(((DJ60+DL60+DN60+DT60)/4)),\"\")","v":""},{"$f":"IF(DT61<70,\"Stop Prod\",\"\")","v":""},{"$f":"IF(ISNUMBER(DV44),mndot_rounding_1(((DL60+DN60+DT60+DV60)/4)),\"\")","v":""},{"$f":"IF(DV61<70,\"Stop Prod\",\"\")","v":""},{"$f":"IF(ISNUMBER(DX44),mndot_rounding_1(((DN60+DT60+DV60+DX60)/4)),\"\")","v":""},{"$f":"IF(DX61<70,\"Stop Prod\",\"\")","v":""},{"$f":"IF(ISNUMBER(DZ44),mndot_rounding_1(((DT60+DV60+DX60+DZ60)/4)),\"\")","v":""},{"$f":"IF(DZ61<70,\"Stop Prod\",\"\")","v":""},null,null,"70% Min.","Mov. Avg.",{"$f":"IF(ISNUMBER(EF44),mndot_rounding_1(((DV60+DX60+DZ60+EF60)/4)),\"\")","v":""},{"$f":"IF(EF61<70,\"Stop Prod\",\"\")","v":""},{"$f":"IF(ISNUMBER(EH44),mndot_rounding_1(((DX60+DZ60+EF60+EH60)/4)),\"\")","v":""},{"$f":"IF(EH61<70,\"Stop Prod\",\"\")","v":""},{"$f":"IF(ISNUMBER(EJ44),mndot_rounding_1(((DZ60+EF60+EH60+EJ60)/4)),\"\")","v":""},{"$f":"IF(EJ61<70,\"Stop Prod\",\"\")","v":""},{"$f":"IF(ISNUMBER(EL44),mndot_rounding_1(((EF60+EH60+EJ60+EL60)/4)),\"\")","v":""},{"$f":"IF(EL61<70,\"Stop Prod\",\"\")","v":""},null,null,"70% Min.","Mov. Avg.",{"$f":"IF(ISNUMBER(ER44),mndot_rounding_1(((EH60+EJ60+EL60+ER60)/4)),\"\")","v":""},{"$f":"IF(ER61<70,\"Stop Prod\",\"\")","v":""},{"$f":"IF(ISNUMBER(ET44),mndot_rounding_1(((EJ60+EL60+ER60+ET60)/4)),\"\")","v":""},{"$f":"IF(ET61<70,\"Stop Prod\",\"\")","v":""},{"$f":"IF(ISNUMBER(EV44),mndot_rounding_1(((EL60+ER60+ET60+EV60)/4)),\"\")","v":""},{"$f":"IF(EV61<70,\"Stop Prod\",\"\")","v":""},{"$f":"IF(ISNUMBER(EX44),mndot_rounding_1(((ER60+ET60+EV60+EX60)/4)),\"\")","v":""},{"$f":"IF(EX61<70,\"Stop Prod\",\"\")","v":""},null,null,"70% Min.","Mov. Avg.",{"$f":"IF(ISNUMBER(FD44),mndot_rounding_1(((ET60+EV60+EX60+FD60)/4)),\"\")","v":""},{"$f":"IF(FD61<70,\"Stop Prod\",\"\")","v":""},{"$f":"IF(ISNUMBER(FF44),mndot_rounding_1(((EV60+EX60+FD60+FF60)/4)),\"\")","v":""},{"$f":"IF(FF61<70,\"Stop Prod\",\"\")","v":""},{"$f":"IF(ISNUMBER(FH44),mndot_rounding_1(((EX60+FD60+FF60+FH60)/4)),\"\")","v":""},{"$f":"IF(FH61<70,\"Stop Prod\",\"\")","v":""},{"$f":"IF(ISNUMBER(FJ44),mndot_rounding_1(((FD60+FF60+FH60+FJ60)/4)),\"\")","v":""},{"$f":"IF(FJ61<70,\"Stop Prod\",\"\")","v":""},null,null,"70% Min.","Mov. Avg.",{"$f":"IF(ISNUMBER(FP44),mndot_rounding_1(((FF60+FH60+FJ60+FP60)/4)),\"\")","v":""},{"$f":"IF(FP61<70,\"Stop Prod\",\"\")","v":""},{"$f":"IF(ISNUMBER(FR44),mndot_rounding_1(((FH60+FJ60+FP60+FR60)/4)),\"\")","v":""},{"$f":"IF(FR61<70,\"Stop Prod\",\"\")","v":""},{"$f":"IF(ISNUMBER(FT44),mndot_rounding_1(((FJ60+FP60+FR60+FT60)/4)),\"\")","v":""},{"$f":"IF(FT61<70,\"Stop Prod\",\"\")","v":""},{"$f":"IF(ISNUMBER(FV44),mndot_rounding_1(((FP60+FR60+FT60+FV60)/4)),\"\")","v":""},{"$f":"IF(FV61<70,\"Stop Prod\",\"\")","v":""},null,null,"70% Min.","Mov. Avg.",{"$f":"IF(ISNUMBER(GB44),mndot_rounding_1(((FR60+FT60+FV60+GB60)/4)),\"\")","v":""},{"$f":"IF(GB61<70,\"Stop Prod\",\"\")","v":""},{"$f":"IF(ISNUMBER(GD44),mndot_rounding_1(((FT60+FV60+GB60+GD60)/4)),\"\")","v":""},{"$f":"IF(GD61<70,\"Stop Prod\",\"\")","v":""},{"$f":"IF(ISNUMBER(GF44),mndot_rounding_1(((FV60+GB60+GD60+GF60)/4)),\"\")","v":""},{"$f":"IF(GF61<70,\"Stop Prod\",\"\")","v":""},{"$f":"IF(ISNUMBER(GH44),mndot_rounding_1(((GB60+GD60+GF60+GH60)/4)),\"\")","v":""},{"$f":"IF(GH61<70,\"Stop Prod\",\"\")","v":""},null,null,"70% Min.","Mov. Avg.",{"$f":"IF(ISNUMBER(GN44),mndot_rounding_1(((GD60+GF60+GH60+GN60)/4)),\"\")","v":""},{"$f":"IF(GN61<70,\"Stop Prod\",\"\")","v":""},{"$f":"IF(ISNUMBER(GP44),mndot_rounding_1(((GF60+GH60+GN60+GP60)/4)),\"\")","v":""},{"$f":"IF(GP61<70,\"Stop Prod\",\"\")","v":""},{"$f":"IF(ISNUMBER(GR44),mndot_rounding_1(((GH60+GN60+GP60+GR60)/4)),\"\")","v":""},{"$f":"IF(GR61<70,\"Stop Prod\",\"\")","v":""},{"$f":"IF(ISNUMBER(GT44),mndot_rounding_1(((GN60+GP60+GR60+GT60)/4)),\"\")","v":""},{"$f":"IF(GT61<70,\"Stop Prod\",\"\")","v":""},null,null,"70% Min.","Mov. Avg.",{"$f":"IF(ISNUMBER(GZ44),mndot_rounding_1(((GP60+GR60+GT60+GZ60)/4)),\"\")","v":""},{"$f":"IF(GZ61<70,\"Stop Prod\",\"\")","v":""},{"$f":"IF(ISNUMBER(HB44),mndot_rounding_1(((GR60+GT60+GZ60+HB60)/4)),\"\")","v":""},{"$f":"IF(HB61<70,\"Stop Prod\",\"\")","v":""},{"$f":"IF(ISNUMBER(HD44),mndot_rounding_1(((GT60+GZ60+HB60+HD60)/4)),\"\")","v":""},{"$f":"IF(HD61<70,\"Stop Prod\",\"\")","v":""},{"$f":"IF(ISNUMBER(HF44),mndot_rounding_1(((GZ60+HB60+HD60+HF60)/4)),\"\")","v":""},{"$f":"IF(HF61<70,\"Stop Prod\",\"\")","v":""},null,null,"70% Min.","Mov. Avg.",{"$f":"IF(ISNUMBER(HL44),mndot_rounding_1(((HB60+HD60+HF60+HL60)/4)),\"\")","v":""},{"$f":"IF(HL61<70,\"Stop Prod\",\"\")","v":""},{"$f":"IF(ISNUMBER(HN44),mndot_rounding_1(((HD60+HF60+HL60+HN60)/4)),\"\")","v":""},{"$f":"IF(HN61<70,\"Stop Prod\",\"\")","v":""},{"$f":"IF(ISNUMBER(HP44),mndot_rounding_1(((HF60+HL60+HN60+HP60)/4)),\"\")","v":""},{"$f":"IF(HP61<70,\"Stop Prod\",\"\")","v":""},{"$f":"IF(ISNUMBER(HR44),mndot_rounding_1(((HL60+HN60+HP60+HR60)/4)),\"\")","v":""},{"$f":"IF(HR61<70,\"Stop Prod\",\"\")","v":""},null,null,"70% Min.","Mov. Avg.",{"$f":"IF(ISNUMBER(HX44),mndot_rounding_1(((HN60+HP60+HR60+HX60)/4)),\"\")","v":""},{"$f":"IF(HX61<70,\"Stop Prod\",\"\")","v":""},{"$f":"IF(ISNUMBER(HZ44),mndot_rounding_1(((HP60+HR60+HX60+HZ60)/4)),\"\")","v":""},{"$f":"IF(HZ61<70,\"Stop Prod\",\"\")","v":""},{"$f":"IF(ISNUMBER(IB44),mndot_rounding_1(((HR60+HX60+HZ60+IB60)/4)),\"\")","v":""},{"$f":"IF(IB61<70,\"Stop Prod\",\"\")","v":""},{"$f":"IF(ISNUMBER(ID44),mndot_rounding_1(((HX60+HZ60+IB60+ID60)/4)),\"\")","v":""},{"$f":"IF(ID61<70,\"Stop Prod\",\"\")","v":""},null,null,"70% Min.","Mov. Avg.",{"$f":"IF(ISNUMBER(IJ44),mndot_rounding_1(((HZ60+IB60+ID60+IJ60)/4)),\"\")","v":""},{"$f":"IF(IJ61<70,\"Stop Prod\",\"\")","v":""},{"$f":"IF(ISNUMBER(IL44),mndot_rounding_1(((IB60+ID60+IJ60+IL60)/4)),\"\")","v":""},{"$f":"IF(IL61<70,\"Stop Prod\",\"\")","v":""},{"$f":"IF(ISNUMBER(IN44),mndot_rounding_1(((ID60+IJ60+IL60+IN60)/4)),\"\")","v":""},{"$f":"IF(IN61<70,\"Stop Prod\",\"\")","v":""},{"$f":"IF(ISNUMBER(IP44),mndot_rounding_1(((IJ60+IL60+IN60+IP60)/4)),\"\")","v":""},{"$f":"IF(IP61<70,\"Stop Prod\",\"\")","v":""}]
["Mix Moisture Content",null,null,null,{"$f":"IF(D62=\"\",\"\",IF(D62>0.3,\"High %\",\"\"))","v":""},null,{"$f":"IF(F62=\"\",\"\",IF(F62>0.3,\"High %\",\"\"))","v":""},null,{"$f":"IF(H62=\"\",\"\",IF(H62>0.3,\"High %\",\"\"))","v":""},null,{"$f":"IF(J62=\"\",\"\",IF(J62>0.3,\"High %\",\"\"))","v":""},null,"Mix Moisture Content",null,null,null,{"$f":"IF(P62=\"\",\"\",IF(P62>0.3,\"High %\",\"\"))","v":""},null,{"$f":"IF(R62=\"\",\"\",IF(R62>0.3,\"High %\",\"\"))","v":""},null,{"$f":"IF(T62=\"\",\"\",IF(T62>0.3,\"High %\",\"\"))","v":""},null,{"$f":"IF(V62=\"\",\"\",IF(V62>0.3,\"High %\",\"\"))","v":""},null,"Mix Moisture Content",null,null,null,{"$f":"IF(AB62=\"\",\"\",IF(AB62>0.3,\"High %\",\"\"))","v":""},null,{"$f":"IF(AD62=\"\",\"\",IF(AD62>0.3,\"High %\",\"\"))","v":""},null,{"$f":"IF(AF62=\"\",\"\",IF(AF62>0.3,\"High %\",\"\"))","v":""},null,{"$f":"IF(AH62=\"\",\"\",IF(AH62>0.3,\"High %\",\"\"))","v":""},null,"Mix Moisture Content",null,null,null,{"$f":"IF(AN62=\"\",\"\",IF(AN62>0.3,\"High %\",\"\"))","v":""},null,{"$f":"IF(AP62=\"\",\"\",IF(AP62>0.3,\"High %\",\"\"))","v":""},null,{"$f":"IF(AR62=\"\",\"\",IF(AR62>0.3,\"High %\",\"\"))","v":""},null,{"$f":"IF(AT62=\"\",\"\",IF(AT62>0.3,\"High %\",\"\"))","v":""},null,"Mix Moisture Content",null,null,null,{"$f":"IF(AZ62=\"\",\"\",IF(AZ62>0.3,\"High %\",\"\"))","v":""},null,{"$f":"IF(BB62=\"\",\"\",IF(BB62>0.3,\"High %\",\"\"))","v":""},null,{"$f":"IF(BD62=\"\",\"\",IF(BD62>0.3,\"High %\",\"\"))","v":""},null,{"$f":"IF(BF62=\"\",\"\",IF(BF62>0.3,\"High %\",\"\"))","v":""},null,"Mix Moisture Content",null,null,null,{"$f":"IF(BL62=\"\",\"\",IF(BL62>0.3,\"High %\",\"\"))","v":""},null,{"$f":"IF(BN62=\"\",\"\",IF(BN62>0.3,\"High %\",\"\"))","v":""},null,{"$f":"IF(BP62=\"\",\"\",IF(BP62>0.3,\"High %\",\"\"))","v":""},null,{"$f":"IF(BR62=\"\",\"\",IF(BR62>0.3,\"High %\",\"\"))","v":""},null,"Mix Moisture Content",null,null,null,{"$f":"IF(BX62=\"\",\"\",IF(BX62>0.3,\"High %\",\"\"))","v":""},null,{"$f":"IF(BZ62=\"\",\"\",IF(BZ62>0.3,\"High %\",\"\"))","v":""},null,{"$f":"IF(CB62=\"\",\"\",IF(CB62>0.3,\"High %\",\"\"))","v":""},null,{"$f":"IF(CD62=\"\",\"\",IF(CD62>0.3,\"High %\",\"\"))","v":""},null,"Mix Moisture Content",null,null,null,{"$f":"IF(CJ62=\"\",\"\",IF(CJ62>0.3,\"High %\",\"\"))","v":""},null,{"$f":"IF(CL62=\"\",\"\",IF(CL62>0.3,\"High %\",\"\"))","v":""},null,{"$f":"IF(CN62=\"\",\"\",IF(CN62>0.3,\"High %\",\"\"))","v":""},null,{"$f":"IF(CP62=\"\",\"\",IF(CP62>0.3,\"High %\",\"\"))","v":""},null,"Mix Moisture Content",null,null,null,{"$f":"IF(CV62=\"\",\"\",IF(CV62>0.3,\"High %\",\"\"))","v":""},null,{"$f":"IF(CX62=\"\",\"\",IF(CX62>0.3,\"High %\",\"\"))","v":""},null,{"$f":"IF(CZ62=\"\",\"\",IF(CZ62>0.3,\"High %\",\"\"))","v":""},null,{"$f":"IF(DB62=\"\",\"\",IF(DB62>0.3,\"High %\",\"\"))","v":""},null,"Mix Moisture Content",null,null,null,{"$f":"IF(DH62=\"\",\"\",IF(DH62>0.3,\"High %\",\"\"))","v":""},null,{"$f":"IF(DJ62=\"\",\"\",IF(DJ62>0.3,\"High %\",\"\"))","v":""},null,{"$f":"IF(DL62=\"\",\"\",IF(DL62>0.3,\"High %\",\"\"))","v":""},null,{"$f":"IF(DN62=\"\",\"\",IF(DN62>0.3,\"High %\",\"\"))","v":""},null,"Mix Moisture Content",null,null,null,{"$f":"IF(DT62=\"\",\"\",IF(DT62>0.3,\"High %\",\"\"))","v":""},null,{"$f":"IF(DV62=\"\",\"\",IF(DV62>0.3,\"High %\",\"\"))","v":""},null,{"$f":"IF(DX62=\"\",\"\",IF(DX62>0.3,\"High %\",\"\"))","v":""},null,{"$f":"IF(DZ62=\"\",\"\",IF(DZ62>0.3,\"High %\",\"\"))","v":""},null,"Mix Moisture Content",null,null,null,{"$f":"IF(EF62=\"\",\"\",IF(EF62>0.3,\"High %\",\"\"))","v":""},null,{"$f":"IF(EH62=\"\",\"\",IF(EH62>0.3,\"High %\",\"\"))","v":""},null,{"$f":"IF(EJ62=\"\",\"\",IF(EJ62>0.3,\"High %\",\"\"))","v":""},null,{"$f":"IF(EL62=\"\",\"\",IF(EL62>0.3,\"High %\",\"\"))","v":""},null,"Mix Moisture Content",null,null,null,{"$f":"IF(ER62=\"\",\"\",IF(ER62>0.3,\"High %\",\"\"))","v":""},null,{"$f":"IF(ET62=\"\",\"\",IF(ET62>0.3,\"High %\",\"\"))","v":""},null,{"$f":"IF(EV62=\"\",\"\",IF(EV62>0.3,\"High %\",\"\"))","v":""},null,{"$f":"IF(EX62=\"\",\"\",IF(EX62>0.3,\"High %\",\"\"))","v":""},null,"Mix Moisture Content",null,null,null,{"$f":"IF(FD62=\"\",\"\",IF(FD62>0.3,\"High %\",\"\"))","v":""},null,{"$f":"IF(FF62=\"\",\"\",IF(FF62>0.3,\"High %\",\"\"))","v":""},null,{"$f":"IF(FH62=\"\",\"\",IF(FH62>0.3,\"High %\",\"\"))","v":""},null,{"$f":"IF(FJ62=\"\",\"\",IF(FJ62>0.3,\"High %\",\"\"))","v":""},null,"Mix Moisture Content",null,null,null,{"$f":"IF(FP62=\"\",\"\",IF(FP62>0.3,\"High %\",\"\"))","v":""},null,{"$f":"IF(FR62=\"\",\"\",IF(FR62>0.3,\"High %\",\"\"))","v":""},null,{"$f":"IF(FT62=\"\",\"\",IF(FT62>0.3,\"High %\",\"\"))","v":""},null,{"$f":"IF(FV62=\"\",\"\",IF(FV62>0.3,\"High %\",\"\"))","v":""},null,"Mix Moisture Content",null,null,null,{"$f":"IF(GB62=\"\",\"\",IF(GB62>0.3,\"High %\",\"\"))","v":""},null,{"$f":"IF(GD62=\"\",\"\",IF(GD62>0.3,\"High %\",\"\"))","v":""},null,{"$f":"IF(GF62=\"\",\"\",IF(GF62>0.3,\"High %\",\"\"))","v":""},null,{"$f":"IF(GH62=\"\",\"\",IF(GH62>0.3,\"High %\",\"\"))","v":""},null,"Mix Moisture Content",null,null,null,{"$f":"IF(GN62=\"\",\"\",IF(GN62>0.3,\"High %\",\"\"))","v":""},null,{"$f":"IF(GP62=\"\",\"\",IF(GP62>0.3,\"High %\",\"\"))","v":""},null,{"$f":"IF(GR62=\"\",\"\",IF(GR62>0.3,\"High %\",\"\"))","v":""},null,{"$f":"IF(GT62=\"\",\"\",IF(GT62>0.3,\"High %\",\"\"))","v":""},null,"Mix Moisture Content",null,null,null,{"$f":"IF(GZ62=\"\",\"\",IF(GZ62>0.3,\"High %\",\"\"))","v":""},null,{"$f":"IF(HB62=\"\",\"\",IF(HB62>0.3,\"High %\",\"\"))","v":""},null,{"$f":"IF(HD62=\"\",\"\",IF(HD62>0.3,\"High %\",\"\"))","v":""},null,{"$f":"IF(HF62=\"\",\"\",IF(HF62>0.3,\"High %\",\"\"))","v":""},null,"Mix Moisture Content",null,null,null,{"$f":"IF(HL62=\"\",\"\",IF(HL62>0.3,\"High %\",\"\"))","v":""},null,{"$f":"IF(HN62=\"\",\"\",IF(HN62>0.3,\"High %\",\"\"))","v":""},null,{"$f":"IF(HP62=\"\",\"\",IF(HP62>0.3,\"High %\",\"\"))","v":""},null,{"$f":"IF(HR62=\"\",\"\",IF(HR62>0.3,\"High %\",\"\"))","v":""},null,"Mix Moisture Content",null,null,null,{"$f":"IF(HX62=\"\",\"\",IF(HX62>0.3,\"High %\",\"\"))","v":""},null,{"$f":"IF(HZ62=\"\",\"\",IF(HZ62>0.3,\"High %\",\"\"))","v":""},null,{"$f":"IF(IB62=\"\",\"\",IF(IB62>0.3,\"High %\",\"\"))","v":""},null,{"$f":"IF(ID62=\"\",\"\",IF(ID62>0.3,\"High %\",\"\"))","v":""},null,"Mix Moisture Content",null,null,null,{"$f":"IF(IJ62=\"\",\"\",IF(IJ62>0.3,\"High %\",\"\"))","v":""},null,{"$f":"IF(IL62=\"\",\"\",IF(IL62>0.3,\"High %\",\"\"))","v":""},null,{"$f":"IF(IN62=\"\",\"\",IF(IN62>0.3,\"High %\",\"\"))","v":""},null,{"$f":"IF(IP62=\"\",\"\",IF(IP62>0.3,\"High %\",\"\"))","v":""},null,null,0,"Agency AFT Substituted"]
["% Crushing","CAA -1 Face",{"$f":"MDR!BJ124","v":55},null,null,null,null,null,null,null,null,null,"% Crushing","CAA -1 Face",{"$f":"IF(C63=\"\",\"\",C63)","v":55},null,null,null,null,null,null,null,null,null,"% Crushing","CAA -1 Face",{"$f":"IF(O63=\"\",\"\",O63)","v":55},null,null,null,null,null,null,null,null,null,"% Crushing","CAA -1 Face",{"$f":"IF(AA63=\"\",\"\",AA63)","v":55},null,null,null,null,null,null,null,null,null,"% Crushing","CAA -1 Face",{"$f":"IF(AM63=\"\",\"\",AM63)","v":55},null,null,null,null,null,null,null,null,null,"% Crushing","CAA -1 Face",{"$f":"IF(AY63=\"\",\"\",AY63)","v":55},null,null,null,null,null,null,null,null,null,"% Crushing","CAA -1 Face",{"$f":"IF(BK63=\"\",\"\",BK63)","v":55},null,null,null,null,null,null,null,null,null,"% Crushing","CAA -1 Face",{"$f":"IF(BW63=\"\",\"\",BW63)","v":55},null,null,null,null,null,null,null,null,null,"% Crushing","CAA -1 Face",{"$f":"IF(CI63=\"\",\"\",CI63)","v":55},null,null,null,null,null,null,null,null,null,"% Crushing","CAA -1 Face",{"$f":"IF(CU63=\"\",\"\",CU63)","v":55},null,null,null,null,null,null,null,null,null,"% Crushing","CAA -1 Face",{"$f":"IF(DG63=\"\",\"\",DG63)","v":55},null,null,null,null,null,null,null,null,null,"% Crushing","CAA -1 Face",{"$f":"IF(DS63=\"\",\"\",DS63)","v":55},null,null,null,null,null,null,null,null,null,"% Crushing","CAA -1 Face",{"$f":"IF(EE63=\"\",\"\",EE63)","v":55},null,null,null,null,null,null,null,null,null,"% Crushing","CAA -1 Face",{"$f":"IF(EQ63=\"\",\"\",EQ63)","v":55},null,null,null,null,null,null,null,null,null,"% Crushing","CAA -1 Face",{"$f":"IF(FC63=\"\",\"\",FC63)","v":55},null,null,null,null,null,null,null,null,null,"% Crushing","CAA -1 Face",{"$f":"IF(FO63=\"\",\"\",FO63)","v":55},null,null,null,null,null,null,null,null,null,"% Crushing","CAA -1 Face",{"$f":"IF(GA63=\"\",\"\",GA63)","v":55},null,null,null,null,null,null,null,null,null,"% Crushing","CAA -1 Face",{"$f":"IF(GM63=\"\",\"\",GM63)","v":55},null,null,null,null,null,null,null,null,null,"% Crushing","CAA -1 Face",{"$f":"IF(GY63=\"\",\"\",GY63)","v":55},null,null,null,null,null,null,null,null,null,"% Crushing","CAA -1 Face",{"$f":"IF(HK63=\"\",\"\",HK63)","v":55},null,null,null,null,null,null,null,null,null,"% Crushing","CAA -1 Face",{"$f":"IF(HW63=\"\",\"\",HW63)","v":55},null,null,null,null,null,null,null,null,null,null,0,"Agency AFT Substituted"]
[null,null,null,null,{"$f":"IF(E63=\"\",\"\",IF(OR(E63>(D63+15),E63<(D63-15)),\"Tolerance\",\"\"))","v":""},null,{"$f":"IF(G63=\"\",\"\",IF(OR(G63>(F63+15),G63<(F63-15)),\"Tolerance\",\"\"))","v":""},null,{"$f":"IF(I63=\"\",\"\",IF(OR(I63>(H63+15),I63<(H63-15)),\"Tolerance\",\"\"))","v":""},null,{"$f":"IF(K63=\"\",\"\",IF(OR(K63>(J63+15),K63<(J63-15)),\"Tolerance\",\"\"))","v":""},null,null,null,null,null,{"$f":"IF(Q63=\"\",\"\",IF(OR(Q63>(P63+15),Q63<(P63-15)),\"Tolerance\",\"\"))","v":""},null,{"$f":"IF(S63=\"\",\"\",IF(OR(S63>(R63+15),S63<(R63-15)),\"Tolerance\",\"\"))","v":""},null,{"$f":"IF(U63=\"\",\"\",IF(OR(U63>(T63+15),U63<(T63-15)),\"Tolerance\",\"\"))","v":""},null,{"$f":"IF(W63=\"\",\"\",IF(OR(W63>(V63+15),W63<(V63-15)),\"Tolerance\",\"\"))","v":""},null,null,null,null,null,{"$f":"IF(AC63=\"\",\"\",IF(OR(AC63>(AB63+15),AC63<(AB63-15)),\"Tolerance\",\"\"))","v":""},null,{"$f":"IF(AE63=\"\",\"\",IF(OR(AE63>(AD63+15),AE63<(AD63-15)),\"Tolerance\",\"\"))","v":""},null,{"$f":"IF(AG63=\"\",\"\",IF(OR(AG63>(AF63+15),AG63<(AF63-15)),\"Tolerance\",\"\"))","v":""},null,{"$f":"IF(AI63=\"\",\"\",IF(OR(AI63>(AH63+15),AI63<(AH63-15)),\"Tolerance\",\"\"))","v":""},null,null,null,null,null,{"$f":"IF(AO63=\"\",\"\",IF(OR(AO63>(AN63+15),AO63<(AN63-15)),\"Tolerance\",\"\"))","v":""},null,{"$f":"IF(AQ63=\"\",\"\",IF(OR(AQ63>(AP63+15),AQ63<(AP63-15)),\"Tolerance\",\"\"))","v":""},null,{"$f":"IF(AS63=\"\",\"\",IF(OR(AS63>(AR63+15),AS63<(AR63-15)),\"Tolerance\",\"\"))","v":""},null,{"$f":"IF(AU63=\"\",\"\",IF(OR(AU63>(AT63+15),AU63<(AT63-15)),\"Tolerance\",\"\"))","v":""},null,null,null,null,null,{"$f":"IF(BA63=\"\",\"\",IF(OR(BA63>(AZ63+15),BA63<(AZ63-15)),\"Tolerance\",\"\"))","v":""},null,{"$f":"IF(BC63=\"\",\"\",IF(OR(BC63>(BB63+15),BC63<(BB63-15)),\"Tolerance\",\"\"))","v":""},null,{"$f":"IF(BE63=\"\",\"\",IF(OR(BE63>(BD63+15),BE63<(BD63-15)),\"Tolerance\",\"\"))","v":""},null,{"$f":"IF(BG63=\"\",\"\",IF(OR(BG63>(BF63+15),BG63<(BF63-15)),\"Tolerance\",\"\"))","v":""},null,null,null,null,null,{"$f":"IF(BM63=\"\",\"\",IF(OR(BM63>(BL63+15),BM63<(BL63-15)),\"Tolerance\",\"\"))","v":""},null,{"$f":"IF(BO63=\"\",\"\",IF(OR(BO63>(BN63+15),BO63<(BN63-15)),\"Tolerance\",\"\"))","v":""},null,{"$f":"IF(BQ63=\"\",\"\",IF(OR(BQ63>(BP63+15),BQ63<(BP63-15)),\"Tolerance\",\"\"))","v":""},null,{"$f":"IF(BS63=\"\",\"\",IF(OR(BS63>(BR63+15),BS63<(BR63-15)),\"Tolerance\",\"\"))","v":""},null,null,null,null,null,{"$f":"IF(BY63=\"\",\"\",IF(OR(BY63>(BX63+15),BY63<(BX63-15)),\"Tolerance\",\"\"))","v":""},null,{"$f":"IF(CA63=\"\",\"\",IF(OR(CA63>(BZ63+15),CA63<(BZ63-15)),\"Tolerance\",\"\"))","v":""},null,{"$f":"IF(CC63=\"\",\"\",IF(OR(CC63>(CB63+15),CC63<(CB63-15)),\"Tolerance\",\"\"))","v":""},null,{"$f":"IF(CE63=\"\",\"\",IF(OR(CE63>(CD63+15),CE63<(CD63-15)),\"Tolerance\",\"\"))","v":""},null,null,null,null,null,{"$f":"IF(CK63=\"\",\"\",IF(OR(CK63>(CJ63+15),CK63<(CJ63-15)),\"Tolerance\",\"\"))","v":""},null,{"$f":"IF(CM63=\"\",\"\",IF(OR(CM63>(CL63+15),CM63<(CL63-15)),\"Tolerance\",\"\"))","v":""},null,{"$f":"IF(CO63=\"\",\"\",IF(OR(CO63>(CN63+15),CO63<(CN63-15)),\"Tolerance\",\"\"))","v":""},null,{"$f":"IF(CQ63=\"\",\"\",IF(OR(CQ63>(CP63+15),CQ63<(CP63-15)),\"Tolerance\",\"\"))","v":""},null,null,null,null,null,{"$f":"IF(CW63=\"\",\"\",IF(OR(CW63>(CV63+15),CW63<(CV63-15)),\"Tolerance\",\"\"))","v":""},null,{"$f":"IF(CY63=\"\",\"\",IF(OR(CY63>(CX63+15),CY63<(CX63-15)),\"Tolerance\",\"\"))","v":""},null,{"$f":"IF(DA63=\"\",\"\",IF(OR(DA63>(CZ63+15),DA63<(CZ63-15)),\"Tolerance\",\"\"))","v":""},null,{"$f":"IF(DC63=\"\",\"\",IF(OR(DC63>(DB63+15),DC63<(DB63-15)),\"Tolerance\",\"\"))","v":""},null,null,null,null,null,{"$f":"IF(DI63=\"\",\"\",IF(OR(DI63>(DH63+15),DI63<(DH63-15)),\"Tolerance\",\"\"))","v":""},null,{"$f":"IF(DK63=\"\",\"\",IF(OR(DK63>(DJ63+15),DK63<(DJ63-15)),\"Tolerance\",\"\"))","v":""},null,{"$f":"IF(DM63=\"\",\"\",IF(OR(DM63>(DL63+15),DM63<(DL63-15)),\"Tolerance\",\"\"))","v":""},null,{"$f":"IF(DO63=\"\",\"\",IF(OR(DO63>(DN63+15),DO63<(DN63-15)),\"Tolerance\",\"\"))","v":""},null,null,null,null,null,{"$f":"IF(DU63=\"\",\"\",IF(OR(DU63>(DT63+15),DU63<(DT63-15)),\"Tolerance\",\"\"))","v":""},null,{"$f":"IF(DW63=\"\",\"\",IF(OR(DW63>(DV63+15),DW63<(DV63-15)),\"Tolerance\",\"\"))","v":""},null,{"$f":"IF(DY63=\"\",\"\",IF(OR(DY63>(DX63+15),DY63<(DX63-15)),\"Tolerance\",\"\"))","v":""},null,{"$f":"IF(EA63=\"\",\"\",IF(OR(EA63>(DZ63+15),EA63<(DZ63-15)),\"Tolerance\",\"\"))","v":""},null,null,null,null,null,{"$f":"IF(EG63=\"\",\"\",IF(OR(EG63>(EF63+15),EG63<(EF63-15)),\"Tolerance\",\"\"))","v":""},null,{"$f":"IF(EI63=\"\",\"\",IF(OR(EI63>(EH63+15),EI63<(EH63-15)),\"Tolerance\",\"\"))","v":""},null,{"$f":"IF(EK63=\"\",\"\",IF(OR(EK63>(EJ63+15),EK63<(EJ63-15)),\"Tolerance\",\"\"))","v":""},null,{"$f":"IF(EM63=\"\",\"\",IF(OR(EM63>(EL63+15),EM63<(EL63-15)),\"Tolerance\",\"\"))","v":""},null,null,null,null,null,{"$f":"IF(ES63=\"\",\"\",IF(OR(ES63>(ER63+15),ES63<(ER63-15)),\"Tolerance\",\"\"))","v":""},null,{"$f":"IF(EU63=\"\",\"\",IF(OR(EU63>(ET63+15),EU63<(ET63-15)),\"Tolerance\",\"\"))","v":""},null,{"$f":"IF(EW63=\"\",\"\",IF(OR(EW63>(EV63+15),EW63<(EV63-15)),\"Tolerance\",\"\"))","v":""},null,{"$f":"IF(EY63=\"\",\"\",IF(OR(EY63>(EX63+15),EY63<(EX63-15)),\"Tolerance\",\"\"))","v":""},null,null,null,null,null,{"$f":"IF(FE63=\"\",\"\",IF(OR(FE63>(FD63+15),FE63<(FD63-15)),\"Tolerance\",\"\"))","v":""},null,{"$f":"IF(FG63=\"\",\"\",IF(OR(FG63>(FF63+15),FG63<(FF63-15)),\"Tolerance\",\"\"))","v":""},null,{"$f":"IF(FI63=\"\",\"\",IF(OR(FI63>(FH63+15),FI63<(FH63-15)),\"Tolerance\",\"\"))","v":""},null,{"$f":"IF(FK63=\"\",\"\",IF(OR(FK63>(FJ63+15),FK63<(FJ63-15)),\"Tolerance\",\"\"))","v":""},null,null,null,null,null,{"$f":"IF(FQ63=\"\",\"\",IF(OR(FQ63>(FP63+15),FQ63<(FP63-15)),\"Tolerance\",\"\"))","v":""},null,{"$f":"IF(FS63=\"\",\"\",IF(OR(FS63>(FR63+15),FS63<(FR63-15)),\"Tolerance\",\"\"))","v":""},null,{"$f":"IF(FU63=\"\",\"\",IF(OR(FU63>(FT63+15),FU63<(FT63-15)),\"Tolerance\",\"\"))","v":""},null,{"$f":"IF(FW63=\"\",\"\",IF(OR(FW63>(FV63+15),FW63<(FV63-15)),\"Tolerance\",\"\"))","v":""},null,null,null,null,null,{"$f":"IF(GC63=\"\",\"\",IF(OR(GC63>(GB63+15),GC63<(GB63-15)),\"Tolerance\",\"\"))","v":""},null,{"$f":"IF(GE63=\"\",\"\",IF(OR(GE63>(GD63+15),GE63<(GD63-15)),\"Tolerance\",\"\"))","v":""},null,{"$f":"IF(GG63=\"\",\"\",IF(OR(GG63>(GF63+15),GG63<(GF63-15)),\"Tolerance\",\"\"))","v":""},null,{"$f":"IF(GI63=\"\",\"\",IF(OR(GI63>(GH63+15),GI63<(GH63-15)),\"Tolerance\",\"\"))","v":""},null,null,null,null,null,{"$f":"IF(GO63=\"\",\"\",IF(OR(GO63>(GN63+15),GO63<(GN63-15)),\"Tolerance\",\"\"))","v":""},null,{"$f":"IF(GQ63=\"\",\"\",IF(OR(GQ63>(GP63+15),GQ63<(GP63-15)),\"Tolerance\",\"\"))","v":""},null,{"$f":"IF(GS63=\"\",\"\",IF(OR(GS63>(GR63+15),GS63<(GR63-15)),\"Tolerance\",\"\"))","v":""},null,{"$f":"IF(GU63=\"\",\"\",IF(OR(GU63>(GT63+15),GU63<(GT63-15)),\"Tolerance\",\"\"))","v":""},null,null,null,null,null,{"$f":"IF(HA63=\"\",\"\",IF(OR(HA63>(GZ63+15),HA63<(GZ63-15)),\"Tolerance\",\"\"))","v":""},null,{"$f":"IF(HC63=\"\",\"\",IF(OR(HC63>(HB63+15),HC63<(HB63-15)),\"Tolerance\",\"\"))","v":""},null,{"$f":"IF(HE63=\"\",\"\",IF(OR(HE63>(HD63+15),HE63<(HD63-15)),\"Tolerance\",\"\"))","v":""},null,{"$f":"IF(HG63=\"\",\"\",IF(OR(HG63>(HF63+15),HG63<(HF63-15)),\"Tolerance\",\"\"))","v":""},null,null,null,null,null,{"$f":"IF(HM63=\"\",\"\",IF(OR(HM63>(HL63+15),HM63<(HL63-15)),\"Tolerance\",\"\"))","v":""},null,{"$f":"IF(HO63=\"\",\"\",IF(OR(HO63>(HN63+15),HO63<(HN63-15)),\"Tolerance\",\"\"))","v":""},null,{"$f":"IF(HQ63=\"\",\"\",IF(OR(HQ63>(HP63+15),HQ63<(HP63-15)),\"Tolerance\",\"\"))","v":""},null,{"$f":"IF(HS63=\"\",\"\",IF(OR(HS63>(HR63+15),HS63<(HR63-15)),\"Tolerance\",\"\"))","v":""},null,null,null,null,null,{"$f":"IF(HY63=\"\",\"\",IF(OR(HY63>(HX63+15),HY63<(HX63-15)),\"Tolerance\",\"\"))","v":""},null,{"$f":"IF(IA63=\"\",\"\",IF(OR(IA63>(HZ63+15),IA63<(HZ63-15)),\"Tolerance\",\"\"))","v":""},null,{"$f":"IF(IC63=\"\",\"\",IF(OR(IC63>(IB63+15),IC63<(IB63-15)),\"Tolerance\",\"\"))","v":""},null,{"$f":"IF(IE63=\"\",\"\",IF(OR(IE63>(ID63+15),IE63<(ID63-15)),\"Tolerance\",\"\"))","v":""},null,null,null,null,null,{"$f":"IF(IK63=\"\",\"\",IF(OR(IK63>(IJ63+15),IK63<(IJ63-15)),\"Tolerance\",\"\"))","v":""},null,{"$f":"IF(IM63=\"\",\"\",IF(OR(IM63>(IL63+15),IM63<(IL63-15)),\"Tolerance\",\"\"))","v":""},null,{"$f":"IF(IO63=\"\",\"\",IF(OR(IO63>(IN63+15),IO63<(IN63-15)),\"Tolerance\",\"\"))","v":""},null,{"$f":"IF(IQ63=\"\",\"\",IF(OR(IQ63>(IP63+15),IQ63<(IP63-15)),\"Tolerance\",\"\"))","v":""}]
[null,"CAA -2 Face",{"$f":"MDR!BJ125","v":"-"},null,null,null,null,null,null,null,null,null,null,"CAA -2 Face",{"$f":"IF(C65=\"\",\"\",C65)","v":"-"},null,null,null,null,null,null,null,null,null,null,"CAA -2 Face",{"$f":"IF(O65=\"\",\"\",O65)","v":"-"},null,null,null,null,null,null,null,null,null,null,"CAA -2 Face",{"$f":"IF(AA65=\"\",\"\",AA65)","v":"-"},null,null,null,null,null,null,null,null,null,null,"CAA -2 Face",{"$f":"IF(AM65=\"\",\"\",AM65)","v":"-"},null,null,null,null,null,null,null,null,null,null,"CAA -2 Face",{"$f":"IF(AY65=\"\",\"\",AY65)","v":"-"},null,null,null,null,null,null,null,null,null,null,"CAA -2 Face",{"$f":"IF(BK65=\"\",\"\",BK65)","v":"-"},null,null,null,null,null,null,null,null,null,null,"CAA -2 Face",{"$f":"IF(BW65=\"\",\"\",BW65)","v":"-"},null,null,null,null,null,null,null,null,null,null,"CAA -2 Face",{"$f":"IF(CI65=\"\",\"\",CI65)","v":"-"},null,null,null,null,null,null,null,null,null,null,"CAA -2 Face",{"$f":"IF(CU65=\"\",\"\",CU65)","v":"-"},null,null,null,null,null,null,null,null,null,null,"CAA -2 Face",{"$f":"IF(DG65=\"\",\"\",DG65)","v":"-"},null,null,null,null,null,null,null,null,null,null,"CAA -2 Face",{"$f":"IF(DS65=\"\",\"\",DS65)","v":"-"},null,null,null,null,null,null,null,null,null,null,"CAA -2 Face",{"$f":"IF(EE65=\"\",\"\",EE65)","v":"-"},null,null,null,null,null,null,null,null,null,null,"CAA -2 Face",{"$f":"IF(EQ65=\"\",\"\",EQ65)","v":"-"},null,null,null,null,null,null,null,null,null,null,"CAA -2 Face",{"$f":"IF(FC65=\"\",\"\",FC65)","v":"-"},null,null,null,null,null,null,null,null,null,null,"CAA -2 Face",{"$f":"IF(FO65=\"\",\"\",FO65)","v":"-"},null,null,null,null,null,null,null,null,null,null,"CAA -2 Face",{"$f":"IF(GA65=\"\",\"\",GA65)","v":"-"},null,null,null,null,null,null,null,null,null,null,"CAA -2 Face",{"$f":"IF(GM65=\"\",\"\",GM65)","v":"-"},null,null,null,null,null,null,null,null,null,null,"CAA -2 Face",{"$f":"IF(GY65=\"\",\"\",GY65)","v":"-"},null,null,null,null,null,null,null,null,null,null,"CAA -2 Face",{"$f":"IF(HK65=\"\",\"\",HK65)","v":"-"},null,null,null,null,null,null,null,null,null,null,"CAA -2 Face",{"$f":"IF(HW65=\"\",\"\",HW65)","v":"-"},null,null,null,null,null,null,null,null,null,null,0,"Agency AFT Substituted"]
[null,null,null,null,{"$f":"IF(E65=\"\",\"\",IF(OR(E65>(D65+15),E65<(D65-15)),\"Tolerance\",\"\"))","v":""},null,{"$f":"IF(G65=\"\",\"\",IF(OR(G65>(F65+15),G65<(F65-15)),\"Tolerance\",\"\"))","v":""},null,{"$f":"IF(I65=\"\",\"\",IF(OR(I65>(H65+15),I65<(H65-15)),\"Tolerance\",\"\"))","v":""},null,{"$f":"IF(K65=\"\",\"\",IF(OR(K65>(J65+15),K65<(J65-15)),\"Tolerance\",\"\"))","v":""},null,null,null,null,null,{"$f":"IF(Q65=\"\",\"\",IF(OR(Q65>(P65+15),Q65<(P65-15)),\"Tolerance\",\"\"))","v":""},null,{"$f":"IF(S65=\"\",\"\",IF(OR(S65>(R65+15),S65<(R65-15)),\"Tolerance\",\"\"))","v":""},null,{"$f":"IF(U65=\"\",\"\",IF(OR(U65>(T65+15),U65<(T65-15)),\"Tolerance\",\"\"))","v":""},null,{"$f":"IF(W65=\"\",\"\",IF(OR(W65>(V65+15),W65<(V65-15)),\"Tolerance\",\"\"))","v":""},null,null,null,null,null,{"$f":"IF(AC65=\"\",\"\",IF(OR(AC65>(AB65+15),AC65<(AB65-15)),\"Tolerance\",\"\"))","v":""},null,{"$f":"IF(AE65=\"\",\"\",IF(OR(AE65>(AD65+15),AE65<(AD65-15)),\"Tolerance\",\"\"))","v":""},null,{"$f":"IF(AG65=\"\",\"\",IF(OR(AG65>(AF65+15),AG65<(AF65-15)),\"Tolerance\",\"\"))","v":""},null,{"$f":"IF(AI65=\"\",\"\",IF(OR(AI65>(AH65+15),AI65<(AH65-15)),\"Tolerance\",\"\"))","v":""},null,null,null,null,null,{"$f":"IF(AO65=\"\",\"\",IF(OR(AO65>(AN65+15),AO65<(AN65-15)),\"Tolerance\",\"\"))","v":""},null,{"$f":"IF(AQ65=\"\",\"\",IF(OR(AQ65>(AP65+15),AQ65<(AP65-15)),\"Tolerance\",\"\"))","v":""},null,{"$f":"IF(AS65=\"\",\"\",IF(OR(AS65>(AR65+15),AS65<(AR65-15)),\"Tolerance\",\"\"))","v":""},null,{"$f":"IF(AU65=\"\",\"\",IF(OR(AU65>(AT65+15),AU65<(AT65-15)),\"Tolerance\",\"\"))","v":""},null,null,null,null,null,{"$f":"IF(BA65=\"\",\"\",IF(OR(BA65>(AZ65+15),BA65<(AZ65-15)),\"Tolerance\",\"\"))","v":""},null,{"$f":"IF(BC65=\"\",\"\",IF(OR(BC65>(BB65+15),BC65<(BB65-15)),\"Tolerance\",\"\"))","v":""},null,{"$f":"IF(BE65=\"\",\"\",IF(OR(BE65>(BD65+15),BE65<(BD65-15)),\"Tolerance\",\"\"))","v":""},null,{"$f":"IF(BG65=\"\",\"\",IF(OR(BG65>(BF65+15),BG65<(BF65-15)),\"Tolerance\",\"\"))","v":""},null,null,null,null,null,{"$f":"IF(BM65=\"\",\"\",IF(OR(BM65>(BL65+15),BM65<(BL65-15)),\"Tolerance\",\"\"))","v":""},null,{"$f":"IF(BO65=\"\",\"\",IF(OR(BO65>(BN65+15),BO65<(BN65-15)),\"Tolerance\",\"\"))","v":""},null,{"$f":"IF(BQ65=\"\",\"\",IF(OR(BQ65>(BP65+15),BQ65<(BP65-15)),\"Tolerance\",\"\"))","v":""},null,{"$f":"IF(BS65=\"\",\"\",IF(OR(BS65>(BR65+15),BS65<(BR65-15)),\"Tolerance\",\"\"))","v":""},null,null,null,null,null,{"$f":"IF(BY65=\"\",\"\",IF(OR(BY65>(BX65+15),BY65<(BX65-15)),\"Tolerance\",\"\"))","v":""},null,{"$f":"IF(CA65=\"\",\"\",IF(OR(CA65>(BZ65+15),CA65<(BZ65-15)),\"Tolerance\",\"\"))","v":""},null,{"$f":"IF(CC65=\"\",\"\",IF(OR(CC65>(CB65+15),CC65<(CB65-15)),\"Tolerance\",\"\"))","v":""},null,{"$f":"IF(CE65=\"\",\"\",IF(OR(CE65>(CD65+15),CE65<(CD65-15)),\"Tolerance\",\"\"))","v":""},null,null,null,null,null,{"$f":"IF(CK65=\"\",\"\",IF(OR(CK65>(CJ65+15),CK65<(CJ65-15)),\"Tolerance\",\"\"))","v":""},null,{"$f":"IF(CM65=\"\",\"\",IF(OR(CM65>(CL65+15),CM65<(CL65-15)),\"Tolerance\",\"\"))","v":""},null,{"$f":"IF(CO65=\"\",\"\",IF(OR(CO65>(CN65+15),CO65<(CN65-15)),\"Tolerance\",\"\"))","v":""},null,{"$f":"IF(CQ65=\"\",\"\",IF(OR(CQ65>(CP65+15),CQ65<(CP65-15)),\"Tolerance\",\"\"))","v":""},null,null,null,null,null,{"$f":"IF(CW65=\"\",\"\",IF(OR(CW65>(CV65+15),CW65<(CV65-15)),\"Tolerance\",\"\"))","v":""},null,{"$f":"IF(CY65=\"\",\"\",IF(OR(CY65>(CX65+15),CY65<(CX65-15)),\"Tolerance\",\"\"))","v":""},null,{"$f":"IF(DA65=\"\",\"\",IF(OR(DA65>(CZ65+15),DA65<(CZ65-15)),\"Tolerance\",\"\"))","v":""},null,{"$f":"IF(DC65=\"\",\"\",IF(OR(DC65>(DB65+15),DC65<(DB65-15)),\"Tolerance\",\"\"))","v":""},null,null,null,null,null,{"$f":"IF(DI65=\"\",\"\",IF(OR(DI65>(DH65+15),DI65<(DH65-15)),\"Tolerance\",\"\"))","v":""},null,{"$f":"IF(DK65=\"\",\"\",IF(OR(DK65>(DJ65+15),DK65<(DJ65-15)),\"Tolerance\",\"\"))","v":""},null,{"$f":"IF(DM65=\"\",\"\",IF(OR(DM65>(DL65+15),DM65<(DL65-15)),\"Tolerance\",\"\"))","v":""},null,{"$f":"IF(DO65=\"\",\"\",IF(OR(DO65>(DN65+15),DO65<(DN65-15)),\"Tolerance\",\"\"))","v":""},null,null,null,null,null,{"$f":"IF(DU65=\"\",\"\",IF(OR(DU65>(DT65+15),DU65<(DT65-15)),\"Tolerance\",\"\"))","v":""},null,{"$f":"IF(DW65=\"\",\"\",IF(OR(DW65>(DV65+15),DW65<(DV65-15)),\"Tolerance\",\"\"))","v":""},null,{"$f":"IF(DY65=\"\",\"\",IF(OR(DY65>(DX65+15),DY65<(DX65-15)),\"Tolerance\",\"\"))","v":""},null,{"$f":"IF(EA65=\"\",\"\",IF(OR(EA65>(DZ65+15),EA65<(DZ65-15)),\"Tolerance\",\"\"))","v":""},null,null,null,null,null,{"$f":"IF(EG65=\"\",\"\",IF(OR(EG65>(EF65+15),EG65<(EF65-15)),\"Tolerance\",\"\"))","v":""},null,{"$f":"IF(EI65=\"\",\"\",IF(OR(EI65>(EH65+15),EI65<(EH65-15)),\"Tolerance\",\"\"))","v":""},null,{"$f":"IF(EK65=\"\",\"\",IF(OR(EK65>(EJ65+15),EK65<(EJ65-15)),\"Tolerance\",\"\"))","v":""},null,{"$f":"IF(EM65=\"\",\"\",IF(OR(EM65>(EL65+15),EM65<(EL65-15)),\"Tolerance\",\"\"))","v":""},null,null,null,null,null,{"$f":"IF(ES65=\"\",\"\",IF(OR(ES65>(ER65+15),ES65<(ER65-15)),\"Tolerance\",\"\"))","v":""},null,{"$f":"IF(EU65=\"\",\"\",IF(OR(EU65>(ET65+15),EU65<(ET65-15)),\"Tolerance\",\"\"))","v":""},null,{"$f":"IF(EW65=\"\",\"\",IF(OR(EW65>(EV65+15),EW65<(EV65-15)),\"Tolerance\",\"\"))","v":""},null,{"$f":"IF(EY65=\"\",\"\",IF(OR(EY65>(EX65+15),EY65<(EX65-15)),\"Tolerance\",\"\"))","v":""},null,null,null,null,null,{"$f":"IF(FE65=\"\",\"\",IF(OR(FE65>(FD65+15),FE65<(FD65-15)),\"Tolerance\",\"\"))","v":""},null,{"$f":"IF(FG65=\"\",\"\",IF(OR(FG65>(FF65+15),FG65<(FF65-15)),\"Tolerance\",\"\"))","v":""},null,{"$f":"IF(FI65=\"\",\"\",IF(OR(FI65>(FH65+15),FI65<(FH65-15)),\"Tolerance\",\"\"))","v":""},null,{"$f":"IF(FK65=\"\",\"\",IF(OR(FK65>(FJ65+15),FK65<(FJ65-15)),\"Tolerance\",\"\"))","v":""},null,null,null,null,null,{"$f":"IF(FQ65=\"\",\"\",IF(OR(FQ65>(FP65+15),FQ65<(FP65-15)),\"Tolerance\",\"\"))","v":""},null,{"$f":"IF(FS65=\"\",\"\",IF(OR(FS65>(FR65+15),FS65<(FR65-15)),\"Tolerance\",\"\"))","v":""},null,{"$f":"IF(FU65=\"\",\"\",IF(OR(FU65>(FT65+15),FU65<(FT65-15)),\"Tolerance\",\"\"))","v":""},null,{"$f":"IF(FW65=\"\",\"\",IF(OR(FW65>(FV65+15),FW65<(FV65-15)),\"Tolerance\",\"\"))","v":""},null,null,null,null,null,{"$f":"IF(GC65=\"\",\"\",IF(OR(GC65>(GB65+15),GC65<(GB65-15)),\"Tolerance\",\"\"))","v":""},null,{"$f":"IF(GE65=\"\",\"\",IF(OR(GE65>(GD65+15),GE65<(GD65-15)),\"Tolerance\",\"\"))","v":""},null,{"$f":"IF(GG65=\"\",\"\",IF(OR(GG65>(GF65+15),GG65<(GF65-15)),\"Tolerance\",\"\"))","v":""},null,{"$f":"IF(GI65=\"\",\"\",IF(OR(GI65>(GH65+15),GI65<(GH65-15)),\"Tolerance\",\"\"))","v":""},null,null,null,null,null,{"$f":"IF(GO65=\"\",\"\",IF(OR(GO65>(GN65+15),GO65<(GN65-15)),\"Tolerance\",\"\"))","v":""},null,{"$f":"IF(GQ65=\"\",\"\",IF(OR(GQ65>(GP65+15),GQ65<(GP65-15)),\"Tolerance\",\"\"))","v":""},null,{"$f":"IF(GS65=\"\",\"\",IF(OR(GS65>(GR65+15),GS65<(GR65-15)),\"Tolerance\",\"\"))","v":""},null,{"$f":"IF(GU65=\"\",\"\",IF(OR(GU65>(GT65+15),GU65<(GT65-15)),\"Tolerance\",\"\"))","v":""},null,null,null,null,null,{"$f":"IF(HA65=\"\",\"\",IF(OR(HA65>(GZ65+15),HA65<(GZ65-15)),\"Tolerance\",\"\"))","v":""},null,{"$f":"IF(HC65=\"\",\"\",IF(OR(HC65>(HB65+15),HC65<(HB65-15)),\"Tolerance\",\"\"))","v":""},null,{"$f":"IF(HE65=\"\",\"\",IF(OR(HE65>(HD65+15),HE65<(HD65-15)),\"Tolerance\",\"\"))","v":""},null,{"$f":"IF(HG65=\"\",\"\",IF(OR(HG65>(HF65+15),HG65<(HF65-15)),\"Tolerance\",\"\"))","v":""},null,null,null,null,null,{"$f":"IF(HM65=\"\",\"\",IF(OR(HM65>(HL65+15),HM65<(HL65-15)),\"Tolerance\",\"\"))","v":""},null,{"$f":"IF(HO65=\"\",\"\",IF(OR(HO65>(HN65+15),HO65<(HN65-15)),\"Tolerance\",\"\"))","v":""},null,{"$f":"IF(HQ65=\"\",\"\",IF(OR(HQ65>(HP65+15),HQ65<(HP65-15)),\"Tolerance\",\"\"))","v":""},null,{"$f":"IF(HS65=\"\",\"\",IF(OR(HS65>(HR65+15),HS65<(HR65-15)),\"Tolerance\",\"\"))","v":""},null,null,null,null,null,{"$f":"IF(HY65=\"\",\"\",IF(OR(HY65>(HX65+15),HY65<(HX65-15)),\"Tolerance\",\"\"))","v":""},null,{"$f":"IF(IA65=\"\",\"\",IF(OR(IA65>(HZ65+15),IA65<(HZ65-15)),\"Tolerance\",\"\"))","v":""},null,{"$f":"IF(IC65=\"\",\"\",IF(OR(IC65>(IB65+15),IC65<(IB65-15)),\"Tolerance\",\"\"))","v":""},null,{"$f":"IF(IE65=\"\",\"\",IF(OR(IE65>(ID65+15),IE65<(ID65-15)),\"Tolerance\",\"\"))","v":""},null,null,null,null,null,{"$f":"IF(IK65=\"\",\"\",IF(OR(IK65>(IJ65+15),IK65<(IJ65-15)),\"Tolerance\",\"\"))","v":""},null,{"$f":"IF(IM65=\"\",\"\",IF(OR(IM65>(IL65+15),IM65<(IL65-15)),\"Tolerance\",\"\"))","v":""},null,{"$f":"IF(IO65=\"\",\"\",IF(OR(IO65>(IN65+15),IO65<(IN65-15)),\"Tolerance\",\"\"))","v":""},null,{"$f":"IF(IQ65=\"\",\"\",IF(OR(IQ65>(IP65+15),IQ65<(IP65-15)),\"Tolerance\",\"\"))","v":""}]
[null,"FAA",{"$f":"MDR!BJ126","v":42},null,null,null,null,null,null,null,null,null,null,"FAA",{"$f":"IF(C67=\"\",\"\",C67)","v":42},null,null,null,null,null,null,null,null,null,null,"FAA",{"$f":"IF(O67=\"\",\"\",O67)","v":42},null,null,null,null,null,null,null,null,null,null,"FAA",{"$f":"IF(AA67=\"\",\"\",AA67)","v":42},null,null,null,null,null,null,null,null,null,null,"FAA",{"$f":"IF(AM67=\"\",\"\",AM67)","v":42},null,null,null,null,null,null,null,null,null,null,"FAA",{"$f":"IF(AY67=\"\",\"\",AY67)","v":42},null,null,null,null,null,null,null,null,null,null,"FAA",{"$f":"IF(BK67=\"\",\"\",BK67)","v":42},null,null,null,null,null,null,null,null,null,null,"FAA",{"$f":"IF(BW67=\"\",\"\",BW67)","v":42},null,null,null,null,null,null,null,null,null,null,"FAA",{"$f":"IF(CI67=\"\",\"\",CI67)","v":42},null,null,null,null,null,null,null,null,null,null,"FAA",{"$f":"IF(CU67=\"\",\"\",CU67)","v":42},null,null,null,null,null,null,null,null,null,null,"FAA",{"$f":"IF(DG67=\"\",\"\",DG67)","v":42},null,null,null,null,null,null,null,null,null,null,"FAA",{"$f":"IF(DS67=\"\",\"\",DS67)","v":42},null,null,null,null,null,null,null,null,null,null,"FAA",{"$f":"IF(EE67=\"\",\"\",EE67)","v":42},null,null,null,null,null,null,null,null,null,null,"FAA",{"$f":"IF(EQ67=\"\",\"\",EQ67)","v":42},null,null,null,null,null,null,null,null,null,null,"FAA",{"$f":"IF(FC67=\"\",\"\",FC67)","v":42},null,null,null,null,null,null,null,null,null,null,"FAA",{"$f":"IF(FO67=\"\",\"\",FO67)","v":42},null,null,null,null,null,null,null,null,null,null,"FAA",{"$f":"IF(GA67=\"\",\"\",GA67)","v":42},null,null,null,null,null,null,null,null,null,null,"FAA",{"$f":"IF(GM67=\"\",\"\",GM67)","v":42},null,null,null,null,null,null,null,null,null,null,"FAA",{"$f":"IF(GY67=\"\",\"\",GY67)","v":42},null,null,null,null,null,null,null,null,null,null,"FAA",{"$f":"IF(HK67=\"\",\"\",HK67)","v":42},null,null,null,null,null,null,null,null,null,null,"FAA",{"$f":"IF(HW67=\"\",\"\",HW67)","v":42},null,null,null,null,null,null,null,null,null,null,0,"Agency AFT Substituted"]
[null,null,null,null,{"$f":"IF(E67=\"\",\"\",IF(OR(E67>(D67+1),E67<(D67-1)),\"Tolerance\",\"\"))","v":""},null,{"$f":"IF(G67=\"\",\"\",IF(OR(G67>(F67+1),G67<(F67-1)),\"Tolerance\",\"\"))","v":""},null,{"$f":"IF(I67=\"\",\"\",IF(OR(I67>(H67+1),I67<(H67-1)),\"Tolerance\",\"\"))","v":""},null,{"$f":"IF(K67=\"\",\"\",IF(OR(K67>(J67+1),K67<(J67-1)),\"Tolerance\",\"\"))","v":""},null,null,null,null,null,{"$f":"IF(Q67=\"\",\"\",IF(OR(Q67>(P67+1),Q67<(P67-1)),\"Tolerance\",\"\"))","v":""},null,{"$f":"IF(S67=\"\",\"\",IF(OR(S67>(R67+1),S67<(R67-1)),\"Tolerance\",\"\"))","v":""},null,{"$f":"IF(U67=\"\",\"\",IF(OR(U67>(T67+1),U67<(T67-1)),\"Tolerance\",\"\"))","v":""},null,{"$f":"IF(W67=\"\",\"\",IF(OR(W67>(V67+1),W67<(V67-1)),\"Tolerance\",\"\"))","v":""},null,null,null,null,null,{"$f":"IF(AC67=\"\",\"\",IF(OR(AC67>(AB67+1),AC67<(AB67-1)),\"Tolerance\",\"\"))","v":""},null,{"$f":"IF(AE67=\"\",\"\",IF(OR(AE67>(AD67+1),AE67<(AD67-1)),\"Tolerance\",\"\"))","v":""},null,{"$f":"IF(AG67=\"\",\"\",IF(OR(AG67>(AF67+1),AG67<(AF67-1)),\"Tolerance\",\"\"))","v":""},null,{"$f":"IF(AI67=\"\",\"\",IF(OR(AI67>(AH67+1),AI67<(AH67-1)),\"Tolerance\",\"\"))","v":""},null,null,null,null,null,{"$f":"IF(AO67=\"\",\"\",IF(OR(AO67>(AN67+1),AO67<(AN67-1)),\"Tolerance\",\"\"))","v":""},null,{"$f":"IF(AQ67=\"\",\"\",IF(OR(AQ67>(AP67+1),AQ67<(AP67-1)),\"Tolerance\",\"\"))","v":""},null,{"$f":"IF(AS67=\"\",\"\",IF(OR(AS67>(AR67+1),AS67<(AR67-1)),\"Tolerance\",\"\"))","v":""},null,{"$f":"IF(AU67=\"\",\"\",IF(OR(AU67>(AT67+1),AU67<(AT67-1)),\"Tolerance\",\"\"))","v":""},null,null,null,null,null,{"$f":"IF(BA67=\"\",\"\",IF(OR(BA67>(AZ67+1),BA67<(AZ67-1)),\"Tolerance\",\"\"))","v":""},null,{"$f":"IF(BC67=\"\",\"\",IF(OR(BC67>(BB67+1),BC67<(BB67-1)),\"Tolerance\",\"\"))","v":""},null,{"$f":"IF(BE67=\"\",\"\",IF(OR(BE67>(BD67+1),BE67<(BD67-1)),\"Tolerance\",\"\"))","v":""},null,{"$f":"IF(BG67=\"\",\"\",IF(OR(BG67>(BF67+1),BG67<(BF67-1)),\"Tolerance\",\"\"))","v":""},null,null,null,null,null,{"$f":"IF(BM67=\"\",\"\",IF(OR(BM67>(BL67+1),BM67<(BL67-1)),\"Tolerance\",\"\"))","v":""},null,{"$f":"IF(BO67=\"\",\"\",IF(OR(BO67>(BN67+1),BO67<(BN67-1)),\"Tolerance\",\"\"))","v":""},null,{"$f":"IF(BQ67=\"\",\"\",IF(OR(BQ67>(BP67+1),BQ67<(BP67-1)),\"Tolerance\",\"\"))","v":""},null,{"$f":"IF(BS67=\"\",\"\",IF(OR(BS67>(BR67+1),BS67<(BR67-1)),\"Tolerance\",\"\"))","v":""},null,null,null,null,null,{"$f":"IF(BY67=\"\",\"\",IF(OR(BY67>(BX67+1),BY67<(BX67-1)),\"Tolerance\",\"\"))","v":""},null,{"$f":"IF(CA67=\"\",\"\",IF(OR(CA67>(BZ67+1),CA67<(BZ67-1)),\"Tolerance\",\"\"))","v":""},null,{"$f":"IF(CC67=\"\",\"\",IF(OR(CC67>(CB67+1),CC67<(CB67-1)),\"Tolerance\",\"\"))","v":""},null,{"$f":"IF(CE67=\"\",\"\",IF(OR(CE67>(CD67+1),CE67<(CD67-1)),\"Tolerance\",\"\"))","v":""},null,null,null,null,null,{"$f":"IF(CK67=\"\",\"\",IF(OR(CK67>(CJ67+1),CK67<(CJ67-1)),\"Tolerance\",\"\"))","v":""},null,{"$f":"IF(CM67=\"\",\"\",IF(OR(CM67>(CL67+1),CM67<(CL67-1)),\"Tolerance\",\"\"))","v":""},null,{"$f":"IF(CO67=\"\",\"\",IF(OR(CO67>(CN67+1),CO67<(CN67-1)),\"Tolerance\",\"\"))","v":""},null,{"$f":"IF(CQ67=\"\",\"\",IF(OR(CQ67>(CP67+1),CQ67<(CP67-1)),\"Tolerance\",\"\"))","v":""},null,null,null,null,null,{"$f":"IF(CW67=\"\",\"\",IF(OR(CW67>(CV67+1),CW67<(CV67-1)),\"Tolerance\",\"\"))","v":""},null,{"$f":"IF(CY67=\"\",\"\",IF(OR(CY67>(CX67+1),CY67<(CX67-1)),\"Tolerance\",\"\"))","v":""},null,{"$f":"IF(DA67=\"\",\"\",IF(OR(DA67>(CZ67+1),DA67<(CZ67-1)),\"Tolerance\",\"\"))","v":""},null,{"$f":"IF(DC67=\"\",\"\",IF(OR(DC67>(DB67+1),DC67<(DB67-1)),\"Tolerance\",\"\"))","v":""},null,null,null,null,null,{"$f":"IF(DI67=\"\",\"\",IF(OR(DI67>(DH67+1),DI67<(DH67-1)),\"Tolerance\",\"\"))","v":""},null,{"$f":"IF(DK67=\"\",\"\",IF(OR(DK67>(DJ67+1),DK67<(DJ67-1)),\"Tolerance\",\"\"))","v":""},null,{"$f":"IF(DM67=\"\",\"\",IF(OR(DM67>(DL67+1),DM67<(DL67-1)),\"Tolerance\",\"\"))","v":""},null,{"$f":"IF(DO67=\"\",\"\",IF(OR(DO67>(DN67+1),DO67<(DN67-1)),\"Tolerance\",\"\"))","v":""},null,null,null,null,null,{"$f":"IF(DU67=\"\",\"\",IF(OR(DU67>(DT67+1),DU67<(DT67-1)),\"Tolerance\",\"\"))","v":""},null,{"$f":"IF(DW67=\"\",\"\",IF(OR(DW67>(DV67+1),DW67<(DV67-1)),\"Tolerance\",\"\"))","v":""},null,{"$f":"IF(DY67=\"\",\"\",IF(OR(DY67>(DX67+1),DY67<(DX67-1)),\"Tolerance\",\"\"))","v":""},null,{"$f":"IF(EA67=\"\",\"\",IF(OR(EA67>(DZ67+1),EA67<(DZ67-1)),\"Tolerance\",\"\"))","v":""},null,null,null,null,null,{"$f":"IF(EG67=\"\",\"\",IF(OR(EG67>(EF67+1),EG67<(EF67-1)),\"Tolerance\",\"\"))","v":""},null,{"$f":"IF(EI67=\"\",\"\",IF(OR(EI67>(EH67+1),EI67<(EH67-1)),\"Tolerance\",\"\"))","v":""},null,{"$f":"IF(EK67=\"\",\"\",IF(OR(EK67>(EJ67+1),EK67<(EJ67-1)),\"Tolerance\",\"\"))","v":""},null,{"$f":"IF(EM67=\"\",\"\",IF(OR(EM67>(EL67+1),EM67<(EL67-1)),\"Tolerance\",\"\"))","v":""},null,null,null,null,null,{"$f":"IF(ES67=\"\",\"\",IF(OR(ES67>(ER67+1),ES67<(ER67-1)),\"Tolerance\",\"\"))","v":""},null,{"$f":"IF(EU67=\"\",\"\",IF(OR(EU67>(ET67+1),EU67<(ET67-1)),\"Tolerance\",\"\"))","v":""},null,{"$f":"IF(EW67=\"\",\"\",IF(OR(EW67>(EV67+1),EW67<(EV67-1)),\"Tolerance\",\"\"))","v":""},null,{"$f":"IF(EY67=\"\",\"\",IF(OR(EY67>(EX67+1),EY67<(EX67-1)),\"Tolerance\",\"\"))","v":""},null,null,null,null,null,{"$f":"IF(FE67=\"\",\"\",IF(OR(FE67>(FD67+1),FE67<(FD67-1)),\"Tolerance\",\"\"))","v":""},null,{"$f":"IF(FG67=\"\",\"\",IF(OR(FG67>(FF67+1),FG67<(FF67-1)),\"Tolerance\",\"\"))","v":""},null,{"$f":"IF(FI67=\"\",\"\",IF(OR(FI67>(FH67+1),FI67<(FH67-1)),\"Tolerance\",\"\"))","v":""},null,{"$f":"IF(FK67=\"\",\"\",IF(OR(FK67>(FJ67+1),FK67<(FJ67-1)),\"Tolerance\",\"\"))","v":""},null,null,null,null,null,{"$f":"IF(FQ67=\"\",\"\",IF(OR(FQ67>(FP67+1),FQ67<(FP67-1)),\"Tolerance\",\"\"))","v":""},null,{"$f":"IF(FS67=\"\",\"\",IF(OR(FS67>(FR67+1),FS67<(FR67-1)),\"Tolerance\",\"\"))","v":""},null,{"$f":"IF(FU67=\"\",\"\",IF(OR(FU67>(FT67+1),FU67<(FT67-1)),\"Tolerance\",\"\"))","v":""},null,{"$f":"IF(FW67=\"\",\"\",IF(OR(FW67>(FV67+1),FW67<(FV67-1)),\"Tolerance\",\"\"))","v":""},null,null,null,null,null,{"$f":"IF(GC67=\"\",\"\",IF(OR(GC67>(GB67+1),GC67<(GB67-1)),\"Tolerance\",\"\"))","v":""},null,{"$f":"IF(GE67=\"\",\"\",IF(OR(GE67>(GD67+1),GE67<(GD67-1)),\"Tolerance\",\"\"))","v":""},null,{"$f":"IF(GG67=\"\",\"\",IF(OR(GG67>(GF67+1),GG67<(GF67-1)),\"Tolerance\",\"\"))","v":""},null,{"$f":"IF(GI67=\"\",\"\",IF(OR(GI67>(GH67+1),GI67<(GH67-1)),\"Tolerance\",\"\"))","v":""},null,null,null,null,null,{"$f":"IF(GO67=\"\",\"\",IF(OR(GO67>(GN67+1),GO67<(GN67-1)),\"Tolerance\",\"\"))","v":""},null,{"$f":"IF(GQ67=\"\",\"\",IF(OR(GQ67>(GP67+1),GQ67<(GP67-1)),\"Tolerance\",\"\"))","v":""},null,{"$f":"IF(GS67=\"\",\"\",IF(OR(GS67>(GR67+1),GS67<(GR67-1)),\"Tolerance\",\"\"))","v":""},null,{"$f":"IF(GU67=\"\",\"\",IF(OR(GU67>(GT67+1),GU67<(GT67-1)),\"Tolerance\",\"\"))","v":""},null,null,null,null,null,{"$f":"IF(HA67=\"\",\"\",IF(OR(HA67>(GZ67+1),HA67<(GZ67-1)),\"Tolerance\",\"\"))","v":""},null,{"$f":"IF(HC67=\"\",\"\",IF(OR(HC67>(HB67+1),HC67<(HB67-1)),\"Tolerance\",\"\"))","v":""},null,{"$f":"IF(HE67=\"\",\"\",IF(OR(HE67>(HD67+1),HE67<(HD67-1)),\"Tolerance\",\"\"))","v":""},null,{"$f":"IF(HG67=\"\",\"\",IF(OR(HG67>(HF67+1),HG67<(HF67-1)),\"Tolerance\",\"\"))","v":""},null,null,null,null,null,{"$f":"IF(HM67=\"\",\"\",IF(OR(HM67>(HL67+1),HM67<(HL67-1)),\"Tolerance\",\"\"))","v":""},null,{"$f":"IF(HO67=\"\",\"\",IF(OR(HO67>(HN67+1),HO67<(HN67-1)),\"Tolerance\",\"\"))","v":""},null,{"$f":"IF(HQ67=\"\",\"\",IF(OR(HQ67>(HP67+1),HQ67<(HP67-1)),\"Tolerance\",\"\"))","v":""},null,{"$f":"IF(HS67=\"\",\"\",IF(OR(HS67>(HR67+1),HS67<(HR67-1)),\"Tolerance\",\"\"))","v":""},null,null,null,null,null,{"$f":"IF(HY67=\"\",\"\",IF(OR(HY67>(HX67+1),HY67<(HX67-1)),\"Tolerance\",\"\"))","v":""},null,{"$f":"IF(IA67=\"\",\"\",IF(OR(IA67>(HZ67+1),IA67<(HZ67-1)),\"Tolerance\",\"\"))","v":""},null,{"$f":"IF(IC67=\"\",\"\",IF(OR(IC67>(IB67+1),IC67<(IB67-1)),\"Tolerance\",\"\"))","v":""},null,{"$f":"IF(IE67=\"\",\"\",IF(OR(IE67>(ID67+1),IE67<(ID67-1)),\"Tolerance\",\"\"))","v":""},null,null,null,null,null,{"$f":"IF(IK67=\"\",\"\",IF(OR(IK67>(IJ67+1),IK67<(IJ67-1)),\"Tolerance\",\"\"))","v":""},null,{"$f":"IF(IM67=\"\",\"\",IF(OR(IM67>(IL67+1),IM67<(IL67-1)),\"Tolerance\",\"\"))","v":""},null,{"$f":"IF(IO67=\"\",\"\",IF(OR(IO67>(IN67+1),IO67<(IN67-1)),\"Tolerance\",\"\"))","v":""},null,{"$f":"IF(IQ67=\"\",\"\",IF(OR(IQ67>(IP67+1),IQ67<(IP67-1)),\"Tolerance\",\"\"))","v":""}]
["Sample Ton Number / Tons Represented",null,null,null,null,null,null,null,null,null,null,null,"Sample Ton Number / Tons Represented",null,null,null,null,null,null,null,null,null,null,null,"Sample Ton Number / Tons Represented",null,null,null,null,null,null,null,null,null,null,null,"Sample Ton Number / Tons Represented",null,null,null,null,null,null,null,null,null,null,null,"Sample Ton Number / Tons Represented",null,null,null,null,null,null,null,null,null,null,null,"Sample Ton Number / Tons Represented",null,null,null,null,null,null,null,null,null,null,null,"Sample Ton Number / Tons Represented",null,null,null,null,null,null,null,null,null,null,null,"Sample Ton Number / Tons Represented",null,null,null,null,null,null,null,null,null,null,null,"Sample Ton Number / Tons Represented",null,null,null,null,null,null,null,null,null,null,null,"Sample Ton Number / Tons Represented",null,null,null,null,null,null,null,null,null,null,null,"Sample Ton Number / Tons Represented",null,null,null,null,null,null,null,null,null,null,null,"Sample Ton Number / Tons Represented",null,null,null,null,null,null,null,null,null,null,null,"Sample Ton Number / Tons Represented",null,null,null,null,null,null,null,null,null,null,null,"Sample Ton Number / Tons Represented",null,null,null,null,null,null,null,null,null,null,null,"Sample Ton Number / Tons Represented",null,null,null,null,null,null,null,null,null,null,null,"Sample Ton Number / Tons Represented",null,null,null,null,null,null,null,null,null,null,null,"Sample Ton Number / Tons Represented",null,null,null,null,null,null,null,null,null,null,null,"Sample Ton Number / Tons Represented",null,null,null,null,null,null,null,null,null,null,null,"Sample Ton Number / Tons Represented",null,null,null,null,null,null,null,null,null,null,null,"Sample Ton Number / Tons Represented",null,null,null,null,null,null,null,null,null,null,null,"Sample Ton Number / Tons Represented",null,null,null,null,null,null,null,null,null,null,null,null,0,"Agency AFT Substituted"]
["Daily Project Total / Cummulative Tons",null,null,null,{"$f":"E69","v":0},null,{"$f":"IF(G69=\"\",\"\",(E70+G69))","v":""},null,{"$f":"IF(I69=\"\",\"\",(G70+I69))","v":""},null,{"$f":"IF(K69=\"\",\"\",(I70+K69))","v":""},null,"Daily Project Total / Cummulative Tons",null,null,null,{"$f":"IF(Q69=\"\",\"\",(K70+Q69))","v":""},null,{"$f":"IF(S69=\"\",\"\",(Q70+S69))","v":""},null,{"$f":"IF(U69=\"\",\"\",(S70+U69))","v":""},null,{"$f":"IF(W69=\"\",\"\",(U70+W69))","v":""},null,"Daily Project Total / Cummulative Tons",null,null,null,{"$f":"IF(AC69=\"\",\"\",(W70+AC69))","v":""},null,{"$f":"IF(AE69=\"\",\"\",(AC70+AE69))","v":""},null,{"$f":"IF(AG69=\"\",\"\",(AE70+AG69))","v":""},null,{"$f":"IF(AI69=\"\",\"\",(AG70+AI69))","v":""},null,"Daily Project Total / Cummulative Tons",null,null,null,{"$f":"IF(AO69=\"\",\"\",(AI70+AO69))","v":""},null,{"$f":"IF(AQ69=\"\",\"\",(AO70+AQ69))","v":""},null,{"$f":"IF(AS69=\"\",\"\",(AQ70+AS69))","v":""},null,{"$f":"IF(AU69=\"\",\"\",(AS70+AU69))","v":""},null,"Daily Project Total / Cummulative Tons",null,null,null,{"$f":"IF(BA69=\"\",\"\",(AU70+BA69))","v":""},null,{"$f":"IF(BC69=\"\",\"\",(BA70+BC69))","v":""},null,{"$f":"IF(BE69=\"\",\"\",(BC70+BE69))","v":""},null,{"$f":"IF(BG69=\"\",\"\",(BE70+BG69))","v":""},null,"Daily Project Total / Cummulative Tons",null,null,null,{"$f":"IF(BM69=\"\",\"\",(BG70+BM69))","v":""},null,{"$f":"IF(BO69=\"\",\"\",(BM70+BO69))","v":""},null,{"$f":"IF(BQ69=\"\",\"\",(BO70+BQ69))","v":""},null,{"$f":"IF(BS69=\"\",\"\",(BQ70+BS69))","v":""},null,"Daily Project Total / Cummulative Tons",null,null,null,{"$f":"IF(BY69=\"\",\"\",(BS70+BY69))","v":""},null,{"$f":"IF(CA69=\"\",\"\",(BY70+CA69))","v":""},null,{"$f":"IF(CC69=\"\",\"\",(CA70+CC69))","v":""},null,{"$f":"IF(CE69=\"\",\"\",(CC70+CE69))","v":""},null,"Daily Project Total / Cummulative Tons",null,null,null,{"$f":"IF(CK69=\"\",\"\",(CE70+CK69))","v":""},null,{"$f":"IF(CM69=\"\",\"\",(CK70+CM69))","v":""},null,{"$f":"IF(CO69=\"\",\"\",(CM70+CO69))","v":""},null,{"$f":"IF(CQ69=\"\",\"\",(CO70+CQ69))","v":""},null,"Daily Project Total / Cummulative Tons",null,null,null,{"$f":"IF(CW69=\"\",\"\",(CQ70+CW69))","v":""},null,{"$f":"IF(CY69=\"\",\"\",(CW70+CY69))","v":""},null,{"$f":"IF(DA69=\"\",\"\",(CY70+DA69))","v":""},null,{"$f":"IF(DC69=\"\",\"\",(DA70+DC69))","v":""},null,"Daily Project Total / Cummulative Tons",null,null,null,{"$f":"IF(DI69=\"\",\"\",(DC70+DI69))","v":""},null,{"$f":"IF(DK69=\"\",\"\",(DI70+DK69))","v":""},null,{"$f":"IF(DM69=\"\",\"\",(DK70+DM69))","v":""},null,{"$f":"IF(DO69=\"\",\"\",(DM70+DO69))","v":""},null,"Daily Project Total / Cummulative Tons",null,null,null,{"$f":"IF(DU69=\"\",\"\",(DO70+DU69))","v":""},null,{"$f":"IF(DW69=\"\",\"\",(DU70+DW69))","v":""},null,{"$f":"IF(DY69=\"\",\"\",(DW70+DY69))","v":""},null,{"$f":"IF(EA69=\"\",\"\",(DY70+EA69))","v":""},null,"Daily Project Total / Cummulative Tons",null,null,null,{"$f":"IF(EG69=\"\",\"\",(EA70+EG69))","v":""},null,{"$f":"IF(EI69=\"\",\"\",(EG70+EI69))","v":""},null,{"$f":"IF(EK69=\"\",\"\",(EI70+EK69))","v":""},null,{"$f":"IF(EM69=\"\",\"\",(EK70+EM69))","v":""},null,"Daily Project Total / Cummulative Tons",null,null,null,{"$f":"IF(ES69=\"\",\"\",(EM70+ES69))","v":""},null,{"$f":"IF(EU69=\"\",\"\",(ES70+EU69))","v":""},null,{"$f":"IF(EW69=\"\",\"\",(EU70+EW69))","v":""},null,{"$f":"IF(EY69=\"\",\"\",(EW70+EY69))","v":""},null,"Daily Project Total / Cummulative Tons",null,null,null,{"$f":"IF(FE69=\"\",\"\",(EY70+FE69))","v":""},null,{"$f":"IF(FG69=\"\",\"\",(FE70+FG69))","v":""},null,{"$f":"IF(FI69=\"\",\"\",(FG70+FI69))","v":""},null,{"$f":"IF(FK69=\"\",\"\",(FI70+FK69))","v":""},null,"Daily Project Total / Cummulative Tons",null,null,null,{"$f":"IF(FQ69=\"\",\"\",(FK70+FQ69))","v":""},null,{"$f":"IF(FS69=\"\",\"\",(FQ70+FS69))","v":""},null,{"$f":"IF(FU69=\"\",\"\",(FS70+FU69))","v":""},null,{"$f":"IF(FW69=\"\",\"\",(FU70+FW69))","v":""},null,"Daily Project Total / Cummulative Tons",null,null,null,{"$f":"IF(GC69=\"\",\"\",(FW70+GC69))","v":""},null,{"$f":"IF(GE69=\"\",\"\",(GC70+GE69))","v":""},null,{"$f":"IF(GG69=\"\",\"\",(GE70+GG69))","v":""},null,{"$f":"IF(GI69=\"\",\"\",(GG70+GI69))","v":""},null,"Daily Project Total / Cummulative Tons",null,null,null,{"$f":"IF(GO69=\"\",\"\",(GI70+GO69))","v":""},null,{"$f":"IF(GQ69=\"\",\"\",(GO70+GQ69))","v":""},null,{"$f":"IF(GS69=\"\",\"\",(GQ70+GS69))","v":""},null,{"$f":"IF(GU69=\"\",\"\",(GS70+GU69))","v":""},null,"Daily Project Total / Cummulative Tons",null,null,null,{"$f":"IF(HA69=\"\",\"\",(GU70+HA69))","v":""},null,{"$f":"IF(HC69=\"\",\"\",(HA70+HC69))","v":""},null,{"$f":"IF(HE69=\"\",\"\",(HC70+HE69))","v":""},null,{"$f":"IF(HG69=\"\",\"\",(HE70+HG69))","v":""},null,"Daily Project Total / Cummulative Tons",null,null,null,{"$f":"IF(HM69=\"\",\"\",(HG70+HM69))","v":""},null,{"$f":"IF(HO69=\"\",\"\",(HM70+HO69))","v":""},null,{"$f":"IF(HQ69=\"\",\"\",(HO70+HQ69))","v":""},null,{"$f":"IF(HS69=\"\",\"\",(HQ70+HS69))","v":""},null,"Daily Project Total / Cummulative Tons",null,null,null,{"$f":"IF(HY69=\"\",\"\",(HS70+HY69))","v":""},null,{"$f":"IF(IA69=\"\",\"\",(HY70+IA69))","v":""},null,{"$f":"IF(IC69=\"\",\"\",(IA70+IC69))","v":""},null,{"$f":"IF(IE69=\"\",\"\",(IC70+IE69))","v":""},null,"Daily Project Total / Cummulative Tons",null,null,null,{"$f":"IF(IK69=\"\",\"\",(IE70+IK69))","v":""},null,{"$f":"IF(IM69=\"\",\"\",(IK70+IM69))","v":""},null,{"$f":"IF(IO69=\"\",\"\",(IM70+IO69))","v":""},null,{"$f":"IF(IQ69=\"\",\"\",(IO70+IQ69))","v":""},null,null,0,"Agency AFT Substituted"]
["*NOTES*",null,null,null,null,null,null,null,null,null,null,null,"*NOTES*",null,null,null,null,null,null,null,null,null,null,null,"*NOTES*",null,null,null,null,null,null,null,null,null,null,null,"*NOTES*",null,null,null,null,null,null,null,null,null,null,null,"*NOTES*",null,null,null,null,null,null,null,null,null,null,null,"*NOTES*",null,null,null,null,null,null,null,null,null,null,null,"*NOTES*",null,null,null,null,null,null,null,null,null,null,null,"*NOTES*",null,null,null,null,null,null,null,null,null,null,null,"*NOTES*",null,null,null,null,null,null,null,null,null,null,null,"*NOTES*",null,null,null,null,null,null,null,null,null,null,null,"*NOTES*",null,null,null,null,null,null,null,null,null,null,null,"*NOTES*",null,null,null,null,null,null,null,null,null,null,null,"*NOTES*",null,null,null,null,null,null,null,null,null,null,null,"*NOTES*",null,null,null,null,null,null,null,null,null,null,null,"*NOTES*",null,null,null,null,null,null,null,null,null,null,null,"*NOTES*",null,null,null,null,null,null,null,null,null,null,null,"*NOTES*",null,null,null,null,null,null,null,null,null,null,null,"*NOTES*",null,null,null,null,null,null,null,null,null,null,null,"*NOTES*",null,null,null,null,null,null,null,null,{"$f":"IF(IT112>0.1,IU112,\"\")","v":""},null,null,"*NOTES*",null,null,{"$f":"IF(IT113>0.1,IU113,\"\")","v":""},null,{"$f":"IF(IT114>0.1,IU114,\"\")","v":""},null,{"$f":"IF(IT115>0.1,IU115,\"\")","v":""},null,null,null,null,"*NOTES*",null,null,null,null,null,null,null,null,null,null,null,null,0,"Agency AFT Substituted"]
[null,"Quality",null,null,null,null,null,null,null,null,null,null,"Indiviual","Quality",null,null,null,null,null,null,null,null,null,null,"Indiviual","Quality",null,null,null,null,null,null,null,null,null,null,"Indiviual","Quality",null,null,null,null,null,null,null,null,null,null,"Indiviual","Quality",null,null,null,null,null,null,null,null,null,null,"Indiviual","Quality",null,null,null,null,null,null,null,null,null,null,"Indiviual","Quality",null,null,null,null,null,null,null,null,null,null,"Indiviual","Quality",null,null,null,null,null,null,null,null,null,null,"Indiviual","Quality",null,null,null,null,null,null,null,null,null,null,"Indiviual","Quality",null,null,null,null,null,null,null,null,null,null,"Indiviual","Quality",null,null,null,null,null,null,null,null,null,null,"Indiviual","Quality",null,null,null,null,null,null,null,null,null,null,"Indiviual","Quality",null,null,null,null,null,null,null,null,null,null,"Indiviual","Quality",null,null,null,null,null,null,null,null,null,null,"Indiviual","Quality",null,null,null,null,null,null,null,null,null,null,"Indiviual","Quality",null,null,null,null,null,null,null,null,null,null,"Indiviual","Quality",null,null,null,null,null,null,null,null,null,null,"Indiviual","Quality",null,null,null,null,null,null,null,null,null,null,"Indiviual","Quality",null,null,null,null,null,null,null,null,null,null,"Indiviual","Quality",null,null,null,null,null,null,null,null,null,null,"Indiviual","Quality",null,null,null,null,null,null,null,null,null,null,null,0,"Agency AFT Substituted"]
[null," Control",null,null,null,null,null,null,null,null,null,null,"Failures"," Control",null,null,null,null,null,null,null,null,null,null,"Failures"," Control",null,null,null,null,null,null,null,null,null,null,"Failures"," Control",null,null,null,null,null,null,null,null,null,null,"Failures"," Control",null,null,null,null,null,null,null,null,null,null,"Failures"," Control",null,null,null,null,null,null,null,null,null,null,"Failures"," Control",null,null,null,null,null,null,null,null,null,null,"Failures"," Control",null,null,null,null,null,null,null,null,null,null,"Failures"," Control",null,null,null,null,null,null,null,null,null,null,"Failures"," Control",null,null,null,null,null,null,null,null,null,null,"Failures"," Control",null,null,null,null,null,null,null,null,null,null,"Failures"," Control",null,null,null,null,null,null,null,null,null,null,"Failures"," Control",null,null,null,null,null,null,null,null,null,null,"Failures"," Control",null,null,null,null,null,null,null,null,null,null,"Failures"," Control",null,null,null,null,null,null,null,null,null,null,"Failures"," Control",null,null,null,null,null,null,null,null,null,null,"Failures"," Control",null,null,null,null,null,null,null,null,null,null,"Failures"," Control",null,null,null,null,null,null,null,null,null,null,"Failures"," Control",null,null,null,null,null,null,null,null,null,null,"Failures"," Control",null,null,null,null,null,null,null,null,null,null,"Failures"," Control",null,null,null,null,null,null,null,null,null,null,null,0,"Agency AFT Substituted"]
[null,"Actions",null,null,null,null,null,null,null,null,null,null," Tolerance","Actions",null,null,null,null,null,null,null,null,null,null," Tolerance","Actions",null,null,null,null,null,null,null,null,null,null," Tolerance","Actions",null,null,null,null,null,null,null,null,null,null," Tolerance","Actions",null,null,null,null,null,null,null,null,null,null," Tolerance","Actions",null,null,null,null,null,null,null,null,null,null," Tolerance","Actions",null,null,null,null,null,null,null,null,null,null," Tolerance","Actions",null,null,null,null,null,null,null,null,null,null," Tolerance","Actions",null,null,null,null,null,null,null,null,null,null," Tolerance","Actions",null,null,null,null,null,null,null,null,null,null," Tolerance","Actions",null,null,null,null,null,null,null,null,null,null," Tolerance","Actions",null,null,null,null,null,null,null,null,null,null," Tolerance","Actions",null,null,null,null,null,null,null,null,null,null," Tolerance","Actions",null,null,null,null,null,null,null,null,null,null," Tolerance","Actions",null,null,null,null,null,null,null,null,null,null," Tolerance","Actions",null,null,null,null,null,null,null,null,null,null," Tolerance","Actions",null,null,null,null,null,null,null,null,null,null," Tolerance","Actions",null,null,null,null,null,null,null,null,null,null," Tolerance","Actions",null,null,null,null,null,null,null,null,null,null," Tolerance","Actions",null,null,null,null,null,null,null,null,null,null," Tolerance","Actions",null,null,null,null,null,null,null,null,null,null,null,0,"Agency AFT Substituted"]
[null,null,null,null,null,null,null,null,null,null,null,null,"Note",null,null,null,null,null,null,null,null,null,null,null,"Note",null,null,null,null,null,null,null,null,null,null,null,"Note",null,null,null,null,null,null,null,null,null,null,null,"Note",null,null,null,null,null,null,null,null,null,null,null,"Note",null,null,null,null,null,null,null,null,null,null,null,"Note",null,null,null,null,null,null,null,null,null,null,null,"Note",null,null,null,null,null,null,null,null,null,null,null,"Note",null,null,null,null,null,null,null,null,null,null,null,"Note",null,null,null,null,null,null,null,null,null,null,null,"Note",null,null,null,null,null,null,null,null,null,null,null,"Note",null,null,null,null,null,null,null,null,null,null,null,"Note",null,null,null,null,null,null,null,null,null,null,null,"Note",null,null,null,null,null,null,null,null,null,null,null,"Note",null,null,null,null,null,null,null,null,null,null,null,"Note",null,null,null,null,null,null,null,null,null,null,null,"Note",null,null,null,null,null,null,null,null,null,null,null,"Note",null,null,null,null,null,null,null,null,null,null,null,"Note",null,null,null,null,null,null,null,null,null,null,null,"Note",null,null,null,null,null,null,null,null,null,null,null,"Note",null,null,null,null,null,null,null,null,null,null,null,null,0,"Agency AFT Substituted"]
["Source #","Aggregate Source",null,"Agg. SpG.","% of mix","Agg. SpG.","% of mix","Agg. SpG.","% of mix","Agg. SpG.","% of mix",null,"Source #","Aggregate Source",null,"Agg. SpG.","% of mix","Agg. SpG.","% of mix","Agg. SpG.","% of mix","Agg. SpG.","% of mix",null,"Source #","Aggregate Source",null,"Agg. SpG.","% of mix","Agg. SpG.","% of mix","Agg. SpG.","% of mix","Agg. SpG.","% of mix",null,"Source #","Aggregate Source",null,"Agg. SpG.","% of mix","Agg. SpG.","% of mix","Agg. SpG.","% of mix","Agg. SpG.","% of mix",null,"Source #","Aggregate Source",null,"Agg. SpG.","% of mix","Agg. SpG.","% of mix","Agg. SpG.","% of mix","Agg. SpG.","% of mix",null,"Source #","Aggregate Source",null,"Agg. SpG.","% of mix","Agg. SpG.","% of mix","Agg. SpG.","% of mix","Agg. SpG.","% of mix",null,"Source #","Aggregate Source",null,"Agg. SpG.","% of mix","Agg. SpG.","% of mix","Agg. SpG.","% of mix","Agg. SpG.","% of mix",null,"Source #","Aggregate Source",null,"Agg. SpG.","% of mix","Agg. SpG.","% of mix","Agg. SpG.","% of mix","Agg. SpG.","% of mix",null,"Source #","Aggregate Source",null,"Agg. SpG.","% of mix","Agg. SpG.","% of mix","Agg. SpG.","% of mix","Agg. SpG.","% of mix",null,"Source #","Aggregate Source",null,"Agg. SpG.","% of mix","Agg. SpG.","% of mix","Agg. SpG.","% of mix","Agg. SpG.","% of mix",null,"Source #","Aggregate Source",null,"Agg. SpG.","% of mix","Agg. SpG.","% of mix","Agg. SpG.","% of mix","Agg. SpG.","% of mix",null,"Source #","Aggregate Source",null,"Agg. SpG.","% of mix","Agg. SpG.","% of mix","Agg. SpG.","% of mix","Agg. SpG.","% of mix",null,"Source #","Aggregate Source",null,"Agg. SpG.","% of mix","Agg. SpG.","% of mix","Agg. SpG.","% of mix","Agg. SpG.","% of mix",null,"Source #","Aggregate Source",null,"Agg. SpG.","% of mix","Agg. SpG.","% of mix","Agg. SpG.","% of mix","Agg. SpG.","% of mix",null,"Source #","Aggregate Source",null,"Agg. SpG.","% of mix","Agg. SpG.","% of mix","Agg. SpG.","% of mix","Agg. SpG.","% of mix",null,"Source #","Aggregate Source",null,"Agg. SpG.","% of mix","Agg. SpG.","% of mix","Agg. SpG.","% of mix","Agg. SpG.","% of mix",null,"Source #","Aggregate Source",null,"Agg. SpG.","% of mix","Agg. SpG.","% of mix","Agg. SpG.","% of mix","Agg. SpG.","% of mix",null,"Source #","Aggregate Source",null,"Agg. SpG.","% of mix","Agg. SpG.","% of mix","Agg. SpG.","% of mix","Agg. SpG.","% of mix",null,"Source #","Aggregate Source",null,"Agg. SpG.","% of mix","Agg. SpG.","% of mix","Agg. SpG.","% of mix","Agg. SpG.","% of mix",null,"Source #","Aggregate Source",null,"Agg. SpG.","% of mix","Agg. SpG.","% of mix","Agg. SpG.","% of mix","Agg. SpG.","% of mix",null,"Source #","Aggregate Source",null,"Agg. SpG.","% of mix","Agg. SpG.","% of mix","Agg. SpG.","% of mix","Agg. SpG.","% of mix",null,null,0,"Agency AFT Substituted"]
[null,null,null,{"$f":"100/((E86/D86)+(E87/D87))","v":{"$error":"#DIV/0!"}},{"$f":"100/((E86*MDR!$AV$6/(MDR!BG200*E112))+(E87*MDR!$AW$6/(MDR!BG201*E112)))","v":{"$error":"#DIV/0!"}},{"$f":"100/((G86/F86)+(G87/F87))","v":{"$error":"#VALUE!"}},{"$f":"100/((G86*MDR!$AV$6/(MDR!BI200*G112))+(G87*MDR!$AW$6/(MDR!BI201*G112)))","v":{"$error":"#VALUE!"}},{"$f":"100/((I86/H86)+(I87/H87))","v":{"$error":"#VALUE!"}},{"$f":"100/((I86*MDR!$AV$6/(MDR!BK200*I112))+(I87*MDR!$AW$6/(MDR!BK201*I112)))","v":{"$error":"#VALUE!"}},{"$f":"100/((K86/J86)+(K87/J87))","v":{"$error":"#VALUE!"}},{"$f":"100/((K86*MDR!$AV$6/(MDR!BM200*K112))+(K87*MDR!$AW$6/(MDR!BM201*K112)))","v":{"$error":"#VALUE!"}},null,null,null,null,{"$f":"100/((Q86/P86)+(Q87/P87))","v":{"$error":"#VALUE!"}},{"$f":"100/((Q86*MDR!$AV$6/(MDR!BS200*Q112))+(Q87*MDR!$AW$6/(MDR!BS201*Q112)))","v":{"$error":"#VALUE!"}},{"$f":"100/((S86/R86)+(S87/R87))","v":{"$error":"#VALUE!"}},{"$f":"100/((S86*MDR!$AV$6/(MDR!BU200*S112))+(S87*MDR!$AW$6/(MDR!BU201*S112)))","v":{"$error":"#VALUE!"}},{"$f":"100/((U86/T86)+(U87/T87))","v":{"$error":"#VALUE!"}},{"$f":"100/((U86*MDR!$AV$6/(MDR!BW200*U112))+(U87*MDR!$AW$6/(MDR!BW201*U112)))","v":{"$error":"#VALUE!"}},{"$f":"100/((W86/V86)+(W87/V87))","v":{"$error":"#VALUE!"}},{"$f":"100/((W86*MDR!$AV$6/(MDR!BY200*W112))+(W87*MDR!$AW$6/(MDR!BY201*W112)))","v":{"$error":"#VALUE!"}},null,null,null,null,{"$f":"100/((AC86/AB86)+(AC87/AB87))","v":{"$error":"#VALUE!"}},{"$f":"100/((AC86*MDR!$AV$6/(MDR!CE200*AC112))+(AC87*MDR!$AW$6/(MDR!CE201*AC112)))","v":{"$error":"#VALUE!"}},{"$f":"100/((AE86/AD86)+(AE87/AD87))","v":{"$error":"#VALUE!"}},{"$f":"100/((AE86*MDR!$AV$6/(MDR!CG200*AE112))+(AE87*MDR!$AW$6/(MDR!CG201*AE112)))","v":{"$error":"#VALUE!"}},{"$f":"100/((AG86/AF86)+(AG87/AF87))","v":{"$error":"#VALUE!"}},{"$f":"100/((AG86*MDR!$AV$6/(MDR!CI200*AG112))+(AG87*MDR!$AW$6/(MDR!CI201*AG112)))","v":{"$error":"#VALUE!"}},{"$f":"100/((AI86/AH86)+(AI87/AH87))","v":{"$error":"#VALUE!"}},{"$f":"100/((AI86*MDR!$AV$6/(MDR!CK200*AI112))+(AI87*MDR!$AW$6/(MDR!CK201*AI112)))","v":{"$error":"#VALUE!"}},null,null,null,null,{"$f":"100/((AO86/AN86)+(AO87/AN87))","v":{"$error":"#VALUE!"}},{"$f":"100/((AO86*MDR!$AV$6/(MDR!CQ200*AO112))+(AO87*MDR!$AW$6/(MDR!CQ201*AO112)))","v":{"$error":"#VALUE!"}},{"$f":"100/((AQ86/AP86)+(AQ87/AP87))","v":{"$error":"#VALUE!"}},{"$f":"100/((AQ86*MDR!$AV$6/(MDR!CS200*AQ112))+(AQ87*MDR!$AW$6/(MDR!CS201*AQ112)))","v":{"$error":"#VALUE!"}},{"$f":"100/((AS86/AR86)+(AS87/AR87))","v":{"$error":"#VALUE!"}},{"$f":"100/((AS86*MDR!$AV$6/(MDR!CU200*AS112))+(AS87*MDR!$AW$6/(MDR!CU201*AS112)))","v":{"$error":"#VALUE!"}},{"$f":"100/((AU86/AT86)+(AU87/AT87))","v":{"$error":"#VALUE!"}},{"$f":"100/((AU86*MDR!$AV$6/(MDR!CW200*AU112))+(AU87*MDR!$AW$6/(MDR!CW201*AU112)))","v":{"$error":"#VALUE!"}},null,null,null,null,{"$f":"100/((BA86/AZ86)+(BA87/AZ87))","v":{"$error":"#VALUE!"}},{"$f":"100/((BA86*MDR!$AV$6/(MDR!DC200*BA112))+(BA87*MDR!$AW$6/(MDR!DC201*BA112)))","v":{"$error":"#VALUE!"}},{"$f":"100/((BC86/BB86)+(BC87/BB87))","v":{"$error":"#VALUE!"}},{"$f":"100/((BC86*MDR!$AV$6/(MDR!DE200*BC112))+(BC87*MDR!$AW$6/(MDR!DE201*BC112)))","v":{"$error":"#VALUE!"}},{"$f":"100/((BE86/BD86)+(BE87/BD87))","v":{"$error":"#VALUE!"}},{"$f":"100/((BE86*MDR!$AV$6/(MDR!DG200*BE112))+(BE87*MDR!$AW$6/(MDR!DG201*BE112)))","v":{"$error":"#VALUE!"}},{"$f":"100/((BG86/BF86)+(BG87/BF87))","v":{"$error":"#VALUE!"}},{"$f":"100/((BG86*MDR!$AV$6/(MDR!DI200*BG112))+(BG87*MDR!$AW$6/(MDR!DI201*BG112)))","v":{"$error":"#VALUE!"}},null,null,null,null,{"$f":"100/((BM86/BL86)+(BM87/BL87))","v":{"$error":"#VALUE!"}},{"$f":"100/((BM86*MDR!$AV$6/(MDR!DO200*BM112))+(BM87*MDR!$AW$6/(MDR!DO201*BM112)))","v":{"$error":"#VALUE!"}},{"$f":"100/((BO86/BN86)+(BO87/BN87))","v":{"$error":"#VALUE!"}},{"$f":"100/((BO86*MDR!$AV$6/(MDR!DQ200*BO112))+(BO87*MDR!$AW$6/(MDR!DQ201*BO112)))","v":{"$error":"#VALUE!"}},{"$f":"100/((BQ86/BP86)+(BQ87/BP87))","v":{"$error":"#VALUE!"}},{"$f":"100/((BQ86*MDR!$AV$6/(MDR!DS200*BQ112))+(BQ87*MDR!$AW$6/(MDR!DS201*BQ112)))","v":{"$error":"#VALUE!"}},{"$f":"100/((BS86/BR86)+(BS87/BR87))","v":{"$error":"#VALUE!"}},{"$f":"100/((BS86*MDR!$AV$6/(MDR!DU200*BS112))+(BS87*MDR!$AW$6/(MDR!DU201*BS112)))","v":{"$error":"#VALUE!"}},null,null,null,null,{"$f":"100/((BY86/BX86)+(BY87/BX87))","v":{"$error":"#VALUE!"}},{"$f":"100/((BY86*MDR!$AV$6/(MDR!EA200*BY112))+(BY87*MDR!$AW$6/(MDR!EA201*BY112)))","v":{"$error":"#VALUE!"}},{"$f":"100/((CA86/BZ86)+(CA87/BZ87))","v":{"$error":"#VALUE!"}},{"$f":"100/((CA86*MDR!$AV$6/(MDR!EC200*CA112))+(CA87*MDR!$AW$6/(MDR!EC201*CA112)))","v":{"$error":"#VALUE!"}},{"$f":"100/((CC86/CB86)+(CC87/CB87))","v":{"$error":"#VALUE!"}},{"$f":"100/((CC86*MDR!$AV$6/(MDR!EE200*CC112))+(CC87*MDR!$AW$6/(MDR!EE201*CC112)))","v":{"$error":"#VALUE!"}},{"$f":"100/((CE86/CD86)+(CE87/CD87))","v":{"$error":"#VALUE!"}},{"$f":"100/((CE86*MDR!$AV$6/(MDR!EG200*CE112))+(CE87*MDR!$AW$6/(MDR!EG201*CE112)))","v":{"$error":"#VALUE!"}},null,null,null,null,{"$f":"100/((CK86/CJ86)+(CK87/CJ87))","v":{"$error":"#VALUE!"}},{"$f":"100/((CK86*MDR!$AV$6/(MDR!EM200*CK112))+(CK87*MDR!$AW$6/(MDR!EM201*CK112)))","v":{"$error":"#VALUE!"}},{"$f":"100/((CM86/CL86)+(CM87/CL87))","v":{"$error":"#VALUE!"}},{"$f":"100/((CM86*MDR!$AV$6/(MDR!EO200*CM112))+(CM87*MDR!$AW$6/(MDR!EO201*CM112)))","v":{"$error":"#VALUE!"}},{"$f":"100/((CO86/CN86)+(CO87/CN87))","v":{"$error":"#VALUE!"}},{"$f":"100/((CO86*MDR!$AV$6/(MDR!EQ200*CO112))+(CO87*MDR!$AW$6/(MDR!EQ201*CO112)))","v":{"$error":"#VALUE!"}},{"$f":"100/((CQ86/CP86)+(CQ87/CP87))","v":{"$error":"#VALUE!"}},{"$f":"100/((CQ86*MDR!$AV$6/(MDR!ES200*CQ112))+(CQ87*MDR!$AW$6/(MDR!ES201*CQ112)))","v":{"$error":"#VALUE!"}},null,null,null,null,{"$f":"100/((CW86/CV86)+(CW87/CV87))","v":{"$error":"#VALUE!"}},{"$f":"100/((CW86*MDR!$AV$6/(MDR!EY200*CW112))+(CW87*MDR!$AW$6/(MDR!EY201*CW112)))","v":{"$error":"#VALUE!"}},{"$f":"100/((CY86/CX86)+(CY87/CX87))","v":{"$error":"#VALUE!"}},{"$f":"100/((CY86*MDR!$AV$6/(MDR!FA200*CY112))+(CY87*MDR!$AW$6/(MDR!FA201*CY112)))","v":{"$error":"#VALUE!"}},{"$f":"100/((DA86/CZ86)+(DA87/CZ87))","v":{"$error":"#VALUE!"}},{"$f":"100/((DA86*MDR!$AV$6/(MDR!FC200*DA112))+(DA87*MDR!$AW$6/(MDR!FC201*DA112)))","v":{"$error":"#VALUE!"}},{"$f":"100/((DC86/DB86)+(DC87/DB87))","v":{"$error":"#VALUE!"}},{"$f":"100/((DC86*MDR!$AV$6/(MDR!FE200*DC112))+(DC87*MDR!$AW$6/(MDR!FE201*DC112)))","v":{"$error":"#VALUE!"}},null,null,null,null,{"$f":"100/((DI86/DH86)+(DI87/DH87))","v":{"$error":"#VALUE!"}},{"$f":"100/((DI86*MDR!$AV$6/(MDR!FK200*DI112))+(DI87*MDR!$AW$6/(MDR!FK201*DI112)))","v":{"$error":"#VALUE!"}},{"$f":"100/((DK86/DJ86)+(DK87/DJ87))","v":{"$error":"#VALUE!"}},{"$f":"100/((DK86*MDR!$AV$6/(MDR!FM200*DK112))+(DK87*MDR!$AW$6/(MDR!FM201*DK112)))","v":{"$error":"#VALUE!"}},{"$f":"100/((DM86/DL86)+(DM87/DL87))","v":{"$error":"#VALUE!"}},{"$f":"100/((DM86*MDR!$AV$6/(MDR!FO200*DM112))+(DM87*MDR!$AW$6/(MDR!FO201*DM112)))","v":{"$error":"#VALUE!"}},{"$f":"100/((DO86/DN86)+(DO87/DN87))","v":{"$error":"#VALUE!"}},{"$f":"100/((DO86*MDR!$AV$6/(MDR!FQ200*DO112))+(DO87*MDR!$AW$6/(MDR!FQ201*DO112)))","v":{"$error":"#VALUE!"}},null,null,null,null,{"$f":"100/((DU86/DT86)+(DU87/DT87))","v":{"$error":"#VALUE!"}},{"$f":"100/((DU86*MDR!$AV$6/(MDR!FW200*DU112))+(DU87*MDR!$AW$6/(MDR!FW201*DU112)))","v":{"$error":"#VALUE!"}},{"$f":"100/((DW86/DV86)+(DW87/DV87))","v":{"$error":"#VALUE!"}},{"$f":"100/((DW86*MDR!$AV$6/(MDR!FY200*DW112))+(DW87*MDR!$AW$6/(MDR!FY201*DW112)))","v":{"$error":"#VALUE!"}},{"$f":"100/((DY86/DX86)+(DY87/DX87))","v":{"$error":"#VALUE!"}},{"$f":"100/((DY86*MDR!$AV$6/(MDR!GA200*DY112))+(DY87*MDR!$AW$6/(MDR!GA201*DY112)))","v":{"$error":"#VALUE!"}},{"$f":"100/((EA86/DZ86)+(EA87/DZ87))","v":{"$error":"#VALUE!"}},{"$f":"100/((EA86*MDR!$AV$6/(MDR!GC200*EA112))+(EA87*MDR!$AW$6/(MDR!GC201*EA112)))","v":{"$error":"#VALUE!"}},null,null,null,null,{"$f":"100/((EG86/EF86)+(EG87/EF87))","v":{"$error":"#VALUE!"}},{"$f":"100/((EG86*MDR!$AV$6/(MDR!BG220*EG112))+(EG87*MDR!$AW$6/(MDR!BG221*EG112)))","v":{"$error":"#VALUE!"}},{"$f":"100/((EI86/EH86)+(EI87/EH87))","v":{"$error":"#VALUE!"}},{"$f":"100/((EI86*MDR!$AV$6/(MDR!BI220*EI112))+(EI87*MDR!$AW$6/(MDR!BI221*EI112)))","v":{"$error":"#VALUE!"}},{"$f":"100/((EK86/EJ86)+(EK87/EJ87))","v":{"$error":"#VALUE!"}},{"$f":"100/((EK86*MDR!$AV$6/(MDR!BK220*EK112))+(EK87*MDR!$AW$6/(MDR!BK221*EK112)))","v":{"$error":"#VALUE!"}},{"$f":"100/((EM86/EL86)+(EM87/EL87))","v":{"$error":"#VALUE!"}},{"$f":"100/((EM86*MDR!$AV$6/(MDR!BM220*EM112))+(EM87*MDR!$AW$6/(MDR!BM221*EM112)))","v":{"$error":"#VALUE!"}},null,null,null,null,{"$f":"100/((ES86/ER86)+(ES87/ER87))","v":{"$error":"#VALUE!"}},{"$f":"100/((ES86*MDR!$AV$6/(MDR!BS220*ES112))+(ES87*MDR!$AW$6/(MDR!BS221*ES112)))","v":{"$error":"#VALUE!"}},{"$f":"100/((EU86/ET86)+(EU87/ET87))","v":{"$error":"#VALUE!"}},{"$f":"100/((EU86*MDR!$AV$6/(MDR!BU220*EU112))+(EU87*MDR!$AW$6/(MDR!BU221*EU112)))","v":{"$error":"#VALUE!"}},{"$f":"100/((EW86/EV86)+(EW87/EV87))","v":{"$error":"#VALUE!"}},{"$f":"100/((EW86*MDR!$AV$6/(MDR!BW220*EW112))+(EW87*MDR!$AW$6/(MDR!BW221*EW112)))","v":{"$error":"#VALUE!"}},{"$f":"100/((EY86/EX86)+(EY87/EX87))","v":{"$error":"#VALUE!"}},{"$f":"100/((EY86*MDR!$AV$6/(MDR!BY220*EY112))+(EY87*MDR!$AW$6/(MDR!BY221*EY112)))","v":{"$error":"#VALUE!"}},null,null,null,null,{"$f":"100/((FE86/FD86)+(FE87/FD87))","v":{"$error":"#VALUE!"}},{"$f":"100/((FE86*MDR!$AV$6/(MDR!CE220*FE112))+(FE87*MDR!$AW$6/(MDR!CE221*FE112)))","v":{"$error":"#VALUE!"}},{"$f":"100/((FG86/FF86)+(FG87/FF87))","v":{"$error":"#VALUE!"}},{"$f":"100/((FG86*MDR!$AV$6/(MDR!CG220*FG112))+(FG87*MDR!$AW$6/(MDR!CG221*FG112)))","v":{"$error":"#VALUE!"}},{"$f":"100/((FI86/FH86)+(FI87/FH87))","v":{"$error":"#VALUE!"}},{"$f":"100/((FI86*MDR!$AV$6/(MDR!CI220*FI112))+(FI87*MDR!$AW$6/(MDR!CI221*FI112)))","v":{"$error":"#VALUE!"}},{"$f":"100/((FK86/FJ86)+(FK87/FJ87))","v":{"$error":"#VALUE!"}},{"$f":"100/((FK86*MDR!$AV$6/(MDR!CK220*FK112))+(FK87*MDR!$AW$6/(MDR!CK221*FK112)))","v":{"$error":"#VALUE!"}},null,null,null,null,{"$f":"100/((FQ86/FP86)+(FQ87/FP87))","v":{"$error":"#VALUE!"}},{"$f":"100/((FQ86*MDR!$AV$6/(MDR!CQ220*FQ112))+(FQ87*MDR!$AW$6/(MDR!CQ221*FQ112)))","v":{"$error":"#VALUE!"}},{"$f":"100/((FS86/FR86)+(FS87/FR87))","v":{"$error":"#VALUE!"}},{"$f":"100/((FS86*MDR!$AV$6/(MDR!CS220*FS112))+(FS87*MDR!$AW$6/(MDR!CS221*FS112)))","v":{"$error":"#VALUE!"}},{"$f":"100/((FU86/FT86)+(FU87/FT87))","v":{"$error":"#VALUE!"}},{"$f":"100/((FU86*MDR!$AV$6/(MDR!CU220*FU112))+(FU87*MDR!$AW$6/(MDR!CU221*FU112)))","v":{"$error":"#VALUE!"}},{"$f":"100/((FW86/FV86)+(FW87/FV87))","v":{"$error":"#VALUE!"}},{"$f":"100/((FW86*MDR!$AV$6/(MDR!CW220*FW112))+(FW87*MDR!$AW$6/(MDR!CW221*FW112)))","v":{"$error":"#VALUE!"}},null,null,null,null,{"$f":"100/((GC86/GB86)+(GC87/GB87))","v":{"$error":"#VALUE!"}},{"$f":"100/((GC86*MDR!$AV$6/(MDR!DC220*GC112))+(GC87*MDR!$AW$6/(MDR!DC221*GC112)))","v":{"$error":"#VALUE!"}},{"$f":"100/((GE86/GD86)+(GE87/GD87))","v":{"$error":"#VALUE!"}},{"$f":"100/((GE86*MDR!$AV$6/(MDR!DE220*GE112))+(GE87*MDR!$AW$6/(MDR!DE221*GE112)))","v":{"$error":"#VALUE!"}},{"$f":"100/((GG86/GF86)+(GG87/GF87))","v":{"$error":"#VALUE!"}},{"$f":"100/((GG86*MDR!$AV$6/(MDR!DG220*GG112))+(GG87*MDR!$AW$6/(MDR!DG221*GG112)))","v":{"$error":"#VALUE!"}},{"$f":"100/((GI86/GH86)+(GI87/GH87))","v":{"$error":"#VALUE!"}},{"$f":"100/((GI86*MDR!$AV$6/(MDR!DI220*GI112))+(GI87*MDR!$AW$6/(MDR!DI221*GI112)))","v":{"$error":"#VALUE!"}},null,null,null,null,{"$f":"100/((GO86/GN86)+(GO87/GN87))","v":{"$error":"#VALUE!"}},{"$f":"100/((GO86*MDR!$AV$6/(MDR!DO220*GO112))+(GO87*MDR!$AW$6/(MDR!DO221*GO112)))","v":{"$error":"#VALUE!"}},{"$f":"100/((GQ86/GP86)+(GQ87/GP87))","v":{"$error":"#VALUE!"}},{"$f":"100/((GQ86*MDR!$AV$6/(MDR!DQ220*GQ112))+(GQ87*MDR!$AW$6/(MDR!DQ221*GQ112)))","v":{"$error":"#VALUE!"}},{"$f":"100/((GS86/GR86)+(GS87/GR87))","v":{"$error":"#VALUE!"}},{"$f":"100/((GS86*MDR!$AV$6/(MDR!DS220*GS112))+(GS87*MDR!$AW$6/(MDR!DS221*GS112)))","v":{"$error":"#VALUE!"}},{"$f":"100/((GU86/GT86)+(GU87/GT87))","v":{"$error":"#VALUE!"}},{"$f":"100/((GU86*MDR!$AV$6/(MDR!DU220*GU112))+(GU87*MDR!$AW$6/(MDR!DU221*GU112)))","v":{"$error":"#VALUE!"}},null,null,null,null,{"$f":"100/((HA86/GZ86)+(HA87/GZ87))","v":{"$error":"#VALUE!"}},{"$f":"100/((HA86*MDR!$AV$6/(MDR!EA220*HA112))+(HA87*MDR!$AW$6/(MDR!EA221*HA112)))","v":{"$error":"#VALUE!"}},{"$f":"100/((HC86/HB86)+(HC87/HB87))","v":{"$error":"#VALUE!"}},{"$f":"100/((HC86*MDR!$AV$6/(MDR!EC220*HC112))+(HC87*MDR!$AW$6/(MDR!EC221*HC112)))","v":{"$error":"#VALUE!"}},{"$f":"100/((HE86/HD86)+(HE87/HD87))","v":{"$error":"#VALUE!"}},{"$f":"100/((HE86*MDR!$AV$6/(MDR!EE220*HE112))+(HE87*MDR!$AW$6/(MDR!EE221*HE112)))","v":{"$error":"#VALUE!"}},{"$f":"100/((HG86/HF86)+(HG87/HF87))","v":{"$error":"#VALUE!"}},{"$f":"100/((HG86*MDR!$AV$6/(MDR!EG220*HG112))+(HG87*MDR!$AW$6/(MDR!EG221*HG112)))","v":{"$error":"#VALUE!"}},null,null,null,null,{"$f":"100/((HM86/HL86)+(HM87/HL87))","v":{"$error":"#VALUE!"}},{"$f":"100/((HM86*MDR!$AV$6/(MDR!EM220*HM112))+(HM87*MDR!$AW$6/(MDR!EM221*HM112)))","v":{"$error":"#VALUE!"}},{"$f":"100/((HO86/HN86)+(HO87/HN87))","v":{"$error":"#VALUE!"}},{"$f":"100/((HO86*MDR!$AV$6/(MDR!EO220*HO112))+(HO87*MDR!$AW$6/(MDR!EO221*HO112)))","v":{"$error":"#VALUE!"}},{"$f":"100/((HQ86/HP86)+(HQ87/HP87))","v":{"$error":"#VALUE!"}},{"$f":"100/((HQ86*MDR!$AV$6/(MDR!EQ220*HQ112))+(HQ87*MDR!$AW$6/(MDR!EQ221*HQ112)))","v":{"$error":"#VALUE!"}},{"$f":"100/((HS86/HR86)+(HS87/HR87))","v":{"$error":"#VALUE!"}},{"$f":"100/((HS86*MDR!$AV$6/(MDR!ES220*HS112))+(HS87*MDR!$AW$6/(MDR!ES221*HS112)))","v":{"$error":"#VALUE!"}},null,null,null,null,{"$f":"100/((HY86/HX86)+(HY87/HX87))","v":{"$error":"#VALUE!"}},{"$f":"100/((HY86*MDR!$AV$6/(MDR!EY220*HY112))+(HY87*MDR!$AW$6/(MDR!EY221*HY112)))","v":{"$error":"#VALUE!"}},{"$f":"100/((IA86/HZ86)+(IA87/HZ87))","v":{"$error":"#VALUE!"}},{"$f":"100/((IA86*MDR!$AV$6/(MDR!FA220*IA112))+(IA87*MDR!$AW$6/(MDR!FA221*IA112)))","v":{"$error":"#VALUE!"}},{"$f":"100/((IC86/IB86)+(IC87/IB87))","v":{"$error":"#VALUE!"}},{"$f":"100/((IC86*MDR!$AV$6/(MDR!FC220*IC112))+(IC87*MDR!$AW$6/(MDR!FC221*IC112)))","v":{"$error":"#VALUE!"}},{"$f":"100/((IE86/ID86)+(IE87/ID87))","v":{"$error":"#VALUE!"}},{"$f":"100/((IE86*MDR!$AV$6/(MDR!FE220*IE112))+(IE87*MDR!$AW$6/(MDR!FE221*IE112)))","v":{"$error":"#VALUE!"}},null,null,null,null,{"$f":"100/((IK86/IJ86)+(IK87/IJ87))","v":{"$error":"#VALUE!"}},{"$f":"100/((IK86*MDR!$AV$6/(MDR!FK220*IK112))+(IK87*MDR!$AW$6/(MDR!FK221*IK112)))","v":{"$error":"#VALUE!"}},{"$f":"100/((IM86/IL86)+(IM87/IL87))","v":{"$error":"#VALUE!"}},{"$f":"100/((IM86*MDR!$AV$6/(MDR!FM220*IM112))+(IM87*MDR!$AW$6/(MDR!FM221*IM112)))","v":{"$error":"#VALUE!"}},{"$f":"100/((IO86/IN86)+(IO87/IN87))","v":{"$error":"#VALUE!"}},{"$f":"100/((IO86*MDR!$AV$6/(MDR!FO220*IO112))+(IO87*MDR!$AW$6/(MDR!FO221*IO112)))","v":{"$error":"#VALUE!"}},{"$f":"100/((IQ86/IP86)+(IQ87/IP87))","v":{"$error":"#VALUE!"}},{"$f":"100/((IQ86*MDR!$AV$6/(MDR!FQ220*IQ112))+(IQ87*MDR!$AW$6/(MDR!FQ221*IQ112)))","v":{"$error":"#VALUE!"}},null,null,{"$f":"#REF!","v":{"$error":"#REF!"}},"Agency AFT Substituted"]
[null,null,null,{"$f":"100/((E86/D86)+(E87/D87)+(E88/D88))","v":{"$error":"#DIV/0!"}},{"$f":"100/((E86*MDR!$AV$6/(MDR!BG200*E113))+(E87*MDR!$AW$6/(MDR!BG201*E113))+(E88*MDR!$AX$6/(MDR!BG202*E113)))","v":{"$error":"#DIV/0!"}},{"$f":"100/((G86/F86)+(G87/F87)+(G88/F88))","v":{"$error":"#VALUE!"}},{"$f":"100/((G86*MDR!$AV$6/(MDR!BI200*G113))+(G87*MDR!$AW$6/(MDR!BI201*G113))+(G88*MDR!$AX$6/(MDR!BI202*G113)))","v":{"$error":"#VALUE!"}},{"$f":"100/((I86/H86)+(I87/H87)+(I88/H88))","v":{"$error":"#VALUE!"}},{"$f":"100/((I86*MDR!$AV$6/(MDR!BK200*I113))+(I87*MDR!$AW$6/(MDR!BK201*I113))+(I88*MDR!$AX$6/(MDR!BK202*I113)))","v":{"$error":"#VALUE!"}},{"$f":"100/((K86/J86)+(K87/J87)+(K88/J88))","v":{"$error":"#VALUE!"}},{"$f":"100/((K86*MDR!$AV$6/(MDR!BM200*K113))+(K87*MDR!$AW$6/(MDR!BM201*K113))+(K88*MDR!$AX$6/(MDR!BM202*K113)))","v":{"$error":"#VALUE!"}},null,null,null,null,{"$f":"100/((Q86/P86)+(Q87/P87)+(Q88/P88))","v":{"$error":"#VALUE!"}},{"$f":"100/((Q86*MDR!$AV$6/(MDR!BS200*Q113))+(Q87*MDR!$AW$6/(MDR!BS201*Q113))+(Q88*MDR!$AX$6/(MDR!BS202*Q113)))","v":{"$error":"#VALUE!"}},{"$f":"100/((S86/R86)+(S87/R87)+(S88/R88))","v":{"$error":"#VALUE!"}},{"$f":"100/((S86*MDR!$AV$6/(MDR!BU200*S113))+(S87*MDR!$AW$6/(MDR!BU201*S113))+(S88*MDR!$AX$6/(MDR!BU202*S113)))","v":{"$error":"#VALUE!"}},{"$f":"100/((U86/T86)+(U87/T87)+(U88/T88))","v":{"$error":"#VALUE!"}},{"$f":"100/((U86*MDR!$AV$6/(MDR!BW200*U113))+(U87*MDR!$AW$6/(MDR!BW201*U113))+(U88*MDR!$AX$6/(MDR!BW202*U113)))","v":{"$error":"#VALUE!"}},{"$f":"100/((W86/V86)+(W87/V87)+(W88/V88))","v":{"$error":"#VALUE!"}},{"$f":"100/((W86*MDR!$AV$6/(MDR!BY200*W113))+(W87*MDR!$AW$6/(MDR!BY201*W113))+(W88*MDR!$AX$6/(MDR!BY202*W113)))","v":{"$error":"#VALUE!"}},null,null,null,null,{"$f":"100/((AC86/AB86)+(AC87/AB87)+(AC88/AB88))","v":{"$error":"#VALUE!"}},{"$f":"100/((AC86*MDR!$AV$6/(MDR!CE200*AC113))+(AC87*MDR!$AW$6/(MDR!CE201*AC113))+(AC88*MDR!$AX$6/(MDR!CE202*AC113)))","v":{"$error":"#VALUE!"}},{"$f":"100/((AE86/AD86)+(AE87/AD87)+(AE88/AD88))","v":{"$error":"#VALUE!"}},{"$f":"100/((AE86*MDR!$AV$6/(MDR!CG200*AE113))+(AE87*MDR!$AW$6/(MDR!CG201*AE113))+(AE88*MDR!$AX$6/(MDR!CG202*AE113)))","v":{"$error":"#VALUE!"}},{"$f":"100/((AG86/AF86)+(AG87/AF87)+(AG88/AF88))","v":{"$error":"#VALUE!"}},{"$f":"100/((AG86*MDR!$AV$6/(MDR!CI200*AG113))+(AG87*MDR!$AW$6/(MDR!CI201*AG113))+(AG88*MDR!$AX$6/(MDR!CI202*AG113)))","v":{"$error":"#VALUE!"}},{"$f":"100/((AI86/AH86)+(AI87/AH87)+(AI88/AH88))","v":{"$error":"#VALUE!"}},{"$f":"100/((AI86*MDR!$AV$6/(MDR!CK200*AI113))+(AI87*MDR!$AW$6/(MDR!CK201*AI113))+(AI88*MDR!$AX$6/(MDR!CK202*AI113)))","v":{"$error":"#VALUE!"}},null,null,null,null,{"$f":"100/((AO86/AN86)+(AO87/AN87)+(AO88/AN88))","v":{"$error":"#VALUE!"}},{"$f":"100/((AO86*MDR!$AV$6/(MDR!CQ200*AO113))+(AO87*MDR!$AW$6/(MDR!CQ201*AO113))+(AO88*MDR!$AX$6/(MDR!CQ202*AO113)))","v":{"$error":"#VALUE!"}},{"$f":"100/((AQ86/AP86)+(AQ87/AP87)+(AQ88/AP88))","v":{"$error":"#VALUE!"}},{"$f":"100/((AQ86*MDR!$AV$6/(MDR!CS200*AQ113))+(AQ87*MDR!$AW$6/(MDR!CS201*AQ113))+(AQ88*MDR!$AX$6/(MDR!CS202*AQ113)))","v":{"$error":"#VALUE!"}},{"$f":"100/((AS86/AR86)+(AS87/AR87)+(AS88/AR88))","v":{"$error":"#VALUE!"}},{"$f":"100/((AS86*MDR!$AV$6/(MDR!CU200*AS113))+(AS87*MDR!$AW$6/(MDR!CU201*AS113))+(AS88*MDR!$AX$6/(MDR!CU202*AS113)))","v":{"$error":"#VALUE!"}},{"$f":"100/((AU86/AT86)+(AU87/AT87)+(AU88/AT88))","v":{"$error":"#VALUE!"}},{"$f":"100/((AU86*MDR!$AV$6/(MDR!CW200*AU113))+(AU87*MDR!$AW$6/(MDR!CW201*AU113))+(AU88*MDR!$AX$6/(MDR!CW202*AU113)))","v":{"$error":"#VALUE!"}},null,null,null,null,{"$f":"100/((BA86/AZ86)+(BA87/AZ87)+(BA88/AZ88))","v":{"$error":"#VALUE!"}},{"$f":"100/((BA86*MDR!$AV$6/(MDR!DC200*BA113))+(BA87*MDR!$AW$6/(MDR!DC201*BA113))+(BA88*MDR!$AX$6/(MDR!DC202*BA113)))","v":{"$error":"#VALUE!"}},{"$f":"100/((BC86/BB86)+(BC87/BB87)+(BC88/BB88))","v":{"$error":"#VALUE!"}},{"$f":"100/((BC86*MDR!$AV$6/(MDR!DE200*BC113))+(BC87*MDR!$AW$6/(MDR!DE201*BC113))+(BC88*MDR!$AX$6/(MDR!DE202*BC113)))","v":{"$error":"#VALUE!"}},{"$f":"100/((BE86/BD86)+(BE87/BD87)+(BE88/BD88))","v":{"$error":"#VALUE!"}},{"$f":"100/((BE86*MDR!$AV$6/(MDR!DG200*BE113))+(BE87*MDR!$AW$6/(MDR!DG201*BE113))+(BE88*MDR!$AX$6/(MDR!DG202*BE113)))","v":{"$error":"#VALUE!"}},{"$f":"100/((BG86/BF86)+(BG87/BF87)+(BG88/BF88))","v":{"$error":"#VALUE!"}},{"$f":"100/((BG86*MDR!$AV$6/(MDR!DI200*BG113))+(BG87*MDR!$AW$6/(MDR!DI201*BG113))+(BG88*MDR!$AX$6/(MDR!DI202*BG113)))","v":{"$error":"#VALUE!"}},null,null,null,null,{"$f":"100/((BM86/BL86)+(BM87/BL87)+(BM88/BL88))","v":{"$error":"#VALUE!"}},{"$f":"100/((BM86*MDR!$AV$6/(MDR!DO200*BM113))+(BM87*MDR!$AW$6/(MDR!DO201*BM113))+(BM88*MDR!$AX$6/(MDR!DO202*BM113)))","v":{"$error":"#VALUE!"}},{"$f":"100/((BO86/BN86)+(BO87/BN87)+(BO88/BN88))","v":{"$error":"#VALUE!"}},{"$f":"100/((BO86*MDR!$AV$6/(MDR!DQ200*BO113))+(BO87*MDR!$AW$6/(MDR!DQ201*BO113))+(BO88*MDR!$AX$6/(MDR!DQ202*BO113)))","v":{"$error":"#VALUE!"}},{"$f":"100/((BQ86/BP86)+(BQ87/BP87)+(BQ88/BP88))","v":{"$error":"#VALUE!"}},{"$f":"100/((BQ86*MDR!$AV$6/(MDR!DS200*BQ113))+(BQ87*MDR!$AW$6/(MDR!DS201*BQ113))+(BQ88*MDR!$AX$6/(MDR!DS202*BQ113)))","v":{"$error":"#VALUE!"}},{"$f":"100/((BS86/BR86)+(BS87/BR87)+(BS88/BR88))","v":{"$error":"#VALUE!"}},{"$f":"100/((BS86*MDR!$AV$6/(MDR!DU200*BS113))+(BS87*MDR!$AW$6/(MDR!DU201*BS113))+(BS88*MDR!$AX$6/(MDR!DU202*BS113)))","v":{"$error":"#VALUE!"}},null,null,null,null,{"$f":"100/((BY86/BX86)+(BY87/BX87)+(BY88/BX88))","v":{"$error":"#VALUE!"}},{"$f":"100/((BY86*MDR!$AV$6/(MDR!EA200*BY113))+(BY87*MDR!$AW$6/(MDR!EA201*BY113))+(BY88*MDR!$AX$6/(MDR!EA202*BY113)))","v":{"$error":"#VALUE!"}},{"$f":"100/((CA86/BZ86)+(CA87/BZ87)+(CA88/BZ88))","v":{"$error":"#VALUE!"}},{"$f":"100/((CA86*MDR!$AV$6/(MDR!EC200*CA113))+(CA87*MDR!$AW$6/(MDR!EC201*CA113))+(CA88*MDR!$AX$6/(MDR!EC202*CA113)))","v":{"$error":"#VALUE!"}},{"$f":"100/((CC86/CB86)+(CC87/CB87)+(CC88/CB88))","v":{"$error":"#VALUE!"}},{"$f":"100/((CC86*MDR!$AV$6/(MDR!EE200*CC113))+(CC87*MDR!$AW$6/(MDR!EE201*CC113))+(CC88*MDR!$AX$6/(MDR!EE202*CC113)))","v":{"$error":"#VALUE!"}},{"$f":"100/((CE86/CD86)+(CE87/CD87)+(CE88/CD88))","v":{"$error":"#VALUE!"}},{"$f":"100/((CE86*MDR!$AV$6/(MDR!EG200*CE113))+(CE87*MDR!$AW$6/(MDR!EG201*CE113))+(CE88*MDR!$AX$6/(MDR!EG202*CE113)))","v":{"$error":"#VALUE!"}},null,null,null,null,{"$f":"100/((CK86/CJ86)+(CK87/CJ87)+(CK88/CJ88))","v":{"$error":"#VALUE!"}},{"$f":"100/((CK86*MDR!$AV$6/(MDR!EM200*CK113))+(CK87*MDR!$AW$6/(MDR!EM201*CK113))+(CK88*MDR!$AX$6/(MDR!EM202*CK113)))","v":{"$error":"#VALUE!"}},{"$f":"100/((CM86/CL86)+(CM87/CL87)+(CM88/CL88))","v":{"$error":"#VALUE!"}},{"$f":"100/((CM86*MDR!$AV$6/(MDR!EO200*CM113))+(CM87*MDR!$AW$6/(MDR!EO201*CM113))+(CM88*MDR!$AX$6/(MDR!EO202*CM113)))","v":{"$error":"#VALUE!"}},{"$f":"100/((CO86/CN86)+(CO87/CN87)+(CO88/CN88))","v":{"$error":"#VALUE!"}},{"$f":"100/((CO86*MDR!$AV$6/(MDR!EQ200*CO113))+(CO87*MDR!$AW$6/(MDR!EQ201*CO113))+(CO88*MDR!$AX$6/(MDR!EQ202*CO113)))","v":{"$error":"#VALUE!"}},{"$f":"100/((CQ86/CP86)+(CQ87/CP87)+(CQ88/CP88))","v":{"$error":"#VALUE!"}},{"$f":"100/((CQ86*MDR!$AV$6/(MDR!ES200*CQ113))+(CQ87*MDR!$AW$6/(MDR!ES201*CQ113))+(CQ88*MDR!$AX$6/(MDR!ES202*CQ113)))","v":{"$error":"#VALUE!"}},null,null,null,null,{"$f":"100/((CW86/CV86)+(CW87/CV87)+(CW88/CV88))","v":{"$error":"#VALUE!"}},{"$f":"100/((CW86*MDR!$AV$6/(MDR!EY200*CW113))+(CW87*MDR!$AW$6/(MDR!EY201*CW113))+(CW88*MDR!$AX$6/(MDR!EY202*CW113)))","v":{"$error":"#VALUE!"}},{"$f":"100/((CY86/CX86)+(CY87/CX87)+(CY88/CX88))","v":{"$error":"#VALUE!"}},{"$f":"100/((CY86*MDR!$AV$6/(MDR!FA200*CY113))+(CY87*MDR!$AW$6/(MDR!FA201*CY113))+(CY88*MDR!$AX$6/(MDR!FA202*CY113)))","v":{"$error":"#VALUE!"}},{"$f":"100/((DA86/CZ86)+(DA87/CZ87)+(DA88/CZ88))","v":{"$error":"#VALUE!"}},{"$f":"100/((DA86*MDR!$AV$6/(MDR!FC200*DA113))+(DA87*MDR!$AW$6/(MDR!FC201*DA113))+(DA88*MDR!$AX$6/(MDR!FC202*DA113)))","v":{"$error":"#VALUE!"}},{"$f":"100/((DC86/DB86)+(DC87/DB87)+(DC88/DB88))","v":{"$error":"#VALUE!"}},{"$f":"100/((DC86*MDR!$AV$6/(MDR!FE200*DC113))+(DC87*MDR!$AW$6/(MDR!FE201*DC113))+(DC88*MDR!$AX$6/(MDR!FE202*DC113)))","v":{"$error":"#VALUE!"}},null,null,null,null,{"$f":"100/((DI86/DH86)+(DI87/DH87)+(DI88/DH88))","v":{"$error":"#VALUE!"}},{"$f":"100/((DI86*MDR!$AV$6/(MDR!FK200*DI113))+(DI87*MDR!$AW$6/(MDR!FK201*DI113))+(DI88*MDR!$AX$6/(MDR!FK202*DI113)))","v":{"$error":"#VALUE!"}},{"$f":"100/((DK86/DJ86)+(DK87/DJ87)+(DK88/DJ88))","v":{"$error":"#VALUE!"}},{"$f":"100/((DK86*MDR!$AV$6/(MDR!FM200*DK113))+(DK87*MDR!$AW$6/(MDR!FM201*DK113))+(DK88*MDR!$AX$6/(MDR!FM202*DK113)))","v":{"$error":"#VALUE!"}},{"$f":"100/((DM86/DL86)+(DM87/DL87)+(DM88/DL88))","v":{"$error":"#VALUE!"}},{"$f":"100/((DM86*MDR!$AV$6/(MDR!FO200*DM113))+(DM87*MDR!$AW$6/(MDR!FO201*DM113))+(DM88*MDR!$AX$6/(MDR!FO202*DM113)))","v":{"$error":"#VALUE!"}},{"$f":"100/((DO86/DN86)+(DO87/DN87)+(DO88/DN88))","v":{"$error":"#VALUE!"}},{"$f":"100/((DO86*MDR!$AV$6/(MDR!FQ200*DO113))+(DO87*MDR!$AW$6/(MDR!FQ201*DO113))+(DO88*MDR!$AX$6/(MDR!FQ202*DO113)))","v":{"$error":"#VALUE!"}},null,null,null,null,{"$f":"100/((DU86/DT86)+(DU87/DT87)+(DU88/DT88))","v":{"$error":"#VALUE!"}},{"$f":"100/((DU86*MDR!$AV$6/(MDR!FW200*DU113))+(DU87*MDR!$AW$6/(MDR!FW201*DU113))+(DU88*MDR!$AX$6/(MDR!FW202*DU113)))","v":{"$error":"#VALUE!"}},{"$f":"100/((DW86/DV86)+(DW87/DV87)+(DW88/DV88))","v":{"$error":"#VALUE!"}},{"$f":"100/((DW86*MDR!$AV$6/(MDR!FY200*DW113))+(DW87*MDR!$AW$6/(MDR!FY201*DW113))+(DW88*MDR!$AX$6/(MDR!FY202*DW113)))","v":{"$error":"#VALUE!"}},{"$f":"100/((DY86/DX86)+(DY87/DX87)+(DY88/DX88))","v":{"$error":"#VALUE!"}},{"$f":"100/((DY86*MDR!$AV$6/(MDR!GA200*DY113))+(DY87*MDR!$AW$6/(MDR!GA201*DY113))+(DY88*MDR!$AX$6/(MDR!GA202*DY113)))","v":{"$error":"#VALUE!"}},{"$f":"100/((EA86/DZ86)+(EA87/DZ87)+(EA88/DZ88))","v":{"$error":"#VALUE!"}},{"$f":"100/((EA86*MDR!$AV$6/(MDR!GC200*EA113))+(EA87*MDR!$AW$6/(MDR!GC201*EA113))+(EA88*MDR!$AX$6/(MDR!GC202*EA113)))","v":{"$error":"#VALUE!"}},null,null,null,null,{"$f":"100/((EG86/EF86)+(EG87/EF87)+(EG88/EF88))","v":{"$error":"#VALUE!"}},{"$f":"100/((EG86*MDR!$AV$6/(MDR!BG220*EG113))+(EG87*MDR!$AW$6/(MDR!BG221*EG113))+(EG88*MDR!$AX$6/(MDR!BG222*EG113)))","v":{"$error":"#VALUE!"}},{"$f":"100/((EI86/EH86)+(EI87/EH87)+(EI88/EH88))","v":{"$error":"#VALUE!"}},{"$f":"100/((EI86*MDR!$AV$6/(MDR!BI220*EI113))+(EI87*MDR!$AW$6/(MDR!BI221*EI113))+(EI88*MDR!$AX$6/(MDR!BI222*EI113)))","v":{"$error":"#VALUE!"}},{"$f":"100/((EK86/EJ86)+(EK87/EJ87)+(EK88/EJ88))","v":{"$error":"#VALUE!"}},{"$f":"100/((EK86*MDR!$AV$6/(MDR!BK220*EK113))+(EK87*MDR!$AW$6/(MDR!BK221*EK113))+(EK88*MDR!$AX$6/(MDR!BK222*EK113)))","v":{"$error":"#VALUE!"}},{"$f":"100/((EM86/EL86)+(EM87/EL87)+(EM88/EL88))","v":{"$error":"#VALUE!"}},{"$f":"100/((EM86*MDR!$AV$6/(MDR!BM220*EM113))+(EM87*MDR!$AW$6/(MDR!BM221*EM113))+(EM88*MDR!$AX$6/(MDR!BM222*EM113)))","v":{"$error":"#VALUE!"}},null,null,null,null,{"$f":"100/((ES86/ER86)+(ES87/ER87)+(ES88/ER88))","v":{"$error":"#VALUE!"}},{"$f":"100/((ES86*MDR!$AV$6/(MDR!BS220*ES113))+(ES87*MDR!$AW$6/(MDR!BS221*ES113))+(ES88*MDR!$AX$6/(MDR!BS222*ES113)))","v":{"$error":"#VALUE!"}},{"$f":"100/((EU86/ET86)+(EU87/ET87)+(EU88/ET88))","v":{"$error":"#VALUE!"}},{"$f":"100/((EU86*MDR!$AV$6/(MDR!BU220*EU113))+(EU87*MDR!$AW$6/(MDR!BU221*EU113))+(EU88*MDR!$AX$6/(MDR!BU222*EU113)))","v":{"$error":"#VALUE!"}},{"$f":"100/((EW86/EV86)+(EW87/EV87)+(EW88/EV88))","v":{"$error":"#VALUE!"}},{"$f":"100/((EW86*MDR!$AV$6/(MDR!BW220*EW113))+(EW87*MDR!$AW$6/(MDR!BW221*EW113))+(EW88*MDR!$AX$6/(MDR!BW222*EW113)))","v":{"$error":"#VALUE!"}},{"$f":"100/((EY86/EX86)+(EY87/EX87)+(EY88/EX88))","v":{"$error":"#VALUE!"}},{"$f":"100/((EY86*MDR!$AV$6/(MDR!BY220*EY113))+(EY87*MDR!$AW$6/(MDR!BY221*EY113))+(EY88*MDR!$AX$6/(MDR!BY222*EY113)))","v":{"$error":"#VALUE!"}},null,null,null,null,{"$f":"100/((FE86/FD86)+(FE87/FD87)+(FE88/FD88))","v":{"$error":"#VALUE!"}},{"$f":"100/((FE86*MDR!$AV$6/(MDR!CE220*FE113))+(FE87*MDR!$AW$6/(MDR!CE221*FE113))+(FE88*MDR!$AX$6/(MDR!CE222*FE113)))","v":{"$error":"#VALUE!"}},{"$f":"100/((FG86/FF86)+(FG87/FF87)+(FG88/FF88))","v":{"$error":"#VALUE!"}},{"$f":"100/((FG86*MDR!$AV$6/(MDR!CG220*FG113))+(FG87*MDR!$AW$6/(MDR!CG221*FG113))+(FG88*MDR!$AX$6/(MDR!CG222*FG113)))","v":{"$error":"#VALUE!"}},{"$f":"100/((FI86/FH86)+(FI87/FH87)+(FI88/FH88))","v":{"$error":"#VALUE!"}},{"$f":"100/((FI86*MDR!$AV$6/(MDR!CI220*FI113))+(FI87*MDR!$AW$6/(MDR!CI221*FI113))+(FI88*MDR!$AX$6/(MDR!CI222*FI113)))","v":{"$error":"#VALUE!"}},{"$f":"100/((FK86/FJ86)+(FK87/FJ87)+(FK88/FJ88))","v":{"$error":"#VALUE!"}},{"$f":"100/((FK86*MDR!$AV$6/(MDR!CK220*FK113))+(FK87*MDR!$AW$6/(MDR!CK221*FK113))+(FK88*MDR!$AX$6/(MDR!CK222*FK113)))","v":{"$error":"#VALUE!"}},null,null,null,null,{"$f":"100/((FQ86/FP86)+(FQ87/FP87)+(FQ88/FP88))","v":{"$error":"#VALUE!"}},{"$f":"100/((FQ86*MDR!$AV$6/(MDR!CQ220*FQ113))+(FQ87*MDR!$AW$6/(MDR!CQ221*FQ113))+(FQ88*MDR!$AX$6/(MDR!CQ222*FQ113)))","v":{"$error":"#VALUE!"}},{"$f":"100/((FS86/FR86)+(FS87/FR87)+(FS88/FR88))","v":{"$error":"#VALUE!"}},{"$f":"100/((FS86*MDR!$AV$6/(MDR!CS220*FS113))+(FS87*MDR!$AW$6/(MDR!CS221*FS113))+(FS88*MDR!$AX$6/(MDR!CS222*FS113)))","v":{"$error":"#VALUE!"}},{"$f":"100/((FU86/FT86)+(FU87/FT87)+(FU88/FT88))","v":{"$error":"#VALUE!"}},{"$f":"100/((FU86*MDR!$AV$6/(MDR!CU220*FU113))+(FU87*MDR!$AW$6/(MDR!CU221*FU113))+(FU88*MDR!$AX$6/(MDR!CU222*FU113)))","v":{"$error":"#VALUE!"}},{"$f":"100/((FW86/FV86)+(FW87/FV87)+(FW88/FV88))","v":{"$error":"#VALUE!"}},{"$f":"100/((FW86*MDR!$AV$6/(MDR!CW220*FW113))+(FW87*MDR!$AW$6/(MDR!CW221*FW113))+(FW88*MDR!$AX$6/(MDR!CW222*FW113)))","v":{"$error":"#VALUE!"}},null,null,null,null,{"$f":"100/((GC86/GB86)+(GC87/GB87)+(GC88/GB88))","v":{"$error":"#VALUE!"}},{"$f":"100/((GC86*MDR!$AV$6/(MDR!DC220*GC113))+(GC87*MDR!$AW$6/(MDR!DC221*GC113))+(GC88*MDR!$AX$6/(MDR!DC222*GC113)))","v":{"$error":"#VALUE!"}},{"$f":"100/((GE86/GD86)+(GE87/GD87)+(GE88/GD88))","v":{"$error":"#VALUE!"}},{"$f":"100/((GE86*MDR!$AV$6/(MDR!DE220*GE113))+(GE87*MDR!$AW$6/(MDR!DE221*GE113))+(GE88*MDR!$AX$6/(MDR!DE222*GE113)))","v":{"$error":"#VALUE!"}},{"$f":"100/((GG86/GF86)+(GG87/GF87)+(GG88/GF88))","v":{"$error":"#VALUE!"}},{"$f":"100/((GG86*MDR!$AV$6/(MDR!DG220*GG113))+(GG87*MDR!$AW$6/(MDR!DG221*GG113))+(GG88*MDR!$AX$6/(MDR!DG222*GG113)))","v":{"$error":"#VALUE!"}},{"$f":"100/((GI86/GH86)+(GI87/GH87)+(GI88/GH88))","v":{"$error":"#VALUE!"}},{"$f":"100/((GI86*MDR!$AV$6/(MDR!DI220*GI113))+(GI87*MDR!$AW$6/(MDR!DI221*GI113))+(GI88*MDR!$AX$6/(MDR!DI222*GI113)))","v":{"$error":"#VALUE!"}},null,null,null,null,{"$f":"100/((GO86/GN86)+(GO87/GN87)+(GO88/GN88))","v":{"$error":"#VALUE!"}},{"$f":"100/((GO86*MDR!$AV$6/(MDR!DO220*GO113))+(GO87*MDR!$AW$6/(MDR!DO221*GO113))+(GO88*MDR!$AX$6/(MDR!DO222*GO113)))","v":{"$error":"#VALUE!"}},{"$f":"100/((GQ86/GP86)+(GQ87/GP87)+(GQ88/GP88))","v":{"$error":"#VALUE!"}},{"$f":"100/((GQ86*MDR!$AV$6/(MDR!DQ220*GQ113))+(GQ87*MDR!$AW$6/(MDR!DQ221*GQ113))+(GQ88*MDR!$AX$6/(MDR!DQ222*GQ113)))","v":{"$error":"#VALUE!"}},{"$f":"100/((GS86/GR86)+(GS87/GR87)+(GS88/GR88))","v":{"$error":"#VALUE!"}},{"$f":"100/((GS86*MDR!$AV$6/(MDR!DS220*GS113))+(GS87*MDR!$AW$6/(MDR!DS221*GS113))+(GS88*MDR!$AX$6/(MDR!DS222*GS113)))","v":{"$error":"#VALUE!"}},{"$f":"100/((GU86/GT86)+(GU87/GT87)+(GU88/GT88))","v":{"$error":"#VALUE!"}},{"$f":"100/((GU86*MDR!$AV$6/(MDR!DU220*GU113))+(GU87*MDR!$AW$6/(MDR!DU221*GU113))+(GU88*MDR!$AX$6/(MDR!DU222*GU113)))","v":{"$error":"#VALUE!"}},null,null,null,null,{"$f":"100/((HA86/GZ86)+(HA87/GZ87)+(HA88/GZ88))","v":{"$error":"#VALUE!"}},{"$f":"100/((HA86*MDR!$AV$6/(MDR!EA220*HA113))+(HA87*MDR!$AW$6/(MDR!EA221*HA113))+(HA88*MDR!$AX$6/(MDR!EA222*HA113)))","v":{"$error":"#VALUE!"}},{"$f":"100/((HC86/HB86)+(HC87/HB87)+(HC88/HB88))","v":{"$error":"#VALUE!"}},{"$f":"100/((HC86*MDR!$AV$6/(MDR!EC220*HC113))+(HC87*MDR!$AW$6/(MDR!EC221*HC113))+(HC88*MDR!$AX$6/(MDR!EC222*HC113)))","v":{"$error":"#VALUE!"}},{"$f":"100/((HE86/HD86)+(HE87/HD87)+(HE88/HD88))","v":{"$error":"#VALUE!"}},{"$f":"100/((HE86*MDR!$AV$6/(MDR!EE220*HE113))+(HE87*MDR!$AW$6/(MDR!EE221*HE113))+(HE88*MDR!$AX$6/(MDR!EE222*HE113)))","v":{"$error":"#VALUE!"}},{"$f":"100/((HG86/HF86)+(HG87/HF87)+(HG88/HF88))","v":{"$error":"#VALUE!"}},{"$f":"100/((HG86*MDR!$AV$6/(MDR!EG220*HG113))+(HG87*MDR!$AW$6/(MDR!EG221*HG113))+(HG88*MDR!$AX$6/(MDR!EG222*HG113)))","v":{"$error":"#VALUE!"}},null,null,null,null,{"$f":"100/((HM86/HL86)+(HM87/HL87)+(HM88/HL88))","v":{"$error":"#VALUE!"}},{"$f":"100/((HM86*MDR!$AV$6/(MDR!EM220*HM113))+(HM87*MDR!$AW$6/(MDR!EM221*HM113))+(HM88*MDR!$AX$6/(MDR!EM222*HM113)))","v":{"$error":"#VALUE!"}},{"$f":"100/((HO86/HN86)+(HO87/HN87)+(HO88/HN88))","v":{"$error":"#VALUE!"}},{"$f":"100/((HO86*MDR!$AV$6/(MDR!EO220*HO113))+(HO87*MDR!$AW$6/(MDR!EO221*HO113))+(HO88*MDR!$AX$6/(MDR!EO222*HO113)))","v":{"$error":"#VALUE!"}},{"$f":"100/((HQ86/HP86)+(HQ87/HP87)+(HQ88/HP88))","v":{"$error":"#VALUE!"}},{"$f":"100/((HQ86*MDR!$AV$6/(MDR!EQ220*HQ113))+(HQ87*MDR!$AW$6/(MDR!EQ221*HQ113))+(HQ88*MDR!$AX$6/(MDR!EQ222*HQ113)))","v":{"$error":"#VALUE!"}},{"$f":"100/((HS86/HR86)+(HS87/HR87)+(HS88/HR88))","v":{"$error":"#VALUE!"}},{"$f":"100/((HS86*MDR!$AV$6/(MDR!ES220*HS113))+(HS87*MDR!$AW$6/(MDR!ES221*HS113))+(HS88*MDR!$AX$6/(MDR!ES222*HS113)))","v":{"$error":"#VALUE!"}},null,null,null,null,{"$f":"100/((HY86/HX86)+(HY87/HX87)+(HY88/HX88))","v":{"$error":"#VALUE!"}},{"$f":"100/((HY86*MDR!$AV$6/(MDR!EY220*HY113))+(HY87*MDR!$AW$6/(MDR!EY221*HY113))+(HY88*MDR!$AX$6/(MDR!EY222*HY113)))","v":{"$error":"#VALUE!"}},{"$f":"100/((IA86/HZ86)+(IA87/HZ87)+(IA88/HZ88))","v":{"$error":"#VALUE!"}},{"$f":"100/((IA86*MDR!$AV$6/(MDR!FA220*IA113))+(IA87*MDR!$AW$6/(MDR!FA221*IA113))+(IA88*MDR!$AX$6/(MDR!FA222*IA113)))","v":{"$error":"#VALUE!"}},{"$f":"100/((IC86/IB86)+(IC87/IB87)+(IC88/IB88))","v":{"$error":"#VALUE!"}},{"$f":"100/((IC86*MDR!$AV$6/(MDR!FC220*IC113))+(IC87*MDR!$AW$6/(MDR!FC221*IC113))+(IC88*MDR!$AX$6/(MDR!FC222*IC113)))","v":{"$error":"#VALUE!"}},{"$f":"100/((IE86/ID86)+(IE87/ID87)+(IE88/ID88))","v":{"$error":"#VALUE!"}},{"$f":"100/((IE86*MDR!$AV$6/(MDR!FE220*IE113))+(IE87*MDR!$AW$6/(MDR!FE221*IE113))+(IE88*MDR!$AX$6/(MDR!FE222*IE113)))","v":{"$error":"#VALUE!"}},null,null,null,null,{"$f":"100/((IK86/IJ86)+(IK87/IJ87)+(IK88/IJ88))","v":{"$error":"#VALUE!"}},{"$f":"100/((IK86*MDR!$AV$6/(MDR!FK220*IK113))+(IK87*MDR!$AW$6/(MDR!FK221*IK113))+(IK88*MDR!$AX$6/(MDR!FK222*IK113)))","v":{"$error":"#VALUE!"}},{"$f":"100/((IM86/IL86)+(IM87/IL87)+(IM88/IL88))","v":{"$error":"#VALUE!"}},{"$f":"100/((IM86*MDR!$AV$6/(MDR!FM220*IM113))+(IM87*MDR!$AW$6/(MDR!FM221*IM113))+(IM88*MDR!$AX$6/(MDR!FM222*IM113)))","v":{"$error":"#VALUE!"}},{"$f":"100/((IO86/IN86)+(IO87/IN87)+(IO88/IN88))","v":{"$error":"#VALUE!"}},{"$f":"100/((IO86*MDR!$AV$6/(MDR!FO220*IO113))+(IO87*MDR!$AW$6/(MDR!FO221*IO113))+(IO88*MDR!$AX$6/(MDR!FO222*IO113)))","v":{"$error":"#VALUE!"}},{"$f":"100/((IQ86/IP86)+(IQ87/IP87)+(IQ88/IP88))","v":{"$error":"#VALUE!"}},{"$f":"100/((IQ86*MDR!$AV$6/(MDR!FQ220*IQ113))+(IQ87*MDR!$AW$6/(MDR!FQ221*IQ113))+(IQ88*MDR!$AX$6/(MDR!FQ222*IQ113)))","v":{"$error":"#VALUE!"}},null,null,{"$f":"#REF!","v":{"$error":"#REF!"}},"Agency AFT Substituted"]
[null,null,null,{"$f":"100/((E86/D86)+(E87/D87)+(E88/D88)+(E89/D89))","v":{"$error":"#DIV/0!"}},{"$f":"100/((E86*MDR!$AV$6/(MDR!BG200*E114))+(E87*MDR!$AW$6/(MDR!BG201*E114))+(E88*MDR!$AX$6/(MDR!BG202*E114))+(E89*MDR!$AY$6/(MDR!BG203*E114)))","v":{"$error":"#DIV/0!"}},{"$f":"100/((G86/F86)+(G87/F87)+(G88/F88)+(G89/F89))","v":{"$error":"#VALUE!"}},{"$f":"100/((G86*MDR!$AV$6/(MDR!BI200*G114))+(G87*MDR!$AW$6/(MDR!BI201*G114))+(G88*MDR!$AX$6/(MDR!BI202*G114))+(G89*MDR!$AY$6/(MDR!BI203*G114)))","v":{"$error":"#VALUE!"}},{"$f":"100/((I86/H86)+(I87/H87)+(I88/H88)+(I89/H89))","v":{"$error":"#VALUE!"}},{"$f":"100/((I86*MDR!$AV$6/(MDR!BK200*I114))+(I87*MDR!$AW$6/(MDR!BK201*I114))+(I88*MDR!$AX$6/(MDR!BK202*I114))+(I89*MDR!$AY$6/(MDR!BK203*I114)))","v":{"$error":"#VALUE!"}},{"$f":"100/((K86/J86)+(K87/J87)+(K88/J88)+(K89/J89))","v":{"$error":"#VALUE!"}},{"$f":"100/((K86*MDR!$AV$6/(MDR!BM200*K114))+(K87*MDR!$AW$6/(MDR!BM201*K114))+(K88*MDR!$AX$6/(MDR!BM202*K114))+(K89*MDR!$AY$6/(MDR!BM203*K114)))","v":{"$error":"#VALUE!"}},null,null,null,null,{"$f":"100/((Q86/P86)+(Q87/P87)+(Q88/P88)+(Q89/P89))","v":{"$error":"#VALUE!"}},{"$f":"100/((Q86*MDR!$AV$6/(MDR!BS200*Q114))+(Q87*MDR!$AW$6/(MDR!BS201*Q114))+(Q88*MDR!$AX$6/(MDR!BS202*Q114))+(Q89*MDR!$AY$6/(MDR!BS203*Q114)))","v":{"$error":"#VALUE!"}},{"$f":"100/((S86/R86)+(S87/R87)+(S88/R88)+(S89/R89))","v":{"$error":"#VALUE!"}},{"$f":"100/((S86*MDR!$AV$6/(MDR!BU200*S114))+(S87*MDR!$AW$6/(MDR!BU201*S114))+(S88*MDR!$AX$6/(MDR!BU202*S114))+(S89*MDR!$AY$6/(MDR!BU203*S114)))","v":{"$error":"#VALUE!"}},{"$f":"100/((U86/T86)+(U87/T87)+(U88/T88)+(U89/T89))","v":{"$error":"#VALUE!"}},{"$f":"100/((U86*MDR!$AV$6/(MDR!BW200*U114))+(U87*MDR!$AW$6/(MDR!BW201*U114))+(U88*MDR!$AX$6/(MDR!BW202*U114))+(U89*MDR!$AY$6/(MDR!BW203*U114)))","v":{"$error":"#VALUE!"}},{"$f":"100/((W86/V86)+(W87/V87)+(W88/V88)+(W89/V89))","v":{"$error":"#VALUE!"}},{"$f":"100/((W86*MDR!$AV$6/(MDR!BY200*W114))+(W87*MDR!$AW$6/(MDR!BY201*W114))+(W88*MDR!$AX$6/(MDR!BY202*W114))+(W89*MDR!$AY$6/(MDR!BY203*W114)))","v":{"$error":"#VALUE!"}},null,null,null,null,{"$f":"100/((AC86/AB86)+(AC87/AB87)+(AC88/AB88)+(AC89/AB89))","v":{"$error":"#VALUE!"}},{"$f":"100/((AC86*MDR!$AV$6/(MDR!CE200*AC114))+(AC87*MDR!$AW$6/(MDR!CE201*AC114))+(AC88*MDR!$AX$6/(MDR!CE202*AC114))+(AC89*MDR!$AY$6/(MDR!CE203*AC114)))","v":{"$error":"#VALUE!"}},{"$f":"100/((AE86/AD86)+(AE87/AD87)+(AE88/AD88)+(AE89/AD89))","v":{"$error":"#VALUE!"}},{"$f":"100/((AE86*MDR!$AV$6/(MDR!CG200*AE114))+(AE87*MDR!$AW$6/(MDR!CG201*AE114))+(AE88*MDR!$AX$6/(MDR!CG202*AE114))+(AE89*MDR!$AY$6/(MDR!CG203*AE114)))","v":{"$error":"#VALUE!"}},{"$f":"100/((AG86/AF86)+(AG87/AF87)+(AG88/AF88)+(AG89/AF89))","v":{"$error":"#VALUE!"}},{"$f":"100/((AG86*MDR!$AV$6/(MDR!CI200*AG114))+(AG87*MDR!$AW$6/(MDR!CI201*AG114))+(AG88*MDR!$AX$6/(MDR!CI202*AG114))+(AG89*MDR!$AY$6/(MDR!CI203*AG114)))","v":{"$error":"#VALUE!"}},{"$f":"100/((AI86/AH86)+(AI87/AH87)+(AI88/AH88)+(AI89/AH89))","v":{"$error":"#VALUE!"}},{"$f":"100/((AI86*MDR!$AV$6/(MDR!CK200*AI114))+(AI87*MDR!$AW$6/(MDR!CK201*AI114))+(AI88*MDR!$AX$6/(MDR!CK202*AI114))+(AI89*MDR!$AY$6/(MDR!CK203*AI114)))","v":{"$error":"#VALUE!"}},null,null,null,null,{"$f":"100/((AO86/AN86)+(AO87/AN87)+(AO88/AN88)+(AO89/AN89))","v":{"$error":"#VALUE!"}},{"$f":"100/((AO86*MDR!$AV$6/(MDR!CQ200*AO114))+(AO87*MDR!$AW$6/(MDR!CQ201*AO114))+(AO88*MDR!$AX$6/(MDR!CQ202*AO114))+(AO89*MDR!$AY$6/(MDR!CQ203*AO114)))","v":{"$error":"#VALUE!"}},{"$f":"100/((AQ86/AP86)+(AQ87/AP87)+(AQ88/AP88)+(AQ89/AP89))","v":{"$error":"#VALUE!"}},{"$f":"100/((AQ86*MDR!$AV$6/(MDR!CS200*AQ114))+(AQ87*MDR!$AW$6/(MDR!CS201*AQ114))+(AQ88*MDR!$AX$6/(MDR!CS202*AQ114))+(AQ89*MDR!$AY$6/(MDR!CS203*AQ114)))","v":{"$error":"#VALUE!"}},{"$f":"100/((AS86/AR86)+(AS87/AR87)+(AS88/AR88)+(AS89/AR89))","v":{"$error":"#VALUE!"}},{"$f":"100/((AS86*MDR!$AV$6/(MDR!CU200*AS114))+(AS87*MDR!$AW$6/(MDR!CU201*AS114))+(AS88*MDR!$AX$6/(MDR!CU202*AS114))+(AS89*MDR!$AY$6/(MDR!CU203*AS114)))","v":{"$error":"#VALUE!"}},{"$f":"100/((AU86/AT86)+(AU87/AT87)+(AU88/AT88)+(AU89/AT89))","v":{"$error":"#VALUE!"}},{"$f":"100/((AU86*MDR!$AV$6/(MDR!CW200*AU114))+(AU87*MDR!$AW$6/(MDR!CW201*AU114))+(AU88*MDR!$AX$6/(MDR!CW202*AU114))+(AU89*MDR!$AY$6/(MDR!CW203*AU114)))","v":{"$error":"#VALUE!"}},null,null,null,null,{"$f":"100/((BA86/AZ86)+(BA87/AZ87)+(BA88/AZ88)+(BA89/AZ89))","v":{"$error":"#VALUE!"}},{"$f":"100/((BA86*MDR!$AV$6/(MDR!DC200*BA114))+(BA87*MDR!$AW$6/(MDR!DC201*BA114))+(BA88*MDR!$AX$6/(MDR!DC202*BA114))+(BA89*MDR!$AY$6/(MDR!DC203*BA114)))","v":{"$error":"#VALUE!"}},{"$f":"100/((BC86/BB86)+(BC87/BB87)+(BC88/BB88)+(BC89/BB89))","v":{"$error":"#VALUE!"}},{"$f":"100/((BC86*MDR!$AV$6/(MDR!DE200*BC114))+(BC87*MDR!$AW$6/(MDR!DE201*BC114))+(BC88*MDR!$AX$6/(MDR!DE202*BC114))+(BC89*MDR!$AY$6/(MDR!DE203*BC114)))","v":{"$error":"#VALUE!"}},{"$f":"100/((BE86/BD86)+(BE87/BD87)+(BE88/BD88)+(BE89/BD89))","v":{"$error":"#VALUE!"}},{"$f":"100/((BE86*MDR!$AV$6/(MDR!DG200*BE114))+(BE87*MDR!$AW$6/(MDR!DG201*BE114))+(BE88*MDR!$AX$6/(MDR!DG202*BE114))+(BE89*MDR!$AY$6/(MDR!DG203*BE114)))","v":{"$error":"#VALUE!"}},{"$f":"100/((BG86/BF86)+(BG87/BF87)+(BG88/BF88)+(BG89/BF89))","v":{"$error":"#VALUE!"}},{"$f":"100/((BG86*MDR!$AV$6/(MDR!DI200*BG114))+(BG87*MDR!$AW$6/(MDR!DI201*BG114))+(BG88*MDR!$AX$6/(MDR!DI202*BG114))+(BG89*MDR!$AY$6/(MDR!DI203*BG114)))","v":{"$error":"#VALUE!"}},null,null,null,null,{"$f":"100/((BM86/BL86)+(BM87/BL87)+(BM88/BL88)+(BM89/BL89))","v":{"$error":"#VALUE!"}},{"$f":"100/((BM86*MDR!$AV$6/(MDR!DO200*BM114))+(BM87*MDR!$AW$6/(MDR!DO201*BM114))+(BM88*MDR!$AX$6/(MDR!DO202*BM114))+(BM89*MDR!$AY$6/(MDR!DO203*BM114)))","v":{"$error":"#VALUE!"}},{"$f":"100/((BO86/BN86)+(BO87/BN87)+(BO88/BN88)+(BO89/BN89))","v":{"$error":"#VALUE!"}},{"$f":"100/((BO86*MDR!$AV$6/(MDR!DQ200*BO114))+(BO87*MDR!$AW$6/(MDR!DQ201*BO114))+(BO88*MDR!$AX$6/(MDR!DQ202*BO114))+(BO89*MDR!$AY$6/(MDR!DQ203*BO114)))","v":{"$error":"#VALUE!"}},{"$f":"100/((BQ86/BP86)+(BQ87/BP87)+(BQ88/BP88)+(BQ89/BP89))","v":{"$error":"#VALUE!"}},{"$f":"100/((BQ86*MDR!$AV$6/(MDR!DS200*BQ114))+(BQ87*MDR!$AW$6/(MDR!DS201*BQ114))+(BQ88*MDR!$AX$6/(MDR!DS202*BQ114))+(BQ89*MDR!$AY$6/(MDR!DS203*BQ114)))","v":{"$error":"#VALUE!"}},{"$f":"100/((BS86/BR86)+(BS87/BR87)+(BS88/BR88)+(BS89/BR89))","v":{"$error":"#VALUE!"}},{"$f":"100/((BS86*MDR!$AV$6/(MDR!DU200*BS114))+(BS87*MDR!$AW$6/(MDR!DU201*BS114))+(BS88*MDR!$AX$6/(MDR!DU202*BS114))+(BS89*MDR!$AY$6/(MDR!DU203*BS114)))","v":{"$error":"#VALUE!"}},null,null,null,null,{"$f":"100/((BY86/BX86)+(BY87/BX87)+(BY88/BX88)+(BY89/BX89))","v":{"$error":"#VALUE!"}},{"$f":"100/((BY86*MDR!$AV$6/(MDR!EA200*BY114))+(BY87*MDR!$AW$6/(MDR!EA201*BY114))+(BY88*MDR!$AX$6/(MDR!EA202*BY114))+(BY89*MDR!$AY$6/(MDR!EA203*BY114)))","v":{"$error":"#VALUE!"}},{"$f":"100/((CA86/BZ86)+(CA87/BZ87)+(CA88/BZ88)+(CA89/BZ89))","v":{"$error":"#VALUE!"}},{"$f":"100/((CA86*MDR!$AV$6/(MDR!EC200*CA114))+(CA87*MDR!$AW$6/(MDR!EC201*CA114))+(CA88*MDR!$AX$6/(MDR!EC202*CA114))+(CA89*MDR!$AY$6/(MDR!EC203*CA114)))","v":{"$error":"#VALUE!"}},{"$f":"100/((CC86/CB86)+(CC87/CB87)+(CC88/CB88)+(CC89/CB89))","v":{"$error":"#VALUE!"}},{"$f":"100/((CC86*MDR!$AV$6/(MDR!EE200*CC114))+(CC87*MDR!$AW$6/(MDR!EE201*CC114))+(CC88*MDR!$AX$6/(MDR!EE202*CC114))+(CC89*MDR!$AY$6/(MDR!EE203*CC114)))","v":{"$error":"#VALUE!"}},{"$f":"100/((CE86/CD86)+(CE87/CD87)+(CE88/CD88)+(CE89/CD89))","v":{"$error":"#VALUE!"}},{"$f":"100/((CE86*MDR!$AV$6/(MDR!EG200*CE114))+(CE87*MDR!$AW$6/(MDR!EG201*CE114))+(CE88*MDR!$AX$6/(MDR!EG202*CE114))+(CE89*MDR!$AY$6/(MDR!EG203*CE114)))","v":{"$error":"#VALUE!"}},null,null,null,null,{"$f":"100/((CK86/CJ86)+(CK87/CJ87)+(CK88/CJ88)+(CK89/CJ89))","v":{"$error":"#VALUE!"}},{"$f":"100/((CK86*MDR!$AV$6/(MDR!EM200*CK114))+(CK87*MDR!$AW$6/(MDR!EM201*CK114))+(CK88*MDR!$AX$6/(MDR!EM202*CK114))+(CK89*MDR!$AY$6/(MDR!EM203*CK114)))","v":{"$error":"#VALUE!"}},{"$f":"100/((CM86/CL86)+(CM87/CL87)+(CM88/CL88)+(CM89/CL89))","v":{"$error":"#VALUE!"}},{"$f":"100/((CM86*MDR!$AV$6/(MDR!EO200*CM114))+(CM87*MDR!$AW$6/(MDR!EO201*CM114))+(CM88*MDR!$AX$6/(MDR!EO202*CM114))+(CM89*MDR!$AY$6/(MDR!EO203*CM114)))","v":{"$error":"#VALUE!"}},{"$f":"100/((CO86/CN86)+(CO87/CN87)+(CO88/CN88)+(CO89/CN89))","v":{"$error":"#VALUE!"}},{"$f":"100/((CO86*MDR!$AV$6/(MDR!EQ200*CO114))+(CO87*MDR!$AW$6/(MDR!EQ201*CO114))+(CO88*MDR!$AX$6/(MDR!EQ202*CO114))+(CO89*MDR!$AY$6/(MDR!EQ203*CO114)))","v":{"$error":"#VALUE!"}},{"$f":"100/((CQ86/CP86)+(CQ87/CP87)+(CQ88/CP88)+(CQ89/CP89))","v":{"$error":"#VALUE!"}},{"$f":"100/((CQ86*MDR!$AV$6/(MDR!ES200*CQ114))+(CQ87*MDR!$AW$6/(MDR!ES201*CQ114))+(CQ88*MDR!$AX$6/(MDR!ES202*CQ114))+(CQ89*MDR!$AY$6/(MDR!ES203*CQ114)))","v":{"$error":"#VALUE!"}},null,null,null,null,{"$f":"100/((CW86/CV86)+(CW87/CV87)+(CW88/CV88)+(CW89/CV89))","v":{"$error":"#VALUE!"}},{"$f":"100/((CW86*MDR!$AV$6/(MDR!EY200*CW114))+(CW87*MDR!$AW$6/(MDR!EY201*CW114))+(CW88*MDR!$AX$6/(MDR!EY202*CW114))+(CW89*MDR!$AY$6/(MDR!EY203*CW114)))","v":{"$error":"#VALUE!"}},{"$f":"100/((CY86/CX86)+(CY87/CX87)+(CY88/CX88)+(CY89/CX89))","v":{"$error":"#VALUE!"}},{"$f":"100/((CY86*MDR!$AV$6/(MDR!FA200*CY114))+(CY87*MDR!$AW$6/(MDR!FA201*CY114))+(CY88*MDR!$AX$6/(MDR!FA202*CY114))+(CY89*MDR!$AY$6/(MDR!FA203*CY114)))","v":{"$error":"#VALUE!"}},{"$f":"100/((DA86/CZ86)+(DA87/CZ87)+(DA88/CZ88)+(DA89/CZ89))","v":{"$error":"#VALUE!"}},{"$f":"100/((DA86*MDR!$AV$6/(MDR!FC200*DA114))+(DA87*MDR!$AW$6/(MDR!FC201*DA114))+(DA88*MDR!$AX$6/(MDR!FC202*DA114))+(DA89*MDR!$AY$6/(MDR!FC203*DA114)))","v":{"$error":"#VALUE!"}},{"$f":"100/((DC86/DB86)+(DC87/DB87)+(DC88/DB88)+(DC89/DB89))","v":{"$error":"#VALUE!"}},{"$f":"100/((DC86*MDR!$AV$6/(MDR!FE200*DC114))+(DC87*MDR!$AW$6/(MDR!FE201*DC114))+(DC88*MDR!$AX$6/(MDR!FE202*DC114))+(DC89*MDR!$AY$6/(MDR!FE203*DC114)))","v":{"$error":"#VALUE!"}},null,null,null,null,{"$f":"100/((DI86/DH86)+(DI87/DH87)+(DI88/DH88)+(DI89/DH89))","v":{"$error":"#VALUE!"}},{"$f":"100/((DI86*MDR!$AV$6/(MDR!FK200*DI114))+(DI87*MDR!$AW$6/(MDR!FK201*DI114))+(DI88*MDR!$AX$6/(MDR!FK202*DI114))+(DI89*MDR!$AY$6/(MDR!FK203*DI114)))","v":{"$error":"#VALUE!"}},{"$f":"100/((DK86/DJ86)+(DK87/DJ87)+(DK88/DJ88)+(DK89/DJ89))","v":{"$error":"#VALUE!"}},{"$f":"100/((DK86*MDR!$AV$6/(MDR!FM200*DK114))+(DK87*MDR!$AW$6/(MDR!FM201*DK114))+(DK88*MDR!$AX$6/(MDR!FM202*DK114))+(DK89*MDR!$AY$6/(MDR!FM203*DK114)))","v":{"$error":"#VALUE!"}},{"$f":"100/((DM86/DL86)+(DM87/DL87)+(DM88/DL88)+(DM89/DL89))","v":{"$error":"#VALUE!"}},{"$f":"100/((DM86*MDR!$AV$6/(MDR!FO200*DM114))+(DM87*MDR!$AW$6/(MDR!FO201*DM114))+(DM88*MDR!$AX$6/(MDR!FO202*DM114))+(DM89*MDR!$AY$6/(MDR!FO203*DM114)))","v":{"$error":"#VALUE!"}},{"$f":"100/((DO86/DN86)+(DO87/DN87)+(DO88/DN88)+(DO89/DN89))","v":{"$error":"#VALUE!"}},{"$f":"100/((DO86*MDR!$AV$6/(MDR!FQ200*DO114))+(DO87*MDR!$AW$6/(MDR!FQ201*DO114))+(DO88*MDR!$AX$6/(MDR!FQ202*DO114))+(DO89*MDR!$AY$6/(MDR!FQ203*DO114)))","v":{"$error":"#VALUE!"}},null,null,null,null,{"$f":"100/((DU86/DT86)+(DU87/DT87)+(DU88/DT88)+(DU89/DT89))","v":{"$error":"#VALUE!"}},{"$f":"100/((DU86*MDR!$AV$6/(MDR!FW200*DU114))+(DU87*MDR!$AW$6/(MDR!FW201*DU114))+(DU88*MDR!$AX$6/(MDR!FW202*DU114))+(DU89*MDR!$AY$6/(MDR!FW203*DU114)))","v":{"$error":"#VALUE!"}},{"$f":"100/((DW86/DV86)+(DW87/DV87)+(DW88/DV88)+(DW89/DV89))","v":{"$error":"#VALUE!"}},{"$f":"100/((DW86*MDR!$AV$6/(MDR!FY200*DW114))+(DW87*MDR!$AW$6/(MDR!FY201*DW114))+(DW88*MDR!$AX$6/(MDR!FY202*DW114))+(DW89*MDR!$AY$6/(MDR!FY203*DW114)))","v":{"$error":"#VALUE!"}},{"$f":"100/((DY86/DX86)+(DY87/DX87)+(DY88/DX88)+(DY89/DX89))","v":{"$error":"#VALUE!"}},{"$f":"100/((DY86*MDR!$AV$6/(MDR!GA200*DY114))+(DY87*MDR!$AW$6/(MDR!GA201*DY114))+(DY88*MDR!$AX$6/(MDR!GA202*DY114))+(DY89*MDR!$AY$6/(MDR!GA203*DY114)))","v":{"$error":"#VALUE!"}},{"$f":"100/((EA86/DZ86)+(EA87/DZ87)+(EA88/DZ88)+(EA89/DZ89))","v":{"$error":"#VALUE!"}},{"$f":"100/((EA86*MDR!$AV$6/(MDR!GC200*EA114))+(EA87*MDR!$AW$6/(MDR!GC201*EA114))+(EA88*MDR!$AX$6/(MDR!GC202*EA114))+(EA89*MDR!$AY$6/(MDR!GC203*EA114)))","v":{"$error":"#VALUE!"}},null,null,null,null,{"$f":"100/((EG86/EF86)+(EG87/EF87)+(EG88/EF88)+(EG89/EF89))","v":{"$error":"#VALUE!"}},{"$f":"100/((EG86*MDR!$AV$6/(MDR!BG220*EG114))+(EG87*MDR!$AW$6/(MDR!BG221*EG114))+(EG88*MDR!$AX$6/(MDR!BG222*EG114))+(EG89*MDR!$AY$6/(MDR!BG223*EG114)))","v":{"$error":"#VALUE!"}},{"$f":"100/((EI86/EH86)+(EI87/EH87)+(EI88/EH88)+(EI89/EH89))","v":{"$error":"#VALUE!"}},{"$f":"100/((EI86*MDR!$AV$6/(MDR!BI220*EI114))+(EI87*MDR!$AW$6/(MDR!BI221*EI114))+(EI88*MDR!$AX$6/(MDR!BI222*EI114))+(EI89*MDR!$AY$6/(MDR!BI223*EI114)))","v":{"$error":"#VALUE!"}},{"$f":"100/((EK86/EJ86)+(EK87/EJ87)+(EK88/EJ88)+(EK89/EJ89))","v":{"$error":"#VALUE!"}},{"$f":"100/((EK86*MDR!$AV$6/(MDR!BK220*EK114))+(EK87*MDR!$AW$6/(MDR!BK221*EK114))+(EK88*MDR!$AX$6/(MDR!BK222*EK114))+(EK89*MDR!$AY$6/(MDR!BK223*EK114)))","v":{"$error":"#VALUE!"}},{"$f":"100/((EM86/EL86)+(EM87/EL87)+(EM88/EL88)+(EM89/EL89))","v":{"$error":"#VALUE!"}},{"$f":"100/((EM86*MDR!$AV$6/(MDR!BM220*EM114))+(EM87*MDR!$AW$6/(MDR!BM221*EM114))+(EM88*MDR!$AX$6/(MDR!BM222*EM114))+(EM89*MDR!$AY$6/(MDR!BM223*EM114)))","v":{"$error":"#VALUE!"}},null,null,null,null,{"$f":"100/((ES86/ER86)+(ES87/ER87)+(ES88/ER88)+(ES89/ER89))","v":{"$error":"#VALUE!"}},{"$f":"100/((ES86*MDR!$AV$6/(MDR!BS220*ES114))+(ES87*MDR!$AW$6/(MDR!BS221*ES114))+(ES88*MDR!$AX$6/(MDR!BS222*ES114))+(ES89*MDR!$AY$6/(MDR!BS223*ES114)))","v":{"$error":"#VALUE!"}},{"$f":"100/((EU86/ET86)+(EU87/ET87)+(EU88/ET88)+(EU89/ET89))","v":{"$error":"#VALUE!"}},{"$f":"100/((EU86*MDR!$AV$6/(MDR!BU220*EU114))+(EU87*MDR!$AW$6/(MDR!BU221*EU114))+(EU88*MDR!$AX$6/(MDR!BU222*EU114))+(EU89*MDR!$AY$6/(MDR!BU223*EU114)))","v":{"$error":"#VALUE!"}},{"$f":"100/((EW86/EV86)+(EW87/EV87)+(EW88/EV88)+(EW89/EV89))","v":{"$error":"#VALUE!"}},{"$f":"100/((EW86*MDR!$AV$6/(MDR!BW220*EW114))+(EW87*MDR!$AW$6/(MDR!BW221*EW114))+(EW88*MDR!$AX$6/(MDR!BW222*EW114))+(EW89*MDR!$AY$6/(MDR!BW223*EW114)))","v":{"$error":"#VALUE!"}},{"$f":"100/((EY86/EX86)+(EY87/EX87)+(EY88/EX88)+(EY89/EX89))","v":{"$error":"#VALUE!"}},{"$f":"100/((EY86*MDR!$AV$6/(MDR!BY220*EY114))+(EY87*MDR!$AW$6/(MDR!BY221*EY114))+(EY88*MDR!$AX$6/(MDR!BY222*EY114))+(EY89*MDR!$AY$6/(MDR!BY223*EY114)))","v":{"$error":"#VALUE!"}},null,null,null,null,{"$f":"100/((FE86/FD86)+(FE87/FD87)+(FE88/FD88)+(FE89/FD89))","v":{"$error":"#VALUE!"}},{"$f":"100/((FE86*MDR!$AV$6/(MDR!CE220*FE114))+(FE87*MDR!$AW$6/(MDR!CE221*FE114))+(FE88*MDR!$AX$6/(MDR!CE222*FE114))+(FE89*MDR!$AY$6/(MDR!CE223*FE114)))","v":{"$error":"#VALUE!"}},{"$f":"100/((FG86/FF86)+(FG87/FF87)+(FG88/FF88)+(FG89/FF89))","v":{"$error":"#VALUE!"}},{"$f":"100/((FG86*MDR!$AV$6/(MDR!CG220*FG114))+(FG87*MDR!$AW$6/(MDR!CG221*FG114))+(FG88*MDR!$AX$6/(MDR!CG222*FG114))+(FG89*MDR!$AY$6/(MDR!CG223*FG114)))","v":{"$error":"#VALUE!"}},{"$f":"100/((FI86/FH86)+(FI87/FH87)+(FI88/FH88)+(FI89/FH89))","v":{"$error":"#VALUE!"}},{"$f":"100/((FI86*MDR!$AV$6/(MDR!CI220*FI114))+(FI87*MDR!$AW$6/(MDR!CI221*FI114))+(FI88*MDR!$AX$6/(MDR!CI222*FI114))+(FI89*MDR!$AY$6/(MDR!CI223*FI114)))","v":{"$error":"#VALUE!"}},{"$f":"100/((FK86/FJ86)+(FK87/FJ87)+(FK88/FJ88)+(FK89/FJ89))","v":{"$error":"#VALUE!"}},{"$f":"100/((FK86*MDR!$AV$6/(MDR!CK220*FK114))+(FK87*MDR!$AW$6/(MDR!CK221*FK114))+(FK88*MDR!$AX$6/(MDR!CK222*FK114))+(FK89*MDR!$AY$6/(MDR!CK223*FK114)))","v":{"$error":"#VALUE!"}},null,null,null,null,{"$f":"100/((FQ86/FP86)+(FQ87/FP87)+(FQ88/FP88)+(FQ89/FP89))","v":{"$error":"#VALUE!"}},{"$f":"100/((FQ86*MDR!$AV$6/(MDR!CQ220*FQ114))+(FQ87*MDR!$AW$6/(MDR!CQ221*FQ114))+(FQ88*MDR!$AX$6/(MDR!CQ222*FQ114))+(FQ89*MDR!$AY$6/(MDR!CQ223*FQ114)))","v":{"$error":"#VALUE!"}},{"$f":"100/((FS86/FR86)+(FS87/FR87)+(FS88/FR88)+(FS89/FR89))","v":{"$error":"#VALUE!"}},{"$f":"100/((FS86*MDR!$AV$6/(MDR!CS220*FS114))+(FS87*MDR!$AW$6/(MDR!CS221*FS114))+(FS88*MDR!$AX$6/(MDR!CS222*FS114))+(FS89*MDR!$AY$6/(MDR!CS223*FS114)))","v":{"$error":"#VALUE!"}},{"$f":"100/((FU86/FT86)+(FU87/FT87)+(FU88/FT88)+(FU89/FT89))","v":{"$error":"#VALUE!"}},{"$f":"100/((FU86*MDR!$AV$6/(MDR!CU220*FU114))+(FU87*MDR!$AW$6/(MDR!CU221*FU114))+(FU88*MDR!$AX$6/(MDR!CU222*FU114))+(FU89*MDR!$AY$6/(MDR!CU223*FU114)))","v":{"$error":"#VALUE!"}},{"$f":"100/((FW86/FV86)+(FW87/FV87)+(FW88/FV88)+(FW89/FV89))","v":{"$error":"#VALUE!"}},{"$f":"100/((FW86*MDR!$AV$6/(MDR!CW220*FW114))+(FW87*MDR!$AW$6/(MDR!CW221*FW114))+(FW88*MDR!$AX$6/(MDR!CW222*FW114))+(FW89*MDR!$AY$6/(MDR!CW223*FW114)))","v":{"$error":"#VALUE!"}},null,null,null,null,{"$f":"100/((GC86/GB86)+(GC87/GB87)+(GC88/GB88)+(GC89/GB89))","v":{"$error":"#VALUE!"}},{"$f":"100/((GC86*MDR!$AV$6/(MDR!DC220*GC114))+(GC87*MDR!$AW$6/(MDR!DC221*GC114))+(GC88*MDR!$AX$6/(MDR!DC222*GC114))+(GC89*MDR!$AY$6/(MDR!DC223*GC114)))","v":{"$error":"#VALUE!"}},{"$f":"100/((GE86/GD86)+(GE87/GD87)+(GE88/GD88)+(GE89/GD89))","v":{"$error":"#VALUE!"}},{"$f":"100/((GE86*MDR!$AV$6/(MDR!DE220*GE114))+(GE87*MDR!$AW$6/(MDR!DE221*GE114))+(GE88*MDR!$AX$6/(MDR!DE222*GE114))+(GE89*MDR!$AY$6/(MDR!DE223*GE114)))","v":{"$error":"#VALUE!"}},{"$f":"100/((GG86/GF86)+(GG87/GF87)+(GG88/GF88)+(GG89/GF89))","v":{"$error":"#VALUE!"}},{"$f":"100/((GG86*MDR!$AV$6/(MDR!DG220*GG114))+(GG87*MDR!$AW$6/(MDR!DG221*GG114))+(GG88*MDR!$AX$6/(MDR!DG222*GG114))+(GG89*MDR!$AY$6/(MDR!DG223*GG114)))","v":{"$error":"#VALUE!"}},{"$f":"100/((GI86/GH86)+(GI87/GH87)+(GI88/GH88)+(GI89/GH89))","v":{"$error":"#VALUE!"}},{"$f":"100/((GI86*MDR!$AV$6/(MDR!DI220*GI114))+(GI87*MDR!$AW$6/(MDR!DI221*GI114))+(GI88*MDR!$AX$6/(MDR!DI222*GI114))+(GI89*MDR!$AY$6/(MDR!DI223*GI114)))","v":{"$error":"#VALUE!"}},null,null,null,null,{"$f":"100/((GO86/GN86)+(GO87/GN87)+(GO88/GN88)+(GO89/GN89))","v":{"$error":"#VALUE!"}},{"$f":"100/((GO86*MDR!$AV$6/(MDR!DO220*GO114))+(GO87*MDR!$AW$6/(MDR!DO221*GO114))+(GO88*MDR!$AX$6/(MDR!DO222*GO114))+(GO89*MDR!$AY$6/(MDR!DO223*GO114)))","v":{"$error":"#VALUE!"}},{"$f":"100/((GQ86/GP86)+(GQ87/GP87)+(GQ88/GP88)+(GQ89/GP89))","v":{"$error":"#VALUE!"}},{"$f":"100/((GQ86*MDR!$AV$6/(MDR!DQ220*GQ114))+(GQ87*MDR!$AW$6/(MDR!DQ221*GQ114))+(GQ88*MDR!$AX$6/(MDR!DQ222*GQ114))+(GQ89*MDR!$AY$6/(MDR!DQ223*GQ114)))","v":{"$error":"#VALUE!"}},{"$f":"100/((GS86/GR86)+(GS87/GR87)+(GS88/GR88)+(GS89/GR89))","v":{"$error":"#VALUE!"}},{"$f":"100/((GS86*MDR!$AV$6/(MDR!DS220*GS114))+(GS87*MDR!$AW$6/(MDR!DS221*GS114))+(GS88*MDR!$AX$6/(MDR!DS222*GS114))+(GS89*MDR!$AY$6/(MDR!DS223*GS114)))","v":{"$error":"#VALUE!"}},{"$f":"100/((GU86/GT86)+(GU87/GT87)+(GU88/GT88)+(GU89/GT89))","v":{"$error":"#VALUE!"}},{"$f":"100/((GU86*MDR!$AV$6/(MDR!DU220*GU114))+(GU87*MDR!$AW$6/(MDR!DU221*GU114))+(GU88*MDR!$AX$6/(MDR!DU222*GU114))+(GU89*MDR!$AY$6/(MDR!DU223*GU114)))","v":{"$error":"#VALUE!"}},null,null,null,null,{"$f":"100/((HA86/GZ86)+(HA87/GZ87)+(HA88/GZ88)+(HA89/GZ89))","v":{"$error":"#VALUE!"}},{"$f":"100/((HA86*MDR!$AV$6/(MDR!EA220*HA114))+(HA87*MDR!$AW$6/(MDR!EA221*HA114))+(HA88*MDR!$AX$6/(MDR!EA222*HA114))+(HA89*MDR!$AY$6/(MDR!EA223*HA114)))","v":{"$error":"#VALUE!"}},{"$f":"100/((HC86/HB86)+(HC87/HB87)+(HC88/HB88)+(HC89/HB89))","v":{"$error":"#VALUE!"}},{"$f":"100/((HC86*MDR!$AV$6/(MDR!EC220*HC114))+(HC87*MDR!$AW$6/(MDR!EC221*HC114))+(HC88*MDR!$AX$6/(MDR!EC222*HC114))+(HC89*MDR!$AY$6/(MDR!EC223*HC114)))","v":{"$error":"#VALUE!"}},{"$f":"100/((HE86/HD86)+(HE87/HD87)+(HE88/HD88)+(HE89/HD89))","v":{"$error":"#VALUE!"}},{"$f":"100/((HE86*MDR!$AV$6/(MDR!EE220*HE114))+(HE87*MDR!$AW$6/(MDR!EE221*HE114))+(HE88*MDR!$AX$6/(MDR!EE222*HE114))+(HE89*MDR!$AY$6/(MDR!EE223*HE114)))","v":{"$error":"#VALUE!"}},{"$f":"100/((HG86/HF86)+(HG87/HF87)+(HG88/HF88)+(HG89/HF89))","v":{"$error":"#VALUE!"}},{"$f":"100/((HG86*MDR!$AV$6/(MDR!EG220*HG114))+(HG87*MDR!$AW$6/(MDR!EG221*HG114))+(HG88*MDR!$AX$6/(MDR!EG222*HG114))+(HG89*MDR!$AY$6/(MDR!EG223*HG114)))","v":{"$error":"#VALUE!"}},null,null,null,null,{"$f":"100/((HM86/HL86)+(HM87/HL87)+(HM88/HL88)+(HM89/HL89))","v":{"$error":"#VALUE!"}},{"$f":"100/((HM86*MDR!$AV$6/(MDR!EM220*HM114))+(HM87*MDR!$AW$6/(MDR!EM221*HM114))+(HM88*MDR!$AX$6/(MDR!EM222*HM114))+(HM89*MDR!$AY$6/(MDR!EM223*HM114)))","v":{"$error":"#VALUE!"}},{"$f":"100/((HO86/HN86)+(HO87/HN87)+(HO88/HN88)+(HO89/HN89))","v":{"$error":"#VALUE!"}},{"$f":"100/((HO86*MDR!$AV$6/(MDR!EO220*HO114))+(HO87*MDR!$AW$6/(MDR!EO221*HO114))+(HO88*MDR!$AX$6/(MDR!EO222*HO114))+(HO89*MDR!$AY$6/(MDR!EO223*HO114)))","v":{"$error":"#VALUE!"}},{"$f":"100/((HQ86/HP86)+(HQ87/HP87)+(HQ88/HP88)+(HQ89/HP89))","v":{"$error":"#VALUE!"}},{"$f":"100/((HQ86*MDR!$AV$6/(MDR!EQ220*HQ114))+(HQ87*MDR!$AW$6/(MDR!EQ221*HQ114))+(HQ88*MDR!$AX$6/(MDR!EQ222*HQ114))+(HQ89*MDR!$AY$6/(MDR!EQ223*HQ114)))","v":{"$error":"#VALUE!"}},{"$f":"100/((HS86/HR86)+(HS87/HR87)+(HS88/HR88)+(HS89/HR89))","v":{"$error":"#VALUE!"}},{"$f":"100/((HS86*MDR!$AV$6/(MDR!ES220*HS114))+(HS87*MDR!$AW$6/(MDR!ES221*HS114))+(HS88*MDR!$AX$6/(MDR!ES222*HS114))+(HS89*MDR!$AY$6/(MDR!ES223*HS114)))","v":{"$error":"#VALUE!"}},null,null,null,null,{"$f":"100/((HY86/HX86)+(HY87/HX87)+(HY88/HX88)+(HY89/HX89))","v":{"$error":"#VALUE!"}},{"$f":"100/((HY86*MDR!$AV$6/(MDR!EY220*HY114))+(HY87*MDR!$AW$6/(MDR!EY221*HY114))+(HY88*MDR!$AX$6/(MDR!EY222*HY114))+(HY89*MDR!$AY$6/(MDR!EY223*HY114)))","v":{"$error":"#VALUE!"}},{"$f":"100/((IA86/HZ86)+(IA87/HZ87)+(IA88/HZ88)+(IA89/HZ89))","v":{"$error":"#VALUE!"}},{"$f":"100/((IA86*MDR!$AV$6/(MDR!FA220*IA114))+(IA87*MDR!$AW$6/(MDR!FA221*IA114))+(IA88*MDR!$AX$6/(MDR!FA222*IA114))+(IA89*MDR!$AY$6/(MDR!FA223*IA114)))","v":{"$error":"#VALUE!"}},{"$f":"100/((IC86/IB86)+(IC87/IB87)+(IC88/IB88)+(IC89/IB89))","v":{"$error":"#VALUE!"}},{"$f":"100/((IC86*MDR!$AV$6/(MDR!FC220*IC114))+(IC87*MDR!$AW$6/(MDR!FC221*IC114))+(IC88*MDR!$AX$6/(MDR!FC222*IC114))+(IC89*MDR!$AY$6/(MDR!FC223*IC114)))","v":{"$error":"#VALUE!"}},{"$f":"100/((IE86/ID86)+(IE87/ID87)+(IE88/ID88)+(IE89/ID89))","v":{"$error":"#VALUE!"}},{"$f":"100/((IE86*MDR!$AV$6/(MDR!FE220*IE114))+(IE87*MDR!$AW$6/(MDR!FE221*IE114))+(IE88*MDR!$AX$6/(MDR!FE222*IE114))+(IE89*MDR!$AY$6/(MDR!FE223*IE114)))","v":{"$error":"#VALUE!"}},null,null,null,null,{"$f":"100/((IK86/IJ86)+(IK87/IJ87)+(IK88/IJ88)+(IK89/IJ89))","v":{"$error":"#VALUE!"}},{"$f":"100/((IK86*MDR!$AV$6/(MDR!FK220*IK114))+(IK87*MDR!$AW$6/(MDR!FK221*IK114))+(IK88*MDR!$AX$6/(MDR!FK222*IK114))+(IK89*MDR!$AY$6/(MDR!FK223*IK114)))","v":{"$error":"#VALUE!"}},{"$f":"100/((IM86/IL86)+(IM87/IL87)+(IM88/IL88)+(IM89/IL89))","v":{"$error":"#VALUE!"}},{"$f":"100/((IM86*MDR!$AV$6/(MDR!FM220*IM114))+(IM87*MDR!$AW$6/(MDR!FM221*IM114))+(IM88*MDR!$AX$6/(MDR!FM222*IM114))+(IM89*MDR!$AY$6/(MDR!FM223*IM114)))","v":{"$error":"#VALUE!"}},{"$f":"100/((IO86/IN86)+(IO87/IN87)+(IO88/IN88)+(IO89/IN89))","v":{"$error":"#VALUE!"}},{"$f":"100/((IO86*MDR!$AV$6/(MDR!FO220*IO114))+(IO87*MDR!$AW$6/(MDR!FO221*IO114))+(IO88*MDR!$AX$6/(MDR!FO222*IO114))+(IO89*MDR!$AY$6/(MDR!FO223*IO114)))","v":{"$error":"#VALUE!"}},{"$f":"100/((IQ86/IP86)+(IQ87/IP87)+(IQ88/IP88)+(IQ89/IP89))","v":{"$error":"#VALUE!"}},{"$f":"100/((IQ86*MDR!$AV$6/(MDR!FQ220*IQ114))+(IQ87*MDR!$AW$6/(MDR!FQ221*IQ114))+(IQ88*MDR!$AX$6/(MDR!FQ222*IQ114))+(IQ89*MDR!$AY$6/(MDR!FQ223*IQ114)))","v":{"$error":"#VALUE!"}},null,null,{"$f":"#REF!","v":{"$error":"#REF!"}},"Agency AFT Substituted"]
[null,null,null,{"$f":"100/((E86/D86)+(E87/D87)+(E88/D88)+(E89/D89)+(E90/D90))","v":{"$error":"#DIV/0!"}},{"$f":"100/((E86*MDR!$AV$6/(MDR!BG200*E115))+(E87*MDR!$AW$6/(MDR!BG201*E115))+(E88*MDR!$AX$6/(MDR!BG202*E115))+(E89*MDR!$AY$6/(MDR!BG203*E115))+(E90*MDR!$AZ$6/(MDR!BG204*E115)))","v":{"$error":"#DIV/0!"}},{"$f":"100/((G86/F86)+(G87/F87)+(G88/F88)+(G89/F89)+(G90/F90))","v":{"$error":"#VALUE!"}},{"$f":"100/((G86*MDR!$AV$6/(MDR!BI200*G115))+(G87*MDR!$AW$6/(MDR!BI201*G115))+(G88*MDR!$AX$6/(MDR!BI202*G115))+(G89*MDR!$AY$6/(MDR!BI203*G115))+(G90*MDR!$AZ$6/(MDR!BI204*G115)))","v":{"$error":"#VALUE!"}},{"$f":"100/((I86/H86)+(I87/H87)+(I88/H88)+(I89/H89)+(I90/H90))","v":{"$error":"#VALUE!"}},{"$f":"100/((I86*MDR!$AV$6/(MDR!BK200*I115))+(I87*MDR!$AW$6/(MDR!BK201*I115))+(I88*MDR!$AX$6/(MDR!BK202*I115))+(I89*MDR!$AY$6/(MDR!BK203*I115))+(I90*MDR!$AZ$6/(MDR!BK204*I115)))","v":{"$error":"#VALUE!"}},{"$f":"100/((K86/J86)+(K87/J87)+(K88/J88)+(K89/J89)+(K90/J90))","v":{"$error":"#VALUE!"}},{"$f":"100/((K86*MDR!$AV$6/(MDR!BM200*K115))+(K87*MDR!$AW$6/(MDR!BM201*K115))+(K88*MDR!$AX$6/(MDR!BM202*K115))+(K89*MDR!$AY$6/(MDR!BM203*K115))+(K90*MDR!$AZ$6/(MDR!BM204*K115)))","v":{"$error":"#VALUE!"}},null,null,null,null,{"$f":"100/((Q86/P86)+(Q87/P87)+(Q88/P88)+(Q89/P89)+(Q90/P90))","v":{"$error":"#VALUE!"}},{"$f":"100/((Q86*MDR!$AV$6/(MDR!BS200*Q115))+(Q87*MDR!$AW$6/(MDR!BS201*Q115))+(Q88*MDR!$AX$6/(MDR!BS202*Q115))+(Q89*MDR!$AY$6/(MDR!BS203*Q115))+(Q90*MDR!$AZ$6/(MDR!BS204*Q115)))","v":{"$error":"#VALUE!"}},{"$f":"100/((S86/R86)+(S87/R87)+(S88/R88)+(S89/R89)+(S90/R90))","v":{"$error":"#VALUE!"}},{"$f":"100/((S86*MDR!$AV$6/(MDR!BU200*S115))+(S87*MDR!$AW$6/(MDR!BU201*S115))+(S88*MDR!$AX$6/(MDR!BU202*S115))+(S89*MDR!$AY$6/(MDR!BU203*S115))+(S90*MDR!$AZ$6/(MDR!BU204*S115)))","v":{"$error":"#VALUE!"}},{"$f":"100/((U86/T86)+(U87/T87)+(U88/T88)+(U89/T89)+(U90/T90))","v":{"$error":"#VALUE!"}},{"$f":"100/((U86*MDR!$AV$6/(MDR!BW200*U115))+(U87*MDR!$AW$6/(MDR!BW201*U115))+(U88*MDR!$AX$6/(MDR!BW202*U115))+(U89*MDR!$AY$6/(MDR!BW203*U115))+(U90*MDR!$AZ$6/(MDR!BW204*U115)))","v":{"$error":"#VALUE!"}},{"$f":"100/((W86/V86)+(W87/V87)+(W88/V88)+(W89/V89)+(W90/V90))","v":{"$error":"#VALUE!"}},{"$f":"100/((W86*MDR!$AV$6/(MDR!BY200*W115))+(W87*MDR!$AW$6/(MDR!BY201*W115))+(W88*MDR!$AX$6/(MDR!BY202*W115))+(W89*MDR!$AY$6/(MDR!BY203*W115))+(W90*MDR!$AZ$6/(MDR!BY204*W115)))","v":{"$error":"#VALUE!"}},null,null,null,null,{"$f":"100/((AC86/AB86)+(AC87/AB87)+(AC88/AB88)+(AC89/AB89)+(AC90/AB90))","v":{"$error":"#VALUE!"}},{"$f":"100/((AC86*MDR!$AV$6/(MDR!CE200*AC115))+(AC87*MDR!$AW$6/(MDR!CE201*AC115))+(AC88*MDR!$AX$6/(MDR!CE202*AC115))+(AC89*MDR!$AY$6/(MDR!CE203*AC115))+(AC90*MDR!$AZ$6/(MDR!CE204*AC115)))","v":{"$error":"#VALUE!"}},{"$f":"100/((AE86/AD86)+(AE87/AD87)+(AE88/AD88)+(AE89/AD89)+(AE90/AD90))","v":{"$error":"#VALUE!"}},{"$f":"100/((AE86*MDR!$AV$6/(MDR!CG200*AE115))+(AE87*MDR!$AW$6/(MDR!CG201*AE115))+(AE88*MDR!$AX$6/(MDR!CG202*AE115))+(AE89*MDR!$AY$6/(MDR!CG203*AE115))+(AE90*MDR!$AZ$6/(MDR!CG204*AE115)))","v":{"$error":"#VALUE!"}},{"$f":"100/((AG86/AF86)+(AG87/AF87)+(AG88/AF88)+(AG89/AF89)+(AG90/AF90))","v":{"$error":"#VALUE!"}},{"$f":"100/((AG86*MDR!$AV$6/(MDR!CI200*AG115))+(AG87*MDR!$AW$6/(MDR!CI201*AG115))+(AG88*MDR!$AX$6/(MDR!CI202*AG115))+(AG89*MDR!$AY$6/(MDR!CI203*AG115))+(AG90*MDR!$AZ$6/(MDR!CI204*AG115)))","v":{"$error":"#VALUE!"}},{"$f":"100/((AI86/AH86)+(AI87/AH87)+(AI88/AH88)+(AI89/AH89)+(AI90/AH90))","v":{"$error":"#VALUE!"}},{"$f":"100/((AI86*MDR!$AV$6/(MDR!CK200*AI115))+(AI87*MDR!$AW$6/(MDR!CK201*AI115))+(AI88*MDR!$AX$6/(MDR!CK202*AI115))+(AI89*MDR!$AY$6/(MDR!CK203*AI115))+(AI90*MDR!$AZ$6/(MDR!CK204*AI115)))","v":{"$error":"#VALUE!"}},null,null,null,null,{"$f":"100/((AO86/AN86)+(AO87/AN87)+(AO88/AN88)+(AO89/AN89)+(AO90/AN90))","v":{"$error":"#VALUE!"}},{"$f":"100/((AO86*MDR!$AV$6/(MDR!CQ200*AO115))+(AO87*MDR!$AW$6/(MDR!CQ201*AO115))+(AO88*MDR!$AX$6/(MDR!CQ202*AO115))+(AO89*MDR!$AY$6/(MDR!CQ203*AO115))+(AO90*MDR!$AZ$6/(MDR!CQ204*AO115)))","v":{"$error":"#VALUE!"}},{"$f":"100/((AQ86/AP86)+(AQ87/AP87)+(AQ88/AP88)+(AQ89/AP89)+(AQ90/AP90))","v":{"$error":"#VALUE!"}},{"$f":"100/((AQ86*MDR!$AV$6/(MDR!CS200*AQ115))+(AQ87*MDR!$AW$6/(MDR!CS201*AQ115))+(AQ88*MDR!$AX$6/(MDR!CS202*AQ115))+(AQ89*MDR!$AY$6/(MDR!CS203*AQ115))+(AQ90*MDR!$AZ$6/(MDR!CS204*AQ115)))","v":{"$error":"#VALUE!"}},{"$f":"100/((AS86/AR86)+(AS87/AR87)+(AS88/AR88)+(AS89/AR89)+(AS90/AR90))","v":{"$error":"#VALUE!"}},{"$f":"100/((AS86*MDR!$AV$6/(MDR!CU200*AS115))+(AS87*MDR!$AW$6/(MDR!CU201*AS115))+(AS88*MDR!$AX$6/(MDR!CU202*AS115))+(AS89*MDR!$AY$6/(MDR!CU203*AS115))+(AS90*MDR!$AZ$6/(MDR!CU204*AS115)))","v":{"$error":"#VALUE!"}},{"$f":"100/((AU86/AT86)+(AU87/AT87)+(AU88/AT88)+(AU89/AT89)+(AU90/AT90))","v":{"$error":"#VALUE!"}},{"$f":"100/((AU86*MDR!$AV$6/(MDR!CW200*AU115))+(AU87*MDR!$AW$6/(MDR!CW201*AU115))+(AU88*MDR!$AX$6/(MDR!CW202*AU115))+(AU89*MDR!$AY$6/(MDR!CW203*AU115))+(AU90*MDR!$AZ$6/(MDR!CW204*AU115)))","v":{"$error":"#VALUE!"}},null,null,null,null,{"$f":"100/((BA86/AZ86)+(BA87/AZ87)+(BA88/AZ88)+(BA89/AZ89)+(BA90/AZ90))","v":{"$error":"#VALUE!"}},{"$f":"100/((BA86*MDR!$AV$6/(MDR!DC200*BA115))+(BA87*MDR!$AW$6/(MDR!DC201*BA115))+(BA88*MDR!$AX$6/(MDR!DC202*BA115))+(BA89*MDR!$AY$6/(MDR!DC203*BA115))+(BA90*MDR!$AZ$6/(MDR!DC204*BA115)))","v":{"$error":"#VALUE!"}},{"$f":"100/((BC86/BB86)+(BC87/BB87)+(BC88/BB88)+(BC89/BB89)+(BC90/BB90))","v":{"$error":"#VALUE!"}},{"$f":"100/((BC86*MDR!$AV$6/(MDR!DE200*BC115))+(BC87*MDR!$AW$6/(MDR!DE201*BC115))+(BC88*MDR!$AX$6/(MDR!DE202*BC115))+(BC89*MDR!$AY$6/(MDR!DE203*BC115))+(BC90*MDR!$AZ$6/(MDR!DE204*BC115)))","v":{"$error":"#VALUE!"}},{"$f":"100/((BE86/BD86)+(BE87/BD87)+(BE88/BD88)+(BE89/BD89)+(BE90/BD90))","v":{"$error":"#VALUE!"}},{"$f":"100/((BE86*MDR!$AV$6/(MDR!DG200*BE115))+(BE87*MDR!$AW$6/(MDR!DG201*BE115))+(BE88*MDR!$AX$6/(MDR!DG202*BE115))+(BE89*MDR!$AY$6/(MDR!DG203*BE115))+(BE90*MDR!$AZ$6/(MDR!DG204*BE115)))","v":{"$error":"#VALUE!"}},{"$f":"100/((BG86/BF86)+(BG87/BF87)+(BG88/BF88)+(BG89/BF89)+(BG90/BF90))","v":{"$error":"#VALUE!"}},{"$f":"100/((BG86*MDR!$AV$6/(MDR!DI200*BG115))+(BG87*MDR!$AW$6/(MDR!DI201*BG115))+(BG88*MDR!$AX$6/(MDR!DI202*BG115))+(BG89*MDR!$AY$6/(MDR!DI203*BG115))+(BG90*MDR!$AZ$6/(MDR!DI204*BG115)))","v":{"$error":"#VALUE!"}},null,null,null,null,{"$f":"100/((BM86/BL86)+(BM87/BL87)+(BM88/BL88)+(BM89/BL89)+(BM90/BL90))","v":{"$error":"#VALUE!"}},{"$f":"100/((BM86*MDR!$AV$6/(MDR!DO200*BM115))+(BM87*MDR!$AW$6/(MDR!DO201*BM115))+(BM88*MDR!$AX$6/(MDR!DO202*BM115))+(BM89*MDR!$AY$6/(MDR!DO203*BM115))+(BM90*MDR!$AZ$6/(MDR!DO204*BM115)))","v":{"$error":"#VALUE!"}},{"$f":"100/((BO86/BN86)+(BO87/BN87)+(BO88/BN88)+(BO89/BN89)+(BO90/BN90))","v":{"$error":"#VALUE!"}},{"$f":"100/((BO86*MDR!$AV$6/(MDR!DQ200*BO115))+(BO87*MDR!$AW$6/(MDR!DQ201*BO115))+(BO88*MDR!$AX$6/(MDR!DQ202*BO115))+(BO89*MDR!$AY$6/(MDR!DQ203*BO115))+(BO90*MDR!$AZ$6/(MDR!DQ204*BO115)))","v":{"$error":"#VALUE!"}},{"$f":"100/((BQ86/BP86)+(BQ87/BP87)+(BQ88/BP88)+(BQ89/BP89)+(BQ90/BP90))","v":{"$error":"#VALUE!"}},{"$f":"100/((BQ86*MDR!$AV$6/(MDR!DS200*BQ115))+(BQ87*MDR!$AW$6/(MDR!DS201*BQ115))+(BQ88*MDR!$AX$6/(MDR!DS202*BQ115))+(BQ89*MDR!$AY$6/(MDR!DS203*BQ115))+(BQ90*MDR!$AZ$6/(MDR!DS204*BQ115)))","v":{"$error":"#VALUE!"}},{"$f":"100/((BS86/BR86)+(BS87/BR87)+(BS88/BR88)+(BS89/BR89)+(BS90/BR90))","v":{"$error":"#VALUE!"}},{"$f":"100/((BS86*MDR!$AV$6/(MDR!DU200*BS115))+(BS87*MDR!$AW$6/(MDR!DU201*BS115))+(BS88*MDR!$AX$6/(MDR!DU202*BS115))+(BS89*MDR!$AY$6/(MDR!DU203*BS115))+(BS90*MDR!$AZ$6/(MDR!DU204*BS115)))","v":{"$error":"#VALUE!"}},null,null,null,null,{"$f":"100/((BY86/BX86)+(BY87/BX87)+(BY88/BX88)+(BY89/BX89)+(BY90/BX90))","v":{"$error":"#VALUE!"}},{"$f":"100/((BY86*MDR!$AV$6/(MDR!EA200*BY115))+(BY87*MDR!$AW$6/(MDR!EA201*BY115))+(BY88*MDR!$AX$6/(MDR!EA202*BY115))+(BY89*MDR!$AY$6/(MDR!EA203*BY115))+(BY90*MDR!$AZ$6/(MDR!EA204*BY115)))","v":{"$error":"#VALUE!"}},{"$f":"100/((CA86/BZ86)+(CA87/BZ87)+(CA88/BZ88)+(CA89/BZ89)+(CA90/BZ90))","v":{"$error":"#VALUE!"}},{"$f":"100/((CA86*MDR!$AV$6/(MDR!EC200*CA115))+(CA87*MDR!$AW$6/(MDR!EC201*CA115))+(CA88*MDR!$AX$6/(MDR!EC202*CA115))+(CA89*MDR!$AY$6/(MDR!EC203*CA115))+(CA90*MDR!$AZ$6/(MDR!EC204*CA115)))","v":{"$error":"#VALUE!"}},{"$f":"100/((CC86/CB86)+(CC87/CB87)+(CC88/CB88)+(CC89/CB89)+(CC90/CB90))","v":{"$error":"#VALUE!"}},{"$f":"100/((CC86*MDR!$AV$6/(MDR!EE200*CC115))+(CC87*MDR!$AW$6/(MDR!EE201*CC115))+(CC88*MDR!$AX$6/(MDR!EE202*CC115))+(CC89*MDR!$AY$6/(MDR!EE203*CC115))+(CC90*MDR!$AZ$6/(MDR!EE204*CC115)))","v":{"$error":"#VALUE!"}},{"$f":"100/((CE86/CD86)+(CE87/CD87)+(CE88/CD88)+(CE89/CD89)+(CE90/CD90))","v":{"$error":"#VALUE!"}},{"$f":"100/((CE86*MDR!$AV$6/(MDR!EG200*CE115))+(CE87*MDR!$AW$6/(MDR!EG201*CE115))+(CE88*MDR!$AX$6/(MDR!EG202*CE115))+(CE89*MDR!$AY$6/(MDR!EG203*CE115))+(CE90*MDR!$AZ$6/(MDR!EG204*CE115)))","v":{"$error":"#VALUE!"}},null,null,null,null,{"$f":"100/((CK86/CJ86)+(CK87/CJ87)+(CK88/CJ88)+(CK89/CJ89)+(CK90/CJ90))","v":{"$error":"#VALUE!"}},{"$f":"100/((CK86*MDR!$AV$6/(MDR!EM200*CK115))+(CK87*MDR!$AW$6/(MDR!EM201*CK115))+(CK88*MDR!$AX$6/(MDR!EM202*CK115))+(CK89*MDR!$AY$6/(MDR!EM203*CK115))+(CK90*MDR!$AZ$6/(MDR!EM204*CK115)))","v":{"$error":"#VALUE!"}},{"$f":"100/((CM86/CL86)+(CM87/CL87)+(CM88/CL88)+(CM89/CL89)+(CM90/CL90))","v":{"$error":"#VALUE!"}},{"$f":"100/((CM86*MDR!$AV$6/(MDR!EO200*CM115))+(CM87*MDR!$AW$6/(MDR!EO201*CM115))+(CM88*MDR!$AX$6/(MDR!EO202*CM115))+(CM89*MDR!$AY$6/(MDR!EO203*CM115))+(CM90*MDR!$AZ$6/(MDR!EO204*CM115)))","v":{"$error":"#VALUE!"}},{"$f":"100/((CO86/CN86)+(CO87/CN87)+(CO88/CN88)+(CO89/CN89)+(CO90/CN90))","v":{"$error":"#VALUE!"}},{"$f":"100/((CO86*MDR!$AV$6/(MDR!EQ200*CO115))+(CO87*MDR!$AW$6/(MDR!EQ201*CO115))+(CO88*MDR!$AX$6/(MDR!EQ202*CO115))+(CO89*MDR!$AY$6/(MDR!EQ203*CO115))+(CO90*MDR!$AZ$6/(MDR!EQ204*CO115)))","v":{"$error":"#VALUE!"}},{"$f":"100/((CQ86/CP86)+(CQ87/CP87)+(CQ88/CP88)+(CQ89/CP89)+(CQ90/CP90))","v":{"$error":"#VALUE!"}},{"$f":"100/((CQ86*MDR!$AV$6/(MDR!ES200*CQ115))+(CQ87*MDR!$AW$6/(MDR!ES201*CQ115))+(CQ88*MDR!$AX$6/(MDR!ES202*CQ115))+(CQ89*MDR!$AY$6/(MDR!ES203*CQ115))+(CQ90*MDR!$AZ$6/(MDR!ES204*CQ115)))","v":{"$error":"#VALUE!"}},null,null,null,null,{"$f":"100/((CW86/CV86)+(CW87/CV87)+(CW88/CV88)+(CW89/CV89)+(CW90/CV90))","v":{"$error":"#VALUE!"}},{"$f":"100/((CW86*MDR!$AV$6/(MDR!EY200*CW115))+(CW87*MDR!$AW$6/(MDR!EY201*CW115))+(CW88*MDR!$AX$6/(MDR!EY202*CW115))+(CW89*MDR!$AY$6/(MDR!EY203*CW115))+(CW90*MDR!$AZ$6/(MDR!EY204*CW115)))","v":{"$error":"#VALUE!"}},{"$f":"100/((CY86/CX86)+(CY87/CX87)+(CY88/CX88)+(CY89/CX89)+(CY90/CX90))","v":{"$error":"#VALUE!"}},{"$f":"100/((CY86*MDR!$AV$6/(MDR!FA200*CY115))+(CY87*MDR!$AW$6/(MDR!FA201*CY115))+(CY88*MDR!$AX$6/(MDR!FA202*CY115))+(CY89*MDR!$AY$6/(MDR!FA203*CY115))+(CY90*MDR!$AZ$6/(MDR!FA204*CY115)))","v":{"$error":"#VALUE!"}},{"$f":"100/((DA86/CZ86)+(DA87/CZ87)+(DA88/CZ88)+(DA89/CZ89)+(DA90/CZ90))","v":{"$error":"#VALUE!"}},{"$f":"100/((DA86*MDR!$AV$6/(MDR!FC200*DA115))+(DA87*MDR!$AW$6/(MDR!FC201*DA115))+(DA88*MDR!$AX$6/(MDR!FC202*DA115))+(DA89*MDR!$AY$6/(MDR!FC203*DA115))+(DA90*MDR!$AZ$6/(MDR!FC204*DA115)))","v":{"$error":"#VALUE!"}},{"$f":"100/((DC86/DB86)+(DC87/DB87)+(DC88/DB88)+(DC89/DB89)+(DC90/DB90))","v":{"$error":"#VALUE!"}},{"$f":"100/((DC86*MDR!$AV$6/(MDR!FE200*DC115))+(DC87*MDR!$AW$6/(MDR!FE201*DC115))+(DC88*MDR!$AX$6/(MDR!FE202*DC115))+(DC89*MDR!$AY$6/(MDR!FE203*DC115))+(DC90*MDR!$AZ$6/(MDR!FE204*DC115)))","v":{"$error":"#VALUE!"}},null,null,null,null,{"$f":"100/((DI86/DH86)+(DI87/DH87)+(DI88/DH88)+(DI89/DH89)+(DI90/DH90))","v":{"$error":"#VALUE!"}},{"$f":"100/((DI86*MDR!$AV$6/(MDR!FK200*DI115))+(DI87*MDR!$AW$6/(MDR!FK201*DI115))+(DI88*MDR!$AX$6/(MDR!FK202*DI115))+(DI89*MDR!$AY$6/(MDR!FK203*DI115))+(DI90*MDR!$AZ$6/(MDR!FK204*DI115)))","v":{"$error":"#VALUE!"}},{"$f":"100/((DK86/DJ86)+(DK87/DJ87)+(DK88/DJ88)+(DK89/DJ89)+(DK90/DJ90))","v":{"$error":"#VALUE!"}},{"$f":"100/((DK86*MDR!$AV$6/(MDR!FM200*DK115))+(DK87*MDR!$AW$6/(MDR!FM201*DK115))+(DK88*MDR!$AX$6/(MDR!FM202*DK115))+(DK89*MDR!$AY$6/(MDR!FM203*DK115))+(DK90*MDR!$AZ$6/(MDR!FM204*DK115)))","v":{"$error":"#VALUE!"}},{"$f":"100/((DM86/DL86)+(DM87/DL87)+(DM88/DL88)+(DM89/DL89)+(DM90/DL90))","v":{"$error":"#VALUE!"}},{"$f":"100/((DM86*MDR!$AV$6/(MDR!FO200*DM115))+(DM87*MDR!$AW$6/(MDR!FO201*DM115))+(DM88*MDR!$AX$6/(MDR!FO202*DM115))+(DM89*MDR!$AY$6/(MDR!FO203*DM115))+(DM90*MDR!$AZ$6/(MDR!FO204*DM115)))","v":{"$error":"#VALUE!"}},{"$f":"100/((DO86/DN86)+(DO87/DN87)+(DO88/DN88)+(DO89/DN89)+(DO90/DN90))","v":{"$error":"#VALUE!"}},{"$f":"100/((DO86*MDR!$AV$6/(MDR!FQ200*DO115))+(DO87*MDR!$AW$6/(MDR!FQ201*DO115))+(DO88*MDR!$AX$6/(MDR!FQ202*DO115))+(DO89*MDR!$AY$6/(MDR!FQ203*DO115))+(DO90*MDR!$AZ$6/(MDR!FQ204*DO115)))","v":{"$error":"#VALUE!"}},null,null,null,null,{"$f":"100/((DU86/DT86)+(DU87/DT87)+(DU88/DT88)+(DU89/DT89)+(DU90/DT90))","v":{"$error":"#VALUE!"}},{"$f":"100/((DU86*MDR!$AV$6/(MDR!FW200*DU115))+(DU87*MDR!$AW$6/(MDR!FW201*DU115))+(DU88*MDR!$AX$6/(MDR!FW202*DU115))+(DU89*MDR!$AY$6/(MDR!FW203*DU115))+(DU90*MDR!$AZ$6/(MDR!FW204*DU115)))","v":{"$error":"#VALUE!"}},{"$f":"100/((DW86/DV86)+(DW87/DV87)+(DW88/DV88)+(DW89/DV89)+(DW90/DV90))","v":{"$error":"#VALUE!"}},{"$f":"100/((DW86*MDR!$AV$6/(MDR!FY200*DW115))+(DW87*MDR!$AW$6/(MDR!FY201*DW115))+(DW88*MDR!$AX$6/(MDR!FY202*DW115))+(DW89*MDR!$AY$6/(MDR!FY203*DW115))+(DW90*MDR!$AZ$6/(MDR!FY204*DW115)))","v":{"$error":"#VALUE!"}},{"$f":"100/((DY86/DX86)+(DY87/DX87)+(DY88/DX88)+(DY89/DX89)+(DY90/DX90))","v":{"$error":"#VALUE!"}},{"$f":"100/((DY86*MDR!$AV$6/(MDR!GA200*DY115))+(DY87*MDR!$AW$6/(MDR!GA201*DY115))+(DY88*MDR!$AX$6/(MDR!GA202*DY115))+(DY89*MDR!$AY$6/(MDR!GA203*DY115))+(DY90*MDR!$AZ$6/(MDR!GA204*DY115)))","v":{"$error":"#VALUE!"}},{"$f":"100/((EA86/DZ86)+(EA87/DZ87)+(EA88/DZ88)+(EA89/DZ89)+(EA90/DZ90))","v":{"$error":"#VALUE!"}},{"$f":"100/((EA86*MDR!$AV$6/(MDR!GC200*EA115))+(EA87*MDR!$AW$6/(MDR!GC201*EA115))+(EA88*MDR!$AX$6/(MDR!GC202*EA115))+(EA89*MDR!$AY$6/(MDR!GC203*EA115))+(EA90*MDR!$AZ$6/(MDR!GC204*EA115)))","v":{"$error":"#VALUE!"}},null,null,null,null,{"$f":"100/((EG86/EF86)+(EG87/EF87)+(EG88/EF88)+(EG89/EF89)+(EG90/EF90))","v":{"$error":"#VALUE!"}},{"$f":"100/((EG86*MDR!$AV$6/(MDR!BG220*EG115))+(EG87*MDR!$AW$6/(MDR!BG221*EG115))+(EG88*MDR!$AX$6/(MDR!BG222*EG115))+(EG89*MDR!$AY$6/(MDR!BG223*EG115))+(EG90*MDR!$AZ$6/(MDR!BG224*EG115)))","v":{"$error":"#VALUE!"}},{"$f":"100/((EI86/EH86)+(EI87/EH87)+(EI88/EH88)+(EI89/EH89)+(EI90/EH90))","v":{"$error":"#VALUE!"}},{"$f":"100/((EI86*MDR!$AV$6/(MDR!BI220*EI115))+(EI87*MDR!$AW$6/(MDR!BI221*EI115))+(EI88*MDR!$AX$6/(MDR!BI222*EI115))+(EI89*MDR!$AY$6/(MDR!BI223*EI115))+(EI90*MDR!$AZ$6/(MDR!BI224*EI115)))","v":{"$error":"#VALUE!"}},{"$f":"100/((EK86/EJ86)+(EK87/EJ87)+(EK88/EJ88)+(EK89/EJ89)+(EK90/EJ90))","v":{"$error":"#VALUE!"}},{"$f":"100/((EK86*MDR!$AV$6/(MDR!BK220*EK115))+(EK87*MDR!$AW$6/(MDR!BK221*EK115))+(EK88*MDR!$AX$6/(MDR!BK222*EK115))+(EK89*MDR!$AY$6/(MDR!BK223*EK115))+(EK90*MDR!$AZ$6/(MDR!BK224*EK115)))","v":{"$error":"#VALUE!"}},{"$f":"100/((EM86/EL86)+(EM87/EL87)+(EM88/EL88)+(EM89/EL89)+(EM90/EL90))","v":{"$error":"#VALUE!"}},{"$f":"100/((EM86*MDR!$AV$6/(MDR!BM220*EM115))+(EM87*MDR!$AW$6/(MDR!BM221*EM115))+(EM88*MDR!$AX$6/(MDR!BM222*EM115))+(EM89*MDR!$AY$6/(MDR!BM223*EM115))+(EM90*MDR!$AZ$6/(MDR!BM224*EM115)))","v":{"$error":"#VALUE!"}},null,null,null,null,{"$f":"100/((ES86/ER86)+(ES87/ER87)+(ES88/ER88)+(ES89/ER89)+(ES90/ER90))","v":{"$error":"#VALUE!"}},{"$f":"100/((ES86*MDR!$AV$6/(MDR!BS220*ES115))+(ES87*MDR!$AW$6/(MDR!BS221*ES115))+(ES88*MDR!$AX$6/(MDR!BS222*ES115))+(ES89*MDR!$AY$6/(MDR!BS223*ES115))+(ES90*MDR!$AZ$6/(MDR!BS224*ES115)))","v":{"$error":"#VALUE!"}},{"$f":"100/((EU86/ET86)+(EU87/ET87)+(EU88/ET88)+(EU89/ET89)+(EU90/ET90))","v":{"$error":"#VALUE!"}},{"$f":"100/((EU86*MDR!$AV$6/(MDR!BU220*EU115))+(EU87*MDR!$AW$6/(MDR!BU221*EU115))+(EU88*MDR!$AX$6/(MDR!BU222*EU115))+(EU89*MDR!$AY$6/(MDR!BU223*EU115))+(EU90*MDR!$AZ$6/(MDR!BU224*EU115)))","v":{"$error":"#VALUE!"}},{"$f":"100/((EW86/EV86)+(EW87/EV87)+(EW88/EV88)+(EW89/EV89)+(EW90/EV90))","v":{"$error":"#VALUE!"}},{"$f":"100/((EW86*MDR!$AV$6/(MDR!BW220*EW115))+(EW87*MDR!$AW$6/(MDR!BW221*EW115))+(EW88*MDR!$AX$6/(MDR!BW222*EW115))+(EW89*MDR!$AY$6/(MDR!BW223*EW115))+(EW90*MDR!$AZ$6/(MDR!BW224*EW115)))","v":{"$error":"#VALUE!"}},{"$f":"100/((EY86/EX86)+(EY87/EX87)+(EY88/EX88)+(EY89/EX89)+(EY90/EX90))","v":{"$error":"#VALUE!"}},{"$f":"100/((EY86*MDR!$AV$6/(MDR!BY220*EY115))+(EY87*MDR!$AW$6/(MDR!BY221*EY115))+(EY88*MDR!$AX$6/(MDR!BY222*EY115))+(EY89*MDR!$AY$6/(MDR!BY223*EY115))+(EY90*MDR!$AZ$6/(MDR!BY224*EY115)))","v":{"$error":"#VALUE!"}},null,null,null,null,{"$f":"100/((FE86/FD86)+(FE87/FD87)+(FE88/FD88)+(FE89/FD89)+(FE90/FD90))","v":{"$error":"#VALUE!"}},{"$f":"100/((FE86*MDR!$AV$6/(MDR!CE220*FE115))+(FE87*MDR!$AW$6/(MDR!CE221*FE115))+(FE88*MDR!$AX$6/(MDR!CE222*FE115))+(FE89*MDR!$AY$6/(MDR!CE223*FE115))+(FE90*MDR!$AZ$6/(MDR!CE224*FE115)))","v":{"$error":"#VALUE!"}},{"$f":"100/((FG86/FF86)+(FG87/FF87)+(FG88/FF88)+(FG89/FF89)+(FG90/FF90))","v":{"$error":"#VALUE!"}},{"$f":"100/((FG86*MDR!$AV$6/(MDR!CG220*FG115))+(FG87*MDR!$AW$6/(MDR!CG221*FG115))+(FG88*MDR!$AX$6/(MDR!CG222*FG115))+(FG89*MDR!$AY$6/(MDR!CG223*FG115))+(FG90*MDR!$AZ$6/(MDR!CG224*FG115)))","v":{"$error":"#VALUE!"}},{"$f":"100/((FI86/FH86)+(FI87/FH87)+(FI88/FH88)+(FI89/FH89)+(FI90/FH90))","v":{"$error":"#VALUE!"}},{"$f":"100/((FI86*MDR!$AV$6/(MDR!CI220*FI115))+(FI87*MDR!$AW$6/(MDR!CI221*FI115))+(FI88*MDR!$AX$6/(MDR!CI222*FI115))+(FI89*MDR!$AY$6/(MDR!CI223*FI115))+(FI90*MDR!$AZ$6/(MDR!CI224*FI115)))","v":{"$error":"#VALUE!"}},{"$f":"100/((FK86/FJ86)+(FK87/FJ87)+(FK88/FJ88)+(FK89/FJ89)+(FK90/FJ90))","v":{"$error":"#VALUE!"}},{"$f":"100/((FK86*MDR!$AV$6/(MDR!CK220*FK115))+(FK87*MDR!$AW$6/(MDR!CK221*FK115))+(FK88*MDR!$AX$6/(MDR!CK222*FK115))+(FK89*MDR!$AY$6/(MDR!CK223*FK115))+(FK90*MDR!$AZ$6/(MDR!CK224*FK115)))","v":{"$error":"#VALUE!"}},null,null,null,null,{"$f":"100/((FQ86/FP86)+(FQ87/FP87)+(FQ88/FP88)+(FQ89/FP89)+(FQ90/FP90))","v":{"$error":"#VALUE!"}},{"$f":"100/((FQ86*MDR!$AV$6/(MDR!CQ220*FQ115))+(FQ87*MDR!$AW$6/(MDR!CQ221*FQ115))+(FQ88*MDR!$AX$6/(MDR!CQ222*FQ115))+(FQ89*MDR!$AY$6/(MDR!CQ223*FQ115))+(FQ90*MDR!$AZ$6/(MDR!CQ224*FQ115)))","v":{"$error":"#VALUE!"}},{"$f":"100/((FS86/FR86)+(FS87/FR87)+(FS88/FR88)+(FS89/FR89)+(FS90/FR90))","v":{"$error":"#VALUE!"}},{"$f":"100/((FS86*MDR!$AV$6/(MDR!CS220*FS115))+(FS87*MDR!$AW$6/(MDR!CS221*FS115))+(FS88*MDR!$AX$6/(MDR!CS222*FS115))+(FS89*MDR!$AY$6/(MDR!CS223*FS115))+(FS90*MDR!$AZ$6/(MDR!CS224*FS115)))","v":{"$error":"#VALUE!"}},{"$f":"100/((FU86/FT86)+(FU87/FT87)+(FU88/FT88)+(FU89/FT89)+(FU90/FT90))","v":{"$error":"#VALUE!"}},{"$f":"100/((FU86*MDR!$AV$6/(MDR!CU220*FU115))+(FU87*MDR!$AW$6/(MDR!CU221*FU115))+(FU88*MDR!$AX$6/(MDR!CU222*FU115))+(FU89*MDR!$AY$6/(MDR!CU223*FU115))+(FU90*MDR!$AZ$6/(MDR!CU224*FU115)))","v":{"$error":"#VALUE!"}},{"$f":"100/((FW86/FV86)+(FW87/FV87)+(FW88/FV88)+(FW89/FV89)+(FW90/FV90))","v":{"$error":"#VALUE!"}},{"$f":"100/((FW86*MDR!$AV$6/(MDR!CW220*FW115))+(FW87*MDR!$AW$6/(MDR!CW221*FW115))+(FW88*MDR!$AX$6/(MDR!CW222*FW115))+(FW89*MDR!$AY$6/(MDR!CW223*FW115))+(FW90*MDR!$AZ$6/(MDR!CW224*FW115)))","v":{"$error":"#VALUE!"}},null,null,null,null,{"$f":"100/((GC86/GB86)+(GC87/GB87)+(GC88/GB88)+(GC89/GB89)+(GC90/GB90))","v":{"$error":"#VALUE!"}},{"$f":"100/((GC86*MDR!$AV$6/(MDR!DC220*GC115))+(GC87*MDR!$AW$6/(MDR!DC221*GC115))+(GC88*MDR!$AX$6/(MDR!DC222*GC115))+(GC89*MDR!$AY$6/(MDR!DC223*GC115))+(GC90*MDR!$AZ$6/(MDR!DC224*GC115)))","v":{"$error":"#VALUE!"}},{"$f":"100/((GE86/GD86)+(GE87/GD87)+(GE88/GD88)+(GE89/GD89)+(GE90/GD90))","v":{"$error":"#VALUE!"}},{"$f":"100/((GE86*MDR!$AV$6/(MDR!DE220*GE115))+(GE87*MDR!$AW$6/(MDR!DE221*GE115))+(GE88*MDR!$AX$6/(MDR!DE222*GE115))+(GE89*MDR!$AY$6/(MDR!DE223*GE115))+(GE90*MDR!$AZ$6/(MDR!DE224*GE115)))","v":{"$error":"#VALUE!"}},{"$f":"100/((GG86/GF86)+(GG87/GF87)+(GG88/GF88)+(GG89/GF89)+(GG90/GF90))","v":{"$error":"#VALUE!"}},{"$f":"100/((GG86*MDR!$AV$6/(MDR!DG220*GG115))+(GG87*MDR!$AW$6/(MDR!DG221*GG115))+(GG88*MDR!$AX$6/(MDR!DG222*GG115))+(GG89*MDR!$AY$6/(MDR!DG223*GG115))+(GG90*MDR!$AZ$6/(MDR!DG224*GG115)))","v":{"$error":"#VALUE!"}},{"$f":"100/((GI86/GH86)+(GI87/GH87)+(GI88/GH88)+(GI89/GH89)+(GI90/GH90))","v":{"$error":"#VALUE!"}},{"$f":"100/((GI86*MDR!$AV$6/(MDR!DI220*GI115))+(GI87*MDR!$AW$6/(MDR!DI221*GI115))+(GI88*MDR!$AX$6/(MDR!DI222*GI115))+(GI89*MDR!$AY$6/(MDR!DI223*GI115))+(GI90*MDR!$AZ$6/(MDR!DI224*GI115)))","v":{"$error":"#VALUE!"}},null,null,null,null,{"$f":"100/((GO86/GN86)+(GO87/GN87)+(GO88/GN88)+(GO89/GN89)+(GO90/GN90))","v":{"$error":"#VALUE!"}},{"$f":"100/((GO86*MDR!$AV$6/(MDR!DO220*GO115))+(GO87*MDR!$AW$6/(MDR!DO221*GO115))+(GO88*MDR!$AX$6/(MDR!DO222*GO115))+(GO89*MDR!$AY$6/(MDR!DO223*GO115))+(GO90*MDR!$AZ$6/(MDR!DO224*GO115)))","v":{"$error":"#VALUE!"}},{"$f":"100/((GQ86/GP86)+(GQ87/GP87)+(GQ88/GP88)+(GQ89/GP89)+(GQ90/GP90))","v":{"$error":"#VALUE!"}},{"$f":"100/((GQ86*MDR!$AV$6/(MDR!DQ220*GQ115))+(GQ87*MDR!$AW$6/(MDR!DQ221*GQ115))+(GQ88*MDR!$AX$6/(MDR!DQ222*GQ115))+(GQ89*MDR!$AY$6/(MDR!DQ223*GQ115))+(GQ90*MDR!$AZ$6/(MDR!DQ224*GQ115)))","v":{"$error":"#VALUE!"}},{"$f":"100/((GS86/GR86)+(GS87/GR87)+(GS88/GR88)+(GS89/GR89)+(GS90/GR90))","v":{"$error":"#VALUE!"}},{"$f":"100/((GS86*MDR!$AV$6/(MDR!DS220*GS115))+(GS87*MDR!$AW$6/(MDR!DS221*GS115))+(GS88*MDR!$AX$6/(MDR!DS222*GS115))+(GS89*MDR!$AY$6/(MDR!DS223*GS115))+(GS90*MDR!$AZ$6/(MDR!DS224*GS115)))","v":{"$error":"#VALUE!"}},{"$f":"100/((GU86/GT86)+(GU87/GT87)+(GU88/GT88)+(GU89/GT89)+(GU90/GT90))","v":{"$error":"#VALUE!"}},{"$f":"100/((GU86*MDR!$AV$6/(MDR!DU220*GU115))+(GU87*MDR!$AW$6/(MDR!DU221*GU115))+(GU88*MDR!$AX$6/(MDR!DU222*GU115))+(GU89*MDR!$AY$6/(MDR!DU223*GU115))+(GU90*MDR!$AZ$6/(MDR!DU224*GU115)))","v":{"$error":"#VALUE!"}},null,null,null,null,{"$f":"100/((HA86/GZ86)+(HA87/GZ87)+(HA88/GZ88)+(HA89/GZ89)+(HA90/GZ90))","v":{"$error":"#VALUE!"}},{"$f":"100/((HA86*MDR!$AV$6/(MDR!EA220*HA115))+(HA87*MDR!$AW$6/(MDR!EA221*HA115))+(HA88*MDR!$AX$6/(MDR!EA222*HA115))+(HA89*MDR!$AY$6/(MDR!EA223*HA115))+(HA90*MDR!$AZ$6/(MDR!EA224*HA115)))","v":{"$error":"#VALUE!"}},{"$f":"100/((HC86/HB86)+(HC87/HB87)+(HC88/HB88)+(HC89/HB89)+(HC90/HB90))","v":{"$error":"#VALUE!"}},{"$f":"100/((HC86*MDR!$AV$6/(MDR!EC220*HC115))+(HC87*MDR!$AW$6/(MDR!EC221*HC115))+(HC88*MDR!$AX$6/(MDR!EC222*HC115))+(HC89*MDR!$AY$6/(MDR!EC223*HC115))+(HC90*MDR!$AZ$6/(MDR!EC224*HC115)))","v":{"$error":"#VALUE!"}},{"$f":"100/((HE86/HD86)+(HE87/HD87)+(HE88/HD88)+(HE89/HD89)+(HE90/HD90))","v":{"$error":"#VALUE!"}},{"$f":"100/((HE86*MDR!$AV$6/(MDR!EE220*HE115))+(HE87*MDR!$AW$6/(MDR!EE221*HE115))+(HE88*MDR!$AX$6/(MDR!EE222*HE115))+(HE89*MDR!$AY$6/(MDR!EE223*HE115))+(HE90*MDR!$AZ$6/(MDR!EE224*HE115)))","v":{"$error":"#VALUE!"}},{"$f":"100/((HG86/HF86)+(HG87/HF87)+(HG88/HF88)+(HG89/HF89)+(HG90/HF90))","v":{"$error":"#VALUE!"}},{"$f":"100/((HG86*MDR!$AV$6/(MDR!EG220*HG115))+(HG87*MDR!$AW$6/(MDR!EG221*HG115))+(HG88*MDR!$AX$6/(MDR!EG222*HG115))+(HG89*MDR!$AY$6/(MDR!EG223*HG115))+(HG90*MDR!$AZ$6/(MDR!EG224*HG115)))","v":{"$error":"#VALUE!"}},null,null,null,null,{"$f":"100/((HM86/HL86)+(HM87/HL87)+(HM88/HL88)+(HM89/HL89)+(HM90/HL90))","v":{"$error":"#VALUE!"}},{"$f":"100/((HM86*MDR!$AV$6/(MDR!EM220*HM115))+(HM87*MDR!$AW$6/(MDR!EM221*HM115))+(HM88*MDR!$AX$6/(MDR!EM222*HM115))+(HM89*MDR!$AY$6/(MDR!EM223*HM115))+(HM90*MDR!$AZ$6/(MDR!EM224*HM115)))","v":{"$error":"#VALUE!"}},{"$f":"100/((HO86/HN86)+(HO87/HN87)+(HO88/HN88)+(HO89/HN89)+(HO90/HN90))","v":{"$error":"#VALUE!"}},{"$f":"100/((HO86*MDR!$AV$6/(MDR!EO220*HO115))+(HO87*MDR!$AW$6/(MDR!EO221*HO115))+(HO88*MDR!$AX$6/(MDR!EO222*HO115))+(HO89*MDR!$AY$6/(MDR!EO223*HO115))+(HO90*MDR!$AZ$6/(MDR!EO224*HO115)))","v":{"$error":"#VALUE!"}},{"$f":"100/((HQ86/HP86)+(HQ87/HP87)+(HQ88/HP88)+(HQ89/HP89)+(HQ90/HP90))","v":{"$error":"#VALUE!"}},{"$f":"100/((HQ86*MDR!$AV$6/(MDR!EQ220*HQ115))+(HQ87*MDR!$AW$6/(MDR!EQ221*HQ115))+(HQ88*MDR!$AX$6/(MDR!EQ222*HQ115))+(HQ89*MDR!$AY$6/(MDR!EQ223*HQ115))+(HQ90*MDR!$AZ$6/(MDR!EQ224*HQ115)))","v":{"$error":"#VALUE!"}},{"$f":"100/((HS86/HR86)+(HS87/HR87)+(HS88/HR88)+(HS89/HR89)+(HS90/HR90))","v":{"$error":"#VALUE!"}},{"$f":"100/((HS86*MDR!$AV$6/(MDR!ES220*HS115))+(HS87*MDR!$AW$6/(MDR!ES221*HS115))+(HS88*MDR!$AX$6/(MDR!ES222*HS115))+(HS89*MDR!$AY$6/(MDR!ES223*HS115))+(HS90*MDR!$AZ$6/(MDR!ES224*HS115)))","v":{"$error":"#VALUE!"}},null,null,null,null,{"$f":"100/((HY86/HX86)+(HY87/HX87)+(HY88/HX88)+(HY89/HX89)+(HY90/HX90))","v":{"$error":"#VALUE!"}},{"$f":"100/((HY86*MDR!$AV$6/(MDR!EY220*HY115))+(HY87*MDR!$AW$6/(MDR!EY221*HY115))+(HY88*MDR!$AX$6/(MDR!EY222*HY115))+(HY89*MDR!$AY$6/(MDR!EY223*HY115))+(HY90*MDR!$AZ$6/(MDR!EY224*HY115)))","v":{"$error":"#VALUE!"}},{"$f":"100/((IA86/HZ86)+(IA87/HZ87)+(IA88/HZ88)+(IA89/HZ89)+(IA90/HZ90))","v":{"$error":"#VALUE!"}},{"$f":"100/((IA86*MDR!$AV$6/(MDR!FA220*IA115))+(IA87*MDR!$AW$6/(MDR!FA221*IA115))+(IA88*MDR!$AX$6/(MDR!FA222*IA115))+(IA89*MDR!$AY$6/(MDR!FA223*IA115))+(IA90*MDR!$AZ$6/(MDR!FA224*IA115)))","v":{"$error":"#VALUE!"}},{"$f":"100/((IC86/IB86)+(IC87/IB87)+(IC88/IB88)+(IC89/IB89)+(IC90/IB90))","v":{"$error":"#VALUE!"}},{"$f":"100/((IC86*MDR!$AV$6/(MDR!FC220*IC115))+(IC87*MDR!$AW$6/(MDR!FC221*IC115))+(IC88*MDR!$AX$6/(MDR!FC222*IC115))+(IC89*MDR!$AY$6/(MDR!FC223*IC115))+(IC90*MDR!$AZ$6/(MDR!FC224*IC115)))","v":{"$error":"#VALUE!"}},{"$f":"100/((IE86/ID86)+(IE87/ID87)+(IE88/ID88)+(IE89/ID89)+(IE90/ID90))","v":{"$error":"#VALUE!"}},{"$f":"100/((IE86*MDR!$AV$6/(MDR!FE220*IE115))+(IE87*MDR!$AW$6/(MDR!FE221*IE115))+(IE88*MDR!$AX$6/(MDR!FE222*IE115))+(IE89*MDR!$AY$6/(MDR!FE223*IE115))+(IE90*MDR!$AZ$6/(MDR!FE224*IE115)))","v":{"$error":"#VALUE!"}},null,null,null,null,{"$f":"100/((IK86/IJ86)+(IK87/IJ87)+(IK88/IJ88)+(IK89/IJ89)+(IK90/IJ90))","v":{"$error":"#VALUE!"}},{"$f":"100/((IK86*MDR!$AV$6/(MDR!FK220*IK115))+(IK87*MDR!$AW$6/(MDR!FK221*IK115))+(IK88*MDR!$AX$6/(MDR!FK222*IK115))+(IK89*MDR!$AY$6/(MDR!FK223*IK115))+(IK90*MDR!$AZ$6/(MDR!FK224*IK115)))","v":{"$error":"#VALUE!"}},{"$f":"100/((IM86/IL86)+(IM87/IL87)+(IM88/IL88)+(IM89/IL89)+(IM90/IL90))","v":{"$error":"#VALUE!"}},{"$f":"100/((IM86*MDR!$AV$6/(MDR!FM220*IM115))+(IM87*MDR!$AW$6/(MDR!FM221*IM115))+(IM88*MDR!$AX$6/(MDR!FM222*IM115))+(IM89*MDR!$AY$6/(MDR!FM223*IM115))+(IM90*MDR!$AZ$6/(MDR!FM224*IM115)))","v":{"$error":"#VALUE!"}},{"$f":"100/((IO86/IN86)+(IO87/IN87)+(IO88/IN88)+(IO89/IN89)+(IO90/IN90))","v":{"$error":"#VALUE!"}},{"$f":"100/((IO86*MDR!$AV$6/(MDR!FO220*IO115))+(IO87*MDR!$AW$6/(MDR!FO221*IO115))+(IO88*MDR!$AX$6/(MDR!FO222*IO115))+(IO89*MDR!$AY$6/(MDR!FO223*IO115))+(IO90*MDR!$AZ$6/(MDR!FO224*IO115)))","v":{"$error":"#VALUE!"}},{"$f":"100/((IQ86/IP86)+(IQ87/IP87)+(IQ88/IP88)+(IQ89/IP89)+(IQ90/IP90))","v":{"$error":"#VALUE!"}},{"$f":"100/((IQ86*MDR!$AV$6/(MDR!FQ220*IQ115))+(IQ87*MDR!$AW$6/(MDR!FQ221*IQ115))+(IQ88*MDR!$AX$6/(MDR!FQ222*IQ115))+(IQ89*MDR!$AY$6/(MDR!FQ223*IQ115))+(IQ90*MDR!$AZ$6/(MDR!FQ224*IQ115)))","v":{"$error":"#VALUE!"}},null,null,{"$f":"#REF!","v":{"$error":"#REF!"}},"Agency AFT Substituted"]
[null,null,null,{"$f":"100/((E86/D86)+(E87/D87)+(E88/D88)+(E89/D89)+(E90/D90)+(E91/D91))","v":{"$error":"#DIV/0!"}},{"$f":"100/((E86*MDR!$AV$6/(MDR!BG200*E116))+(E87*MDR!$AW$6/(MDR!BG201*E116))+(E88*MDR!$AX$6/(MDR!BG202*E116))+(E89*MDR!$AY$6/(MDR!BG203*E116))+(E90*MDR!$AZ$6/(MDR!BG204*E116))+(E91*MDR!$BA$6/(MDR!BG205*E116)))","v":{"$error":"#DIV/0!"}},{"$f":"100/((G86/F86)+(G87/F87)+(G88/F88)+(G89/F89)+(G90/F90)+(G91/F91))","v":{"$error":"#VALUE!"}},{"$f":"100/((G86*MDR!$AV$6/(MDR!BI200*G116))+(G87*MDR!$AW$6/(MDR!BI201*G116))+(G88*MDR!$AX$6/(MDR!BI202*G116))+(G89*MDR!$AY$6/(MDR!BI203*G116))+(G90*MDR!$AZ$6/(MDR!BI204*G116))+(G91*MDR!$BA$6/(MDR!BI205*G116)))","v":{"$error":"#VALUE!"}},{"$f":"100/((I86/H86)+(I87/H87)+(I88/H88)+(I89/H89)+(I90/H90)+(I91/H91))","v":{"$error":"#VALUE!"}},{"$f":"100/((I86*MDR!$AV$6/(MDR!BK200*I116))+(I87*MDR!$AW$6/(MDR!BK201*I116))+(I88*MDR!$AX$6/(MDR!BK202*I116))+(I89*MDR!$AY$6/(MDR!BK203*I116))+(I90*MDR!$AZ$6/(MDR!BK204*I116))+(I91*MDR!$BA$6/(MDR!BK205*I116)))","v":{"$error":"#VALUE!"}},{"$f":"100/((K86/J86)+(K87/J87)+(K88/J88)+(K89/J89)+(K90/J90)+(K91/J91))","v":{"$error":"#VALUE!"}},{"$f":"100/((K86*MDR!$AV$6/(MDR!BM200*K116))+(K87*MDR!$AW$6/(MDR!BM201*K116))+(K88*MDR!$AX$6/(MDR!BM202*K116))+(K89*MDR!$AY$6/(MDR!BM203*K116))+(K90*MDR!$AZ$6/(MDR!BM204*K116))+(K91*MDR!$BA$6/(MDR!BM205*K116)))","v":{"$error":"#VALUE!"}},null,null,null,null,{"$f":"100/((Q86/P86)+(Q87/P87)+(Q88/P88)+(Q89/P89)+(Q90/P90)+(Q91/P91))","v":{"$error":"#VALUE!"}},{"$f":"100/((Q86*MDR!$AV$6/(MDR!BS200*Q116))+(Q87*MDR!$AW$6/(MDR!BS201*Q116))+(Q88*MDR!$AX$6/(MDR!BS202*Q116))+(Q89*MDR!$AY$6/(MDR!BS203*Q116))+(Q90*MDR!$AZ$6/(MDR!BS204*Q116))+(Q91*MDR!$BA$6/(MDR!BS205*Q116)))","v":{"$error":"#VALUE!"}},{"$f":"100/((S86/R86)+(S87/R87)+(S88/R88)+(S89/R89)+(S90/R90)+(S91/R91))","v":{"$error":"#VALUE!"}},{"$f":"100/((S86*MDR!$AV$6/(MDR!BU200*S116))+(S87*MDR!$AW$6/(MDR!BU201*S116))+(S88*MDR!$AX$6/(MDR!BU202*S116))+(S89*MDR!$AY$6/(MDR!BU203*S116))+(S90*MDR!$AZ$6/(MDR!BU204*S116))+(S91*MDR!$BA$6/(MDR!BU205*S116)))","v":{"$error":"#VALUE!"}},{"$f":"100/((U86/T86)+(U87/T87)+(U88/T88)+(U89/T89)+(U90/T90)+(U91/T91))","v":{"$error":"#VALUE!"}},{"$f":"100/((U86*MDR!$AV$6/(MDR!BW200*U116))+(U87*MDR!$AW$6/(MDR!BW201*U116))+(U88*MDR!$AX$6/(MDR!BW202*U116))+(U89*MDR!$AY$6/(MDR!BW203*U116))+(U90*MDR!$AZ$6/(MDR!BW204*U116))+(U91*MDR!$BA$6/(MDR!BW205*U116)))","v":{"$error":"#VALUE!"}},{"$f":"100/((W86/V86)+(W87/V87)+(W88/V88)+(W89/V89)+(W90/V90)+(W91/V91))","v":{"$error":"#VALUE!"}},{"$f":"100/((W86*MDR!$AV$6/(MDR!BY200*W116))+(W87*MDR!$AW$6/(MDR!BY201*W116))+(W88*MDR!$AX$6/(MDR!BY202*W116))+(W89*MDR!$AY$6/(MDR!BY203*W116))+(W90*MDR!$AZ$6/(MDR!BY204*W116))+(W91*MDR!$BA$6/(MDR!BY205*W116)))","v":{"$error":"#VALUE!"}},null,null,null,null,{"$f":"100/((AC86/AB86)+(AC87/AB87)+(AC88/AB88)+(AC89/AB89)+(AC90/AB90)+(AC91/AB91))","v":{"$error":"#VALUE!"}},{"$f":"100/((AC86*MDR!$AV$6/(MDR!CE200*AC116))+(AC87*MDR!$AW$6/(MDR!CE201*AC116))+(AC88*MDR!$AX$6/(MDR!CE202*AC116))+(AC89*MDR!$AY$6/(MDR!CE203*AC116))+(AC90*MDR!$AZ$6/(MDR!CE204*AC116))+(AC91*MDR!$BA$6/(MDR!CE205*AC116)))","v":{"$error":"#VALUE!"}},{"$f":"100/((AE86/AD86)+(AE87/AD87)+(AE88/AD88)+(AE89/AD89)+(AE90/AD90)+(AE91/AD91))","v":{"$error":"#VALUE!"}},{"$f":"100/((AE86*MDR!$AV$6/(MDR!CG200*AE116))+(AE87*MDR!$AW$6/(MDR!CG201*AE116))+(AE88*MDR!$AX$6/(MDR!CG202*AE116))+(AE89*MDR!$AY$6/(MDR!CG203*AE116))+(AE90*MDR!$AZ$6/(MDR!CG204*AE116))+(AE91*MDR!$BA$6/(MDR!CG205*AE116)))","v":{"$error":"#VALUE!"}},{"$f":"100/((AG86/AF86)+(AG87/AF87)+(AG88/AF88)+(AG89/AF89)+(AG90/AF90)+(AG91/AF91))","v":{"$error":"#VALUE!"}},{"$f":"100/((AG86*MDR!$AV$6/(MDR!CI200*AG116))+(AG87*MDR!$AW$6/(MDR!CI201*AG116))+(AG88*MDR!$AX$6/(MDR!CI202*AG116))+(AG89*MDR!$AY$6/(MDR!CI203*AG116))+(AG90*MDR!$AZ$6/(MDR!CI204*AG116))+(AG91*MDR!$BA$6/(MDR!CI205*AG116)))","v":{"$error":"#VALUE!"}},{"$f":"100/((AI86/AH86)+(AI87/AH87)+(AI88/AH88)+(AI89/AH89)+(AI90/AH90)+(AI91/AH91))","v":{"$error":"#VALUE!"}},{"$f":"100/((AI86*MDR!$AV$6/(MDR!CK200*AI116))+(AI87*MDR!$AW$6/(MDR!CK201*AI116))+(AI88*MDR!$AX$6/(MDR!CK202*AI116))+(AI89*MDR!$AY$6/(MDR!CK203*AI116))+(AI90*MDR!$AZ$6/(MDR!CK204*AI116))+(AI91*MDR!$BA$6/(MDR!CK205*AI116)))","v":{"$error":"#VALUE!"}},null,null,null,null,{"$f":"100/((AO86/AN86)+(AO87/AN87)+(AO88/AN88)+(AO89/AN89)+(AO90/AN90)+(AO91/AN91))","v":{"$error":"#VALUE!"}},{"$f":"100/((AO86*MDR!$AV$6/(MDR!CQ200*AO116))+(AO87*MDR!$AW$6/(MDR!CQ201*AO116))+(AO88*MDR!$AX$6/(MDR!CQ202*AO116))+(AO89*MDR!$AY$6/(MDR!CQ203*AO116))+(AO90*MDR!$AZ$6/(MDR!CQ204*AO116))+(AO91*MDR!$BA$6/(MDR!CQ205*AO116)))","v":{"$error":"#VALUE!"}},{"$f":"100/((AQ86/AP86)+(AQ87/AP87)+(AQ88/AP88)+(AQ89/AP89)+(AQ90/AP90)+(AQ91/AP91))","v":{"$error":"#VALUE!"}},{"$f":"100/((AQ86*MDR!$AV$6/(MDR!CS200*AQ116))+(AQ87*MDR!$AW$6/(MDR!CS201*AQ116))+(AQ88*MDR!$AX$6/(MDR!CS202*AQ116))+(AQ89*MDR!$AY$6/(MDR!CS203*AQ116))+(AQ90*MDR!$AZ$6/(MDR!CS204*AQ116))+(AQ91*MDR!$BA$6/(MDR!CS205*AQ116)))","v":{"$error":"#VALUE!"}},{"$f":"100/((AS86/AR86)+(AS87/AR87)+(AS88/AR88)+(AS89/AR89)+(AS90/AR90)+(AS91/AR91))","v":{"$error":"#VALUE!"}},{"$f":"100/((AS86*MDR!$AV$6/(MDR!CU200*AS116))+(AS87*MDR!$AW$6/(MDR!CU201*AS116))+(AS88*MDR!$AX$6/(MDR!CU202*AS116))+(AS89*MDR!$AY$6/(MDR!CU203*AS116))+(AS90*MDR!$AZ$6/(MDR!CU204*AS116))+(AS91*MDR!$BA$6/(MDR!CU205*AS116)))","v":{"$error":"#VALUE!"}},{"$f":"100/((AU86/AT86)+(AU87/AT87)+(AU88/AT88)+(AU89/AT89)+(AU90/AT90)+(AU91/AT91))","v":{"$error":"#VALUE!"}},{"$f":"100/((AU86*MDR!$AV$6/(MDR!CW200*AU116))+(AU87*MDR!$AW$6/(MDR!CW201*AU116))+(AU88*MDR!$AX$6/(MDR!CW202*AU116))+(AU89*MDR!$AY$6/(MDR!CW203*AU116))+(AU90*MDR!$AZ$6/(MDR!CW204*AU116))+(AU91*MDR!$BA$6/(MDR!CW205*AU116)))","v":{"$error":"#VALUE!"}},null,null,null,null,{"$f":"100/((BA86/AZ86)+(BA87/AZ87)+(BA88/AZ88)+(BA89/AZ89)+(BA90/AZ90)+(BA91/AZ91))","v":{"$error":"#VALUE!"}},{"$f":"100/((BA86*MDR!$AV$6/(MDR!DC200*BA116))+(BA87*MDR!$AW$6/(MDR!DC201*BA116))+(BA88*MDR!$AX$6/(MDR!DC202*BA116))+(BA89*MDR!$AY$6/(MDR!DC203*BA116))+(BA90*MDR!$AZ$6/(MDR!DC204*BA116))+(BA91*MDR!$BA$6/(MDR!DC205*BA116)))","v":{"$error":"#VALUE!"}},{"$f":"100/((BC86/BB86)+(BC87/BB87)+(BC88/BB88)+(BC89/BB89)+(BC90/BB90)+(BC91/BB91))","v":{"$error":"#VALUE!"}},{"$f":"100/((BC86*MDR!$AV$6/(MDR!DE200*BC116))+(BC87*MDR!$AW$6/(MDR!DE201*BC116))+(BC88*MDR!$AX$6/(MDR!DE202*BC116))+(BC89*MDR!$AY$6/(MDR!DE203*BC116))+(BC90*MDR!$AZ$6/(MDR!DE204*BC116))+(BC91*MDR!$BA$6/(MDR!DE205*BC116)))","v":{"$error":"#VALUE!"}},{"$f":"100/((BE86/BD86)+(BE87/BD87)+(BE88/BD88)+(BE89/BD89)+(BE90/BD90)+(BE91/BD91))","v":{"$error":"#VALUE!"}},{"$f":"100/((BE86*MDR!$AV$6/(MDR!DG200*BE116))+(BE87*MDR!$AW$6/(MDR!DG201*BE116))+(BE88*MDR!$AX$6/(MDR!DG202*BE116))+(BE89*MDR!$AY$6/(MDR!DG203*BE116))+(BE90*MDR!$AZ$6/(MDR!DG204*BE116))+(BE91*MDR!$BA$6/(MDR!DG205*BE116)))","v":{"$error":"#VALUE!"}},{"$f":"100/((BG86/BF86)+(BG87/BF87)+(BG88/BF88)+(BG89/BF89)+(BG90/BF90)+(BG91/BF91))","v":{"$error":"#VALUE!"}},{"$f":"100/((BG86*MDR!$AV$6/(MDR!DI200*BG116))+(BG87*MDR!$AW$6/(MDR!DI201*BG116))+(BG88*MDR!$AX$6/(MDR!DI202*BG116))+(BG89*MDR!$AY$6/(MDR!DI203*BG116))+(BG90*MDR!$AZ$6/(MDR!DI204*BG116))+(BG91*MDR!$BA$6/(MDR!DI205*BG116)))","v":{"$error":"#VALUE!"}},null,null,null,null,{"$f":"100/((BM86/BL86)+(BM87/BL87)+(BM88/BL88)+(BM89/BL89)+(BM90/BL90)+(BM91/BL91))","v":{"$error":"#VALUE!"}},{"$f":"100/((BM86*MDR!$AV$6/(MDR!DO200*BM116))+(BM87*MDR!$AW$6/(MDR!DO201*BM116))+(BM88*MDR!$AX$6/(MDR!DO202*BM116))+(BM89*MDR!$AY$6/(MDR!DO203*BM116))+(BM90*MDR!$AZ$6/(MDR!DO204*BM116))+(BM91*MDR!$BA$6/(MDR!DO205*BM116)))","v":{"$error":"#VALUE!"}},{"$f":"100/((BO86/BN86)+(BO87/BN87)+(BO88/BN88)+(BO89/BN89)+(BO90/BN90)+(BO91/BN91))","v":{"$error":"#VALUE!"}},{"$f":"100/((BO86*MDR!$AV$6/(MDR!DQ200*BO116))+(BO87*MDR!$AW$6/(MDR!DQ201*BO116))+(BO88*MDR!$AX$6/(MDR!DQ202*BO116))+(BO89*MDR!$AY$6/(MDR!DQ203*BO116))+(BO90*MDR!$AZ$6/(MDR!DQ204*BO116))+(BO91*MDR!$BA$6/(MDR!DQ205*BO116)))","v":{"$error":"#VALUE!"}},{"$f":"100/((BQ86/BP86)+(BQ87/BP87)+(BQ88/BP88)+(BQ89/BP89)+(BQ90/BP90)+(BQ91/BP91))","v":{"$error":"#VALUE!"}},{"$f":"100/((BQ86*MDR!$AV$6/(MDR!DS200*BQ116))+(BQ87*MDR!$AW$6/(MDR!DS201*BQ116))+(BQ88*MDR!$AX$6/(MDR!DS202*BQ116))+(BQ89*MDR!$AY$6/(MDR!DS203*BQ116))+(BQ90*MDR!$AZ$6/(MDR!DS204*BQ116))+(BQ91*MDR!$BA$6/(MDR!DS205*BQ116)))","v":{"$error":"#VALUE!"}},{"$f":"100/((BS86/BR86)+(BS87/BR87)+(BS88/BR88)+(BS89/BR89)+(BS90/BR90)+(BS91/BR91))","v":{"$error":"#VALUE!"}},{"$f":"100/((BS86*MDR!$AV$6/(MDR!DU200*BS116))+(BS87*MDR!$AW$6/(MDR!DU201*BS116))+(BS88*MDR!$AX$6/(MDR!DU202*BS116))+(BS89*MDR!$AY$6/(MDR!DU203*BS116))+(BS90*MDR!$AZ$6/(MDR!DU204*BS116))+(BS91*MDR!$BA$6/(MDR!DU205*BS116)))","v":{"$error":"#VALUE!"}},null,null,null,null,{"$f":"100/((BY86/BX86)+(BY87/BX87)+(BY88/BX88)+(BY89/BX89)+(BY90/BX90)+(BY91/BX91))","v":{"$error":"#VALUE!"}},{"$f":"100/((BY86*MDR!$AV$6/(MDR!EA200*BY116))+(BY87*MDR!$AW$6/(MDR!EA201*BY116))+(BY88*MDR!$AX$6/(MDR!EA202*BY116))+(BY89*MDR!$AY$6/(MDR!EA203*BY116))+(BY90*MDR!$AZ$6/(MDR!EA204*BY116))+(BY91*MDR!$BA$6/(MDR!EA205*BY116)))","v":{"$error":"#VALUE!"}},{"$f":"100/((CA86/BZ86)+(CA87/BZ87)+(CA88/BZ88)+(CA89/BZ89)+(CA90/BZ90)+(CA91/BZ91))","v":{"$error":"#VALUE!"}},{"$f":"100/((CA86*MDR!$AV$6/(MDR!EC200*CA116))+(CA87*MDR!$AW$6/(MDR!EC201*CA116))+(CA88*MDR!$AX$6/(MDR!EC202*CA116))+(CA89*MDR!$AY$6/(MDR!EC203*CA116))+(CA90*MDR!$AZ$6/(MDR!EC204*CA116))+(CA91*MDR!$BA$6/(MDR!EC205*CA116)))","v":{"$error":"#VALUE!"}},{"$f":"100/((CC86/CB86)+(CC87/CB87)+(CC88/CB88)+(CC89/CB89)+(CC90/CB90)+(CC91/CB91))","v":{"$error":"#VALUE!"}},{"$f":"100/((CC86*MDR!$AV$6/(MDR!EE200*CC116))+(CC87*MDR!$AW$6/(MDR!EE201*CC116))+(CC88*MDR!$AX$6/(MDR!EE202*CC116))+(CC89*MDR!$AY$6/(MDR!EE203*CC116))+(CC90*MDR!$AZ$6/(MDR!EE204*CC116))+(CC91*MDR!$BA$6/(MDR!EE205*CC116)))","v":{"$error":"#VALUE!"}},{"$f":"100/((CE86/CD86)+(CE87/CD87)+(CE88/CD88)+(CE89/CD89)+(CE90/CD90)+(CE91/CD91))","v":{"$error":"#VALUE!"}},{"$f":"100/((CE86*MDR!$AV$6/(MDR!EG200*CE116))+(CE87*MDR!$AW$6/(MDR!EG201*CE116))+(CE88*MDR!$AX$6/(MDR!EG202*CE116))+(CE89*MDR!$AY$6/(MDR!EG203*CE116))+(CE90*MDR!$AZ$6/(MDR!EG204*CE116))+(CE91*MDR!$BA$6/(MDR!EG205*CE116)))","v":{"$error":"#VALUE!"}},null,null,null,null,{"$f":"100/((CK86/CJ86)+(CK87/CJ87)+(CK88/CJ88)+(CK89/CJ89)+(CK90/CJ90)+(CK91/CJ91))","v":{"$error":"#VALUE!"}},{"$f":"100/((CK86*MDR!$AV$6/(MDR!EM200*CK116))+(CK87*MDR!$AW$6/(MDR!EM201*CK116))+(CK88*MDR!$AX$6/(MDR!EM202*CK116))+(CK89*MDR!$AY$6/(MDR!EM203*CK116))+(CK90*MDR!$AZ$6/(MDR!EM204*CK116))+(CK91*MDR!$BA$6/(MDR!EM205*CK116)))","v":{"$error":"#VALUE!"}},{"$f":"100/((CM86/CL86)+(CM87/CL87)+(CM88/CL88)+(CM89/CL89)+(CM90/CL90)+(CM91/CL91))","v":{"$error":"#VALUE!"}},{"$f":"100/((CM86*MDR!$AV$6/(MDR!EO200*CM116))+(CM87*MDR!$AW$6/(MDR!EO201*CM116))+(CM88*MDR!$AX$6/(MDR!EO202*CM116))+(CM89*MDR!$AY$6/(MDR!EO203*CM116))+(CM90*MDR!$AZ$6/(MDR!EO204*CM116))+(CM91*MDR!$BA$6/(MDR!EO205*CM116)))","v":{"$error":"#VALUE!"}},{"$f":"100/((CO86/CN86)+(CO87/CN87)+(CO88/CN88)+(CO89/CN89)+(CO90/CN90)+(CO91/CN91))","v":{"$error":"#VALUE!"}},{"$f":"100/((CO86*MDR!$AV$6/(MDR!EQ200*CO116))+(CO87*MDR!$AW$6/(MDR!EQ201*CO116))+(CO88*MDR!$AX$6/(MDR!EQ202*CO116))+(CO89*MDR!$AY$6/(MDR!EQ203*CO116))+(CO90*MDR!$AZ$6/(MDR!EQ204*CO116))+(CO91*MDR!$BA$6/(MDR!EQ205*CO116)))","v":{"$error":"#VALUE!"}},{"$f":"100/((CQ86/CP86)+(CQ87/CP87)+(CQ88/CP88)+(CQ89/CP89)+(CQ90/CP90)+(CQ91/CP91))","v":{"$error":"#VALUE!"}},{"$f":"100/((CQ86*MDR!$AV$6/(MDR!ES200*CQ116))+(CQ87*MDR!$AW$6/(MDR!ES201*CQ116))+(CQ88*MDR!$AX$6/(MDR!ES202*CQ116))+(CQ89*MDR!$AY$6/(MDR!ES203*CQ116))+(CQ90*MDR!$AZ$6/(MDR!ES204*CQ116))+(CQ91*MDR!$BA$6/(MDR!ES205*CQ116)))","v":{"$error":"#VALUE!"}},null,null,null,null,{"$f":"100/((CW86/CV86)+(CW87/CV87)+(CW88/CV88)+(CW89/CV89)+(CW90/CV90)+(CW91/CV91))","v":{"$error":"#VALUE!"}},{"$f":"100/((CW86*MDR!$AV$6/(MDR!EY200*CW116))+(CW87*MDR!$AW$6/(MDR!EY201*CW116))+(CW88*MDR!$AX$6/(MDR!EY202*CW116))+(CW89*MDR!$AY$6/(MDR!EY203*CW116))+(CW90*MDR!$AZ$6/(MDR!EY204*CW116))+(CW91*MDR!$BA$6/(MDR!EY205*CW116)))","v":{"$error":"#VALUE!"}},{"$f":"100/((CY86/CX86)+(CY87/CX87)+(CY88/CX88)+(CY89/CX89)+(CY90/CX90)+(CY91/CX91))","v":{"$error":"#VALUE!"}},{"$f":"100/((CY86*MDR!$AV$6/(MDR!FA200*CY116))+(CY87*MDR!$AW$6/(MDR!FA201*CY116))+(CY88*MDR!$AX$6/(MDR!FA202*CY116))+(CY89*MDR!$AY$6/(MDR!FA203*CY116))+(CY90*MDR!$AZ$6/(MDR!FA204*CY116))+(CY91*MDR!$BA$6/(MDR!FA205*CY116)))","v":{"$error":"#VALUE!"}},{"$f":"100/((DA86/CZ86)+(DA87/CZ87)+(DA88/CZ88)+(DA89/CZ89)+(DA90/CZ90)+(DA91/CZ91))","v":{"$error":"#VALUE!"}},{"$f":"100/((DA86*MDR!$AV$6/(MDR!FC200*DA116))+(DA87*MDR!$AW$6/(MDR!FC201*DA116))+(DA88*MDR!$AX$6/(MDR!FC202*DA116))+(DA89*MDR!$AY$6/(MDR!FC203*DA116))+(DA90*MDR!$AZ$6/(MDR!FC204*DA116))+(DA91*MDR!$BA$6/(MDR!FC205*DA116)))","v":{"$error":"#VALUE!"}},{"$f":"100/((DC86/DB86)+(DC87/DB87)+(DC88/DB88)+(DC89/DB89)+(DC90/DB90)+(DC91/DB91))","v":{"$error":"#VALUE!"}},{"$f":"100/((DC86*MDR!$AV$6/(MDR!FE200*DC116))+(DC87*MDR!$AW$6/(MDR!FE201*DC116))+(DC88*MDR!$AX$6/(MDR!FE202*DC116))+(DC89*MDR!$AY$6/(MDR!FE203*DC116))+(DC90*MDR!$AZ$6/(MDR!FE204*DC116))+(DC91*MDR!$BA$6/(MDR!FE205*DC116)))","v":{"$error":"#VALUE!"}},null,null,null,null,{"$f":"100/((DI86/DH86)+(DI87/DH87)+(DI88/DH88)+(DI89/DH89)+(DI90/DH90)+(DI91/DH91))","v":{"$error":"#VALUE!"}},{"$f":"100/((DI86*MDR!$AV$6/(MDR!FK200*DI116))+(DI87*MDR!$AW$6/(MDR!FK201*DI116))+(DI88*MDR!$AX$6/(MDR!FK202*DI116))+(DI89*MDR!$AY$6/(MDR!FK203*DI116))+(DI90*MDR!$AZ$6/(MDR!FK204*DI116))+(DI91*MDR!$BA$6/(MDR!FK205*DI116)))","v":{"$error":"#VALUE!"}},{"$f":"100/((DK86/DJ86)+(DK87/DJ87)+(DK88/DJ88)+(DK89/DJ89)+(DK90/DJ90)+(DK91/DJ91))","v":{"$error":"#VALUE!"}},{"$f":"100/((DK86*MDR!$AV$6/(MDR!FM200*DK116))+(DK87*MDR!$AW$6/(MDR!FM201*DK116))+(DK88*MDR!$AX$6/(MDR!FM202*DK116))+(DK89*MDR!$AY$6/(MDR!FM203*DK116))+(DK90*MDR!$AZ$6/(MDR!FM204*DK116))+(DK91*MDR!$BA$6/(MDR!FM205*DK116)))","v":{"$error":"#VALUE!"}},{"$f":"100/((DM86/DL86)+(DM87/DL87)+(DM88/DL88)+(DM89/DL89)+(DM90/DL90)+(DM91/DL91))","v":{"$error":"#VALUE!"}},{"$f":"100/((DM86*MDR!$AV$6/(MDR!FO200*DM116))+(DM87*MDR!$AW$6/(MDR!FO201*DM116))+(DM88*MDR!$AX$6/(MDR!FO202*DM116))+(DM89*MDR!$AY$6/(MDR!FO203*DM116))+(DM90*MDR!$AZ$6/(MDR!FO204*DM116))+(DM91*MDR!$BA$6/(MDR!FO205*DM116)))","v":{"$error":"#VALUE!"}},{"$f":"100/((DO86/DN86)+(DO87/DN87)+(DO88/DN88)+(DO89/DN89)+(DO90/DN90)+(DO91/DN91))","v":{"$error":"#VALUE!"}},{"$f":"100/((DO86*MDR!$AV$6/(MDR!FQ200*DO116))+(DO87*MDR!$AW$6/(MDR!FQ201*DO116))+(DO88*MDR!$AX$6/(MDR!FQ202*DO116))+(DO89*MDR!$AY$6/(MDR!FQ203*DO116))+(DO90*MDR!$AZ$6/(MDR!FQ204*DO116))+(DO91*MDR!$BA$6/(MDR!FQ205*DO116)))","v":{"$error":"#VALUE!"}},null,null,null,null,{"$f":"100/((DU86/DT86)+(DU87/DT87)+(DU88/DT88)+(DU89/DT89)+(DU90/DT90)+(DU91/DT91))","v":{"$error":"#VALUE!"}},{"$f":"100/((DU86*MDR!$AV$6/(MDR!FW200*DU116))+(DU87*MDR!$AW$6/(MDR!FW201*DU116))+(DU88*MDR!$AX$6/(MDR!FW202*DU116))+(DU89*MDR!$AY$6/(MDR!FW203*DU116))+(DU90*MDR!$AZ$6/(MDR!FW204*DU116))+(DU91*MDR!$BA$6/(MDR!FW205*DU116)))","v":{"$error":"#VALUE!"}},{"$f":"100/((DW86/DV86)+(DW87/DV87)+(DW88/DV88)+(DW89/DV89)+(DW90/DV90)+(DW91/DV91))","v":{"$error":"#VALUE!"}},{"$f":"100/((DW86*MDR!$AV$6/(MDR!FY200*DW116))+(DW87*MDR!$AW$6/(MDR!FY201*DW116))+(DW88*MDR!$AX$6/(MDR!FY202*DW116))+(DW89*MDR!$AY$6/(MDR!FY203*DW116))+(DW90*MDR!$AZ$6/(MDR!FY204*DW116))+(DW91*MDR!$BA$6/(MDR!FY205*DW116)))","v":{"$error":"#VALUE!"}},{"$f":"100/((DY86/DX86)+(DY87/DX87)+(DY88/DX88)+(DY89/DX89)+(DY90/DX90)+(DY91/DX91))","v":{"$error":"#VALUE!"}},{"$f":"100/((DY86*MDR!$AV$6/(MDR!GA200*DY116))+(DY87*MDR!$AW$6/(MDR!GA201*DY116))+(DY88*MDR!$AX$6/(MDR!GA202*DY116))+(DY89*MDR!$AY$6/(MDR!GA203*DY116))+(DY90*MDR!$AZ$6/(MDR!GA204*DY116))+(DY91*MDR!$BA$6/(MDR!GA205*DY116)))","v":{"$error":"#VALUE!"}},{"$f":"100/((EA86/DZ86)+(EA87/DZ87)+(EA88/DZ88)+(EA89/DZ89)+(EA90/DZ90)+(EA91/DZ91))","v":{"$error":"#VALUE!"}},{"$f":"100/((EA86*MDR!$AV$6/(MDR!GC200*EA116))+(EA87*MDR!$AW$6/(MDR!GC201*EA116))+(EA88*MDR!$AX$6/(MDR!GC202*EA116))+(EA89*MDR!$AY$6/(MDR!GC203*EA116))+(EA90*MDR!$AZ$6/(MDR!GC204*EA116))+(EA91*MDR!$BA$6/(MDR!GC205*EA116)))","v":{"$error":"#VALUE!"}},null,null,null,null,{"$f":"100/((EG86/EF86)+(EG87/EF87)+(EG88/EF88)+(EG89/EF89)+(EG90/EF90)+(EG91/EF91))","v":{"$error":"#VALUE!"}},{"$f":"100/((EG86*MDR!$AV$6/(MDR!BG220*EG116))+(EG87*MDR!$AW$6/(MDR!BG221*EG116))+(EG88*MDR!$AX$6/(MDR!BG222*EG116))+(EG89*MDR!$AY$6/(MDR!BG223*EG116))+(EG90*MDR!$AZ$6/(MDR!BG224*EG116))+(EG91*MDR!$BA$6/(MDR!BG225*EG116)))","v":{"$error":"#VALUE!"}},{"$f":"100/((EI86/EH86)+(EI87/EH87)+(EI88/EH88)+(EI89/EH89)+(EI90/EH90)+(EI91/EH91))","v":{"$error":"#VALUE!"}},{"$f":"100/((EI86*MDR!$AV$6/(MDR!BI220*EI116))+(EI87*MDR!$AW$6/(MDR!BI221*EI116))+(EI88*MDR!$AX$6/(MDR!BI222*EI116))+(EI89*MDR!$AY$6/(MDR!BI223*EI116))+(EI90*MDR!$AZ$6/(MDR!BI224*EI116))+(EI91*MDR!$BA$6/(MDR!BI225*EI116)))","v":{"$error":"#VALUE!"}},{"$f":"100/((EK86/EJ86)+(EK87/EJ87)+(EK88/EJ88)+(EK89/EJ89)+(EK90/EJ90)+(EK91/EJ91))","v":{"$error":"#VALUE!"}},{"$f":"100/((EK86*MDR!$AV$6/(MDR!BK220*EK116))+(EK87*MDR!$AW$6/(MDR!BK221*EK116))+(EK88*MDR!$AX$6/(MDR!BK222*EK116))+(EK89*MDR!$AY$6/(MDR!BK223*EK116))+(EK90*MDR!$AZ$6/(MDR!BK224*EK116))+(EK91*MDR!$BA$6/(MDR!BK225*EK116)))","v":{"$error":"#VALUE!"}},{"$f":"100/((EM86/EL86)+(EM87/EL87)+(EM88/EL88)+(EM89/EL89)+(EM90/EL90)+(EM91/EL91))","v":{"$error":"#VALUE!"}},{"$f":"100/((EM86*MDR!$AV$6/(MDR!BM220*EM116))+(EM87*MDR!$AW$6/(MDR!BM221*EM116))+(EM88*MDR!$AX$6/(MDR!BM222*EM116))+(EM89*MDR!$AY$6/(MDR!BM223*EM116))+(EM90*MDR!$AZ$6/(MDR!BM224*EM116))+(EM91*MDR!$BA$6/(MDR!BM225*EM116)))","v":{"$error":"#VALUE!"}},null,null,null,null,{"$f":"100/((ES86/ER86)+(ES87/ER87)+(ES88/ER88)+(ES89/ER89)+(ES90/ER90)+(ES91/ER91))","v":{"$error":"#VALUE!"}},{"$f":"100/((ES86*MDR!$AV$6/(MDR!BS220*ES116))+(ES87*MDR!$AW$6/(MDR!BS221*ES116))+(ES88*MDR!$AX$6/(MDR!BS222*ES116))+(ES89*MDR!$AY$6/(MDR!BS223*ES116))+(ES90*MDR!$AZ$6/(MDR!BS224*ES116))+(ES91*MDR!$BA$6/(MDR!BS225*ES116)))","v":{"$error":"#VALUE!"}},{"$f":"100/((EU86/ET86)+(EU87/ET87)+(EU88/ET88)+(EU89/ET89)+(EU90/ET90)+(EU91/ET91))","v":{"$error":"#VALUE!"}},{"$f":"100/((EU86*MDR!$AV$6/(MDR!BU220*EU116))+(EU87*MDR!$AW$6/(MDR!BU221*EU116))+(EU88*MDR!$AX$6/(MDR!BU222*EU116))+(EU89*MDR!$AY$6/(MDR!BU223*EU116))+(EU90*MDR!$AZ$6/(MDR!BU224*EU116))+(EU91*MDR!$BA$6/(MDR!BU225*EU116)))","v":{"$error":"#VALUE!"}},{"$f":"100/((EW86/EV86)+(EW87/EV87)+(EW88/EV88)+(EW89/EV89)+(EW90/EV90)+(EW91/EV91))","v":{"$error":"#VALUE!"}},{"$f":"100/((EW86*MDR!$AV$6/(MDR!BW220*EW116))+(EW87*MDR!$AW$6/(MDR!BW221*EW116))+(EW88*MDR!$AX$6/(MDR!BW222*EW116))+(EW89*MDR!$AY$6/(MDR!BW223*EW116))+(EW90*MDR!$AZ$6/(MDR!BW224*EW116))+(EW91*MDR!$BA$6/(MDR!BW225*EW116)))","v":{"$error":"#VALUE!"}},{"$f":"100/((EY86/EX86)+(EY87/EX87)+(EY88/EX88)+(EY89/EX89)+(EY90/EX90)+(EY91/EX91))","v":{"$error":"#VALUE!"}},{"$f":"100/((EY86*MDR!$AV$6/(MDR!BY220*EY116))+(EY87*MDR!$AW$6/(MDR!BY221*EY116))+(EY88*MDR!$AX$6/(MDR!BY222*EY116))+(EY89*MDR!$AY$6/(MDR!BY223*EY116))+(EY90*MDR!$AZ$6/(MDR!BY224*EY116))+(EY91*MDR!$BA$6/(MDR!BY225*EY116)))","v":{"$error":"#VALUE!"}},null,null,null,null,{"$f":"100/((FE86/FD86)+(FE87/FD87)+(FE88/FD88)+(FE89/FD89)+(FE90/FD90)+(FE91/FD91))","v":{"$error":"#VALUE!"}},{"$f":"100/((FE86*MDR!$AV$6/(MDR!CE220*FE116))+(FE87*MDR!$AW$6/(MDR!CE221*FE116))+(FE88*MDR!$AX$6/(MDR!CE222*FE116))+(FE89*MDR!$AY$6/(MDR!CE223*FE116))+(FE90*MDR!$AZ$6/(MDR!CE224*FE116))+(FE91*MDR!$BA$6/(MDR!CE225*FE116)))","v":{"$error":"#VALUE!"}},{"$f":"100/((FG86/FF86)+(FG87/FF87)+(FG88/FF88)+(FG89/FF89)+(FG90/FF90)+(FG91/FF91))","v":{"$error":"#VALUE!"}},{"$f":"100/((FG86*MDR!$AV$6/(MDR!CG220*FG116))+(FG87*MDR!$AW$6/(MDR!CG221*FG116))+(FG88*MDR!$AX$6/(MDR!CG222*FG116))+(FG89*MDR!$AY$6/(MDR!CG223*FG116))+(FG90*MDR!$AZ$6/(MDR!CG224*FG116))+(FG91*MDR!$BA$6/(MDR!CG225*FG116)))","v":{"$error":"#VALUE!"}},{"$f":"100/((FI86/FH86)+(FI87/FH87)+(FI88/FH88)+(FI89/FH89)+(FI90/FH90)+(FI91/FH91))","v":{"$error":"#VALUE!"}},{"$f":"100/((FI86*MDR!$AV$6/(MDR!CI220*FI116))+(FI87*MDR!$AW$6/(MDR!CI221*FI116))+(FI88*MDR!$AX$6/(MDR!CI222*FI116))+(FI89*MDR!$AY$6/(MDR!CI223*FI116))+(FI90*MDR!$AZ$6/(MDR!CI224*FI116))+(FI91*MDR!$BA$6/(MDR!CI225*FI116)))","v":{"$error":"#VALUE!"}},{"$f":"100/((FK86/FJ86)+(FK87/FJ87)+(FK88/FJ88)+(FK89/FJ89)+(FK90/FJ90)+(FK91/FJ91))","v":{"$error":"#VALUE!"}},{"$f":"100/((FK86*MDR!$AV$6/(MDR!CK220*FK116))+(FK87*MDR!$AW$6/(MDR!CK221*FK116))+(FK88*MDR!$AX$6/(MDR!CK222*FK116))+(FK89*MDR!$AY$6/(MDR!CK223*FK116))+(FK90*MDR!$AZ$6/(MDR!CK224*FK116))+(FK91*MDR!$BA$6/(MDR!CK225*FK116)))","v":{"$error":"#VALUE!"}},null,null,null,null,{"$f":"100/((FQ86/FP86)+(FQ87/FP87)+(FQ88/FP88)+(FQ89/FP89)+(FQ90/FP90)+(FQ91/FP91))","v":{"$error":"#VALUE!"}},{"$f":"100/((FQ86*MDR!$AV$6/(MDR!CQ220*FQ116))+(FQ87*MDR!$AW$6/(MDR!CQ221*FQ116))+(FQ88*MDR!$AX$6/(MDR!CQ222*FQ116))+(FQ89*MDR!$AY$6/(MDR!CQ223*FQ116))+(FQ90*MDR!$AZ$6/(MDR!CQ224*FQ116))+(FQ91*MDR!$BA$6/(MDR!CQ225*FQ116)))","v":{"$error":"#VALUE!"}},{"$f":"100/((FS86/FR86)+(FS87/FR87)+(FS88/FR88)+(FS89/FR89)+(FS90/FR90)+(FS91/FR91))","v":{"$error":"#VALUE!"}},{"$f":"100/((FS86*MDR!$AV$6/(MDR!CS220*FS116))+(FS87*MDR!$AW$6/(MDR!CS221*FS116))+(FS88*MDR!$AX$6/(MDR!CS222*FS116))+(FS89*MDR!$AY$6/(MDR!CS223*FS116))+(FS90*MDR!$AZ$6/(MDR!CS224*FS116))+(FS91*MDR!$BA$6/(MDR!CS225*FS116)))","v":{"$error":"#VALUE!"}},{"$f":"100/((FU86/FT86)+(FU87/FT87)+(FU88/FT88)+(FU89/FT89)+(FU90/FT90)+(FU91/FT91))","v":{"$error":"#VALUE!"}},{"$f":"100/((FU86*MDR!$AV$6/(MDR!CU220*FU116))+(FU87*MDR!$AW$6/(MDR!CU221*FU116))+(FU88*MDR!$AX$6/(MDR!CU222*FU116))+(FU89*MDR!$AY$6/(MDR!CU223*FU116))+(FU90*MDR!$AZ$6/(MDR!CU224*FU116))+(FU91*MDR!$BA$6/(MDR!CU225*FU116)))","v":{"$error":"#VALUE!"}},{"$f":"100/((FW86/FV86)+(FW87/FV87)+(FW88/FV88)+(FW89/FV89)+(FW90/FV90)+(FW91/FV91))","v":{"$error":"#VALUE!"}},{"$f":"100/((FW86*MDR!$AV$6/(MDR!CW220*FW116))+(FW87*MDR!$AW$6/(MDR!CW221*FW116))+(FW88*MDR!$AX$6/(MDR!CW222*FW116))+(FW89*MDR!$AY$6/(MDR!CW223*FW116))+(FW90*MDR!$AZ$6/(MDR!CW224*FW116))+(FW91*MDR!$BA$6/(MDR!CW225*FW116)))","v":{"$error":"#VALUE!"}},null,null,null,null,{"$f":"100/((GC86/GB86)+(GC87/GB87)+(GC88/GB88)+(GC89/GB89)+(GC90/GB90)+(GC91/GB91))","v":{"$error":"#VALUE!"}},{"$f":"100/((GC86*MDR!$AV$6/(MDR!DC220*GC116))+(GC87*MDR!$AW$6/(MDR!DC221*GC116))+(GC88*MDR!$AX$6/(MDR!DC222*GC116))+(GC89*MDR!$AY$6/(MDR!DC223*GC116))+(GC90*MDR!$AZ$6/(MDR!DC224*GC116))+(GC91*MDR!$BA$6/(MDR!DC225*GC116)))","v":{"$error":"#VALUE!"}},{"$f":"100/((GE86/GD86)+(GE87/GD87)+(GE88/GD88)+(GE89/GD89)+(GE90/GD90)+(GE91/GD91))","v":{"$error":"#VALUE!"}},{"$f":"100/((GE86*MDR!$AV$6/(MDR!DE220*GE116))+(GE87*MDR!$AW$6/(MDR!DE221*GE116))+(GE88*MDR!$AX$6/(MDR!DE222*GE116))+(GE89*MDR!$AY$6/(MDR!DE223*GE116))+(GE90*MDR!$AZ$6/(MDR!DE224*GE116))+(GE91*MDR!$BA$6/(MDR!DE225*GE116)))","v":{"$error":"#VALUE!"}},{"$f":"100/((GG86/GF86)+(GG87/GF87)+(GG88/GF88)+(GG89/GF89)+(GG90/GF90)+(GG91/GF91))","v":{"$error":"#VALUE!"}},{"$f":"100/((GG86*MDR!$AV$6/(MDR!DG220*GG116))+(GG87*MDR!$AW$6/(MDR!DG221*GG116))+(GG88*MDR!$AX$6/(MDR!DG222*GG116))+(GG89*MDR!$AY$6/(MDR!DG223*GG116))+(GG90*MDR!$AZ$6/(MDR!DG224*GG116))+(GG91*MDR!$BA$6/(MDR!DG225*GG116)))","v":{"$error":"#VALUE!"}},{"$f":"100/((GI86/GH86)+(GI87/GH87)+(GI88/GH88)+(GI89/GH89)+(GI90/GH90)+(GI91/GH91))","v":{"$error":"#VALUE!"}},{"$f":"100/((GI86*MDR!$AV$6/(MDR!DI220*GI116))+(GI87*MDR!$AW$6/(MDR!DI221*GI116))+(GI88*MDR!$AX$6/(MDR!DI222*GI116))+(GI89*MDR!$AY$6/(MDR!DI223*GI116))+(GI90*MDR!$AZ$6/(MDR!DI224*GI116))+(GI91*MDR!$BA$6/(MDR!DI225*GI116)))","v":{"$error":"#VALUE!"}},null,null,null,null,{"$f":"100/((GO86/GN86)+(GO87/GN87)+(GO88/GN88)+(GO89/GN89)+(GO90/GN90)+(GO91/GN91))","v":{"$error":"#VALUE!"}},{"$f":"100/((GO86*MDR!$AV$6/(MDR!DO220*GO116))+(GO87*MDR!$AW$6/(MDR!DO221*GO116))+(GO88*MDR!$AX$6/(MDR!DO222*GO116))+(GO89*MDR!$AY$6/(MDR!DO223*GO116))+(GO90*MDR!$AZ$6/(MDR!DO224*GO116))+(GO91*MDR!$BA$6/(MDR!DO225*GO116)))","v":{"$error":"#VALUE!"}},{"$f":"100/((GQ86/GP86)+(GQ87/GP87)+(GQ88/GP88)+(GQ89/GP89)+(GQ90/GP90)+(GQ91/GP91))","v":{"$error":"#VALUE!"}},{"$f":"100/((GQ86*MDR!$AV$6/(MDR!DQ220*GQ116))+(GQ87*MDR!$AW$6/(MDR!DQ221*GQ116))+(GQ88*MDR!$AX$6/(MDR!DQ222*GQ116))+(GQ89*MDR!$AY$6/(MDR!DQ223*GQ116))+(GQ90*MDR!$AZ$6/(MDR!DQ224*GQ116))+(GQ91*MDR!$BA$6/(MDR!DQ225*GQ116)))","v":{"$error":"#VALUE!"}},{"$f":"100/((GS86/GR86)+(GS87/GR87)+(GS88/GR88)+(GS89/GR89)+(GS90/GR90)+(GS91/GR91))","v":{"$error":"#VALUE!"}},{"$f":"100/((GS86*MDR!$AV$6/(MDR!DS220*GS116))+(GS87*MDR!$AW$6/(MDR!DS221*GS116))+(GS88*MDR!$AX$6/(MDR!DS222*GS116))+(GS89*MDR!$AY$6/(MDR!DS223*GS116))+(GS90*MDR!$AZ$6/(MDR!DS224*GS116))+(GS91*MDR!$BA$6/(MDR!DS225*GS116)))","v":{"$error":"#VALUE!"}},{"$f":"100/((GU86/GT86)+(GU87/GT87)+(GU88/GT88)+(GU89/GT89)+(GU90/GT90)+(GU91/GT91))","v":{"$error":"#VALUE!"}},{"$f":"100/((GU86*MDR!$AV$6/(MDR!DU220*GU116))+(GU87*MDR!$AW$6/(MDR!DU221*GU116))+(GU88*MDR!$AX$6/(MDR!DU222*GU116))+(GU89*MDR!$AY$6/(MDR!DU223*GU116))+(GU90*MDR!$AZ$6/(MDR!DU224*GU116))+(GU91*MDR!$BA$6/(MDR!DU225*GU116)))","v":{"$error":"#VALUE!"}},null,null,null,null,{"$f":"100/((HA86/GZ86)+(HA87/GZ87)+(HA88/GZ88)+(HA89/GZ89)+(HA90/GZ90)+(HA91/GZ91))","v":{"$error":"#VALUE!"}},{"$f":"100/((HA86*MDR!$AV$6/(MDR!EA220*HA116))+(HA87*MDR!$AW$6/(MDR!EA221*HA116))+(HA88*MDR!$AX$6/(MDR!EA222*HA116))+(HA89*MDR!$AY$6/(MDR!EA223*HA116))+(HA90*MDR!$AZ$6/(MDR!EA224*HA116))+(HA91*MDR!$BA$6/(MDR!EA225*HA116)))","v":{"$error":"#VALUE!"}},{"$f":"100/((HC86/HB86)+(HC87/HB87)+(HC88/HB88)+(HC89/HB89)+(HC90/HB90)+(HC91/HB91))","v":{"$error":"#VALUE!"}},{"$f":"100/((HC86*MDR!$AV$6/(MDR!EC220*HC116))+(HC87*MDR!$AW$6/(MDR!EC221*HC116))+(HC88*MDR!$AX$6/(MDR!EC222*HC116))+(HC89*MDR!$AY$6/(MDR!EC223*HC116))+(HC90*MDR!$AZ$6/(MDR!EC224*HC116))+(HC91*MDR!$BA$6/(MDR!EC225*HC116)))","v":{"$error":"#VALUE!"}},{"$f":"100/((HE86/HD86)+(HE87/HD87)+(HE88/HD88)+(HE89/HD89)+(HE90/HD90)+(HE91/HD91))","v":{"$error":"#VALUE!"}},{"$f":"100/((HE86*MDR!$AV$6/(MDR!EE220*HE116))+(HE87*MDR!$AW$6/(MDR!EE221*HE116))+(HE88*MDR!$AX$6/(MDR!EE222*HE116))+(HE89*MDR!$AY$6/(MDR!EE223*HE116))+(HE90*MDR!$AZ$6/(MDR!EE224*HE116))+(HE91*MDR!$BA$6/(MDR!EE225*HE116)))","v":{"$error":"#VALUE!"}},{"$f":"100/((HG86/HF86)+(HG87/HF87)+(HG88/HF88)+(HG89/HF89)+(HG90/HF90)+(HG91/HF91))","v":{"$error":"#VALUE!"}},{"$f":"100/((HG86*MDR!$AV$6/(MDR!EG220*HG116))+(HG87*MDR!$AW$6/(MDR!EG221*HG116))+(HG88*MDR!$AX$6/(MDR!EG222*HG116))+(HG89*MDR!$AY$6/(MDR!EG223*HG116))+(HG90*MDR!$AZ$6/(MDR!EG224*HG116))+(HG91*MDR!$BA$6/(MDR!EG225*HG116)))","v":{"$error":"#VALUE!"}},null,null,null,null,{"$f":"100/((HM86/HL86)+(HM87/HL87)+(HM88/HL88)+(HM89/HL89)+(HM90/HL90)+(HM91/HL91))","v":{"$error":"#VALUE!"}},{"$f":"100/((HM86*MDR!$AV$6/(MDR!EM220*HM116))+(HM87*MDR!$AW$6/(MDR!EM221*HM116))+(HM88*MDR!$AX$6/(MDR!EM222*HM116))+(HM89*MDR!$AY$6/(MDR!EM223*HM116))+(HM90*MDR!$AZ$6/(MDR!EM224*HM116))+(HM91*MDR!$BA$6/(MDR!EM225*HM116)))","v":{"$error":"#VALUE!"}},{"$f":"100/((HO86/HN86)+(HO87/HN87)+(HO88/HN88)+(HO89/HN89)+(HO90/HN90)+(HO91/HN91))","v":{"$error":"#VALUE!"}},{"$f":"100/((HO86*MDR!$AV$6/(MDR!EO220*HO116))+(HO87*MDR!$AW$6/(MDR!EO221*HO116))+(HO88*MDR!$AX$6/(MDR!EO222*HO116))+(HO89*MDR!$AY$6/(MDR!EO223*HO116))+(HO90*MDR!$AZ$6/(MDR!EO224*HO116))+(HO91*MDR!$BA$6/(MDR!EO225*HO116)))","v":{"$error":"#VALUE!"}},{"$f":"100/((HQ86/HP86)+(HQ87/HP87)+(HQ88/HP88)+(HQ89/HP89)+(HQ90/HP90)+(HQ91/HP91))","v":{"$error":"#VALUE!"}},{"$f":"100/((HQ86*MDR!$AV$6/(MDR!EQ220*HQ116))+(HQ87*MDR!$AW$6/(MDR!EQ221*HQ116))+(HQ88*MDR!$AX$6/(MDR!EQ222*HQ116))+(HQ89*MDR!$AY$6/(MDR!EQ223*HQ116))+(HQ90*MDR!$AZ$6/(MDR!EQ224*HQ116))+(HQ91*MDR!$BA$6/(MDR!EQ225*HQ116)))","v":{"$error":"#VALUE!"}},{"$f":"100/((HS86/HR86)+(HS87/HR87)+(HS88/HR88)+(HS89/HR89)+(HS90/HR90)+(HS91/HR91))","v":{"$error":"#VALUE!"}},{"$f":"100/((HS86*MDR!$AV$6/(MDR!ES220*HS116))+(HS87*MDR!$AW$6/(MDR!ES221*HS116))+(HS88*MDR!$AX$6/(MDR!ES222*HS116))+(HS89*MDR!$AY$6/(MDR!ES223*HS116))+(HS90*MDR!$AZ$6/(MDR!ES224*HS116))+(HS91*MDR!$BA$6/(MDR!ES225*HS116)))","v":{"$error":"#VALUE!"}},null,null,null,null,{"$f":"100/((HY86/HX86)+(HY87/HX87)+(HY88/HX88)+(HY89/HX89)+(HY90/HX90)+(HY91/HX91))","v":{"$error":"#VALUE!"}},{"$f":"100/((HY86*MDR!$AV$6/(MDR!EY220*HY116))+(HY87*MDR!$AW$6/(MDR!EY221*HY116))+(HY88*MDR!$AX$6/(MDR!EY222*HY116))+(HY89*MDR!$AY$6/(MDR!EY223*HY116))+(HY90*MDR!$AZ$6/(MDR!EY224*HY116))+(HY91*MDR!$BA$6/(MDR!EY225*HY116)))","v":{"$error":"#VALUE!"}},{"$f":"100/((IA86/HZ86)+(IA87/HZ87)+(IA88/HZ88)+(IA89/HZ89)+(IA90/HZ90)+(IA91/HZ91))","v":{"$error":"#VALUE!"}},{"$f":"100/((IA86*MDR!$AV$6/(MDR!FA220*IA116))+(IA87*MDR!$AW$6/(MDR!FA221*IA116))+(IA88*MDR!$AX$6/(MDR!FA222*IA116))+(IA89*MDR!$AY$6/(MDR!FA223*IA116))+(IA90*MDR!$AZ$6/(MDR!FA224*IA116))+(IA91*MDR!$BA$6/(MDR!FA225*IA116)))","v":{"$error":"#VALUE!"}},{"$f":"100/((IC86/IB86)+(IC87/IB87)+(IC88/IB88)+(IC89/IB89)+(IC90/IB90)+(IC91/IB91))","v":{"$error":"#VALUE!"}},{"$f":"100/((IC86*MDR!$AV$6/(MDR!FC220*IC116))+(IC87*MDR!$AW$6/(MDR!FC221*IC116))+(IC88*MDR!$AX$6/(MDR!FC222*IC116))+(IC89*MDR!$AY$6/(MDR!FC223*IC116))+(IC90*MDR!$AZ$6/(MDR!FC224*IC116))+(IC91*MDR!$BA$6/(MDR!FC225*IC116)))","v":{"$error":"#VALUE!"}},{"$f":"100/((IE86/ID86)+(IE87/ID87)+(IE88/ID88)+(IE89/ID89)+(IE90/ID90)+(IE91/ID91))","v":{"$error":"#VALUE!"}},{"$f":"100/((IE86*MDR!$AV$6/(MDR!FE220*IE116))+(IE87*MDR!$AW$6/(MDR!FE221*IE116))+(IE88*MDR!$AX$6/(MDR!FE222*IE116))+(IE89*MDR!$AY$6/(MDR!FE223*IE116))+(IE90*MDR!$AZ$6/(MDR!FE224*IE116))+(IE91*MDR!$BA$6/(MDR!FE225*IE116)))","v":{"$error":"#VALUE!"}},null,null,null,null,{"$f":"100/((IK86/IJ86)+(IK87/IJ87)+(IK88/IJ88)+(IK89/IJ89)+(IK90/IJ90)+(IK91/IJ91))","v":{"$error":"#VALUE!"}},{"$f":"100/((IK86*MDR!$AV$6/(MDR!FK220*IK116))+(IK87*MDR!$AW$6/(MDR!FK221*IK116))+(IK88*MDR!$AX$6/(MDR!FK222*IK116))+(IK89*MDR!$AY$6/(MDR!FK223*IK116))+(IK90*MDR!$AZ$6/(MDR!FK224*IK116))+(IK91*MDR!$BA$6/(MDR!FK225*IK116)))","v":{"$error":"#VALUE!"}},{"$f":"100/((IM86/IL86)+(IM87/IL87)+(IM88/IL88)+(IM89/IL89)+(IM90/IL90)+(IM91/IL91))","v":{"$error":"#VALUE!"}},{"$f":"100/((IM86*MDR!$AV$6/(MDR!FM220*IM116))+(IM87*MDR!$AW$6/(MDR!FM221*IM116))+(IM88*MDR!$AX$6/(MDR!FM222*IM116))+(IM89*MDR!$AY$6/(MDR!FM223*IM116))+(IM90*MDR!$AZ$6/(MDR!FM224*IM116))+(IM91*MDR!$BA$6/(MDR!FM225*IM116)))","v":{"$error":"#VALUE!"}},{"$f":"100/((IO86/IN86)+(IO87/IN87)+(IO88/IN88)+(IO89/IN89)+(IO90/IN90)+(IO91/IN91))","v":{"$error":"#VALUE!"}},{"$f":"100/((IO86*MDR!$AV$6/(MDR!FO220*IO116))+(IO87*MDR!$AW$6/(MDR!FO221*IO116))+(IO88*MDR!$AX$6/(MDR!FO222*IO116))+(IO89*MDR!$AY$6/(MDR!FO223*IO116))+(IO90*MDR!$AZ$6/(MDR!FO224*IO116))+(IO91*MDR!$BA$6/(MDR!FO225*IO116)))","v":{"$error":"#VALUE!"}},{"$f":"100/((IQ86/IP86)+(IQ87/IP87)+(IQ88/IP88)+(IQ89/IP89)+(IQ90/IP90)+(IQ91/IP91))","v":{"$error":"#VALUE!"}},{"$f":"100/((IQ86*MDR!$AV$6/(MDR!FQ220*IQ116))+(IQ87*MDR!$AW$6/(MDR!FQ221*IQ116))+(IQ88*MDR!$AX$6/(MDR!FQ222*IQ116))+(IQ89*MDR!$AY$6/(MDR!FQ223*IQ116))+(IQ90*MDR!$AZ$6/(MDR!FQ224*IQ116))+(IQ91*MDR!$BA$6/(MDR!FQ225*IQ116)))","v":{"$error":"#VALUE!"}},null,null,{"$f":"#REF!","v":{"$error":"#REF!"}},"Agency AFT Substituted"]
[null,null,null,{"$f":"100/((E86/D86)+(E87/D87)+(E88/D88)+(E89/D89)+(E90/D90)+(E91/D91)+(E92/D92))","v":{"$error":"#DIV/0!"}},{"$f":"100/((E86*MDR!$AV$6/(MDR!BG200*E117))+(E87*MDR!$AW$6/(MDR!BG201*E117))+(E88*MDR!$AX$6/(MDR!BG202*E117))+(E89*MDR!$AY$6/(MDR!BG203*E117))+(E90*MDR!$AZ$6/(MDR!BG204*E117))+(E91*MDR!$BA$6/(MDR!BG205*E117))+(E92*MDR!$BB$6/(MDR!BG206*E117)))","v":{"$error":"#DIV/0!"}},{"$f":"100/((G86/F86)+(G87/F87)+(G88/F88)+(G89/F89)+(G90/F90)+(G91/F91)+(G92/F92))","v":{"$error":"#VALUE!"}},{"$f":"100/((G86*MDR!$AV$6/(MDR!BI200*G117))+(G87*MDR!$AW$6/(MDR!BI201*G117))+(G88*MDR!$AX$6/(MDR!BI202*G117))+(G89*MDR!$AY$6/(MDR!BI203*G117))+(G90*MDR!$AZ$6/(MDR!BI204*G117))+(G91*MDR!$BA$6/(MDR!BI205*G117))+(G92*MDR!$BB$6/(MDR!BI206*G117)))","v":{"$error":"#VALUE!"}},{"$f":"100/((I86/H86)+(I87/H87)+(I88/H88)+(I89/H89)+(I90/H90)+(I91/H91)+(I92/H92))","v":{"$error":"#VALUE!"}},{"$f":"100/((I86*MDR!$AV$6/(MDR!BK200*I117))+(I87*MDR!$AW$6/(MDR!BK201*I117))+(I88*MDR!$AX$6/(MDR!BK202*I117))+(I89*MDR!$AY$6/(MDR!BK203*I117))+(I90*MDR!$AZ$6/(MDR!BK204*I117))+(I91*MDR!$BA$6/(MDR!BK205*I117))+(I92*MDR!$BB$6/(MDR!BK206*I117)))","v":{"$error":"#VALUE!"}},{"$f":"100/((K86/J86)+(K87/J87)+(K88/J88)+(K89/J89)+(K90/J90)+(K91/J91)+(K92/J92))","v":{"$error":"#VALUE!"}},{"$f":"100/((K86*MDR!$AV$6/(MDR!BM200*K117))+(K87*MDR!$AW$6/(MDR!BM201*K117))+(K88*MDR!$AX$6/(MDR!BM202*K117))+(K89*MDR!$AY$6/(MDR!BM203*K117))+(K90*MDR!$AZ$6/(MDR!BM204*K117))+(K91*MDR!$BA$6/(MDR!BM205*K117))+(K92*MDR!$BB$6/(MDR!BM206*K117)))","v":{"$error":"#VALUE!"}},null,null,null,null,{"$f":"100/((Q86/P86)+(Q87/P87)+(Q88/P88)+(Q89/P89)+(Q90/P90)+(Q91/P91)+(Q92/P92))","v":{"$error":"#VALUE!"}},{"$f":"100/((Q86*MDR!$AV$6/(MDR!BS200*Q117))+(Q87*MDR!$AW$6/(MDR!BS201*Q117))+(Q88*MDR!$AX$6/(MDR!BS202*Q117))+(Q89*MDR!$AY$6/(MDR!BS203*Q117))+(Q90*MDR!$AZ$6/(MDR!BS204*Q117))+(Q91*MDR!$BA$6/(MDR!BS205*Q117))+(Q92*MDR!$BB$6/(MDR!BS206*Q117)))","v":{"$error":"#VALUE!"}},{"$f":"100/((S86/R86)+(S87/R87)+(S88/R88)+(S89/R89)+(S90/R90)+(S91/R91)+(S92/R92))","v":{"$error":"#VALUE!"}},{"$f":"100/((S86*MDR!$AV$6/(MDR!BU200*S117))+(S87*MDR!$AW$6/(MDR!BU201*S117))+(S88*MDR!$AX$6/(MDR!BU202*S117))+(S89*MDR!$AY$6/(MDR!BU203*S117))+(S90*MDR!$AZ$6/(MDR!BU204*S117))+(S91*MDR!$BA$6/(MDR!BU205*S117))+(S92*MDR!$BB$6/(MDR!BU206*S117)))","v":{"$error":"#VALUE!"}},{"$f":"100/((U86/T86)+(U87/T87)+(U88/T88)+(U89/T89)+(U90/T90)+(U91/T91)+(U92/T92))","v":{"$error":"#VALUE!"}},{"$f":"100/((U86*MDR!$AV$6/(MDR!BW200*U117))+(U87*MDR!$AW$6/(MDR!BW201*U117))+(U88*MDR!$AX$6/(MDR!BW202*U117))+(U89*MDR!$AY$6/(MDR!BW203*U117))+(U90*MDR!$AZ$6/(MDR!BW204*U117))+(U91*MDR!$BA$6/(MDR!BW205*U117))+(U92*MDR!$BB$6/(MDR!BW206*U117)))","v":{"$error":"#VALUE!"}},{"$f":"100/((W86/V86)+(W87/V87)+(W88/V88)+(W89/V89)+(W90/V90)+(W91/V91)+(W92/V92))","v":{"$error":"#VALUE!"}},{"$f":"100/((W86*MDR!$AV$6/(MDR!BY200*W117))+(W87*MDR!$AW$6/(MDR!BY201*W117))+(W88*MDR!$AX$6/(MDR!BY202*W117))+(W89*MDR!$AY$6/(MDR!BY203*W117))+(W90*MDR!$AZ$6/(MDR!BY204*W117))+(W91*MDR!$BA$6/(MDR!BY205*W117))+(W92*MDR!$BB$6/(MDR!BY206*W117)))","v":{"$error":"#VALUE!"}},null,null,null,null,{"$f":"100/((AC86/AB86)+(AC87/AB87)+(AC88/AB88)+(AC89/AB89)+(AC90/AB90)+(AC91/AB91)+(AC92/AB92))","v":{"$error":"#VALUE!"}},{"$f":"100/((AC86*MDR!$AV$6/(MDR!CE200*AC117))+(AC87*MDR!$AW$6/(MDR!CE201*AC117))+(AC88*MDR!$AX$6/(MDR!CE202*AC117))+(AC89*MDR!$AY$6/(MDR!CE203*AC117))+(AC90*MDR!$AZ$6/(MDR!CE204*AC117))+(AC91*MDR!$BA$6/(MDR!CE205*AC117))+(AC92*MDR!$BB$6/(MDR!CE206*AC117)))","v":{"$error":"#VALUE!"}},{"$f":"100/((AE86/AD86)+(AE87/AD87)+(AE88/AD88)+(AE89/AD89)+(AE90/AD90)+(AE91/AD91)+(AE92/AD92))","v":{"$error":"#VALUE!"}},{"$f":"100/((AE86*MDR!$AV$6/(MDR!CG200*AE117))+(AE87*MDR!$AW$6/(MDR!CG201*AE117))+(AE88*MDR!$AX$6/(MDR!CG202*AE117))+(AE89*MDR!$AY$6/(MDR!CG203*AE117))+(AE90*MDR!$AZ$6/(MDR!CG204*AE117))+(AE91*MDR!$BA$6/(MDR!CG205*AE117))+(AE92*MDR!$BB$6/(MDR!CG206*AE117)))","v":{"$error":"#VALUE!"}},{"$f":"100/((AG86/AF86)+(AG87/AF87)+(AG88/AF88)+(AG89/AF89)+(AG90/AF90)+(AG91/AF91)+(AG92/AF92))","v":{"$error":"#VALUE!"}},{"$f":"100/((AG86*MDR!$AV$6/(MDR!CI200*AG117))+(AG87*MDR!$AW$6/(MDR!CI201*AG117))+(AG88*MDR!$AX$6/(MDR!CI202*AG117))+(AG89*MDR!$AY$6/(MDR!CI203*AG117))+(AG90*MDR!$AZ$6/(MDR!CI204*AG117))+(AG91*MDR!$BA$6/(MDR!CI205*AG117))+(AG92*MDR!$BB$6/(MDR!CI206*AG117)))","v":{"$error":"#VALUE!"}},{"$f":"100/((AI86/AH86)+(AI87/AH87)+(AI88/AH88)+(AI89/AH89)+(AI90/AH90)+(AI91/AH91)+(AI92/AH92))","v":{"$error":"#VALUE!"}},{"$f":"100/((AI86*MDR!$AV$6/(MDR!CK200*AI117))+(AI87*MDR!$AW$6/(MDR!CK201*AI117))+(AI88*MDR!$AX$6/(MDR!CK202*AI117))+(AI89*MDR!$AY$6/(MDR!CK203*AI117))+(AI90*MDR!$AZ$6/(MDR!CK204*AI117))+(AI91*MDR!$BA$6/(MDR!CK205*AI117))+(AI92*MDR!$BB$6/(MDR!CK206*AI117)))","v":{"$error":"#VALUE!"}},null,null,null,null,{"$f":"100/((AO86/AN86)+(AO87/AN87)+(AO88/AN88)+(AO89/AN89)+(AO90/AN90)+(AO91/AN91)+(AO92/AN92))","v":{"$error":"#VALUE!"}},{"$f":"100/((AO86*MDR!$AV$6/(MDR!CQ200*AO117))+(AO87*MDR!$AW$6/(MDR!CQ201*AO117))+(AO88*MDR!$AX$6/(MDR!CQ202*AO117))+(AO89*MDR!$AY$6/(MDR!CQ203*AO117))+(AO90*MDR!$AZ$6/(MDR!CQ204*AO117))+(AO91*MDR!$BA$6/(MDR!CQ205*AO117))+(AO92*MDR!$BB$6/(MDR!CQ206*AO117)))","v":{"$error":"#VALUE!"}},{"$f":"100/((AQ86/AP86)+(AQ87/AP87)+(AQ88/AP88)+(AQ89/AP89)+(AQ90/AP90)+(AQ91/AP91)+(AQ92/AP92))","v":{"$error":"#VALUE!"}},{"$f":"100/((AQ86*MDR!$AV$6/(MDR!CS200*AQ117))+(AQ87*MDR!$AW$6/(MDR!CS201*AQ117))+(AQ88*MDR!$AX$6/(MDR!CS202*AQ117))+(AQ89*MDR!$AY$6/(MDR!CS203*AQ117))+(AQ90*MDR!$AZ$6/(MDR!CS204*AQ117))+(AQ91*MDR!$BA$6/(MDR!CS205*AQ117))+(AQ92*MDR!$BB$6/(MDR!CS206*AQ117)))","v":{"$error":"#VALUE!"}},{"$f":"100/((AS86/AR86)+(AS87/AR87)+(AS88/AR88)+(AS89/AR89)+(AS90/AR90)+(AS91/AR91)+(AS92/AR92))","v":{"$error":"#VALUE!"}},{"$f":"100/((AS86*MDR!$AV$6/(MDR!CU200*AS117))+(AS87*MDR!$AW$6/(MDR!CU201*AS117))+(AS88*MDR!$AX$6/(MDR!CU202*AS117))+(AS89*MDR!$AY$6/(MDR!CU203*AS117))+(AS90*MDR!$AZ$6/(MDR!CU204*AS117))+(AS91*MDR!$BA$6/(MDR!CU205*AS117))+(AS92*MDR!$BB$6/(MDR!CU206*AS117)))","v":{"$error":"#VALUE!"}},{"$f":"100/((AU86/AT86)+(AU87/AT87)+(AU88/AT88)+(AU89/AT89)+(AU90/AT90)+(AU91/AT91)+(AU92/AT92))","v":{"$error":"#VALUE!"}},{"$f":"100/((AU86*MDR!$AV$6/(MDR!CW200*AU117))+(AU87*MDR!$AW$6/(MDR!CW201*AU117))+(AU88*MDR!$AX$6/(MDR!CW202*AU117))+(AU89*MDR!$AY$6/(MDR!CW203*AU117))+(AU90*MDR!$AZ$6/(MDR!CW204*AU117))+(AU91*MDR!$BA$6/(MDR!CW205*AU117))+(AU92*MDR!$BB$6/(MDR!CW206*AU117)))","v":{"$error":"#VALUE!"}},null,null,null,null,{"$f":"100/((BA86/AZ86)+(BA87/AZ87)+(BA88/AZ88)+(BA89/AZ89)+(BA90/AZ90)+(BA91/AZ91)+(BA92/AZ92))","v":{"$error":"#VALUE!"}},{"$f":"100/((BA86*MDR!$AV$6/(MDR!DC200*BA117))+(BA87*MDR!$AW$6/(MDR!DC201*BA117))+(BA88*MDR!$AX$6/(MDR!DC202*BA117))+(BA89*MDR!$AY$6/(MDR!DC203*BA117))+(BA90*MDR!$AZ$6/(MDR!DC204*BA117))+(BA91*MDR!$BA$6/(MDR!DC205*BA117))+(BA92*MDR!$BB$6/(MDR!DC206*BA117)))","v":{"$error":"#VALUE!"}},{"$f":"100/((BC86/BB86)+(BC87/BB87)+(BC88/BB88)+(BC89/BB89)+(BC90/BB90)+(BC91/BB91)+(BC92/BB92))","v":{"$error":"#VALUE!"}},{"$f":"100/((BC86*MDR!$AV$6/(MDR!DE200*BC117))+(BC87*MDR!$AW$6/(MDR!DE201*BC117))+(BC88*MDR!$AX$6/(MDR!DE202*BC117))+(BC89*MDR!$AY$6/(MDR!DE203*BC117))+(BC90*MDR!$AZ$6/(MDR!DE204*BC117))+(BC91*MDR!$BA$6/(MDR!DE205*BC117))+(BC92*MDR!$BB$6/(MDR!DE206*BC117)))","v":{"$error":"#VALUE!"}},{"$f":"100/((BE86/BD86)+(BE87/BD87)+(BE88/BD88)+(BE89/BD89)+(BE90/BD90)+(BE91/BD91)+(BE92/BD92))","v":{"$error":"#VALUE!"}},{"$f":"100/((BE86*MDR!$AV$6/(MDR!DG200*BE117))+(BE87*MDR!$AW$6/(MDR!DG201*BE117))+(BE88*MDR!$AX$6/(MDR!DG202*BE117))+(BE89*MDR!$AY$6/(MDR!DG203*BE117))+(BE90*MDR!$AZ$6/(MDR!DG204*BE117))+(BE91*MDR!$BA$6/(MDR!DG205*BE117))+(BE92*MDR!$BB$6/(MDR!DG206*BE117)))","v":{"$error":"#VALUE!"}},{"$f":"100/((BG86/BF86)+(BG87/BF87)+(BG88/BF88)+(BG89/BF89)+(BG90/BF90)+(BG91/BF91)+(BG92/BF92))","v":{"$error":"#VALUE!"}},{"$f":"100/((BG86*MDR!$AV$6/(MDR!DI200*BG117))+(BG87*MDR!$AW$6/(MDR!DI201*BG117))+(BG88*MDR!$AX$6/(MDR!DI202*BG117))+(BG89*MDR!$AY$6/(MDR!DI203*BG117))+(BG90*MDR!$AZ$6/(MDR!DI204*BG117))+(BG91*MDR!$BA$6/(MDR!DI205*BG117))+(BG92*MDR!$BB$6/(MDR!DI206*BG117)))","v":{"$error":"#VALUE!"}},null,null,null,null,{"$f":"100/((BM86/BL86)+(BM87/BL87)+(BM88/BL88)+(BM89/BL89)+(BM90/BL90)+(BM91/BL91)+(BM92/BL92))","v":{"$error":"#VALUE!"}},{"$f":"100/((BM86*MDR!$AV$6/(MDR!DO200*BM117))+(BM87*MDR!$AW$6/(MDR!DO201*BM117))+(BM88*MDR!$AX$6/(MDR!DO202*BM117))+(BM89*MDR!$AY$6/(MDR!DO203*BM117))+(BM90*MDR!$AZ$6/(MDR!DO204*BM117))+(BM91*MDR!$BA$6/(MDR!DO205*BM117))+(BM92*MDR!$BB$6/(MDR!DO206*BM117)))","v":{"$error":"#VALUE!"}},{"$f":"100/((BO86/BN86)+(BO87/BN87)+(BO88/BN88)+(BO89/BN89)+(BO90/BN90)+(BO91/BN91)+(BO92/BN92))","v":{"$error":"#VALUE!"}},{"$f":"100/((BO86*MDR!$AV$6/(MDR!DQ200*BO117))+(BO87*MDR!$AW$6/(MDR!DQ201*BO117))+(BO88*MDR!$AX$6/(MDR!DQ202*BO117))+(BO89*MDR!$AY$6/(MDR!DQ203*BO117))+(BO90*MDR!$AZ$6/(MDR!DQ204*BO117))+(BO91*MDR!$BA$6/(MDR!DQ205*BO117))+(BO92*MDR!$BB$6/(MDR!DQ206*BO117)))","v":{"$error":"#VALUE!"}},{"$f":"100/((BQ86/BP86)+(BQ87/BP87)+(BQ88/BP88)+(BQ89/BP89)+(BQ90/BP90)+(BQ91/BP91)+(BQ92/BP92))","v":{"$error":"#VALUE!"}},{"$f":"100/((BQ86*MDR!$AV$6/(MDR!DS200*BQ117))+(BQ87*MDR!$AW$6/(MDR!DS201*BQ117))+(BQ88*MDR!$AX$6/(MDR!DS202*BQ117))+(BQ89*MDR!$AY$6/(MDR!DS203*BQ117))+(BQ90*MDR!$AZ$6/(MDR!DS204*BQ117))+(BQ91*MDR!$BA$6/(MDR!DS205*BQ117))+(BQ92*MDR!$BB$6/(MDR!DS206*BQ117)))","v":{"$error":"#VALUE!"}},{"$f":"100/((BS86/BR86)+(BS87/BR87)+(BS88/BR88)+(BS89/BR89)+(BS90/BR90)+(BS91/BR91)+(BS92/BR92))","v":{"$error":"#VALUE!"}},{"$f":"100/((BS86*MDR!$AV$6/(MDR!DU200*BS117))+(BS87*MDR!$AW$6/(MDR!DU201*BS117))+(BS88*MDR!$AX$6/(MDR!DU202*BS117))+(BS89*MDR!$AY$6/(MDR!DU203*BS117))+(BS90*MDR!$AZ$6/(MDR!DU204*BS117))+(BS91*MDR!$BA$6/(MDR!DU205*BS117))+(BS92*MDR!$BB$6/(MDR!DU206*BS117)))","v":{"$error":"#VALUE!"}},null,null,null,null,{"$f":"100/((BY86/BX86)+(BY87/BX87)+(BY88/BX88)+(BY89/BX89)+(BY90/BX90)+(BY91/BX91)+(BY92/BX92))","v":{"$error":"#VALUE!"}},{"$f":"100/((BY86*MDR!$AV$6/(MDR!EA200*BY117))+(BY87*MDR!$AW$6/(MDR!EA201*BY117))+(BY88*MDR!$AX$6/(MDR!EA202*BY117))+(BY89*MDR!$AY$6/(MDR!EA203*BY117))+(BY90*MDR!$AZ$6/(MDR!EA204*BY117))+(BY91*MDR!$BA$6/(MDR!EA205*BY117))+(BY92*MDR!$BB$6/(MDR!EA206*BY117)))","v":{"$error":"#VALUE!"}},{"$f":"100/((CA86/BZ86)+(CA87/BZ87)+(CA88/BZ88)+(CA89/BZ89)+(CA90/BZ90)+(CA91/BZ91)+(CA92/BZ92))","v":{"$error":"#VALUE!"}},{"$f":"100/((CA86*MDR!$AV$6/(MDR!EC200*CA117))+(CA87*MDR!$AW$6/(MDR!EC201*CA117))+(CA88*MDR!$AX$6/(MDR!EC202*CA117))+(CA89*MDR!$AY$6/(MDR!EC203*CA117))+(CA90*MDR!$AZ$6/(MDR!EC204*CA117))+(CA91*MDR!$BA$6/(MDR!EC205*CA117))+(CA92*MDR!$BB$6/(MDR!EC206*CA117)))","v":{"$error":"#VALUE!"}},{"$f":"100/((CC86/CB86)+(CC87/CB87)+(CC88/CB88)+(CC89/CB89)+(CC90/CB90)+(CC91/CB91)+(CC92/CB92))","v":{"$error":"#VALUE!"}},{"$f":"100/((CC86*MDR!$AV$6/(MDR!EE200*CC117))+(CC87*MDR!$AW$6/(MDR!EE201*CC117))+(CC88*MDR!$AX$6/(MDR!EE202*CC117))+(CC89*MDR!$AY$6/(MDR!EE203*CC117))+(CC90*MDR!$AZ$6/(MDR!EE204*CC117))+(CC91*MDR!$BA$6/(MDR!EE205*CC117))+(CC92*MDR!$BB$6/(MDR!EE206*CC117)))","v":{"$error":"#VALUE!"}},{"$f":"100/((CE86/CD86)+(CE87/CD87)+(CE88/CD88)+(CE89/CD89)+(CE90/CD90)+(CE91/CD91)+(CE92/CD92))","v":{"$error":"#VALUE!"}},{"$f":"100/((CE86*MDR!$AV$6/(MDR!EG200*CE117))+(CE87*MDR!$AW$6/(MDR!EG201*CE117))+(CE88*MDR!$AX$6/(MDR!EG202*CE117))+(CE89*MDR!$AY$6/(MDR!EG203*CE117))+(CE90*MDR!$AZ$6/(MDR!EG204*CE117))+(CE91*MDR!$BA$6/(MDR!EG205*CE117))+(CE92*MDR!$BB$6/(MDR!EG206*CE117)))","v":{"$error":"#VALUE!"}},null,null,null,null,{"$f":"100/((CK86/CJ86)+(CK87/CJ87)+(CK88/CJ88)+(CK89/CJ89)+(CK90/CJ90)+(CK91/CJ91)+(CK92/CJ92))","v":{"$error":"#VALUE!"}},{"$f":"100/((CK86*MDR!$AV$6/(MDR!EM200*CK117))+(CK87*MDR!$AW$6/(MDR!EM201*CK117))+(CK88*MDR!$AX$6/(MDR!EM202*CK117))+(CK89*MDR!$AY$6/(MDR!EM203*CK117))+(CK90*MDR!$AZ$6/(MDR!EM204*CK117))+(CK91*MDR!$BA$6/(MDR!EM205*CK117))+(CK92*MDR!$BB$6/(MDR!EM206*CK117)))","v":{"$error":"#VALUE!"}},{"$f":"100/((CM86/CL86)+(CM87/CL87)+(CM88/CL88)+(CM89/CL89)+(CM90/CL90)+(CM91/CL91)+(CM92/CL92))","v":{"$error":"#VALUE!"}},{"$f":"100/((CM86*MDR!$AV$6/(MDR!EO200*CM117))+(CM87*MDR!$AW$6/(MDR!EO201*CM117))+(CM88*MDR!$AX$6/(MDR!EO202*CM117))+(CM89*MDR!$AY$6/(MDR!EO203*CM117))+(CM90*MDR!$AZ$6/(MDR!EO204*CM117))+(CM91*MDR!$BA$6/(MDR!EO205*CM117))+(CM92*MDR!$BB$6/(MDR!EO206*CM117)))","v":{"$error":"#VALUE!"}},{"$f":"100/((CO86/CN86)+(CO87/CN87)+(CO88/CN88)+(CO89/CN89)+(CO90/CN90)+(CO91/CN91)+(CO92/CN92))","v":{"$error":"#VALUE!"}},{"$f":"100/((CO86*MDR!$AV$6/(MDR!EQ200*CO117))+(CO87*MDR!$AW$6/(MDR!EQ201*CO117))+(CO88*MDR!$AX$6/(MDR!EQ202*CO117))+(CO89*MDR!$AY$6/(MDR!EQ203*CO117))+(CO90*MDR!$AZ$6/(MDR!EQ204*CO117))+(CO91*MDR!$BA$6/(MDR!EQ205*CO117))+(CO92*MDR!$BB$6/(MDR!EQ206*CO117)))","v":{"$error":"#VALUE!"}},{"$f":"100/((CQ86/CP86)+(CQ87/CP87)+(CQ88/CP88)+(CQ89/CP89)+(CQ90/CP90)+(CQ91/CP91)+(CQ92/CP92))","v":{"$error":"#VALUE!"}},{"$f":"100/((CQ86*MDR!$AV$6/(MDR!ES200*CQ117))+(CQ87*MDR!$AW$6/(MDR!ES201*CQ117))+(CQ88*MDR!$AX$6/(MDR!ES202*CQ117))+(CQ89*MDR!$AY$6/(MDR!ES203*CQ117))+(CQ90*MDR!$AZ$6/(MDR!ES204*CQ117))+(CQ91*MDR!$BA$6/(MDR!ES205*CQ117))+(CQ92*MDR!$BB$6/(MDR!ES206*CQ117)))","v":{"$error":"#VALUE!"}},null,null,null,null,{"$f":"100/((CW86/CV86)+(CW87/CV87)+(CW88/CV88)+(CW89/CV89)+(CW90/CV90)+(CW91/CV91)+(CW92/CV92))","v":{"$error":"#VALUE!"}},{"$f":"100/((CW86*MDR!$AV$6/(MDR!EY200*CW117))+(CW87*MDR!$AW$6/(MDR!EY201*CW117))+(CW88*MDR!$AX$6/(MDR!EY202*CW117))+(CW89*MDR!$AY$6/(MDR!EY203*CW117))+(CW90*MDR!$AZ$6/(MDR!EY204*CW117))+(CW91*MDR!$BA$6/(MDR!EY205*CW117))+(CW92*MDR!$BB$6/(MDR!EY206*CW117)))","v":{"$error":"#VALUE!"}},{"$f":"100/((CY86/CX86)+(CY87/CX87)+(CY88/CX88)+(CY89/CX89)+(CY90/CX90)+(CY91/CX91)+(CY92/CX92))","v":{"$error":"#VALUE!"}},{"$f":"100/((CY86*MDR!$AV$6/(MDR!FA200*CY117))+(CY87*MDR!$AW$6/(MDR!FA201*CY117))+(CY88*MDR!$AX$6/(MDR!FA202*CY117))+(CY89*MDR!$AY$6/(MDR!FA203*CY117))+(CY90*MDR!$AZ$6/(MDR!FA204*CY117))+(CY91*MDR!$BA$6/(MDR!FA205*CY117))+(CY92*MDR!$BB$6/(MDR!FA206*CY117)))","v":{"$error":"#VALUE!"}},{"$f":"100/((DA86/CZ86)+(DA87/CZ87)+(DA88/CZ88)+(DA89/CZ89)+(DA90/CZ90)+(DA91/CZ91)+(DA92/CZ92))","v":{"$error":"#VALUE!"}},{"$f":"100/((DA86*MDR!$AV$6/(MDR!FC200*DA117))+(DA87*MDR!$AW$6/(MDR!FC201*DA117))+(DA88*MDR!$AX$6/(MDR!FC202*DA117))+(DA89*MDR!$AY$6/(MDR!FC203*DA117))+(DA90*MDR!$AZ$6/(MDR!FC204*DA117))+(DA91*MDR!$BA$6/(MDR!FC205*DA117))+(DA92*MDR!$BB$6/(MDR!FC206*DA117)))","v":{"$error":"#VALUE!"}},{"$f":"100/((DC86/DB86)+(DC87/DB87)+(DC88/DB88)+(DC89/DB89)+(DC90/DB90)+(DC91/DB91)+(DC92/DB92))","v":{"$error":"#VALUE!"}},{"$f":"100/((DC86*MDR!$AV$6/(MDR!FE200*DC117))+(DC87*MDR!$AW$6/(MDR!FE201*DC117))+(DC88*MDR!$AX$6/(MDR!FE202*DC117))+(DC89*MDR!$AY$6/(MDR!FE203*DC117))+(DC90*MDR!$AZ$6/(MDR!FE204*DC117))+(DC91*MDR!$BA$6/(MDR!FE205*DC117))+(DC92*MDR!$BB$6/(MDR!FE206*DC117)))","v":{"$error":"#VALUE!"}},null,null,null,null,{"$f":"100/((DI86/DH86)+(DI87/DH87)+(DI88/DH88)+(DI89/DH89)+(DI90/DH90)+(DI91/DH91)+(DI92/DH92))","v":{"$error":"#VALUE!"}},{"$f":"100/((DI86*MDR!$AV$6/(MDR!FK200*DI117))+(DI87*MDR!$AW$6/(MDR!FK201*DI117))+(DI88*MDR!$AX$6/(MDR!FK202*DI117))+(DI89*MDR!$AY$6/(MDR!FK203*DI117))+(DI90*MDR!$AZ$6/(MDR!FK204*DI117))+(DI91*MDR!$BA$6/(MDR!FK205*DI117))+(DI92*MDR!$BB$6/(MDR!FK206*DI117)))","v":{"$error":"#VALUE!"}},{"$f":"100/((DK86/DJ86)+(DK87/DJ87)+(DK88/DJ88)+(DK89/DJ89)+(DK90/DJ90)+(DK91/DJ91)+(DK92/DJ92))","v":{"$error":"#VALUE!"}},{"$f":"100/((DK86*MDR!$AV$6/(MDR!FM200*DK117))+(DK87*MDR!$AW$6/(MDR!FM201*DK117))+(DK88*MDR!$AX$6/(MDR!FM202*DK117))+(DK89*MDR!$AY$6/(MDR!FM203*DK117))+(DK90*MDR!$AZ$6/(MDR!FM204*DK117))+(DK91*MDR!$BA$6/(MDR!FM205*DK117))+(DK92*MDR!$BB$6/(MDR!FM206*DK117)))","v":{"$error":"#VALUE!"}},{"$f":"100/((DM86/DL86)+(DM87/DL87)+(DM88/DL88)+(DM89/DL89)+(DM90/DL90)+(DM91/DL91)+(DM92/DL92))","v":{"$error":"#VALUE!"}},{"$f":"100/((DM86*MDR!$AV$6/(MDR!FO200*DM117))+(DM87*MDR!$AW$6/(MDR!FO201*DM117))+(DM88*MDR!$AX$6/(MDR!FO202*DM117))+(DM89*MDR!$AY$6/(MDR!FO203*DM117))+(DM90*MDR!$AZ$6/(MDR!FO204*DM117))+(DM91*MDR!$BA$6/(MDR!FO205*DM117))+(DM92*MDR!$BB$6/(MDR!FO206*DM117)))","v":{"$error":"#VALUE!"}},{"$f":"100/((DO86/DN86)+(DO87/DN87)+(DO88/DN88)+(DO89/DN89)+(DO90/DN90)+(DO91/DN91)+(DO92/DN92))","v":{"$error":"#VALUE!"}},{"$f":"100/((DO86*MDR!$AV$6/(MDR!FQ200*DO117))+(DO87*MDR!$AW$6/(MDR!FQ201*DO117))+(DO88*MDR!$AX$6/(MDR!FQ202*DO117))+(DO89*MDR!$AY$6/(MDR!FQ203*DO117))+(DO90*MDR!$AZ$6/(MDR!FQ204*DO117))+(DO91*MDR!$BA$6/(MDR!FQ205*DO117))+(DO92*MDR!$BB$6/(MDR!FQ206*DO117)))","v":{"$error":"#VALUE!"}},null,null,null,null,{"$f":"100/((DU86/DT86)+(DU87/DT87)+(DU88/DT88)+(DU89/DT89)+(DU90/DT90)+(DU91/DT91)+(DU92/DT92))","v":{"$error":"#VALUE!"}},{"$f":"100/((DU86*MDR!$AV$6/(MDR!FW200*DU117))+(DU87*MDR!$AW$6/(MDR!FW201*DU117))+(DU88*MDR!$AX$6/(MDR!FW202*DU117))+(DU89*MDR!$AY$6/(MDR!FW203*DU117))+(DU90*MDR!$AZ$6/(MDR!FW204*DU117))+(DU91*MDR!$BA$6/(MDR!FW205*DU117))+(DU92*MDR!$BB$6/(MDR!FW206*DU117)))","v":{"$error":"#VALUE!"}},{"$f":"100/((DW86/DV86)+(DW87/DV87)+(DW88/DV88)+(DW89/DV89)+(DW90/DV90)+(DW91/DV91)+(DW92/DV92))","v":{"$error":"#VALUE!"}},{"$f":"100/((DW86*MDR!$AV$6/(MDR!FY200*DW117))+(DW87*MDR!$AW$6/(MDR!FY201*DW117))+(DW88*MDR!$AX$6/(MDR!FY202*DW117))+(DW89*MDR!$AY$6/(MDR!FY203*DW117))+(DW90*MDR!$AZ$6/(MDR!FY204*DW117))+(DW91*MDR!$BA$6/(MDR!FY205*DW117))+(DW92*MDR!$BB$6/(MDR!FY206*DW117)))","v":{"$error":"#VALUE!"}},{"$f":"100/((DY86/DX86)+(DY87/DX87)+(DY88/DX88)+(DY89/DX89)+(DY90/DX90)+(DY91/DX91)+(DY92/DX92))","v":{"$error":"#VALUE!"}},{"$f":"100/((DY86*MDR!$AV$6/(MDR!GA200*DY117))+(DY87*MDR!$AW$6/(MDR!GA201*DY117))+(DY88*MDR!$AX$6/(MDR!GA202*DY117))+(DY89*MDR!$AY$6/(MDR!GA203*DY117))+(DY90*MDR!$AZ$6/(MDR!GA204*DY117))+(DY91*MDR!$BA$6/(MDR!GA205*DY117))+(DY92*MDR!$BB$6/(MDR!GA206*DY117)))","v":{"$error":"#VALUE!"}},{"$f":"100/((EA86/DZ86)+(EA87/DZ87)+(EA88/DZ88)+(EA89/DZ89)+(EA90/DZ90)+(EA91/DZ91)+(EA92/DZ92))","v":{"$error":"#VALUE!"}},{"$f":"100/((EA86*MDR!$AV$6/(MDR!GC200*EA117))+(EA87*MDR!$AW$6/(MDR!GC201*EA117))+(EA88*MDR!$AX$6/(MDR!GC202*EA117))+(EA89*MDR!$AY$6/(MDR!GC203*EA117))+(EA90*MDR!$AZ$6/(MDR!GC204*EA117))+(EA91*MDR!$BA$6/(MDR!GC205*EA117))+(EA92*MDR!$BB$6/(MDR!GC206*EA117)))","v":{"$error":"#VALUE!"}},null,null,null,null,{"$f":"100/((EG86/EF86)+(EG87/EF87)+(EG88/EF88)+(EG89/EF89)+(EG90/EF90)+(EG91/EF91)+(EG92/EF92))","v":{"$error":"#VALUE!"}},{"$f":"100/((EG86*MDR!$AV$6/(MDR!BG220*EG117))+(EG87*MDR!$AW$6/(MDR!BG221*EG117))+(EG88*MDR!$AX$6/(MDR!BG222*EG117))+(EG89*MDR!$AY$6/(MDR!BG223*EG117))+(EG90*MDR!$AZ$6/(MDR!BG224*EG117))+(EG91*MDR!$BA$6/(MDR!BG225*EG117))+(EG92*MDR!$BB$6/(MDR!BG226*EG117)))","v":{"$error":"#VALUE!"}},{"$f":"100/((EI86/EH86)+(EI87/EH87)+(EI88/EH88)+(EI89/EH89)+(EI90/EH90)+(EI91/EH91)+(EI92/EH92))","v":{"$error":"#VALUE!"}},{"$f":"100/((EI86*MDR!$AV$6/(MDR!BI220*EI117))+(EI87*MDR!$AW$6/(MDR!BI221*EI117))+(EI88*MDR!$AX$6/(MDR!BI222*EI117))+(EI89*MDR!$AY$6/(MDR!BI223*EI117))+(EI90*MDR!$AZ$6/(MDR!BI224*EI117))+(EI91*MDR!$BA$6/(MDR!BI225*EI117))+(EI92*MDR!$BB$6/(MDR!BI226*EI117)))","v":{"$error":"#VALUE!"}},{"$f":"100/((EK86/EJ86)+(EK87/EJ87)+(EK88/EJ88)+(EK89/EJ89)+(EK90/EJ90)+(EK91/EJ91)+(EK92/EJ92))","v":{"$error":"#VALUE!"}},{"$f":"100/((EK86*MDR!$AV$6/(MDR!BK220*EK117))+(EK87*MDR!$AW$6/(MDR!BK221*EK117))+(EK88*MDR!$AX$6/(MDR!BK222*EK117))+(EK89*MDR!$AY$6/(MDR!BK223*EK117))+(EK90*MDR!$AZ$6/(MDR!BK224*EK117))+(EK91*MDR!$BA$6/(MDR!BK225*EK117))+(EK92*MDR!$BB$6/(MDR!BK226*EK117)))","v":{"$error":"#VALUE!"}},{"$f":"100/((EM86/EL86)+(EM87/EL87)+(EM88/EL88)+(EM89/EL89)+(EM90/EL90)+(EM91/EL91)+(EM92/EL92))","v":{"$error":"#VALUE!"}},{"$f":"100/((EM86*MDR!$AV$6/(MDR!BM220*EM117))+(EM87*MDR!$AW$6/(MDR!BM221*EM117))+(EM88*MDR!$AX$6/(MDR!BM222*EM117))+(EM89*MDR!$AY$6/(MDR!BM223*EM117))+(EM90*MDR!$AZ$6/(MDR!BM224*EM117))+(EM91*MDR!$BA$6/(MDR!BM225*EM117))+(EM92*MDR!$BB$6/(MDR!BM226*EM117)))","v":{"$error":"#VALUE!"}},null,null,null,null,{"$f":"100/((ES86/ER86)+(ES87/ER87)+(ES88/ER88)+(ES89/ER89)+(ES90/ER90)+(ES91/ER91)+(ES92/ER92))","v":{"$error":"#VALUE!"}},{"$f":"100/((ES86*MDR!$AV$6/(MDR!BS220*ES117))+(ES87*MDR!$AW$6/(MDR!BS221*ES117))+(ES88*MDR!$AX$6/(MDR!BS222*ES117))+(ES89*MDR!$AY$6/(MDR!BS223*ES117))+(ES90*MDR!$AZ$6/(MDR!BS224*ES117))+(ES91*MDR!$BA$6/(MDR!BS225*ES117))+(ES92*MDR!$BB$6/(MDR!BS226*ES117)))","v":{"$error":"#VALUE!"}},{"$f":"100/((EU86/ET86)+(EU87/ET87)+(EU88/ET88)+(EU89/ET89)+(EU90/ET90)+(EU91/ET91)+(EU92/ET92))","v":{"$error":"#VALUE!"}},{"$f":"100/((EU86*MDR!$AV$6/(MDR!BU220*EU117))+(EU87*MDR!$AW$6/(MDR!BU221*EU117))+(EU88*MDR!$AX$6/(MDR!BU222*EU117))+(EU89*MDR!$AY$6/(MDR!BU223*EU117))+(EU90*MDR!$AZ$6/(MDR!BU224*EU117))+(EU91*MDR!$BA$6/(MDR!BU225*EU117))+(EU92*MDR!$BB$6/(MDR!BU226*EU117)))","v":{"$error":"#VALUE!"}},{"$f":"100/((EW86/EV86)+(EW87/EV87)+(EW88/EV88)+(EW89/EV89)+(EW90/EV90)+(EW91/EV91)+(EW92/EV92))","v":{"$error":"#VALUE!"}},{"$f":"100/((EW86*MDR!$AV$6/(MDR!BW220*EW117))+(EW87*MDR!$AW$6/(MDR!BW221*EW117))+(EW88*MDR!$AX$6/(MDR!BW222*EW117))+(EW89*MDR!$AY$6/(MDR!BW223*EW117))+(EW90*MDR!$AZ$6/(MDR!BW224*EW117))+(EW91*MDR!$BA$6/(MDR!BW225*EW117))+(EW92*MDR!$BB$6/(MDR!BW226*EW117)))","v":{"$error":"#VALUE!"}},{"$f":"100/((EY86/EX86)+(EY87/EX87)+(EY88/EX88)+(EY89/EX89)+(EY90/EX90)+(EY91/EX91)+(EY92/EX92))","v":{"$error":"#VALUE!"}},{"$f":"100/((EY86*MDR!$AV$6/(MDR!BY220*EY117))+(EY87*MDR!$AW$6/(MDR!BY221*EY117))+(EY88*MDR!$AX$6/(MDR!BY222*EY117))+(EY89*MDR!$AY$6/(MDR!BY223*EY117))+(EY90*MDR!$AZ$6/(MDR!BY224*EY117))+(EY91*MDR!$BA$6/(MDR!BY225*EY117))+(EY92*MDR!$BB$6/(MDR!BY226*EY117)))","v":{"$error":"#VALUE!"}},null,null,null,null,{"$f":"100/((FE86/FD86)+(FE87/FD87)+(FE88/FD88)+(FE89/FD89)+(FE90/FD90)+(FE91/FD91)+(FE92/FD92))","v":{"$error":"#VALUE!"}},{"$f":"100/((FE86*MDR!$AV$6/(MDR!CE220*FE117))+(FE87*MDR!$AW$6/(MDR!CE221*FE117))+(FE88*MDR!$AX$6/(MDR!CE222*FE117))+(FE89*MDR!$AY$6/(MDR!CE223*FE117))+(FE90*MDR!$AZ$6/(MDR!CE224*FE117))+(FE91*MDR!$BA$6/(MDR!CE225*FE117))+(FE92*MDR!$BB$6/(MDR!CE226*FE117)))","v":{"$error":"#VALUE!"}},{"$f":"100/((FG86/FF86)+(FG87/FF87)+(FG88/FF88)+(FG89/FF89)+(FG90/FF90)+(FG91/FF91)+(FG92/FF92))","v":{"$error":"#VALUE!"}},{"$f":"100/((FG86*MDR!$AV$6/(MDR!CG220*FG117))+(FG87*MDR!$AW$6/(MDR!CG221*FG117))+(FG88*MDR!$AX$6/(MDR!CG222*FG117))+(FG89*MDR!$AY$6/(MDR!CG223*FG117))+(FG90*MDR!$AZ$6/(MDR!CG224*FG117))+(FG91*MDR!$BA$6/(MDR!CG225*FG117))+(FG92*MDR!$BB$6/(MDR!CG226*FG117)))","v":{"$error":"#VALUE!"}},{"$f":"100/((FI86/FH86)+(FI87/FH87)+(FI88/FH88)+(FI89/FH89)+(FI90/FH90)+(FI91/FH91)+(FI92/FH92))","v":{"$error":"#VALUE!"}},{"$f":"100/((FI86*MDR!$AV$6/(MDR!CI220*FI117))+(FI87*MDR!$AW$6/(MDR!CI221*FI117))+(FI88*MDR!$AX$6/(MDR!CI222*FI117))+(FI89*MDR!$AY$6/(MDR!CI223*FI117))+(FI90*MDR!$AZ$6/(MDR!CI224*FI117))+(FI91*MDR!$BA$6/(MDR!CI225*FI117))+(FI92*MDR!$BB$6/(MDR!CI226*FI117)))","v":{"$error":"#VALUE!"}},{"$f":"100/((FK86/FJ86)+(FK87/FJ87)+(FK88/FJ88)+(FK89/FJ89)+(FK90/FJ90)+(FK91/FJ91)+(FK92/FJ92))","v":{"$error":"#VALUE!"}},{"$f":"100/((FK86*MDR!$AV$6/(MDR!CK220*FK117))+(FK87*MDR!$AW$6/(MDR!CK221*FK117))+(FK88*MDR!$AX$6/(MDR!CK222*FK117))+(FK89*MDR!$AY$6/(MDR!CK223*FK117))+(FK90*MDR!$AZ$6/(MDR!CK224*FK117))+(FK91*MDR!$BA$6/(MDR!CK225*FK117))+(FK92*MDR!$BB$6/(MDR!CK226*FK117)))","v":{"$error":"#VALUE!"}},null,null,null,null,{"$f":"100/((FQ86/FP86)+(FQ87/FP87)+(FQ88/FP88)+(FQ89/FP89)+(FQ90/FP90)+(FQ91/FP91)+(FQ92/FP92))","v":{"$error":"#VALUE!"}},{"$f":"100/((FQ86*MDR!$AV$6/(MDR!CQ220*FQ117))+(FQ87*MDR!$AW$6/(MDR!CQ221*FQ117))+(FQ88*MDR!$AX$6/(MDR!CQ222*FQ117))+(FQ89*MDR!$AY$6/(MDR!CQ223*FQ117))+(FQ90*MDR!$AZ$6/(MDR!CQ224*FQ117))+(FQ91*MDR!$BA$6/(MDR!CQ225*FQ117))+(FQ92*MDR!$BB$6/(MDR!CQ226*FQ117)))","v":{"$error":"#VALUE!"}},{"$f":"100/((FS86/FR86)+(FS87/FR87)+(FS88/FR88)+(FS89/FR89)+(FS90/FR90)+(FS91/FR91)+(FS92/FR92))","v":{"$error":"#VALUE!"}},{"$f":"100/((FS86*MDR!$AV$6/(MDR!CS220*FS117))+(FS87*MDR!$AW$6/(MDR!CS221*FS117))+(FS88*MDR!$AX$6/(MDR!CS222*FS117))+(FS89*MDR!$AY$6/(MDR!CS223*FS117))+(FS90*MDR!$AZ$6/(MDR!CS224*FS117))+(FS91*MDR!$BA$6/(MDR!CS225*FS117))+(FS92*MDR!$BB$6/(MDR!CS226*FS117)))","v":{"$error":"#VALUE!"}},{"$f":"100/((FU86/FT86)+(FU87/FT87)+(FU88/FT88)+(FU89/FT89)+(FU90/FT90)+(FU91/FT91)+(FU92/FT92))","v":{"$error":"#VALUE!"}},{"$f":"100/((FU86*MDR!$AV$6/(MDR!CU220*FU117))+(FU87*MDR!$AW$6/(MDR!CU221*FU117))+(FU88*MDR!$AX$6/(MDR!CU222*FU117))+(FU89*MDR!$AY$6/(MDR!CU223*FU117))+(FU90*MDR!$AZ$6/(MDR!CU224*FU117))+(FU91*MDR!$BA$6/(MDR!CU225*FU117))+(FU92*MDR!$BB$6/(MDR!CU226*FU117)))","v":{"$error":"#VALUE!"}},{"$f":"100/((FW86/FV86)+(FW87/FV87)+(FW88/FV88)+(FW89/FV89)+(FW90/FV90)+(FW91/FV91)+(FW92/FV92))","v":{"$error":"#VALUE!"}},{"$f":"100/((FW86*MDR!$AV$6/(MDR!CW220*FW117))+(FW87*MDR!$AW$6/(MDR!CW221*FW117))+(FW88*MDR!$AX$6/(MDR!CW222*FW117))+(FW89*MDR!$AY$6/(MDR!CW223*FW117))+(FW90*MDR!$AZ$6/(MDR!CW224*FW117))+(FW91*MDR!$BA$6/(MDR!CW225*FW117))+(FW92*MDR!$BB$6/(MDR!CW226*FW117)))","v":{"$error":"#VALUE!"}},null,null,null,null,{"$f":"100/((GC86/GB86)+(GC87/GB87)+(GC88/GB88)+(GC89/GB89)+(GC90/GB90)+(GC91/GB91)+(GC92/GB92))","v":{"$error":"#VALUE!"}},{"$f":"100/((GC86*MDR!$AV$6/(MDR!DC220*GC117))+(GC87*MDR!$AW$6/(MDR!DC221*GC117))+(GC88*MDR!$AX$6/(MDR!DC222*GC117))+(GC89*MDR!$AY$6/(MDR!DC223*GC117))+(GC90*MDR!$AZ$6/(MDR!DC224*GC117))+(GC91*MDR!$BA$6/(MDR!DC225*GC117))+(GC92*MDR!$BB$6/(MDR!DC226*GC117)))","v":{"$error":"#VALUE!"}},{"$f":"100/((GE86/GD86)+(GE87/GD87)+(GE88/GD88)+(GE89/GD89)+(GE90/GD90)+(GE91/GD91)+(GE92/GD92))","v":{"$error":"#VALUE!"}},{"$f":"100/((GE86*MDR!$AV$6/(MDR!DE220*GE117))+(GE87*MDR!$AW$6/(MDR!DE221*GE117))+(GE88*MDR!$AX$6/(MDR!DE222*GE117))+(GE89*MDR!$AY$6/(MDR!DE223*GE117))+(GE90*MDR!$AZ$6/(MDR!DE224*GE117))+(GE91*MDR!$BA$6/(MDR!DE225*GE117))+(GE92*MDR!$BB$6/(MDR!DE226*GE117)))","v":{"$error":"#VALUE!"}},{"$f":"100/((GG86/GF86)+(GG87/GF87)+(GG88/GF88)+(GG89/GF89)+(GG90/GF90)+(GG91/GF91)+(GG92/GF92))","v":{"$error":"#VALUE!"}},{"$f":"100/((GG86*MDR!$AV$6/(MDR!DG220*GG117))+(GG87*MDR!$AW$6/(MDR!DG221*GG117))+(GG88*MDR!$AX$6/(MDR!DG222*GG117))+(GG89*MDR!$AY$6/(MDR!DG223*GG117))+(GG90*MDR!$AZ$6/(MDR!DG224*GG117))+(GG91*MDR!$BA$6/(MDR!DG225*GG117))+(GG92*MDR!$BB$6/(MDR!DG226*GG117)))","v":{"$error":"#VALUE!"}},{"$f":"100/((GI86/GH86)+(GI87/GH87)+(GI88/GH88)+(GI89/GH89)+(GI90/GH90)+(GI91/GH91)+(GI92/GH92))","v":{"$error":"#VALUE!"}},{"$f":"100/((GI86*MDR!$AV$6/(MDR!DI220*GI117))+(GI87*MDR!$AW$6/(MDR!DI221*GI117))+(GI88*MDR!$AX$6/(MDR!DI222*GI117))+(GI89*MDR!$AY$6/(MDR!DI223*GI117))+(GI90*MDR!$AZ$6/(MDR!DI224*GI117))+(GI91*MDR!$BA$6/(MDR!DI225*GI117))+(GI92*MDR!$BB$6/(MDR!DI226*GI117)))","v":{"$error":"#VALUE!"}},null,null,null,null,{"$f":"100/((GO86/GN86)+(GO87/GN87)+(GO88/GN88)+(GO89/GN89)+(GO90/GN90)+(GO91/GN91)+(GO92/GN92))","v":{"$error":"#VALUE!"}},{"$f":"100/((GO86*MDR!$AV$6/(MDR!DO220*GO117))+(GO87*MDR!$AW$6/(MDR!DO221*GO117))+(GO88*MDR!$AX$6/(MDR!DO222*GO117))+(GO89*MDR!$AY$6/(MDR!DO223*GO117))+(GO90*MDR!$AZ$6/(MDR!DO224*GO117))+(GO91*MDR!$BA$6/(MDR!DO225*GO117))+(GO92*MDR!$BB$6/(MDR!DO226*GO117)))","v":{"$error":"#VALUE!"}},{"$f":"100/((GQ86/GP86)+(GQ87/GP87)+(GQ88/GP88)+(GQ89/GP89)+(GQ90/GP90)+(GQ91/GP91)+(GQ92/GP92))","v":{"$error":"#VALUE!"}},{"$f":"100/((GQ86*MDR!$AV$6/(MDR!DQ220*GQ117))+(GQ87*MDR!$AW$6/(MDR!DQ221*GQ117))+(GQ88*MDR!$AX$6/(MDR!DQ222*GQ117))+(GQ89*MDR!$AY$6/(MDR!DQ223*GQ117))+(GQ90*MDR!$AZ$6/(MDR!DQ224*GQ117))+(GQ91*MDR!$BA$6/(MDR!DQ225*GQ117))+(GQ92*MDR!$BB$6/(MDR!DQ226*GQ117)))","v":{"$error":"#VALUE!"}},{"$f":"100/((GS86/GR86)+(GS87/GR87)+(GS88/GR88)+(GS89/GR89)+(GS90/GR90)+(GS91/GR91)+(GS92/GR92))","v":{"$error":"#VALUE!"}},{"$f":"100/((GS86*MDR!$AV$6/(MDR!DS220*GS117))+(GS87*MDR!$AW$6/(MDR!DS221*GS117))+(GS88*MDR!$AX$6/(MDR!DS222*GS117))+(GS89*MDR!$AY$6/(MDR!DS223*GS117))+(GS90*MDR!$AZ$6/(MDR!DS224*GS117))+(GS91*MDR!$BA$6/(MDR!DS225*GS117))+(GS92*MDR!$BB$6/(MDR!DS226*GS117)))","v":{"$error":"#VALUE!"}},{"$f":"100/((GU86/GT86)+(GU87/GT87)+(GU88/GT88)+(GU89/GT89)+(GU90/GT90)+(GU91/GT91)+(GU92/GT92))","v":{"$error":"#VALUE!"}},{"$f":"100/((GU86*MDR!$AV$6/(MDR!DU220*GU117))+(GU87*MDR!$AW$6/(MDR!DU221*GU117))+(GU88*MDR!$AX$6/(MDR!DU222*GU117))+(GU89*MDR!$AY$6/(MDR!DU223*GU117))+(GU90*MDR!$AZ$6/(MDR!DU224*GU117))+(GU91*MDR!$BA$6/(MDR!DU225*GU117))+(GU92*MDR!$BB$6/(MDR!DU226*GU117)))","v":{"$error":"#VALUE!"}},null,null,null,null,{"$f":"100/((HA86/GZ86)+(HA87/GZ87)+(HA88/GZ88)+(HA89/GZ89)+(HA90/GZ90)+(HA91/GZ91)+(HA92/GZ92))","v":{"$error":"#VALUE!"}},{"$f":"100/((HA86*MDR!$AV$6/(MDR!EA220*HA117))+(HA87*MDR!$AW$6/(MDR!EA221*HA117))+(HA88*MDR!$AX$6/(MDR!EA222*HA117))+(HA89*MDR!$AY$6/(MDR!EA223*HA117))+(HA90*MDR!$AZ$6/(MDR!EA224*HA117))+(HA91*MDR!$BA$6/(MDR!EA225*HA117))+(HA92*MDR!$BB$6/(MDR!EA226*HA117)))","v":{"$error":"#VALUE!"}},{"$f":"100/((HC86/HB86)+(HC87/HB87)+(HC88/HB88)+(HC89/HB89)+(HC90/HB90)+(HC91/HB91)+(HC92/HB92))","v":{"$error":"#VALUE!"}},{"$f":"100/((HC86*MDR!$AV$6/(MDR!EC220*HC117))+(HC87*MDR!$AW$6/(MDR!EC221*HC117))+(HC88*MDR!$AX$6/(MDR!EC222*HC117))+(HC89*MDR!$AY$6/(MDR!EC223*HC117))+(HC90*MDR!$AZ$6/(MDR!EC224*HC117))+(HC91*MDR!$BA$6/(MDR!EC225*HC117))+(HC92*MDR!$BB$6/(MDR!EC226*HC117)))","v":{"$error":"#VALUE!"}},{"$f":"100/((HE86/HD86)+(HE87/HD87)+(HE88/HD88)+(HE89/HD89)+(HE90/HD90)+(HE91/HD91)+(HE92/HD92))","v":{"$error":"#VALUE!"}},{"$f":"100/((HE86*MDR!$AV$6/(MDR!EE220*HE117))+(HE87*MDR!$AW$6/(MDR!EE221*HE117))+(HE88*MDR!$AX$6/(MDR!EE222*HE117))+(HE89*MDR!$AY$6/(MDR!EE223*HE117))+(HE90*MDR!$AZ$6/(MDR!EE224*HE117))+(HE91*MDR!$BA$6/(MDR!EE225*HE117))+(HE92*MDR!$BB$6/(MDR!EE226*HE117)))","v":{"$error":"#VALUE!"}},{"$f":"100/((HG86/HF86)+(HG87/HF87)+(HG88/HF88)+(HG89/HF89)+(HG90/HF90)+(HG91/HF91)+(HG92/HF92))","v":{"$error":"#VALUE!"}},{"$f":"100/((HG86*MDR!$AV$6/(MDR!EG220*HG117))+(HG87*MDR!$AW$6/(MDR!EG221*HG117))+(HG88*MDR!$AX$6/(MDR!EG222*HG117))+(HG89*MDR!$AY$6/(MDR!EG223*HG117))+(HG90*MDR!$AZ$6/(MDR!EG224*HG117))+(HG91*MDR!$BA$6/(MDR!EG225*HG117))+(HG92*MDR!$BB$6/(MDR!EG226*HG117)))","v":{"$error":"#VALUE!"}},null,null,null,null,{"$f":"100/((HM86/HL86)+(HM87/HL87)+(HM88/HL88)+(HM89/HL89)+(HM90/HL90)+(HM91/HL91)+(HM92/HL92))","v":{"$error":"#VALUE!"}},{"$f":"100/((HM86*MDR!$AV$6/(MDR!EM220*HM117))+(HM87*MDR!$AW$6/(MDR!EM221*HM117))+(HM88*MDR!$AX$6/(MDR!EM222*HM117))+(HM89*MDR!$AY$6/(MDR!EM223*HM117))+(HM90*MDR!$AZ$6/(MDR!EM224*HM117))+(HM91*MDR!$BA$6/(MDR!EM225*HM117))+(HM92*MDR!$BB$6/(MDR!EM226*HM117)))","v":{"$error":"#VALUE!"}},{"$f":"100/((HO86/HN86)+(HO87/HN87)+(HO88/HN88)+(HO89/HN89)+(HO90/HN90)+(HO91/HN91)+(HO92/HN92))","v":{"$error":"#VALUE!"}},{"$f":"100/((HO86*MDR!$AV$6/(MDR!EO220*HO117))+(HO87*MDR!$AW$6/(MDR!EO221*HO117))+(HO88*MDR!$AX$6/(MDR!EO222*HO117))+(HO89*MDR!$AY$6/(MDR!EO223*HO117))+(HO90*MDR!$AZ$6/(MDR!EO224*HO117))+(HO91*MDR!$BA$6/(MDR!EO225*HO117))+(HO92*MDR!$BB$6/(MDR!EO226*HO117)))","v":{"$error":"#VALUE!"}},{"$f":"100/((HQ86/HP86)+(HQ87/HP87)+(HQ88/HP88)+(HQ89/HP89)+(HQ90/HP90)+(HQ91/HP91)+(HQ92/HP92))","v":{"$error":"#VALUE!"}},{"$f":"100/((HQ86*MDR!$AV$6/(MDR!EQ220*HQ117))+(HQ87*MDR!$AW$6/(MDR!EQ221*HQ117))+(HQ88*MDR!$AX$6/(MDR!EQ222*HQ117))+(HQ89*MDR!$AY$6/(MDR!EQ223*HQ117))+(HQ90*MDR!$AZ$6/(MDR!EQ224*HQ117))+(HQ91*MDR!$BA$6/(MDR!EQ225*HQ117))+(HQ92*MDR!$BB$6/(MDR!EQ226*HQ117)))","v":{"$error":"#VALUE!"}},{"$f":"100/((HS86/HR86)+(HS87/HR87)+(HS88/HR88)+(HS89/HR89)+(HS90/HR90)+(HS91/HR91)+(HS92/HR92))","v":{"$error":"#VALUE!"}},{"$f":"100/((HS86*MDR!$AV$6/(MDR!ES220*HS117))+(HS87*MDR!$AW$6/(MDR!ES221*HS117))+(HS88*MDR!$AX$6/(MDR!ES222*HS117))+(HS89*MDR!$AY$6/(MDR!ES223*HS117))+(HS90*MDR!$AZ$6/(MDR!ES224*HS117))+(HS91*MDR!$BA$6/(MDR!ES225*HS117))+(HS92*MDR!$BB$6/(MDR!ES226*HS117)))","v":{"$error":"#VALUE!"}},null,null,null,null,{"$f":"100/((HY86/HX86)+(HY87/HX87)+(HY88/HX88)+(HY89/HX89)+(HY90/HX90)+(HY91/HX91)+(HY92/HX92))","v":{"$error":"#VALUE!"}},{"$f":"100/((HY86*MDR!$AV$6/(MDR!EY220*HY117))+(HY87*MDR!$AW$6/(MDR!EY221*HY117))+(HY88*MDR!$AX$6/(MDR!EY222*HY117))+(HY89*MDR!$AY$6/(MDR!EY223*HY117))+(HY90*MDR!$AZ$6/(MDR!EY224*HY117))+(HY91*MDR!$BA$6/(MDR!EY225*HY117))+(HY92*MDR!$BB$6/(MDR!EY226*HY117)))","v":{"$error":"#VALUE!"}},{"$f":"100/((IA86/HZ86)+(IA87/HZ87)+(IA88/HZ88)+(IA89/HZ89)+(IA90/HZ90)+(IA91/HZ91)+(IA92/HZ92))","v":{"$error":"#VALUE!"}},{"$f":"100/((IA86*MDR!$AV$6/(MDR!FA220*IA117))+(IA87*MDR!$AW$6/(MDR!FA221*IA117))+(IA88*MDR!$AX$6/(MDR!FA222*IA117))+(IA89*MDR!$AY$6/(MDR!FA223*IA117))+(IA90*MDR!$AZ$6/(MDR!FA224*IA117))+(IA91*MDR!$BA$6/(MDR!FA225*IA117))+(IA92*MDR!$BB$6/(MDR!FA226*IA117)))","v":{"$error":"#VALUE!"}},{"$f":"100/((IC86/IB86)+(IC87/IB87)+(IC88/IB88)+(IC89/IB89)+(IC90/IB90)+(IC91/IB91)+(IC92/IB92))","v":{"$error":"#VALUE!"}},{"$f":"100/((IC86*MDR!$AV$6/(MDR!FC220*IC117))+(IC87*MDR!$AW$6/(MDR!FC221*IC117))+(IC88*MDR!$AX$6/(MDR!FC222*IC117))+(IC89*MDR!$AY$6/(MDR!FC223*IC117))+(IC90*MDR!$AZ$6/(MDR!FC224*IC117))+(IC91*MDR!$BA$6/(MDR!FC225*IC117))+(IC92*MDR!$BB$6/(MDR!FC226*IC117)))","v":{"$error":"#VALUE!"}},{"$f":"100/((IE86/ID86)+(IE87/ID87)+(IE88/ID88)+(IE89/ID89)+(IE90/ID90)+(IE91/ID91)+(IE92/ID92))","v":{"$error":"#VALUE!"}},{"$f":"100/((IE86*MDR!$AV$6/(MDR!FE220*IE117))+(IE87*MDR!$AW$6/(MDR!FE221*IE117))+(IE88*MDR!$AX$6/(MDR!FE222*IE117))+(IE89*MDR!$AY$6/(MDR!FE223*IE117))+(IE90*MDR!$AZ$6/(MDR!FE224*IE117))+(IE91*MDR!$BA$6/(MDR!FE225*IE117))+(IE92*MDR!$BB$6/(MDR!FE226*IE117)))","v":{"$error":"#VALUE!"}},null,null,null,null,{"$f":"100/((IK86/IJ86)+(IK87/IJ87)+(IK88/IJ88)+(IK89/IJ89)+(IK90/IJ90)+(IK91/IJ91)+(IK92/IJ92))","v":{"$error":"#VALUE!"}},{"$f":"100/((IK86*MDR!$AV$6/(MDR!FK220*IK117))+(IK87*MDR!$AW$6/(MDR!FK221*IK117))+(IK88*MDR!$AX$6/(MDR!FK222*IK117))+(IK89*MDR!$AY$6/(MDR!FK223*IK117))+(IK90*MDR!$AZ$6/(MDR!FK224*IK117))+(IK91*MDR!$BA$6/(MDR!FK225*IK117))+(IK92*MDR!$BB$6/(MDR!FK226*IK117)))","v":{"$error":"#VALUE!"}},{"$f":"100/((IM86/IL86)+(IM87/IL87)+(IM88/IL88)+(IM89/IL89)+(IM90/IL90)+(IM91/IL91)+(IM92/IL92))","v":{"$error":"#VALUE!"}},{"$f":"100/((IM86*MDR!$AV$6/(MDR!FM220*IM117))+(IM87*MDR!$AW$6/(MDR!FM221*IM117))+(IM88*MDR!$AX$6/(MDR!FM222*IM117))+(IM89*MDR!$AY$6/(MDR!FM223*IM117))+(IM90*MDR!$AZ$6/(MDR!FM224*IM117))+(IM91*MDR!$BA$6/(MDR!FM225*IM117))+(IM92*MDR!$BB$6/(MDR!FM226*IM117)))","v":{"$error":"#VALUE!"}},{"$f":"100/((IO86/IN86)+(IO87/IN87)+(IO88/IN88)+(IO89/IN89)+(IO90/IN90)+(IO91/IN91)+(IO92/IN92))","v":{"$error":"#VALUE!"}},{"$f":"100/((IO86*MDR!$AV$6/(MDR!FO220*IO117))+(IO87*MDR!$AW$6/(MDR!FO221*IO117))+(IO88*MDR!$AX$6/(MDR!FO222*IO117))+(IO89*MDR!$AY$6/(MDR!FO223*IO117))+(IO90*MDR!$AZ$6/(MDR!FO224*IO117))+(IO91*MDR!$BA$6/(MDR!FO225*IO117))+(IO92*MDR!$BB$6/(MDR!FO226*IO117)))","v":{"$error":"#VALUE!"}},{"$f":"100/((IQ86/IP86)+(IQ87/IP87)+(IQ88/IP88)+(IQ89/IP89)+(IQ90/IP90)+(IQ91/IP91)+(IQ92/IP92))","v":{"$error":"#VALUE!"}},{"$f":"100/((IQ86*MDR!$AV$6/(MDR!FQ220*IQ117))+(IQ87*MDR!$AW$6/(MDR!FQ221*IQ117))+(IQ88*MDR!$AX$6/(MDR!FQ222*IQ117))+(IQ89*MDR!$AY$6/(MDR!FQ223*IQ117))+(IQ90*MDR!$AZ$6/(MDR!FQ224*IQ117))+(IQ91*MDR!$BA$6/(MDR!FQ225*IQ117))+(IQ92*MDR!$BB$6/(MDR!FQ226*IQ117)))","v":{"$error":"#VALUE!"}}]
[null,null,null,{"$f":"100/((E86/D86)+(E87/D87)+(E88/D88)+(E89/D89)+(E90/D90)+(E91/D91)+(E92/D92)+(E93/D93))","v":{"$error":"#DIV/0!"}},{"$f":"100/((E86*MDR!$AV$6/(MDR!BG200*E118))+(E87*MDR!$AW$6/(MDR!BG201*E118))+(E88*MDR!$AX$6/(MDR!BG202*E118))+(E89*MDR!$AY$6/(MDR!BG203*E118))+(E90*MDR!$AZ$6/(MDR!BG204*E118))+(E91*MDR!$BA$6/(MDR!BG205*E118))+(E92*MDR!$BB$6/(MDR!BG206*E118))+(E93*MDR!$BC$6/(MDR!BG207*E118)))","v":{"$error":"#DIV/0!"}},{"$f":"100/((G86/F86)+(G87/F87)+(G88/F88)+(G89/F89)+(G90/F90)+(G91/F91)+(G92/F92)+(G93/F93))","v":{"$error":"#VALUE!"}},{"$f":"100/((G86*MDR!$AV$6/(MDR!BI200*G118))+(G87*MDR!$AW$6/(MDR!BI201*G118))+(G88*MDR!$AX$6/(MDR!BI202*G118))+(G89*MDR!$AY$6/(MDR!BI203*G118))+(G90*MDR!$AZ$6/(MDR!BI204*G118))+(G91*MDR!$BA$6/(MDR!BI205*G118))+(G92*MDR!$BB$6/(MDR!BI206*G118))+(G93*MDR!$BC$6/(MDR!BI207*G118)))","v":{"$error":"#VALUE!"}},{"$f":"100/((I86/H86)+(I87/H87)+(I88/H88)+(I89/H89)+(I90/H90)+(I91/H91)+(I92/H92)+(I93/H93))","v":{"$error":"#VALUE!"}},{"$f":"100/((I86*MDR!$AV$6/(MDR!BK200*I118))+(I87*MDR!$AW$6/(MDR!BK201*I118))+(I88*MDR!$AX$6/(MDR!BK202*I118))+(I89*MDR!$AY$6/(MDR!BK203*I118))+(I90*MDR!$AZ$6/(MDR!BK204*I118))+(I91*MDR!$BA$6/(MDR!BK205*I118))+(I92*MDR!$BB$6/(MDR!BK206*I118))+(I93*MDR!$BC$6/(MDR!BK207*I118)))","v":{"$error":"#VALUE!"}},{"$f":"100/((K86/J86)+(K87/J87)+(K88/J88)+(K89/J89)+(K90/J90)+(K91/J91)+(K92/J92)+(K93/J93))","v":{"$error":"#VALUE!"}},{"$f":"100/((K86*MDR!$AV$6/(MDR!BM200*K118))+(K87*MDR!$AW$6/(MDR!BM201*K118))+(K88*MDR!$AX$6/(MDR!BM202*K118))+(K89*MDR!$AY$6/(MDR!BM203*K118))+(K90*MDR!$AZ$6/(MDR!BM204*K118))+(K91*MDR!$BA$6/(MDR!BM205*K118))+(K92*MDR!$BB$6/(MDR!BM206*K118))+(K93*MDR!$BC$6/(MDR!BM207*K118)))","v":{"$error":"#VALUE!"}},null,null,null,null,{"$f":"100/((Q86/P86)+(Q87/P87)+(Q88/P88)+(Q89/P89)+(Q90/P90)+(Q91/P91)+(Q92/P92)+(Q93/P93))","v":{"$error":"#VALUE!"}},{"$f":"100/((Q86*MDR!$AV$6/(MDR!BS200*Q118))+(Q87*MDR!$AW$6/(MDR!BS201*Q118))+(Q88*MDR!$AX$6/(MDR!BS202*Q118))+(Q89*MDR!$AY$6/(MDR!BS203*Q118))+(Q90*MDR!$AZ$6/(MDR!BS204*Q118))+(Q91*MDR!$BA$6/(MDR!BS205*Q118))+(Q92*MDR!$BB$6/(MDR!BS206*Q118))+(Q93*MDR!$BC$6/(MDR!BS207*Q118)))","v":{"$error":"#VALUE!"}},{"$f":"100/((S86/R86)+(S87/R87)+(S88/R88)+(S89/R89)+(S90/R90)+(S91/R91)+(S92/R92)+(S93/R93))","v":{"$error":"#VALUE!"}},{"$f":"100/((S86*MDR!$AV$6/(MDR!BU200*S118))+(S87*MDR!$AW$6/(MDR!BU201*S118))+(S88*MDR!$AX$6/(MDR!BU202*S118))+(S89*MDR!$AY$6/(MDR!BU203*S118))+(S90*MDR!$AZ$6/(MDR!BU204*S118))+(S91*MDR!$BA$6/(MDR!BU205*S118))+(S92*MDR!$BB$6/(MDR!BU206*S118))+(S93*MDR!$BC$6/(MDR!BU207*S118)))","v":{"$error":"#VALUE!"}},{"$f":"100/((U86/T86)+(U87/T87)+(U88/T88)+(U89/T89)+(U90/T90)+(U91/T91)+(U92/T92)+(U93/T93))","v":{"$error":"#VALUE!"}},{"$f":"100/((U86*MDR!$AV$6/(MDR!BW200*U118))+(U87*MDR!$AW$6/(MDR!BW201*U118))+(U88*MDR!$AX$6/(MDR!BW202*U118))+(U89*MDR!$AY$6/(MDR!BW203*U118))+(U90*MDR!$AZ$6/(MDR!BW204*U118))+(U91*MDR!$BA$6/(MDR!BW205*U118))+(U92*MDR!$BB$6/(MDR!BW206*U118))+(U93*MDR!$BC$6/(MDR!BW207*U118)))","v":{"$error":"#VALUE!"}},{"$f":"100/((W86/V86)+(W87/V87)+(W88/V88)+(W89/V89)+(W90/V90)+(W91/V91)+(W92/V92)+(W93/V93))","v":{"$error":"#VALUE!"}},{"$f":"100/((W86*MDR!$AV$6/(MDR!BY200*W118))+(W87*MDR!$AW$6/(MDR!BY201*W118))+(W88*MDR!$AX$6/(MDR!BY202*W118))+(W89*MDR!$AY$6/(MDR!BY203*W118))+(W90*MDR!$AZ$6/(MDR!BY204*W118))+(W91*MDR!$BA$6/(MDR!BY205*W118))+(W92*MDR!$BB$6/(MDR!BY206*W118))+(W93*MDR!$BC$6/(MDR!BY207*W118)))","v":{"$error":"#VALUE!"}},null,null,null,null,{"$f":"100/((AC86/AB86)+(AC87/AB87)+(AC88/AB88)+(AC89/AB89)+(AC90/AB90)+(AC91/AB91)+(AC92/AB92)+(AC93/AB93))","v":{"$error":"#VALUE!"}},{"$f":"100/((AC86*MDR!$AV$6/(MDR!CE200*AC118))+(AC87*MDR!$AW$6/(MDR!CE201*AC118))+(AC88*MDR!$AX$6/(MDR!CE202*AC118))+(AC89*MDR!$AY$6/(MDR!CE203*AC118))+(AC90*MDR!$AZ$6/(MDR!CE204*AC118))+(AC91*MDR!$BA$6/(MDR!CE205*AC118))+(AC92*MDR!$BB$6/(MDR!CE206*AC118))+(AC93*MDR!$BC$6/(MDR!CE207*AC118)))","v":{"$error":"#VALUE!"}},{"$f":"100/((AE86/AD86)+(AE87/AD87)+(AE88/AD88)+(AE89/AD89)+(AE90/AD90)+(AE91/AD91)+(AE92/AD92)+(AE93/AD93))","v":{"$error":"#VALUE!"}},{"$f":"100/((AE86*MDR!$AV$6/(MDR!CG200*AE118))+(AE87*MDR!$AW$6/(MDR!CG201*AE118))+(AE88*MDR!$AX$6/(MDR!CG202*AE118))+(AE89*MDR!$AY$6/(MDR!CG203*AE118))+(AE90*MDR!$AZ$6/(MDR!CG204*AE118))+(AE91*MDR!$BA$6/(MDR!CG205*AE118))+(AE92*MDR!$BB$6/(MDR!CG206*AE118))+(AE93*MDR!$BC$6/(MDR!CG207*AE118)))","v":{"$error":"#VALUE!"}},{"$f":"100/((AG86/AF86)+(AG87/AF87)+(AG88/AF88)+(AG89/AF89)+(AG90/AF90)+(AG91/AF91)+(AG92/AF92)+(AG93/AF93))","v":{"$error":"#VALUE!"}},{"$f":"100/((AG86*MDR!$AV$6/(MDR!CI200*AG118))+(AG87*MDR!$AW$6/(MDR!CI201*AG118))+(AG88*MDR!$AX$6/(MDR!CI202*AG118))+(AG89*MDR!$AY$6/(MDR!CI203*AG118))+(AG90*MDR!$AZ$6/(MDR!CI204*AG118))+(AG91*MDR!$BA$6/(MDR!CI205*AG118))+(AG92*MDR!$BB$6/(MDR!CI206*AG118))+(AG93*MDR!$BC$6/(MDR!CI207*AG118)))","v":{"$error":"#VALUE!"}},{"$f":"100/((AI86/AH86)+(AI87/AH87)+(AI88/AH88)+(AI89/AH89)+(AI90/AH90)+(AI91/AH91)+(AI92/AH92)+(AI93/AH93))","v":{"$error":"#VALUE!"}},{"$f":"100/((AI86*MDR!$AV$6/(MDR!CK200*AI118))+(AI87*MDR!$AW$6/(MDR!CK201*AI118))+(AI88*MDR!$AX$6/(MDR!CK202*AI118))+(AI89*MDR!$AY$6/(MDR!CK203*AI118))+(AI90*MDR!$AZ$6/(MDR!CK204*AI118))+(AI91*MDR!$BA$6/(MDR!CK205*AI118))+(AI92*MDR!$BB$6/(MDR!CK206*AI118))+(AI93*MDR!$BC$6/(MDR!CK207*AI118)))","v":{"$error":"#VALUE!"}},null,null,null,null,{"$f":"100/((AO86/AN86)+(AO87/AN87)+(AO88/AN88)+(AO89/AN89)+(AO90/AN90)+(AO91/AN91)+(AO92/AN92)+(AO93/AN93))","v":{"$error":"#VALUE!"}},{"$f":"100/((AO86*MDR!$AV$6/(MDR!CQ200*AO118))+(AO87*MDR!$AW$6/(MDR!CQ201*AO118))+(AO88*MDR!$AX$6/(MDR!CQ202*AO118))+(AO89*MDR!$AY$6/(MDR!CQ203*AO118))+(AO90*MDR!$AZ$6/(MDR!CQ204*AO118))+(AO91*MDR!$BA$6/(MDR!CQ205*AO118))+(AO92*MDR!$BB$6/(MDR!CQ206*AO118))+(AO93*MDR!$BC$6/(MDR!CQ207*AO118)))","v":{"$error":"#VALUE!"}},{"$f":"100/((AQ86/AP86)+(AQ87/AP87)+(AQ88/AP88)+(AQ89/AP89)+(AQ90/AP90)+(AQ91/AP91)+(AQ92/AP92)+(AQ93/AP93))","v":{"$error":"#VALUE!"}},{"$f":"100/((AQ86*MDR!$AV$6/(MDR!CS200*AQ118))+(AQ87*MDR!$AW$6/(MDR!CS201*AQ118))+(AQ88*MDR!$AX$6/(MDR!CS202*AQ118))+(AQ89*MDR!$AY$6/(MDR!CS203*AQ118))+(AQ90*MDR!$AZ$6/(MDR!CS204*AQ118))+(AQ91*MDR!$BA$6/(MDR!CS205*AQ118))+(AQ92*MDR!$BB$6/(MDR!CS206*AQ118))+(AQ93*MDR!$BC$6/(MDR!CS207*AQ118)))","v":{"$error":"#VALUE!"}},{"$f":"100/((AS86/AR86)+(AS87/AR87)+(AS88/AR88)+(AS89/AR89)+(AS90/AR90)+(AS91/AR91)+(AS92/AR92)+(AS93/AR93))","v":{"$error":"#VALUE!"}},{"$f":"100/((AS86*MDR!$AV$6/(MDR!CU200*AS118))+(AS87*MDR!$AW$6/(MDR!CU201*AS118))+(AS88*MDR!$AX$6/(MDR!CU202*AS118))+(AS89*MDR!$AY$6/(MDR!CU203*AS118))+(AS90*MDR!$AZ$6/(MDR!CU204*AS118))+(AS91*MDR!$BA$6/(MDR!CU205*AS118))+(AS92*MDR!$BB$6/(MDR!CU206*AS118))+(AS93*MDR!$BC$6/(MDR!CU207*AS118)))","v":{"$error":"#VALUE!"}},{"$f":"100/((AU86/AT86)+(AU87/AT87)+(AU88/AT88)+(AU89/AT89)+(AU90/AT90)+(AU91/AT91)+(AU92/AT92)+(AU93/AT93))","v":{"$error":"#VALUE!"}},{"$f":"100/((AU86*MDR!$AV$6/(MDR!CW200*AU118))+(AU87*MDR!$AW$6/(MDR!CW201*AU118))+(AU88*MDR!$AX$6/(MDR!CW202*AU118))+(AU89*MDR!$AY$6/(MDR!CW203*AU118))+(AU90*MDR!$AZ$6/(MDR!CW204*AU118))+(AU91*MDR!$BA$6/(MDR!CW205*AU118))+(AU92*MDR!$BB$6/(MDR!CW206*AU118))+(AU93*MDR!$BC$6/(MDR!CW207*AU118)))","v":{"$error":"#VALUE!"}},null,null,null,null,{"$f":"100/((BA86/AZ86)+(BA87/AZ87)+(BA88/AZ88)+(BA89/AZ89)+(BA90/AZ90)+(BA91/AZ91)+(BA92/AZ92)+(BA93/AZ93))","v":{"$error":"#VALUE!"}},{"$f":"100/((BA86*MDR!$AV$6/(MDR!DC200*BA118))+(BA87*MDR!$AW$6/(MDR!DC201*BA118))+(BA88*MDR!$AX$6/(MDR!DC202*BA118))+(BA89*MDR!$AY$6/(MDR!DC203*BA118))+(BA90*MDR!$AZ$6/(MDR!DC204*BA118))+(BA91*MDR!$BA$6/(MDR!DC205*BA118))+(BA92*MDR!$BB$6/(MDR!DC206*BA118))+(BA93*MDR!$BC$6/(MDR!DC207*BA118)))","v":{"$error":"#VALUE!"}},{"$f":"100/((BC86/BB86)+(BC87/BB87)+(BC88/BB88)+(BC89/BB89)+(BC90/BB90)+(BC91/BB91)+(BC92/BB92)+(BC93/BB93))","v":{"$error":"#VALUE!"}},{"$f":"100/((BC86*MDR!$AV$6/(MDR!DE200*BC118))+(BC87*MDR!$AW$6/(MDR!DE201*BC118))+(BC88*MDR!$AX$6/(MDR!DE202*BC118))+(BC89*MDR!$AY$6/(MDR!DE203*BC118))+(BC90*MDR!$AZ$6/(MDR!DE204*BC118))+(BC91*MDR!$BA$6/(MDR!DE205*BC118))+(BC92*MDR!$BB$6/(MDR!DE206*BC118))+(BC93*MDR!$BC$6/(MDR!DE207*BC118)))","v":{"$error":"#VALUE!"}},{"$f":"100/((BE86/BD86)+(BE87/BD87)+(BE88/BD88)+(BE89/BD89)+(BE90/BD90)+(BE91/BD91)+(BE92/BD92)+(BE93/BD93))","v":{"$error":"#VALUE!"}},{"$f":"100/((BE86*MDR!$AV$6/(MDR!DG200*BE118))+(BE87*MDR!$AW$6/(MDR!DG201*BE118))+(BE88*MDR!$AX$6/(MDR!DG202*BE118))+(BE89*MDR!$AY$6/(MDR!DG203*BE118))+(BE90*MDR!$AZ$6/(MDR!DG204*BE118))+(BE91*MDR!$BA$6/(MDR!DG205*BE118))+(BE92*MDR!$BB$6/(MDR!DG206*BE118))+(BE93*MDR!$BC$6/(MDR!DG207*BE118)))","v":{"$error":"#VALUE!"}},{"$f":"100/((BG86/BF86)+(BG87/BF87)+(BG88/BF88)+(BG89/BF89)+(BG90/BF90)+(BG91/BF91)+(BG92/BF92)+(BG93/BF93))","v":{"$error":"#VALUE!"}},{"$f":"100/((BG86*MDR!$AV$6/(MDR!DI200*BG118))+(BG87*MDR!$AW$6/(MDR!DI201*BG118))+(BG88*MDR!$AX$6/(MDR!DI202*BG118))+(BG89*MDR!$AY$6/(MDR!DI203*BG118))+(BG90*MDR!$AZ$6/(MDR!DI204*BG118))+(BG91*MDR!$BA$6/(MDR!DI205*BG118))+(BG92*MDR!$BB$6/(MDR!DI206*BG118))+(BG93*MDR!$BC$6/(MDR!DI207*BG118)))","v":{"$error":"#VALUE!"}},null,null,null,null,{"$f":"100/((BM86/BL86)+(BM87/BL87)+(BM88/BL88)+(BM89/BL89)+(BM90/BL90)+(BM91/BL91)+(BM92/BL92)+(BM93/BL93))","v":{"$error":"#VALUE!"}},{"$f":"100/((BM86*MDR!$AV$6/(MDR!DO200*BM118))+(BM87*MDR!$AW$6/(MDR!DO201*BM118))+(BM88*MDR!$AX$6/(MDR!DO202*BM118))+(BM89*MDR!$AY$6/(MDR!DO203*BM118))+(BM90*MDR!$AZ$6/(MDR!DO204*BM118))+(BM91*MDR!$BA$6/(MDR!DO205*BM118))+(BM92*MDR!$BB$6/(MDR!DO206*BM118))+(BM93*MDR!$BC$6/(MDR!DO207*BM118)))","v":{"$error":"#VALUE!"}},{"$f":"100/((BO86/BN86)+(BO87/BN87)+(BO88/BN88)+(BO89/BN89)+(BO90/BN90)+(BO91/BN91)+(BO92/BN92)+(BO93/BN93))","v":{"$error":"#VALUE!"}},{"$f":"100/((BO86*MDR!$AV$6/(MDR!DQ200*BO118))+(BO87*MDR!$AW$6/(MDR!DQ201*BO118))+(BO88*MDR!$AX$6/(MDR!DQ202*BO118))+(BO89*MDR!$AY$6/(MDR!DQ203*BO118))+(BO90*MDR!$AZ$6/(MDR!DQ204*BO118))+(BO91*MDR!$BA$6/(MDR!DQ205*BO118))+(BO92*MDR!$BB$6/(MDR!DQ206*BO118))+(BO93*MDR!$BC$6/(MDR!DQ207*BO118)))","v":{"$error":"#VALUE!"}},{"$f":"100/((BQ86/BP86)+(BQ87/BP87)+(BQ88/BP88)+(BQ89/BP89)+(BQ90/BP90)+(BQ91/BP91)+(BQ92/BP92)+(BQ93/BP93))","v":{"$error":"#VALUE!"}},{"$f":"100/((BQ86*MDR!$AV$6/(MDR!DS200*BQ118))+(BQ87*MDR!$AW$6/(MDR!DS201*BQ118))+(BQ88*MDR!$AX$6/(MDR!DS202*BQ118))+(BQ89*MDR!$AY$6/(MDR!DS203*BQ118))+(BQ90*MDR!$AZ$6/(MDR!DS204*BQ118))+(BQ91*MDR!$BA$6/(MDR!DS205*BQ118))+(BQ92*MDR!$BB$6/(MDR!DS206*BQ118))+(BQ93*MDR!$BC$6/(MDR!DS207*BQ118)))","v":{"$error":"#VALUE!"}},{"$f":"100/((BS86/BR86)+(BS87/BR87)+(BS88/BR88)+(BS89/BR89)+(BS90/BR90)+(BS91/BR91)+(BS92/BR92)+(BS93/BR93))","v":{"$error":"#VALUE!"}},{"$f":"100/((BS86*MDR!$AV$6/(MDR!DU200*BS118))+(BS87*MDR!$AW$6/(MDR!DU201*BS118))+(BS88*MDR!$AX$6/(MDR!DU202*BS118))+(BS89*MDR!$AY$6/(MDR!DU203*BS118))+(BS90*MDR!$AZ$6/(MDR!DU204*BS118))+(BS91*MDR!$BA$6/(MDR!DU205*BS118))+(BS92*MDR!$BB$6/(MDR!DU206*BS118))+(BS93*MDR!$BC$6/(MDR!DU207*BS118)))","v":{"$error":"#VALUE!"}},null,null,null,null,{"$f":"100/((BY86/BX86)+(BY87/BX87)+(BY88/BX88)+(BY89/BX89)+(BY90/BX90)+(BY91/BX91)+(BY92/BX92)+(BY93/BX93))","v":{"$error":"#VALUE!"}},{"$f":"100/((BY86*MDR!$AV$6/(MDR!EA200*BY118))+(BY87*MDR!$AW$6/(MDR!EA201*BY118))+(BY88*MDR!$AX$6/(MDR!EA202*BY118))+(BY89*MDR!$AY$6/(MDR!EA203*BY118))+(BY90*MDR!$AZ$6/(MDR!EA204*BY118))+(BY91*MDR!$BA$6/(MDR!EA205*BY118))+(BY92*MDR!$BB$6/(MDR!EA206*BY118))+(BY93*MDR!$BC$6/(MDR!EA207*BY118)))","v":{"$error":"#VALUE!"}},{"$f":"100/((CA86/BZ86)+(CA87/BZ87)+(CA88/BZ88)+(CA89/BZ89)+(CA90/BZ90)+(CA91/BZ91)+(CA92/BZ92)+(CA93/BZ93))","v":{"$error":"#VALUE!"}},{"$f":"100/((CA86*MDR!$AV$6/(MDR!EC200*CA118))+(CA87*MDR!$AW$6/(MDR!EC201*CA118))+(CA88*MDR!$AX$6/(MDR!EC202*CA118))+(CA89*MDR!$AY$6/(MDR!EC203*CA118))+(CA90*MDR!$AZ$6/(MDR!EC204*CA118))+(CA91*MDR!$BA$6/(MDR!EC205*CA118))+(CA92*MDR!$BB$6/(MDR!EC206*CA118))+(CA93*MDR!$BC$6/(MDR!EC207*CA118)))","v":{"$error":"#VALUE!"}},{"$f":"100/((CC86/CB86)+(CC87/CB87)+(CC88/CB88)+(CC89/CB89)+(CC90/CB90)+(CC91/CB91)+(CC92/CB92)+(CC93/CB93))","v":{"$error":"#VALUE!"}},{"$f":"100/((CC86*MDR!$AV$6/(MDR!EE200*CC118))+(CC87*MDR!$AW$6/(MDR!EE201*CC118))+(CC88*MDR!$AX$6/(MDR!EE202*CC118))+(CC89*MDR!$AY$6/(MDR!EE203*CC118))+(CC90*MDR!$AZ$6/(MDR!EE204*CC118))+(CC91*MDR!$BA$6/(MDR!EE205*CC118))+(CC92*MDR!$BB$6/(MDR!EE206*CC118))+(CC93*MDR!$BC$6/(MDR!EE207*CC118)))","v":{"$error":"#VALUE!"}},{"$f":"100/((CE86/CD86)+(CE87/CD87)+(CE88/CD88)+(CE89/CD89)+(CE90/CD90)+(CE91/CD91)+(CE92/CD92)+(CE93/CD93))","v":{"$error":"#VALUE!"}},{"$f":"100/((CE86*MDR!$AV$6/(MDR!EG200*CE118))+(CE87*MDR!$AW$6/(MDR!EG201*CE118))+(CE88*MDR!$AX$6/(MDR!EG202*CE118))+(CE89*MDR!$AY$6/(MDR!EG203*CE118))+(CE90*MDR!$AZ$6/(MDR!EG204*CE118))+(CE91*MDR!$BA$6/(MDR!EG205*CE118))+(CE92*MDR!$BB$6/(MDR!EG206*CE118))+(CE93*MDR!$BC$6/(MDR!EG207*CE118)))","v":{"$error":"#VALUE!"}},null,null,null,null,{"$f":"100/((CK86/CJ86)+(CK87/CJ87)+(CK88/CJ88)+(CK89/CJ89)+(CK90/CJ90)+(CK91/CJ91)+(CK92/CJ92)+(CK93/CJ93))","v":{"$error":"#VALUE!"}},{"$f":"100/((CK86*MDR!$AV$6/(MDR!EM200*CK118))+(CK87*MDR!$AW$6/(MDR!EM201*CK118))+(CK88*MDR!$AX$6/(MDR!EM202*CK118))+(CK89*MDR!$AY$6/(MDR!EM203*CK118))+(CK90*MDR!$AZ$6/(MDR!EM204*CK118))+(CK91*MDR!$BA$6/(MDR!EM205*CK118))+(CK92*MDR!$BB$6/(MDR!EM206*CK118))+(CK93*MDR!$BC$6/(MDR!EM207*CK118)))","v":{"$error":"#VALUE!"}},{"$f":"100/((CM86/CL86)+(CM87/CL87)+(CM88/CL88)+(CM89/CL89)+(CM90/CL90)+(CM91/CL91)+(CM92/CL92)+(CM93/CL93))","v":{"$error":"#VALUE!"}},{"$f":"100/((CM86*MDR!$AV$6/(MDR!EO200*CM118))+(CM87*MDR!$AW$6/(MDR!EO201*CM118))+(CM88*MDR!$AX$6/(MDR!EO202*CM118))+(CM89*MDR!$AY$6/(MDR!EO203*CM118))+(CM90*MDR!$AZ$6/(MDR!EO204*CM118))+(CM91*MDR!$BA$6/(MDR!EO205*CM118))+(CM92*MDR!$BB$6/(MDR!EO206*CM118))+(CM93*MDR!$BC$6/(MDR!EO207*CM118)))","v":{"$error":"#VALUE!"}},{"$f":"100/((CO86/CN86)+(CO87/CN87)+(CO88/CN88)+(CO89/CN89)+(CO90/CN90)+(CO91/CN91)+(CO92/CN92)+(CO93/CN93))","v":{"$error":"#VALUE!"}},{"$f":"100/((CO86*MDR!$AV$6/(MDR!EQ200*CO118))+(CO87*MDR!$AW$6/(MDR!EQ201*CO118))+(CO88*MDR!$AX$6/(MDR!EQ202*CO118))+(CO89*MDR!$AY$6/(MDR!EQ203*CO118))+(CO90*MDR!$AZ$6/(MDR!EQ204*CO118))+(CO91*MDR!$BA$6/(MDR!EQ205*CO118))+(CO92*MDR!$BB$6/(MDR!EQ206*CO118))+(CO93*MDR!$BC$6/(MDR!EQ207*CO118)))","v":{"$error":"#VALUE!"}},{"$f":"100/((CQ86/CP86)+(CQ87/CP87)+(CQ88/CP88)+(CQ89/CP89)+(CQ90/CP90)+(CQ91/CP91)+(CQ92/CP92)+(CQ93/CP93))","v":{"$error":"#VALUE!"}},{"$f":"100/((CQ86*MDR!$AV$6/(MDR!ES200*CQ118))+(CQ87*MDR!$AW$6/(MDR!ES201*CQ118))+(CQ88*MDR!$AX$6/(MDR!ES202*CQ118))+(CQ89*MDR!$AY$6/(MDR!ES203*CQ118))+(CQ90*MDR!$AZ$6/(MDR!ES204*CQ118))+(CQ91*MDR!$BA$6/(MDR!ES205*CQ118))+(CQ92*MDR!$BB$6/(MDR!ES206*CQ118))+(CQ93*MDR!$BC$6/(MDR!ES207*CQ118)))","v":{"$error":"#VALUE!"}},null,null,null,null,{"$f":"100/((CW86/CV86)+(CW87/CV87)+(CW88/CV88)+(CW89/CV89)+(CW90/CV90)+(CW91/CV91)+(CW92/CV92)+(CW93/CV93))","v":{"$error":"#VALUE!"}},{"$f":"100/((CW86*MDR!$AV$6/(MDR!EY200*CW118))+(CW87*MDR!$AW$6/(MDR!EY201*CW118))+(CW88*MDR!$AX$6/(MDR!EY202*CW118))+(CW89*MDR!$AY$6/(MDR!EY203*CW118))+(CW90*MDR!$AZ$6/(MDR!EY204*CW118))+(CW91*MDR!$BA$6/(MDR!EY205*CW118))+(CW92*MDR!$BB$6/(MDR!EY206*CW118))+(CW93*MDR!$BC$6/(MDR!EY207*CW118)))","v":{"$error":"#VALUE!"}},{"$f":"100/((CY86/CX86)+(CY87/CX87)+(CY88/CX88)+(CY89/CX89)+(CY90/CX90)+(CY91/CX91)+(CY92/CX92)+(CY93/CX93))","v":{"$error":"#VALUE!"}},{"$f":"100/((CY86*MDR!$AV$6/(MDR!FA200*CY118))+(CY87*MDR!$AW$6/(MDR!FA201*CY118))+(CY88*MDR!$AX$6/(MDR!FA202*CY118))+(CY89*MDR!$AY$6/(MDR!FA203*CY118))+(CY90*MDR!$AZ$6/(MDR!FA204*CY118))+(CY91*MDR!$BA$6/(MDR!FA205*CY118))+(CY92*MDR!$BB$6/(MDR!FA206*CY118))+(CY93*MDR!$BC$6/(MDR!FA207*CY118)))","v":{"$error":"#VALUE!"}},{"$f":"100/((DA86/CZ86)+(DA87/CZ87)+(DA88/CZ88)+(DA89/CZ89)+(DA90/CZ90)+(DA91/CZ91)+(DA92/CZ92)+(DA93/CZ93))","v":{"$error":"#VALUE!"}},{"$f":"100/((DA86*MDR!$AV$6/(MDR!FC200*DA118))+(DA87*MDR!$AW$6/(MDR!FC201*DA118))+(DA88*MDR!$AX$6/(MDR!FC202*DA118))+(DA89*MDR!$AY$6/(MDR!FC203*DA118))+(DA90*MDR!$AZ$6/(MDR!FC204*DA118))+(DA91*MDR!$BA$6/(MDR!FC205*DA118))+(DA92*MDR!$BB$6/(MDR!FC206*DA118))+(DA93*MDR!$BC$6/(MDR!FC207*DA118)))","v":{"$error":"#VALUE!"}},{"$f":"100/((DC86/DB86)+(DC87/DB87)+(DC88/DB88)+(DC89/DB89)+(DC90/DB90)+(DC91/DB91)+(DC92/DB92)+(DC93/DB93))","v":{"$error":"#VALUE!"}},{"$f":"100/((DC86*MDR!$AV$6/(MDR!FE200*DC118))+(DC87*MDR!$AW$6/(MDR!FE201*DC118))+(DC88*MDR!$AX$6/(MDR!FE202*DC118))+(DC89*MDR!$AY$6/(MDR!FE203*DC118))+(DC90*MDR!$AZ$6/(MDR!FE204*DC118))+(DC91*MDR!$BA$6/(MDR!FE205*DC118))+(DC92*MDR!$BB$6/(MDR!FE206*DC118))+(DC93*MDR!$BC$6/(MDR!FE207*DC118)))","v":{"$error":"#VALUE!"}},null,null,null,null,{"$f":"100/((DI86/DH86)+(DI87/DH87)+(DI88/DH88)+(DI89/DH89)+(DI90/DH90)+(DI91/DH91)+(DI92/DH92)+(DI93/DH93))","v":{"$error":"#VALUE!"}},{"$f":"100/((DI86*MDR!$AV$6/(MDR!FK200*DI118))+(DI87*MDR!$AW$6/(MDR!FK201*DI118))+(DI88*MDR!$AX$6/(MDR!FK202*DI118))+(DI89*MDR!$AY$6/(MDR!FK203*DI118))+(DI90*MDR!$AZ$6/(MDR!FK204*DI118))+(DI91*MDR!$BA$6/(MDR!FK205*DI118))+(DI92*MDR!$BB$6/(MDR!FK206*DI118))+(DI93*MDR!$BC$6/(MDR!FK207*DI118)))","v":{"$error":"#VALUE!"}},{"$f":"100/((DK86/DJ86)+(DK87/DJ87)+(DK88/DJ88)+(DK89/DJ89)+(DK90/DJ90)+(DK91/DJ91)+(DK92/DJ92)+(DK93/DJ93))","v":{"$error":"#VALUE!"}},{"$f":"100/((DK86*MDR!$AV$6/(MDR!FM200*DK118))+(DK87*MDR!$AW$6/(MDR!FM201*DK118))+(DK88*MDR!$AX$6/(MDR!FM202*DK118))+(DK89*MDR!$AY$6/(MDR!FM203*DK118))+(DK90*MDR!$AZ$6/(MDR!FM204*DK118))+(DK91*MDR!$BA$6/(MDR!FM205*DK118))+(DK92*MDR!$BB$6/(MDR!FM206*DK118))+(DK93*MDR!$BC$6/(MDR!FM207*DK118)))","v":{"$error":"#VALUE!"}},{"$f":"100/((DM86/DL86)+(DM87/DL87)+(DM88/DL88)+(DM89/DL89)+(DM90/DL90)+(DM91/DL91)+(DM92/DL92)+(DM93/DL93))","v":{"$error":"#VALUE!"}},{"$f":"100/((DM86*MDR!$AV$6/(MDR!FO200*DM118))+(DM87*MDR!$AW$6/(MDR!FO201*DM118))+(DM88*MDR!$AX$6/(MDR!FO202*DM118))+(DM89*MDR!$AY$6/(MDR!FO203*DM118))+(DM90*MDR!$AZ$6/(MDR!FO204*DM118))+(DM91*MDR!$BA$6/(MDR!FO205*DM118))+(DM92*MDR!$BB$6/(MDR!FO206*DM118))+(DM93*MDR!$BC$6/(MDR!FO207*DM118)))","v":{"$error":"#VALUE!"}},{"$f":"100/((DO86/DN86)+(DO87/DN87)+(DO88/DN88)+(DO89/DN89)+(DO90/DN90)+(DO91/DN91)+(DO92/DN92)+(DO93/DN93))","v":{"$error":"#VALUE!"}},{"$f":"100/((DO86*MDR!$AV$6/(MDR!FQ200*DO118))+(DO87*MDR!$AW$6/(MDR!FQ201*DO118))+(DO88*MDR!$AX$6/(MDR!FQ202*DO118))+(DO89*MDR!$AY$6/(MDR!FQ203*DO118))+(DO90*MDR!$AZ$6/(MDR!FQ204*DO118))+(DO91*MDR!$BA$6/(MDR!FQ205*DO118))+(DO92*MDR!$BB$6/(MDR!FQ206*DO118))+(DO93*MDR!$BC$6/(MDR!FQ207*DO118)))","v":{"$error":"#VALUE!"}},null,null,null,null,{"$f":"100/((DU86/DT86)+(DU87/DT87)+(DU88/DT88)+(DU89/DT89)+(DU90/DT90)+(DU91/DT91)+(DU92/DT92)+(DU93/DT93))","v":{"$error":"#VALUE!"}},{"$f":"100/((DU86*MDR!$AV$6/(MDR!FW200*DU118))+(DU87*MDR!$AW$6/(MDR!FW201*DU118))+(DU88*MDR!$AX$6/(MDR!FW202*DU118))+(DU89*MDR!$AY$6/(MDR!FW203*DU118))+(DU90*MDR!$AZ$6/(MDR!FW204*DU118))+(DU91*MDR!$BA$6/(MDR!FW205*DU118))+(DU92*MDR!$BB$6/(MDR!FW206*DU118))+(DU93*MDR!$BC$6/(MDR!FW207*DU118)))","v":{"$error":"#VALUE!"}},{"$f":"100/((DW86/DV86)+(DW87/DV87)+(DW88/DV88)+(DW89/DV89)+(DW90/DV90)+(DW91/DV91)+(DW92/DV92)+(DW93/DV93))","v":{"$error":"#VALUE!"}},{"$f":"100/((DW86*MDR!$AV$6/(MDR!FY200*DW118))+(DW87*MDR!$AW$6/(MDR!FY201*DW118))+(DW88*MDR!$AX$6/(MDR!FY202*DW118))+(DW89*MDR!$AY$6/(MDR!FY203*DW118))+(DW90*MDR!$AZ$6/(MDR!FY204*DW118))+(DW91*MDR!$BA$6/(MDR!FY205*DW118))+(DW92*MDR!$BB$6/(MDR!FY206*DW118))+(DW93*MDR!$BC$6/(MDR!FY207*DW118)))","v":{"$error":"#VALUE!"}},{"$f":"100/((DY86/DX86)+(DY87/DX87)+(DY88/DX88)+(DY89/DX89)+(DY90/DX90)+(DY91/DX91)+(DY92/DX92)+(DY93/DX93))","v":{"$error":"#VALUE!"}},{"$f":"100/((DY86*MDR!$AV$6/(MDR!GA200*DY118))+(DY87*MDR!$AW$6/(MDR!GA201*DY118))+(DY88*MDR!$AX$6/(MDR!GA202*DY118))+(DY89*MDR!$AY$6/(MDR!GA203*DY118))+(DY90*MDR!$AZ$6/(MDR!GA204*DY118))+(DY91*MDR!$BA$6/(MDR!GA205*DY118))+(DY92*MDR!$BB$6/(MDR!GA206*DY118))+(DY93*MDR!$BC$6/(MDR!GA207*DY118)))","v":{"$error":"#VALUE!"}},{"$f":"100/((EA86/DZ86)+(EA87/DZ87)+(EA88/DZ88)+(EA89/DZ89)+(EA90/DZ90)+(EA91/DZ91)+(EA92/DZ92)+(EA93/DZ93))","v":{"$error":"#VALUE!"}},{"$f":"100/((EA86*MDR!$AV$6/(MDR!GC200*EA118))+(EA87*MDR!$AW$6/(MDR!GC201*EA118))+(EA88*MDR!$AX$6/(MDR!GC202*EA118))+(EA89*MDR!$AY$6/(MDR!GC203*EA118))+(EA90*MDR!$AZ$6/(MDR!GC204*EA118))+(EA91*MDR!$BA$6/(MDR!GC205*EA118))+(EA92*MDR!$BB$6/(MDR!GC206*EA118))+(EA93*MDR!$BC$6/(MDR!GC207*EA118)))","v":{"$error":"#VALUE!"}},null,null,null,null,{"$f":"100/((EG86/EF86)+(EG87/EF87)+(EG88/EF88)+(EG89/EF89)+(EG90/EF90)+(EG91/EF91)+(EG92/EF92)+(EG93/EF93))","v":{"$error":"#VALUE!"}},{"$f":"100/((EG86*MDR!$AV$6/(MDR!BG220*EG118))+(EG87*MDR!$AW$6/(MDR!BG221*EG118))+(EG88*MDR!$AX$6/(MDR!BG222*EG118))+(EG89*MDR!$AY$6/(MDR!BG223*EG118))+(EG90*MDR!$AZ$6/(MDR!BG224*EG118))+(EG91*MDR!$BA$6/(MDR!BG225*EG118))+(EG92*MDR!$BB$6/(MDR!BG226*EG118))+(EG93*MDR!$BC$6/(MDR!BG227*EG118)))","v":{"$error":"#VALUE!"}},{"$f":"100/((EI86/EH86)+(EI87/EH87)+(EI88/EH88)+(EI89/EH89)+(EI90/EH90)+(EI91/EH91)+(EI92/EH92)+(EI93/EH93))","v":{"$error":"#VALUE!"}},{"$f":"100/((EI86*MDR!$AV$6/(MDR!BI220*EI118))+(EI87*MDR!$AW$6/(MDR!BI221*EI118))+(EI88*MDR!$AX$6/(MDR!BI222*EI118))+(EI89*MDR!$AY$6/(MDR!BI223*EI118))+(EI90*MDR!$AZ$6/(MDR!BI224*EI118))+(EI91*MDR!$BA$6/(MDR!BI225*EI118))+(EI92*MDR!$BB$6/(MDR!BI226*EI118))+(EI93*MDR!$BC$6/(MDR!BI227*EI118)))","v":{"$error":"#VALUE!"}},{"$f":"100/((EK86/EJ86)+(EK87/EJ87)+(EK88/EJ88)+(EK89/EJ89)+(EK90/EJ90)+(EK91/EJ91)+(EK92/EJ92)+(EK93/EJ93))","v":{"$error":"#VALUE!"}},{"$f":"100/((EK86*MDR!$AV$6/(MDR!BK220*EK118))+(EK87*MDR!$AW$6/(MDR!BK221*EK118))+(EK88*MDR!$AX$6/(MDR!BK222*EK118))+(EK89*MDR!$AY$6/(MDR!BK223*EK118))+(EK90*MDR!$AZ$6/(MDR!BK224*EK118))+(EK91*MDR!$BA$6/(MDR!BK225*EK118))+(EK92*MDR!$BB$6/(MDR!BK226*EK118))+(EK93*MDR!$BC$6/(MDR!BK227*EK118)))","v":{"$error":"#VALUE!"}},{"$f":"100/((EM86/EL86)+(EM87/EL87)+(EM88/EL88)+(EM89/EL89)+(EM90/EL90)+(EM91/EL91)+(EM92/EL92)+(EM93/EL93))","v":{"$error":"#VALUE!"}},{"$f":"100/((EM86*MDR!$AV$6/(MDR!BM220*EM118))+(EM87*MDR!$AW$6/(MDR!BM221*EM118))+(EM88*MDR!$AX$6/(MDR!BM222*EM118))+(EM89*MDR!$AY$6/(MDR!BM223*EM118))+(EM90*MDR!$AZ$6/(MDR!BM224*EM118))+(EM91*MDR!$BA$6/(MDR!BM225*EM118))+(EM92*MDR!$BB$6/(MDR!BM226*EM118))+(EM93*MDR!$BC$6/(MDR!BM227*EM118)))","v":{"$error":"#VALUE!"}},null,null,null,null,{"$f":"100/((ES86/ER86)+(ES87/ER87)+(ES88/ER88)+(ES89/ER89)+(ES90/ER90)+(ES91/ER91)+(ES92/ER92)+(ES93/ER93))","v":{"$error":"#VALUE!"}},{"$f":"100/((ES86*MDR!$AV$6/(MDR!BS220*ES118))+(ES87*MDR!$AW$6/(MDR!BS221*ES118))+(ES88*MDR!$AX$6/(MDR!BS222*ES118))+(ES89*MDR!$AY$6/(MDR!BS223*ES118))+(ES90*MDR!$AZ$6/(MDR!BS224*ES118))+(ES91*MDR!$BA$6/(MDR!BS225*ES118))+(ES92*MDR!$BB$6/(MDR!BS226*ES118))+(ES93*MDR!$BC$6/(MDR!BS227*ES118)))","v":{"$error":"#VALUE!"}},{"$f":"100/((EU86/ET86)+(EU87/ET87)+(EU88/ET88)+(EU89/ET89)+(EU90/ET90)+(EU91/ET91)+(EU92/ET92)+(EU93/ET93))","v":{"$error":"#VALUE!"}},{"$f":"100/((EU86*MDR!$AV$6/(MDR!BU220*EU118))+(EU87*MDR!$AW$6/(MDR!BU221*EU118))+(EU88*MDR!$AX$6/(MDR!BU222*EU118))+(EU89*MDR!$AY$6/(MDR!BU223*EU118))+(EU90*MDR!$AZ$6/(MDR!BU224*EU118))+(EU91*MDR!$BA$6/(MDR!BU225*EU118))+(EU92*MDR!$BB$6/(MDR!BU226*EU118))+(EU93*MDR!$BC$6/(MDR!BU227*EU118)))","v":{"$error":"#VALUE!"}},{"$f":"100/((EW86/EV86)+(EW87/EV87)+(EW88/EV88)+(EW89/EV89)+(EW90/EV90)+(EW91/EV91)+(EW92/EV92)+(EW93/EV93))","v":{"$error":"#VALUE!"}},{"$f":"100/((EW86*MDR!$AV$6/(MDR!BW220*EW118))+(EW87*MDR!$AW$6/(MDR!BW221*EW118))+(EW88*MDR!$AX$6/(MDR!BW222*EW118))+(EW89*MDR!$AY$6/(MDR!BW223*EW118))+(EW90*MDR!$AZ$6/(MDR!BW224*EW118))+(EW91*MDR!$BA$6/(MDR!BW225*EW118))+(EW92*MDR!$BB$6/(MDR!BW226*EW118))+(EW93*MDR!$BC$6/(MDR!BW227*EW118)))","v":{"$error":"#VALUE!"}},{"$f":"100/((EY86/EX86)+(EY87/EX87)+(EY88/EX88)+(EY89/EX89)+(EY90/EX90)+(EY91/EX91)+(EY92/EX92)+(EY93/EX93))","v":{"$error":"#VALUE!"}},{"$f":"100/((EY86*MDR!$AV$6/(MDR!BY220*EY118))+(EY87*MDR!$AW$6/(MDR!BY221*EY118))+(EY88*MDR!$AX$6/(MDR!BY222*EY118))+(EY89*MDR!$AY$6/(MDR!BY223*EY118))+(EY90*MDR!$AZ$6/(MDR!BY224*EY118))+(EY91*MDR!$BA$6/(MDR!BY225*EY118))+(EY92*MDR!$BB$6/(MDR!BY226*EY118))+(EY93*MDR!$BC$6/(MDR!BY227*EY118)))","v":{"$error":"#VALUE!"}},null,null,null,null,{"$f":"100/((FE86/FD86)+(FE87/FD87)+(FE88/FD88)+(FE89/FD89)+(FE90/FD90)+(FE91/FD91)+(FE92/FD92)+(FE93/FD93))","v":{"$error":"#VALUE!"}},{"$f":"100/((FE86*MDR!$AV$6/(MDR!CE220*FE118))+(FE87*MDR!$AW$6/(MDR!CE221*FE118))+(FE88*MDR!$AX$6/(MDR!CE222*FE118))+(FE89*MDR!$AY$6/(MDR!CE223*FE118))+(FE90*MDR!$AZ$6/(MDR!CE224*FE118))+(FE91*MDR!$BA$6/(MDR!CE225*FE118))+(FE92*MDR!$BB$6/(MDR!CE226*FE118))+(FE93*MDR!$BC$6/(MDR!CE227*FE118)))","v":{"$error":"#VALUE!"}},{"$f":"100/((FG86/FF86)+(FG87/FF87)+(FG88/FF88)+(FG89/FF89)+(FG90/FF90)+(FG91/FF91)+(FG92/FF92)+(FG93/FF93))","v":{"$error":"#VALUE!"}},{"$f":"100/((FG86*MDR!$AV$6/(MDR!CG220*FG118))+(FG87*MDR!$AW$6/(MDR!CG221*FG118))+(FG88*MDR!$AX$6/(MDR!CG222*FG118))+(FG89*MDR!$AY$6/(MDR!CG223*FG118))+(FG90*MDR!$AZ$6/(MDR!CG224*FG118))+(FG91*MDR!$BA$6/(MDR!CG225*FG118))+(FG92*MDR!$BB$6/(MDR!CG226*FG118))+(FG93*MDR!$BC$6/(MDR!CG227*FG118)))","v":{"$error":"#VALUE!"}},{"$f":"100/((FI86/FH86)+(FI87/FH87)+(FI88/FH88)+(FI89/FH89)+(FI90/FH90)+(FI91/FH91)+(FI92/FH92)+(FI93/FH93))","v":{"$error":"#VALUE!"}},{"$f":"100/((FI86*MDR!$AV$6/(MDR!CI220*FI118))+(FI87*MDR!$AW$6/(MDR!CI221*FI118))+(FI88*MDR!$AX$6/(MDR!CI222*FI118))+(FI89*MDR!$AY$6/(MDR!CI223*FI118))+(FI90*MDR!$AZ$6/(MDR!CI224*FI118))+(FI91*MDR!$BA$6/(MDR!CI225*FI118))+(FI92*MDR!$BB$6/(MDR!CI226*FI118))+(FI93*MDR!$BC$6/(MDR!CI227*FI118)))","v":{"$error":"#VALUE!"}},{"$f":"100/((FK86/FJ86)+(FK87/FJ87)+(FK88/FJ88)+(FK89/FJ89)+(FK90/FJ90)+(FK91/FJ91)+(FK92/FJ92)+(FK93/FJ93))","v":{"$error":"#VALUE!"}},{"$f":"100/((FK86*MDR!$AV$6/(MDR!CK220*FK118))+(FK87*MDR!$AW$6/(MDR!CK221*FK118))+(FK88*MDR!$AX$6/(MDR!CK222*FK118))+(FK89*MDR!$AY$6/(MDR!CK223*FK118))+(FK90*MDR!$AZ$6/(MDR!CK224*FK118))+(FK91*MDR!$BA$6/(MDR!CK225*FK118))+(FK92*MDR!$BB$6/(MDR!CK226*FK118))+(FK93*MDR!$BC$6/(MDR!CK227*FK118)))","v":{"$error":"#VALUE!"}},null,null,null,null,{"$f":"100/((FQ86/FP86)+(FQ87/FP87)+(FQ88/FP88)+(FQ89/FP89)+(FQ90/FP90)+(FQ91/FP91)+(FQ92/FP92)+(FQ93/FP93))","v":{"$error":"#VALUE!"}},{"$f":"100/((FQ86*MDR!$AV$6/(MDR!CQ220*FQ118))+(FQ87*MDR!$AW$6/(MDR!CQ221*FQ118))+(FQ88*MDR!$AX$6/(MDR!CQ222*FQ118))+(FQ89*MDR!$AY$6/(MDR!CQ223*FQ118))+(FQ90*MDR!$AZ$6/(MDR!CQ224*FQ118))+(FQ91*MDR!$BA$6/(MDR!CQ225*FQ118))+(FQ92*MDR!$BB$6/(MDR!CQ226*FQ118))+(FQ93*MDR!$BC$6/(MDR!CQ227*FQ118)))","v":{"$error":"#VALUE!"}},{"$f":"100/((FS86/FR86)+(FS87/FR87)+(FS88/FR88)+(FS89/FR89)+(FS90/FR90)+(FS91/FR91)+(FS92/FR92)+(FS93/FR93))","v":{"$error":"#VALUE!"}},{"$f":"100/((FS86*MDR!$AV$6/(MDR!CS220*FS118))+(FS87*MDR!$AW$6/(MDR!CS221*FS118))+(FS88*MDR!$AX$6/(MDR!CS222*FS118))+(FS89*MDR!$AY$6/(MDR!CS223*FS118))+(FS90*MDR!$AZ$6/(MDR!CS224*FS118))+(FS91*MDR!$BA$6/(MDR!CS225*FS118))+(FS92*MDR!$BB$6/(MDR!CS226*FS118))+(FS93*MDR!$BC$6/(MDR!CS227*FS118)))","v":{"$error":"#VALUE!"}},{"$f":"100/((FU86/FT86)+(FU87/FT87)+(FU88/FT88)+(FU89/FT89)+(FU90/FT90)+(FU91/FT91)+(FU92/FT92)+(FU93/FT93))","v":{"$error":"#VALUE!"}},{"$f":"100/((FU86*MDR!$AV$6/(MDR!CU220*FU118))+(FU87*MDR!$AW$6/(MDR!CU221*FU118))+(FU88*MDR!$AX$6/(MDR!CU222*FU118))+(FU89*MDR!$AY$6/(MDR!CU223*FU118))+(FU90*MDR!$AZ$6/(MDR!CU224*FU118))+(FU91*MDR!$BA$6/(MDR!CU225*FU118))+(FU92*MDR!$BB$6/(MDR!CU226*FU118))+(FU93*MDR!$BC$6/(MDR!CU227*FU118)))","v":{"$error":"#VALUE!"}},{"$f":"100/((FW86/FV86)+(FW87/FV87)+(FW88/FV88)+(FW89/FV89)+(FW90/FV90)+(FW91/FV91)+(FW92/FV92)+(FW93/FV93))","v":{"$error":"#VALUE!"}},{"$f":"100/((FW86*MDR!$AV$6/(MDR!CW220*FW118))+(FW87*MDR!$AW$6/(MDR!CW221*FW118))+(FW88*MDR!$AX$6/(MDR!CW222*FW118))+(FW89*MDR!$AY$6/(MDR!CW223*FW118))+(FW90*MDR!$AZ$6/(MDR!CW224*FW118))+(FW91*MDR!$BA$6/(MDR!CW225*FW118))+(FW92*MDR!$BB$6/(MDR!CW226*FW118))+(FW93*MDR!$BC$6/(MDR!CW227*FW118)))","v":{"$error":"#VALUE!"}},null,null,null,null,{"$f":"100/((GC86/GB86)+(GC87/GB87)+(GC88/GB88)+(GC89/GB89)+(GC90/GB90)+(GC91/GB91)+(GC92/GB92)+(GC93/GB93))","v":{"$error":"#VALUE!"}},{"$f":"100/((GC86*MDR!$AV$6/(MDR!DC220*GC118))+(GC87*MDR!$AW$6/(MDR!DC221*GC118))+(GC88*MDR!$AX$6/(MDR!DC222*GC118))+(GC89*MDR!$AY$6/(MDR!DC223*GC118))+(GC90*MDR!$AZ$6/(MDR!DC224*GC118))+(GC91*MDR!$BA$6/(MDR!DC225*GC118))+(GC92*MDR!$BB$6/(MDR!DC226*GC118))+(GC93*MDR!$BC$6/(MDR!DC227*GC118)))","v":{"$error":"#VALUE!"}},{"$f":"100/((GE86/GD86)+(GE87/GD87)+(GE88/GD88)+(GE89/GD89)+(GE90/GD90)+(GE91/GD91)+(GE92/GD92)+(GE93/GD93))","v":{"$error":"#VALUE!"}},{"$f":"100/((GE86*MDR!$AV$6/(MDR!DE220*GE118))+(GE87*MDR!$AW$6/(MDR!DE221*GE118))+(GE88*MDR!$AX$6/(MDR!DE222*GE118))+(GE89*MDR!$AY$6/(MDR!DE223*GE118))+(GE90*MDR!$AZ$6/(MDR!DE224*GE118))+(GE91*MDR!$BA$6/(MDR!DE225*GE118))+(GE92*MDR!$BB$6/(MDR!DE226*GE118))+(GE93*MDR!$BC$6/(MDR!DE227*GE118)))","v":{"$error":"#VALUE!"}},{"$f":"100/((GG86/GF86)+(GG87/GF87)+(GG88/GF88)+(GG89/GF89)+(GG90/GF90)+(GG91/GF91)+(GG92/GF92)+(GG93/GF93))","v":{"$error":"#VALUE!"}},{"$f":"100/((GG86*MDR!$AV$6/(MDR!DG220*GG118))+(GG87*MDR!$AW$6/(MDR!DG221*GG118))+(GG88*MDR!$AX$6/(MDR!DG222*GG118))+(GG89*MDR!$AY$6/(MDR!DG223*GG118))+(GG90*MDR!$AZ$6/(MDR!DG224*GG118))+(GG91*MDR!$BA$6/(MDR!DG225*GG118))+(GG92*MDR!$BB$6/(MDR!DG226*GG118))+(GG93*MDR!$BC$6/(MDR!DG227*GG118)))","v":{"$error":"#VALUE!"}},{"$f":"100/((GI86/GH86)+(GI87/GH87)+(GI88/GH88)+(GI89/GH89)+(GI90/GH90)+(GI91/GH91)+(GI92/GH92)+(GI93/GH93))","v":{"$error":"#VALUE!"}},{"$f":"100/((GI86*MDR!$AV$6/(MDR!DI220*GI118))+(GI87*MDR!$AW$6/(MDR!DI221*GI118))+(GI88*MDR!$AX$6/(MDR!DI222*GI118))+(GI89*MDR!$AY$6/(MDR!DI223*GI118))+(GI90*MDR!$AZ$6/(MDR!DI224*GI118))+(GI91*MDR!$BA$6/(MDR!DI225*GI118))+(GI92*MDR!$BB$6/(MDR!DI226*GI118))+(GI93*MDR!$BC$6/(MDR!DI227*GI118)))","v":{"$error":"#VALUE!"}},null,null,null,null,{"$f":"100/((GO86/GN86)+(GO87/GN87)+(GO88/GN88)+(GO89/GN89)+(GO90/GN90)+(GO91/GN91)+(GO92/GN92)+(GO93/GN93))","v":{"$error":"#VALUE!"}},{"$f":"100/((GO86*MDR!$AV$6/(MDR!DO220*GO118))+(GO87*MDR!$AW$6/(MDR!DO221*GO118))+(GO88*MDR!$AX$6/(MDR!DO222*GO118))+(GO89*MDR!$AY$6/(MDR!DO223*GO118))+(GO90*MDR!$AZ$6/(MDR!DO224*GO118))+(GO91*MDR!$BA$6/(MDR!DO225*GO118))+(GO92*MDR!$BB$6/(MDR!DO226*GO118))+(GO93*MDR!$BC$6/(MDR!DO227*GO118)))","v":{"$error":"#VALUE!"}},{"$f":"100/((GQ86/GP86)+(GQ87/GP87)+(GQ88/GP88)+(GQ89/GP89)+(GQ90/GP90)+(GQ91/GP91)+(GQ92/GP92)+(GQ93/GP93))","v":{"$error":"#VALUE!"}},{"$f":"100/((GQ86*MDR!$AV$6/(MDR!DQ220*GQ118))+(GQ87*MDR!$AW$6/(MDR!DQ221*GQ118))+(GQ88*MDR!$AX$6/(MDR!DQ222*GQ118))+(GQ89*MDR!$AY$6/(MDR!DQ223*GQ118))+(GQ90*MDR!$AZ$6/(MDR!DQ224*GQ118))+(GQ91*MDR!$BA$6/(MDR!DQ225*GQ118))+(GQ92*MDR!$BB$6/(MDR!DQ226*GQ118))+(GQ93*MDR!$BC$6/(MDR!DQ227*GQ118)))","v":{"$error":"#VALUE!"}},{"$f":"100/((GS86/GR86)+(GS87/GR87)+(GS88/GR88)+(GS89/GR89)+(GS90/GR90)+(GS91/GR91)+(GS92/GR92)+(GS93/GR93))","v":{"$error":"#VALUE!"}},{"$f":"100/((GS86*MDR!$AV$6/(MDR!DS220*GS118))+(GS87*MDR!$AW$6/(MDR!DS221*GS118))+(GS88*MDR!$AX$6/(MDR!DS222*GS118))+(GS89*MDR!$AY$6/(MDR!DS223*GS118))+(GS90*MDR!$AZ$6/(MDR!DS224*GS118))+(GS91*MDR!$BA$6/(MDR!DS225*GS118))+(GS92*MDR!$BB$6/(MDR!DS226*GS118))+(GS93*MDR!$BC$6/(MDR!DS227*GS118)))","v":{"$error":"#VALUE!"}},{"$f":"100/((GU86/GT86)+(GU87/GT87)+(GU88/GT88)+(GU89/GT89)+(GU90/GT90)+(GU91/GT91)+(GU92/GT92)+(GU93/GT93))","v":{"$error":"#VALUE!"}},{"$f":"100/((GU86*MDR!$AV$6/(MDR!DU220*GU118))+(GU87*MDR!$AW$6/(MDR!DU221*GU118))+(GU88*MDR!$AX$6/(MDR!DU222*GU118))+(GU89*MDR!$AY$6/(MDR!DU223*GU118))+(GU90*MDR!$AZ$6/(MDR!DU224*GU118))+(GU91*MDR!$BA$6/(MDR!DU225*GU118))+(GU92*MDR!$BB$6/(MDR!DU226*GU118))+(GU93*MDR!$BC$6/(MDR!DU227*GU118)))","v":{"$error":"#VALUE!"}},null,null,null,null,{"$f":"100/((HA86/GZ86)+(HA87/GZ87)+(HA88/GZ88)+(HA89/GZ89)+(HA90/GZ90)+(HA91/GZ91)+(HA92/GZ92)+(HA93/GZ93))","v":{"$error":"#VALUE!"}},{"$f":"100/((HA86*MDR!$AV$6/(MDR!EA220*HA118))+(HA87*MDR!$AW$6/(MDR!EA221*HA118))+(HA88*MDR!$AX$6/(MDR!EA222*HA118))+(HA89*MDR!$AY$6/(MDR!EA223*HA118))+(HA90*MDR!$AZ$6/(MDR!EA224*HA118))+(HA91*MDR!$BA$6/(MDR!EA225*HA118))+(HA92*MDR!$BB$6/(MDR!EA226*HA118))+(HA93*MDR!$BC$6/(MDR!EA227*HA118)))","v":{"$error":"#VALUE!"}},{"$f":"100/((HC86/HB86)+(HC87/HB87)+(HC88/HB88)+(HC89/HB89)+(HC90/HB90)+(HC91/HB91)+(HC92/HB92)+(HC93/HB93))","v":{"$error":"#VALUE!"}},{"$f":"100/((HC86*MDR!$AV$6/(MDR!EC220*HC118))+(HC87*MDR!$AW$6/(MDR!EC221*HC118))+(HC88*MDR!$AX$6/(MDR!EC222*HC118))+(HC89*MDR!$AY$6/(MDR!EC223*HC118))+(HC90*MDR!$AZ$6/(MDR!EC224*HC118))+(HC91*MDR!$BA$6/(MDR!EC225*HC118))+(HC92*MDR!$BB$6/(MDR!EC226*HC118))+(HC93*MDR!$BC$6/(MDR!EC227*HC118)))","v":{"$error":"#VALUE!"}},{"$f":"100/((HE86/HD86)+(HE87/HD87)+(HE88/HD88)+(HE89/HD89)+(HE90/HD90)+(HE91/HD91)+(HE92/HD92)+(HE93/HD93))","v":{"$error":"#VALUE!"}},{"$f":"100/((HE86*MDR!$AV$6/(MDR!EE220*HE118))+(HE87*MDR!$AW$6/(MDR!EE221*HE118))+(HE88*MDR!$AX$6/(MDR!EE222*HE118))+(HE89*MDR!$AY$6/(MDR!EE223*HE118))+(HE90*MDR!$AZ$6/(MDR!EE224*HE118))+(HE91*MDR!$BA$6/(MDR!EE225*HE118))+(HE92*MDR!$BB$6/(MDR!EE226*HE118))+(HE93*MDR!$BC$6/(MDR!EE227*HE118)))","v":{"$error":"#VALUE!"}},{"$f":"100/((HG86/HF86)+(HG87/HF87)+(HG88/HF88)+(HG89/HF89)+(HG90/HF90)+(HG91/HF91)+(HG92/HF92)+(HG93/HF93))","v":{"$error":"#VALUE!"}},{"$f":"100/((HG86*MDR!$AV$6/(MDR!EG220*HG118))+(HG87*MDR!$AW$6/(MDR!EG221*HG118))+(HG88*MDR!$AX$6/(MDR!EG222*HG118))+(HG89*MDR!$AY$6/(MDR!EG223*HG118))+(HG90*MDR!$AZ$6/(MDR!EG224*HG118))+(HG91*MDR!$BA$6/(MDR!EG225*HG118))+(HG92*MDR!$BB$6/(MDR!EG226*HG118))+(HG93*MDR!$BC$6/(MDR!EG227*HG118)))","v":{"$error":"#VALUE!"}},null,null,null,null,{"$f":"100/((HM86/HL86)+(HM87/HL87)+(HM88/HL88)+(HM89/HL89)+(HM90/HL90)+(HM91/HL91)+(HM92/HL92)+(HM93/HL93))","v":{"$error":"#VALUE!"}},{"$f":"100/((HM86*MDR!$AV$6/(MDR!EM220*HM118))+(HM87*MDR!$AW$6/(MDR!EM221*HM118))+(HM88*MDR!$AX$6/(MDR!EM222*HM118))+(HM89*MDR!$AY$6/(MDR!EM223*HM118))+(HM90*MDR!$AZ$6/(MDR!EM224*HM118))+(HM91*MDR!$BA$6/(MDR!EM225*HM118))+(HM92*MDR!$BB$6/(MDR!EM226*HM118))+(HM93*MDR!$BC$6/(MDR!EM227*HM118)))","v":{"$error":"#VALUE!"}},{"$f":"100/((HO86/HN86)+(HO87/HN87)+(HO88/HN88)+(HO89/HN89)+(HO90/HN90)+(HO91/HN91)+(HO92/HN92)+(HO93/HN93))","v":{"$error":"#VALUE!"}},{"$f":"100/((HO86*MDR!$AV$6/(MDR!EO220*HO118))+(HO87*MDR!$AW$6/(MDR!EO221*HO118))+(HO88*MDR!$AX$6/(MDR!EO222*HO118))+(HO89*MDR!$AY$6/(MDR!EO223*HO118))+(HO90*MDR!$AZ$6/(MDR!EO224*HO118))+(HO91*MDR!$BA$6/(MDR!EO225*HO118))+(HO92*MDR!$BB$6/(MDR!EO226*HO118))+(HO93*MDR!$BC$6/(MDR!EO227*HO118)))","v":{"$error":"#VALUE!"}},{"$f":"100/((HQ86/HP86)+(HQ87/HP87)+(HQ88/HP88)+(HQ89/HP89)+(HQ90/HP90)+(HQ91/HP91)+(HQ92/HP92)+(HQ93/HP93))","v":{"$error":"#VALUE!"}},{"$f":"100/((HQ86*MDR!$AV$6/(MDR!EQ220*HQ118))+(HQ87*MDR!$AW$6/(MDR!EQ221*HQ118))+(HQ88*MDR!$AX$6/(MDR!EQ222*HQ118))+(HQ89*MDR!$AY$6/(MDR!EQ223*HQ118))+(HQ90*MDR!$AZ$6/(MDR!EQ224*HQ118))+(HQ91*MDR!$BA$6/(MDR!EQ225*HQ118))+(HQ92*MDR!$BB$6/(MDR!EQ226*HQ118))+(HQ93*MDR!$BC$6/(MDR!EQ227*HQ118)))","v":{"$error":"#VALUE!"}},{"$f":"100/((HS86/HR86)+(HS87/HR87)+(HS88/HR88)+(HS89/HR89)+(HS90/HR90)+(HS91/HR91)+(HS92/HR92)+(HS93/HR93))","v":{"$error":"#VALUE!"}},{"$f":"100/((HS86*MDR!$AV$6/(MDR!ES220*HS118))+(HS87*MDR!$AW$6/(MDR!ES221*HS118))+(HS88*MDR!$AX$6/(MDR!ES222*HS118))+(HS89*MDR!$AY$6/(MDR!ES223*HS118))+(HS90*MDR!$AZ$6/(MDR!ES224*HS118))+(HS91*MDR!$BA$6/(MDR!ES225*HS118))+(HS92*MDR!$BB$6/(MDR!ES226*HS118))+(HS93*MDR!$BC$6/(MDR!ES227*HS118)))","v":{"$error":"#VALUE!"}},null,null,null,null,{"$f":"100/((HY86/HX86)+(HY87/HX87)+(HY88/HX88)+(HY89/HX89)+(HY90/HX90)+(HY91/HX91)+(HY92/HX92)+(HY93/HX93))","v":{"$error":"#VALUE!"}},{"$f":"100/((HY86*MDR!$AV$6/(MDR!EY220*HY118))+(HY87*MDR!$AW$6/(MDR!EY221*HY118))+(HY88*MDR!$AX$6/(MDR!EY222*HY118))+(HY89*MDR!$AY$6/(MDR!EY223*HY118))+(HY90*MDR!$AZ$6/(MDR!EY224*HY118))+(HY91*MDR!$BA$6/(MDR!EY225*HY118))+(HY92*MDR!$BB$6/(MDR!EY226*HY118))+(HY93*MDR!$BC$6/(MDR!EY227*HY118)))","v":{"$error":"#VALUE!"}},{"$f":"100/((IA86/HZ86)+(IA87/HZ87)+(IA88/HZ88)+(IA89/HZ89)+(IA90/HZ90)+(IA91/HZ91)+(IA92/HZ92)+(IA93/HZ93))","v":{"$error":"#VALUE!"}},{"$f":"100/((IA86*MDR!$AV$6/(MDR!FA220*IA118))+(IA87*MDR!$AW$6/(MDR!FA221*IA118))+(IA88*MDR!$AX$6/(MDR!FA222*IA118))+(IA89*MDR!$AY$6/(MDR!FA223*IA118))+(IA90*MDR!$AZ$6/(MDR!FA224*IA118))+(IA91*MDR!$BA$6/(MDR!FA225*IA118))+(IA92*MDR!$BB$6/(MDR!FA226*IA118))+(IA93*MDR!$BC$6/(MDR!FA227*IA118)))","v":{"$error":"#VALUE!"}},{"$f":"100/((IC86/IB86)+(IC87/IB87)+(IC88/IB88)+(IC89/IB89)+(IC90/IB90)+(IC91/IB91)+(IC92/IB92)+(IC93/IB93))","v":{"$error":"#VALUE!"}},{"$f":"100/((IC86*MDR!$AV$6/(MDR!FC220*IC118))+(IC87*MDR!$AW$6/(MDR!FC221*IC118))+(IC88*MDR!$AX$6/(MDR!FC222*IC118))+(IC89*MDR!$AY$6/(MDR!FC223*IC118))+(IC90*MDR!$AZ$6/(MDR!FC224*IC118))+(IC91*MDR!$BA$6/(MDR!FC225*IC118))+(IC92*MDR!$BB$6/(MDR!FC226*IC118))+(IC93*MDR!$BC$6/(MDR!FC227*IC118)))","v":{"$error":"#VALUE!"}},{"$f":"100/((IE86/ID86)+(IE87/ID87)+(IE88/ID88)+(IE89/ID89)+(IE90/ID90)+(IE91/ID91)+(IE92/ID92)+(IE93/ID93))","v":{"$error":"#VALUE!"}},{"$f":"100/((IE86*MDR!$AV$6/(MDR!FE220*IE118))+(IE87*MDR!$AW$6/(MDR!FE221*IE118))+(IE88*MDR!$AX$6/(MDR!FE222*IE118))+(IE89*MDR!$AY$6/(MDR!FE223*IE118))+(IE90*MDR!$AZ$6/(MDR!FE224*IE118))+(IE91*MDR!$BA$6/(MDR!FE225*IE118))+(IE92*MDR!$BB$6/(MDR!FE226*IE118))+(IE93*MDR!$BC$6/(MDR!FE227*IE118)))","v":{"$error":"#VALUE!"}},null,null,null,null,{"$f":"100/((IK86/IJ86)+(IK87/IJ87)+(IK88/IJ88)+(IK89/IJ89)+(IK90/IJ90)+(IK91/IJ91)+(IK92/IJ92)+(IK93/IJ93))","v":{"$error":"#VALUE!"}},{"$f":"100/((IK86*MDR!$AV$6/(MDR!FK220*IK118))+(IK87*MDR!$AW$6/(MDR!FK221*IK118))+(IK88*MDR!$AX$6/(MDR!FK222*IK118))+(IK89*MDR!$AY$6/(MDR!FK223*IK118))+(IK90*MDR!$AZ$6/(MDR!FK224*IK118))+(IK91*MDR!$BA$6/(MDR!FK225*IK118))+(IK92*MDR!$BB$6/(MDR!FK226*IK118))+(IK93*MDR!$BC$6/(MDR!FK227*IK118)))","v":{"$error":"#VALUE!"}},{"$f":"100/((IM86/IL86)+(IM87/IL87)+(IM88/IL88)+(IM89/IL89)+(IM90/IL90)+(IM91/IL91)+(IM92/IL92)+(IM93/IL93))","v":{"$error":"#VALUE!"}},{"$f":"100/((IM86*MDR!$AV$6/(MDR!FM220*IM118))+(IM87*MDR!$AW$6/(MDR!FM221*IM118))+(IM88*MDR!$AX$6/(MDR!FM222*IM118))+(IM89*MDR!$AY$6/(MDR!FM223*IM118))+(IM90*MDR!$AZ$6/(MDR!FM224*IM118))+(IM91*MDR!$BA$6/(MDR!FM225*IM118))+(IM92*MDR!$BB$6/(MDR!FM226*IM118))+(IM93*MDR!$BC$6/(MDR!FM227*IM118)))","v":{"$error":"#VALUE!"}},{"$f":"100/((IO86/IN86)+(IO87/IN87)+(IO88/IN88)+(IO89/IN89)+(IO90/IN90)+(IO91/IN91)+(IO92/IN92)+(IO93/IN93))","v":{"$error":"#VALUE!"}},{"$f":"100/((IO86*MDR!$AV$6/(MDR!FO220*IO118))+(IO87*MDR!$AW$6/(MDR!FO221*IO118))+(IO88*MDR!$AX$6/(MDR!FO222*IO118))+(IO89*MDR!$AY$6/(MDR!FO223*IO118))+(IO90*MDR!$AZ$6/(MDR!FO224*IO118))+(IO91*MDR!$BA$6/(MDR!FO225*IO118))+(IO92*MDR!$BB$6/(MDR!FO226*IO118))+(IO93*MDR!$BC$6/(MDR!FO227*IO118)))","v":{"$error":"#VALUE!"}},{"$f":"100/((IQ86/IP86)+(IQ87/IP87)+(IQ88/IP88)+(IQ89/IP89)+(IQ90/IP90)+(IQ91/IP91)+(IQ92/IP92)+(IQ93/IP93))","v":{"$error":"#VALUE!"}},{"$f":"100/((IQ86*MDR!$AV$6/(MDR!FQ220*IQ118))+(IQ87*MDR!$AW$6/(MDR!FQ221*IQ118))+(IQ88*MDR!$AX$6/(MDR!FQ222*IQ118))+(IQ89*MDR!$AY$6/(MDR!FQ223*IQ118))+(IQ90*MDR!$AZ$6/(MDR!FQ224*IQ118))+(IQ91*MDR!$BA$6/(MDR!FQ225*IQ118))+(IQ92*MDR!$BB$6/(MDR!FQ226*IQ118))+(IQ93*MDR!$BC$6/(MDR!FQ227*IQ118)))","v":{"$error":"#VALUE!"}}]
[null,null,null,{"$f":"100/((E86/D86)+(E87/D87)+(E88/D88)+(E89/D89)+(E90/D90)+(E91/D91)+(E92/D92)+(E93/D93)+(E94/D94))","v":{"$error":"#DIV/0!"}},{"$f":"100/((E86*MDR!$AV$6/(MDR!BG200*E119))+(E87*MDR!$AW$6/(MDR!BG201*E119))+(E88*MDR!$AX$6/(MDR!BG202*E119))+(E89*MDR!$AY$6/(MDR!BG203*E119))+(E90*MDR!$AZ$6/(MDR!BG204*E119))+(E91*MDR!$BA$6/(MDR!BG205*E119))+(E92*MDR!$BB$6/(MDR!BG206*E119))+(E93*MDR!$BC$6/(MDR!BG207*E119))+(E94*MDR!$BD$6/(MDR!BG208*E119)))","v":{"$error":"#DIV/0!"}},{"$f":"100/((G86/F86)+(G87/F87)+(G88/F88)+(G89/F89)+(G90/F90)+(G91/F91)+(G92/F92)+(G93/F93)+(G94/F94))","v":{"$error":"#VALUE!"}},{"$f":"100/((G86*MDR!$AV$6/(MDR!BI200*G119))+(G87*MDR!$AW$6/(MDR!BI201*G119))+(G88*MDR!$AX$6/(MDR!BI202*G119))+(G89*MDR!$AY$6/(MDR!BI203*G119))+(G90*MDR!$AZ$6/(MDR!BI204*G119))+(G91*MDR!$BA$6/(MDR!BI205*G119))+(G92*MDR!$BB$6/(MDR!BI206*G119))+(G93*MDR!$BC$6/(MDR!BI207*G119))+(G94*MDR!$BD$6/(MDR!BI208*G119)))","v":{"$error":"#VALUE!"}},{"$f":"100/((I86/H86)+(I87/H87)+(I88/H88)+(I89/H89)+(I90/H90)+(I91/H91)+(I92/H92)+(I93/H93)+(I94/H94))","v":{"$error":"#VALUE!"}},{"$f":"100/((I86*MDR!$AV$6/(MDR!BK200*I119))+(I87*MDR!$AW$6/(MDR!BK201*I119))+(I88*MDR!$AX$6/(MDR!BK202*I119))+(I89*MDR!$AY$6/(MDR!BK203*I119))+(I90*MDR!$AZ$6/(MDR!BK204*I119))+(I91*MDR!$BA$6/(MDR!BK205*I119))+(I92*MDR!$BB$6/(MDR!BK206*I119))+(I93*MDR!$BC$6/(MDR!BK207*I119))+(I94*MDR!$BD$6/(MDR!BK208*I119)))","v":{"$error":"#VALUE!"}},{"$f":"100/((K86/J86)+(K87/J87)+(K88/J88)+(K89/J89)+(K90/J90)+(K91/J91)+(K92/J92)+(K93/J93)+(K94/J94))","v":{"$error":"#VALUE!"}},{"$f":"100/((K86*MDR!$AV$6/(MDR!BM200*K119))+(K87*MDR!$AW$6/(MDR!BM201*K119))+(K88*MDR!$AX$6/(MDR!BM202*K119))+(K89*MDR!$AY$6/(MDR!BM203*K119))+(K90*MDR!$AZ$6/(MDR!BM204*K119))+(K91*MDR!$BA$6/(MDR!BM205*K119))+(K92*MDR!$BB$6/(MDR!BM206*K119))+(K93*MDR!$BC$6/(MDR!BM207*K119))+(K94*MDR!$BD$6/(MDR!BM208*K119)))","v":{"$error":"#VALUE!"}},null,null,null,null,{"$f":"100/((Q86/P86)+(Q87/P87)+(Q88/P88)+(Q89/P89)+(Q90/P90)+(Q91/P91)+(Q92/P92)+(Q93/P93)+(Q94/P94))","v":{"$error":"#VALUE!"}},{"$f":"100/((Q86*MDR!$AV$6/(MDR!BS200*Q119))+(Q87*MDR!$AW$6/(MDR!BS201*Q119))+(Q88*MDR!$AX$6/(MDR!BS202*Q119))+(Q89*MDR!$AY$6/(MDR!BS203*Q119))+(Q90*MDR!$AZ$6/(MDR!BS204*Q119))+(Q91*MDR!$BA$6/(MDR!BS205*Q119))+(Q92*MDR!$BB$6/(MDR!BS206*Q119))+(Q93*MDR!$BC$6/(MDR!BS207*Q119))+(Q94*MDR!$BD$6/(MDR!BS208*Q119)))","v":{"$error":"#VALUE!"}},{"$f":"100/((S86/R86)+(S87/R87)+(S88/R88)+(S89/R89)+(S90/R90)+(S91/R91)+(S92/R92)+(S93/R93)+(S94/R94))","v":{"$error":"#VALUE!"}},{"$f":"100/((S86*MDR!$AV$6/(MDR!BU200*S119))+(S87*MDR!$AW$6/(MDR!BU201*S119))+(S88*MDR!$AX$6/(MDR!BU202*S119))+(S89*MDR!$AY$6/(MDR!BU203*S119))+(S90*MDR!$AZ$6/(MDR!BU204*S119))+(S91*MDR!$BA$6/(MDR!BU205*S119))+(S92*MDR!$BB$6/(MDR!BU206*S119))+(S93*MDR!$BC$6/(MDR!BU207*S119))+(S94*MDR!$BD$6/(MDR!BU208*S119)))","v":{"$error":"#VALUE!"}},{"$f":"100/((U86/T86)+(U87/T87)+(U88/T88)+(U89/T89)+(U90/T90)+(U91/T91)+(U92/T92)+(U93/T93)+(U94/T94))","v":{"$error":"#VALUE!"}},{"$f":"100/((U86*MDR!$AV$6/(MDR!BW200*U119))+(U87*MDR!$AW$6/(MDR!BW201*U119))+(U88*MDR!$AX$6/(MDR!BW202*U119))+(U89*MDR!$AY$6/(MDR!BW203*U119))+(U90*MDR!$AZ$6/(MDR!BW204*U119))+(U91*MDR!$BA$6/(MDR!BW205*U119))+(U92*MDR!$BB$6/(MDR!BW206*U119))+(U93*MDR!$BC$6/(MDR!BW207*U119))+(U94*MDR!$BD$6/(MDR!BW208*U119)))","v":{"$error":"#VALUE!"}},{"$f":"100/((W86/V86)+(W87/V87)+(W88/V88)+(W89/V89)+(W90/V90)+(W91/V91)+(W92/V92)+(W93/V93)+(W94/V94))","v":{"$error":"#VALUE!"}},{"$f":"100/((W86*MDR!$AV$6/(MDR!BY200*W119))+(W87*MDR!$AW$6/(MDR!BY201*W119))+(W88*MDR!$AX$6/(MDR!BY202*W119))+(W89*MDR!$AY$6/(MDR!BY203*W119))+(W90*MDR!$AZ$6/(MDR!BY204*W119))+(W91*MDR!$BA$6/(MDR!BY205*W119))+(W92*MDR!$BB$6/(MDR!BY206*W119))+(W93*MDR!$BC$6/(MDR!BY207*W119))+(W94*MDR!$BD$6/(MDR!BY208*W119)))","v":{"$error":"#VALUE!"}},null,null,null,null,{"$f":"100/((AC86/AB86)+(AC87/AB87)+(AC88/AB88)+(AC89/AB89)+(AC90/AB90)+(AC91/AB91)+(AC92/AB92)+(AC93/AB93)+(AC94/AB94))","v":{"$error":"#VALUE!"}},{"$f":"100/((AC86*MDR!$AV$6/(MDR!CE200*AC119))+(AC87*MDR!$AW$6/(MDR!CE201*AC119))+(AC88*MDR!$AX$6/(MDR!CE202*AC119))+(AC89*MDR!$AY$6/(MDR!CE203*AC119))+(AC90*MDR!$AZ$6/(MDR!CE204*AC119))+(AC91*MDR!$BA$6/(MDR!CE205*AC119))+(AC92*MDR!$BB$6/(MDR!CE206*AC119))+(AC93*MDR!$BC$6/(MDR!CE207*AC119))+(AC94*MDR!$BD$6/(MDR!CE208*AC119)))","v":{"$error":"#VALUE!"}},{"$f":"100/((AE86/AD86)+(AE87/AD87)+(AE88/AD88)+(AE89/AD89)+(AE90/AD90)+(AE91/AD91)+(AE92/AD92)+(AE93/AD93)+(AE94/AD94))","v":{"$error":"#VALUE!"}},{"$f":"100/((AE86*MDR!$AV$6/(MDR!CG200*AE119))+(AE87*MDR!$AW$6/(MDR!CG201*AE119))+(AE88*MDR!$AX$6/(MDR!CG202*AE119))+(AE89*MDR!$AY$6/(MDR!CG203*AE119))+(AE90*MDR!$AZ$6/(MDR!CG204*AE119))+(AE91*MDR!$BA$6/(MDR!CG205*AE119))+(AE92*MDR!$BB$6/(MDR!CG206*AE119))+(AE93*MDR!$BC$6/(MDR!CG207*AE119))+(AE94*MDR!$BD$6/(MDR!CG208*AE119)))","v":{"$error":"#VALUE!"}},{"$f":"100/((AG86/AF86)+(AG87/AF87)+(AG88/AF88)+(AG89/AF89)+(AG90/AF90)+(AG91/AF91)+(AG92/AF92)+(AG93/AF93)+(AG94/AF94))","v":{"$error":"#VALUE!"}},{"$f":"100/((AG86*MDR!$AV$6/(MDR!CI200*AG119))+(AG87*MDR!$AW$6/(MDR!CI201*AG119))+(AG88*MDR!$AX$6/(MDR!CI202*AG119))+(AG89*MDR!$AY$6/(MDR!CI203*AG119))+(AG90*MDR!$AZ$6/(MDR!CI204*AG119))+(AG91*MDR!$BA$6/(MDR!CI205*AG119))+(AG92*MDR!$BB$6/(MDR!CI206*AG119))+(AG93*MDR!$BC$6/(MDR!CI207*AG119))+(AG94*MDR!$BD$6/(MDR!CI208*AG119)))","v":{"$error":"#VALUE!"}},{"$f":"100/((AI86/AH86)+(AI87/AH87)+(AI88/AH88)+(AI89/AH89)+(AI90/AH90)+(AI91/AH91)+(AI92/AH92)+(AI93/AH93)+(AI94/AH94))","v":{"$error":"#VALUE!"}},{"$f":"100/((AI86*MDR!$AV$6/(MDR!CK200*AI119))+(AI87*MDR!$AW$6/(MDR!CK201*AI119))+(AI88*MDR!$AX$6/(MDR!CK202*AI119))+(AI89*MDR!$AY$6/(MDR!CK203*AI119))+(AI90*MDR!$AZ$6/(MDR!CK204*AI119))+(AI91*MDR!$BA$6/(MDR!CK205*AI119))+(AI92*MDR!$BB$6/(MDR!CK206*AI119))+(AI93*MDR!$BC$6/(MDR!CK207*AI119))+(AI94*MDR!$BD$6/(MDR!CK208*AI119)))","v":{"$error":"#VALUE!"}},null,null,null,null,{"$f":"100/((AO86/AN86)+(AO87/AN87)+(AO88/AN88)+(AO89/AN89)+(AO90/AN90)+(AO91/AN91)+(AO92/AN92)+(AO93/AN93)+(AO94/AN94))","v":{"$error":"#VALUE!"}},{"$f":"100/((AO86*MDR!$AV$6/(MDR!CQ200*AO119))+(AO87*MDR!$AW$6/(MDR!CQ201*AO119))+(AO88*MDR!$AX$6/(MDR!CQ202*AO119))+(AO89*MDR!$AY$6/(MDR!CQ203*AO119))+(AO90*MDR!$AZ$6/(MDR!CQ204*AO119))+(AO91*MDR!$BA$6/(MDR!CQ205*AO119))+(AO92*MDR!$BB$6/(MDR!CQ206*AO119))+(AO93*MDR!$BC$6/(MDR!CQ207*AO119))+(AO94*MDR!$BD$6/(MDR!CQ208*AO119)))","v":{"$error":"#VALUE!"}},{"$f":"100/((AQ86/AP86)+(AQ87/AP87)+(AQ88/AP88)+(AQ89/AP89)+(AQ90/AP90)+(AQ91/AP91)+(AQ92/AP92)+(AQ93/AP93)+(AQ94/AP94))","v":{"$error":"#VALUE!"}},{"$f":"100/((AQ86*MDR!$AV$6/(MDR!CS200*AQ119))+(AQ87*MDR!$AW$6/(MDR!CS201*AQ119))+(AQ88*MDR!$AX$6/(MDR!CS202*AQ119))+(AQ89*MDR!$AY$6/(MDR!CS203*AQ119))+(AQ90*MDR!$AZ$6/(MDR!CS204*AQ119))+(AQ91*MDR!$BA$6/(MDR!CS205*AQ119))+(AQ92*MDR!$BB$6/(MDR!CS206*AQ119))+(AQ93*MDR!$BC$6/(MDR!CS207*AQ119))+(AQ94*MDR!$BD$6/(MDR!CS208*AQ119)))","v":{"$error":"#VALUE!"}},{"$f":"100/((AS86/AR86)+(AS87/AR87)+(AS88/AR88)+(AS89/AR89)+(AS90/AR90)+(AS91/AR91)+(AS92/AR92)+(AS93/AR93)+(AS94/AR94))","v":{"$error":"#VALUE!"}},{"$f":"100/((AS86*MDR!$AV$6/(MDR!CU200*AS119))+(AS87*MDR!$AW$6/(MDR!CU201*AS119))+(AS88*MDR!$AX$6/(MDR!CU202*AS119))+(AS89*MDR!$AY$6/(MDR!CU203*AS119))+(AS90*MDR!$AZ$6/(MDR!CU204*AS119))+(AS91*MDR!$BA$6/(MDR!CU205*AS119))+(AS92*MDR!$BB$6/(MDR!CU206*AS119))+(AS93*MDR!$BC$6/(MDR!CU207*AS119))+(AS94*MDR!$BD$6/(MDR!CU208*AS119)))","v":{"$error":"#VALUE!"}},{"$f":"100/((AU86/AT86)+(AU87/AT87)+(AU88/AT88)+(AU89/AT89)+(AU90/AT90)+(AU91/AT91)+(AU92/AT92)+(AU93/AT93)+(AU94/AT94))","v":{"$error":"#VALUE!"}},{"$f":"100/((AU86*MDR!$AV$6/(MDR!CW200*AU119))+(AU87*MDR!$AW$6/(MDR!CW201*AU119))+(AU88*MDR!$AX$6/(MDR!CW202*AU119))+(AU89*MDR!$AY$6/(MDR!CW203*AU119))+(AU90*MDR!$AZ$6/(MDR!CW204*AU119))+(AU91*MDR!$BA$6/(MDR!CW205*AU119))+(AU92*MDR!$BB$6/(MDR!CW206*AU119))+(AU93*MDR!$BC$6/(MDR!CW207*AU119))+(AU94*MDR!$BD$6/(MDR!CW208*AU119)))","v":{"$error":"#VALUE!"}},null,null,null,null,{"$f":"100/((BA86/AZ86)+(BA87/AZ87)+(BA88/AZ88)+(BA89/AZ89)+(BA90/AZ90)+(BA91/AZ91)+(BA92/AZ92)+(BA93/AZ93)+(BA94/AZ94))","v":{"$error":"#VALUE!"}},{"$f":"100/((BA86*MDR!$AV$6/(MDR!DC200*BA119))+(BA87*MDR!$AW$6/(MDR!DC201*BA119))+(BA88*MDR!$AX$6/(MDR!DC202*BA119))+(BA89*MDR!$AY$6/(MDR!DC203*BA119))+(BA90*MDR!$AZ$6/(MDR!DC204*BA119))+(BA91*MDR!$BA$6/(MDR!DC205*BA119))+(BA92*MDR!$BB$6/(MDR!DC206*BA119))+(BA93*MDR!$BC$6/(MDR!DC207*BA119))+(BA94*MDR!$BD$6/(MDR!DC208*BA119)))","v":{"$error":"#VALUE!"}},{"$f":"100/((BC86/BB86)+(BC87/BB87)+(BC88/BB88)+(BC89/BB89)+(BC90/BB90)+(BC91/BB91)+(BC92/BB92)+(BC93/BB93)+(BC94/BB94))","v":{"$error":"#VALUE!"}},{"$f":"100/((BC86*MDR!$AV$6/(MDR!DE200*BC119))+(BC87*MDR!$AW$6/(MDR!DE201*BC119))+(BC88*MDR!$AX$6/(MDR!DE202*BC119))+(BC89*MDR!$AY$6/(MDR!DE203*BC119))+(BC90*MDR!$AZ$6/(MDR!DE204*BC119))+(BC91*MDR!$BA$6/(MDR!DE205*BC119))+(BC92*MDR!$BB$6/(MDR!DE206*BC119))+(BC93*MDR!$BC$6/(MDR!DE207*BC119))+(BC94*MDR!$BD$6/(MDR!DE208*BC119)))","v":{"$error":"#VALUE!"}},{"$f":"100/((BE86/BD86)+(BE87/BD87)+(BE88/BD88)+(BE89/BD89)+(BE90/BD90)+(BE91/BD91)+(BE92/BD92)+(BE93/BD93)+(BE94/BD94))","v":{"$error":"#VALUE!"}},{"$f":"100/((BE86*MDR!$AV$6/(MDR!DG200*BE119))+(BE87*MDR!$AW$6/(MDR!DG201*BE119))+(BE88*MDR!$AX$6/(MDR!DG202*BE119))+(BE89*MDR!$AY$6/(MDR!DG203*BE119))+(BE90*MDR!$AZ$6/(MDR!DG204*BE119))+(BE91*MDR!$BA$6/(MDR!DG205*BE119))+(BE92*MDR!$BB$6/(MDR!DG206*BE119))+(BE93*MDR!$BC$6/(MDR!DG207*BE119))+(BE94*MDR!$BD$6/(MDR!DG208*BE119)))","v":{"$error":"#VALUE!"}},{"$f":"100/((BG86/BF86)+(BG87/BF87)+(BG88/BF88)+(BG89/BF89)+(BG90/BF90)+(BG91/BF91)+(BG92/BF92)+(BG93/BF93)+(BG94/BF94))","v":{"$error":"#VALUE!"}},{"$f":"100/((BG86*MDR!$AV$6/(MDR!DI200*BG119))+(BG87*MDR!$AW$6/(MDR!DI201*BG119))+(BG88*MDR!$AX$6/(MDR!DI202*BG119))+(BG89*MDR!$AY$6/(MDR!DI203*BG119))+(BG90*MDR!$AZ$6/(MDR!DI204*BG119))+(BG91*MDR!$BA$6/(MDR!DI205*BG119))+(BG92*MDR!$BB$6/(MDR!DI206*BG119))+(BG93*MDR!$BC$6/(MDR!DI207*BG119))+(BG94*MDR!$BD$6/(MDR!DI208*BG119)))","v":{"$error":"#VALUE!"}},null,null,null,null,{"$f":"100/((BM86/BL86)+(BM87/BL87)+(BM88/BL88)+(BM89/BL89)+(BM90/BL90)+(BM91/BL91)+(BM92/BL92)+(BM93/BL93)+(BM94/BL94))","v":{"$error":"#VALUE!"}},{"$f":"100/((BM86*MDR!$AV$6/(MDR!DO200*BM119))+(BM87*MDR!$AW$6/(MDR!DO201*BM119))+(BM88*MDR!$AX$6/(MDR!DO202*BM119))+(BM89*MDR!$AY$6/(MDR!DO203*BM119))+(BM90*MDR!$AZ$6/(MDR!DO204*BM119))+(BM91*MDR!$BA$6/(MDR!DO205*BM119))+(BM92*MDR!$BB$6/(MDR!DO206*BM119))+(BM93*MDR!$BC$6/(MDR!DO207*BM119))+(BM94*MDR!$BD$6/(MDR!DO208*BM119)))","v":{"$error":"#VALUE!"}},{"$f":"100/((BO86/BN86)+(BO87/BN87)+(BO88/BN88)+(BO89/BN89)+(BO90/BN90)+(BO91/BN91)+(BO92/BN92)+(BO93/BN93)+(BO94/BN94))","v":{"$error":"#VALUE!"}},{"$f":"100/((BO86*MDR!$AV$6/(MDR!DQ200*BO119))+(BO87*MDR!$AW$6/(MDR!DQ201*BO119))+(BO88*MDR!$AX$6/(MDR!DQ202*BO119))+(BO89*MDR!$AY$6/(MDR!DQ203*BO119))+(BO90*MDR!$AZ$6/(MDR!DQ204*BO119))+(BO91*MDR!$BA$6/(MDR!DQ205*BO119))+(BO92*MDR!$BB$6/(MDR!DQ206*BO119))+(BO93*MDR!$BC$6/(MDR!DQ207*BO119))+(BO94*MDR!$BD$6/(MDR!DQ208*BO119)))","v":{"$error":"#VALUE!"}},{"$f":"100/((BQ86/BP86)+(BQ87/BP87)+(BQ88/BP88)+(BQ89/BP89)+(BQ90/BP90)+(BQ91/BP91)+(BQ92/BP92)+(BQ93/BP93)+(BQ94/BP94))","v":{"$error":"#VALUE!"}},{"$f":"100/((BQ86*MDR!$AV$6/(MDR!DS200*BQ119))+(BQ87*MDR!$AW$6/(MDR!DS201*BQ119))+(BQ88*MDR!$AX$6/(MDR!DS202*BQ119))+(BQ89*MDR!$AY$6/(MDR!DS203*BQ119))+(BQ90*MDR!$AZ$6/(MDR!DS204*BQ119))+(BQ91*MDR!$BA$6/(MDR!DS205*BQ119))+(BQ92*MDR!$BB$6/(MDR!DS206*BQ119))+(BQ93*MDR!$BC$6/(MDR!DS207*BQ119))+(BQ94*MDR!$BD$6/(MDR!DS208*BQ119)))","v":{"$error":"#VALUE!"}},{"$f":"100/((BS86/BR86)+(BS87/BR87)+(BS88/BR88)+(BS89/BR89)+(BS90/BR90)+(BS91/BR91)+(BS92/BR92)+(BS93/BR93)+(BS94/BR94))","v":{"$error":"#VALUE!"}},{"$f":"100/((BS86*MDR!$AV$6/(MDR!DU200*BS119))+(BS87*MDR!$AW$6/(MDR!DU201*BS119))+(BS88*MDR!$AX$6/(MDR!DU202*BS119))+(BS89*MDR!$AY$6/(MDR!DU203*BS119))+(BS90*MDR!$AZ$6/(MDR!DU204*BS119))+(BS91*MDR!$BA$6/(MDR!DU205*BS119))+(BS92*MDR!$BB$6/(MDR!DU206*BS119))+(BS93*MDR!$BC$6/(MDR!DU207*BS119))+(BS94*MDR!$BD$6/(MDR!DU208*BS119)))","v":{"$error":"#VALUE!"}},null,null,null,null,{"$f":"100/((BY86/BX86)+(BY87/BX87)+(BY88/BX88)+(BY89/BX89)+(BY90/BX90)+(BY91/BX91)+(BY92/BX92)+(BY93/BX93)+(BY94/BX94))","v":{"$error":"#VALUE!"}},{"$f":"100/((BY86*MDR!$AV$6/(MDR!EA200*BY119))+(BY87*MDR!$AW$6/(MDR!EA201*BY119))+(BY88*MDR!$AX$6/(MDR!EA202*BY119))+(BY89*MDR!$AY$6/(MDR!EA203*BY119))+(BY90*MDR!$AZ$6/(MDR!EA204*BY119))+(BY91*MDR!$BA$6/(MDR!EA205*BY119))+(BY92*MDR!$BB$6/(MDR!EA206*BY119))+(BY93*MDR!$BC$6/(MDR!EA207*BY119))+(BY94*MDR!$BD$6/(MDR!EA208*BY119)))","v":{"$error":"#VALUE!"}},{"$f":"100/((CA86/BZ86)+(CA87/BZ87)+(CA88/BZ88)+(CA89/BZ89)+(CA90/BZ90)+(CA91/BZ91)+(CA92/BZ92)+(CA93/BZ93)+(CA94/BZ94))","v":{"$error":"#VALUE!"}},{"$f":"100/((CA86*MDR!$AV$6/(MDR!EC200*CA119))+(CA87*MDR!$AW$6/(MDR!EC201*CA119))+(CA88*MDR!$AX$6/(MDR!EC202*CA119))+(CA89*MDR!$AY$6/(MDR!EC203*CA119))+(CA90*MDR!$AZ$6/(MDR!EC204*CA119))+(CA91*MDR!$BA$6/(MDR!EC205*CA119))+(CA92*MDR!$BB$6/(MDR!EC206*CA119))+(CA93*MDR!$BC$6/(MDR!EC207*CA119))+(CA94*MDR!$BD$6/(MDR!EC208*CA119)))","v":{"$error":"#VALUE!"}},{"$f":"100/((CC86/CB86)+(CC87/CB87)+(CC88/CB88)+(CC89/CB89)+(CC90/CB90)+(CC91/CB91)+(CC92/CB92)+(CC93/CB93)+(CC94/CB94))","v":{"$error":"#VALUE!"}},{"$f":"100/((CC86*MDR!$AV$6/(MDR!EE200*CC119))+(CC87*MDR!$AW$6/(MDR!EE201*CC119))+(CC88*MDR!$AX$6/(MDR!EE202*CC119))+(CC89*MDR!$AY$6/(MDR!EE203*CC119))+(CC90*MDR!$AZ$6/(MDR!EE204*CC119))+(CC91*MDR!$BA$6/(MDR!EE205*CC119))+(CC92*MDR!$BB$6/(MDR!EE206*CC119))+(CC93*MDR!$BC$6/(MDR!EE207*CC119))+(CC94*MDR!$BD$6/(MDR!EE208*CC119)))","v":{"$error":"#VALUE!"}},{"$f":"100/((CE86/CD86)+(CE87/CD87)+(CE88/CD88)+(CE89/CD89)+(CE90/CD90)+(CE91/CD91)+(CE92/CD92)+(CE93/CD93)+(CE94/CD94))","v":{"$error":"#VALUE!"}},{"$f":"100/((CE86*MDR!$AV$6/(MDR!EG200*CE119))+(CE87*MDR!$AW$6/(MDR!EG201*CE119))+(CE88*MDR!$AX$6/(MDR!EG202*CE119))+(CE89*MDR!$AY$6/(MDR!EG203*CE119))+(CE90*MDR!$AZ$6/(MDR!EG204*CE119))+(CE91*MDR!$BA$6/(MDR!EG205*CE119))+(CE92*MDR!$BB$6/(MDR!EG206*CE119))+(CE93*MDR!$BC$6/(MDR!EG207*CE119))+(CE94*MDR!$BD$6/(MDR!EG208*CE119)))","v":{"$error":"#VALUE!"}},null,null,null,null,{"$f":"100/((CK86/CJ86)+(CK87/CJ87)+(CK88/CJ88)+(CK89/CJ89)+(CK90/CJ90)+(CK91/CJ91)+(CK92/CJ92)+(CK93/CJ93)+(CK94/CJ94))","v":{"$error":"#VALUE!"}},{"$f":"100/((CK86*MDR!$AV$6/(MDR!EM200*CK119))+(CK87*MDR!$AW$6/(MDR!EM201*CK119))+(CK88*MDR!$AX$6/(MDR!EM202*CK119))+(CK89*MDR!$AY$6/(MDR!EM203*CK119))+(CK90*MDR!$AZ$6/(MDR!EM204*CK119))+(CK91*MDR!$BA$6/(MDR!EM205*CK119))+(CK92*MDR!$BB$6/(MDR!EM206*CK119))+(CK93*MDR!$BC$6/(MDR!EM207*CK119))+(CK94*MDR!$BD$6/(MDR!EM208*CK119)))","v":{"$error":"#VALUE!"}},{"$f":"100/((CM86/CL86)+(CM87/CL87)+(CM88/CL88)+(CM89/CL89)+(CM90/CL90)+(CM91/CL91)+(CM92/CL92)+(CM93/CL93)+(CM94/CL94))","v":{"$error":"#VALUE!"}},{"$f":"100/((CM86*MDR!$AV$6/(MDR!EO200*CM119))+(CM87*MDR!$AW$6/(MDR!EO201*CM119))+(CM88*MDR!$AX$6/(MDR!EO202*CM119))+(CM89*MDR!$AY$6/(MDR!EO203*CM119))+(CM90*MDR!$AZ$6/(MDR!EO204*CM119))+(CM91*MDR!$BA$6/(MDR!EO205*CM119))+(CM92*MDR!$BB$6/(MDR!EO206*CM119))+(CM93*MDR!$BC$6/(MDR!EO207*CM119))+(CM94*MDR!$BD$6/(MDR!EO208*CM119)))","v":{"$error":"#VALUE!"}},{"$f":"100/((CO86/CN86)+(CO87/CN87)+(CO88/CN88)+(CO89/CN89)+(CO90/CN90)+(CO91/CN91)+(CO92/CN92)+(CO93/CN93)+(CO94/CN94))","v":{"$error":"#VALUE!"}},{"$f":"100/((CO86*MDR!$AV$6/(MDR!EQ200*CO119))+(CO87*MDR!$AW$6/(MDR!EQ201*CO119))+(CO88*MDR!$AX$6/(MDR!EQ202*CO119))+(CO89*MDR!$AY$6/(MDR!EQ203*CO119))+(CO90*MDR!$AZ$6/(MDR!EQ204*CO119))+(CO91*MDR!$BA$6/(MDR!EQ205*CO119))+(CO92*MDR!$BB$6/(MDR!EQ206*CO119))+(CO93*MDR!$BC$6/(MDR!EQ207*CO119))+(CO94*MDR!$BD$6/(MDR!EQ208*CO119)))","v":{"$error":"#VALUE!"}},{"$f":"100/((CQ86/CP86)+(CQ87/CP87)+(CQ88/CP88)+(CQ89/CP89)+(CQ90/CP90)+(CQ91/CP91)+(CQ92/CP92)+(CQ93/CP93)+(CQ94/CP94))","v":{"$error":"#VALUE!"}},{"$f":"100/((CQ86*MDR!$AV$6/(MDR!ES200*CQ119))+(CQ87*MDR!$AW$6/(MDR!ES201*CQ119))+(CQ88*MDR!$AX$6/(MDR!ES202*CQ119))+(CQ89*MDR!$AY$6/(MDR!ES203*CQ119))+(CQ90*MDR!$AZ$6/(MDR!ES204*CQ119))+(CQ91*MDR!$BA$6/(MDR!ES205*CQ119))+(CQ92*MDR!$BB$6/(MDR!ES206*CQ119))+(CQ93*MDR!$BC$6/(MDR!ES207*CQ119))+(CQ94*MDR!$BD$6/(MDR!ES208*CQ119)))","v":{"$error":"#VALUE!"}},null,null,null,null,{"$f":"100/((CW86/CV86)+(CW87/CV87)+(CW88/CV88)+(CW89/CV89)+(CW90/CV90)+(CW91/CV91)+(CW92/CV92)+(CW93/CV93)+(CW94/CV94))","v":{"$error":"#VALUE!"}},{"$f":"100/((CW86*MDR!$AV$6/(MDR!EY200*CW119))+(CW87*MDR!$AW$6/(MDR!EY201*CW119))+(CW88*MDR!$AX$6/(MDR!EY202*CW119))+(CW89*MDR!$AY$6/(MDR!EY203*CW119))+(CW90*MDR!$AZ$6/(MDR!EY204*CW119))+(CW91*MDR!$BA$6/(MDR!EY205*CW119))+(CW92*MDR!$BB$6/(MDR!EY206*CW119))+(CW93*MDR!$BC$6/(MDR!EY207*CW119))+(CW94*MDR!$BD$6/(MDR!EY208*CW119)))","v":{"$error":"#VALUE!"}},{"$f":"100/((CY86/CX86)+(CY87/CX87)+(CY88/CX88)+(CY89/CX89)+(CY90/CX90)+(CY91/CX91)+(CY92/CX92)+(CY93/CX93)+(CY94/CX94))","v":{"$error":"#VALUE!"}},{"$f":"100/((CY86*MDR!$AV$6/(MDR!FA200*CY119))+(CY87*MDR!$AW$6/(MDR!FA201*CY119))+(CY88*MDR!$AX$6/(MDR!FA202*CY119))+(CY89*MDR!$AY$6/(MDR!FA203*CY119))+(CY90*MDR!$AZ$6/(MDR!FA204*CY119))+(CY91*MDR!$BA$6/(MDR!FA205*CY119))+(CY92*MDR!$BB$6/(MDR!FA206*CY119))+(CY93*MDR!$BC$6/(MDR!FA207*CY119))+(CY94*MDR!$BD$6/(MDR!FA208*CY119)))","v":{"$error":"#VALUE!"}},{"$f":"100/((DA86/CZ86)+(DA87/CZ87)+(DA88/CZ88)+(DA89/CZ89)+(DA90/CZ90)+(DA91/CZ91)+(DA92/CZ92)+(DA93/CZ93)+(DA94/CZ94))","v":{"$error":"#VALUE!"}},{"$f":"100/((DA86*MDR!$AV$6/(MDR!FC200*DA119))+(DA87*MDR!$AW$6/(MDR!FC201*DA119))+(DA88*MDR!$AX$6/(MDR!FC202*DA119))+(DA89*MDR!$AY$6/(MDR!FC203*DA119))+(DA90*MDR!$AZ$6/(MDR!FC204*DA119))+(DA91*MDR!$BA$6/(MDR!FC205*DA119))+(DA92*MDR!$BB$6/(MDR!FC206*DA119))+(DA93*MDR!$BC$6/(MDR!FC207*DA119))+(DA94*MDR!$BD$6/(MDR!FC208*DA119)))","v":{"$error":"#VALUE!"}},{"$f":"100/((DC86/DB86)+(DC87/DB87)+(DC88/DB88)+(DC89/DB89)+(DC90/DB90)+(DC91/DB91)+(DC92/DB92)+(DC93/DB93)+(DC94/DB94))","v":{"$error":"#VALUE!"}},{"$f":"100/((DC86*MDR!$AV$6/(MDR!FE200*DC119))+(DC87*MDR!$AW$6/(MDR!FE201*DC119))+(DC88*MDR!$AX$6/(MDR!FE202*DC119))+(DC89*MDR!$AY$6/(MDR!FE203*DC119))+(DC90*MDR!$AZ$6/(MDR!FE204*DC119))+(DC91*MDR!$BA$6/(MDR!FE205*DC119))+(DC92*MDR!$BB$6/(MDR!FE206*DC119))+(DC93*MDR!$BC$6/(MDR!FE207*DC119))+(DC94*MDR!$BD$6/(MDR!FE208*DC119)))","v":{"$error":"#VALUE!"}},null,null,null,null,{"$f":"100/((DI86/DH86)+(DI87/DH87)+(DI88/DH88)+(DI89/DH89)+(DI90/DH90)+(DI91/DH91)+(DI92/DH92)+(DI93/DH93)+(DI94/DH94))","v":{"$error":"#VALUE!"}},{"$f":"100/((DI86*MDR!$AV$6/(MDR!FK200*DI119))+(DI87*MDR!$AW$6/(MDR!FK201*DI119))+(DI88*MDR!$AX$6/(MDR!FK202*DI119))+(DI89*MDR!$AY$6/(MDR!FK203*DI119))+(DI90*MDR!$AZ$6/(MDR!FK204*DI119))+(DI91*MDR!$BA$6/(MDR!FK205*DI119))+(DI92*MDR!$BB$6/(MDR!FK206*DI119))+(DI93*MDR!$BC$6/(MDR!FK207*DI119))+(DI94*MDR!$BD$6/(MDR!FK208*DI119)))","v":{"$error":"#VALUE!"}},{"$f":"100/((DK86/DJ86)+(DK87/DJ87)+(DK88/DJ88)+(DK89/DJ89)+(DK90/DJ90)+(DK91/DJ91)+(DK92/DJ92)+(DK93/DJ93)+(DK94/DJ94))","v":{"$error":"#VALUE!"}},{"$f":"100/((DK86*MDR!$AV$6/(MDR!FM200*DK119))+(DK87*MDR!$AW$6/(MDR!FM201*DK119))+(DK88*MDR!$AX$6/(MDR!FM202*DK119))+(DK89*MDR!$AY$6/(MDR!FM203*DK119))+(DK90*MDR!$AZ$6/(MDR!FM204*DK119))+(DK91*MDR!$BA$6/(MDR!FM205*DK119))+(DK92*MDR!$BB$6/(MDR!FM206*DK119))+(DK93*MDR!$BC$6/(MDR!FM207*DK119))+(DK94*MDR!$BD$6/(MDR!FM208*DK119)))","v":{"$error":"#VALUE!"}},{"$f":"100/((DM86/DL86)+(DM87/DL87)+(DM88/DL88)+(DM89/DL89)+(DM90/DL90)+(DM91/DL91)+(DM92/DL92)+(DM93/DL93)+(DM94/DL94))","v":{"$error":"#VALUE!"}},{"$f":"100/((DM86*MDR!$AV$6/(MDR!FO200*DM119))+(DM87*MDR!$AW$6/(MDR!FO201*DM119))+(DM88*MDR!$AX$6/(MDR!FO202*DM119))+(DM89*MDR!$AY$6/(MDR!FO203*DM119))+(DM90*MDR!$AZ$6/(MDR!FO204*DM119))+(DM91*MDR!$BA$6/(MDR!FO205*DM119))+(DM92*MDR!$BB$6/(MDR!FO206*DM119))+(DM93*MDR!$BC$6/(MDR!FO207*DM119))+(DM94*MDR!$BD$6/(MDR!FO208*DM119)))","v":{"$error":"#VALUE!"}},{"$f":"100/((DO86/DN86)+(DO87/DN87)+(DO88/DN88)+(DO89/DN89)+(DO90/DN90)+(DO91/DN91)+(DO92/DN92)+(DO93/DN93)+(DO94/DN94))","v":{"$error":"#VALUE!"}},{"$f":"100/((DO86*MDR!$AV$6/(MDR!FQ200*DO119))+(DO87*MDR!$AW$6/(MDR!FQ201*DO119))+(DO88*MDR!$AX$6/(MDR!FQ202*DO119))+(DO89*MDR!$AY$6/(MDR!FQ203*DO119))+(DO90*MDR!$AZ$6/(MDR!FQ204*DO119))+(DO91*MDR!$BA$6/(MDR!FQ205*DO119))+(DO92*MDR!$BB$6/(MDR!FQ206*DO119))+(DO93*MDR!$BC$6/(MDR!FQ207*DO119))+(DO94*MDR!$BD$6/(MDR!FQ208*DO119)))","v":{"$error":"#VALUE!"}},null,null,null,null,{"$f":"100/((DU86/DT86)+(DU87/DT87)+(DU88/DT88)+(DU89/DT89)+(DU90/DT90)+(DU91/DT91)+(DU92/DT92)+(DU93/DT93)+(DU94/DT94))","v":{"$error":"#VALUE!"}},{"$f":"100/((DU86*MDR!$AV$6/(MDR!FW200*DU119))+(DU87*MDR!$AW$6/(MDR!FW201*DU119))+(DU88*MDR!$AX$6/(MDR!FW202*DU119))+(DU89*MDR!$AY$6/(MDR!FW203*DU119))+(DU90*MDR!$AZ$6/(MDR!FW204*DU119))+(DU91*MDR!$BA$6/(MDR!FW205*DU119))+(DU92*MDR!$BB$6/(MDR!FW206*DU119))+(DU93*MDR!$BC$6/(MDR!FW207*DU119))+(DU94*MDR!$BD$6/(MDR!FW208*DU119)))","v":{"$error":"#VALUE!"}},{"$f":"100/((DW86/DV86)+(DW87/DV87)+(DW88/DV88)+(DW89/DV89)+(DW90/DV90)+(DW91/DV91)+(DW92/DV92)+(DW93/DV93)+(DW94/DV94))","v":{"$error":"#VALUE!"}},{"$f":"100/((DW86*MDR!$AV$6/(MDR!FY200*DW119))+(DW87*MDR!$AW$6/(MDR!FY201*DW119))+(DW88*MDR!$AX$6/(MDR!FY202*DW119))+(DW89*MDR!$AY$6/(MDR!FY203*DW119))+(DW90*MDR!$AZ$6/(MDR!FY204*DW119))+(DW91*MDR!$BA$6/(MDR!FY205*DW119))+(DW92*MDR!$BB$6/(MDR!FY206*DW119))+(DW93*MDR!$BC$6/(MDR!FY207*DW119))+(DW94*MDR!$BD$6/(MDR!FY208*DW119)))","v":{"$error":"#VALUE!"}},{"$f":"100/((DY86/DX86)+(DY87/DX87)+(DY88/DX88)+(DY89/DX89)+(DY90/DX90)+(DY91/DX91)+(DY92/DX92)+(DY93/DX93)+(DY94/DX94))","v":{"$error":"#VALUE!"}},{"$f":"100/((DY86*MDR!$AV$6/(MDR!GA200*DY119))+(DY87*MDR!$AW$6/(MDR!GA201*DY119))+(DY88*MDR!$AX$6/(MDR!GA202*DY119))+(DY89*MDR!$AY$6/(MDR!GA203*DY119))+(DY90*MDR!$AZ$6/(MDR!GA204*DY119))+(DY91*MDR!$BA$6/(MDR!GA205*DY119))+(DY92*MDR!$BB$6/(MDR!GA206*DY119))+(DY93*MDR!$BC$6/(MDR!GA207*DY119))+(DY94*MDR!$BD$6/(MDR!GA208*DY119)))","v":{"$error":"#VALUE!"}},{"$f":"100/((EA86/DZ86)+(EA87/DZ87)+(EA88/DZ88)+(EA89/DZ89)+(EA90/DZ90)+(EA91/DZ91)+(EA92/DZ92)+(EA93/DZ93)+(EA94/DZ94))","v":{"$error":"#VALUE!"}},{"$f":"100/((EA86*MDR!$AV$6/(MDR!GC200*EA119))+(EA87*MDR!$AW$6/(MDR!GC201*EA119))+(EA88*MDR!$AX$6/(MDR!GC202*EA119))+(EA89*MDR!$AY$6/(MDR!GC203*EA119))+(EA90*MDR!$AZ$6/(MDR!GC204*EA119))+(EA91*MDR!$BA$6/(MDR!GC205*EA119))+(EA92*MDR!$BB$6/(MDR!GC206*EA119))+(EA93*MDR!$BC$6/(MDR!GC207*EA119))+(EA94*MDR!$BD$6/(MDR!GC208*EA119)))","v":{"$error":"#VALUE!"}},null,null,null,null,{"$f":"100/((EG86/EF86)+(EG87/EF87)+(EG88/EF88)+(EG89/EF89)+(EG90/EF90)+(EG91/EF91)+(EG92/EF92)+(EG93/EF93)+(EG94/EF94))","v":{"$error":"#VALUE!"}},{"$f":"100/((EG86*MDR!$AV$6/(MDR!BG220*EG119))+(EG87*MDR!$AW$6/(MDR!BG221*EG119))+(EG88*MDR!$AX$6/(MDR!BG222*EG119))+(EG89*MDR!$AY$6/(MDR!BG223*EG119))+(EG90*MDR!$AZ$6/(MDR!BG224*EG119))+(EG91*MDR!$BA$6/(MDR!BG225*EG119))+(EG92*MDR!$BB$6/(MDR!BG226*EG119))+(EG93*MDR!$BC$6/(MDR!BG227*EG119))+(EG94*MDR!$BD$6/(MDR!BG228*EG119)))","v":{"$error":"#VALUE!"}},{"$f":"100/((EI86/EH86)+(EI87/EH87)+(EI88/EH88)+(EI89/EH89)+(EI90/EH90)+(EI91/EH91)+(EI92/EH92)+(EI93/EH93)+(EI94/EH94))","v":{"$error":"#VALUE!"}},{"$f":"100/((EI86*MDR!$AV$6/(MDR!BI220*EI119))+(EI87*MDR!$AW$6/(MDR!BI221*EI119))+(EI88*MDR!$AX$6/(MDR!BI222*EI119))+(EI89*MDR!$AY$6/(MDR!BI223*EI119))+(EI90*MDR!$AZ$6/(MDR!BI224*EI119))+(EI91*MDR!$BA$6/(MDR!BI225*EI119))+(EI92*MDR!$BB$6/(MDR!BI226*EI119))+(EI93*MDR!$BC$6/(MDR!BI227*EI119))+(EI94*MDR!$BD$6/(MDR!BI228*EI119)))","v":{"$error":"#VALUE!"}},{"$f":"100/((EK86/EJ86)+(EK87/EJ87)+(EK88/EJ88)+(EK89/EJ89)+(EK90/EJ90)+(EK91/EJ91)+(EK92/EJ92)+(EK93/EJ93)+(EK94/EJ94))","v":{"$error":"#VALUE!"}},{"$f":"100/((EK86*MDR!$AV$6/(MDR!BK220*EK119))+(EK87*MDR!$AW$6/(MDR!BK221*EK119))+(EK88*MDR!$AX$6/(MDR!BK222*EK119))+(EK89*MDR!$AY$6/(MDR!BK223*EK119))+(EK90*MDR!$AZ$6/(MDR!BK224*EK119))+(EK91*MDR!$BA$6/(MDR!BK225*EK119))+(EK92*MDR!$BB$6/(MDR!BK226*EK119))+(EK93*MDR!$BC$6/(MDR!BK227*EK119))+(EK94*MDR!$BD$6/(MDR!BK228*EK119)))","v":{"$error":"#VALUE!"}},{"$f":"100/((EM86/EL86)+(EM87/EL87)+(EM88/EL88)+(EM89/EL89)+(EM90/EL90)+(EM91/EL91)+(EM92/EL92)+(EM93/EL93)+(EM94/EL94))","v":{"$error":"#VALUE!"}},{"$f":"100/((EM86*MDR!$AV$6/(MDR!BM220*EM119))+(EM87*MDR!$AW$6/(MDR!BM221*EM119))+(EM88*MDR!$AX$6/(MDR!BM222*EM119))+(EM89*MDR!$AY$6/(MDR!BM223*EM119))+(EM90*MDR!$AZ$6/(MDR!BM224*EM119))+(EM91*MDR!$BA$6/(MDR!BM225*EM119))+(EM92*MDR!$BB$6/(MDR!BM226*EM119))+(EM93*MDR!$BC$6/(MDR!BM227*EM119))+(EM94*MDR!$BD$6/(MDR!BM228*EM119)))","v":{"$error":"#VALUE!"}},null,null,null,null,{"$f":"100/((ES86/ER86)+(ES87/ER87)+(ES88/ER88)+(ES89/ER89)+(ES90/ER90)+(ES91/ER91)+(ES92/ER92)+(ES93/ER93)+(ES94/ER94))","v":{"$error":"#VALUE!"}},{"$f":"100/((ES86*MDR!$AV$6/(MDR!BS220*ES119))+(ES87*MDR!$AW$6/(MDR!BS221*ES119))+(ES88*MDR!$AX$6/(MDR!BS222*ES119))+(ES89*MDR!$AY$6/(MDR!BS223*ES119))+(ES90*MDR!$AZ$6/(MDR!BS224*ES119))+(ES91*MDR!$BA$6/(MDR!BS225*ES119))+(ES92*MDR!$BB$6/(MDR!BS226*ES119))+(ES93*MDR!$BC$6/(MDR!BS227*ES119))+(ES94*MDR!$BD$6/(MDR!BS228*ES119)))","v":{"$error":"#VALUE!"}},{"$f":"100/((EU86/ET86)+(EU87/ET87)+(EU88/ET88)+(EU89/ET89)+(EU90/ET90)+(EU91/ET91)+(EU92/ET92)+(EU93/ET93)+(EU94/ET94))","v":{"$error":"#VALUE!"}},{"$f":"100/((EU86*MDR!$AV$6/(MDR!BU220*EU119))+(EU87*MDR!$AW$6/(MDR!BU221*EU119))+(EU88*MDR!$AX$6/(MDR!BU222*EU119))+(EU89*MDR!$AY$6/(MDR!BU223*EU119))+(EU90*MDR!$AZ$6/(MDR!BU224*EU119))+(EU91*MDR!$BA$6/(MDR!BU225*EU119))+(EU92*MDR!$BB$6/(MDR!BU226*EU119))+(EU93*MDR!$BC$6/(MDR!BU227*EU119))+(EU94*MDR!$BD$6/(MDR!BU228*EU119)))","v":{"$error":"#VALUE!"}},{"$f":"100/((EW86/EV86)+(EW87/EV87)+(EW88/EV88)+(EW89/EV89)+(EW90/EV90)+(EW91/EV91)+(EW92/EV92)+(EW93/EV93)+(EW94/EV94))","v":{"$error":"#VALUE!"}},{"$f":"100/((EW86*MDR!$AV$6/(MDR!BW220*EW119))+(EW87*MDR!$AW$6/(MDR!BW221*EW119))+(EW88*MDR!$AX$6/(MDR!BW222*EW119))+(EW89*MDR!$AY$6/(MDR!BW223*EW119))+(EW90*MDR!$AZ$6/(MDR!BW224*EW119))+(EW91*MDR!$BA$6/(MDR!BW225*EW119))+(EW92*MDR!$BB$6/(MDR!BW226*EW119))+(EW93*MDR!$BC$6/(MDR!BW227*EW119))+(EW94*MDR!$BD$6/(MDR!BW228*EW119)))","v":{"$error":"#VALUE!"}},{"$f":"100/((EY86/EX86)+(EY87/EX87)+(EY88/EX88)+(EY89/EX89)+(EY90/EX90)+(EY91/EX91)+(EY92/EX92)+(EY93/EX93)+(EY94/EX94))","v":{"$error":"#VALUE!"}},{"$f":"100/((EY86*MDR!$AV$6/(MDR!BY220*EY119))+(EY87*MDR!$AW$6/(MDR!BY221*EY119))+(EY88*MDR!$AX$6/(MDR!BY222*EY119))+(EY89*MDR!$AY$6/(MDR!BY223*EY119))+(EY90*MDR!$AZ$6/(MDR!BY224*EY119))+(EY91*MDR!$BA$6/(MDR!BY225*EY119))+(EY92*MDR!$BB$6/(MDR!BY226*EY119))+(EY93*MDR!$BC$6/(MDR!BY227*EY119))+(EY94*MDR!$BD$6/(MDR!BY228*EY119)))","v":{"$error":"#VALUE!"}},null,null,null,null,{"$f":"100/((FE86/FD86)+(FE87/FD87)+(FE88/FD88)+(FE89/FD89)+(FE90/FD90)+(FE91/FD91)+(FE92/FD92)+(FE93/FD93)+(FE94/FD94))","v":{"$error":"#VALUE!"}},{"$f":"100/((FE86*MDR!$AV$6/(MDR!CE220*FE119))+(FE87*MDR!$AW$6/(MDR!CE221*FE119))+(FE88*MDR!$AX$6/(MDR!CE222*FE119))+(FE89*MDR!$AY$6/(MDR!CE223*FE119))+(FE90*MDR!$AZ$6/(MDR!CE224*FE119))+(FE91*MDR!$BA$6/(MDR!CE225*FE119))+(FE92*MDR!$BB$6/(MDR!CE226*FE119))+(FE93*MDR!$BC$6/(MDR!CE227*FE119))+(FE94*MDR!$BD$6/(MDR!CE228*FE119)))","v":{"$error":"#VALUE!"}},{"$f":"100/((FG86/FF86)+(FG87/FF87)+(FG88/FF88)+(FG89/FF89)+(FG90/FF90)+(FG91/FF91)+(FG92/FF92)+(FG93/FF93)+(FG94/FF94))","v":{"$error":"#VALUE!"}},{"$f":"100/((FG86*MDR!$AV$6/(MDR!CG220*FG119))+(FG87*MDR!$AW$6/(MDR!CG221*FG119))+(FG88*MDR!$AX$6/(MDR!CG222*FG119))+(FG89*MDR!$AY$6/(MDR!CG223*FG119))+(FG90*MDR!$AZ$6/(MDR!CG224*FG119))+(FG91*MDR!$BA$6/(MDR!CG225*FG119))+(FG92*MDR!$BB$6/(MDR!CG226*FG119))+(FG93*MDR!$BC$6/(MDR!CG227*FG119))+(FG94*MDR!$BD$6/(MDR!CG228*FG119)))","v":{"$error":"#VALUE!"}},{"$f":"100/((FI86/FH86)+(FI87/FH87)+(FI88/FH88)+(FI89/FH89)+(FI90/FH90)+(FI91/FH91)+(FI92/FH92)+(FI93/FH93)+(FI94/FH94))","v":{"$error":"#VALUE!"}},{"$f":"100/((FI86*MDR!$AV$6/(MDR!CI220*FI119))+(FI87*MDR!$AW$6/(MDR!CI221*FI119))+(FI88*MDR!$AX$6/(MDR!CI222*FI119))+(FI89*MDR!$AY$6/(MDR!CI223*FI119))+(FI90*MDR!$AZ$6/(MDR!CI224*FI119))+(FI91*MDR!$BA$6/(MDR!CI225*FI119))+(FI92*MDR!$BB$6/(MDR!CI226*FI119))+(FI93*MDR!$BC$6/(MDR!CI227*FI119))+(FI94*MDR!$BD$6/(MDR!CI228*FI119)))","v":{"$error":"#VALUE!"}},{"$f":"100/((FK86/FJ86)+(FK87/FJ87)+(FK88/FJ88)+(FK89/FJ89)+(FK90/FJ90)+(FK91/FJ91)+(FK92/FJ92)+(FK93/FJ93)+(FK94/FJ94))","v":{"$error":"#VALUE!"}},{"$f":"100/((FK86*MDR!$AV$6/(MDR!CK220*FK119))+(FK87*MDR!$AW$6/(MDR!CK221*FK119))+(FK88*MDR!$AX$6/(MDR!CK222*FK119))+(FK89*MDR!$AY$6/(MDR!CK223*FK119))+(FK90*MDR!$AZ$6/(MDR!CK224*FK119))+(FK91*MDR!$BA$6/(MDR!CK225*FK119))+(FK92*MDR!$BB$6/(MDR!CK226*FK119))+(FK93*MDR!$BC$6/(MDR!CK227*FK119))+(FK94*MDR!$BD$6/(MDR!CK228*FK119)))","v":{"$error":"#VALUE!"}},null,null,null,null,{"$f":"100/((FQ86/FP86)+(FQ87/FP87)+(FQ88/FP88)+(FQ89/FP89)+(FQ90/FP90)+(FQ91/FP91)+(FQ92/FP92)+(FQ93/FP93)+(FQ94/FP94))","v":{"$error":"#VALUE!"}},{"$f":"100/((FQ86*MDR!$AV$6/(MDR!CQ220*FQ119))+(FQ87*MDR!$AW$6/(MDR!CQ221*FQ119))+(FQ88*MDR!$AX$6/(MDR!CQ222*FQ119))+(FQ89*MDR!$AY$6/(MDR!CQ223*FQ119))+(FQ90*MDR!$AZ$6/(MDR!CQ224*FQ119))+(FQ91*MDR!$BA$6/(MDR!CQ225*FQ119))+(FQ92*MDR!$BB$6/(MDR!CQ226*FQ119))+(FQ93*MDR!$BC$6/(MDR!CQ227*FQ119))+(FQ94*MDR!$BD$6/(MDR!CQ228*FQ119)))","v":{"$error":"#VALUE!"}},{"$f":"100/((FS86/FR86)+(FS87/FR87)+(FS88/FR88)+(FS89/FR89)+(FS90/FR90)+(FS91/FR91)+(FS92/FR92)+(FS93/FR93)+(FS94/FR94))","v":{"$error":"#VALUE!"}},{"$f":"100/((FS86*MDR!$AV$6/(MDR!CS220*FS119))+(FS87*MDR!$AW$6/(MDR!CS221*FS119))+(FS88*MDR!$AX$6/(MDR!CS222*FS119))+(FS89*MDR!$AY$6/(MDR!CS223*FS119))+(FS90*MDR!$AZ$6/(MDR!CS224*FS119))+(FS91*MDR!$BA$6/(MDR!CS225*FS119))+(FS92*MDR!$BB$6/(MDR!CS226*FS119))+(FS93*MDR!$BC$6/(MDR!CS227*FS119))+(FS94*MDR!$BD$6/(MDR!CS228*FS119)))","v":{"$error":"#VALUE!"}},{"$f":"100/((FU86/FT86)+(FU87/FT87)+(FU88/FT88)+(FU89/FT89)+(FU90/FT90)+(FU91/FT91)+(FU92/FT92)+(FU93/FT93)+(FU94/FT94))","v":{"$error":"#VALUE!"}},{"$f":"100/((FU86*MDR!$AV$6/(MDR!CU220*FU119))+(FU87*MDR!$AW$6/(MDR!CU221*FU119))+(FU88*MDR!$AX$6/(MDR!CU222*FU119))+(FU89*MDR!$AY$6/(MDR!CU223*FU119))+(FU90*MDR!$AZ$6/(MDR!CU224*FU119))+(FU91*MDR!$BA$6/(MDR!CU225*FU119))+(FU92*MDR!$BB$6/(MDR!CU226*FU119))+(FU93*MDR!$BC$6/(MDR!CU227*FU119))+(FU94*MDR!$BD$6/(MDR!CU228*FU119)))","v":{"$error":"#VALUE!"}},{"$f":"100/((FW86/FV86)+(FW87/FV87)+(FW88/FV88)+(FW89/FV89)+(FW90/FV90)+(FW91/FV91)+(FW92/FV92)+(FW93/FV93)+(FW94/FV94))","v":{"$error":"#VALUE!"}},{"$f":"100/((FW86*MDR!$AV$6/(MDR!CW220*FW119))+(FW87*MDR!$AW$6/(MDR!CW221*FW119))+(FW88*MDR!$AX$6/(MDR!CW222*FW119))+(FW89*MDR!$AY$6/(MDR!CW223*FW119))+(FW90*MDR!$AZ$6/(MDR!CW224*FW119))+(FW91*MDR!$BA$6/(MDR!CW225*FW119))+(FW92*MDR!$BB$6/(MDR!CW226*FW119))+(FW93*MDR!$BC$6/(MDR!CW227*FW119))+(FW94*MDR!$BD$6/(MDR!CW228*FW119)))","v":{"$error":"#VALUE!"}},null,null,null,null,{"$f":"100/((GC86/GB86)+(GC87/GB87)+(GC88/GB88)+(GC89/GB89)+(GC90/GB90)+(GC91/GB91)+(GC92/GB92)+(GC93/GB93)+(GC94/GB94))","v":{"$error":"#VALUE!"}},{"$f":"100/((GC86*MDR!$AV$6/(MDR!DC220*GC119))+(GC87*MDR!$AW$6/(MDR!DC221*GC119))+(GC88*MDR!$AX$6/(MDR!DC222*GC119))+(GC89*MDR!$AY$6/(MDR!DC223*GC119))+(GC90*MDR!$AZ$6/(MDR!DC224*GC119))+(GC91*MDR!$BA$6/(MDR!DC225*GC119))+(GC92*MDR!$BB$6/(MDR!DC226*GC119))+(GC93*MDR!$BC$6/(MDR!DC227*GC119))+(GC94*MDR!$BD$6/(MDR!DC228*GC119)))","v":{"$error":"#VALUE!"}},{"$f":"100/((GE86/GD86)+(GE87/GD87)+(GE88/GD88)+(GE89/GD89)+(GE90/GD90)+(GE91/GD91)+(GE92/GD92)+(GE93/GD93)+(GE94/GD94))","v":{"$error":"#VALUE!"}},{"$f":"100/((GE86*MDR!$AV$6/(MDR!DE220*GE119))+(GE87*MDR!$AW$6/(MDR!DE221*GE119))+(GE88*MDR!$AX$6/(MDR!DE222*GE119))+(GE89*MDR!$AY$6/(MDR!DE223*GE119))+(GE90*MDR!$AZ$6/(MDR!DE224*GE119))+(GE91*MDR!$BA$6/(MDR!DE225*GE119))+(GE92*MDR!$BB$6/(MDR!DE226*GE119))+(GE93*MDR!$BC$6/(MDR!DE227*GE119))+(GE94*MDR!$BD$6/(MDR!DE228*GE119)))","v":{"$error":"#VALUE!"}},{"$f":"100/((GG86/GF86)+(GG87/GF87)+(GG88/GF88)+(GG89/GF89)+(GG90/GF90)+(GG91/GF91)+(GG92/GF92)+(GG93/GF93)+(GG94/GF94))","v":{"$error":"#VALUE!"}},{"$f":"100/((GG86*MDR!$AV$6/(MDR!DG220*GG119))+(GG87*MDR!$AW$6/(MDR!DG221*GG119))+(GG88*MDR!$AX$6/(MDR!DG222*GG119))+(GG89*MDR!$AY$6/(MDR!DG223*GG119))+(GG90*MDR!$AZ$6/(MDR!DG224*GG119))+(GG91*MDR!$BA$6/(MDR!DG225*GG119))+(GG92*MDR!$BB$6/(MDR!DG226*GG119))+(GG93*MDR!$BC$6/(MDR!DG227*GG119))+(GG94*MDR!$BD$6/(MDR!DG228*GG119)))","v":{"$error":"#VALUE!"}},{"$f":"100/((GI86/GH86)+(GI87/GH87)+(GI88/GH88)+(GI89/GH89)+(GI90/GH90)+(GI91/GH91)+(GI92/GH92)+(GI93/GH93)+(GI94/GH94))","v":{"$error":"#VALUE!"}},{"$f":"100/((GI86*MDR!$AV$6/(MDR!DI220*GI119))+(GI87*MDR!$AW$6/(MDR!DI221*GI119))+(GI88*MDR!$AX$6/(MDR!DI222*GI119))+(GI89*MDR!$AY$6/(MDR!DI223*GI119))+(GI90*MDR!$AZ$6/(MDR!DI224*GI119))+(GI91*MDR!$BA$6/(MDR!DI225*GI119))+(GI92*MDR!$BB$6/(MDR!DI226*GI119))+(GI93*MDR!$BC$6/(MDR!DI227*GI119))+(GI94*MDR!$BD$6/(MDR!DI228*GI119)))","v":{"$error":"#VALUE!"}},null,null,null,null,{"$f":"100/((GO86/GN86)+(GO87/GN87)+(GO88/GN88)+(GO89/GN89)+(GO90/GN90)+(GO91/GN91)+(GO92/GN92)+(GO93/GN93)+(GO94/GN94))","v":{"$error":"#VALUE!"}},{"$f":"100/((GO86*MDR!$AV$6/(MDR!DO220*GO119))+(GO87*MDR!$AW$6/(MDR!DO221*GO119))+(GO88*MDR!$AX$6/(MDR!DO222*GO119))+(GO89*MDR!$AY$6/(MDR!DO223*GO119))+(GO90*MDR!$AZ$6/(MDR!DO224*GO119))+(GO91*MDR!$BA$6/(MDR!DO225*GO119))+(GO92*MDR!$BB$6/(MDR!DO226*GO119))+(GO93*MDR!$BC$6/(MDR!DO227*GO119))+(GO94*MDR!$BD$6/(MDR!DO228*GO119)))","v":{"$error":"#VALUE!"}},{"$f":"100/((GQ86/GP86)+(GQ87/GP87)+(GQ88/GP88)+(GQ89/GP89)+(GQ90/GP90)+(GQ91/GP91)+(GQ92/GP92)+(GQ93/GP93)+(GQ94/GP94))","v":{"$error":"#VALUE!"}},{"$f":"100/((GQ86*MDR!$AV$6/(MDR!DQ220*GQ119))+(GQ87*MDR!$AW$6/(MDR!DQ221*GQ119))+(GQ88*MDR!$AX$6/(MDR!DQ222*GQ119))+(GQ89*MDR!$AY$6/(MDR!DQ223*GQ119))+(GQ90*MDR!$AZ$6/(MDR!DQ224*GQ119))+(GQ91*MDR!$BA$6/(MDR!DQ225*GQ119))+(GQ92*MDR!$BB$6/(MDR!DQ226*GQ119))+(GQ93*MDR!$BC$6/(MDR!DQ227*GQ119))+(GQ94*MDR!$BD$6/(MDR!DQ228*GQ119)))","v":{"$error":"#VALUE!"}},{"$f":"100/((GS86/GR86)+(GS87/GR87)+(GS88/GR88)+(GS89/GR89)+(GS90/GR90)+(GS91/GR91)+(GS92/GR92)+(GS93/GR93)+(GS94/GR94))","v":{"$error":"#VALUE!"}},{"$f":"100/((GS86*MDR!$AV$6/(MDR!DS220*GS119))+(GS87*MDR!$AW$6/(MDR!DS221*GS119))+(GS88*MDR!$AX$6/(MDR!DS222*GS119))+(GS89*MDR!$AY$6/(MDR!DS223*GS119))+(GS90*MDR!$AZ$6/(MDR!DS224*GS119))+(GS91*MDR!$BA$6/(MDR!DS225*GS119))+(GS92*MDR!$BB$6/(MDR!DS226*GS119))+(GS93*MDR!$BC$6/(MDR!DS227*GS119))+(GS94*MDR!$BD$6/(MDR!DS228*GS119)))","v":{"$error":"#VALUE!"}},{"$f":"100/((GU86/GT86)+(GU87/GT87)+(GU88/GT88)+(GU89/GT89)+(GU90/GT90)+(GU91/GT91)+(GU92/GT92)+(GU93/GT93)+(GU94/GT94))","v":{"$error":"#VALUE!"}},{"$f":"100/((GU86*MDR!$AV$6/(MDR!DU220*GU119))+(GU87*MDR!$AW$6/(MDR!DU221*GU119))+(GU88*MDR!$AX$6/(MDR!DU222*GU119))+(GU89*MDR!$AY$6/(MDR!DU223*GU119))+(GU90*MDR!$AZ$6/(MDR!DU224*GU119))+(GU91*MDR!$BA$6/(MDR!DU225*GU119))+(GU92*MDR!$BB$6/(MDR!DU226*GU119))+(GU93*MDR!$BC$6/(MDR!DU227*GU119))+(GU94*MDR!$BD$6/(MDR!DU228*GU119)))","v":{"$error":"#VALUE!"}},null,null,null,null,{"$f":"100/((HA86/GZ86)+(HA87/GZ87)+(HA88/GZ88)+(HA89/GZ89)+(HA90/GZ90)+(HA91/GZ91)+(HA92/GZ92)+(HA93/GZ93)+(HA94/GZ94))","v":{"$error":"#VALUE!"}},{"$f":"100/((HA86*MDR!$AV$6/(MDR!EA220*HA119))+(HA87*MDR!$AW$6/(MDR!EA221*HA119))+(HA88*MDR!$AX$6/(MDR!EA222*HA119))+(HA89*MDR!$AY$6/(MDR!EA223*HA119))+(HA90*MDR!$AZ$6/(MDR!EA224*HA119))+(HA91*MDR!$BA$6/(MDR!EA225*HA119))+(HA92*MDR!$BB$6/(MDR!EA226*HA119))+(HA93*MDR!$BC$6/(MDR!EA227*HA119))+(HA94*MDR!$BD$6/(MDR!EA228*HA119)))","v":{"$error":"#VALUE!"}},{"$f":"100/((HC86/HB86)+(HC87/HB87)+(HC88/HB88)+(HC89/HB89)+(HC90/HB90)+(HC91/HB91)+(HC92/HB92)+(HC93/HB93)+(HC94/HB94))","v":{"$error":"#VALUE!"}},{"$f":"100/((HC86*MDR!$AV$6/(MDR!EC220*HC119))+(HC87*MDR!$AW$6/(MDR!EC221*HC119))+(HC88*MDR!$AX$6/(MDR!EC222*HC119))+(HC89*MDR!$AY$6/(MDR!EC223*HC119))+(HC90*MDR!$AZ$6/(MDR!EC224*HC119))+(HC91*MDR!$BA$6/(MDR!EC225*HC119))+(HC92*MDR!$BB$6/(MDR!EC226*HC119))+(HC93*MDR!$BC$6/(MDR!EC227*HC119))+(HC94*MDR!$BD$6/(MDR!EC228*HC119)))","v":{"$error":"#VALUE!"}},{"$f":"100/((HE86/HD86)+(HE87/HD87)+(HE88/HD88)+(HE89/HD89)+(HE90/HD90)+(HE91/HD91)+(HE92/HD92)+(HE93/HD93)+(HE94/HD94))","v":{"$error":"#VALUE!"}},{"$f":"100/((HE86*MDR!$AV$6/(MDR!EE220*HE119))+(HE87*MDR!$AW$6/(MDR!EE221*HE119))+(HE88*MDR!$AX$6/(MDR!EE222*HE119))+(HE89*MDR!$AY$6/(MDR!EE223*HE119))+(HE90*MDR!$AZ$6/(MDR!EE224*HE119))+(HE91*MDR!$BA$6/(MDR!EE225*HE119))+(HE92*MDR!$BB$6/(MDR!EE226*HE119))+(HE93*MDR!$BC$6/(MDR!EE227*HE119))+(HE94*MDR!$BD$6/(MDR!EE228*HE119)))","v":{"$error":"#VALUE!"}},{"$f":"100/((HG86/HF86)+(HG87/HF87)+(HG88/HF88)+(HG89/HF89)+(HG90/HF90)+(HG91/HF91)+(HG92/HF92)+(HG93/HF93)+(HG94/HF94))","v":{"$error":"#VALUE!"}},{"$f":"100/((HG86*MDR!$AV$6/(MDR!EG220*HG119))+(HG87*MDR!$AW$6/(MDR!EG221*HG119))+(HG88*MDR!$AX$6/(MDR!EG222*HG119))+(HG89*MDR!$AY$6/(MDR!EG223*HG119))+(HG90*MDR!$AZ$6/(MDR!EG224*HG119))+(HG91*MDR!$BA$6/(MDR!EG225*HG119))+(HG92*MDR!$BB$6/(MDR!EG226*HG119))+(HG93*MDR!$BC$6/(MDR!EG227*HG119))+(HG94*MDR!$BD$6/(MDR!EG228*HG119)))","v":{"$error":"#VALUE!"}},null,null,null,null,{"$f":"100/((HM86/HL86)+(HM87/HL87)+(HM88/HL88)+(HM89/HL89)+(HM90/HL90)+(HM91/HL91)+(HM92/HL92)+(HM93/HL93)+(HM94/HL94))","v":{"$error":"#VALUE!"}},{"$f":"100/((HM86*MDR!$AV$6/(MDR!EM220*HM119))+(HM87*MDR!$AW$6/(MDR!EM221*HM119))+(HM88*MDR!$AX$6/(MDR!EM222*HM119))+(HM89*MDR!$AY$6/(MDR!EM223*HM119))+(HM90*MDR!$AZ$6/(MDR!EM224*HM119))+(HM91*MDR!$BA$6/(MDR!EM225*HM119))+(HM92*MDR!$BB$6/(MDR!EM226*HM119))+(HM93*MDR!$BC$6/(MDR!EM227*HM119))+(HM94*MDR!$BD$6/(MDR!EM228*HM119)))","v":{"$error":"#VALUE!"}},{"$f":"100/((HO86/HN86)+(HO87/HN87)+(HO88/HN88)+(HO89/HN89)+(HO90/HN90)+(HO91/HN91)+(HO92/HN92)+(HO93/HN93)+(HO94/HN94))","v":{"$error":"#VALUE!"}},{"$f":"100/((HO86*MDR!$AV$6/(MDR!EO220*HO119))+(HO87*MDR!$AW$6/(MDR!EO221*HO119))+(HO88*MDR!$AX$6/(MDR!EO222*HO119))+(HO89*MDR!$AY$6/(MDR!EO223*HO119))+(HO90*MDR!$AZ$6/(MDR!EO224*HO119))+(HO91*MDR!$BA$6/(MDR!EO225*HO119))+(HO92*MDR!$BB$6/(MDR!EO226*HO119))+(HO93*MDR!$BC$6/(MDR!EO227*HO119))+(HO94*MDR!$BD$6/(MDR!EO228*HO119)))","v":{"$error":"#VALUE!"}},{"$f":"100/((HQ86/HP86)+(HQ87/HP87)+(HQ88/HP88)+(HQ89/HP89)+(HQ90/HP90)+(HQ91/HP91)+(HQ92/HP92)+(HQ93/HP93)+(HQ94/HP94))","v":{"$error":"#VALUE!"}},{"$f":"100/((HQ86*MDR!$AV$6/(MDR!EQ220*HQ119))+(HQ87*MDR!$AW$6/(MDR!EQ221*HQ119))+(HQ88*MDR!$AX$6/(MDR!EQ222*HQ119))+(HQ89*MDR!$AY$6/(MDR!EQ223*HQ119))+(HQ90*MDR!$AZ$6/(MDR!EQ224*HQ119))+(HQ91*MDR!$BA$6/(MDR!EQ225*HQ119))+(HQ92*MDR!$BB$6/(MDR!EQ226*HQ119))+(HQ93*MDR!$BC$6/(MDR!EQ227*HQ119))+(HQ94*MDR!$BD$6/(MDR!EQ228*HQ119)))","v":{"$error":"#VALUE!"}},{"$f":"100/((HS86/HR86)+(HS87/HR87)+(HS88/HR88)+(HS89/HR89)+(HS90/HR90)+(HS91/HR91)+(HS92/HR92)+(HS93/HR93)+(HS94/HR94))","v":{"$error":"#VALUE!"}},{"$f":"100/((HS86*MDR!$AV$6/(MDR!ES220*HS119))+(HS87*MDR!$AW$6/(MDR!ES221*HS119))+(HS88*MDR!$AX$6/(MDR!ES222*HS119))+(HS89*MDR!$AY$6/(MDR!ES223*HS119))+(HS90*MDR!$AZ$6/(MDR!ES224*HS119))+(HS91*MDR!$BA$6/(MDR!ES225*HS119))+(HS92*MDR!$BB$6/(MDR!ES226*HS119))+(HS93*MDR!$BC$6/(MDR!ES227*HS119))+(HS94*MDR!$BD$6/(MDR!ES228*HS119)))","v":{"$error":"#VALUE!"}},null,null,null,null,{"$f":"100/((HY86/HX86)+(HY87/HX87)+(HY88/HX88)+(HY89/HX89)+(HY90/HX90)+(HY91/HX91)+(HY92/HX92)+(HY93/HX93)+(HY94/HX94))","v":{"$error":"#VALUE!"}},{"$f":"100/((HY86*MDR!$AV$6/(MDR!EY220*HY119))+(HY87*MDR!$AW$6/(MDR!EY221*HY119))+(HY88*MDR!$AX$6/(MDR!EY222*HY119))+(HY89*MDR!$AY$6/(MDR!EY223*HY119))+(HY90*MDR!$AZ$6/(MDR!EY224*HY119))+(HY91*MDR!$BA$6/(MDR!EY225*HY119))+(HY92*MDR!$BB$6/(MDR!EY226*HY119))+(HY93*MDR!$BC$6/(MDR!EY227*HY119))+(HY94*MDR!$BD$6/(MDR!EY228*HY119)))","v":{"$error":"#VALUE!"}},{"$f":"100/((IA86/HZ86)+(IA87/HZ87)+(IA88/HZ88)+(IA89/HZ89)+(IA90/HZ90)+(IA91/HZ91)+(IA92/HZ92)+(IA93/HZ93)+(IA94/HZ94))","v":{"$error":"#VALUE!"}},{"$f":"100/((IA86*MDR!$AV$6/(MDR!FA220*IA119))+(IA87*MDR!$AW$6/(MDR!FA221*IA119))+(IA88*MDR!$AX$6/(MDR!FA222*IA119))+(IA89*MDR!$AY$6/(MDR!FA223*IA119))+(IA90*MDR!$AZ$6/(MDR!FA224*IA119))+(IA91*MDR!$BA$6/(MDR!FA225*IA119))+(IA92*MDR!$BB$6/(MDR!FA226*IA119))+(IA93*MDR!$BC$6/(MDR!FA227*IA119))+(IA94*MDR!$BD$6/(MDR!FA228*IA119)))","v":{"$error":"#VALUE!"}},{"$f":"100/((IC86/IB86)+(IC87/IB87)+(IC88/IB88)+(IC89/IB89)+(IC90/IB90)+(IC91/IB91)+(IC92/IB92)+(IC93/IB93)+(IC94/IB94))","v":{"$error":"#VALUE!"}},{"$f":"100/((IC86*MDR!$AV$6/(MDR!FC220*IC119))+(IC87*MDR!$AW$6/(MDR!FC221*IC119))+(IC88*MDR!$AX$6/(MDR!FC222*IC119))+(IC89*MDR!$AY$6/(MDR!FC223*IC119))+(IC90*MDR!$AZ$6/(MDR!FC224*IC119))+(IC91*MDR!$BA$6/(MDR!FC225*IC119))+(IC92*MDR!$BB$6/(MDR!FC226*IC119))+(IC93*MDR!$BC$6/(MDR!FC227*IC119))+(IC94*MDR!$BD$6/(MDR!FC228*IC119)))","v":{"$error":"#VALUE!"}},{"$f":"100/((IE86/ID86)+(IE87/ID87)+(IE88/ID88)+(IE89/ID89)+(IE90/ID90)+(IE91/ID91)+(IE92/ID92)+(IE93/ID93)+(IE94/ID94))","v":{"$error":"#VALUE!"}},{"$f":"100/((IE86*MDR!$AV$6/(MDR!FE220*IE119))+(IE87*MDR!$AW$6/(MDR!FE221*IE119))+(IE88*MDR!$AX$6/(MDR!FE222*IE119))+(IE89*MDR!$AY$6/(MDR!FE223*IE119))+(IE90*MDR!$AZ$6/(MDR!FE224*IE119))+(IE91*MDR!$BA$6/(MDR!FE225*IE119))+(IE92*MDR!$BB$6/(MDR!FE226*IE119))+(IE93*MDR!$BC$6/(MDR!FE227*IE119))+(IE94*MDR!$BD$6/(MDR!FE228*IE119)))","v":{"$error":"#VALUE!"}},null,null,null,null,{"$f":"100/((IK86/IJ86)+(IK87/IJ87)+(IK88/IJ88)+(IK89/IJ89)+(IK90/IJ90)+(IK91/IJ91)+(IK92/IJ92)+(IK93/IJ93)+(IK94/IJ94))","v":{"$error":"#VALUE!"}},{"$f":"100/((IK86*MDR!$AV$6/(MDR!FK220*IK119))+(IK87*MDR!$AW$6/(MDR!FK221*IK119))+(IK88*MDR!$AX$6/(MDR!FK222*IK119))+(IK89*MDR!$AY$6/(MDR!FK223*IK119))+(IK90*MDR!$AZ$6/(MDR!FK224*IK119))+(IK91*MDR!$BA$6/(MDR!FK225*IK119))+(IK92*MDR!$BB$6/(MDR!FK226*IK119))+(IK93*MDR!$BC$6/(MDR!FK227*IK119))+(IK94*MDR!$BD$6/(MDR!FK228*IK119)))","v":{"$error":"#VALUE!"}},{"$f":"100/((IM86/IL86)+(IM87/IL87)+(IM88/IL88)+(IM89/IL89)+(IM90/IL90)+(IM91/IL91)+(IM92/IL92)+(IM93/IL93)+(IM94/IL94))","v":{"$error":"#VALUE!"}},{"$f":"100/((IM86*MDR!$AV$6/(MDR!FM220*IM119))+(IM87*MDR!$AW$6/(MDR!FM221*IM119))+(IM88*MDR!$AX$6/(MDR!FM222*IM119))+(IM89*MDR!$AY$6/(MDR!FM223*IM119))+(IM90*MDR!$AZ$6/(MDR!FM224*IM119))+(IM91*MDR!$BA$6/(MDR!FM225*IM119))+(IM92*MDR!$BB$6/(MDR!FM226*IM119))+(IM93*MDR!$BC$6/(MDR!FM227*IM119))+(IM94*MDR!$BD$6/(MDR!FM228*IM119)))","v":{"$error":"#VALUE!"}},{"$f":"100/((IO86/IN86)+(IO87/IN87)+(IO88/IN88)+(IO89/IN89)+(IO90/IN90)+(IO91/IN91)+(IO92/IN92)+(IO93/IN93)+(IO94/IN94))","v":{"$error":"#VALUE!"}},{"$f":"100/((IO86*MDR!$AV$6/(MDR!FO220*IO119))+(IO87*MDR!$AW$6/(MDR!FO221*IO119))+(IO88*MDR!$AX$6/(MDR!FO222*IO119))+(IO89*MDR!$AY$6/(MDR!FO223*IO119))+(IO90*MDR!$AZ$6/(MDR!FO224*IO119))+(IO91*MDR!$BA$6/(MDR!FO225*IO119))+(IO92*MDR!$BB$6/(MDR!FO226*IO119))+(IO93*MDR!$BC$6/(MDR!FO227*IO119))+(IO94*MDR!$BD$6/(MDR!FO228*IO119)))","v":{"$error":"#VALUE!"}},{"$f":"100/((IQ86/IP86)+(IQ87/IP87)+(IQ88/IP88)+(IQ89/IP89)+(IQ90/IP90)+(IQ91/IP91)+(IQ92/IP92)+(IQ93/IP93)+(IQ94/IP94))","v":{"$error":"#VALUE!"}},{"$f":"100/((IQ86*MDR!$AV$6/(MDR!FQ220*IQ119))+(IQ87*MDR!$AW$6/(MDR!FQ221*IQ119))+(IQ88*MDR!$AX$6/(MDR!FQ222*IQ119))+(IQ89*MDR!$AY$6/(MDR!FQ223*IQ119))+(IQ90*MDR!$AZ$6/(MDR!FQ224*IQ119))+(IQ91*MDR!$BA$6/(MDR!FQ225*IQ119))+(IQ92*MDR!$BB$6/(MDR!FQ226*IQ119))+(IQ93*MDR!$BC$6/(MDR!FQ227*IQ119))+(IQ94*MDR!$BD$6/(MDR!FQ228*IQ119)))","v":{"$error":"#VALUE!"}}]
[null,null,null,{"$f":"100/((E86/D86)+(E87/D87)+(E88/D88)+(E89/D89)+(E90/D90)+(E91/D91)+(E92/D92)+(E93/D93)+(E94/D94)+(E95/D95))","v":{"$error":"#DIV/0!"}},{"$f":"100/((E86*MDR!$AV$6/(MDR!BG200*E120))+(E87*MDR!$AW$6/(MDR!BG201*E120))+(E88*MDR!$AX$6/(MDR!BG202*E120))+(E89*MDR!$AY$6/(MDR!BG203*E120))+(E90*MDR!$AZ$6/(MDR!BG204*E120))+(E91*MDR!$BA$6/(MDR!BG205*E120))+(E92*MDR!$BB$6/(MDR!BG206*E120))+(E93*MDR!$BC$6/(MDR!BG207*E120))+(E94*MDR!$BD$6/(MDR!BG208*E120))+(E95*MDR!$BE$6/(MDR!BG209*E120)))","v":{"$error":"#DIV/0!"}},{"$f":"100/((G86/F86)+(G87/F87)+(G88/F88)+(G89/F89)+(G90/F90)+(G91/F91)+(G92/F92)+(G93/F93)+(G94/F94)+(G95/F95))","v":{"$error":"#VALUE!"}},{"$f":"100/((G86*MDR!$AV$6/(MDR!BI200*G120))+(G87*MDR!$AW$6/(MDR!BI201*G120))+(G88*MDR!$AX$6/(MDR!BI202*G120))+(G89*MDR!$AY$6/(MDR!BI203*G120))+(G90*MDR!$AZ$6/(MDR!BI204*G120))+(G91*MDR!$BA$6/(MDR!BI205*G120))+(G92*MDR!$BB$6/(MDR!BI206*G120))+(G93*MDR!$BC$6/(MDR!BI207*G120))+(G94*MDR!$BD$6/(MDR!BI208*G120))+(G95*MDR!$BE$6/(MDR!BI209*G120)))","v":{"$error":"#VALUE!"}},{"$f":"100/((I86/H86)+(I87/H87)+(I88/H88)+(I89/H89)+(I90/H90)+(I91/H91)+(I92/H92)+(I93/H93)+(I94/H94)+(I95/H95))","v":{"$error":"#VALUE!"}},{"$f":"100/((I86*MDR!$AV$6/(MDR!BK200*I120))+(I87*MDR!$AW$6/(MDR!BK201*I120))+(I88*MDR!$AX$6/(MDR!BK202*I120))+(I89*MDR!$AY$6/(MDR!BK203*I120))+(I90*MDR!$AZ$6/(MDR!BK204*I120))+(I91*MDR!$BA$6/(MDR!BK205*I120))+(I92*MDR!$BB$6/(MDR!BK206*I120))+(I93*MDR!$BC$6/(MDR!BK207*I120))+(I94*MDR!$BD$6/(MDR!BK208*I120))+(I95*MDR!$BE$6/(MDR!BK209*I120)))","v":{"$error":"#VALUE!"}},{"$f":"100/((K86/J86)+(K87/J87)+(K88/J88)+(K89/J89)+(K90/J90)+(K91/J91)+(K92/J92)+(K93/J93)+(K94/J94)+(K95/J95))","v":{"$error":"#VALUE!"}},{"$f":"100/((K86*MDR!$AV$6/(MDR!BM200*K120))+(K87*MDR!$AW$6/(MDR!BM201*K120))+(K88*MDR!$AX$6/(MDR!BM202*K120))+(K89*MDR!$AY$6/(MDR!BM203*K120))+(K90*MDR!$AZ$6/(MDR!BM204*K120))+(K91*MDR!$BA$6/(MDR!BM205*K120))+(K92*MDR!$BB$6/(MDR!BM206*K120))+(K93*MDR!$BC$6/(MDR!BM207*K120))+(K94*MDR!$BD$6/(MDR!BM208*K120))+(K95*MDR!$BE$6/(MDR!BM209*K120)))","v":{"$error":"#VALUE!"}},null,null,null,null,{"$f":"100/((Q86/P86)+(Q87/P87)+(Q88/P88)+(Q89/P89)+(Q90/P90)+(Q91/P91)+(Q92/P92)+(Q93/P93)+(Q94/P94)+(Q95/P95))","v":{"$error":"#VALUE!"}},{"$f":"100/((Q86*MDR!$AV$6/(MDR!BS200*Q120))+(Q87*MDR!$AW$6/(MDR!BS201*Q120))+(Q88*MDR!$AX$6/(MDR!BS202*Q120))+(Q89*MDR!$AY$6/(MDR!BS203*Q120))+(Q90*MDR!$AZ$6/(MDR!BS204*Q120))+(Q91*MDR!$BA$6/(MDR!BS205*Q120))+(Q92*MDR!$BB$6/(MDR!BS206*Q120))+(Q93*MDR!$BC$6/(MDR!BS207*Q120))+(Q94*MDR!$BD$6/(MDR!BS208*Q120))+(Q95*MDR!$BE$6/(MDR!BS209*Q120)))","v":{"$error":"#VALUE!"}},{"$f":"100/((S86/R86)+(S87/R87)+(S88/R88)+(S89/R89)+(S90/R90)+(S91/R91)+(S92/R92)+(S93/R93)+(S94/R94)+(S95/R95))","v":{"$error":"#VALUE!"}},{"$f":"100/((S86*MDR!$AV$6/(MDR!BU200*S120))+(S87*MDR!$AW$6/(MDR!BU201*S120))+(S88*MDR!$AX$6/(MDR!BU202*S120))+(S89*MDR!$AY$6/(MDR!BU203*S120))+(S90*MDR!$AZ$6/(MDR!BU204*S120))+(S91*MDR!$BA$6/(MDR!BU205*S120))+(S92*MDR!$BB$6/(MDR!BU206*S120))+(S93*MDR!$BC$6/(MDR!BU207*S120))+(S94*MDR!$BD$6/(MDR!BU208*S120))+(S95*MDR!$BE$6/(MDR!BU209*S120)))","v":{"$error":"#VALUE!"}},{"$f":"100/((U86/T86)+(U87/T87)+(U88/T88)+(U89/T89)+(U90/T90)+(U91/T91)+(U92/T92)+(U93/T93)+(U94/T94)+(U95/T95))","v":{"$error":"#VALUE!"}},{"$f":"100/((U86*MDR!$AV$6/(MDR!BW200*U120))+(U87*MDR!$AW$6/(MDR!BW201*U120))+(U88*MDR!$AX$6/(MDR!BW202*U120))+(U89*MDR!$AY$6/(MDR!BW203*U120))+(U90*MDR!$AZ$6/(MDR!BW204*U120))+(U91*MDR!$BA$6/(MDR!BW205*U120))+(U92*MDR!$BB$6/(MDR!BW206*U120))+(U93*MDR!$BC$6/(MDR!BW207*U120))+(U94*MDR!$BD$6/(MDR!BW208*U120))+(U95*MDR!$BE$6/(MDR!BW209*U120)))","v":{"$error":"#VALUE!"}},{"$f":"100/((W86/V86)+(W87/V87)+(W88/V88)+(W89/V89)+(W90/V90)+(W91/V91)+(W92/V92)+(W93/V93)+(W94/V94)+(W95/V95))","v":{"$error":"#VALUE!"}},{"$f":"100/((W86*MDR!$AV$6/(MDR!BY200*W120))+(W87*MDR!$AW$6/(MDR!BY201*W120))+(W88*MDR!$AX$6/(MDR!BY202*W120))+(W89*MDR!$AY$6/(MDR!BY203*W120))+(W90*MDR!$AZ$6/(MDR!BY204*W120))+(W91*MDR!$BA$6/(MDR!BY205*W120))+(W92*MDR!$BB$6/(MDR!BY206*W120))+(W93*MDR!$BC$6/(MDR!BY207*W120))+(W94*MDR!$BD$6/(MDR!BY208*W120))+(W95*MDR!$BE$6/(MDR!BY209*W120)))","v":{"$error":"#VALUE!"}},null,null,null,null,{"$f":"100/((AC86/AB86)+(AC87/AB87)+(AC88/AB88)+(AC89/AB89)+(AC90/AB90)+(AC91/AB91)+(AC92/AB92)+(AC93/AB93)+(AC94/AB94)+(AC95/AB95))","v":{"$error":"#VALUE!"}},{"$f":"100/((AC86*MDR!$AV$6/(MDR!CE200*AC120))+(AC87*MDR!$AW$6/(MDR!CE201*AC120))+(AC88*MDR!$AX$6/(MDR!CE202*AC120))+(AC89*MDR!$AY$6/(MDR!CE203*AC120))+(AC90*MDR!$AZ$6/(MDR!CE204*AC120))+(AC91*MDR!$BA$6/(MDR!CE205*AC120))+(AC92*MDR!$BB$6/(MDR!CE206*AC120))+(AC93*MDR!$BC$6/(MDR!CE207*AC120))+(AC94*MDR!$BD$6/(MDR!CE208*AC120))+(AC95*MDR!$BE$6/(MDR!CE209*AC120)))","v":{"$error":"#VALUE!"}},{"$f":"100/((AE86/AD86)+(AE87/AD87)+(AE88/AD88)+(AE89/AD89)+(AE90/AD90)+(AE91/AD91)+(AE92/AD92)+(AE93/AD93)+(AE94/AD94)+(AE95/AD95))","v":{"$error":"#VALUE!"}},{"$f":"100/((AE86*MDR!$AV$6/(MDR!CG200*AE120))+(AE87*MDR!$AW$6/(MDR!CG201*AE120))+(AE88*MDR!$AX$6/(MDR!CG202*AE120))+(AE89*MDR!$AY$6/(MDR!CG203*AE120))+(AE90*MDR!$AZ$6/(MDR!CG204*AE120))+(AE91*MDR!$BA$6/(MDR!CG205*AE120))+(AE92*MDR!$BB$6/(MDR!CG206*AE120))+(AE93*MDR!$BC$6/(MDR!CG207*AE120))+(AE94*MDR!$BD$6/(MDR!CG208*AE120))+(AE95*MDR!$BE$6/(MDR!CG209*AE120)))","v":{"$error":"#VALUE!"}},{"$f":"100/((AG86/AF86)+(AG87/AF87)+(AG88/AF88)+(AG89/AF89)+(AG90/AF90)+(AG91/AF91)+(AG92/AF92)+(AG93/AF93)+(AG94/AF94)+(AG95/AF95))","v":{"$error":"#VALUE!"}},{"$f":"100/((AG86*MDR!$AV$6/(MDR!CI200*AG120))+(AG87*MDR!$AW$6/(MDR!CI201*AG120))+(AG88*MDR!$AX$6/(MDR!CI202*AG120))+(AG89*MDR!$AY$6/(MDR!CI203*AG120))+(AG90*MDR!$AZ$6/(MDR!CI204*AG120))+(AG91*MDR!$BA$6/(MDR!CI205*AG120))+(AG92*MDR!$BB$6/(MDR!CI206*AG120))+(AG93*MDR!$BC$6/(MDR!CI207*AG120))+(AG94*MDR!$BD$6/(MDR!CI208*AG120))+(AG95*MDR!$BE$6/(MDR!CI209*AG120)))","v":{"$error":"#VALUE!"}},{"$f":"100/((AI86/AH86)+(AI87/AH87)+(AI88/AH88)+(AI89/AH89)+(AI90/AH90)+(AI91/AH91)+(AI92/AH92)+(AI93/AH93)+(AI94/AH94)+(AI95/AH95))","v":{"$error":"#VALUE!"}},{"$f":"100/((AI86*MDR!$AV$6/(MDR!CK200*AI120))+(AI87*MDR!$AW$6/(MDR!CK201*AI120))+(AI88*MDR!$AX$6/(MDR!CK202*AI120))+(AI89*MDR!$AY$6/(MDR!CK203*AI120))+(AI90*MDR!$AZ$6/(MDR!CK204*AI120))+(AI91*MDR!$BA$6/(MDR!CK205*AI120))+(AI92*MDR!$BB$6/(MDR!CK206*AI120))+(AI93*MDR!$BC$6/(MDR!CK207*AI120))+(AI94*MDR!$BD$6/(MDR!CK208*AI120))+(AI95*MDR!$BE$6/(MDR!CK209*AI120)))","v":{"$error":"#VALUE!"}},null,null,null,null,{"$f":"100/((AO86/AN86)+(AO87/AN87)+(AO88/AN88)+(AO89/AN89)+(AO90/AN90)+(AO91/AN91)+(AO92/AN92)+(AO93/AN93)+(AO94/AN94)+(AO95/AN95))","v":{"$error":"#VALUE!"}},{"$f":"100/((AO86*MDR!$AV$6/(MDR!CQ200*AO120))+(AO87*MDR!$AW$6/(MDR!CQ201*AO120))+(AO88*MDR!$AX$6/(MDR!CQ202*AO120))+(AO89*MDR!$AY$6/(MDR!CQ203*AO120))+(AO90*MDR!$AZ$6/(MDR!CQ204*AO120))+(AO91*MDR!$BA$6/(MDR!CQ205*AO120))+(AO92*MDR!$BB$6/(MDR!CQ206*AO120))+(AO93*MDR!$BC$6/(MDR!CQ207*AO120))+(AO94*MDR!$BD$6/(MDR!CQ208*AO120))+(AO95*MDR!$BE$6/(MDR!CQ209*AO120)))","v":{"$error":"#VALUE!"}},{"$f":"100/((AQ86/AP86)+(AQ87/AP87)+(AQ88/AP88)+(AQ89/AP89)+(AQ90/AP90)+(AQ91/AP91)+(AQ92/AP92)+(AQ93/AP93)+(AQ94/AP94)+(AQ95/AP95))","v":{"$error":"#VALUE!"}},{"$f":"100/((AQ86*MDR!$AV$6/(MDR!CS200*AQ120))+(AQ87*MDR!$AW$6/(MDR!CS201*AQ120))+(AQ88*MDR!$AX$6/(MDR!CS202*AQ120))+(AQ89*MDR!$AY$6/(MDR!CS203*AQ120))+(AQ90*MDR!$AZ$6/(MDR!CS204*AQ120))+(AQ91*MDR!$BA$6/(MDR!CS205*AQ120))+(AQ92*MDR!$BB$6/(MDR!CS206*AQ120))+(AQ93*MDR!$BC$6/(MDR!CS207*AQ120))+(AQ94*MDR!$BD$6/(MDR!CS208*AQ120))+(AQ95*MDR!$BE$6/(MDR!CS209*AQ120)))","v":{"$error":"#VALUE!"}},{"$f":"100/((AS86/AR86)+(AS87/AR87)+(AS88/AR88)+(AS89/AR89)+(AS90/AR90)+(AS91/AR91)+(AS92/AR92)+(AS93/AR93)+(AS94/AR94)+(AS95/AR95))","v":{"$error":"#VALUE!"}},{"$f":"100/((AS86*MDR!$AV$6/(MDR!CU200*AS120))+(AS87*MDR!$AW$6/(MDR!CU201*AS120))+(AS88*MDR!$AX$6/(MDR!CU202*AS120))+(AS89*MDR!$AY$6/(MDR!CU203*AS120))+(AS90*MDR!$AZ$6/(MDR!CU204*AS120))+(AS91*MDR!$BA$6/(MDR!CU205*AS120))+(AS92*MDR!$BB$6/(MDR!CU206*AS120))+(AS93*MDR!$BC$6/(MDR!CU207*AS120))+(AS94*MDR!$BD$6/(MDR!CU208*AS120))+(AS95*MDR!$BE$6/(MDR!CU209*AS120)))","v":{"$error":"#VALUE!"}},{"$f":"100/((AU86/AT86)+(AU87/AT87)+(AU88/AT88)+(AU89/AT89)+(AU90/AT90)+(AU91/AT91)+(AU92/AT92)+(AU93/AT93)+(AU94/AT94)+(AU95/AT95))","v":{"$error":"#VALUE!"}},{"$f":"100/((AU86*MDR!$AV$6/(MDR!CW200*AU120))+(AU87*MDR!$AW$6/(MDR!CW201*AU120))+(AU88*MDR!$AX$6/(MDR!CW202*AU120))+(AU89*MDR!$AY$6/(MDR!CW203*AU120))+(AU90*MDR!$AZ$6/(MDR!CW204*AU120))+(AU91*MDR!$BA$6/(MDR!CW205*AU120))+(AU92*MDR!$BB$6/(MDR!CW206*AU120))+(AU93*MDR!$BC$6/(MDR!CW207*AU120))+(AU94*MDR!$BD$6/(MDR!CW208*AU120))+(AU95*MDR!$BE$6/(MDR!CW209*AU120)))","v":{"$error":"#VALUE!"}},null,null,null,null,{"$f":"100/((BA86/AZ86)+(BA87/AZ87)+(BA88/AZ88)+(BA89/AZ89)+(BA90/AZ90)+(BA91/AZ91)+(BA92/AZ92)+(BA93/AZ93)+(BA94/AZ94)+(BA95/AZ95))","v":{"$error":"#VALUE!"}},{"$f":"100/((BA86*MDR!$AV$6/(MDR!DC200*BA120))+(BA87*MDR!$AW$6/(MDR!DC201*BA120))+(BA88*MDR!$AX$6/(MDR!DC202*BA120))+(BA89*MDR!$AY$6/(MDR!DC203*BA120))+(BA90*MDR!$AZ$6/(MDR!DC204*BA120))+(BA91*MDR!$BA$6/(MDR!DC205*BA120))+(BA92*MDR!$BB$6/(MDR!DC206*BA120))+(BA93*MDR!$BC$6/(MDR!DC207*BA120))+(BA94*MDR!$BD$6/(MDR!DC208*BA120))+(BA95*MDR!$BE$6/(MDR!DC209*BA120)))","v":{"$error":"#VALUE!"}},{"$f":"100/((BC86/BB86)+(BC87/BB87)+(BC88/BB88)+(BC89/BB89)+(BC90/BB90)+(BC91/BB91)+(BC92/BB92)+(BC93/BB93)+(BC94/BB94)+(BC95/BB95))","v":{"$error":"#VALUE!"}},{"$f":"100/((BC86*MDR!$AV$6/(MDR!DE200*BC120))+(BC87*MDR!$AW$6/(MDR!DE201*BC120))+(BC88*MDR!$AX$6/(MDR!DE202*BC120))+(BC89*MDR!$AY$6/(MDR!DE203*BC120))+(BC90*MDR!$AZ$6/(MDR!DE204*BC120))+(BC91*MDR!$BA$6/(MDR!DE205*BC120))+(BC92*MDR!$BB$6/(MDR!DE206*BC120))+(BC93*MDR!$BC$6/(MDR!DE207*BC120))+(BC94*MDR!$BD$6/(MDR!DE208*BC120))+(BC95*MDR!$BE$6/(MDR!DE209*BC120)))","v":{"$error":"#VALUE!"}},{"$f":"100/((BE86/BD86)+(BE87/BD87)+(BE88/BD88)+(BE89/BD89)+(BE90/BD90)+(BE91/BD91)+(BE92/BD92)+(BE93/BD93)+(BE94/BD94)+(BE95/BD95))","v":{"$error":"#VALUE!"}},{"$f":"100/((BE86*MDR!$AV$6/(MDR!DG200*BE120))+(BE87*MDR!$AW$6/(MDR!DG201*BE120))+(BE88*MDR!$AX$6/(MDR!DG202*BE120))+(BE89*MDR!$AY$6/(MDR!DG203*BE120))+(BE90*MDR!$AZ$6/(MDR!DG204*BE120))+(BE91*MDR!$BA$6/(MDR!DG205*BE120))+(BE92*MDR!$BB$6/(MDR!DG206*BE120))+(BE93*MDR!$BC$6/(MDR!DG207*BE120))+(BE94*MDR!$BD$6/(MDR!DG208*BE120))+(BE95*MDR!$BE$6/(MDR!DG209*BE120)))","v":{"$error":"#VALUE!"}},{"$f":"100/((BG86/BF86)+(BG87/BF87)+(BG88/BF88)+(BG89/BF89)+(BG90/BF90)+(BG91/BF91)+(BG92/BF92)+(BG93/BF93)+(BG94/BF94)+(BG95/BF95))","v":{"$error":"#VALUE!"}},{"$f":"100/((BG86*MDR!$AV$6/(MDR!DI200*BG120))+(BG87*MDR!$AW$6/(MDR!DI201*BG120))+(BG88*MDR!$AX$6/(MDR!DI202*BG120))+(BG89*MDR!$AY$6/(MDR!DI203*BG120))+(BG90*MDR!$AZ$6/(MDR!DI204*BG120))+(BG91*MDR!$BA$6/(MDR!DI205*BG120))+(BG92*MDR!$BB$6/(MDR!DI206*BG120))+(BG93*MDR!$BC$6/(MDR!DI207*BG120))+(BG94*MDR!$BD$6/(MDR!DI208*BG120))+(BG95*MDR!$BE$6/(MDR!DI209*BG120)))","v":{"$error":"#VALUE!"}},null,null,null,null,{"$f":"100/((BM86/BL86)+(BM87/BL87)+(BM88/BL88)+(BM89/BL89)+(BM90/BL90)+(BM91/BL91)+(BM92/BL92)+(BM93/BL93)+(BM94/BL94)+(BM95/BL95))","v":{"$error":"#VALUE!"}},{"$f":"100/((BM86*MDR!$AV$6/(MDR!DO200*BM120))+(BM87*MDR!$AW$6/(MDR!DO201*BM120))+(BM88*MDR!$AX$6/(MDR!DO202*BM120))+(BM89*MDR!$AY$6/(MDR!DO203*BM120))+(BM90*MDR!$AZ$6/(MDR!DO204*BM120))+(BM91*MDR!$BA$6/(MDR!DO205*BM120))+(BM92*MDR!$BB$6/(MDR!DO206*BM120))+(BM93*MDR!$BC$6/(MDR!DO207*BM120))+(BM94*MDR!$BD$6/(MDR!DO208*BM120))+(BM95*MDR!$BE$6/(MDR!DO209*BM120)))","v":{"$error":"#VALUE!"}},{"$f":"100/((BO86/BN86)+(BO87/BN87)+(BO88/BN88)+(BO89/BN89)+(BO90/BN90)+(BO91/BN91)+(BO92/BN92)+(BO93/BN93)+(BO94/BN94)+(BO95/BN95))","v":{"$error":"#VALUE!"}},{"$f":"100/((BO86*MDR!$AV$6/(MDR!DQ200*BO120))+(BO87*MDR!$AW$6/(MDR!DQ201*BO120))+(BO88*MDR!$AX$6/(MDR!DQ202*BO120))+(BO89*MDR!$AY$6/(MDR!DQ203*BO120))+(BO90*MDR!$AZ$6/(MDR!DQ204*BO120))+(BO91*MDR!$BA$6/(MDR!DQ205*BO120))+(BO92*MDR!$BB$6/(MDR!DQ206*BO120))+(BO93*MDR!$BC$6/(MDR!DQ207*BO120))+(BO94*MDR!$BD$6/(MDR!DQ208*BO120))+(BO95*MDR!$BE$6/(MDR!DQ209*BO120)))","v":{"$error":"#VALUE!"}},{"$f":"100/((BQ86/BP86)+(BQ87/BP87)+(BQ88/BP88)+(BQ89/BP89)+(BQ90/BP90)+(BQ91/BP91)+(BQ92/BP92)+(BQ93/BP93)+(BQ94/BP94)+(BQ95/BP95))","v":{"$error":"#VALUE!"}},{"$f":"100/((BQ86*MDR!$AV$6/(MDR!DS200*BQ120))+(BQ87*MDR!$AW$6/(MDR!DS201*BQ120))+(BQ88*MDR!$AX$6/(MDR!DS202*BQ120))+(BQ89*MDR!$AY$6/(MDR!DS203*BQ120))+(BQ90*MDR!$AZ$6/(MDR!DS204*BQ120))+(BQ91*MDR!$BA$6/(MDR!DS205*BQ120))+(BQ92*MDR!$BB$6/(MDR!DS206*BQ120))+(BQ93*MDR!$BC$6/(MDR!DS207*BQ120))+(BQ94*MDR!$BD$6/(MDR!DS208*BQ120))+(BQ95*MDR!$BE$6/(MDR!DS209*BQ120)))","v":{"$error":"#VALUE!"}},{"$f":"100/((BS86/BR86)+(BS87/BR87)+(BS88/BR88)+(BS89/BR89)+(BS90/BR90)+(BS91/BR91)+(BS92/BR92)+(BS93/BR93)+(BS94/BR94)+(BS95/BR95))","v":{"$error":"#VALUE!"}},{"$f":"100/((BS86*MDR!$AV$6/(MDR!DU200*BS120))+(BS87*MDR!$AW$6/(MDR!DU201*BS120))+(BS88*MDR!$AX$6/(MDR!DU202*BS120))+(BS89*MDR!$AY$6/(MDR!DU203*BS120))+(BS90*MDR!$AZ$6/(MDR!DU204*BS120))+(BS91*MDR!$BA$6/(MDR!DU205*BS120))+(BS92*MDR!$BB$6/(MDR!DU206*BS120))+(BS93*MDR!$BC$6/(MDR!DU207*BS120))+(BS94*MDR!$BD$6/(MDR!DU208*BS120))+(BS95*MDR!$BE$6/(MDR!DU209*BS120)))","v":{"$error":"#VALUE!"}},null,null,null,null,{"$f":"100/((BY86/BX86)+(BY87/BX87)+(BY88/BX88)+(BY89/BX89)+(BY90/BX90)+(BY91/BX91)+(BY92/BX92)+(BY93/BX93)+(BY94/BX94)+(BY95/BX95))","v":{"$error":"#VALUE!"}},{"$f":"100/((BY86*MDR!$AV$6/(MDR!EA200*BY120))+(BY87*MDR!$AW$6/(MDR!EA201*BY120))+(BY88*MDR!$AX$6/(MDR!EA202*BY120))+(BY89*MDR!$AY$6/(MDR!EA203*BY120))+(BY90*MDR!$AZ$6/(MDR!EA204*BY120))+(BY91*MDR!$BA$6/(MDR!EA205*BY120))+(BY92*MDR!$BB$6/(MDR!EA206*BY120))+(BY93*MDR!$BC$6/(MDR!EA207*BY120))+(BY94*MDR!$BD$6/(MDR!EA208*BY120))+(BY95*MDR!$BE$6/(MDR!EA209*BY120)))","v":{"$error":"#VALUE!"}},{"$f":"100/((CA86/BZ86)+(CA87/BZ87)+(CA88/BZ88)+(CA89/BZ89)+(CA90/BZ90)+(CA91/BZ91)+(CA92/BZ92)+(CA93/BZ93)+(CA94/BZ94)+(CA95/BZ95))","v":{"$error":"#VALUE!"}},{"$f":"100/((CA86*MDR!$AV$6/(MDR!EC200*CA120))+(CA87*MDR!$AW$6/(MDR!EC201*CA120))+(CA88*MDR!$AX$6/(MDR!EC202*CA120))+(CA89*MDR!$AY$6/(MDR!EC203*CA120))+(CA90*MDR!$AZ$6/(MDR!EC204*CA120))+(CA91*MDR!$BA$6/(MDR!EC205*CA120))+(CA92*MDR!$BB$6/(MDR!EC206*CA120))+(CA93*MDR!$BC$6/(MDR!EC207*CA120))+(CA94*MDR!$BD$6/(MDR!EC208*CA120))+(CA95*MDR!$BE$6/(MDR!EC209*CA120)))","v":{"$error":"#VALUE!"}},{"$f":"100/((CC86/CB86)+(CC87/CB87)+(CC88/CB88)+(CC89/CB89)+(CC90/CB90)+(CC91/CB91)+(CC92/CB92)+(CC93/CB93)+(CC94/CB94)+(CC95/CB95))","v":{"$error":"#VALUE!"}},{"$f":"100/((CC86*MDR!$AV$6/(MDR!EE200*CC120))+(CC87*MDR!$AW$6/(MDR!EE201*CC120))+(CC88*MDR!$AX$6/(MDR!EE202*CC120))+(CC89*MDR!$AY$6/(MDR!EE203*CC120))+(CC90*MDR!$AZ$6/(MDR!EE204*CC120))+(CC91*MDR!$BA$6/(MDR!EE205*CC120))+(CC92*MDR!$BB$6/(MDR!EE206*CC120))+(CC93*MDR!$BC$6/(MDR!EE207*CC120))+(CC94*MDR!$BD$6/(MDR!EE208*CC120))+(CC95*MDR!$BE$6/(MDR!EE209*CC120)))","v":{"$error":"#VALUE!"}},{"$f":"100/((CE86/CD86)+(CE87/CD87)+(CE88/CD88)+(CE89/CD89)+(CE90/CD90)+(CE91/CD91)+(CE92/CD92)+(CE93/CD93)+(CE94/CD94)+(CE95/CD95))","v":{"$error":"#VALUE!"}},{"$f":"100/((CE86*MDR!$AV$6/(MDR!EG200*CE120))+(CE87*MDR!$AW$6/(MDR!EG201*CE120))+(CE88*MDR!$AX$6/(MDR!EG202*CE120))+(CE89*MDR!$AY$6/(MDR!EG203*CE120))+(CE90*MDR!$AZ$6/(MDR!EG204*CE120))+(CE91*MDR!$BA$6/(MDR!EG205*CE120))+(CE92*MDR!$BB$6/(MDR!EG206*CE120))+(CE93*MDR!$BC$6/(MDR!EG207*CE120))+(CE94*MDR!$BD$6/(MDR!EG208*CE120))+(CE95*MDR!$BE$6/(MDR!EG209*CE120)))","v":{"$error":"#VALUE!"}},null,null,null,null,{"$f":"100/((CK86/CJ86)+(CK87/CJ87)+(CK88/CJ88)+(CK89/CJ89)+(CK90/CJ90)+(CK91/CJ91)+(CK92/CJ92)+(CK93/CJ93)+(CK94/CJ94)+(CK95/CJ95))","v":{"$error":"#VALUE!"}},{"$f":"100/((CK86*MDR!$AV$6/(MDR!EM200*CK120))+(CK87*MDR!$AW$6/(MDR!EM201*CK120))+(CK88*MDR!$AX$6/(MDR!EM202*CK120))+(CK89*MDR!$AY$6/(MDR!EM203*CK120))+(CK90*MDR!$AZ$6/(MDR!EM204*CK120))+(CK91*MDR!$BA$6/(MDR!EM205*CK120))+(CK92*MDR!$BB$6/(MDR!EM206*CK120))+(CK93*MDR!$BC$6/(MDR!EM207*CK120))+(CK94*MDR!$BD$6/(MDR!EM208*CK120))+(CK95*MDR!$BE$6/(MDR!EM209*CK120)))","v":{"$error":"#VALUE!"}},{"$f":"100/((CM86/CL86)+(CM87/CL87)+(CM88/CL88)+(CM89/CL89)+(CM90/CL90)+(CM91/CL91)+(CM92/CL92)+(CM93/CL93)+(CM94/CL94)+(CM95/CL95))","v":{"$error":"#VALUE!"}},{"$f":"100/((CM86*MDR!$AV$6/(MDR!EO200*CM120))+(CM87*MDR!$AW$6/(MDR!EO201*CM120))+(CM88*MDR!$AX$6/(MDR!EO202*CM120))+(CM89*MDR!$AY$6/(MDR!EO203*CM120))+(CM90*MDR!$AZ$6/(MDR!EO204*CM120))+(CM91*MDR!$BA$6/(MDR!EO205*CM120))+(CM92*MDR!$BB$6/(MDR!EO206*CM120))+(CM93*MDR!$BC$6/(MDR!EO207*CM120))+(CM94*MDR!$BD$6/(MDR!EO208*CM120))+(CM95*MDR!$BE$6/(MDR!EO209*CM120)))","v":{"$error":"#VALUE!"}},{"$f":"100/((CO86/CN86)+(CO87/CN87)+(CO88/CN88)+(CO89/CN89)+(CO90/CN90)+(CO91/CN91)+(CO92/CN92)+(CO93/CN93)+(CO94/CN94)+(CO95/CN95))","v":{"$error":"#VALUE!"}},{"$f":"100/((CO86*MDR!$AV$6/(MDR!EQ200*CO120))+(CO87*MDR!$AW$6/(MDR!EQ201*CO120))+(CO88*MDR!$AX$6/(MDR!EQ202*CO120))+(CO89*MDR!$AY$6/(MDR!EQ203*CO120))+(CO90*MDR!$AZ$6/(MDR!EQ204*CO120))+(CO91*MDR!$BA$6/(MDR!EQ205*CO120))+(CO92*MDR!$BB$6/(MDR!EQ206*CO120))+(CO93*MDR!$BC$6/(MDR!EQ207*CO120))+(CO94*MDR!$BD$6/(MDR!EQ208*CO120))+(CO95*MDR!$BE$6/(MDR!EQ209*CO120)))","v":{"$error":"#VALUE!"}},{"$f":"100/((CQ86/CP86)+(CQ87/CP87)+(CQ88/CP88)+(CQ89/CP89)+(CQ90/CP90)+(CQ91/CP91)+(CQ92/CP92)+(CQ93/CP93)+(CQ94/CP94)+(CQ95/CP95))","v":{"$error":"#VALUE!"}},{"$f":"100/((CQ86*MDR!$AV$6/(MDR!ES200*CQ120))+(CQ87*MDR!$AW$6/(MDR!ES201*CQ120))+(CQ88*MDR!$AX$6/(MDR!ES202*CQ120))+(CQ89*MDR!$AY$6/(MDR!ES203*CQ120))+(CQ90*MDR!$AZ$6/(MDR!ES204*CQ120))+(CQ91*MDR!$BA$6/(MDR!ES205*CQ120))+(CQ92*MDR!$BB$6/(MDR!ES206*CQ120))+(CQ93*MDR!$BC$6/(MDR!ES207*CQ120))+(CQ94*MDR!$BD$6/(MDR!ES208*CQ120))+(CQ95*MDR!$BE$6/(MDR!ES209*CQ120)))","v":{"$error":"#VALUE!"}},null,null,null,null,{"$f":"100/((CW86/CV86)+(CW87/CV87)+(CW88/CV88)+(CW89/CV89)+(CW90/CV90)+(CW91/CV91)+(CW92/CV92)+(CW93/CV93)+(CW94/CV94)+(CW95/CV95))","v":{"$error":"#VALUE!"}},{"$f":"100/((CW86*MDR!$AV$6/(MDR!EY200*CW120))+(CW87*MDR!$AW$6/(MDR!EY201*CW120))+(CW88*MDR!$AX$6/(MDR!EY202*CW120))+(CW89*MDR!$AY$6/(MDR!EY203*CW120))+(CW90*MDR!$AZ$6/(MDR!EY204*CW120))+(CW91*MDR!$BA$6/(MDR!EY205*CW120))+(CW92*MDR!$BB$6/(MDR!EY206*CW120))+(CW93*MDR!$BC$6/(MDR!EY207*CW120))+(CW94*MDR!$BD$6/(MDR!EY208*CW120))+(CW95*MDR!$BE$6/(MDR!EY209*CW120)))","v":{"$error":"#VALUE!"}},{"$f":"100/((CY86/CX86)+(CY87/CX87)+(CY88/CX88)+(CY89/CX89)+(CY90/CX90)+(CY91/CX91)+(CY92/CX92)+(CY93/CX93)+(CY94/CX94)+(CY95/CX95))","v":{"$error":"#VALUE!"}},{"$f":"100/((CY86*MDR!$AV$6/(MDR!FA200*CY120))+(CY87*MDR!$AW$6/(MDR!FA201*CY120))+(CY88*MDR!$AX$6/(MDR!FA202*CY120))+(CY89*MDR!$AY$6/(MDR!FA203*CY120))+(CY90*MDR!$AZ$6/(MDR!FA204*CY120))+(CY91*MDR!$BA$6/(MDR!FA205*CY120))+(CY92*MDR!$BB$6/(MDR!FA206*CY120))+(CY93*MDR!$BC$6/(MDR!FA207*CY120))+(CY94*MDR!$BD$6/(MDR!FA208*CY120))+(CY95*MDR!$BE$6/(MDR!FA209*CY120)))","v":{"$error":"#VALUE!"}},{"$f":"100/((DA86/CZ86)+(DA87/CZ87)+(DA88/CZ88)+(DA89/CZ89)+(DA90/CZ90)+(DA91/CZ91)+(DA92/CZ92)+(DA93/CZ93)+(DA94/CZ94)+(DA95/CZ95))","v":{"$error":"#VALUE!"}},{"$f":"100/((DA86*MDR!$AV$6/(MDR!FC200*DA120))+(DA87*MDR!$AW$6/(MDR!FC201*DA120))+(DA88*MDR!$AX$6/(MDR!FC202*DA120))+(DA89*MDR!$AY$6/(MDR!FC203*DA120))+(DA90*MDR!$AZ$6/(MDR!FC204*DA120))+(DA91*MDR!$BA$6/(MDR!FC205*DA120))+(DA92*MDR!$BB$6/(MDR!FC206*DA120))+(DA93*MDR!$BC$6/(MDR!FC207*DA120))+(DA94*MDR!$BD$6/(MDR!FC208*DA120))+(DA95*MDR!$BE$6/(MDR!FC209*DA120)))","v":{"$error":"#VALUE!"}},{"$f":"100/((DC86/DB86)+(DC87/DB87)+(DC88/DB88)+(DC89/DB89)+(DC90/DB90)+(DC91/DB91)+(DC92/DB92)+(DC93/DB93)+(DC94/DB94)+(DC95/DB95))","v":{"$error":"#VALUE!"}},{"$f":"100/((DC86*MDR!$AV$6/(MDR!FE200*DC120))+(DC87*MDR!$AW$6/(MDR!FE201*DC120))+(DC88*MDR!$AX$6/(MDR!FE202*DC120))+(DC89*MDR!$AY$6/(MDR!FE203*DC120))+(DC90*MDR!$AZ$6/(MDR!FE204*DC120))+(DC91*MDR!$BA$6/(MDR!FE205*DC120))+(DC92*MDR!$BB$6/(MDR!FE206*DC120))+(DC93*MDR!$BC$6/(MDR!FE207*DC120))+(DC94*MDR!$BD$6/(MDR!FE208*DC120))+(DC95*MDR!$BE$6/(MDR!FE209*DC120)))","v":{"$error":"#VALUE!"}},null,null,null,null,{"$f":"100/((DI86/DH86)+(DI87/DH87)+(DI88/DH88)+(DI89/DH89)+(DI90/DH90)+(DI91/DH91)+(DI92/DH92)+(DI93/DH93)+(DI94/DH94)+(DI95/DH95))","v":{"$error":"#VALUE!"}},{"$f":"100/((DI86*MDR!$AV$6/(MDR!FK200*DI120))+(DI87*MDR!$AW$6/(MDR!FK201*DI120))+(DI88*MDR!$AX$6/(MDR!FK202*DI120))+(DI89*MDR!$AY$6/(MDR!FK203*DI120))+(DI90*MDR!$AZ$6/(MDR!FK204*DI120))+(DI91*MDR!$BA$6/(MDR!FK205*DI120))+(DI92*MDR!$BB$6/(MDR!FK206*DI120))+(DI93*MDR!$BC$6/(MDR!FK207*DI120))+(DI94*MDR!$BD$6/(MDR!FK208*DI120))+(DI95*MDR!$BE$6/(MDR!FK209*DI120)))","v":{"$error":"#VALUE!"}},{"$f":"100/((DK86/DJ86)+(DK87/DJ87)+(DK88/DJ88)+(DK89/DJ89)+(DK90/DJ90)+(DK91/DJ91)+(DK92/DJ92)+(DK93/DJ93)+(DK94/DJ94)+(DK95/DJ95))","v":{"$error":"#VALUE!"}},{"$f":"100/((DK86*MDR!$AV$6/(MDR!FM200*DK120))+(DK87*MDR!$AW$6/(MDR!FM201*DK120))+(DK88*MDR!$AX$6/(MDR!FM202*DK120))+(DK89*MDR!$AY$6/(MDR!FM203*DK120))+(DK90*MDR!$AZ$6/(MDR!FM204*DK120))+(DK91*MDR!$BA$6/(MDR!FM205*DK120))+(DK92*MDR!$BB$6/(MDR!FM206*DK120))+(DK93*MDR!$BC$6/(MDR!FM207*DK120))+(DK94*MDR!$BD$6/(MDR!FM208*DK120))+(DK95*MDR!$BE$6/(MDR!FM209*DK120)))","v":{"$error":"#VALUE!"}},{"$f":"100/((DM86/DL86)+(DM87/DL87)+(DM88/DL88)+(DM89/DL89)+(DM90/DL90)+(DM91/DL91)+(DM92/DL92)+(DM93/DL93)+(DM94/DL94)+(DM95/DL95))","v":{"$error":"#VALUE!"}},{"$f":"100/((DM86*MDR!$AV$6/(MDR!FO200*DM120))+(DM87*MDR!$AW$6/(MDR!FO201*DM120))+(DM88*MDR!$AX$6/(MDR!FO202*DM120))+(DM89*MDR!$AY$6/(MDR!FO203*DM120))+(DM90*MDR!$AZ$6/(MDR!FO204*DM120))+(DM91*MDR!$BA$6/(MDR!FO205*DM120))+(DM92*MDR!$BB$6/(MDR!FO206*DM120))+(DM93*MDR!$BC$6/(MDR!FO207*DM120))+(DM94*MDR!$BD$6/(MDR!FO208*DM120))+(DM95*MDR!$BE$6/(MDR!FO209*DM120)))","v":{"$error":"#VALUE!"}},{"$f":"100/((DO86/DN86)+(DO87/DN87)+(DO88/DN88)+(DO89/DN89)+(DO90/DN90)+(DO91/DN91)+(DO92/DN92)+(DO93/DN93)+(DO94/DN94)+(DO95/DN95))","v":{"$error":"#VALUE!"}},{"$f":"100/((DO86*MDR!$AV$6/(MDR!FQ200*DO120))+(DO87*MDR!$AW$6/(MDR!FQ201*DO120))+(DO88*MDR!$AX$6/(MDR!FQ202*DO120))+(DO89*MDR!$AY$6/(MDR!FQ203*DO120))+(DO90*MDR!$AZ$6/(MDR!FQ204*DO120))+(DO91*MDR!$BA$6/(MDR!FQ205*DO120))+(DO92*MDR!$BB$6/(MDR!FQ206*DO120))+(DO93*MDR!$BC$6/(MDR!FQ207*DO120))+(DO94*MDR!$BD$6/(MDR!FQ208*DO120))+(DO95*MDR!$BE$6/(MDR!FQ209*DO120)))","v":{"$error":"#VALUE!"}},null,null,null,null,{"$f":"100/((DU86/DT86)+(DU87/DT87)+(DU88/DT88)+(DU89/DT89)+(DU90/DT90)+(DU91/DT91)+(DU92/DT92)+(DU93/DT93)+(DU94/DT94)+(DU95/DT95))","v":{"$error":"#VALUE!"}},{"$f":"100/((DU86*MDR!$AV$6/(MDR!FW200*DU120))+(DU87*MDR!$AW$6/(MDR!FW201*DU120))+(DU88*MDR!$AX$6/(MDR!FW202*DU120))+(DU89*MDR!$AY$6/(MDR!FW203*DU120))+(DU90*MDR!$AZ$6/(MDR!FW204*DU120))+(DU91*MDR!$BA$6/(MDR!FW205*DU120))+(DU92*MDR!$BB$6/(MDR!FW206*DU120))+(DU93*MDR!$BC$6/(MDR!FW207*DU120))+(DU94*MDR!$BD$6/(MDR!FW208*DU120))+(DU95*MDR!$BE$6/(MDR!FW209*DU120)))","v":{"$error":"#VALUE!"}},{"$f":"100/((DW86/DV86)+(DW87/DV87)+(DW88/DV88)+(DW89/DV89)+(DW90/DV90)+(DW91/DV91)+(DW92/DV92)+(DW93/DV93)+(DW94/DV94)+(DW95/DV95))","v":{"$error":"#VALUE!"}},{"$f":"100/((DW86*MDR!$AV$6/(MDR!FY200*DW120))+(DW87*MDR!$AW$6/(MDR!FY201*DW120))+(DW88*MDR!$AX$6/(MDR!FY202*DW120))+(DW89*MDR!$AY$6/(MDR!FY203*DW120))+(DW90*MDR!$AZ$6/(MDR!FY204*DW120))+(DW91*MDR!$BA$6/(MDR!FY205*DW120))+(DW92*MDR!$BB$6/(MDR!FY206*DW120))+(DW93*MDR!$BC$6/(MDR!FY207*DW120))+(DW94*MDR!$BD$6/(MDR!FY208*DW120))+(DW95*MDR!$BE$6/(MDR!FY209*DW120)))","v":{"$error":"#VALUE!"}},{"$f":"100/((DY86/DX86)+(DY87/DX87)+(DY88/DX88)+(DY89/DX89)+(DY90/DX90)+(DY91/DX91)+(DY92/DX92)+(DY93/DX93)+(DY94/DX94)+(DY95/DX95))","v":{"$error":"#VALUE!"}},{"$f":"100/((DY86*MDR!$AV$6/(MDR!GA200*DY120))+(DY87*MDR!$AW$6/(MDR!GA201*DY120))+(DY88*MDR!$AX$6/(MDR!GA202*DY120))+(DY89*MDR!$AY$6/(MDR!GA203*DY120))+(DY90*MDR!$AZ$6/(MDR!GA204*DY120))+(DY91*MDR!$BA$6/(MDR!GA205*DY120))+(DY92*MDR!$BB$6/(MDR!GA206*DY120))+(DY93*MDR!$BC$6/(MDR!GA207*DY120))+(DY94*MDR!$BD$6/(MDR!GA208*DY120))+(DY95*MDR!$BE$6/(MDR!GA209*DY120)))","v":{"$error":"#VALUE!"}},{"$f":"100/((EA86/DZ86)+(EA87/DZ87)+(EA88/DZ88)+(EA89/DZ89)+(EA90/DZ90)+(EA91/DZ91)+(EA92/DZ92)+(EA93/DZ93)+(EA94/DZ94)+(EA95/DZ95))","v":{"$error":"#VALUE!"}},{"$f":"100/((EA86*MDR!$AV$6/(MDR!GC200*EA120))+(EA87*MDR!$AW$6/(MDR!GC201*EA120))+(EA88*MDR!$AX$6/(MDR!GC202*EA120))+(EA89*MDR!$AY$6/(MDR!GC203*EA120))+(EA90*MDR!$AZ$6/(MDR!GC204*EA120))+(EA91*MDR!$BA$6/(MDR!GC205*EA120))+(EA92*MDR!$BB$6/(MDR!GC206*EA120))+(EA93*MDR!$BC$6/(MDR!GC207*EA120))+(EA94*MDR!$BD$6/(MDR!GC208*EA120))+(EA95*MDR!$BE$6/(MDR!GC209*EA120)))","v":{"$error":"#VALUE!"}},null,null,null,null,{"$f":"100/((EG86/EF86)+(EG87/EF87)+(EG88/EF88)+(EG89/EF89)+(EG90/EF90)+(EG91/EF91)+(EG92/EF92)+(EG93/EF93)+(EG94/EF94)+(EG95/EF95))","v":{"$error":"#VALUE!"}},{"$f":"100/((EG86*MDR!$AV$6/(MDR!BG220*EG120))+(EG87*MDR!$AW$6/(MDR!BG221*EG120))+(EG88*MDR!$AX$6/(MDR!BG222*EG120))+(EG89*MDR!$AY$6/(MDR!BG223*EG120))+(EG90*MDR!$AZ$6/(MDR!BG224*EG120))+(EG91*MDR!$BA$6/(MDR!BG225*EG120))+(EG92*MDR!$BB$6/(MDR!BG226*EG120))+(EG93*MDR!$BC$6/(MDR!BG227*EG120))+(EG94*MDR!$BD$6/(MDR!BG228*EG120))+(EG95*MDR!$BE$6/(MDR!BG229*EG120)))","v":{"$error":"#VALUE!"}},{"$f":"100/((EI86/EH86)+(EI87/EH87)+(EI88/EH88)+(EI89/EH89)+(EI90/EH90)+(EI91/EH91)+(EI92/EH92)+(EI93/EH93)+(EI94/EH94)+(EI95/EH95))","v":{"$error":"#VALUE!"}},{"$f":"100/((EI86*MDR!$AV$6/(MDR!BI220*EI120))+(EI87*MDR!$AW$6/(MDR!BI221*EI120))+(EI88*MDR!$AX$6/(MDR!BI222*EI120))+(EI89*MDR!$AY$6/(MDR!BI223*EI120))+(EI90*MDR!$AZ$6/(MDR!BI224*EI120))+(EI91*MDR!$BA$6/(MDR!BI225*EI120))+(EI92*MDR!$BB$6/(MDR!BI226*EI120))+(EI93*MDR!$BC$6/(MDR!BI227*EI120))+(EI94*MDR!$BD$6/(MDR!BI228*EI120))+(EI95*MDR!$BE$6/(MDR!BI229*EI120)))","v":{"$error":"#VALUE!"}},{"$f":"100/((EK86/EJ86)+(EK87/EJ87)+(EK88/EJ88)+(EK89/EJ89)+(EK90/EJ90)+(EK91/EJ91)+(EK92/EJ92)+(EK93/EJ93)+(EK94/EJ94)+(EK95/EJ95))","v":{"$error":"#VALUE!"}},{"$f":"100/((EK86*MDR!$AV$6/(MDR!BK220*EK120))+(EK87*MDR!$AW$6/(MDR!BK221*EK120))+(EK88*MDR!$AX$6/(MDR!BK222*EK120))+(EK89*MDR!$AY$6/(MDR!BK223*EK120))+(EK90*MDR!$AZ$6/(MDR!BK224*EK120))+(EK91*MDR!$BA$6/(MDR!BK225*EK120))+(EK92*MDR!$BB$6/(MDR!BK226*EK120))+(EK93*MDR!$BC$6/(MDR!BK227*EK120))+(EK94*MDR!$BD$6/(MDR!BK228*EK120))+(EK95*MDR!$BE$6/(MDR!BK229*EK120)))","v":{"$error":"#VALUE!"}},{"$f":"100/((EM86/EL86)+(EM87/EL87)+(EM88/EL88)+(EM89/EL89)+(EM90/EL90)+(EM91/EL91)+(EM92/EL92)+(EM93/EL93)+(EM94/EL94)+(EM95/EL95))","v":{"$error":"#VALUE!"}},{"$f":"100/((EM86*MDR!$AV$6/(MDR!BM220*EM120))+(EM87*MDR!$AW$6/(MDR!BM221*EM120))+(EM88*MDR!$AX$6/(MDR!BM222*EM120))+(EM89*MDR!$AY$6/(MDR!BM223*EM120))+(EM90*MDR!$AZ$6/(MDR!BM224*EM120))+(EM91*MDR!$BA$6/(MDR!BM225*EM120))+(EM92*MDR!$BB$6/(MDR!BM226*EM120))+(EM93*MDR!$BC$6/(MDR!BM227*EM120))+(EM94*MDR!$BD$6/(MDR!BM228*EM120))+(EM95*MDR!$BE$6/(MDR!BM229*EM120)))","v":{"$error":"#VALUE!"}},null,null,null,null,{"$f":"100/((ES86/ER86)+(ES87/ER87)+(ES88/ER88)+(ES89/ER89)+(ES90/ER90)+(ES91/ER91)+(ES92/ER92)+(ES93/ER93)+(ES94/ER94)+(ES95/ER95))","v":{"$error":"#VALUE!"}},{"$f":"100/((ES86*MDR!$AV$6/(MDR!BS220*ES120))+(ES87*MDR!$AW$6/(MDR!BS221*ES120))+(ES88*MDR!$AX$6/(MDR!BS222*ES120))+(ES89*MDR!$AY$6/(MDR!BS223*ES120))+(ES90*MDR!$AZ$6/(MDR!BS224*ES120))+(ES91*MDR!$BA$6/(MDR!BS225*ES120))+(ES92*MDR!$BB$6/(MDR!BS226*ES120))+(ES93*MDR!$BC$6/(MDR!BS227*ES120))+(ES94*MDR!$BD$6/(MDR!BS228*ES120))+(ES95*MDR!$BE$6/(MDR!BS229*ES120)))","v":{"$error":"#VALUE!"}},{"$f":"100/((EU86/ET86)+(EU87/ET87)+(EU88/ET88)+(EU89/ET89)+(EU90/ET90)+(EU91/ET91)+(EU92/ET92)+(EU93/ET93)+(EU94/ET94)+(EU95/ET95))","v":{"$error":"#VALUE!"}},{"$f":"100/((EU86*MDR!$AV$6/(MDR!BU220*EU120))+(EU87*MDR!$AW$6/(MDR!BU221*EU120))+(EU88*MDR!$AX$6/(MDR!BU222*EU120))+(EU89*MDR!$AY$6/(MDR!BU223*EU120))+(EU90*MDR!$AZ$6/(MDR!BU224*EU120))+(EU91*MDR!$BA$6/(MDR!BU225*EU120))+(EU92*MDR!$BB$6/(MDR!BU226*EU120))+(EU93*MDR!$BC$6/(MDR!BU227*EU120))+(EU94*MDR!$BD$6/(MDR!BU228*EU120))+(EU95*MDR!$BE$6/(MDR!BU229*EU120)))","v":{"$error":"#VALUE!"}},{"$f":"100/((EW86/EV86)+(EW87/EV87)+(EW88/EV88)+(EW89/EV89)+(EW90/EV90)+(EW91/EV91)+(EW92/EV92)+(EW93/EV93)+(EW94/EV94)+(EW95/EV95))","v":{"$error":"#VALUE!"}},{"$f":"100/((EW86*MDR!$AV$6/(MDR!BW220*EW120))+(EW87*MDR!$AW$6/(MDR!BW221*EW120))+(EW88*MDR!$AX$6/(MDR!BW222*EW120))+(EW89*MDR!$AY$6/(MDR!BW223*EW120))+(EW90*MDR!$AZ$6/(MDR!BW224*EW120))+(EW91*MDR!$BA$6/(MDR!BW225*EW120))+(EW92*MDR!$BB$6/(MDR!BW226*EW120))+(EW93*MDR!$BC$6/(MDR!BW227*EW120))+(EW94*MDR!$BD$6/(MDR!BW228*EW120))+(EW95*MDR!$BE$6/(MDR!BW229*EW120)))","v":{"$error":"#VALUE!"}},{"$f":"100/((EY86/EX86)+(EY87/EX87)+(EY88/EX88)+(EY89/EX89)+(EY90/EX90)+(EY91/EX91)+(EY92/EX92)+(EY93/EX93)+(EY94/EX94)+(EY95/EX95))","v":{"$error":"#VALUE!"}},{"$f":"100/((EY86*MDR!$AV$6/(MDR!BY220*EY120))+(EY87*MDR!$AW$6/(MDR!BY221*EY120))+(EY88*MDR!$AX$6/(MDR!BY222*EY120))+(EY89*MDR!$AY$6/(MDR!BY223*EY120))+(EY90*MDR!$AZ$6/(MDR!BY224*EY120))+(EY91*MDR!$BA$6/(MDR!BY225*EY120))+(EY92*MDR!$BB$6/(MDR!BY226*EY120))+(EY93*MDR!$BC$6/(MDR!BY227*EY120))+(EY94*MDR!$BD$6/(MDR!BY228*EY120))+(EY95*MDR!$BE$6/(MDR!BY229*EY120)))","v":{"$error":"#VALUE!"}},null,null,null,null,{"$f":"100/((FE86/FD86)+(FE87/FD87)+(FE88/FD88)+(FE89/FD89)+(FE90/FD90)+(FE91/FD91)+(FE92/FD92)+(FE93/FD93)+(FE94/FD94)+(FE95/FD95))","v":{"$error":"#VALUE!"}},{"$f":"100/((FE86*MDR!$AV$6/(MDR!CE220*FE120))+(FE87*MDR!$AW$6/(MDR!CE221*FE120))+(FE88*MDR!$AX$6/(MDR!CE222*FE120))+(FE89*MDR!$AY$6/(MDR!CE223*FE120))+(FE90*MDR!$AZ$6/(MDR!CE224*FE120))+(FE91*MDR!$BA$6/(MDR!CE225*FE120))+(FE92*MDR!$BB$6/(MDR!CE226*FE120))+(FE93*MDR!$BC$6/(MDR!CE227*FE120))+(FE94*MDR!$BD$6/(MDR!CE228*FE120))+(FE95*MDR!$BE$6/(MDR!CE229*FE120)))","v":{"$error":"#VALUE!"}},{"$f":"100/((FG86/FF86)+(FG87/FF87)+(FG88/FF88)+(FG89/FF89)+(FG90/FF90)+(FG91/FF91)+(FG92/FF92)+(FG93/FF93)+(FG94/FF94)+(FG95/FF95))","v":{"$error":"#VALUE!"}},{"$f":"100/((FG86*MDR!$AV$6/(MDR!CG220*FG120))+(FG87*MDR!$AW$6/(MDR!CG221*FG120))+(FG88*MDR!$AX$6/(MDR!CG222*FG120))+(FG89*MDR!$AY$6/(MDR!CG223*FG120))+(FG90*MDR!$AZ$6/(MDR!CG224*FG120))+(FG91*MDR!$BA$6/(MDR!CG225*FG120))+(FG92*MDR!$BB$6/(MDR!CG226*FG120))+(FG93*MDR!$BC$6/(MDR!CG227*FG120))+(FG94*MDR!$BD$6/(MDR!CG228*FG120))+(FG95*MDR!$BE$6/(MDR!CG229*FG120)))","v":{"$error":"#VALUE!"}},{"$f":"100/((FI86/FH86)+(FI87/FH87)+(FI88/FH88)+(FI89/FH89)+(FI90/FH90)+(FI91/FH91)+(FI92/FH92)+(FI93/FH93)+(FI94/FH94)+(FI95/FH95))","v":{"$error":"#VALUE!"}},{"$f":"100/((FI86*MDR!$AV$6/(MDR!CI220*FI120))+(FI87*MDR!$AW$6/(MDR!CI221*FI120))+(FI88*MDR!$AX$6/(MDR!CI222*FI120))+(FI89*MDR!$AY$6/(MDR!CI223*FI120))+(FI90*MDR!$AZ$6/(MDR!CI224*FI120))+(FI91*MDR!$BA$6/(MDR!CI225*FI120))+(FI92*MDR!$BB$6/(MDR!CI226*FI120))+(FI93*MDR!$BC$6/(MDR!CI227*FI120))+(FI94*MDR!$BD$6/(MDR!CI228*FI120))+(FI95*MDR!$BE$6/(MDR!CI229*FI120)))","v":{"$error":"#VALUE!"}},{"$f":"100/((FK86/FJ86)+(FK87/FJ87)+(FK88/FJ88)+(FK89/FJ89)+(FK90/FJ90)+(FK91/FJ91)+(FK92/FJ92)+(FK93/FJ93)+(FK94/FJ94)+(FK95/FJ95))","v":{"$error":"#VALUE!"}},{"$f":"100/((FK86*MDR!$AV$6/(MDR!CK220*FK120))+(FK87*MDR!$AW$6/(MDR!CK221*FK120))+(FK88*MDR!$AX$6/(MDR!CK222*FK120))+(FK89*MDR!$AY$6/(MDR!CK223*FK120))+(FK90*MDR!$AZ$6/(MDR!CK224*FK120))+(FK91*MDR!$BA$6/(MDR!CK225*FK120))+(FK92*MDR!$BB$6/(MDR!CK226*FK120))+(FK93*MDR!$BC$6/(MDR!CK227*FK120))+(FK94*MDR!$BD$6/(MDR!CK228*FK120))+(FK95*MDR!$BE$6/(MDR!CK229*FK120)))","v":{"$error":"#VALUE!"}},null,null,null,null,{"$f":"100/((FQ86/FP86)+(FQ87/FP87)+(FQ88/FP88)+(FQ89/FP89)+(FQ90/FP90)+(FQ91/FP91)+(FQ92/FP92)+(FQ93/FP93)+(FQ94/FP94)+(FQ95/FP95))","v":{"$error":"#VALUE!"}},{"$f":"100/((FQ86*MDR!$AV$6/(MDR!CQ220*FQ120))+(FQ87*MDR!$AW$6/(MDR!CQ221*FQ120))+(FQ88*MDR!$AX$6/(MDR!CQ222*FQ120))+(FQ89*MDR!$AY$6/(MDR!CQ223*FQ120))+(FQ90*MDR!$AZ$6/(MDR!CQ224*FQ120))+(FQ91*MDR!$BA$6/(MDR!CQ225*FQ120))+(FQ92*MDR!$BB$6/(MDR!CQ226*FQ120))+(FQ93*MDR!$BC$6/(MDR!CQ227*FQ120))+(FQ94*MDR!$BD$6/(MDR!CQ228*FQ120))+(FQ95*MDR!$BE$6/(MDR!CQ229*FQ120)))","v":{"$error":"#VALUE!"}},{"$f":"100/((FS86/FR86)+(FS87/FR87)+(FS88/FR88)+(FS89/FR89)+(FS90/FR90)+(FS91/FR91)+(FS92/FR92)+(FS93/FR93)+(FS94/FR94)+(FS95/FR95))","v":{"$error":"#VALUE!"}},{"$f":"100/((FS86*MDR!$AV$6/(MDR!CS220*FS120))+(FS87*MDR!$AW$6/(MDR!CS221*FS120))+(FS88*MDR!$AX$6/(MDR!CS222*FS120))+(FS89*MDR!$AY$6/(MDR!CS223*FS120))+(FS90*MDR!$AZ$6/(MDR!CS224*FS120))+(FS91*MDR!$BA$6/(MDR!CS225*FS120))+(FS92*MDR!$BB$6/(MDR!CS226*FS120))+(FS93*MDR!$BC$6/(MDR!CS227*FS120))+(FS94*MDR!$BD$6/(MDR!CS228*FS120))+(FS95*MDR!$BE$6/(MDR!CS229*FS120)))","v":{"$error":"#VALUE!"}},{"$f":"100/((FU86/FT86)+(FU87/FT87)+(FU88/FT88)+(FU89/FT89)+(FU90/FT90)+(FU91/FT91)+(FU92/FT92)+(FU93/FT93)+(FU94/FT94)+(FU95/FT95))","v":{"$error":"#VALUE!"}},{"$f":"100/((FU86*MDR!$AV$6/(MDR!CU220*FU120))+(FU87*MDR!$AW$6/(MDR!CU221*FU120))+(FU88*MDR!$AX$6/(MDR!CU222*FU120))+(FU89*MDR!$AY$6/(MDR!CU223*FU120))+(FU90*MDR!$AZ$6/(MDR!CU224*FU120))+(FU91*MDR!$BA$6/(MDR!CU225*FU120))+(FU92*MDR!$BB$6/(MDR!CU226*FU120))+(FU93*MDR!$BC$6/(MDR!CU227*FU120))+(FU94*MDR!$BD$6/(MDR!CU228*FU120))+(FU95*MDR!$BE$6/(MDR!CU229*FU120)))","v":{"$error":"#VALUE!"}},{"$f":"100/((FW86/FV86)+(FW87/FV87)+(FW88/FV88)+(FW89/FV89)+(FW90/FV90)+(FW91/FV91)+(FW92/FV92)+(FW93/FV93)+(FW94/FV94)+(FW95/FV95))","v":{"$error":"#VALUE!"}},{"$f":"100/((FW86*MDR!$AV$6/(MDR!CW220*FW120))+(FW87*MDR!$AW$6/(MDR!CW221*FW120))+(FW88*MDR!$AX$6/(MDR!CW222*FW120))+(FW89*MDR!$AY$6/(MDR!CW223*FW120))+(FW90*MDR!$AZ$6/(MDR!CW224*FW120))+(FW91*MDR!$BA$6/(MDR!CW225*FW120))+(FW92*MDR!$BB$6/(MDR!CW226*FW120))+(FW93*MDR!$BC$6/(MDR!CW227*FW120))+(FW94*MDR!$BD$6/(MDR!CW228*FW120))+(FW95*MDR!$BE$6/(MDR!CW229*FW120)))","v":{"$error":"#VALUE!"}},null,null,null,null,{"$f":"100/((GC86/GB86)+(GC87/GB87)+(GC88/GB88)+(GC89/GB89)+(GC90/GB90)+(GC91/GB91)+(GC92/GB92)+(GC93/GB93)+(GC94/GB94)+(GC95/GB95))","v":{"$error":"#VALUE!"}},{"$f":"100/((GC86*MDR!$AV$6/(MDR!DC220*GC120))+(GC87*MDR!$AW$6/(MDR!DC221*GC120))+(GC88*MDR!$AX$6/(MDR!DC222*GC120))+(GC89*MDR!$AY$6/(MDR!DC223*GC120))+(GC90*MDR!$AZ$6/(MDR!DC224*GC120))+(GC91*MDR!$BA$6/(MDR!DC225*GC120))+(GC92*MDR!$BB$6/(MDR!DC226*GC120))+(GC93*MDR!$BC$6/(MDR!DC227*GC120))+(GC94*MDR!$BD$6/(MDR!DC228*GC120))+(GC95*MDR!$BE$6/(MDR!DC229*GC120)))","v":{"$error":"#VALUE!"}},{"$f":"100/((GE86/GD86)+(GE87/GD87)+(GE88/GD88)+(GE89/GD89)+(GE90/GD90)+(GE91/GD91)+(GE92/GD92)+(GE93/GD93)+(GE94/GD94)+(GE95/GD95))","v":{"$error":"#VALUE!"}},{"$f":"100/((GE86*MDR!$AV$6/(MDR!DE220*GE120))+(GE87*MDR!$AW$6/(MDR!DE221*GE120))+(GE88*MDR!$AX$6/(MDR!DE222*GE120))+(GE89*MDR!$AY$6/(MDR!DE223*GE120))+(GE90*MDR!$AZ$6/(MDR!DE224*GE120))+(GE91*MDR!$BA$6/(MDR!DE225*GE120))+(GE92*MDR!$BB$6/(MDR!DE226*GE120))+(GE93*MDR!$BC$6/(MDR!DE227*GE120))+(GE94*MDR!$BD$6/(MDR!DE228*GE120))+(GE95*MDR!$BE$6/(MDR!DE229*GE120)))","v":{"$error":"#VALUE!"}},{"$f":"100/((GG86/GF86)+(GG87/GF87)+(GG88/GF88)+(GG89/GF89)+(GG90/GF90)+(GG91/GF91)+(GG92/GF92)+(GG93/GF93)+(GG94/GF94)+(GG95/GF95))","v":{"$error":"#VALUE!"}},{"$f":"100/((GG86*MDR!$AV$6/(MDR!DG220*GG120))+(GG87*MDR!$AW$6/(MDR!DG221*GG120))+(GG88*MDR!$AX$6/(MDR!DG222*GG120))+(GG89*MDR!$AY$6/(MDR!DG223*GG120))+(GG90*MDR!$AZ$6/(MDR!DG224*GG120))+(GG91*MDR!$BA$6/(MDR!DG225*GG120))+(GG92*MDR!$BB$6/(MDR!DG226*GG120))+(GG93*MDR!$BC$6/(MDR!DG227*GG120))+(GG94*MDR!$BD$6/(MDR!DG228*GG120))+(GG95*MDR!$BE$6/(MDR!DG229*GG120)))","v":{"$error":"#VALUE!"}},{"$f":"100/((GI86/GH86)+(GI87/GH87)+(GI88/GH88)+(GI89/GH89)+(GI90/GH90)+(GI91/GH91)+(GI92/GH92)+(GI93/GH93)+(GI94/GH94)+(GI95/GH95))","v":{"$error":"#VALUE!"}},{"$f":"100/((GI86*MDR!$AV$6/(MDR!DI220*GI120))+(GI87*MDR!$AW$6/(MDR!DI221*GI120))+(GI88*MDR!$AX$6/(MDR!DI222*GI120))+(GI89*MDR!$AY$6/(MDR!DI223*GI120))+(GI90*MDR!$AZ$6/(MDR!DI224*GI120))+(GI91*MDR!$BA$6/(MDR!DI225*GI120))+(GI92*MDR!$BB$6/(MDR!DI226*GI120))+(GI93*MDR!$BC$6/(MDR!DI227*GI120))+(GI94*MDR!$BD$6/(MDR!DI228*GI120))+(GI95*MDR!$BE$6/(MDR!DI229*GI120)))","v":{"$error":"#VALUE!"}},null,null,null,null,{"$f":"100/((GO86/GN86)+(GO87/GN87)+(GO88/GN88)+(GO89/GN89)+(GO90/GN90)+(GO91/GN91)+(GO92/GN92)+(GO93/GN93)+(GO94/GN94)+(GO95/GN95))","v":{"$error":"#VALUE!"}},{"$f":"100/((GO86*MDR!$AV$6/(MDR!DO220*GO120))+(GO87*MDR!$AW$6/(MDR!DO221*GO120))+(GO88*MDR!$AX$6/(MDR!DO222*GO120))+(GO89*MDR!$AY$6/(MDR!DO223*GO120))+(GO90*MDR!$AZ$6/(MDR!DO224*GO120))+(GO91*MDR!$BA$6/(MDR!DO225*GO120))+(GO92*MDR!$BB$6/(MDR!DO226*GO120))+(GO93*MDR!$BC$6/(MDR!DO227*GO120))+(GO94*MDR!$BD$6/(MDR!DO228*GO120))+(GO95*MDR!$BE$6/(MDR!DO229*GO120)))","v":{"$error":"#VALUE!"}},{"$f":"100/((GQ86/GP86)+(GQ87/GP87)+(GQ88/GP88)+(GQ89/GP89)+(GQ90/GP90)+(GQ91/GP91)+(GQ92/GP92)+(GQ93/GP93)+(GQ94/GP94)+(GQ95/GP95))","v":{"$error":"#VALUE!"}},{"$f":"100/((GQ86*MDR!$AV$6/(MDR!DQ220*GQ120))+(GQ87*MDR!$AW$6/(MDR!DQ221*GQ120))+(GQ88*MDR!$AX$6/(MDR!DQ222*GQ120))+(GQ89*MDR!$AY$6/(MDR!DQ223*GQ120))+(GQ90*MDR!$AZ$6/(MDR!DQ224*GQ120))+(GQ91*MDR!$BA$6/(MDR!DQ225*GQ120))+(GQ92*MDR!$BB$6/(MDR!DQ226*GQ120))+(GQ93*MDR!$BC$6/(MDR!DQ227*GQ120))+(GQ94*MDR!$BD$6/(MDR!DQ228*GQ120))+(GQ95*MDR!$BE$6/(MDR!DQ229*GQ120)))","v":{"$error":"#VALUE!"}},{"$f":"100/((GS86/GR86)+(GS87/GR87)+(GS88/GR88)+(GS89/GR89)+(GS90/GR90)+(GS91/GR91)+(GS92/GR92)+(GS93/GR93)+(GS94/GR94)+(GS95/GR95))","v":{"$error":"#VALUE!"}},{"$f":"100/((GS86*MDR!$AV$6/(MDR!DS220*GS120))+(GS87*MDR!$AW$6/(MDR!DS221*GS120))+(GS88*MDR!$AX$6/(MDR!DS222*GS120))+(GS89*MDR!$AY$6/(MDR!DS223*GS120))+(GS90*MDR!$AZ$6/(MDR!DS224*GS120))+(GS91*MDR!$BA$6/(MDR!DS225*GS120))+(GS92*MDR!$BB$6/(MDR!DS226*GS120))+(GS93*MDR!$BC$6/(MDR!DS227*GS120))+(GS94*MDR!$BD$6/(MDR!DS228*GS120))+(GS95*MDR!$BE$6/(MDR!DS229*GS120)))","v":{"$error":"#VALUE!"}},{"$f":"100/((GU86/GT86)+(GU87/GT87)+(GU88/GT88)+(GU89/GT89)+(GU90/GT90)+(GU91/GT91)+(GU92/GT92)+(GU93/GT93)+(GU94/GT94)+(GU95/GT95))","v":{"$error":"#VALUE!"}},{"$f":"100/((GU86*MDR!$AV$6/(MDR!DU220*GU120))+(GU87*MDR!$AW$6/(MDR!DU221*GU120))+(GU88*MDR!$AX$6/(MDR!DU222*GU120))+(GU89*MDR!$AY$6/(MDR!DU223*GU120))+(GU90*MDR!$AZ$6/(MDR!DU224*GU120))+(GU91*MDR!$BA$6/(MDR!DU225*GU120))+(GU92*MDR!$BB$6/(MDR!DU226*GU120))+(GU93*MDR!$BC$6/(MDR!DU227*GU120))+(GU94*MDR!$BD$6/(MDR!DU228*GU120))+(GU95*MDR!$BE$6/(MDR!DU229*GU120)))","v":{"$error":"#VALUE!"}},null,null,null,null,{"$f":"100/((HA86/GZ86)+(HA87/GZ87)+(HA88/GZ88)+(HA89/GZ89)+(HA90/GZ90)+(HA91/GZ91)+(HA92/GZ92)+(HA93/GZ93)+(HA94/GZ94)+(HA95/GZ95))","v":{"$error":"#VALUE!"}},{"$f":"100/((HA86*MDR!$AV$6/(MDR!EA220*HA120))+(HA87*MDR!$AW$6/(MDR!EA221*HA120))+(HA88*MDR!$AX$6/(MDR!EA222*HA120))+(HA89*MDR!$AY$6/(MDR!EA223*HA120))+(HA90*MDR!$AZ$6/(MDR!EA224*HA120))+(HA91*MDR!$BA$6/(MDR!EA225*HA120))+(HA92*MDR!$BB$6/(MDR!EA226*HA120))+(HA93*MDR!$BC$6/(MDR!EA227*HA120))+(HA94*MDR!$BD$6/(MDR!EA228*HA120))+(HA95*MDR!$BE$6/(MDR!EA229*HA120)))","v":{"$error":"#VALUE!"}},{"$f":"100/((HC86/HB86)+(HC87/HB87)+(HC88/HB88)+(HC89/HB89)+(HC90/HB90)+(HC91/HB91)+(HC92/HB92)+(HC93/HB93)+(HC94/HB94)+(HC95/HB95))","v":{"$error":"#VALUE!"}},{"$f":"100/((HC86*MDR!$AV$6/(MDR!EC220*HC120))+(HC87*MDR!$AW$6/(MDR!EC221*HC120))+(HC88*MDR!$AX$6/(MDR!EC222*HC120))+(HC89*MDR!$AY$6/(MDR!EC223*HC120))+(HC90*MDR!$AZ$6/(MDR!EC224*HC120))+(HC91*MDR!$BA$6/(MDR!EC225*HC120))+(HC92*MDR!$BB$6/(MDR!EC226*HC120))+(HC93*MDR!$BC$6/(MDR!EC227*HC120))+(HC94*MDR!$BD$6/(MDR!EC228*HC120))+(HC95*MDR!$BE$6/(MDR!EC229*HC120)))","v":{"$error":"#VALUE!"}},{"$f":"100/((HE86/HD86)+(HE87/HD87)+(HE88/HD88)+(HE89/HD89)+(HE90/HD90)+(HE91/HD91)+(HE92/HD92)+(HE93/HD93)+(HE94/HD94)+(HE95/HD95))","v":{"$error":"#VALUE!"}},{"$f":"100/((HE86*MDR!$AV$6/(MDR!EE220*HE120))+(HE87*MDR!$AW$6/(MDR!EE221*HE120))+(HE88*MDR!$AX$6/(MDR!EE222*HE120))+(HE89*MDR!$AY$6/(MDR!EE223*HE120))+(HE90*MDR!$AZ$6/(MDR!EE224*HE120))+(HE91*MDR!$BA$6/(MDR!EE225*HE120))+(HE92*MDR!$BB$6/(MDR!EE226*HE120))+(HE93*MDR!$BC$6/(MDR!EE227*HE120))+(HE94*MDR!$BD$6/(MDR!EE228*HE120))+(HE95*MDR!$BE$6/(MDR!EE229*HE120)))","v":{"$error":"#VALUE!"}},{"$f":"100/((HG86/HF86)+(HG87/HF87)+(HG88/HF88)+(HG89/HF89)+(HG90/HF90)+(HG91/HF91)+(HG92/HF92)+(HG93/HF93)+(HG94/HF94)+(HG95/HF95))","v":{"$error":"#VALUE!"}},{"$f":"100/((HG86*MDR!$AV$6/(MDR!EG220*HG120))+(HG87*MDR!$AW$6/(MDR!EG221*HG120))+(HG88*MDR!$AX$6/(MDR!EG222*HG120))+(HG89*MDR!$AY$6/(MDR!EG223*HG120))+(HG90*MDR!$AZ$6/(MDR!EG224*HG120))+(HG91*MDR!$BA$6/(MDR!EG225*HG120))+(HG92*MDR!$BB$6/(MDR!EG226*HG120))+(HG93*MDR!$BC$6/(MDR!EG227*HG120))+(HG94*MDR!$BD$6/(MDR!EG228*HG120))+(HG95*MDR!$BE$6/(MDR!EG229*HG120)))","v":{"$error":"#VALUE!"}},null,null,null,null,{"$f":"100/((HM86/HL86)+(HM87/HL87)+(HM88/HL88)+(HM89/HL89)+(HM90/HL90)+(HM91/HL91)+(HM92/HL92)+(HM93/HL93)+(HM94/HL94)+(HM95/HL95))","v":{"$error":"#VALUE!"}},{"$f":"100/((HM86*MDR!$AV$6/(MDR!EM220*HM120))+(HM87*MDR!$AW$6/(MDR!EM221*HM120))+(HM88*MDR!$AX$6/(MDR!EM222*HM120))+(HM89*MDR!$AY$6/(MDR!EM223*HM120))+(HM90*MDR!$AZ$6/(MDR!EM224*HM120))+(HM91*MDR!$BA$6/(MDR!EM225*HM120))+(HM92*MDR!$BB$6/(MDR!EM226*HM120))+(HM93*MDR!$BC$6/(MDR!EM227*HM120))+(HM94*MDR!$BD$6/(MDR!EM228*HM120))+(HM95*MDR!$BE$6/(MDR!EM229*HM120)))","v":{"$error":"#VALUE!"}},{"$f":"100/((HO86/HN86)+(HO87/HN87)+(HO88/HN88)+(HO89/HN89)+(HO90/HN90)+(HO91/HN91)+(HO92/HN92)+(HO93/HN93)+(HO94/HN94)+(HO95/HN95))","v":{"$error":"#VALUE!"}},{"$f":"100/((HO86*MDR!$AV$6/(MDR!EO220*HO120))+(HO87*MDR!$AW$6/(MDR!EO221*HO120))+(HO88*MDR!$AX$6/(MDR!EO222*HO120))+(HO89*MDR!$AY$6/(MDR!EO223*HO120))+(HO90*MDR!$AZ$6/(MDR!EO224*HO120))+(HO91*MDR!$BA$6/(MDR!EO225*HO120))+(HO92*MDR!$BB$6/(MDR!EO226*HO120))+(HO93*MDR!$BC$6/(MDR!EO227*HO120))+(HO94*MDR!$BD$6/(MDR!EO228*HO120))+(HO95*MDR!$BE$6/(MDR!EO229*HO120)))","v":{"$error":"#VALUE!"}},{"$f":"100/((HQ86/HP86)+(HQ87/HP87)+(HQ88/HP88)+(HQ89/HP89)+(HQ90/HP90)+(HQ91/HP91)+(HQ92/HP92)+(HQ93/HP93)+(HQ94/HP94)+(HQ95/HP95))","v":{"$error":"#VALUE!"}},{"$f":"100/((HQ86*MDR!$AV$6/(MDR!EQ220*HQ120))+(HQ87*MDR!$AW$6/(MDR!EQ221*HQ120))+(HQ88*MDR!$AX$6/(MDR!EQ222*HQ120))+(HQ89*MDR!$AY$6/(MDR!EQ223*HQ120))+(HQ90*MDR!$AZ$6/(MDR!EQ224*HQ120))+(HQ91*MDR!$BA$6/(MDR!EQ225*HQ120))+(HQ92*MDR!$BB$6/(MDR!EQ226*HQ120))+(HQ93*MDR!$BC$6/(MDR!EQ227*HQ120))+(HQ94*MDR!$BD$6/(MDR!EQ228*HQ120))+(HQ95*MDR!$BE$6/(MDR!EQ229*HQ120)))","v":{"$error":"#VALUE!"}},{"$f":"100/((HS86/HR86)+(HS87/HR87)+(HS88/HR88)+(HS89/HR89)+(HS90/HR90)+(HS91/HR91)+(HS92/HR92)+(HS93/HR93)+(HS94/HR94)+(HS95/HR95))","v":{"$error":"#VALUE!"}},{"$f":"100/((HS86*MDR!$AV$6/(MDR!ES220*HS120))+(HS87*MDR!$AW$6/(MDR!ES221*HS120))+(HS88*MDR!$AX$6/(MDR!ES222*HS120))+(HS89*MDR!$AY$6/(MDR!ES223*HS120))+(HS90*MDR!$AZ$6/(MDR!ES224*HS120))+(HS91*MDR!$BA$6/(MDR!ES225*HS120))+(HS92*MDR!$BB$6/(MDR!ES226*HS120))+(HS93*MDR!$BC$6/(MDR!ES227*HS120))+(HS94*MDR!$BD$6/(MDR!ES228*HS120))+(HS95*MDR!$BE$6/(MDR!ES229*HS120)))","v":{"$error":"#VALUE!"}},null,null,null,null,{"$f":"100/((HY86/HX86)+(HY87/HX87)+(HY88/HX88)+(HY89/HX89)+(HY90/HX90)+(HY91/HX91)+(HY92/HX92)+(HY93/HX93)+(HY94/HX94)+(HY95/HX95))","v":{"$error":"#VALUE!"}},{"$f":"100/((HY86*MDR!$AV$6/(MDR!EY220*HY120))+(HY87*MDR!$AW$6/(MDR!EY221*HY120))+(HY88*MDR!$AX$6/(MDR!EY222*HY120))+(HY89*MDR!$AY$6/(MDR!EY223*HY120))+(HY90*MDR!$AZ$6/(MDR!EY224*HY120))+(HY91*MDR!$BA$6/(MDR!EY225*HY120))+(HY92*MDR!$BB$6/(MDR!EY226*HY120))+(HY93*MDR!$BC$6/(MDR!EY227*HY120))+(HY94*MDR!$BD$6/(MDR!EY228*HY120))+(HY95*MDR!$BE$6/(MDR!EY229*HY120)))","v":{"$error":"#VALUE!"}},{"$f":"100/((IA86/HZ86)+(IA87/HZ87)+(IA88/HZ88)+(IA89/HZ89)+(IA90/HZ90)+(IA91/HZ91)+(IA92/HZ92)+(IA93/HZ93)+(IA94/HZ94)+(IA95/HZ95))","v":{"$error":"#VALUE!"}},{"$f":"100/((IA86*MDR!$AV$6/(MDR!FA220*IA120))+(IA87*MDR!$AW$6/(MDR!FA221*IA120))+(IA88*MDR!$AX$6/(MDR!FA222*IA120))+(IA89*MDR!$AY$6/(MDR!FA223*IA120))+(IA90*MDR!$AZ$6/(MDR!FA224*IA120))+(IA91*MDR!$BA$6/(MDR!FA225*IA120))+(IA92*MDR!$BB$6/(MDR!FA226*IA120))+(IA93*MDR!$BC$6/(MDR!FA227*IA120))+(IA94*MDR!$BD$6/(MDR!FA228*IA120))+(IA95*MDR!$BE$6/(MDR!FA229*IA120)))","v":{"$error":"#VALUE!"}},{"$f":"100/((IC86/IB86)+(IC87/IB87)+(IC88/IB88)+(IC89/IB89)+(IC90/IB90)+(IC91/IB91)+(IC92/IB92)+(IC93/IB93)+(IC94/IB94)+(IC95/IB95))","v":{"$error":"#VALUE!"}},{"$f":"100/((IC86*MDR!$AV$6/(MDR!FC220*IC120))+(IC87*MDR!$AW$6/(MDR!FC221*IC120))+(IC88*MDR!$AX$6/(MDR!FC222*IC120))+(IC89*MDR!$AY$6/(MDR!FC223*IC120))+(IC90*MDR!$AZ$6/(MDR!FC224*IC120))+(IC91*MDR!$BA$6/(MDR!FC225*IC120))+(IC92*MDR!$BB$6/(MDR!FC226*IC120))+(IC93*MDR!$BC$6/(MDR!FC227*IC120))+(IC94*MDR!$BD$6/(MDR!FC228*IC120))+(IC95*MDR!$BE$6/(MDR!FC229*IC120)))","v":{"$error":"#VALUE!"}},{"$f":"100/((IE86/ID86)+(IE87/ID87)+(IE88/ID88)+(IE89/ID89)+(IE90/ID90)+(IE91/ID91)+(IE92/ID92)+(IE93/ID93)+(IE94/ID94)+(IE95/ID95))","v":{"$error":"#VALUE!"}},{"$f":"100/((IE86*MDR!$AV$6/(MDR!FE220*IE120))+(IE87*MDR!$AW$6/(MDR!FE221*IE120))+(IE88*MDR!$AX$6/(MDR!FE222*IE120))+(IE89*MDR!$AY$6/(MDR!FE223*IE120))+(IE90*MDR!$AZ$6/(MDR!FE224*IE120))+(IE91*MDR!$BA$6/(MDR!FE225*IE120))+(IE92*MDR!$BB$6/(MDR!FE226*IE120))+(IE93*MDR!$BC$6/(MDR!FE227*IE120))+(IE94*MDR!$BD$6/(MDR!FE228*IE120))+(IE95*MDR!$BE$6/(MDR!FE229*IE120)))","v":{"$error":"#VALUE!"}},null,null,null,null,{"$f":"100/((IK86/IJ86)+(IK87/IJ87)+(IK88/IJ88)+(IK89/IJ89)+(IK90/IJ90)+(IK91/IJ91)+(IK92/IJ92)+(IK93/IJ93)+(IK94/IJ94)+(IK95/IJ95))","v":{"$error":"#VALUE!"}},{"$f":"100/((IK86*MDR!$AV$6/(MDR!FK220*IK120))+(IK87*MDR!$AW$6/(MDR!FK221*IK120))+(IK88*MDR!$AX$6/(MDR!FK222*IK120))+(IK89*MDR!$AY$6/(MDR!FK223*IK120))+(IK90*MDR!$AZ$6/(MDR!FK224*IK120))+(IK91*MDR!$BA$6/(MDR!FK225*IK120))+(IK92*MDR!$BB$6/(MDR!FK226*IK120))+(IK93*MDR!$BC$6/(MDR!FK227*IK120))+(IK94*MDR!$BD$6/(MDR!FK228*IK120))+(IK95*MDR!$BE$6/(MDR!FK229*IK120)))","v":{"$error":"#VALUE!"}},{"$f":"100/((IM86/IL86)+(IM87/IL87)+(IM88/IL88)+(IM89/IL89)+(IM90/IL90)+(IM91/IL91)+(IM92/IL92)+(IM93/IL93)+(IM94/IL94)+(IM95/IL95))","v":{"$error":"#VALUE!"}},{"$f":"100/((IM86*MDR!$AV$6/(MDR!FM220*IM120))+(IM87*MDR!$AW$6/(MDR!FM221*IM120))+(IM88*MDR!$AX$6/(MDR!FM222*IM120))+(IM89*MDR!$AY$6/(MDR!FM223*IM120))+(IM90*MDR!$AZ$6/(MDR!FM224*IM120))+(IM91*MDR!$BA$6/(MDR!FM225*IM120))+(IM92*MDR!$BB$6/(MDR!FM226*IM120))+(IM93*MDR!$BC$6/(MDR!FM227*IM120))+(IM94*MDR!$BD$6/(MDR!FM228*IM120))+(IM95*MDR!$BE$6/(MDR!FM229*IM120)))","v":{"$error":"#VALUE!"}},{"$f":"100/((IO86/IN86)+(IO87/IN87)+(IO88/IN88)+(IO89/IN89)+(IO90/IN90)+(IO91/IN91)+(IO92/IN92)+(IO93/IN93)+(IO94/IN94)+(IO95/IN95))","v":{"$error":"#VALUE!"}},{"$f":"100/((IO86*MDR!$AV$6/(MDR!FO220*IO120))+(IO87*MDR!$AW$6/(MDR!FO221*IO120))+(IO88*MDR!$AX$6/(MDR!FO222*IO120))+(IO89*MDR!$AY$6/(MDR!FO223*IO120))+(IO90*MDR!$AZ$6/(MDR!FO224*IO120))+(IO91*MDR!$BA$6/(MDR!FO225*IO120))+(IO92*MDR!$BB$6/(MDR!FO226*IO120))+(IO93*MDR!$BC$6/(MDR!FO227*IO120))+(IO94*MDR!$BD$6/(MDR!FO228*IO120))+(IO95*MDR!$BE$6/(MDR!FO229*IO120)))","v":{"$error":"#VALUE!"}},{"$f":"100/((IQ86/IP86)+(IQ87/IP87)+(IQ88/IP88)+(IQ89/IP89)+(IQ90/IP90)+(IQ91/IP91)+(IQ92/IP92)+(IQ93/IP93)+(IQ94/IP94)+(IQ95/IP95))","v":{"$error":"#VALUE!"}},{"$f":"100/((IQ86*MDR!$AV$6/(MDR!FQ220*IQ120))+(IQ87*MDR!$AW$6/(MDR!FQ221*IQ120))+(IQ88*MDR!$AX$6/(MDR!FQ222*IQ120))+(IQ89*MDR!$AY$6/(MDR!FQ223*IQ120))+(IQ90*MDR!$AZ$6/(MDR!FQ224*IQ120))+(IQ91*MDR!$BA$6/(MDR!FQ225*IQ120))+(IQ92*MDR!$BB$6/(MDR!FQ226*IQ120))+(IQ93*MDR!$BC$6/(MDR!FQ227*IQ120))+(IQ94*MDR!$BD$6/(MDR!FQ228*IQ120))+(IQ95*MDR!$BE$6/(MDR!FQ229*IQ120)))","v":{"$error":"#VALUE!"}},null,null,{"$f":"#REF!","v":{"$error":"#REF!"}},"Agency AFT Substituted"]
["1",null,null,null,{"$f":"100-SUM(E87:E95)","v":100},{"$f":"IF(D86=\"\",\"\",D86)","v":""},{"$f":"100-SUM(G87:G95)","v":100},{"$f":"F86","v":""},{"$f":"100-SUM(I87:I95)","v":100},{"$f":"H86","v":""},{"$f":"100-SUM(K87:K95)","v":100},null,"1",{"$f":"IF(B86=\"\",\"\",B86)","v":""},null,{"$f":"J86","v":""},{"$f":"100-SUM(Q87:Q95)","v":100},{"$f":"P86","v":""},{"$f":"100-SUM(S87:S95)","v":100},{"$f":"R86","v":""},{"$f":"100-SUM(U87:U95)","v":100},{"$f":"T86","v":""},{"$f":"100-SUM(W87:W95)","v":100},null,"1",{"$f":"IF(N86=\"\",\"\",N86)","v":""},null,{"$f":"V86","v":""},{"$f":"100-SUM(AC87:AC95)","v":100},{"$f":"AB86","v":""},{"$f":"100-SUM(AE87:AE95)","v":100},{"$f":"AD86","v":""},{"$f":"100-SUM(AG87:AG95)","v":100},{"$f":"AF86","v":""},{"$f":"100-SUM(AI87:AI95)","v":100},null,"1",{"$f":"IF(Z86=\"\",\"\",Z86)","v":""},null,{"$f":"AH86","v":""},{"$f":"100-SUM(AO87:AO95)","v":100},{"$f":"AN86","v":""},{"$f":"100-SUM(AQ87:AQ95)","v":100},{"$f":"AP86","v":""},{"$f":"100-SUM(AS87:AS95)","v":100},{"$f":"AR86","v":""},{"$f":"100-SUM(AU87:AU95)","v":100},null,"1",{"$f":"IF(AL86=\"\",\"\",AL86)","v":""},null,{"$f":"AT86","v":""},{"$f":"100-SUM(BA87:BA95)","v":100},{"$f":"AZ86","v":""},{"$f":"100-SUM(BC87:BC95)","v":100},{"$f":"BB86","v":""},{"$f":"100-SUM(BE87:BE95)","v":100},{"$f":"BD86","v":""},{"$f":"100-SUM(BG87:BG95)","v":100},null,"1",{"$f":"IF(AX86=\"\",\"\",AX86)","v":""},null,{"$f":"BF86","v":""},{"$f":"100-SUM(BM87:BM95)","v":100},{"$f":"BL86","v":""},{"$f":"100-SUM(BO87:BO95)","v":100},{"$f":"BN86","v":""},{"$f":"100-SUM(BQ87:BQ95)","v":100},{"$f":"BP86","v":""},{"$f":"100-SUM(BS87:BS95)","v":100},null,"1",{"$f":"IF(BJ86=\"\",\"\",BJ86)","v":""},null,{"$f":"BR86","v":""},{"$f":"100-SUM(BY87:BY95)","v":100},{"$f":"BX86","v":""},{"$f":"100-SUM(CA87:CA95)","v":100},{"$f":"BZ86","v":""},{"$f":"100-SUM(CC87:CC95)","v":100},{"$f":"CB86","v":""},{"$f":"100-SUM(CE87:CE95)","v":100},null,"1",{"$f":"IF(BV86=\"\",\"\",BV86)","v":""},null,{"$f":"CD86","v":""},{"$f":"100-SUM(CK87:CK95)","v":100},{"$f":"CJ86","v":""},{"$f":"100-SUM(CM87:CM95)","v":100},{"$f":"CL86","v":""},{"$f":"100-SUM(CO87:CO95)","v":100},{"$f":"CN86","v":""},{"$f":"100-SUM(CQ87:CQ95)","v":100},null,"1",{"$f":"IF(CH86=\"\",\"\",CH86)","v":""},null,{"$f":"CP86","v":""},{"$f":"100-SUM(CW87:CW95)","v":100},{"$f":"CV86","v":""},{"$f":"100-SUM(CY87:CY95)","v":100},{"$f":"CX86","v":""},{"$f":"100-SUM(DA87:DA95)","v":100},{"$f":"CZ86","v":""},{"$f":"100-SUM(DC87:DC95)","v":100},null,"1",{"$f":"IF(CT86=\"\",\"\",CT86)","v":""},null,{"$f":"DB86","v":""},{"$f":"100-SUM(DI87:DI95)","v":100},{"$f":"DH86","v":""},{"$f":"100-SUM(DK87:DK95)","v":100},{"$f":"DJ86","v":""},{"$f":"100-SUM(DM87:DM95)","v":100},{"$f":"DL86","v":""},{"$f":"100-SUM(DO87:DO95)","v":100},null,"1",{"$f":"IF(DF86=\"\",\"\",DF86)","v":""},null,{"$f":"DN86","v":""},{"$f":"100-SUM(DU87:DU95)","v":100},{"$f":"DT86","v":""},{"$f":"100-SUM(DW87:DW95)","v":100},{"$f":"DV86","v":""},{"$f":"100-SUM(DY87:DY95)","v":100},{"$f":"DX86","v":""},{"$f":"100-SUM(EA87:EA95)","v":100},null,"1",{"$f":"IF(DR86=\"\",\"\",DR86)","v":""},null,{"$f":"DZ86","v":""},{"$f":"100-SUM(EG87:EG95)","v":100},{"$f":"EF86","v":""},{"$f":"100-SUM(EI87:EI95)","v":100},{"$f":"EH86","v":""},{"$f":"100-SUM(EK87:EK95)","v":100},{"$f":"EJ86","v":""},{"$f":"100-SUM(EM87:EM95)","v":100},null,"1",{"$f":"IF(ED86=\"\",\"\",ED86)","v":""},null,{"$f":"EL86","v":""},{"$f":"100-SUM(ES87:ES95)","v":100},{"$f":"ER86","v":""},{"$f":"100-SUM(EU87:EU95)","v":100},{"$f":"ET86","v":""},{"$f":"100-SUM(EW87:EW95)","v":100},{"$f":"EV86","v":""},{"$f":"100-SUM(EY87:EY95)","v":100},null,"1",{"$f":"IF(EP86=\"\",\"\",EP86)","v":""},null,{"$f":"EX86","v":""},{"$f":"100-SUM(FE87:FE95)","v":100},{"$f":"FD86","v":""},{"$f":"100-SUM(FG87:FG95)","v":100},{"$f":"FF86","v":""},{"$f":"100-SUM(FI87:FI95)","v":100},{"$f":"FH86","v":""},{"$f":"100-SUM(FK87:FK95)","v":100},null,"1",{"$f":"IF(FB86=\"\",\"\",FB86)","v":""},null,{"$f":"FJ86","v":""},{"$f":"100-SUM(FQ87:FQ95)","v":100},{"$f":"FP86","v":""},{"$f":"100-SUM(FS87:FS95)","v":100},{"$f":"FR86","v":""},{"$f":"100-SUM(FU87:FU95)","v":100},{"$f":"FT86","v":""},{"$f":"100-SUM(FW87:FW95)","v":100},null,"1",{"$f":"IF(FN86=\"\",\"\",FN86)","v":""},null,{"$f":"FV86","v":""},{"$f":"100-SUM(GC87:GC95)","v":100},{"$f":"GB86","v":""},{"$f":"100-SUM(GE87:GE95)","v":100},{"$f":"GD86","v":""},{"$f":"100-SUM(GG87:GG95)","v":100},{"$f":"GF86","v":""},{"$f":"100-SUM(GI87:GI95)","v":100},null,"1",{"$f":"IF(FZ86=\"\",\"\",FZ86)","v":""},null,{"$f":"GH86","v":""},{"$f":"100-SUM(GO87:GO95)","v":100},{"$f":"GN86","v":""},{"$f":"100-SUM(GQ87:GQ95)","v":100},{"$f":"GP86","v":""},{"$f":"100-SUM(GS87:GS95)","v":100},{"$f":"GR86","v":""},{"$f":"100-SUM(GU87:GU95)","v":100},null,"1",{"$f":"IF(GL86=\"\",\"\",GL86)","v":""},null,{"$f":"GT86","v":""},{"$f":"100-SUM(HA87:HA95)","v":100},{"$f":"GZ86","v":""},{"$f":"100-SUM(HC87:HC95)","v":100},{"$f":"HB86","v":""},{"$f":"100-SUM(HE87:HE95)","v":100},{"$f":"HD86","v":""},{"$f":"100-SUM(HG87:HG95)","v":100},null,"1",{"$f":"IF(GX86=\"\",\"\",GX86)","v":""},null,{"$f":"HF86","v":""},{"$f":"100-SUM(HM87:HM95)","v":100},{"$f":"HL86","v":""},{"$f":"100-SUM(HO87:HO95)","v":100},{"$f":"HN86","v":""},{"$f":"100-SUM(HQ87:HQ95)","v":100},{"$f":"HP86","v":""},{"$f":"100-SUM(HS87:HS95)","v":100},null,"1",{"$f":"IF(HJ86=\"\",\"\",HJ86)","v":""},null,{"$f":"HR86","v":""},{"$f":"100-SUM(HY87:HY95)","v":100},{"$f":"HX86","v":""},{"$f":"100-SUM(IA87:IA95)","v":100},{"$f":"HZ86","v":""},{"$f":"100-SUM(IC87:IC95)","v":100},{"$f":"IB86","v":""},{"$f":"100-SUM(IE87:IE95)","v":100},null,"1",{"$f":"IF(HV86=\"\",\"\",HV86)","v":""},null,{"$f":"ID86","v":""},{"$f":"100-SUM(IK87:IK95)","v":100},{"$f":"IJ86","v":""},{"$f":"100-SUM(IM87:IM95)","v":100},{"$f":"IL86","v":""},{"$f":"100-SUM(IO87:IO95)","v":100},{"$f":"IN86","v":""},{"$f":"100-SUM(IQ87:IQ95)","v":100},null,null,0,"Agency AFT Substituted"]
["2",null,null,null,null,"",{"$f":"IF(E87=\"\",\"\",E87)","v":""},"",{"$f":"IF(G87=\"\",\"\",G87)","v":""},"",{"$f":"IF(I87=\"\",\"\",I87)","v":""},null,"2",{"$f":"IF(B87=\"\",\"\",B87)","v":""},null,"",{"$f":"IF(K87=\"\",\"\",K87)","v":""},"",{"$f":"IF(Q87=\"\",\"\",Q87)","v":""},"",{"$f":"IF(S87=\"\",\"\",S87)","v":""},"",{"$f":"IF(U87=\"\",\"\",U87)","v":""},null,"2",{"$f":"IF(N87=\"\",\"\",N87)","v":""},null,"",{"$f":"IF(W87=\"\",\"\",W87)","v":""},"",{"$f":"IF(AC87=\"\",\"\",AC87)","v":""},"",{"$f":"IF(AE87=\"\",\"\",AE87)","v":""},"",{"$f":"IF(AG87=\"\",\"\",AG87)","v":""},null,"2",{"$f":"IF(Z87=\"\",\"\",Z87)","v":""},null,"",{"$f":"IF(AI87=\"\",\"\",AI87)","v":""},"",{"$f":"IF(AO87=\"\",\"\",AO87)","v":""},"",{"$f":"IF(AQ87=\"\",\"\",AQ87)","v":""},"",{"$f":"IF(AS87=\"\",\"\",AS87)","v":""},null,"2",{"$f":"IF(AL87=\"\",\"\",AL87)","v":""},null,"",{"$f":"IF(AU87=\"\",\"\",AU87)","v":""},"",{"$f":"IF(BA87=\"\",\"\",BA87)","v":""},"",{"$f":"IF(BC87=\"\",\"\",BC87)","v":""},"",{"$f":"IF(BE87=\"\",\"\",BE87)","v":""},null,"2",{"$f":"IF(AX87=\"\",\"\",AX87)","v":""},null,"",{"$f":"IF(BG87=\"\",\"\",BG87)","v":""},"",{"$f":"IF(BM87=\"\",\"\",BM87)","v":""},"",{"$f":"IF(BO87=\"\",\"\",BO87)","v":""},"",{"$f":"IF(BQ87=\"\",\"\",BQ87)","v":""},null,"2",{"$f":"IF(BJ87=\"\",\"\",BJ87)","v":""},null,"",{"$f":"IF(BS87=\"\",\"\",BS87)","v":""},"",{"$f":"IF(BY87=\"\",\"\",BY87)","v":""},"",{"$f":"IF(CA87=\"\",\"\",CA87)","v":""},"",{"$f":"IF(CC87=\"\",\"\",CC87)","v":""},null,"2",{"$f":"IF(BV87=\"\",\"\",BV87)","v":""},null,"",{"$f":"IF(CE87=\"\",\"\",CE87)","v":""},"",{"$f":"IF(CK87=\"\",\"\",CK87)","v":""},"",{"$f":"IF(CM87=\"\",\"\",CM87)","v":""},"",{"$f":"IF(CO87=\"\",\"\",CO87)","v":""},null,"2",{"$f":"IF(CH87=\"\",\"\",CH87)","v":""},null,"",{"$f":"IF(CQ87=\"\",\"\",CQ87)","v":""},"",{"$f":"IF(CW87=\"\",\"\",CW87)","v":""},"",{"$f":"IF(CY87=\"\",\"\",CY87)","v":""},"",{"$f":"IF(DA87=\"\",\"\",DA87)","v":""},null,"2",{"$f":"IF(CT87=\"\",\"\",CT87)","v":""},null,"",{"$f":"IF(DC87=\"\",\"\",DC87)","v":""},"",{"$f":"IF(DI87=\"\",\"\",DI87)","v":""},"",{"$f":"IF(DK87=\"\",\"\",DK87)","v":""},"",{"$f":"IF(DM87=\"\",\"\",DM87)","v":""},null,"2",{"$f":"IF(DF87=\"\",\"\",DF87)","v":""},null,"",{"$f":"IF(DO87=\"\",\"\",DO87)","v":""},"",{"$f":"IF(DU87=\"\",\"\",DU87)","v":""},"",{"$f":"IF(DW87=\"\",\"\",DW87)","v":""},"",{"$f":"IF(DY87=\"\",\"\",DY87)","v":""},null,"2",{"$f":"IF(DR87=\"\",\"\",DR87)","v":""},null,"",{"$f":"IF(EA87=\"\",\"\",EA87)","v":""},"",{"$f":"IF(EG87=\"\",\"\",EG87)","v":""},"",{"$f":"IF(EI87=\"\",\"\",EI87)","v":""},"",{"$f":"IF(EK87=\"\",\"\",EK87)","v":""},null,"2",{"$f":"IF(ED87=\"\",\"\",ED87)","v":""},null,"",{"$f":"IF(EM87=\"\",\"\",EM87)","v":""},"",{"$f":"IF(ES87=\"\",\"\",ES87)","v":""},"",{"$f":"IF(EU87=\"\",\"\",EU87)","v":""},"",{"$f":"IF(EW87=\"\",\"\",EW87)","v":""},null,"2",{"$f":"IF(EP87=\"\",\"\",EP87)","v":""},null,"",{"$f":"IF(EY87=\"\",\"\",EY87)","v":""},"",{"$f":"IF(FE87=\"\",\"\",FE87)","v":""},"",{"$f":"IF(FG87=\"\",\"\",FG87)","v":""},"",{"$f":"IF(FI87=\"\",\"\",FI87)","v":""},null,"2",{"$f":"IF(FB87=\"\",\"\",FB87)","v":""},null,"",{"$f":"IF(FK87=\"\",\"\",FK87)","v":""},"",{"$f":"IF(FQ87=\"\",\"\",FQ87)","v":""},"",{"$f":"IF(FS87=\"\",\"\",FS87)","v":""},"",{"$f":"IF(FU87=\"\",\"\",FU87)","v":""},null,"2",{"$f":"IF(FN87=\"\",\"\",FN87)","v":""},null,"",{"$f":"IF(FW87=\"\",\"\",FW87)","v":""},"",{"$f":"IF(GC87=\"\",\"\",GC87)","v":""},"",{"$f":"IF(GE87=\"\",\"\",GE87)","v":""},"",{"$f":"IF(GG87=\"\",\"\",GG87)","v":""},null,"2",{"$f":"IF(FZ87=\"\",\"\",FZ87)","v":""},null,"",{"$f":"IF(GI87=\"\",\"\",GI87)","v":""},"",{"$f":"IF(GO87=\"\",\"\",GO87)","v":""},"",{"$f":"IF(GQ87=\"\",\"\",GQ87)","v":""},"",{"$f":"IF(GS87=\"\",\"\",GS87)","v":""},null,"2","",null,{"$f":"GT87","v":""},{"$f":"IF(GU87=\"\",\"\",GU87)","v":""},"",{"$f":"IF(HA87=\"\",\"\",HA87)","v":""},"",{"$f":"IF(HC87=\"\",\"\",HC87)","v":""},"",{"$f":"IF(HE87=\"\",\"\",HE87)","v":""},null,"2",{"$f":"IF(GX87=\"\",\"\",GX87)","v":""},null,"",{"$f":"IF(HG87=\"\",\"\",HG87)","v":""},"",{"$f":"IF(HM87=\"\",\"\",HM87)","v":""},"",{"$f":"IF(HO87=\"\",\"\",HO87)","v":""},"",{"$f":"IF(HQ87=\"\",\"\",HQ87)","v":""},null,"2",{"$f":"IF(HJ87=\"\",\"\",HJ87)","v":""},null,"",{"$f":"IF(HS87=\"\",\"\",HS87)","v":""},"",{"$f":"IF(HY87=\"\",\"\",HY87)","v":""},"",{"$f":"IF(IA87=\"\",\"\",IA87)","v":""},"",{"$f":"IF(IC87=\"\",\"\",IC87)","v":""},null,"2",{"$f":"IF(HV87=\"\",\"\",HV87)","v":""},null,"",{"$f":"IF(IE87=\"\",\"\",IE87)","v":""},"",{"$f":"IF(IK87=\"\",\"\",IK87)","v":""},"",{"$f":"IF(IM87=\"\",\"\",IM87)","v":""},"",{"$f":"IF(IO87=\"\",\"\",IO87)","v":""},null,null,0,"Agency AFT Substituted"]
["3",null,null,null,null,"","","","","","",null,"3","",null,"","","","","","","","",null,"3","",null,"","","","","","","","",null,"3","",null,"","","","","","","","",null,"3","",null,"","","","","","","","",null,"3","",null,"","","","","","","","",null,"3","",null,"","","","","","","","",null,"3","",null,"","","","","","","","",null,"3","",null,"","","","","","","","",null,"3","",null,"","","","","","","","",null,"3","",null,"","","","","","","","",null,"3","",null,"","","","","","","","",null,"3","",null,"","","","","","","","",null,"3","",null,"","","","","","","","",null,"3","",null,"","","","","","","","",null,"3","",null,"","","","","","","","",null,"3","",null,"","","","","","","","",null,"3","",null,"","","","","","","","",null,"3","",null,"","","","","","","","",null,"3","",null,"","","","","","","","",null,"3","",null,"","","","","","","","",null,null,0,"Agency AFT Substituted"]
["4",null,null,null,null,"","","","","","",null,"4","",null,"","","","","","","","",null,"4","",null,"","","","","","","","",null,"4","",null,"","","","","","","","",null,"4","",null,"","","","","","","","",null,"4","",null,"","","","","","","","",null,"4","",null,"","","","","","","","",null,"4","",null,"","","","","","","","",null,"4","",null,"","","","","","","","",null,"4","",null,"","","","","","","","",null,"4","",null,"","","","","","","","",null,"4","",null,"","","","","","","","",null,"4","",null,"","","","","","","","",null,"4","",null,"","","","","","","","",null,"4","",null,"","","","","","","","",null,"4","",null,"","","","","","","","",null,"4","",null,"","","","","","","","",null,"4","",null,"","","","","","","","",null,"4","",null,"","","","","","","","",null,"4","",null,"","","","","","","","",null,"4","",null,"","","","","","","","",null,null,0,"Agency AFT Substituted"]
["5",null,null,null,null,"","","","","","",null,"5","",null,"","","","","","","","",null,"5","",null,"","","","","","","","",null,"5","",null,"","","","","","","","",null,"5","",null,"","","","","","","","",null,"5","",null,"","","","","","","","",null,"5","",null,"","","","","","","","",null,"5","",null,"","","","","","","","",null,"5","",null,"","","","","","","","",null,"5","",null,"","","","","","","","",null,"5","",null,"","","","","","","","",null,"5","",null,"","","","","","","","",null,"5","",null,"","","","","","","","",null,"5","",null,"","","","","","","","",null,"5","",null,"","","","","","","","",null,"5","",null,"","","","","","","","",null,"5","",null,"","","","","","","","",null,"5","",null,"","","","","","","","",null,"5","",null,"","","","","","","","",null,"5","",null,"","","","","","","","",null,"5","",null,"","","","","","","","",null,null,0,"Agency AFT Substituted"]
["6",null,null,null,null,"","","","","","",null,"6","",null,"","","","","","","","",null,"6","",null,"","","","","","","","",null,"6","",null,"","","","","","","","",null,"6","",null,"","","","","","","","",null,"6","",null,"","","","","","","","",null,"6","",null,"","","","","","","","",null,"6","",null,"","","","","","","","",null,"6","",null,"","","","","","","","",null,"6","",null,"","","","","","","","",null,"6","",null,"","","","","","","","",null,"6","",null,"","","","","","","","",null,"6","",null,"","","","","","","","",null,"6","",null,"","","","","","","","",null,"6","",null,"","","","","","","","",null,"6","",null,"","","","","","","","",null,"6","",null,"","","","","","","","",null,"6","",null,"","","","","","","","",null,"6","",null,"","","","","","","","",null,"6","",null,"","","","","","","","",null,"6","",null,"","","","","","","","",null,null,0,"Agency AFT Substituted"]
["7",null,null,null,null,"","",{"$f":"F92","v":""},{"$f":"IF(G92=\"\",\"\",G92)","v":""},{"$f":"H92","v":""},{"$f":"IF(I92=\"\",\"\",I92)","v":""},null,"7",{"$f":"IF(B92=\"\",\"\",B92)","v":""},null,{"$f":"J92","v":""},{"$f":"IF(K92=\"\",\"\",K92)","v":""},{"$f":"P92","v":""},{"$f":"IF(Q92=\"\",\"\",Q92)","v":""},{"$f":"R92","v":""},{"$f":"IF(S92=\"\",\"\",S92)","v":""},{"$f":"T92","v":""},{"$f":"IF(U92=\"\",\"\",U92)","v":""},null,"7",{"$f":"IF(N92=\"\",\"\",N92)","v":""},null,{"$f":"V92","v":""},{"$f":"IF(W92=\"\",\"\",W92)","v":""},{"$f":"AB92","v":""},{"$f":"IF(AC92=\"\",\"\",AC92)","v":""},{"$f":"AD92","v":""},{"$f":"IF(AE92=\"\",\"\",AE92)","v":""},{"$f":"AF92","v":""},{"$f":"IF(AG92=\"\",\"\",AG92)","v":""},null,"7",{"$f":"IF(Z92=\"\",\"\",Z92)","v":""},null,{"$f":"AH92","v":""},{"$f":"IF(AI92=\"\",\"\",AI92)","v":""},{"$f":"AN92","v":""},{"$f":"IF(AO92=\"\",\"\",AO92)","v":""},{"$f":"AP92","v":""},{"$f":"IF(AQ92=\"\",\"\",AQ92)","v":""},{"$f":"AR92","v":""},{"$f":"IF(AS92=\"\",\"\",AS92)","v":""},null,"7",{"$f":"IF(AL92=\"\",\"\",AL92)","v":""},null,{"$f":"AT92","v":""},{"$f":"IF(AU92=\"\",\"\",AU92)","v":""},{"$f":"AZ92","v":""},{"$f":"IF(BA92=\"\",\"\",BA92)","v":""},{"$f":"BB92","v":""},{"$f":"IF(BC92=\"\",\"\",BC92)","v":""},{"$f":"BD92","v":""},{"$f":"IF(BE92=\"\",\"\",BE92)","v":""},null,"7",{"$f":"IF(AX92=\"\",\"\",AX92)","v":""},null,{"$f":"BF92","v":""},{"$f":"IF(BG92=\"\",\"\",BG92)","v":""},{"$f":"BL92","v":""},{"$f":"IF(BM92=\"\",\"\",BM92)","v":""},{"$f":"BN92","v":""},{"$f":"IF(BO92=\"\",\"\",BO92)","v":""},{"$f":"BP92","v":""},{"$f":"IF(BQ92=\"\",\"\",BQ92)","v":""},null,"7",{"$f":"IF(BJ92=\"\",\"\",BJ92)","v":""},null,{"$f":"BR92","v":""},{"$f":"IF(BS92=\"\",\"\",BS92)","v":""},{"$f":"BX92","v":""},{"$f":"IF(BY92=\"\",\"\",BY92)","v":""},{"$f":"BZ92","v":""},{"$f":"IF(CA92=\"\",\"\",CA92)","v":""},{"$f":"CB92","v":""},{"$f":"IF(CC92=\"\",\"\",CC92)","v":""},null,"7",{"$f":"IF(BV92=\"\",\"\",BV92)","v":""},null,{"$f":"CD92","v":""},{"$f":"IF(CE92=\"\",\"\",CE92)","v":""},{"$f":"CJ92","v":""},{"$f":"IF(CK92=\"\",\"\",CK92)","v":""},{"$f":"CL92","v":""},{"$f":"IF(CM92=\"\",\"\",CM92)","v":""},{"$f":"CN92","v":""},{"$f":"IF(CO92=\"\",\"\",CO92)","v":""},null,"7",{"$f":"IF(CH92=\"\",\"\",CH92)","v":""},null,{"$f":"CP92","v":""},{"$f":"IF(CQ92=\"\",\"\",CQ92)","v":""},{"$f":"CV92","v":""},{"$f":"IF(CW92=\"\",\"\",CW92)","v":""},{"$f":"CX92","v":""},{"$f":"IF(CY92=\"\",\"\",CY92)","v":""},{"$f":"CZ92","v":""},{"$f":"IF(DA92=\"\",\"\",DA92)","v":""},null,"7",{"$f":"IF(CT92=\"\",\"\",CT92)","v":""},null,{"$f":"DB92","v":""},{"$f":"IF(DC92=\"\",\"\",DC92)","v":""},{"$f":"DH92","v":""},{"$f":"IF(DI92=\"\",\"\",DI92)","v":""},{"$f":"DJ92","v":""},{"$f":"IF(DK92=\"\",\"\",DK92)","v":""},{"$f":"DL92","v":""},{"$f":"IF(DM92=\"\",\"\",DM92)","v":""},null,"7",{"$f":"IF(DF92=\"\",\"\",DF92)","v":""},null,{"$f":"DN92","v":""},{"$f":"IF(DO92=\"\",\"\",DO92)","v":""},{"$f":"DT92","v":""},{"$f":"IF(DU92=\"\",\"\",DU92)","v":""},{"$f":"DV92","v":""},{"$f":"IF(DW92=\"\",\"\",DW92)","v":""},{"$f":"DX92","v":""},{"$f":"IF(DY92=\"\",\"\",DY92)","v":""},null,"7",{"$f":"IF(DR92=\"\",\"\",DR92)","v":""},null,{"$f":"DZ92","v":""},{"$f":"IF(EA92=\"\",\"\",EA92)","v":""},{"$f":"EF92","v":""},{"$f":"IF(EG92=\"\",\"\",EG92)","v":""},{"$f":"EH92","v":""},{"$f":"IF(EI92=\"\",\"\",EI92)","v":""},{"$f":"EJ92","v":""},{"$f":"IF(EK92=\"\",\"\",EK92)","v":""},null,"7",{"$f":"IF(ED92=\"\",\"\",ED92)","v":""},null,{"$f":"EL92","v":""},{"$f":"IF(EM92=\"\",\"\",EM92)","v":""},{"$f":"ER92","v":""},{"$f":"IF(ES92=\"\",\"\",ES92)","v":""},{"$f":"ET92","v":""},{"$f":"IF(EU92=\"\",\"\",EU92)","v":""},{"$f":"EV92","v":""},{"$f":"IF(EW92=\"\",\"\",EW92)","v":""},null,"7",{"$f":"IF(EP92=\"\",\"\",EP92)","v":""},null,{"$f":"EX92","v":""},{"$f":"IF(EY92=\"\",\"\",EY92)","v":""},{"$f":"FD92","v":""},{"$f":"IF(FE92=\"\",\"\",FE92)","v":""},{"$f":"FF92","v":""},{"$f":"IF(FG92=\"\",\"\",FG92)","v":""},{"$f":"FH92","v":""},{"$f":"IF(FI92=\"\",\"\",FI92)","v":""},null,"7",{"$f":"IF(FB92=\"\",\"\",FB92)","v":""},null,{"$f":"FJ92","v":""},{"$f":"IF(FK92=\"\",\"\",FK92)","v":""},{"$f":"FP92","v":""},{"$f":"IF(FQ92=\"\",\"\",FQ92)","v":""},{"$f":"FR92","v":""},{"$f":"IF(FS92=\"\",\"\",FS92)","v":""},{"$f":"FT92","v":""},{"$f":"IF(FU92=\"\",\"\",FU92)","v":""},null,"7",{"$f":"IF(FN92=\"\",\"\",FN92)","v":""},null,{"$f":"FV92","v":""},{"$f":"IF(FW92=\"\",\"\",FW92)","v":""},{"$f":"GB92","v":""},{"$f":"IF(GC92=\"\",\"\",GC92)","v":""},{"$f":"GD92","v":""},{"$f":"IF(GE92=\"\",\"\",GE92)","v":""},{"$f":"GF92","v":""},{"$f":"IF(GG92=\"\",\"\",GG92)","v":""},null,"7",{"$f":"IF(FZ92=\"\",\"\",FZ92)","v":""},null,{"$f":"GH92","v":""},{"$f":"IF(GI92=\"\",\"\",GI92)","v":""},{"$f":"GN92","v":""},{"$f":"IF(GO92=\"\",\"\",GO92)","v":""},{"$f":"GP92","v":""},{"$f":"IF(GQ92=\"\",\"\",GQ92)","v":""},"",{"$f":"IF(GS92=\"\",\"\",GS92)","v":""},null,"7","",null,"","","","",{"$f":"HB92","v":""},"",{"$f":"HD92","v":""},{"$f":"IF(HE92=\"\",\"\",HE92)","v":""},null,"7",{"$f":"IF(GX92=\"\",\"\",GX92)","v":""},null,{"$f":"HF92","v":""},{"$f":"IF(HG92=\"\",\"\",HG92)","v":""},{"$f":"HL92","v":""},{"$f":"IF(HM92=\"\",\"\",HM92)","v":""},{"$f":"HN92","v":""},{"$f":"IF(HO92=\"\",\"\",HO92)","v":""},{"$f":"HP92","v":""},{"$f":"IF(HQ92=\"\",\"\",HQ92)","v":""},null,"7",{"$f":"IF(HJ92=\"\",\"\",HJ92)","v":""},null,{"$f":"HR92","v":""},{"$f":"IF(HS92=\"\",\"\",HS92)","v":""},{"$f":"HX92","v":""},{"$f":"IF(HY92=\"\",\"\",HY92)","v":""},{"$f":"HZ92","v":""},{"$f":"IF(IA92=\"\",\"\",IA92)","v":""},{"$f":"IB92","v":""},{"$f":"IF(IC92=\"\",\"\",IC92)","v":""},null,"7",{"$f":"IF(HV92=\"\",\"\",HV92)","v":""},null,{"$f":"ID92","v":""},{"$f":"IF(IE92=\"\",\"\",IE92)","v":""},{"$f":"IJ92","v":""},{"$f":"IF(IK92=\"\",\"\",IK92)","v":""},{"$f":"IL92","v":""},{"$f":"IF(IM92=\"\",\"\",IM92)","v":""},{"$f":"IN92","v":""},{"$f":"IF(IO92=\"\",\"\",IO92)","v":""}]
["8",null,null,null,null,"","",{"$f":"F93","v":""},{"$f":"IF(G93=\"\",\"\",G93)","v":""},{"$f":"H93","v":""},{"$f":"IF(I93=\"\",\"\",I93)","v":""},null,"8",{"$f":"IF(B93=\"\",\"\",B93)","v":""},null,{"$f":"J93","v":""},{"$f":"IF(K93=\"\",\"\",K93)","v":""},{"$f":"P93","v":""},{"$f":"IF(Q93=\"\",\"\",Q93)","v":""},{"$f":"R93","v":""},{"$f":"IF(S93=\"\",\"\",S93)","v":""},{"$f":"T93","v":""},{"$f":"IF(U93=\"\",\"\",U93)","v":""},null,"8",{"$f":"IF(N93=\"\",\"\",N93)","v":""},null,{"$f":"V93","v":""},{"$f":"IF(W93=\"\",\"\",W93)","v":""},{"$f":"AB93","v":""},{"$f":"IF(AC93=\"\",\"\",AC93)","v":""},{"$f":"AD93","v":""},{"$f":"IF(AE93=\"\",\"\",AE93)","v":""},{"$f":"AF93","v":""},{"$f":"IF(AG93=\"\",\"\",AG93)","v":""},null,"8",{"$f":"IF(Z93=\"\",\"\",Z93)","v":""},null,{"$f":"AH93","v":""},{"$f":"IF(AI93=\"\",\"\",AI93)","v":""},{"$f":"AN93","v":""},{"$f":"IF(AO93=\"\",\"\",AO93)","v":""},{"$f":"AP93","v":""},{"$f":"IF(AQ93=\"\",\"\",AQ93)","v":""},{"$f":"AR93","v":""},{"$f":"IF(AS93=\"\",\"\",AS93)","v":""},null,"8",{"$f":"IF(AL93=\"\",\"\",AL93)","v":""},null,{"$f":"AT93","v":""},{"$f":"IF(AU93=\"\",\"\",AU93)","v":""},{"$f":"AZ93","v":""},{"$f":"IF(BA93=\"\",\"\",BA93)","v":""},{"$f":"BB93","v":""},{"$f":"IF(BC93=\"\",\"\",BC93)","v":""},{"$f":"BD93","v":""},{"$f":"IF(BE93=\"\",\"\",BE93)","v":""},null,"8",{"$f":"IF(AX93=\"\",\"\",AX93)","v":""},null,{"$f":"BF93","v":""},{"$f":"IF(BG93=\"\",\"\",BG93)","v":""},{"$f":"BL93","v":""},{"$f":"IF(BM93=\"\",\"\",BM93)","v":""},{"$f":"BN93","v":""},{"$f":"IF(BO93=\"\",\"\",BO93)","v":""},{"$f":"BP93","v":""},{"$f":"IF(BQ93=\"\",\"\",BQ93)","v":""},null,"8",{"$f":"IF(BJ93=\"\",\"\",BJ93)","v":""},null,{"$f":"BR93","v":""},{"$f":"IF(BS93=\"\",\"\",BS93)","v":""},{"$f":"BX93","v":""},{"$f":"IF(BY93=\"\",\"\",BY93)","v":""},{"$f":"BZ93","v":""},{"$f":"IF(CA93=\"\",\"\",CA93)","v":""},{"$f":"CB93","v":""},{"$f":"IF(CC93=\"\",\"\",CC93)","v":""},null,"8",{"$f":"IF(BV93=\"\",\"\",BV93)","v":""},null,{"$f":"CD93","v":""},{"$f":"IF(CE93=\"\",\"\",CE93)","v":""},{"$f":"CJ93","v":""},{"$f":"IF(CK93=\"\",\"\",CK93)","v":""},{"$f":"CL93","v":""},{"$f":"IF(CM93=\"\",\"\",CM93)","v":""},{"$f":"CN93","v":""},{"$f":"IF(CO93=\"\",\"\",CO93)","v":""},null,"8",{"$f":"IF(CH93=\"\",\"\",CH93)","v":""},null,{"$f":"CP93","v":""},{"$f":"IF(CQ93=\"\",\"\",CQ93)","v":""},{"$f":"CV93","v":""},{"$f":"IF(CW93=\"\",\"\",CW93)","v":""},{"$f":"CX93","v":""},{"$f":"IF(CY93=\"\",\"\",CY93)","v":""},{"$f":"CZ93","v":""},{"$f":"IF(DA93=\"\",\"\",DA93)","v":""},null,"8",{"$f":"IF(CT93=\"\",\"\",CT93)","v":""},null,{"$f":"DB93","v":""},{"$f":"IF(DC93=\"\",\"\",DC93)","v":""},{"$f":"DH93","v":""},{"$f":"IF(DI93=\"\",\"\",DI93)","v":""},{"$f":"DJ93","v":""},{"$f":"IF(DK93=\"\",\"\",DK93)","v":""},{"$f":"DL93","v":""},{"$f":"IF(DM93=\"\",\"\",DM93)","v":""},null,"8",{"$f":"IF(DF93=\"\",\"\",DF93)","v":""},null,{"$f":"DN93","v":""},{"$f":"IF(DO93=\"\",\"\",DO93)","v":""},{"$f":"DT93","v":""},{"$f":"IF(DU93=\"\",\"\",DU93)","v":""},{"$f":"DV93","v":""},{"$f":"IF(DW93=\"\",\"\",DW93)","v":""},{"$f":"DX93","v":""},{"$f":"IF(DY93=\"\",\"\",DY93)","v":""},null,"8",{"$f":"IF(DR93=\"\",\"\",DR93)","v":""},null,{"$f":"DZ93","v":""},{"$f":"IF(EA93=\"\",\"\",EA93)","v":""},{"$f":"EF93","v":""},{"$f":"IF(EG93=\"\",\"\",EG93)","v":""},{"$f":"EH93","v":""},{"$f":"IF(EI93=\"\",\"\",EI93)","v":""},{"$f":"EJ93","v":""},{"$f":"IF(EK93=\"\",\"\",EK93)","v":""},null,"8",{"$f":"IF(ED93=\"\",\"\",ED93)","v":""},null,{"$f":"EL93","v":""},{"$f":"IF(EM93=\"\",\"\",EM93)","v":""},{"$f":"ER93","v":""},{"$f":"IF(ES93=\"\",\"\",ES93)","v":""},{"$f":"ET93","v":""},{"$f":"IF(EU93=\"\",\"\",EU93)","v":""},{"$f":"EV93","v":""},{"$f":"IF(EW93=\"\",\"\",EW93)","v":""},null,"8",{"$f":"IF(EP93=\"\",\"\",EP93)","v":""},null,{"$f":"EX93","v":""},{"$f":"IF(EY93=\"\",\"\",EY93)","v":""},{"$f":"FD93","v":""},{"$f":"IF(FE93=\"\",\"\",FE93)","v":""},{"$f":"FF93","v":""},{"$f":"IF(FG93=\"\",\"\",FG93)","v":""},{"$f":"FH93","v":""},{"$f":"IF(FI93=\"\",\"\",FI93)","v":""},null,"8",{"$f":"IF(FB93=\"\",\"\",FB93)","v":""},null,{"$f":"FJ93","v":""},{"$f":"IF(FK93=\"\",\"\",FK93)","v":""},{"$f":"FP93","v":""},{"$f":"IF(FQ93=\"\",\"\",FQ93)","v":""},{"$f":"FR93","v":""},{"$f":"IF(FS93=\"\",\"\",FS93)","v":""},{"$f":"FT93","v":""},{"$f":"IF(FU93=\"\",\"\",FU93)","v":""},null,"8",{"$f":"IF(FN93=\"\",\"\",FN93)","v":""},null,{"$f":"FV93","v":""},{"$f":"IF(FW93=\"\",\"\",FW93)","v":""},{"$f":"GB93","v":""},{"$f":"IF(GC93=\"\",\"\",GC93)","v":""},{"$f":"GD93","v":""},{"$f":"IF(GE93=\"\",\"\",GE93)","v":""},{"$f":"GF93","v":""},{"$f":"IF(GG93=\"\",\"\",GG93)","v":""},null,"8",{"$f":"IF(FZ93=\"\",\"\",FZ93)","v":""},null,{"$f":"GH93","v":""},{"$f":"IF(GI93=\"\",\"\",GI93)","v":""},{"$f":"GN93","v":""},{"$f":"IF(GO93=\"\",\"\",GO93)","v":""},{"$f":"GP93","v":""},{"$f":"IF(GQ93=\"\",\"\",GQ93)","v":""},"",{"$f":"IF(GS93=\"\",\"\",GS93)","v":""},null,"8","",null,"","","","",{"$f":"HB93","v":""},"",{"$f":"HD93","v":""},{"$f":"IF(HE93=\"\",\"\",HE93)","v":""},null,"8",{"$f":"IF(GX93=\"\",\"\",GX93)","v":""},null,{"$f":"HF93","v":""},{"$f":"IF(HG93=\"\",\"\",HG93)","v":""},{"$f":"HL93","v":""},{"$f":"IF(HM93=\"\",\"\",HM93)","v":""},{"$f":"HN93","v":""},{"$f":"IF(HO93=\"\",\"\",HO93)","v":""},{"$f":"HP93","v":""},{"$f":"IF(HQ93=\"\",\"\",HQ93)","v":""},null,"8",{"$f":"IF(HJ93=\"\",\"\",HJ93)","v":""},null,{"$f":"HR93","v":""},{"$f":"IF(HS93=\"\",\"\",HS93)","v":""},{"$f":"HX93","v":""},{"$f":"IF(HY93=\"\",\"\",HY93)","v":""},{"$f":"HZ93","v":""},{"$f":"IF(IA93=\"\",\"\",IA93)","v":""},{"$f":"IB93","v":""},{"$f":"IF(IC93=\"\",\"\",IC93)","v":""},null,"8",{"$f":"IF(HV93=\"\",\"\",HV93)","v":""},null,{"$f":"ID93","v":""},{"$f":"IF(IE93=\"\",\"\",IE93)","v":""},{"$f":"IJ93","v":""},{"$f":"IF(IK93=\"\",\"\",IK93)","v":""},{"$f":"IL93","v":""},{"$f":"IF(IM93=\"\",\"\",IM93)","v":""},{"$f":"IN93","v":""},{"$f":"IF(IO93=\"\",\"\",IO93)","v":""}]
["9",null,null,null,null,"","",{"$f":"F94","v":""},{"$f":"IF(G94=\"\",\"\",G94)","v":""},{"$f":"H94","v":""},{"$f":"IF(I94=\"\",\"\",I94)","v":""},null,"9",{"$f":"IF(B94=\"\",\"\",B94)","v":""},null,{"$f":"J94","v":""},{"$f":"IF(K94=\"\",\"\",K94)","v":""},{"$f":"P94","v":""},{"$f":"IF(Q94=\"\",\"\",Q94)","v":""},{"$f":"R94","v":""},{"$f":"IF(S94=\"\",\"\",S94)","v":""},{"$f":"T94","v":""},{"$f":"IF(U94=\"\",\"\",U94)","v":""},null,"9",{"$f":"IF(N94=\"\",\"\",N94)","v":""},null,{"$f":"V94","v":""},{"$f":"IF(W94=\"\",\"\",W94)","v":""},{"$f":"AB94","v":""},{"$f":"IF(AC94=\"\",\"\",AC94)","v":""},{"$f":"AD94","v":""},{"$f":"IF(AE94=\"\",\"\",AE94)","v":""},{"$f":"AF94","v":""},{"$f":"IF(AG94=\"\",\"\",AG94)","v":""},null,"9",{"$f":"IF(Z94=\"\",\"\",Z94)","v":""},null,{"$f":"AH94","v":""},{"$f":"IF(AI94=\"\",\"\",AI94)","v":""},{"$f":"AN94","v":""},{"$f":"IF(AO94=\"\",\"\",AO94)","v":""},{"$f":"AP94","v":""},{"$f":"IF(AQ94=\"\",\"\",AQ94)","v":""},{"$f":"AR94","v":""},{"$f":"IF(AS94=\"\",\"\",AS94)","v":""},null,"9",{"$f":"IF(AL94=\"\",\"\",AL94)","v":""},null,{"$f":"AT94","v":""},{"$f":"IF(AU94=\"\",\"\",AU94)","v":""},{"$f":"AZ94","v":""},{"$f":"IF(BA94=\"\",\"\",BA94)","v":""},{"$f":"BB94","v":""},{"$f":"IF(BC94=\"\",\"\",BC94)","v":""},{"$f":"BD94","v":""},{"$f":"IF(BE94=\"\",\"\",BE94)","v":""},null,"9",{"$f":"IF(AX94=\"\",\"\",AX94)","v":""},null,{"$f":"BF94","v":""},{"$f":"IF(BG94=\"\",\"\",BG94)","v":""},{"$f":"BL94","v":""},{"$f":"IF(BM94=\"\",\"\",BM94)","v":""},{"$f":"BN94","v":""},{"$f":"IF(BO94=\"\",\"\",BO94)","v":""},{"$f":"BP94","v":""},{"$f":"IF(BQ94=\"\",\"\",BQ94)","v":""},null,"9",{"$f":"IF(BJ94=\"\",\"\",BJ94)","v":""},null,{"$f":"BR94","v":""},{"$f":"IF(BS94=\"\",\"\",BS94)","v":""},{"$f":"BX94","v":""},{"$f":"IF(BY94=\"\",\"\",BY94)","v":""},{"$f":"BZ94","v":""},{"$f":"IF(CA94=\"\",\"\",CA94)","v":""},{"$f":"CB94","v":""},{"$f":"IF(CC94=\"\",\"\",CC94)","v":""},null,"9",{"$f":"IF(BV94=\"\",\"\",BV94)","v":""},null,{"$f":"CD94","v":""},{"$f":"IF(CE94=\"\",\"\",CE94)","v":""},{"$f":"CJ94","v":""},{"$f":"IF(CK94=\"\",\"\",CK94)","v":""},{"$f":"CL94","v":""},{"$f":"IF(CM94=\"\",\"\",CM94)","v":""},{"$f":"CN94","v":""},{"$f":"IF(CO94=\"\",\"\",CO94)","v":""},null,"9",{"$f":"IF(CH94=\"\",\"\",CH94)","v":""},null,{"$f":"CP94","v":""},{"$f":"IF(CQ94=\"\",\"\",CQ94)","v":""},{"$f":"CV94","v":""},{"$f":"IF(CW94=\"\",\"\",CW94)","v":""},{"$f":"CX94","v":""},{"$f":"IF(CY94=\"\",\"\",CY94)","v":""},{"$f":"CZ94","v":""},{"$f":"IF(DA94=\"\",\"\",DA94)","v":""},null,"9",{"$f":"IF(CT94=\"\",\"\",CT94)","v":""},null,{"$f":"DB94","v":""},{"$f":"IF(DC94=\"\",\"\",DC94)","v":""},{"$f":"DH94","v":""},{"$f":"IF(DI94=\"\",\"\",DI94)","v":""},{"$f":"DJ94","v":""},{"$f":"IF(DK94=\"\",\"\",DK94)","v":""},{"$f":"DL94","v":""},{"$f":"IF(DM94=\"\",\"\",DM94)","v":""},null,"9",{"$f":"IF(DF94=\"\",\"\",DF94)","v":""},null,{"$f":"DN94","v":""},{"$f":"IF(DO94=\"\",\"\",DO94)","v":""},{"$f":"DT94","v":""},{"$f":"IF(DU94=\"\",\"\",DU94)","v":""},{"$f":"DV94","v":""},{"$f":"IF(DW94=\"\",\"\",DW94)","v":""},{"$f":"DX94","v":""},{"$f":"IF(DY94=\"\",\"\",DY94)","v":""},null,"9",{"$f":"IF(DR94=\"\",\"\",DR94)","v":""},null,{"$f":"DZ94","v":""},{"$f":"IF(EA94=\"\",\"\",EA94)","v":""},{"$f":"EF94","v":""},{"$f":"IF(EG94=\"\",\"\",EG94)","v":""},{"$f":"EH94","v":""},{"$f":"IF(EI94=\"\",\"\",EI94)","v":""},{"$f":"EJ94","v":""},{"$f":"IF(EK94=\"\",\"\",EK94)","v":""},null,"9",{"$f":"IF(ED94=\"\",\"\",ED94)","v":""},null,{"$f":"EL94","v":""},{"$f":"IF(EM94=\"\",\"\",EM94)","v":""},{"$f":"ER94","v":""},{"$f":"IF(ES94=\"\",\"\",ES94)","v":""},{"$f":"ET94","v":""},{"$f":"IF(EU94=\"\",\"\",EU94)","v":""},{"$f":"EV94","v":""},{"$f":"IF(EW94=\"\",\"\",EW94)","v":""},null,"9",{"$f":"IF(EP94=\"\",\"\",EP94)","v":""},null,{"$f":"EX94","v":""},{"$f":"IF(EY94=\"\",\"\",EY94)","v":""},{"$f":"FD94","v":""},{"$f":"IF(FE94=\"\",\"\",FE94)","v":""},{"$f":"FF94","v":""},{"$f":"IF(FG94=\"\",\"\",FG94)","v":""},{"$f":"FH94","v":""},{"$f":"IF(FI94=\"\",\"\",FI94)","v":""},null,"9",{"$f":"IF(FB94=\"\",\"\",FB94)","v":""},null,{"$f":"FJ94","v":""},{"$f":"IF(FK94=\"\",\"\",FK94)","v":""},{"$f":"FP94","v":""},{"$f":"IF(FQ94=\"\",\"\",FQ94)","v":""},{"$f":"FR94","v":""},{"$f":"IF(FS94=\"\",\"\",FS94)","v":""},{"$f":"FT94","v":""},{"$f":"IF(FU94=\"\",\"\",FU94)","v":""},null,"9",{"$f":"IF(FN94=\"\",\"\",FN94)","v":""},null,{"$f":"FV94","v":""},{"$f":"IF(FW94=\"\",\"\",FW94)","v":""},{"$f":"GB94","v":""},{"$f":"IF(GC94=\"\",\"\",GC94)","v":""},{"$f":"GD94","v":""},{"$f":"IF(GE94=\"\",\"\",GE94)","v":""},{"$f":"GF94","v":""},{"$f":"IF(GG94=\"\",\"\",GG94)","v":""},null,"9",{"$f":"IF(FZ94=\"\",\"\",FZ94)","v":""},null,{"$f":"GH94","v":""},{"$f":"IF(GI94=\"\",\"\",GI94)","v":""},{"$f":"GN94","v":""},{"$f":"IF(GO94=\"\",\"\",GO94)","v":""},{"$f":"GP94","v":""},{"$f":"IF(GQ94=\"\",\"\",GQ94)","v":""},"",{"$f":"IF(GS94=\"\",\"\",GS94)","v":""},null,"9","",null,"","","","",{"$f":"HB94","v":""},"",{"$f":"HD94","v":""},{"$f":"IF(HE94=\"\",\"\",HE94)","v":""},null,"9",{"$f":"IF(GX94=\"\",\"\",GX94)","v":""},null,{"$f":"HF94","v":""},{"$f":"IF(HG94=\"\",\"\",HG94)","v":""},{"$f":"HL94","v":""},{"$f":"IF(HM94=\"\",\"\",HM94)","v":""},{"$f":"HN94","v":""},{"$f":"IF(HO94=\"\",\"\",HO94)","v":""},{"$f":"HP94","v":""},{"$f":"IF(HQ94=\"\",\"\",HQ94)","v":""},null,"9",{"$f":"IF(HJ94=\"\",\"\",HJ94)","v":""},null,{"$f":"HR94","v":""},{"$f":"IF(HS94=\"\",\"\",HS94)","v":""},{"$f":"HX94","v":""},{"$f":"IF(HY94=\"\",\"\",HY94)","v":""},{"$f":"HZ94","v":""},{"$f":"IF(IA94=\"\",\"\",IA94)","v":""},{"$f":"IB94","v":""},{"$f":"IF(IC94=\"\",\"\",IC94)","v":""},null,"9",{"$f":"IF(HV94=\"\",\"\",HV94)","v":""},null,{"$f":"ID94","v":""},{"$f":"IF(IE94=\"\",\"\",IE94)","v":""},{"$f":"IJ94","v":""},{"$f":"IF(IK94=\"\",\"\",IK94)","v":""},{"$f":"IL94","v":""},{"$f":"IF(IM94=\"\",\"\",IM94)","v":""},{"$f":"IN94","v":""},{"$f":"IF(IO94=\"\",\"\",IO94)","v":""}]
["10",null,null,null,null,"","",{"$f":"F95","v":""},{"$f":"IF(G95=\"\",\"\",G95)","v":""},{"$f":"H95","v":""},{"$f":"IF(I95=\"\",\"\",I95)","v":""},null,"10",{"$f":"IF(B95=\"\",\"\",B95)","v":""},null,{"$f":"J95","v":""},{"$f":"IF(K95=\"\",\"\",K95)","v":""},{"$f":"P95","v":""},{"$f":"IF(Q95=\"\",\"\",Q95)","v":""},{"$f":"R95","v":""},{"$f":"IF(S95=\"\",\"\",S95)","v":""},{"$f":"T95","v":""},{"$f":"IF(U95=\"\",\"\",U95)","v":""},null,"10",{"$f":"IF(N95=\"\",\"\",N95)","v":""},null,{"$f":"V95","v":""},{"$f":"IF(W95=\"\",\"\",W95)","v":""},{"$f":"AB95","v":""},{"$f":"IF(AC95=\"\",\"\",AC95)","v":""},{"$f":"AD95","v":""},{"$f":"IF(AE95=\"\",\"\",AE95)","v":""},{"$f":"AF95","v":""},{"$f":"IF(AG95=\"\",\"\",AG95)","v":""},null,"10",{"$f":"IF(Z95=\"\",\"\",Z95)","v":""},null,{"$f":"AH95","v":""},{"$f":"IF(AI95=\"\",\"\",AI95)","v":""},{"$f":"AN95","v":""},{"$f":"IF(AO95=\"\",\"\",AO95)","v":""},{"$f":"AP95","v":""},{"$f":"IF(AQ95=\"\",\"\",AQ95)","v":""},{"$f":"AR95","v":""},{"$f":"IF(AS95=\"\",\"\",AS95)","v":""},null,"10",{"$f":"IF(AL95=\"\",\"\",AL95)","v":""},null,{"$f":"AT95","v":""},{"$f":"IF(AU95=\"\",\"\",AU95)","v":""},{"$f":"AZ95","v":""},{"$f":"IF(BA95=\"\",\"\",BA95)","v":""},{"$f":"BB95","v":""},{"$f":"IF(BC95=\"\",\"\",BC95)","v":""},{"$f":"BD95","v":""},{"$f":"IF(BE95=\"\",\"\",BE95)","v":""},null,"10",{"$f":"IF(AX95=\"\",\"\",AX95)","v":""},null,{"$f":"BF95","v":""},{"$f":"IF(BG95=\"\",\"\",BG95)","v":""},{"$f":"BL95","v":""},{"$f":"IF(BM95=\"\",\"\",BM95)","v":""},{"$f":"BN95","v":""},{"$f":"IF(BO95=\"\",\"\",BO95)","v":""},{"$f":"BP95","v":""},{"$f":"IF(BQ95=\"\",\"\",BQ95)","v":""},null,"10",{"$f":"IF(BJ95=\"\",\"\",BJ95)","v":""},null,{"$f":"BR95","v":""},{"$f":"IF(BS95=\"\",\"\",BS95)","v":""},{"$f":"BX95","v":""},{"$f":"IF(BY95=\"\",\"\",BY95)","v":""},{"$f":"BZ95","v":""},{"$f":"IF(CA95=\"\",\"\",CA95)","v":""},{"$f":"CB95","v":""},{"$f":"IF(CC95=\"\",\"\",CC95)","v":""},null,"10",{"$f":"IF(BV95=\"\",\"\",BV95)","v":""},null,{"$f":"CD95","v":""},{"$f":"IF(CE95=\"\",\"\",CE95)","v":""},{"$f":"CJ95","v":""},{"$f":"IF(CK95=\"\",\"\",CK95)","v":""},{"$f":"CL95","v":""},{"$f":"IF(CM95=\"\",\"\",CM95)","v":""},{"$f":"CN95","v":""},{"$f":"IF(CO95=\"\",\"\",CO95)","v":""},null,"10",{"$f":"IF(CH95=\"\",\"\",CH95)","v":""},null,{"$f":"CP95","v":""},{"$f":"IF(CQ95=\"\",\"\",CQ95)","v":""},{"$f":"CV95","v":""},{"$f":"IF(CW95=\"\",\"\",CW95)","v":""},{"$f":"CX95","v":""},{"$f":"IF(CY95=\"\",\"\",CY95)","v":""},{"$f":"CZ95","v":""},{"$f":"IF(DA95=\"\",\"\",DA95)","v":""},null,"10",{"$f":"IF(CT95=\"\",\"\",CT95)","v":""},null,{"$f":"DB95","v":""},{"$f":"IF(DC95=\"\",\"\",DC95)","v":""},{"$f":"DH95","v":""},{"$f":"IF(DI95=\"\",\"\",DI95)","v":""},{"$f":"DJ95","v":""},{"$f":"IF(DK95=\"\",\"\",DK95)","v":""},{"$f":"DL95","v":""},{"$f":"IF(DM95=\"\",\"\",DM95)","v":""},null,"10",{"$f":"IF(DF95=\"\",\"\",DF95)","v":""},null,{"$f":"DN95","v":""},{"$f":"IF(DO95=\"\",\"\",DO95)","v":""},{"$f":"DT95","v":""},{"$f":"IF(DU95=\"\",\"\",DU95)","v":""},{"$f":"DV95","v":""},{"$f":"IF(DW95=\"\",\"\",DW95)","v":""},{"$f":"DX95","v":""},{"$f":"IF(DY95=\"\",\"\",DY95)","v":""},null,"10",{"$f":"IF(DR95=\"\",\"\",DR95)","v":""},null,{"$f":"DZ95","v":""},{"$f":"IF(EA95=\"\",\"\",EA95)","v":""},{"$f":"EF95","v":""},{"$f":"IF(EG95=\"\",\"\",EG95)","v":""},{"$f":"EH95","v":""},{"$f":"IF(EI95=\"\",\"\",EI95)","v":""},{"$f":"EJ95","v":""},{"$f":"IF(EK95=\"\",\"\",EK95)","v":""},null,"10",{"$f":"IF(ED95=\"\",\"\",ED95)","v":""},null,{"$f":"EL95","v":""},{"$f":"IF(EM95=\"\",\"\",EM95)","v":""},{"$f":"ER95","v":""},{"$f":"IF(ES95=\"\",\"\",ES95)","v":""},{"$f":"ET95","v":""},{"$f":"IF(EU95=\"\",\"\",EU95)","v":""},{"$f":"EV95","v":""},{"$f":"IF(EW95=\"\",\"\",EW95)","v":""},null,"10",{"$f":"IF(EP95=\"\",\"\",EP95)","v":""},null,{"$f":"EX95","v":""},{"$f":"IF(EY95=\"\",\"\",EY95)","v":""},{"$f":"FD95","v":""},{"$f":"IF(FE95=\"\",\"\",FE95)","v":""},{"$f":"FF95","v":""},{"$f":"IF(FG95=\"\",\"\",FG95)","v":""},{"$f":"FH95","v":""},{"$f":"IF(FI95=\"\",\"\",FI95)","v":""},null,"10",{"$f":"IF(FB95=\"\",\"\",FB95)","v":""},null,{"$f":"FJ95","v":""},{"$f":"IF(FK95=\"\",\"\",FK95)","v":""},{"$f":"FP95","v":""},{"$f":"IF(FQ95=\"\",\"\",FQ95)","v":""},{"$f":"FR95","v":""},{"$f":"IF(FS95=\"\",\"\",FS95)","v":""},{"$f":"FT95","v":""},{"$f":"IF(FU95=\"\",\"\",FU95)","v":""},null,"10",{"$f":"IF(FN95=\"\",\"\",FN95)","v":""},null,{"$f":"FV95","v":""},{"$f":"IF(FW95=\"\",\"\",FW95)","v":""},{"$f":"GB95","v":""},{"$f":"IF(GC95=\"\",\"\",GC95)","v":""},{"$f":"GD95","v":""},{"$f":"IF(GE95=\"\",\"\",GE95)","v":""},{"$f":"GF95","v":""},{"$f":"IF(GG95=\"\",\"\",GG95)","v":""},null,"10",{"$f":"IF(FZ95=\"\",\"\",FZ95)","v":""},null,{"$f":"GH95","v":""},{"$f":"IF(GI95=\"\",\"\",GI95)","v":""},{"$f":"GN95","v":""},{"$f":"IF(GO95=\"\",\"\",GO95)","v":""},{"$f":"GP95","v":""},{"$f":"IF(GQ95=\"\",\"\",GQ95)","v":""},"",{"$f":"IF(GS95=\"\",\"\",GS95)","v":""},null,"10","",null,"","","","",{"$f":"HB95","v":""},"",{"$f":"HD95","v":""},{"$f":"IF(HE95=\"\",\"\",HE95)","v":""},null,"10",{"$f":"IF(GX95=\"\",\"\",GX95)","v":""},null,{"$f":"HF95","v":""},{"$f":"IF(HG95=\"\",\"\",HG95)","v":""},{"$f":"HL95","v":""},{"$f":"IF(HM95=\"\",\"\",HM95)","v":""},{"$f":"HN95","v":""},{"$f":"IF(HO95=\"\",\"\",HO95)","v":""},{"$f":"HP95","v":""},{"$f":"IF(HQ95=\"\",\"\",HQ95)","v":""},null,"10",{"$f":"IF(HJ95=\"\",\"\",HJ95)","v":""},null,{"$f":"HR95","v":""},{"$f":"IF(HS95=\"\",\"\",HS95)","v":""},{"$f":"HX95","v":""},{"$f":"IF(HY95=\"\",\"\",HY95)","v":""},{"$f":"HZ95","v":""},{"$f":"IF(IA95=\"\",\"\",IA95)","v":""},{"$f":"IB95","v":""},{"$f":"IF(IC95=\"\",\"\",IC95)","v":""},null,"10",{"$f":"IF(HV95=\"\",\"\",HV95)","v":""},null,{"$f":"ID95","v":""},{"$f":"IF(IE95=\"\",\"\",IE95)","v":""},{"$f":"IJ95","v":""},{"$f":"IF(IK95=\"\",\"\",IK95)","v":""},{"$f":"IL95","v":""},{"$f":"IF(IM95=\"\",\"\",IM95)","v":""},{"$f":"IN95","v":""},{"$f":"IF(IO95=\"\",\"\",IO95)","v":""}]
["Add AC",null,null,null,4.3,null,null,null,null,null,null,null,"Add AC","",null,null,null,null,null,null,null,null,null,null,"Add AC","",null,null,null,null,null,null,null,null,null,null,"Add AC","",null,null,null,null,null,null,null,null,null,null,"Add AC","",null,null,null,null,null,null,null,null,null,null,"Add AC","",null,null,null,null,null,null,null,null,null,null,"Add AC","",null,null,null,null,null,null,null,null,null,null,"Add AC","",null,null,null,null,null,null,null,null,null,null,"Add AC","",null,null,null,null,null,null,null,null,null,null,"Add AC","",null,null,null,null,null,null,null,null,null,null,"Add AC","",null,null,null,null,null,null,null,null,null,null,"Add AC","",null,null,null,null,null,null,null,null,null,null,"Add AC","",null,null,null,null,null,null,null,null,null,null,"Add AC","",null,null,null,null,null,null,null,null,null,null,"Add AC","",null,null,null,null,null,null,null,null,null,null,"Add AC","",null,null,null,null,null,null,null,null,null,null,"Add AC","",null,null,null,null,null,null,null,null,null,null,"Add AC","",null,null,null,null,null,null,null,null,null,null,"Add AC","",null,null,null,null,null,null,null,null,null,null,"Add AC","",null,null,null,null,null,null,null,null,null,null,"Add AC",null,null,null,null,null,null,null,null,null,null,null,null,0,"Agency AFT Substituted"]
[null,null,null,null,null,null,null,null,null,null,null,null,null,null,null,null,null,null,null,null,null,null,null,null,null,null,null,null,null,null,null,null,null,null,null,null,null,null,null,null,null,null,null,null,null,null,null,null,null,null,null,null,null,null,null,null,null,null,null,null,null,null,null,null,null,null,null,null,null,null,null,null,null,null,null,null,null,null,null,null,null,null,null,null,null,null,null,null,null,null,null,null,null,null,null,null,null,null,null,null,null,null,null,null,null,null,null,null,null,null,null,null,null,null,null,null,null,null,null,null,null,null,null,null,null,null,null,null,null,null,null,null,null,null,null,null,null,null,null,null,null,null,null,null,null,null,null,null,null,null,null,null,null,null,null,null,null,null,null,null,null,null,null,null,null,null,null,null,null,null,null,null,null,null,null,null,null,null,null,null,null,null,null,null,null,null,null,null,null,null,null,null,null,null,null,null,null,null,null,null,null,null,null,null,null,null,null,null,null,null,null,null,null,null,null,null,null,null,null,null,null,null,null,null,null,null,null,null,null,null,null,null,null,null,null,null,null,null,null,null,null,null,null,null,null,null,null,null,null,null,null,null,null,0,"Agency AFT Substituted"]
[null,null,null,null,null,null,null,null,null,null,null,null,null,null,null,null,null,null,null,null,null,null,null,null,null,null,null,null,null,null,null,null,null,null,null,null,null,null,null,null,null,null,null,null,null,null,null,null,null,null,null,null,null,null,null,null,null,null,null,null,null,null,null,null,null,null,null,null,null,null,null,null,null,null,null,null,null,null,null,null,null,null,null,null,null,null,null,null,null,null,null,null,null,null,null,null,null,null,null,null,null,null,null,null,null,null,null,null,null,null,null,null,null,null,null,null,null,null,null,null,null,null,null,null,null,null,null,null,null,null,null,null,null,null,null,null,null,null,null,null,null,null,null,null,null,null,null,null,null,null,null,null,null,null,null,null,null,null,null,null,null,null,null,null,null,null,null,null,null,null,null,null,null,null,null,null,null,null,null,null,null,null,null,null,null,null,null,null,null,null,null,null,null,null,null,null,null,null,null,null,null,null,null,null,null,null,null,null,null,null,null,null,null,null,null,null,null,null,null,null,null,null,null,null,null,null,null,null,null,null,null,null,null,null,null,null,null,null,null,null,null,null,null,null,null,null,null,null,null,null,null,null,null,0,"Agency AFT Substituted"]
[null,"CONTRACTOR  REPRESENTATIVE",null,null,null,null,"AGENCY  REPRESENTATIVE",null,null,null,null,null,null,"CONTRACTOR  REPRESENTATIVE",null,null,null,null,"AGENCY  REPRESENTATIVE",null,null,null,null,null,null,"CONTRACTOR  REPRESENTATIVE",null,null,null,null,"AGENCY  REPRESENTATIVE",null,null,null,null,null,null,"CONTRACTOR  REPRESENTATIVE",null,null,null,null,"AGENCY  REPRESENTATIVE",null,null,null,null,null,null,"CONTRACTOR  REPRESENTATIVE",null,null,null,null,"AGENCY  REPRESENTATIVE",null,null,null,null,null,null,"CONTRACTOR  REPRESENTATIVE",null,null,null,null,"AGENCY  REPRESENTATIVE",null,null,null,null,null,null,"CONTRACTOR  REPRESENTATIVE",null,null,null,null,"AGENCY  REPRESENTATIVE",null,null,null,null,null,null,"CONTRACTOR  REPRESENTATIVE",null,null,null,null,"AGENCY  REPRESENTATIVE",null,null,null,null,null,null,"CONTRACTOR  REPRESENTATIVE",null,null,null,null,"AGENCY  REPRESENTATIVE",null,null,null,null,null,null,"CONTRACTOR  REPRESENTATIVE",null,null,null,null,"AGENCY  REPRESENTATIVE",null,null,null,null,null,null,"CONTRACTOR  REPRESENTATIVE",null,null,null,null,"AGENCY  REPRESENTATIVE",null,null,null,null,null,null,"CONTRACTOR  REPRESENTATIVE",null,null,null,null,"AGENCY  REPRESENTATIVE",null,null,null,null,null,null,"CONTRACTOR  REPRESENTATIVE",null,null,null,null,"AGENCY  REPRESENTATIVE",null,null,null,null,null,null,"CONTRACTOR  REPRESENTATIVE",null,null,null,null,"AGENCY  REPRESENTATIVE",null,null,null,null,null,null,"CONTRACTOR  REPRESENTATIVE",null,null,null,null,"AGENCY  REPRESENTATIVE",null,null,null,null,null,null,"CONTRACTOR  REPRESENTATIVE",null,null,null,null,"AGENCY  REPRESENTATIVE",null,null,null,null,null,null,"CONTRACTOR  REPRESENTATIVE",null,null,null,null,"AGENCY  REPRESENTATIVE",null,null,null,null,null,null,"CONTRACTOR  REPRESENTATIVE",null,null,null,null,"AGENCY  REPRESENTATIVE",null,null,null,null,null,null,"CONTRACTOR  REPRESENTATIVE",null,null,null,null,"AGENCY  REPRESENTATIVE",null,null,null,null,null,null,"CONTRACTOR  REPRESENTATIVE",null,null,null,null,"AGENCY  REPRESENTATIVE",null,null,null,null,null,null,"CONTRACTOR  REPRESENTATIVE",null,null,null,null,"AGENCY  REPRESENTATIVE",null,null,null,null,null,null,0,"Agency AFT Substituted"]
[null,null,null,{"$f":"MDR!$F12","v":0},null,{"$f":"MDR!$F13","v":{"$error":"#VALUE!"}},null,{"$f":"MDR!$F14","v":{"$error":"#VALUE!"}},null,{"$f":"MDR!$F15","v":{"$error":"#VALUE!"}},null,null,null,null,null,{"$f":"MDR!$F16","v":{"$error":"#VALUE!"}},null,{"$f":"MDR!$F17","v":{"$error":"#VALUE!"}},null,{"$f":"MDR!$F18","v":{"$error":"#VALUE!"}},null,{"$f":"MDR!$F19","v":{"$error":"#VALUE!"}},null,null,null,null,null,{"$f":"MDR!$F20","v":{"$error":"#VALUE!"}},null,{"$f":"MDR!$F21","v":{"$error":"#VALUE!"}},null,{"$f":"MDR!$F22","v":{"$error":"#VALUE!"}},null,{"$f":"MDR!$F23","v":{"$error":"#VALUE!"}},null,null,null,null,null,{"$f":"MDR!$F24","v":{"$error":"#VALUE!"}},null,{"$f":"MDR!$F25","v":{"$error":"#VALUE!"}},null,{"$f":"MDR!$F26","v":{"$error":"#VALUE!"}},null,{"$f":"MDR!$F27","v":{"$error":"#VALUE!"}},null,null,null,null,null,{"$f":"MDR!$F28","v":{"$error":"#VALUE!"}},null,{"$f":"MDR!$F29","v":{"$error":"#VALUE!"}},null,{"$f":"MDR!$F30","v":{"$error":"#VALUE!"}},null,{"$f":"MDR!$F31","v":{"$error":"#VALUE!"}},null,null,null,null,null,{"$f":"MDR!$F32","v":{"$error":"#VALUE!"}},null,{"$f":"MDR!$F33","v":{"$error":"#VALUE!"}},null,{"$f":"MDR!$F34","v":{"$error":"#VALUE!"}},null,{"$f":"MDR!$F35","v":{"$error":"#VALUE!"}},null,null,null,null,null,{"$f":"MDR!$F35","v":{"$error":"#VALUE!"}},null,{"$f":"MDR!$F37","v":{"$error":"#VALUE!"}},null,{"$f":"MDR!$F38","v":{"$error":"#VALUE!"}},null,{"$f":"MDR!$F39","v":{"$error":"#VALUE!"}},null,null,null,null,null,{"$f":"MDR!$F40","v":{"$error":"#VALUE!"}},null,{"$f":"MDR!$F41","v":{"$error":"#VALUE!"}},null,{"$f":"MDR!$F42","v":{"$error":"#VALUE!"}},null,{"$f":"MDR!$F43","v":{"$error":"#VALUE!"}},null,null,null,null,null,{"$f":"MDR!$F44","v":{"$error":"#VALUE!"}},null,{"$f":"MDR!$F45","v":{"$error":"#VALUE!"}},null,{"$f":"MDR!$F46","v":{"$error":"#VALUE!"}},null,{"$f":"MDR!$F47","v":{"$error":"#VALUE!"}},null,null,null,null,null,{"$f":"MDR!$F48","v":{"$error":"#VALUE!"}},null,{"$f":"MDR!$F49","v":{"$error":"#VALUE!"}},null,{"$f":"MDR!$F50","v":{"$error":"#VALUE!"}},null,{"$f":"MDR!$F51","v":{"$error":"#VALUE!"}},null,null,null,null,null,{"$f":"MDR!$F52","v":{"$error":"#VALUE!"}},null,{"$f":"MDR!$F53","v":{"$error":"#VALUE!"}},null,{"$f":"MDR!$F54","v":{"$error":"#VALUE!"}},null,{"$f":"MDR!$F55","v":{"$error":"#VALUE!"}},null,null,null,null,null,{"$f":"MDR!$F56","v":{"$error":"#VALUE!"}},null,{"$f":"MDR!$F57","v":{"$error":"#VALUE!"}},null,{"$f":"MDR!$F58","v":{"$error":"#VALUE!"}},null,{"$f":"MDR!$F59","v":{"$error":"#VALUE!"}},null,null,null,null,null,{"$f":"MDR!$F60","v":{"$error":"#VALUE!"}},null,{"$f":"MDR!$F61","v":{"$error":"#VALUE!"}},null,{"$f":"MDR!$F62","v":{"$error":"#VALUE!"}},null,{"$f":"MDR!$F63","v":{"$error":"#VALUE!"}},null,null,null,null,null,{"$f":"MDR!$F64","v":{"$error":"#VALUE!"}},null,{"$f":"MDR!$F65","v":{"$error":"#VALUE!"}},null,{"$f":"MDR!$F66","v":{"$error":"#VALUE!"}},null,{"$f":"MDR!$F67","v":{"$error":"#VALUE!"}},null,null,null,null,null,{"$f":"MDR!$F68","v":{"$error":"#VALUE!"}},null,{"$f":"MDR!$F69","v":{"$error":"#VALUE!"}},null,{"$f":"MDR!$F70","v":{"$error":"#VALUE!"}},null,{"$f":"MDR!$F71","v":{"$error":"#VALUE!"}},null,null,null,null,null,{"$f":"MDR!$F72","v":{"$error":"#VALUE!"}},null,{"$f":"MDR!$F73","v":{"$error":"#VALUE!"}},null,{"$f":"MDR!$F74","v":{"$error":"#VALUE!"}},null,{"$f":"MDR!$F75","v":{"$error":"#VALUE!"}},null,null,null,null,null,{"$f":"MDR!$F76","v":{"$error":"#VALUE!"}},null,{"$f":"MDR!$F77","v":{"$error":"#VALUE!"}},null,{"$f":"MDR!$F78","v":{"$error":"#VALUE!"}},null,{"$f":"MDR!$F79","v":{"$error":"#VALUE!"}},null,null,null,null,null,{"$f":"MDR!$F80","v":{"$error":"#VALUE!"}},null,{"$f":"MDR!$F81","v":{"$error":"#VALUE!"}},null,{"$f":"MDR!$F82","v":{"$error":"#VALUE!"}},null,{"$f":"MDR!$F83","v":{"$error":"#VALUE!"}},null,null,null,null,null,{"$f":"MDR!$F84","v":{"$error":"#VALUE!"}},null,{"$f":"MDR!$F85","v":{"$error":"#VALUE!"}},null,{"$f":"MDR!$F86","v":{"$error":"#VALUE!"}},null,{"$f":"MDR!$F87","v":{"$error":"#VALUE!"}},null,null,null,null,null,{"$f":"MDR!$F88","v":{"$error":"#VALUE!"}},null,{"$f":"MDR!$F89","v":{"$error":"#VALUE!"}},null,{"$f":"MDR!$F90","v":{"$error":"#VALUE!"}},null,{"$f":"MDR!$F91","v":{"$error":"#VALUE!"}},null,null,null,null,null,{"$f":"MDR!$F92","v":{"$error":"#VALUE!"}},null,{"$f":"MDR!$F93","v":{"$error":"#VALUE!"}},null,{"$f":"MDR!$F94","v":{"$error":"#VALUE!"}},null,{"$f":"MDR!$F95","v":{"$error":"#VALUE!"}},null,null,null,0,"Agency AFT Substituted"]
[null,null,null,{"$f":"(100-E42)/((100/E45)-(E42/$B$7))","v":{"$error":"#DIV/0!"}},{"$f":"E42-((D101-D11)/(E42*D11)*$B$7*(100-E42))","v":{"$error":"#DIV/0!"}},{"$f":"(100-G42)/((100/G45)-(G42/$B$7))","v":{"$error":"#DIV/0!"}},{"$f":"G42-((F101-F11)/(G42*F11)*$B$7*(100-G42))","v":{"$error":"#DIV/0!"}},{"$f":"(100-I42)/((100/I45)-(I42/$B$7))","v":{"$error":"#DIV/0!"}},{"$f":"I42-((H101-H11)/(I42*H11)*$B$7*(100-I42))","v":{"$error":"#DIV/0!"}},{"$f":"(100-K42)/((100/K45)-(K42/$B$7))","v":{"$error":"#DIV/0!"}},{"$f":"K42-((J101-J11)/(K42*J11)*$B$7*(100-K42))","v":{"$error":"#DIV/0!"}},null,null,null,null,{"$f":"(100-Q42)/((100/Q45)-(Q42/N7))","v":{"$error":"#DIV/0!"}},{"$f":"Q42-((P101-P11)/(Q42*P11)*N7*(100-Q42))","v":{"$error":"#DIV/0!"}},{"$f":"(100-S42)/((100/S45)-(S42/N7))","v":{"$error":"#DIV/0!"}},{"$f":"S42-((R101-R11)/(S42*R11)*N7*(100-S42))","v":{"$error":"#DIV/0!"}},{"$f":"(100-U42)/((100/U45)-(U42/N7))","v":{"$error":"#DIV/0!"}},{"$f":"U42-((T101-T11)/(U42*T11)*N7*(100-U42))","v":{"$error":"#DIV/0!"}},{"$f":"(100-W42)/((100/W45)-(W42/N7))","v":{"$error":"#DIV/0!"}},{"$f":"W42-((V101-V11)/(W42*V11)*N7*(100-W42))","v":{"$error":"#DIV/0!"}},null,null,null,null,{"$f":"(100-AC42)/((100/AC45)-(AC42/Z7))","v":{"$error":"#DIV/0!"}},{"$f":"AC42-((AB101-AB11)/(AC42*AB11)*Z7*(100-AC42))","v":{"$error":"#DIV/0!"}},{"$f":"(100-AE42)/((100/AE45)-(AE42/Z7))","v":{"$error":"#DIV/0!"}},{"$f":"AE42-((AD101-AD11)/(AE42*AD11)*Z7*(100-AE42))","v":{"$error":"#DIV/0!"}},{"$f":"(100-AG42)/((100/AG45)-(AG42/Z7))","v":{"$error":"#DIV/0!"}},{"$f":"AG42-((AF101-AF11)/(AG42*AF11)*Z7*(100-AG42))","v":{"$error":"#DIV/0!"}},{"$f":"(100-AI42)/((100/AI45)-(AI42/Z7))","v":{"$error":"#DIV/0!"}},{"$f":"AI42-((AH101-AH11)/(AI42*AH11)*Z7*(100-AI42))","v":{"$error":"#DIV/0!"}},null,null,null,null,{"$f":"(100-AO42)/((100/AO45)-(AO42/AL7))","v":{"$error":"#DIV/0!"}},{"$f":"AO42-((AN101-AN11)/(AO42*AN11)*AL7*(100-AO42))","v":{"$error":"#DIV/0!"}},{"$f":"(100-AQ42)/((100/AQ45)-(AQ42/AL7))","v":{"$error":"#DIV/0!"}},{"$f":"AQ42-((AP101-AP11)/(AQ42*AP11)*AL7*(100-AQ42))","v":{"$error":"#DIV/0!"}},{"$f":"(100-AS42)/((100/AS45)-(AS42/AL7))","v":{"$error":"#DIV/0!"}},{"$f":"AS42-((AR101-AR11)/(AS42*AR11)*AL7*(100-AS42))","v":{"$error":"#DIV/0!"}},{"$f":"(100-AU42)/((100/AU45)-(AU42/AL7))","v":{"$error":"#DIV/0!"}},{"$f":"AU42-((AT101-AT11)/(AU42*AT11)*AL7*(100-AU42))","v":{"$error":"#DIV/0!"}},null,null,null,null,{"$f":"(100-BA42)/((100/BA45)-(BA42/AX7))","v":{"$error":"#DIV/0!"}},{"$f":"BA42-((AZ101-AZ11)/(BA42*AZ11)*AX7*(100-BA42))","v":{"$error":"#DIV/0!"}},{"$f":"(100-BC42)/((100/BC45)-(BC42/AX7))","v":{"$error":"#DIV/0!"}},{"$f":"BC42-((BB101-BB11)/(BC42*BB11)*AX7*(100-BC42))","v":{"$error":"#DIV/0!"}},{"$f":"(100-BE42)/((100/BE45)-(BE42/AX7))","v":{"$error":"#DIV/0!"}},{"$f":"BE42-((BD101-BD11)/(BE42*BD11)*AX7*(100-BE42))","v":{"$error":"#DIV/0!"}},{"$f":"(100-BG42)/((100/BG45)-(BG42/AX7))","v":{"$error":"#DIV/0!"}},{"$f":"BG42-((BF101-BF11)/(BG42*BF11)*AX7*(100-BG42))","v":{"$error":"#DIV/0!"}},null,null,null,null,{"$f":"(100-BM42)/((100/BM45)-(BM42/BJ7))","v":{"$error":"#DIV/0!"}},{"$f":"BM42-((BL101-BL11)/(BM42*BL11)*BJ7*(100-BM42))","v":{"$error":"#DIV/0!"}},{"$f":"(100-BO42)/((100/BO45)-(BO42/BJ7))","v":{"$error":"#DIV/0!"}},{"$f":"BO42-((BN101-BN11)/(BO42*BN11)*BJ7*(100-BO42))","v":{"$error":"#DIV/0!"}},{"$f":"(100-BQ42)/((100/BQ45)-(BQ42/BJ7))","v":{"$error":"#DIV/0!"}},{"$f":"BQ42-((BP101-BP11)/(BQ42*BP11)*BJ7*(100-BQ42))","v":{"$error":"#DIV/0!"}},{"$f":"(100-BS42)/((100/BS45)-(BS42/BJ7))","v":{"$error":"#DIV/0!"}},{"$f":"BS42-((BR101-BR11)/(BS42*BR11)*BJ7*(100-BS42))","v":{"$error":"#DIV/0!"}},null,null,null,null,{"$f":"(100-BY42)/((100/BY45)-(BY42/BV7))","v":{"$error":"#DIV/0!"}},{"$f":"BY42-((BX101-BX11)/(BY42*BX11)*BV7*(100-BY42))","v":{"$error":"#DIV/0!"}},{"$f":"(100-CA42)/((100/CA45)-(CA42/BV7))","v":{"$error":"#DIV/0!"}},{"$f":"CA42-((BZ101-BZ11)/(CA42*BZ11)*BV7*(100-CA42))","v":{"$error":"#DIV/0!"}},{"$f":"(100-CC42)/((100/CC45)-(CC42/BV7))","v":{"$error":"#DIV/0!"}},{"$f":"CC42-((CB101-CB11)/(CC42*CB11)*BV7*(100-CC42))","v":{"$error":"#DIV/0!"}},{"$f":"(100-CE42)/((100/CE45)-(CE42/BV7))","v":{"$error":"#DIV/0!"}},{"$f":"CE42-((CD101-CD11)/(CE42*CD11)*BV7*(100-CE42))","v":{"$error":"#DIV/0!"}},null,null,null,null,{"$f":"(100-CK42)/((100/CK45)-(CK42/CH7))","v":{"$error":"#DIV/0!"}},{"$f":"CK42-((CJ101-CJ11)/(CK42*CJ11)*CH7*(100-CK42))","v":{"$error":"#DIV/0!"}},{"$f":"(100-CM42)/((100/CM45)-(CM42/CH7))","v":{"$error":"#DIV/0!"}},{"$f":"CM42-((CL101-CL11)/(CM42*CL11)*CH7*(100-CM42))","v":{"$error":"#DIV/0!"}},{"$f":"(100-CO42)/((100/CO45)-(CO42/CH7))","v":{"$error":"#DIV/0!"}},{"$f":"CO42-((CN101-CN11)/(CO42*CN11)*CH7*(100-CO42))","v":{"$error":"#DIV/0!"}},{"$f":"(100-CQ42)/((100/CQ45)-(CQ42/CH7))","v":{"$error":"#DIV/0!"}},{"$f":"CQ42-((CP101-CP11)/(CQ42*CP11)*CH7*(100-CQ42))","v":{"$error":"#DIV/0!"}},null,null,null,null,{"$f":"(100-CW42)/((100/CW45)-(CW42/CT7))","v":{"$error":"#DIV/0!"}},{"$f":"CW42-((CV101-CV11)/(CW42*CV11)*CT7*(100-CW42))","v":{"$error":"#DIV/0!"}},{"$f":"(100-CY42)/((100/CY45)-(CY42/CT7))","v":{"$error":"#DIV/0!"}},{"$f":"CY42-((CX101-CX11)/(CY42*CX11)*CT7*(100-CY42))","v":{"$error":"#DIV/0!"}},{"$f":"(100-DA42)/((100/DA45)-(DA42/CT7))","v":{"$error":"#DIV/0!"}},{"$f":"DA42-((CZ101-CZ11)/(DA42*CZ11)*CT7*(100-DA42))","v":{"$error":"#DIV/0!"}},{"$f":"(100-DC42)/((100/DC45)-(DC42/CT7))","v":{"$error":"#DIV/0!"}},{"$f":"DC42-((DB101-DB11)/(DC42*DB11)*CT7*(100-DC42))","v":{"$error":"#DIV/0!"}},null,null,null,null,{"$f":"(100-DI42)/((100/DI45)-(DI42/DF7))","v":{"$error":"#DIV/0!"}},{"$f":"DI42-((DH101-DH11)/(DI42*DH11)*DF7*(100-DI42))","v":{"$error":"#DIV/0!"}},{"$f":"(100-DK42)/((100/DK45)-(DK42/DF7))","v":{"$error":"#DIV/0!"}},{"$f":"DK42-((DJ101-DJ11)/(DK42*DJ11)*DF7*(100-DK42))","v":{"$error":"#DIV/0!"}},{"$f":"(100-DM42)/((100/DM45)-(DM42/DF7))","v":{"$error":"#DIV/0!"}},{"$f":"DM42-((DL101-DL11)/(DM42*DL11)*DF7*(100-DM42))","v":{"$error":"#DIV/0!"}},{"$f":"(100-DO42)/((100/DO45)-(DO42/DF7))","v":{"$error":"#DIV/0!"}},{"$f":"DO42-((DN101-DN11)/(DO42*DN11)*DF7*(100-DO42))","v":{"$error":"#DIV/0!"}},null,null,null,null,{"$f":"(100-DU42)/((100/DU45)-(DU42/DR7))","v":{"$error":"#DIV/0!"}},{"$f":"DU42-((DT101-DT11)/(DU42*DT11)*DR7*(100-DU42))","v":{"$error":"#DIV/0!"}},{"$f":"(100-DW42)/((100/DW45)-(DW42/DR7))","v":{"$error":"#DIV/0!"}},{"$f":"DW42-((DV101-DV11)/(DW42*DV11)*DR7*(100-DW42))","v":{"$error":"#DIV/0!"}},{"$f":"(100-DY42)/((100/DY45)-(DY42/DR7))","v":{"$error":"#DIV/0!"}},{"$f":"DY42-((DX101-DX11)/(DY42*DX11)*DR7*(100-DY42))","v":{"$error":"#DIV/0!"}},{"$f":"(100-EA42)/((100/EA45)-(EA42/DR7))","v":{"$error":"#DIV/0!"}},{"$f":"EA42-((DZ101-DZ11)/(EA42*DZ11)*DR7*(100-EA42))","v":{"$error":"#DIV/0!"}},null,null,null,null,{"$f":"(100-EG42)/((100/EG45)-(EG42/ED7))","v":{"$error":"#DIV/0!"}},{"$f":"EG42-((EF101-EF11)/(EG42*EF11)*ED7*(100-EG42))","v":{"$error":"#DIV/0!"}},{"$f":"(100-EI42)/((100/EI45)-(EI42/ED7))","v":{"$error":"#DIV/0!"}},{"$f":"EI42-((EH101-EH11)/(EI42*EH11)*ED7*(100-EI42))","v":{"$error":"#DIV/0!"}},{"$f":"(100-EK42)/((100/EK45)-(EK42/ED7))","v":{"$error":"#DIV/0!"}},{"$f":"EK42-((EJ101-EJ11)/(EK42*EJ11)*ED7*(100-EK42))","v":{"$error":"#DIV/0!"}},{"$f":"(100-EM42)/((100/EM45)-(EM42/ED7))","v":{"$error":"#DIV/0!"}},{"$f":"EM42-((EL101-EL11)/(EM42*EL11)*ED7*(100-EM42))","v":{"$error":"#DIV/0!"}},null,null,null,null,{"$f":"(100-ES42)/((100/ES45)-(ES42/EP7))","v":{"$error":"#DIV/0!"}},{"$f":"ES42-((ER101-ER11)/(ES42*ER11)*EP7*(100-ES42))","v":{"$error":"#DIV/0!"}},{"$f":"(100-EU42)/((100/EU45)-(EU42/EP7))","v":{"$error":"#DIV/0!"}},{"$f":"EU42-((ET101-ET11)/(EU42*ET11)*EP7*(100-EU42))","v":{"$error":"#DIV/0!"}},{"$f":"(100-EW42)/((100/EW45)-(EW42/EP7))","v":{"$error":"#DIV/0!"}},{"$f":"EW42-((EV101-EV11)/(EW42*EV11)*EP7*(100-EW42))","v":{"$error":"#DIV/0!"}},{"$f":"(100-EY42)/((100/EY45)-(EY42/EP7))","v":{"$error":"#DIV/0!"}},{"$f":"EY42-((EX101-EX11)/(EY42*EX11)*EP7*(100-EY42))","v":{"$error":"#DIV/0!"}},null,null,null,null,{"$f":"(100-FE42)/((100/FE45)-(FE42/FB7))","v":{"$error":"#DIV/0!"}},{"$f":"FE42-((FD101-FD11)/(FE42*FD11)*FB7*(100-FE42))","v":{"$error":"#DIV/0!"}},{"$f":"(100-FG42)/((100/FG45)-(FG42/FB7))","v":{"$error":"#DIV/0!"}},{"$f":"FG42-((FF101-FF11)/(FG42*FF11)*FB7*(100-FG42))","v":{"$error":"#DIV/0!"}},{"$f":"(100-FI42)/((100/FI45)-(FI42/FB7))","v":{"$error":"#DIV/0!"}},{"$f":"FI42-((FH101-FH11)/(FI42*FH11)*FB7*(100-FI42))","v":{"$error":"#DIV/0!"}},{"$f":"(100-FK42)/((100/FK45)-(FK42/FB7))","v":{"$error":"#DIV/0!"}},{"$f":"FK42-((FJ101-FJ11)/(FK42*FJ11)*FB7*(100-FK42))","v":{"$error":"#DIV/0!"}},null,null,null,null,{"$f":"(100-FQ42)/((100/FQ45)-(FQ42/FN7))","v":{"$error":"#DIV/0!"}},{"$f":"FQ42-((FP101-FP11)/(FQ42*FP11)*FN7*(100-FQ42))","v":{"$error":"#DIV/0!"}},{"$f":"(100-FS42)/((100/FS45)-(FS42/FN7))","v":{"$error":"#DIV/0!"}},{"$f":"FS42-((FR101-FR11)/(FS42*FR11)*FN7*(100-FS42))","v":{"$error":"#DIV/0!"}},{"$f":"(100-FU42)/((100/FU45)-(FU42/FN7))","v":{"$error":"#DIV/0!"}},{"$f":"FU42-((FT101-FT11)/(FU42*FT11)*FN7*(100-FU42))","v":{"$error":"#DIV/0!"}},{"$f":"(100-FW42)/((100/FW45)-(FW42/FN7))","v":{"$error":"#DIV/0!"}},{"$f":"FW42-((FV101-FV11)/(FW42*FV11)*FN7*(100-FW42))","v":{"$error":"#DIV/0!"}},null,null,null,null,{"$f":"(100-GC42)/((100/GC45)-(GC42/FZ7))","v":{"$error":"#DIV/0!"}},{"$f":"GC42-((GB101-GB11)/(GC42*GB11)*FZ7*(100-GC42))","v":{"$error":"#DIV/0!"}},{"$f":"(100-GE42)/((100/GE45)-(GE42/FZ7))","v":{"$error":"#DIV/0!"}},{"$f":"GE42-((GD101-GD11)/(GE42*GD11)*FZ7*(100-GE42))","v":{"$error":"#DIV/0!"}},{"$f":"(100-GG42)/((100/GG45)-(GG42/FZ7))","v":{"$error":"#DIV/0!"}},{"$f":"GG42-((GF101-GF11)/(GG42*GF11)*FZ7*(100-GG42))","v":{"$error":"#DIV/0!"}},{"$f":"(100-GI42)/((100/GI45)-(GI42/FZ7))","v":{"$error":"#DIV/0!"}},{"$f":"GI42-((GH101-GH11)/(GI42*GH11)*FZ7*(100-GI42))","v":{"$error":"#DIV/0!"}},null,null,null,null,{"$f":"(100-GO42)/((100/GO45)-(GO42/GL7))","v":{"$error":"#DIV/0!"}},{"$f":"GO42-((GN101-GN11)/(GO42*GN11)*GL7*(100-GO42))","v":{"$error":"#DIV/0!"}},{"$f":"(100-GQ42)/((100/GQ45)-(GQ42/GL7))","v":{"$error":"#DIV/0!"}},{"$f":"GQ42-((GP101-GP11)/(GQ42*GP11)*GL7*(100-GQ42))","v":{"$error":"#DIV/0!"}},{"$f":"(100-GS42)/((100/GS45)-(GS42/GL7))","v":{"$error":"#DIV/0!"}},{"$f":"GS42-((GR101-GR11)/(GS42*GR11)*GL7*(100-GS42))","v":{"$error":"#DIV/0!"}},{"$f":"(100-GU42)/((100/GU45)-(GU42/GL7))","v":{"$error":"#DIV/0!"}},{"$f":"GU42-((GT101-GT11)/(GU42*GT11)*GL7*(100-GU42))","v":{"$error":"#DIV/0!"}},null,null,null,null,{"$f":"(100-HA42)/((100/HA45)-(HA42/GX7))","v":{"$error":"#DIV/0!"}},{"$f":"HA42-((GZ101-GZ11)/(HA42*GZ11)*GX7*(100-HA42))","v":{"$error":"#DIV/0!"}},{"$f":"(100-HC42)/((100/HC45)-(HC42/GX7))","v":{"$error":"#DIV/0!"}},{"$f":"HC42-((HB101-HB11)/(HC42*HB11)*GX7*(100-HC42))","v":{"$error":"#DIV/0!"}},{"$f":"(100-HE42)/((100/HE45)-(HE42/GX7))","v":{"$error":"#DIV/0!"}},{"$f":"HE42-((HD101-HD11)/(HE42*HD11)*GX7*(100-HE42))","v":{"$error":"#DIV/0!"}},{"$f":"(100-HG42)/((100/HG45)-(HG42/GX7))","v":{"$error":"#DIV/0!"}},{"$f":"HG42-((HF101-HF11)/(HG42*HF11)*GX7*(100-HG42))","v":{"$error":"#DIV/0!"}},null,null,null,null,{"$f":"(100-HM42)/((100/HM45)-(HM42/HJ7))","v":{"$error":"#DIV/0!"}},{"$f":"HM42-((HL101-HL11)/(HM42*HL11)*HJ7*(100-HM42))","v":{"$error":"#DIV/0!"}},{"$f":"(100-HO42)/((100/HO45)-(HO42/HJ7))","v":{"$error":"#DIV/0!"}},{"$f":"HO42-((HN101-HN11)/(HO42*HN11)*HJ7*(100-HO42))","v":{"$error":"#DIV/0!"}},{"$f":"(100-HQ42)/((100/HQ45)-(HQ42/HJ7))","v":{"$error":"#DIV/0!"}},{"$f":"HQ42-((HP101-HP11)/(HQ42*HP11)*HJ7*(100-HQ42))","v":{"$error":"#DIV/0!"}},{"$f":"(100-HS42)/((100/HS45)-(HS42/HJ7))","v":{"$error":"#DIV/0!"}},{"$f":"HS42-((HR101-HR11)/(HS42*HR11)*HJ7*(100-HS42))","v":{"$error":"#DIV/0!"}},null,null,null,null,{"$f":"(100-HY42)/((100/HY45)-(HY42/HV7))","v":{"$error":"#DIV/0!"}},{"$f":"HY42-((HX101-HX11)/(HY42*HX11)*HV7*(100-HY42))","v":{"$error":"#DIV/0!"}},{"$f":"(100-IA42)/((100/IA45)-(IA42/HV7))","v":{"$error":"#DIV/0!"}},{"$f":"IA42-((HZ101-HZ11)/(IA42*HZ11)*HV7*(100-IA42))","v":{"$error":"#DIV/0!"}},{"$f":"(100-IC42)/((100/IC45)-(IC42/HV7))","v":{"$error":"#DIV/0!"}},{"$f":"IC42-((IB101-IB11)/(IC42*IB11)*HV7*(100-IC42))","v":{"$error":"#DIV/0!"}},{"$f":"(100-IE42)/((100/IE45)-(IE42/HV7))","v":{"$error":"#DIV/0!"}},{"$f":"IE42-((ID101-ID11)/(IE42*ID11)*HV7*(100-IE42))","v":{"$error":"#DIV/0!"}},null,null,null,null,{"$f":"(100-IK42)/((100/IK45)-(IK42/IH7))","v":{"$error":"#DIV/0!"}},{"$f":"IK42-((IJ101-IJ11)/(IK42*IJ11)*IH7*(100-IK42))","v":{"$error":"#DIV/0!"}},{"$f":"(100-IM42)/((100/IM45)-(IM42/IH7))","v":{"$error":"#DIV/0!"}},{"$f":"IM42-((IL101-IL11)/(IM42*IL11)*IH7*(100-IM42))","v":{"$error":"#DIV/0!"}},{"$f":"(100-IO42)/((100/IO45)-(IO42/IH7))","v":{"$error":"#DIV/0!"}},{"$f":"IO42-((IN101-IN11)/(IO42*IN11)*IH7*(100-IO42))","v":{"$error":"#DIV/0!"}},{"$f":"(100-IQ42)/((100/IQ45)-(IQ42/IH7))","v":{"$error":"#DIV/0!"}},{"$f":"IQ42-((IP101-IP11)/(IQ42*IP11)*IH7*(100-IQ42))","v":{"$error":"#DIV/0!"}},null,null,0,"Agency AFT Substituted"]
[null,null,"Chemical - vs - Inc.Oven",0.4,null,{"$f":"VLOOKUP(MDR!Z7,C102:D103,2)","v":0.3},null,null,null,null,null,null,null,null,null,null,null,{"$f":"F102","v":0.3},null,null,null,null,null,null,null,null,null,null,null,{"$f":"R102","v":0.3},null,null,null,null,null,null,null,null,null,null,null,{"$f":"AD102","v":0.3},null,null,null,null,null,null,null,null,null,null,null,{"$f":"AP102","v":0.3},null,null,null,null,null,null,null,null,null,null,null,{"$f":"BB102","v":0.3},null,null,null,null,null,null,null,null,null,null,null,{"$f":"BN102","v":0.3},null,null,null,null,null,null,null,null,null,null,null,{"$f":"BZ102","v":0.3},null,null,null,null,null,null,null,null,null,null,null,{"$f":"CL102","v":0.3},null,null,null,null,null,null,null,null,null,null,null,{"$f":"CX102","v":0.3},null,null,null,null,null,null,null,null,null,null,null,{"$f":"DJ102","v":0.3},null,null,null,null,null,null,null,null,null,null,null,{"$f":"DV102","v":0.3},null,null,null,null,null,null,null,null,null,null,null,{"$f":"EH102","v":0.3},null,null,null,null,null,null,null,null,null,null,null,{"$f":"ET102","v":0.3},null,null,null,null,null,null,null,null,null,null,null,{"$f":"FF102","v":0.3},null,null,null,null,null,null,null,null,null,null,null,{"$f":"FR102","v":0.3},null,null,null,null,null,null,null,null,null,null,null,{"$f":"GD102","v":0.3},null,null,null,null,null,null,null,null,null,null,null,{"$f":"GP102","v":0.3},null,null,null,null,null,null,null,null,null,null,null,{"$f":"HB102","v":0.3},null,null,null,null,null,null,null,null,null,null,null,{"$f":"HN102","v":0.3},null,null,null,null,null,null,null,null,null,null,null,{"$f":"HZ102","v":0.3},null,null,null,null,null,null,null,0,"Agency AFT Substituted"]
[null,null,"Inc.Oven - vs - Inc.Oven",0.3,null,null,null,null,null,null,null,null,null,null,null,null,null,null,null,null,null,null,null,null,null,null,null,null,null,null,null,null,null,null,null,null,null,null,null,null,null,null,null,null,null,null,null,null,null,null,null,null,null,null,null,null,null,null,null,null,null,null,null,null,null,null,null,null,null,null,null,null,null,null,null,null,null,null,null,null,null,null,null,null,null,null,null,null,null,null,null,null,null,null,null,null,null,null,null,null,null,null,null,null,null,null,null,null,null,null,null,null,null,null,null,null,null,null,null,null,null,null,null,null,null,null,null,null,null,null,null,null,null,null,null,null,null,null,null,null,null,null,null,null,null,null,null,null,null,null,null,null,null,null,null,null,null,null,null,null,null,null,null,null,null,null,null,null,null,null,null,null,null,null,null,null,null,null,null,null,null,null,null,null,null,null,null,null,null,null,null,null,null,null,null,null,null,null,null,null,null,null,null,null,null,null,null,null,null,null,null,null,null,null,null,null,null,null,null,null,null,null,null,null,null,null,null,null,null,null,null,null,null,null,null,null,null,null,null,null,null,null,null,null,null,null,null,null,null,null,null,null,null,0,"Agency AFT Substituted"]
[null,null,null,null,null,null,"1 FACE","2 FACE","FAA","MAN FINE","VOIDS",null,null,null,null,null,null,null,null,null,null,null,null,null,null,null,null,null,null,null,null,null,null,null,null,null,null,null,null,null,null,null,null,null,null,null,null,null,null,null,null,null,null,null,null,null,null,null,null,null,null,null,null,null,null,null,null,null,null,null,null,null,null,null,null,null,null,null,null,null,null,null,null,null,null,null,null,null,null,null,null,null,null,null,null,null,null,null,null,null,null,null,null,null,null,null,null,null,null,null,null,null,null,null,null,null,null,null,null,null,null,null,null,null,null,null,null,null,null,null,null,null,null,null,null,null,null,null,null,null,null,null,null,null,null,null,null,null,null,null,null,null,null,null,null,null,null,null,null,null,null,null,null,null,null,null,null,null,null,null,null,null,null,null,null,null,null,null,null,null,null,null,null,null,null,null,null,null,null,null,null,null,null,null,null,null,null,null,null,null,null,null,null,null,null,null,null,null,null,null,null,null,null,null,null,null,null,null,null,null,null,null,null,null,null,null,null,null,null,null,null,null,null,null,null,null,null,null,null,null,null,null,null,null,null,null,null,null,null,null,null,null,null,0,"Agency AFT Substituted"]
[null,null,null,{"$f":"MDR!AV12","v":0},"2350 LV","LV",30,30,40,"70*",4,null,null,null,null,null,null,null,null,null,null,null,null,null,null,null,null,null,null,null,null,null,null,null,null,null,null,null,null,null,null,null,null,null,null,null,null,null,null,null,null,null,null,null,null,null,null,null,null,null,null,null,null,null,null,null,null,null,null,null,null,null,null,null,null,null,null,null,null,null,null,null,null,null,null,null,null,null,null,null,null,null,null,null,null,null,null,null,null,null,null,null,null,null,null,null,null,null,null,null,null,null,null,null,null,null,null,null,null,null,null,null,null,null,null,null,null,null,null,null,null,null,null,null,null,null,null,null,null,null,null,null,null,null,null,null,null,null,null,null,null,null,null,null,null,null,null,null,null,null,null,null,null,null,null,null,null,null,null,null,null,null,null,null,null,null,null,null,null,null,null,null,null,null,null,null,null,null,null,null,null,null,null,null,null,null,null,null,null,null,null,null,null,null,null,null,null,null,null,null,null,null,null,null,null,null,null,null,null,null,null,null,null,null,null,null,null,null,null,null,null,null,null,null,null,null,null,null,null,null,null,null,null,null,null,null,null,null,null,null,null,null,null,0,"Agency AFT Substituted"]
[null,null,null,{"$f":"MDR!AW12","v":0},"2350 MV","MV-NONWEAR",55,55,"-","-",3,null,null,null,null,null,null,null,null,null,null,null,null,null,null,null,null,null,null,null,null,null,null,null,null,null,null,null,null,null,null,null,null,null,null,null,null,null,null,null,null,null,null,null,null,null,null,null,null,null,null,null,null,null,null,null,null,null,null,null,null,null,null,null,null,null,null,null,null,null,null,null,null,null,null,null,null,null,null,null,null,null,null,null,null,null,null,null,null,null,null,null,null,null,null,null,null,null,null,null,null,null,null,null,null,null,null,null,null,null,null,null,null,null,null,null,null,null,null,null,null,null,null,null,null,null,null,null,null,null,null,null,null,null,null,null,null,null,null,null,null,null,null,null,null,null,null,null,null,null,null,null,null,null,null,null,null,null,null,null,null,null,null,null,null,null,null,null,null,null,null,null,null,null,null,null,null,null,null,null,null,null,null,null,null,null,null,null,null,null,null,null,null,null,null,null,null,null,null,null,null,null,null,null,null,null,null,null,null,null,null,null,null,null,null,null,null,null,null,null,null,null,null,null,null,null,null,null,null,null,null,null,null,null,null,null,null,null,null,null,null,null,null,0,"Agency AFT Substituted"]
[null,null,null,{"$f":"MDR!AX12","v":0},null,"MV-WEAR",55,"-","42*","25*",3.5,null,null,null,null,null,null,null,null,null,null,null,null,null,null,null,null,null,null,null,null,null,null,null,null,null,null,null,null,null,null,null,null,null,null,null,null,null,null,null,null,null,null,null,null,null,null,null,null,null,null,null,null,null,null,null,null,null,null,null,null,null,null,null,null,null,null,null,null,null,null,null,null,null,null,null,null,null,null,null,null,null,null,null,null,null,null,null,null,null,null,null,null,null,null,null,null,null,null,null,null,null,null,null,null,null,null,null,null,null,null,null,null,null,null,null,null,null,null,null,null,null,null,null,null,null,null,null,null,null,null,null,null,null,null,null,null,null,null,null,null,null,null,null,null,null,null,null,null,null,null,null,null,null,null,null,null,null,null,null,null,null,null,null,null,null,null,null,null,null,null,null,null,null,null,null,null,null,null,null,null,null,null,null,null,null,null,null,null,null,null,null,null,null,null,null,null,null,null,null,null,null,null,null,null,null,null,null,null,null,null,null,null,null,null,null,null,null,null,null,null,null,null,null,null,null,null,null,null,null,null,null,null,null,null,null,null,null,null,null,null,null,null,0,"Agency AFT Substituted"]
[null,null,null,{"$f":"MDR!AL5","v":0},null,3,null,null,null,null,null,null,null,null,null,null,null,null,null,null,null,null,null,null,null,null,null,null,null,null,null,null,null,null,null,null,null,null,null,null,null,null,null,null,null,null,null,null,null,null,null,null,null,null,null,null,null,null,null,null,null,null,null,null,null,null,null,null,null,null,null,null,null,null,null,null,null,null,null,null,null,null,null,null,null,null,null,null,null,null,null,null,null,null,null,null,null,null,null,null,null,null,null,null,null,null,null,null,null,null,null,null,null,null,null,null,null,null,null,null,null,null,null,null,null,null,null,null,null,null,null,null,null,null,null,null,null,null,null,null,null,null,null,null,null,null,null,null,null,null,null,null,null,null,null,null,null,null,null,null,null,null,null,null,null,null,null,null,null,null,null,null,null,null,null,null,null,null,null,null,null,null,null,null,null,null,null,null,null,null,null,null,null,null,null,null,null,null,null,null,null,null,null,null,null,null,null,null,null,null,null,null,null,null,null,null,null,null,null,null,null,null,null,null,null,null,null,null,null,null,null,null,null,null,null,null,null,null,null,null,null,null,null,null,null,null,null,null,null,null,null,null,null,0,"Agency AFT Substituted"]
[null,null,null,{"$f":"MDR!AL6","v":0},null,4,null,null,null,null,null,null,null,null,null,null,null,null,null,null,null,null,null,null,null,null,null,null,null,null,null,null,null,null,null,null,null,null,null,null,null,null,null,null,null,null,null,null,null,null,null,null,null,null,null,null,null,null,null,null,null,null,null,null,null,null,null,null,null,null,null,null,null,null,null,null,null,null,null,null,null,null,null,null,null,null,null,null,null,null,null,null,null,null,null,null,null,null,null,null,null,null,null,null,null,null,null,null,null,null,null,null,null,null,null,null,null,null,null,null,null,null,null,null,null,null,null,null,null,null,null,null,null,null,null,null,null,null,null,null,null,null,null,null,null,null,null,null,null,null,null,null,null,null,null,null,null,null,null,null,null,null,null,null,null,null,null,null,null,null,null,null,null,null,null,null,null,null,null,null,null,null,null,null,null,null,null,null,null,null,null,null,null,null,null,null,null,null,null,null,null,null,null,null,null,null,null,null,null,null,null,null,null,null,null,null,null,null,null,null,null,null,null,null,null,null,null,null,null,null,null,null,null,null,null,null,null,null,null,null,null,null,null,null,null,null,null,null,null,null,null,null,null,0,"Agency AFT Substituted"]
[null,null,null,{"$f":"MDR!AL7","v":0},null,5,null,null,null,null,null,null,null,null,null,null,null,null,null,null,null,null,null,null,null,null,null,null,null,null,null,null,null,null,null,null,null,null,null,null,null,null,null,null,null,null,null,null,null,null,null,null,null,null,null,null,null,null,null,null,null,null,null,null,null,null,null,null,null,null,null,null,null,null,null,null,null,null,null,null,null,null,null,null,null,null,null,null,null,null,null,null,null,null,null,null,null,null,null,null,null,null,null,null,null,null,null,null,null,null,null,null,null,null,null,null,null,null,null,null,null,null,null,null,null,null,null,null,null,null,null,null,null,null,null,null,null,null,null,null,null,null,null,null,null,null,null,null,null,null,null,null,null,null,null,null,null,null,null,null,null,null,null,null,null,null,null,null,null,null,null,null,null,null,null,null,null,null,null,null,null,null,null,null,null,null,null,null,null,null,null,null,null,null,null,null,null,null,null,null,null,null,null,null,null,null,null,null,null,null,null,null,null,null,null,null,null,null,null,null,null,null,null,null,null,null,null,null,null,null,null,null,null,null,null,null,null,null,null,null,null,null,null,null,null,null,null,null,null,null,null,null,null,0,"Agency AFT Substituted"]
[null,null,null,{"$f":"MDR!AL8","v":0},null,null,null,null,null,null,null,null,null,null,null,null,null,null,null,null,null,null,null,null,null,null,null,null,null,null,null,null,null,null,null,null,null,null,null,null,null,null,null,null,null,null,{"$f":"(MDR!$AV$6*AU85+MDR!$AW$6*AU86)/100","v":{"$error":"#VALUE!"}},null,null,null,null,null,null,null,null,null,null,null,null,null,null,null,null,null,null,null,null,null,null,null,null,null,null,null,null,null,null,null,null,null,null,null,null,null,null,null,null,null,null,null,null,null,null,null,null,null,null,null,null,null,null,null,null,null,null,null,null,null,null,null,null,null,null,null,null,null,null,null,null,null,null,null,null,null,null,null,null,null,null,null,null,null,null,null,null,null,null,null,null,null,null,null,null,null,null,null,null,null,null,null,null,null,null,null,null,null,null,null,null,null,null,null,null,null,null,null,null,null,null,null,null,null,null,null,null,null,null,null,null,null,null,null,null,null,null,null,null,null,null,null,null,null,null,null,null,null,null,null,null,null,null,null,null,null,null,null,null,null,null,null,null,null,null,null,null,null,null,null,null,null,null,null,null,null,null,null,null,null,null,null,null,null,null,null,null,null,null,null,null,null,null,null,null,null,null,null,null,null,null,null,null,null,null,0,"Agency AFT Substituted"]
[null,null,null,null,{"$f":"(MDR!$AV$6*E86+MDR!$AW$6*E87)/100","v":0},null,{"$f":"(MDR!$AV$6*G86+MDR!$AW$6*G87)/100","v":{"$error":"#VALUE!"}},null,{"$f":"(MDR!$AV$6*I86+MDR!$AW$6*I87)/100","v":{"$error":"#VALUE!"}},null,{"$f":"(MDR!$AV$6*K86+MDR!$AW$6*K87)/100","v":{"$error":"#VALUE!"}},null,null,null,null,null,{"$f":"(MDR!$AV$6*Q86+MDR!$AW$6*Q87)/100","v":{"$error":"#VALUE!"}},null,{"$f":"(MDR!$AV$6*S86+MDR!$AW$6*S87)/100","v":{"$error":"#VALUE!"}},null,{"$f":"(MDR!$AV$6*U86+MDR!$AW$6*U87)/100","v":{"$error":"#VALUE!"}},null,{"$f":"(MDR!$AV$6*W86+MDR!$AW$6*W87)/100","v":{"$error":"#VALUE!"}},null,null,null,null,null,{"$f":"(MDR!$AV$6*AC86+MDR!$AW$6*AC87)/100","v":{"$error":"#VALUE!"}},null,{"$f":"(MDR!$AV$6*AE86+MDR!$AW$6*AE87)/100","v":{"$error":"#VALUE!"}},null,{"$f":"(MDR!$AV$6*AG86+MDR!$AW$6*AG87)/100","v":{"$error":"#VALUE!"}},null,{"$f":"(MDR!$AV$6*AI86+MDR!$AW$6*AI87)/100","v":{"$error":"#VALUE!"}},null,null,null,null,null,{"$f":"(MDR!$AV$6*AO86+MDR!$AW$6*AO87)/100","v":{"$error":"#VALUE!"}},null,{"$f":"(MDR!$AV$6*AQ86+MDR!$AW$6*AQ87)/100","v":{"$error":"#VALUE!"}},null,{"$f":"(MDR!$AV$6*AS86+MDR!$AW$6*AS87)/100","v":{"$error":"#VALUE!"}},null,{"$f":"(MDR!$AV$6*AU86+MDR!$AW$6*AU87)/100","v":{"$error":"#VALUE!"}},null,null,null,null,null,{"$f":"(MDR!$AV$6*BA86+MDR!$AW$6*BA87)/100","v":{"$error":"#VALUE!"}},null,{"$f":"(MDR!$AV$6*BC86+MDR!$AW$6*BC87)/100","v":{"$error":"#VALUE!"}},null,{"$f":"(MDR!$AV$6*BE86+MDR!$AW$6*BE87)/100","v":{"$error":"#VALUE!"}},null,{"$f":"(MDR!$AV$6*BG86+MDR!$AW$6*BG87)/100","v":{"$error":"#VALUE!"}},null,null,null,null,null,{"$f":"(MDR!$AV$6*BM86+MDR!$AW$6*BM87)/100","v":{"$error":"#VALUE!"}},null,{"$f":"(MDR!$AV$6*BO86+MDR!$AW$6*BO87)/100","v":{"$error":"#VALUE!"}},null,{"$f":"(MDR!$AV$6*BQ86+MDR!$AW$6*BQ87)/100","v":{"$error":"#VALUE!"}},null,{"$f":"(MDR!$AV$6*BS86+MDR!$AW$6*BS87)/100","v":{"$error":"#VALUE!"}},null,null,null,null,null,{"$f":"(MDR!$AV$6*BY86+MDR!$AW$6*BY87)/100","v":{"$error":"#VALUE!"}},null,{"$f":"(MDR!$AV$6*CA86+MDR!$AW$6*CA87)/100","v":{"$error":"#VALUE!"}},null,{"$f":"(MDR!$AV$6*CC86+MDR!$AW$6*CC87)/100","v":{"$error":"#VALUE!"}},null,{"$f":"(MDR!$AV$6*CE86+MDR!$AW$6*CE87)/100","v":{"$error":"#VALUE!"}},null,null,null,null,null,{"$f":"(MDR!$AV$6*CK86+MDR!$AW$6*CK87)/100","v":{"$error":"#VALUE!"}},null,{"$f":"(MDR!$AV$6*CM86+MDR!$AW$6*CM87)/100","v":{"$error":"#VALUE!"}},null,{"$f":"(MDR!$AV$6*CO86+MDR!$AW$6*CO87)/100","v":{"$error":"#VALUE!"}},null,{"$f":"(MDR!$AV$6*CQ86+MDR!$AW$6*CQ87)/100","v":{"$error":"#VALUE!"}},null,null,null,null,null,{"$f":"(MDR!$AV$6*CW86+MDR!$AW$6*CW87)/100","v":{"$error":"#VALUE!"}},null,{"$f":"(MDR!$AV$6*CY86+MDR!$AW$6*CY87)/100","v":{"$error":"#VALUE!"}},null,{"$f":"(MDR!$AV$6*DA86+MDR!$AW$6*DA87)/100","v":{"$error":"#VALUE!"}},null,{"$f":"(MDR!$AV$6*DC86+MDR!$AW$6*DC87)/100","v":{"$error":"#VALUE!"}},null,null,null,null,null,{"$f":"(MDR!$AV$6*DI86+MDR!$AW$6*DI87)/100","v":{"$error":"#VALUE!"}},null,{"$f":"(MDR!$AV$6*DK86+MDR!$AW$6*DK87)/100","v":{"$error":"#VALUE!"}},null,{"$f":"(MDR!$AV$6*DM86+MDR!$AW$6*DM87)/100","v":{"$error":"#VALUE!"}},null,{"$f":"(MDR!$AV$6*DO86+MDR!$AW$6*DO87)/100","v":{"$error":"#VALUE!"}},null,null,null,null,null,{"$f":"(MDR!$AV$6*DU86+MDR!$AW$6*DU87)/100","v":{"$error":"#VALUE!"}},null,{"$f":"(MDR!$AV$6*DW86+MDR!$AW$6*DW87)/100","v":{"$error":"#VALUE!"}},null,{"$f":"(MDR!$AV$6*DY86+MDR!$AW$6*DY87)/100","v":{"$error":"#VALUE!"}},null,{"$f":"(MDR!$AV$6*EA86+MDR!$AW$6*EA87)/100","v":{"$error":"#VALUE!"}},null,null,null,null,null,{"$f":"(MDR!$AV$6*EG86+MDR!$AW$6*EG87)/100","v":{"$error":"#VALUE!"}},null,{"$f":"(MDR!$AV$6*EI86+MDR!$AW$6*EI87)/100","v":{"$error":"#VALUE!"}},null,{"$f":"(MDR!$AV$6*EK86+MDR!$AW$6*EK87)/100","v":{"$error":"#VALUE!"}},null,{"$f":"(MDR!$AV$6*EM86+MDR!$AW$6*EM87)/100","v":{"$error":"#VALUE!"}},null,null,null,null,null,{"$f":"(MDR!$AV$6*ES86+MDR!$AW$6*ES87)/100","v":{"$error":"#VALUE!"}},null,{"$f":"(MDR!$AV$6*EU86+MDR!$AW$6*EU87)/100","v":{"$error":"#VALUE!"}},null,{"$f":"(MDR!$AV$6*EW86+MDR!$AW$6*EW87)/100","v":{"$error":"#VALUE!"}},null,{"$f":"(MDR!$AV$6*EY86+MDR!$AW$6*EY87)/100","v":{"$error":"#VALUE!"}},null,null,null,null,null,{"$f":"(MDR!$AV$6*FE86+MDR!$AW$6*FE87)/100","v":{"$error":"#VALUE!"}},null,{"$f":"(MDR!$AV$6*FG86+MDR!$AW$6*FG87)/100","v":{"$error":"#VALUE!"}},null,{"$f":"(MDR!$AV$6*FI86+MDR!$AW$6*FI87)/100","v":{"$error":"#VALUE!"}},null,{"$f":"(MDR!$AV$6*FK86+MDR!$AW$6*FK87)/100","v":{"$error":"#VALUE!"}},null,null,null,null,null,{"$f":"(MDR!$AV$6*FQ86+MDR!$AW$6*FQ87)/100","v":{"$error":"#VALUE!"}},null,{"$f":"(MDR!$AV$6*FS86+MDR!$AW$6*FS87)/100","v":{"$error":"#VALUE!"}},null,{"$f":"(MDR!$AV$6*FU86+MDR!$AW$6*FU87)/100","v":{"$error":"#VALUE!"}},null,{"$f":"(MDR!$AV$6*FW86+MDR!$AW$6*FW87)/100","v":{"$error":"#VALUE!"}},null,null,null,null,null,{"$f":"(MDR!$AV$6*GC86+MDR!$AW$6*GC87)/100","v":{"$error":"#VALUE!"}},null,{"$f":"(MDR!$AV$6*GE86+MDR!$AW$6*GE87)/100","v":{"$error":"#VALUE!"}},null,{"$f":"(MDR!$AV$6*GG86+MDR!$AW$6*GG87)/100","v":{"$error":"#VALUE!"}},null,{"$f":"(MDR!$AV$6*GI86+MDR!$AW$6*GI87)/100","v":{"$error":"#VALUE!"}},null,null,null,null,null,{"$f":"(MDR!$AV$6*GO86+MDR!$AW$6*GO87)/100","v":{"$error":"#VALUE!"}},null,{"$f":"(MDR!$AV$6*GQ86+MDR!$AW$6*GQ87)/100","v":{"$error":"#VALUE!"}},null,{"$f":"(MDR!$AV$6*GS86+MDR!$AW$6*GS87)/100","v":{"$error":"#VALUE!"}},null,{"$f":"(MDR!$AV$6*GU86+MDR!$AW$6*GU87)/100","v":{"$error":"#VALUE!"}},null,null,null,null,null,{"$f":"(MDR!$AV$6*HA86+MDR!$AW$6*HA87)/100","v":{"$error":"#VALUE!"}},null,{"$f":"(MDR!$AV$6*HC86+MDR!$AW$6*HC87)/100","v":{"$error":"#VALUE!"}},null,{"$f":"(MDR!$AV$6*HE86+MDR!$AW$6*HE87)/100","v":{"$error":"#VALUE!"}},null,{"$f":"(MDR!$AV$6*HG86+MDR!$AW$6*HG87)/100","v":{"$error":"#VALUE!"}},null,null,null,null,null,{"$f":"(MDR!$AV$6*HM86+MDR!$AW$6*HM87)/100","v":{"$error":"#VALUE!"}},null,{"$f":"(MDR!$AV$6*HO86+MDR!$AW$6*HO87)/100","v":{"$error":"#VALUE!"}},null,{"$f":"(MDR!$AV$6*HQ86+MDR!$AW$6*HQ87)/100","v":{"$error":"#VALUE!"}},null,{"$f":"(MDR!$AV$6*HS86+MDR!$AW$6*HS87)/100","v":{"$error":"#VALUE!"}},null,null,null,null,null,{"$f":"(MDR!$AV$6*HY86+MDR!$AW$6*HY87)/100","v":{"$error":"#VALUE!"}},null,{"$f":"(MDR!$AV$6*IA86+MDR!$AW$6*IA87)/100","v":{"$error":"#VALUE!"}},null,{"$f":"(MDR!$AV$6*IC86+MDR!$AW$6*IC87)/100","v":{"$error":"#VALUE!"}},null,{"$f":"(MDR!$AV$6*IE86+MDR!$AW$6*IE87)/100","v":{"$error":"#VALUE!"}},null,null,null,null,null,{"$f":"(MDR!$AV$6*IK86+MDR!$AW$6*IK87)/100","v":{"$error":"#VALUE!"}},null,{"$f":"(MDR!$AV$6*IM86+MDR!$AW$6*IM87)/100","v":{"$error":"#VALUE!"}},null,{"$f":"(MDR!$AV$6*IO86+MDR!$AW$6*IO87)/100","v":{"$error":"#VALUE!"}},null,{"$f":"(MDR!$AV$6*IQ86+MDR!$AW$6*IQ87)/100","v":{"$error":"#VALUE!"}},null,null,0,"Agency AFT Substituted"]
[null,null,null,null,{"$f":"(MDR!$AV$6*E86+MDR!$AW$6*E87+MDR!$AX$6*E88)/100","v":0},null,{"$f":"(MDR!$AV$6*G86+MDR!$AW$6*G87+MDR!$AX$6*G88)/100","v":{"$error":"#VALUE!"}},null,{"$f":"(MDR!$AV$6*I86+MDR!$AW$6*I87+MDR!$AX$6*I88)/100","v":{"$error":"#VALUE!"}},null,{"$f":"(MDR!$AV$6*K86+MDR!$AW$6*K87+MDR!$AX$6*K88)/100","v":{"$error":"#VALUE!"}},null,null,null,null,null,{"$f":"(MDR!$AV$6*Q86+MDR!$AW$6*Q87+MDR!$AX$6*Q88)/100","v":{"$error":"#VALUE!"}},null,{"$f":"(MDR!$AV$6*S86+MDR!$AW$6*S87+MDR!$AX$6*S88)/100","v":{"$error":"#VALUE!"}},null,{"$f":"(MDR!$AV$6*U86+MDR!$AW$6*U87+MDR!$AX$6*U88)/100","v":{"$error":"#VALUE!"}},null,{"$f":"(MDR!$AV$6*W86+MDR!$AW$6*W87+MDR!$AX$6*W88)/100","v":{"$error":"#VALUE!"}},null,null,null,null,null,{"$f":"(MDR!$AV$6*AC86+MDR!$AW$6*AC87+MDR!$AX$6*AC88)/100","v":{"$error":"#VALUE!"}},null,{"$f":"(MDR!$AV$6*AE86+MDR!$AW$6*AE87+MDR!$AX$6*AE88)/100","v":{"$error":"#VALUE!"}},null,{"$f":"(MDR!$AV$6*AG86+MDR!$AW$6*AG87+MDR!$AX$6*AG88)/100","v":{"$error":"#VALUE!"}},null,{"$f":"(MDR!$AV$6*AI86+MDR!$AW$6*AI87+MDR!$AX$6*AI88)/100","v":{"$error":"#VALUE!"}},null,null,null,null,null,{"$f":"(MDR!$AV$6*AO86+MDR!$AW$6*AO87+MDR!$AX$6*AO88)/100","v":{"$error":"#VALUE!"}},null,{"$f":"(MDR!$AV$6*AQ86+MDR!$AW$6*AQ87+MDR!$AX$6*AQ88)/100","v":{"$error":"#VALUE!"}},null,{"$f":"(MDR!$AV$6*AS86+MDR!$AW$6*AS87+MDR!$AX$6*AS88)/100","v":{"$error":"#VALUE!"}},null,{"$f":"(MDR!$AV$6*AU86+MDR!$AW$6*AU87+MDR!$AX$6*AU88)/100","v":{"$error":"#VALUE!"}},null,null,null,null,null,{"$f":"(MDR!$AV$6*BA86+MDR!$AW$6*BA87+MDR!$AX$6*BA88)/100","v":{"$error":"#VALUE!"}},null,{"$f":"(MDR!$AV$6*BC86+MDR!$AW$6*BC87+MDR!$AX$6*BC88)/100","v":{"$error":"#VALUE!"}},null,{"$f":"(MDR!$AV$6*BE86+MDR!$AW$6*BE87+MDR!$AX$6*BE88)/100","v":{"$error":"#VALUE!"}},null,{"$f":"(MDR!$AV$6*BG86+MDR!$AW$6*BG87+MDR!$AX$6*BG88)/100","v":{"$error":"#VALUE!"}},null,null,null,null,null,{"$f":"(MDR!$AV$6*BM86+MDR!$AW$6*BM87+MDR!$AX$6*BM88)/100","v":{"$error":"#VALUE!"}},null,{"$f":"(MDR!$AV$6*BO86+MDR!$AW$6*BO87+MDR!$AX$6*BO88)/100","v":{"$error":"#VALUE!"}},null,{"$f":"(MDR!$AV$6*BQ86+MDR!$AW$6*BQ87+MDR!$AX$6*BQ88)/100","v":{"$error":"#VALUE!"}},null,{"$f":"(MDR!$AV$6*BS86+MDR!$AW$6*BS87+MDR!$AX$6*BS88)/100","v":{"$error":"#VALUE!"}},null,null,null,null,null,{"$f":"(MDR!$AV$6*BY86+MDR!$AW$6*BY87+MDR!$AX$6*BY88)/100","v":{"$error":"#VALUE!"}},null,{"$f":"(MDR!$AV$6*CA86+MDR!$AW$6*CA87+MDR!$AX$6*CA88)/100","v":{"$error":"#VALUE!"}},null,{"$f":"(MDR!$AV$6*CC86+MDR!$AW$6*CC87+MDR!$AX$6*CC88)/100","v":{"$error":"#VALUE!"}},null,{"$f":"(MDR!$AV$6*CE86+MDR!$AW$6*CE87+MDR!$AX$6*CE88)/100","v":{"$error":"#VALUE!"}},null,null,null,null,null,{"$f":"(MDR!$AV$6*CK86+MDR!$AW$6*CK87+MDR!$AX$6*CK88)/100","v":{"$error":"#VALUE!"}},null,{"$f":"(MDR!$AV$6*CM86+MDR!$AW$6*CM87+MDR!$AX$6*CM88)/100","v":{"$error":"#VALUE!"}},null,{"$f":"(MDR!$AV$6*CO86+MDR!$AW$6*CO87+MDR!$AX$6*CO88)/100","v":{"$error":"#VALUE!"}},null,{"$f":"(MDR!$AV$6*CQ86+MDR!$AW$6*CQ87+MDR!$AX$6*CQ88)/100","v":{"$error":"#VALUE!"}},null,null,null,null,null,{"$f":"(MDR!$AV$6*CW86+MDR!$AW$6*CW87+MDR!$AX$6*CW88)/100","v":{"$error":"#VALUE!"}},null,{"$f":"(MDR!$AV$6*CY86+MDR!$AW$6*CY87+MDR!$AX$6*CY88)/100","v":{"$error":"#VALUE!"}},null,{"$f":"(MDR!$AV$6*DA86+MDR!$AW$6*DA87+MDR!$AX$6*DA88)/100","v":{"$error":"#VALUE!"}},null,{"$f":"(MDR!$AV$6*DC86+MDR!$AW$6*DC87+MDR!$AX$6*DC88)/100","v":{"$error":"#VALUE!"}},null,null,null,null,null,{"$f":"(MDR!$AV$6*DI86+MDR!$AW$6*DI87+MDR!$AX$6*DI88)/100","v":{"$error":"#VALUE!"}},null,{"$f":"(MDR!$AV$6*DK86+MDR!$AW$6*DK87+MDR!$AX$6*DK88)/100","v":{"$error":"#VALUE!"}},null,{"$f":"(MDR!$AV$6*DM86+MDR!$AW$6*DM87+MDR!$AX$6*DM88)/100","v":{"$error":"#VALUE!"}},null,{"$f":"(MDR!$AV$6*DO86+MDR!$AW$6*DO87+MDR!$AX$6*DO88)/100","v":{"$error":"#VALUE!"}},null,null,null,null,null,{"$f":"(MDR!$AV$6*DU86+MDR!$AW$6*DU87+MDR!$AX$6*DU88)/100","v":{"$error":"#VALUE!"}},null,{"$f":"(MDR!$AV$6*DW86+MDR!$AW$6*DW87+MDR!$AX$6*DW88)/100","v":{"$error":"#VALUE!"}},null,{"$f":"(MDR!$AV$6*DY86+MDR!$AW$6*DY87+MDR!$AX$6*DY88)/100","v":{"$error":"#VALUE!"}},null,{"$f":"(MDR!$AV$6*EA86+MDR!$AW$6*EA87+MDR!$AX$6*EA88)/100","v":{"$error":"#VALUE!"}},null,null,null,null,null,{"$f":"(MDR!$AV$6*EG86+MDR!$AW$6*EG87+MDR!$AX$6*EG88)/100","v":{"$error":"#VALUE!"}},null,{"$f":"(MDR!$AV$6*EI86+MDR!$AW$6*EI87+MDR!$AX$6*EI88)/100","v":{"$error":"#VALUE!"}},null,{"$f":"(MDR!$AV$6*EK86+MDR!$AW$6*EK87+MDR!$AX$6*EK88)/100","v":{"$error":"#VALUE!"}},null,{"$f":"(MDR!$AV$6*EM86+MDR!$AW$6*EM87+MDR!$AX$6*EM88)/100","v":{"$error":"#VALUE!"}},null,null,null,null,null,{"$f":"(MDR!$AV$6*ES86+MDR!$AW$6*ES87+MDR!$AX$6*ES88)/100","v":{"$error":"#VALUE!"}},null,{"$f":"(MDR!$AV$6*EU86+MDR!$AW$6*EU87+MDR!$AX$6*EU88)/100","v":{"$error":"#VALUE!"}},null,{"$f":"(MDR!$AV$6*EW86+MDR!$AW$6*EW87+MDR!$AX$6*EW88)/100","v":{"$error":"#VALUE!"}},null,{"$f":"(MDR!$AV$6*EY86+MDR!$AW$6*EY87+MDR!$AX$6*EY88)/100","v":{"$error":"#VALUE!"}},null,null,null,null,null,{"$f":"(MDR!$AV$6*FE86+MDR!$AW$6*FE87+MDR!$AX$6*FE88)/100","v":{"$error":"#VALUE!"}},null,{"$f":"(MDR!$AV$6*FG86+MDR!$AW$6*FG87+MDR!$AX$6*FG88)/100","v":{"$error":"#VALUE!"}},null,{"$f":"(MDR!$AV$6*FI86+MDR!$AW$6*FI87+MDR!$AX$6*FI88)/100","v":{"$error":"#VALUE!"}},null,{"$f":"(MDR!$AV$6*FK86+MDR!$AW$6*FK87+MDR!$AX$6*FK88)/100","v":{"$error":"#VALUE!"}},null,null,null,null,null,{"$f":"(MDR!$AV$6*FQ86+MDR!$AW$6*FQ87+MDR!$AX$6*FQ88)/100","v":{"$error":"#VALUE!"}},null,{"$f":"(MDR!$AV$6*FS86+MDR!$AW$6*FS87+MDR!$AX$6*FS88)/100","v":{"$error":"#VALUE!"}},null,{"$f":"(MDR!$AV$6*FU86+MDR!$AW$6*FU87+MDR!$AX$6*FU88)/100","v":{"$error":"#VALUE!"}},null,{"$f":"(MDR!$AV$6*FW86+MDR!$AW$6*FW87+MDR!$AX$6*FW88)/100","v":{"$error":"#VALUE!"}},null,null,null,null,null,{"$f":"(MDR!$AV$6*GC86+MDR!$AW$6*GC87+MDR!$AX$6*GC88)/100","v":{"$error":"#VALUE!"}},null,{"$f":"(MDR!$AV$6*GE86+MDR!$AW$6*GE87+MDR!$AX$6*GE88)/100","v":{"$error":"#VALUE!"}},null,{"$f":"(MDR!$AV$6*GG86+MDR!$AW$6*GG87+MDR!$AX$6*GG88)/100","v":{"$error":"#VALUE!"}},null,{"$f":"(MDR!$AV$6*GI86+MDR!$AW$6*GI87+MDR!$AX$6*GI88)/100","v":{"$error":"#VALUE!"}},null,null,null,null,null,{"$f":"(MDR!$AV$6*GO86+MDR!$AW$6*GO87+MDR!$AX$6*GO88)/100","v":{"$error":"#VALUE!"}},null,{"$f":"(MDR!$AV$6*GQ86+MDR!$AW$6*GQ87+MDR!$AX$6*GQ88)/100","v":{"$error":"#VALUE!"}},null,{"$f":"(MDR!$AV$6*GS86+MDR!$AW$6*GS87+MDR!$AX$6*GS88)/100","v":{"$error":"#VALUE!"}},null,{"$f":"(MDR!$AV$6*GU86+MDR!$AW$6*GU87+MDR!$AX$6*GU88)/100","v":{"$error":"#VALUE!"}},null,null,null,null,null,{"$f":"(MDR!$AV$6*HA86+MDR!$AW$6*HA87+MDR!$AX$6*HA88)/100","v":{"$error":"#VALUE!"}},null,{"$f":"(MDR!$AV$6*HC86+MDR!$AW$6*HC87+MDR!$AX$6*HC88)/100","v":{"$error":"#VALUE!"}},null,{"$f":"(MDR!$AV$6*HE86+MDR!$AW$6*HE87+MDR!$AX$6*HE88)/100","v":{"$error":"#VALUE!"}},null,{"$f":"(MDR!$AV$6*HG86+MDR!$AW$6*HG87+MDR!$AX$6*HG88)/100","v":{"$error":"#VALUE!"}},null,null,null,null,null,{"$f":"(MDR!$AV$6*HM86+MDR!$AW$6*HM87+MDR!$AX$6*HM88)/100","v":{"$error":"#VALUE!"}},null,{"$f":"(MDR!$AV$6*HO86+MDR!$AW$6*HO87+MDR!$AX$6*HO88)/100","v":{"$error":"#VALUE!"}},null,{"$f":"(MDR!$AV$6*HQ86+MDR!$AW$6*HQ87+MDR!$AX$6*HQ88)/100","v":{"$error":"#VALUE!"}},null,{"$f":"(MDR!$AV$6*HS86+MDR!$AW$6*HS87+MDR!$AX$6*HS88)/100","v":{"$error":"#VALUE!"}},null,null,null,null,null,{"$f":"(MDR!$AV$6*HY86+MDR!$AW$6*HY87+MDR!$AX$6*HY88)/100","v":{"$error":"#VALUE!"}},null,{"$f":"(MDR!$AV$6*IA86+MDR!$AW$6*IA87+MDR!$AX$6*IA88)/100","v":{"$error":"#VALUE!"}},null,{"$f":"(MDR!$AV$6*IC86+MDR!$AW$6*IC87+MDR!$AX$6*IC88)/100","v":{"$error":"#VALUE!"}},null,{"$f":"(MDR!$AV$6*IE86+MDR!$AW$6*IE87+MDR!$AX$6*IE88)/100","v":{"$error":"#VALUE!"}},null,null,null,null,null,{"$f":"(MDR!$AV$6*IK86+MDR!$AW$6*IK87+MDR!$AX$6*IK88)/100","v":{"$error":"#VALUE!"}},null,{"$f":"(MDR!$AV$6*IM86+MDR!$AW$6*IM87+MDR!$AX$6*IM88)/100","v":{"$error":"#VALUE!"}},null,{"$f":"(MDR!$AV$6*IO86+MDR!$AW$6*IO87+MDR!$AX$6*IO88)/100","v":{"$error":"#VALUE!"}},null,{"$f":"(MDR!$AV$6*IQ86+MDR!$AW$6*IQ87+MDR!$AX$6*IQ88)/100","v":{"$error":"#VALUE!"}},null,null,0,"Agency AFT Substituted"]
[null,null,null,null,{"$f":"(MDR!$AV$6*E86+MDR!$AW$6*E87+MDR!$AX$6*E88+MDR!$AY$6*E89)/100","v":0},null,{"$f":"(MDR!$AV$6*G86+MDR!$AW$6*G87+MDR!$AX$6*G88+MDR!$AY$6*G89)/100","v":{"$error":"#VALUE!"}},null,{"$f":"(MDR!$AV$6*I86+MDR!$AW$6*I87+MDR!$AX$6*I88+MDR!$AY$6*I89)/100","v":{"$error":"#VALUE!"}},null,{"$f":"(MDR!$AV$6*K86+MDR!$AW$6*K87+MDR!$AX$6*K88+MDR!$AY$6*K89)/100","v":{"$error":"#VALUE!"}},null,null,null,null,null,{"$f":"(MDR!$AV$6*Q86+MDR!$AW$6*Q87+MDR!$AX$6*Q88+MDR!$AY$6*Q89)/100","v":{"$error":"#VALUE!"}},null,{"$f":"(MDR!$AV$6*S86+MDR!$AW$6*S87+MDR!$AX$6*S88+MDR!$AY$6*S89)/100","v":{"$error":"#VALUE!"}},null,{"$f":"(MDR!$AV$6*U86+MDR!$AW$6*U87+MDR!$AX$6*U88+MDR!$AY$6*U89)/100","v":{"$error":"#VALUE!"}},null,{"$f":"(MDR!$AV$6*W86+MDR!$AW$6*W87+MDR!$AX$6*W88+MDR!$AY$6*W89)/100","v":{"$error":"#VALUE!"}},null,null,null,null,null,{"$f":"(MDR!$AV$6*AC86+MDR!$AW$6*AC87+MDR!$AX$6*AC88+MDR!$AY$6*AC89)/100","v":{"$error":"#VALUE!"}},null,{"$f":"(MDR!$AV$6*AE86+MDR!$AW$6*AE87+MDR!$AX$6*AE88+MDR!$AY$6*AE89)/100","v":{"$error":"#VALUE!"}},null,{"$f":"(MDR!$AV$6*AG86+MDR!$AW$6*AG87+MDR!$AX$6*AG88+MDR!$AY$6*AG89)/100","v":{"$error":"#VALUE!"}},null,{"$f":"(MDR!$AV$6*AI86+MDR!$AW$6*AI87+MDR!$AX$6*AI88+MDR!$AY$6*AI89)/100","v":{"$error":"#VALUE!"}},null,null,null,null,null,{"$f":"(MDR!$AV$6*AO86+MDR!$AW$6*AO87+MDR!$AX$6*AO88+MDR!$AY$6*AO89)/100","v":{"$error":"#VALUE!"}},null,{"$f":"(MDR!$AV$6*AQ86+MDR!$AW$6*AQ87+MDR!$AX$6*AQ88+MDR!$AY$6*AQ89)/100","v":{"$error":"#VALUE!"}},null,{"$f":"(MDR!$AV$6*AS86+MDR!$AW$6*AS87+MDR!$AX$6*AS88+MDR!$AY$6*AS89)/100","v":{"$error":"#VALUE!"}},null,{"$f":"(MDR!$AV$6*AU86+MDR!$AW$6*AU87+MDR!$AX$6*AU88+MDR!$AY$6*AU89)/100","v":{"$error":"#VALUE!"}},null,null,null,null,null,{"$f":"(MDR!$AV$6*BA86+MDR!$AW$6*BA87+MDR!$AX$6*BA88+MDR!$AY$6*BA89)/100","v":{"$error":"#VALUE!"}},null,{"$f":"(MDR!$AV$6*BC86+MDR!$AW$6*BC87+MDR!$AX$6*BC88+MDR!$AY$6*BC89)/100","v":{"$error":"#VALUE!"}},null,{"$f":"(MDR!$AV$6*BE86+MDR!$AW$6*BE87+MDR!$AX$6*BE88+MDR!$AY$6*BE89)/100","v":{"$error":"#VALUE!"}},null,{"$f":"(MDR!$AV$6*BG86+MDR!$AW$6*BG87+MDR!$AX$6*BG88+MDR!$AY$6*BG89)/100","v":{"$error":"#VALUE!"}},null,null,null,null,null,{"$f":"(MDR!$AV$6*BM86+MDR!$AW$6*BM87+MDR!$AX$6*BM88+MDR!$AY$6*BM89)/100","v":{"$error":"#VALUE!"}},null,{"$f":"(MDR!$AV$6*BO86+MDR!$AW$6*BO87+MDR!$AX$6*BO88+MDR!$AY$6*BO89)/100","v":{"$error":"#VALUE!"}},null,{"$f":"(MDR!$AV$6*BQ86+MDR!$AW$6*BQ87+MDR!$AX$6*BQ88+MDR!$AY$6*BQ89)/100","v":{"$error":"#VALUE!"}},null,{"$f":"(MDR!$AV$6*BS86+MDR!$AW$6*BS87+MDR!$AX$6*BS88+MDR!$AY$6*BS89)/100","v":{"$error":"#VALUE!"}},null,null,null,null,null,{"$f":"(MDR!$AV$6*BY86+MDR!$AW$6*BY87+MDR!$AX$6*BY88+MDR!$AY$6*BY89)/100","v":{"$error":"#VALUE!"}},null,{"$f":"(MDR!$AV$6*CA86+MDR!$AW$6*CA87+MDR!$AX$6*CA88+MDR!$AY$6*CA89)/100","v":{"$error":"#VALUE!"}},null,{"$f":"(MDR!$AV$6*CC86+MDR!$AW$6*CC87+MDR!$AX$6*CC88+MDR!$AY$6*CC89)/100","v":{"$error":"#VALUE!"}},null,{"$f":"(MDR!$AV$6*CE86+MDR!$AW$6*CE87+MDR!$AX$6*CE88+MDR!$AY$6*CE89)/100","v":{"$error":"#VALUE!"}},null,null,null,null,null,{"$f":"(MDR!$AV$6*CK86+MDR!$AW$6*CK87+MDR!$AX$6*CK88+MDR!$AY$6*CK89)/100","v":{"$error":"#VALUE!"}},null,{"$f":"(MDR!$AV$6*CM86+MDR!$AW$6*CM87+MDR!$AX$6*CM88+MDR!$AY$6*CM89)/100","v":{"$error":"#VALUE!"}},null,{"$f":"(MDR!$AV$6*CO86+MDR!$AW$6*CO87+MDR!$AX$6*CO88+MDR!$AY$6*CO89)/100","v":{"$error":"#VALUE!"}},null,{"$f":"(MDR!$AV$6*CQ86+MDR!$AW$6*CQ87+MDR!$AX$6*CQ88+MDR!$AY$6*CQ89)/100","v":{"$error":"#VALUE!"}},null,null,null,null,null,{"$f":"(MDR!$AV$6*CW86+MDR!$AW$6*CW87+MDR!$AX$6*CW88+MDR!$AY$6*CW89)/100","v":{"$error":"#VALUE!"}},null,{"$f":"(MDR!$AV$6*CY86+MDR!$AW$6*CY87+MDR!$AX$6*CY88+MDR!$AY$6*CY89)/100","v":{"$error":"#VALUE!"}},null,{"$f":"(MDR!$AV$6*DA86+MDR!$AW$6*DA87+MDR!$AX$6*DA88+MDR!$AY$6*DA89)/100","v":{"$error":"#VALUE!"}},null,{"$f":"(MDR!$AV$6*DC86+MDR!$AW$6*DC87+MDR!$AX$6*DC88+MDR!$AY$6*DC89)/100","v":{"$error":"#VALUE!"}},null,null,null,null,null,{"$f":"(MDR!$AV$6*DI86+MDR!$AW$6*DI87+MDR!$AX$6*DI88+MDR!$AY$6*DI89)/100","v":{"$error":"#VALUE!"}},null,{"$f":"(MDR!$AV$6*DK86+MDR!$AW$6*DK87+MDR!$AX$6*DK88+MDR!$AY$6*DK89)/100","v":{"$error":"#VALUE!"}},null,{"$f":"(MDR!$AV$6*DM86+MDR!$AW$6*DM87+MDR!$AX$6*DM88+MDR!$AY$6*DM89)/100","v":{"$error":"#VALUE!"}},null,{"$f":"(MDR!$AV$6*DO86+MDR!$AW$6*DO87+MDR!$AX$6*DO88+MDR!$AY$6*DO89)/100","v":{"$error":"#VALUE!"}},null,null,null,null,null,{"$f":"(MDR!$AV$6*DU86+MDR!$AW$6*DU87+MDR!$AX$6*DU88+MDR!$AY$6*DU89)/100","v":{"$error":"#VALUE!"}},null,{"$f":"(MDR!$AV$6*DW86+MDR!$AW$6*DW87+MDR!$AX$6*DW88+MDR!$AY$6*DW89)/100","v":{"$error":"#VALUE!"}},null,{"$f":"(MDR!$AV$6*DY86+MDR!$AW$6*DY87+MDR!$AX$6*DY88+MDR!$AY$6*DY89)/100","v":{"$error":"#VALUE!"}},null,{"$f":"(MDR!$AV$6*EA86+MDR!$AW$6*EA87+MDR!$AX$6*EA88+MDR!$AY$6*EA89)/100","v":{"$error":"#VALUE!"}},null,null,null,null,null,{"$f":"(MDR!$AV$6*EG86+MDR!$AW$6*EG87+MDR!$AX$6*EG88+MDR!$AY$6*EG89)/100","v":{"$error":"#VALUE!"}},null,{"$f":"(MDR!$AV$6*EI86+MDR!$AW$6*EI87+MDR!$AX$6*EI88+MDR!$AY$6*EI89)/100","v":{"$error":"#VALUE!"}},null,{"$f":"(MDR!$AV$6*EK86+MDR!$AW$6*EK87+MDR!$AX$6*EK88+MDR!$AY$6*EK89)/100","v":{"$error":"#VALUE!"}},null,{"$f":"(MDR!$AV$6*EM86+MDR!$AW$6*EM87+MDR!$AX$6*EM88+MDR!$AY$6*EM89)/100","v":{"$error":"#VALUE!"}},null,null,null,null,null,{"$f":"(MDR!$AV$6*ES86+MDR!$AW$6*ES87+MDR!$AX$6*ES88+MDR!$AY$6*ES89)/100","v":{"$error":"#VALUE!"}},null,{"$f":"(MDR!$AV$6*EU86+MDR!$AW$6*EU87+MDR!$AX$6*EU88+MDR!$AY$6*EU89)/100","v":{"$error":"#VALUE!"}},null,{"$f":"(MDR!$AV$6*EW86+MDR!$AW$6*EW87+MDR!$AX$6*EW88+MDR!$AY$6*EW89)/100","v":{"$error":"#VALUE!"}},null,{"$f":"(MDR!$AV$6*EY86+MDR!$AW$6*EY87+MDR!$AX$6*EY88+MDR!$AY$6*EY89)/100","v":{"$error":"#VALUE!"}},null,null,null,null,null,{"$f":"(MDR!$AV$6*FE86+MDR!$AW$6*FE87+MDR!$AX$6*FE88+MDR!$AY$6*FE89)/100","v":{"$error":"#VALUE!"}},null,{"$f":"(MDR!$AV$6*FG86+MDR!$AW$6*FG87+MDR!$AX$6*FG88+MDR!$AY$6*FG89)/100","v":{"$error":"#VALUE!"}},null,{"$f":"(MDR!$AV$6*FI86+MDR!$AW$6*FI87+MDR!$AX$6*FI88+MDR!$AY$6*FI89)/100","v":{"$error":"#VALUE!"}},null,{"$f":"(MDR!$AV$6*FK86+MDR!$AW$6*FK87+MDR!$AX$6*FK88+MDR!$AY$6*FK89)/100","v":{"$error":"#VALUE!"}},null,null,null,null,null,{"$f":"(MDR!$AV$6*FQ86+MDR!$AW$6*FQ87+MDR!$AX$6*FQ88+MDR!$AY$6*FQ89)/100","v":{"$error":"#VALUE!"}},null,{"$f":"(MDR!$AV$6*FS86+MDR!$AW$6*FS87+MDR!$AX$6*FS88+MDR!$AY$6*FS89)/100","v":{"$error":"#VALUE!"}},null,{"$f":"(MDR!$AV$6*FU86+MDR!$AW$6*FU87+MDR!$AX$6*FU88+MDR!$AY$6*FU89)/100","v":{"$error":"#VALUE!"}},null,{"$f":"(MDR!$AV$6*FW86+MDR!$AW$6*FW87+MDR!$AX$6*FW88+MDR!$AY$6*FW89)/100","v":{"$error":"#VALUE!"}},null,null,null,null,null,{"$f":"(MDR!$AV$6*GC86+MDR!$AW$6*GC87+MDR!$AX$6*GC88+MDR!$AY$6*GC89)/100","v":{"$error":"#VALUE!"}},null,{"$f":"(MDR!$AV$6*GE86+MDR!$AW$6*GE87+MDR!$AX$6*GE88+MDR!$AY$6*GE89)/100","v":{"$error":"#VALUE!"}},null,{"$f":"(MDR!$AV$6*GG86+MDR!$AW$6*GG87+MDR!$AX$6*GG88+MDR!$AY$6*GG89)/100","v":{"$error":"#VALUE!"}},null,{"$f":"(MDR!$AV$6*GI86+MDR!$AW$6*GI87+MDR!$AX$6*GI88+MDR!$AY$6*GI89)/100","v":{"$error":"#VALUE!"}},null,null,null,null,null,{"$f":"(MDR!$AV$6*GO86+MDR!$AW$6*GO87+MDR!$AX$6*GO88+MDR!$AY$6*GO89)/100","v":{"$error":"#VALUE!"}},null,{"$f":"(MDR!$AV$6*GQ86+MDR!$AW$6*GQ87+MDR!$AX$6*GQ88+MDR!$AY$6*GQ89)/100","v":{"$error":"#VALUE!"}},null,{"$f":"(MDR!$AV$6*GS86+MDR!$AW$6*GS87+MDR!$AX$6*GS88+MDR!$AY$6*GS89)/100","v":{"$error":"#VALUE!"}},null,{"$f":"(MDR!$AV$6*GU86+MDR!$AW$6*GU87+MDR!$AX$6*GU88+MDR!$AY$6*GU89)/100","v":{"$error":"#VALUE!"}},null,null,null,null,null,{"$f":"(MDR!$AV$6*HA86+MDR!$AW$6*HA87+MDR!$AX$6*HA88+MDR!$AY$6*HA89)/100","v":{"$error":"#VALUE!"}},null,{"$f":"(MDR!$AV$6*HC86+MDR!$AW$6*HC87+MDR!$AX$6*HC88+MDR!$AY$6*HC89)/100","v":{"$error":"#VALUE!"}},null,{"$f":"(MDR!$AV$6*HE86+MDR!$AW$6*HE87+MDR!$AX$6*HE88+MDR!$AY$6*HE89)/100","v":{"$error":"#VALUE!"}},null,{"$f":"(MDR!$AV$6*HG86+MDR!$AW$6*HG87+MDR!$AX$6*HG88+MDR!$AY$6*HG89)/100","v":{"$error":"#VALUE!"}},null,null,null,null,null,{"$f":"(MDR!$AV$6*HM86+MDR!$AW$6*HM87+MDR!$AX$6*HM88+MDR!$AY$6*HM89)/100","v":{"$error":"#VALUE!"}},null,{"$f":"(MDR!$AV$6*HO86+MDR!$AW$6*HO87+MDR!$AX$6*HO88+MDR!$AY$6*HO89)/100","v":{"$error":"#VALUE!"}},null,{"$f":"(MDR!$AV$6*HQ86+MDR!$AW$6*HQ87+MDR!$AX$6*HQ88+MDR!$AY$6*HQ89)/100","v":{"$error":"#VALUE!"}},null,{"$f":"(MDR!$AV$6*HS86+MDR!$AW$6*HS87+MDR!$AX$6*HS88+MDR!$AY$6*HS89)/100","v":{"$error":"#VALUE!"}},null,null,null,null,null,{"$f":"(MDR!$AV$6*HY86+MDR!$AW$6*HY87+MDR!$AX$6*HY88+MDR!$AY$6*HY89)/100","v":{"$error":"#VALUE!"}},null,{"$f":"(MDR!$AV$6*IA86+MDR!$AW$6*IA87+MDR!$AX$6*IA88+MDR!$AY$6*IA89)/100","v":{"$error":"#VALUE!"}},null,{"$f":"(MDR!$AV$6*IC86+MDR!$AW$6*IC87+MDR!$AX$6*IC88+MDR!$AY$6*IC89)/100","v":{"$error":"#VALUE!"}},null,{"$f":"(MDR!$AV$6*IE86+MDR!$AW$6*IE87+MDR!$AX$6*IE88+MDR!$AY$6*IE89)/100","v":{"$error":"#VALUE!"}},null,null,null,null,null,{"$f":"(MDR!$AV$6*IK86+MDR!$AW$6*IK87+MDR!$AX$6*IK88+MDR!$AY$6*IK89)/100","v":{"$error":"#VALUE!"}},null,{"$f":"(MDR!$AV$6*IM86+MDR!$AW$6*IM87+MDR!$AX$6*IM88+MDR!$AY$6*IM89)/100","v":{"$error":"#VALUE!"}},null,{"$f":"(MDR!$AV$6*IO86+MDR!$AW$6*IO87+MDR!$AX$6*IO88+MDR!$AY$6*IO89)/100","v":{"$error":"#VALUE!"}},null,{"$f":"(MDR!$AV$6*IQ86+MDR!$AW$6*IQ87+MDR!$AX$6*IQ88+MDR!$AY$6*IQ89)/100","v":{"$error":"#VALUE!"}},null,null,0,"Agency AFT Substituted"]
[null,null,null,null,{"$f":"(MDR!$AV$6*E86+MDR!$AW$6*E87+MDR!$AX$6*E88+MDR!$AY$6*E89+MDR!$AZ$6*E90)/100","v":0},null,{"$f":"(MDR!$AV$6*G86+MDR!$AW$6*G87+MDR!$AX$6*G88+MDR!$AY$6*G89+MDR!$AZ$6*G90)/100","v":{"$error":"#VALUE!"}},null,{"$f":"(MDR!$AV$6*I86+MDR!$AW$6*I87+MDR!$AX$6*I88+MDR!$AY$6*I89+MDR!$AZ$6*I90)/100","v":{"$error":"#VALUE!"}},null,{"$f":"(MDR!$AV$6*K86+MDR!$AW$6*K87+MDR!$AX$6*K88+MDR!$AY$6*K89+MDR!$AZ$6*K90)/100","v":{"$error":"#VALUE!"}},null,null,null,null,null,{"$f":"(MDR!$AV$6*Q86+MDR!$AW$6*Q87+MDR!$AX$6*Q88+MDR!$AY$6*Q89+MDR!$AZ$6*Q90)/100","v":{"$error":"#VALUE!"}},null,{"$f":"(MDR!$AV$6*S86+MDR!$AW$6*S87+MDR!$AX$6*S88+MDR!$AY$6*S89+MDR!$AZ$6*S90)/100","v":{"$error":"#VALUE!"}},null,{"$f":"(MDR!$AV$6*U86+MDR!$AW$6*U87+MDR!$AX$6*U88+MDR!$AY$6*U89+MDR!$AZ$6*U90)/100","v":{"$error":"#VALUE!"}},null,{"$f":"(MDR!$AV$6*W86+MDR!$AW$6*W87+MDR!$AX$6*W88+MDR!$AY$6*W89+MDR!$AZ$6*W90)/100","v":{"$error":"#VALUE!"}},null,null,null,null,null,{"$f":"(MDR!$AV$6*AC86+MDR!$AW$6*AC87+MDR!$AX$6*AC88+MDR!$AY$6*AC89+MDR!$AZ$6*AC90)/100","v":{"$error":"#VALUE!"}},null,{"$f":"(MDR!$AV$6*AE86+MDR!$AW$6*AE87+MDR!$AX$6*AE88+MDR!$AY$6*AE89+MDR!$AZ$6*AE90)/100","v":{"$error":"#VALUE!"}},null,{"$f":"(MDR!$AV$6*AG86+MDR!$AW$6*AG87+MDR!$AX$6*AG88+MDR!$AY$6*AG89+MDR!$AZ$6*AG90)/100","v":{"$error":"#VALUE!"}},null,{"$f":"(MDR!$AV$6*AI86+MDR!$AW$6*AI87+MDR!$AX$6*AI88+MDR!$AY$6*AI89+MDR!$AZ$6*AI90)/100","v":{"$error":"#VALUE!"}},null,null,null,null,null,{"$f":"(MDR!$AV$6*AO86+MDR!$AW$6*AO87+MDR!$AX$6*AO88+MDR!$AY$6*AO89+MDR!$AZ$6*AO90)/100","v":{"$error":"#VALUE!"}},null,{"$f":"(MDR!$AV$6*AQ86+MDR!$AW$6*AQ87+MDR!$AX$6*AQ88+MDR!$AY$6*AQ89+MDR!$AZ$6*AQ90)/100","v":{"$error":"#VALUE!"}},null,{"$f":"(MDR!$AV$6*AS86+MDR!$AW$6*AS87+MDR!$AX$6*AS88+MDR!$AY$6*AS89+MDR!$AZ$6*AS90)/100","v":{"$error":"#VALUE!"}},null,{"$f":"(MDR!$AV$6*AU86+MDR!$AW$6*AU87+MDR!$AX$6*AU88+MDR!$AY$6*AU89+MDR!$AZ$6*AU90)/100","v":{"$error":"#VALUE!"}},null,null,null,null,null,{"$f":"(MDR!$AV$6*BA86+MDR!$AW$6*BA87+MDR!$AX$6*BA88+MDR!$AY$6*BA89+MDR!$AZ$6*BA90)/100","v":{"$error":"#VALUE!"}},null,{"$f":"(MDR!$AV$6*BC86+MDR!$AW$6*BC87+MDR!$AX$6*BC88+MDR!$AY$6*BC89+MDR!$AZ$6*BC90)/100","v":{"$error":"#VALUE!"}},null,{"$f":"(MDR!$AV$6*BE86+MDR!$AW$6*BE87+MDR!$AX$6*BE88+MDR!$AY$6*BE89+MDR!$AZ$6*BE90)/100","v":{"$error":"#VALUE!"}},null,{"$f":"(MDR!$AV$6*BG86+MDR!$AW$6*BG87+MDR!$AX$6*BG88+MDR!$AY$6*BG89+MDR!$AZ$6*BG90)/100","v":{"$error":"#VALUE!"}},null,null,null,null,null,{"$f":"(MDR!$AV$6*BM86+MDR!$AW$6*BM87+MDR!$AX$6*BM88+MDR!$AY$6*BM89+MDR!$AZ$6*BM90)/100","v":{"$error":"#VALUE!"}},null,{"$f":"(MDR!$AV$6*BO86+MDR!$AW$6*BO87+MDR!$AX$6*BO88+MDR!$AY$6*BO89+MDR!$AZ$6*BO90)/100","v":{"$error":"#VALUE!"}},null,{"$f":"(MDR!$AV$6*BQ86+MDR!$AW$6*BQ87+MDR!$AX$6*BQ88+MDR!$AY$6*BQ89+MDR!$AZ$6*BQ90)/100","v":{"$error":"#VALUE!"}},null,{"$f":"(MDR!$AV$6*BS86+MDR!$AW$6*BS87+MDR!$AX$6*BS88+MDR!$AY$6*BS89+MDR!$AZ$6*BS90)/100","v":{"$error":"#VALUE!"}},null,null,null,null,null,{"$f":"(MDR!$AV$6*BY86+MDR!$AW$6*BY87+MDR!$AX$6*BY88+MDR!$AY$6*BY89+MDR!$AZ$6*BY90)/100","v":{"$error":"#VALUE!"}},null,{"$f":"(MDR!$AV$6*CA86+MDR!$AW$6*CA87+MDR!$AX$6*CA88+MDR!$AY$6*CA89+MDR!$AZ$6*CA90)/100","v":{"$error":"#VALUE!"}},null,{"$f":"(MDR!$AV$6*CC86+MDR!$AW$6*CC87+MDR!$AX$6*CC88+MDR!$AY$6*CC89+MDR!$AZ$6*CC90)/100","v":{"$error":"#VALUE!"}},null,{"$f":"(MDR!$AV$6*CE86+MDR!$AW$6*CE87+MDR!$AX$6*CE88+MDR!$AY$6*CE89+MDR!$AZ$6*CE90)/100","v":{"$error":"#VALUE!"}},null,null,null,null,null,{"$f":"(MDR!$AV$6*CK86+MDR!$AW$6*CK87+MDR!$AX$6*CK88+MDR!$AY$6*CK89+MDR!$AZ$6*CK90)/100","v":{"$error":"#VALUE!"}},null,{"$f":"(MDR!$AV$6*CM86+MDR!$AW$6*CM87+MDR!$AX$6*CM88+MDR!$AY$6*CM89+MDR!$AZ$6*CM90)/100","v":{"$error":"#VALUE!"}},null,{"$f":"(MDR!$AV$6*CO86+MDR!$AW$6*CO87+MDR!$AX$6*CO88+MDR!$AY$6*CO89+MDR!$AZ$6*CO90)/100","v":{"$error":"#VALUE!"}},null,{"$f":"(MDR!$AV$6*CQ86+MDR!$AW$6*CQ87+MDR!$AX$6*CQ88+MDR!$AY$6*CQ89+MDR!$AZ$6*CQ90)/100","v":{"$error":"#VALUE!"}},null,null,null,null,null,{"$f":"(MDR!$AV$6*CW86+MDR!$AW$6*CW87+MDR!$AX$6*CW88+MDR!$AY$6*CW89+MDR!$AZ$6*CW90)/100","v":{"$error":"#VALUE!"}},null,{"$f":"(MDR!$AV$6*CY86+MDR!$AW$6*CY87+MDR!$AX$6*CY88+MDR!$AY$6*CY89+MDR!$AZ$6*CY90)/100","v":{"$error":"#VALUE!"}},null,{"$f":"(MDR!$AV$6*DA86+MDR!$AW$6*DA87+MDR!$AX$6*DA88+MDR!$AY$6*DA89+MDR!$AZ$6*DA90)/100","v":{"$error":"#VALUE!"}},null,{"$f":"(MDR!$AV$6*DC86+MDR!$AW$6*DC87+MDR!$AX$6*DC88+MDR!$AY$6*DC89+MDR!$AZ$6*DC90)/100","v":{"$error":"#VALUE!"}},null,null,null,null,null,{"$f":"(MDR!$AV$6*DI86+MDR!$AW$6*DI87+MDR!$AX$6*DI88+MDR!$AY$6*DI89+MDR!$AZ$6*DI90)/100","v":{"$error":"#VALUE!"}},null,{"$f":"(MDR!$AV$6*DK86+MDR!$AW$6*DK87+MDR!$AX$6*DK88+MDR!$AY$6*DK89+MDR!$AZ$6*DK90)/100","v":{"$error":"#VALUE!"}},null,{"$f":"(MDR!$AV$6*DM86+MDR!$AW$6*DM87+MDR!$AX$6*DM88+MDR!$AY$6*DM89+MDR!$AZ$6*DM90)/100","v":{"$error":"#VALUE!"}},null,{"$f":"(MDR!$AV$6*DO86+MDR!$AW$6*DO87+MDR!$AX$6*DO88+MDR!$AY$6*DO89+MDR!$AZ$6*DO90)/100","v":{"$error":"#VALUE!"}},null,null,null,null,null,{"$f":"(MDR!$AV$6*DU86+MDR!$AW$6*DU87+MDR!$AX$6*DU88+MDR!$AY$6*DU89+MDR!$AZ$6*DU90)/100","v":{"$error":"#VALUE!"}},null,{"$f":"(MDR!$AV$6*DW86+MDR!$AW$6*DW87+MDR!$AX$6*DW88+MDR!$AY$6*DW89+MDR!$AZ$6*DW90)/100","v":{"$error":"#VALUE!"}},null,{"$f":"(MDR!$AV$6*DY86+MDR!$AW$6*DY87+MDR!$AX$6*DY88+MDR!$AY$6*DY89+MDR!$AZ$6*DY90)/100","v":{"$error":"#VALUE!"}},null,{"$f":"(MDR!$AV$6*EA86+MDR!$AW$6*EA87+MDR!$AX$6*EA88+MDR!$AY$6*EA89+MDR!$AZ$6*EA90)/100","v":{"$error":"#VALUE!"}},null,null,null,null,null,{"$f":"(MDR!$AV$6*EG86+MDR!$AW$6*EG87+MDR!$AX$6*EG88+MDR!$AY$6*EG89+MDR!$AZ$6*EG90)/100","v":{"$error":"#VALUE!"}},null,{"$f":"(MDR!$AV$6*EI86+MDR!$AW$6*EI87+MDR!$AX$6*EI88+MDR!$AY$6*EI89+MDR!$AZ$6*EI90)/100","v":{"$error":"#VALUE!"}},null,{"$f":"(MDR!$AV$6*EK86+MDR!$AW$6*EK87+MDR!$AX$6*EK88+MDR!$AY$6*EK89+MDR!$AZ$6*EK90)/100","v":{"$error":"#VALUE!"}},null,{"$f":"(MDR!$AV$6*EM86+MDR!$AW$6*EM87+MDR!$AX$6*EM88+MDR!$AY$6*EM89+MDR!$AZ$6*EM90)/100","v":{"$error":"#VALUE!"}},null,null,null,null,null,{"$f":"(MDR!$AV$6*ES86+MDR!$AW$6*ES87+MDR!$AX$6*ES88+MDR!$AY$6*ES89+MDR!$AZ$6*ES90)/100","v":{"$error":"#VALUE!"}},null,{"$f":"(MDR!$AV$6*EU86+MDR!$AW$6*EU87+MDR!$AX$6*EU88+MDR!$AY$6*EU89+MDR!$AZ$6*EU90)/100","v":{"$error":"#VALUE!"}},null,{"$f":"(MDR!$AV$6*EW86+MDR!$AW$6*EW87+MDR!$AX$6*EW88+MDR!$AY$6*EW89+MDR!$AZ$6*EW90)/100","v":{"$error":"#VALUE!"}},null,{"$f":"(MDR!$AV$6*EY86+MDR!$AW$6*EY87+MDR!$AX$6*EY88+MDR!$AY$6*EY89+MDR!$AZ$6*EY90)/100","v":{"$error":"#VALUE!"}},null,null,null,null,null,{"$f":"(MDR!$AV$6*FE86+MDR!$AW$6*FE87+MDR!$AX$6*FE88+MDR!$AY$6*FE89+MDR!$AZ$6*FE90)/100","v":{"$error":"#VALUE!"}},null,{"$f":"(MDR!$AV$6*FG86+MDR!$AW$6*FG87+MDR!$AX$6*FG88+MDR!$AY$6*FG89+MDR!$AZ$6*FG90)/100","v":{"$error":"#VALUE!"}},null,{"$f":"(MDR!$AV$6*FI86+MDR!$AW$6*FI87+MDR!$AX$6*FI88+MDR!$AY$6*FI89+MDR!$AZ$6*FI90)/100","v":{"$error":"#VALUE!"}},null,{"$f":"(MDR!$AV$6*FK86+MDR!$AW$6*FK87+MDR!$AX$6*FK88+MDR!$AY$6*FK89+MDR!$AZ$6*FK90)/100","v":{"$error":"#VALUE!"}},null,null,null,null,null,{"$f":"(MDR!$AV$6*FQ86+MDR!$AW$6*FQ87+MDR!$AX$6*FQ88+MDR!$AY$6*FQ89+MDR!$AZ$6*FQ90)/100","v":{"$error":"#VALUE!"}},null,{"$f":"(MDR!$AV$6*FS86+MDR!$AW$6*FS87+MDR!$AX$6*FS88+MDR!$AY$6*FS89+MDR!$AZ$6*FS90)/100","v":{"$error":"#VALUE!"}},null,{"$f":"(MDR!$AV$6*FU86+MDR!$AW$6*FU87+MDR!$AX$6*FU88+MDR!$AY$6*FU89+MDR!$AZ$6*FU90)/100","v":{"$error":"#VALUE!"}},null,{"$f":"(MDR!$AV$6*FW86+MDR!$AW$6*FW87+MDR!$AX$6*FW88+MDR!$AY$6*FW89+MDR!$AZ$6*FW90)/100","v":{"$error":"#VALUE!"}},null,null,null,null,null,{"$f":"(MDR!$AV$6*GC86+MDR!$AW$6*GC87+MDR!$AX$6*GC88+MDR!$AY$6*GC89+MDR!$AZ$6*GC90)/100","v":{"$error":"#VALUE!"}},null,{"$f":"(MDR!$AV$6*GE86+MDR!$AW$6*GE87+MDR!$AX$6*GE88+MDR!$AY$6*GE89+MDR!$AZ$6*GE90)/100","v":{"$error":"#VALUE!"}},null,{"$f":"(MDR!$AV$6*GG86+MDR!$AW$6*GG87+MDR!$AX$6*GG88+MDR!$AY$6*GG89+MDR!$AZ$6*GG90)/100","v":{"$error":"#VALUE!"}},null,{"$f":"(MDR!$AV$6*GI86+MDR!$AW$6*GI87+MDR!$AX$6*GI88+MDR!$AY$6*GI89+MDR!$AZ$6*GI90)/100","v":{"$error":"#VALUE!"}},null,null,null,null,null,{"$f":"(MDR!$AV$6*GO86+MDR!$AW$6*GO87+MDR!$AX$6*GO88+MDR!$AY$6*GO89+MDR!$AZ$6*GO90)/100","v":{"$error":"#VALUE!"}},null,{"$f":"(MDR!$AV$6*GQ86+MDR!$AW$6*GQ87+MDR!$AX$6*GQ88+MDR!$AY$6*GQ89+MDR!$AZ$6*GQ90)/100","v":{"$error":"#VALUE!"}},null,{"$f":"(MDR!$AV$6*GS86+MDR!$AW$6*GS87+MDR!$AX$6*GS88+MDR!$AY$6*GS89+MDR!$AZ$6*GS90)/100","v":{"$error":"#VALUE!"}},null,{"$f":"(MDR!$AV$6*GU86+MDR!$AW$6*GU87+MDR!$AX$6*GU88+MDR!$AY$6*GU89+MDR!$AZ$6*GU90)/100","v":{"$error":"#VALUE!"}},null,null,null,null,null,{"$f":"(MDR!$AV$6*HA86+MDR!$AW$6*HA87+MDR!$AX$6*HA88+MDR!$AY$6*HA89+MDR!$AZ$6*HA90)/100","v":{"$error":"#VALUE!"}},null,{"$f":"(MDR!$AV$6*HC86+MDR!$AW$6*HC87+MDR!$AX$6*HC88+MDR!$AY$6*HC89+MDR!$AZ$6*HC90)/100","v":{"$error":"#VALUE!"}},null,{"$f":"(MDR!$AV$6*HE86+MDR!$AW$6*HE87+MDR!$AX$6*HE88+MDR!$AY$6*HE89+MDR!$AZ$6*HE90)/100","v":{"$error":"#VALUE!"}},null,{"$f":"(MDR!$AV$6*HG86+MDR!$AW$6*HG87+MDR!$AX$6*HG88+MDR!$AY$6*HG89+MDR!$AZ$6*HG90)/100","v":{"$error":"#VALUE!"}},null,null,null,null,null,{"$f":"(MDR!$AV$6*HM86+MDR!$AW$6*HM87+MDR!$AX$6*HM88+MDR!$AY$6*HM89+MDR!$AZ$6*HM90)/100","v":{"$error":"#VALUE!"}},null,{"$f":"(MDR!$AV$6*HO86+MDR!$AW$6*HO87+MDR!$AX$6*HO88+MDR!$AY$6*HO89+MDR!$AZ$6*HO90)/100","v":{"$error":"#VALUE!"}},null,{"$f":"(MDR!$AV$6*HQ86+MDR!$AW$6*HQ87+MDR!$AX$6*HQ88+MDR!$AY$6*HQ89+MDR!$AZ$6*HQ90)/100","v":{"$error":"#VALUE!"}},null,{"$f":"(MDR!$AV$6*HS86+MDR!$AW$6*HS87+MDR!$AX$6*HS88+MDR!$AY$6*HS89+MDR!$AZ$6*HS90)/100","v":{"$error":"#VALUE!"}},null,null,null,null,null,{"$f":"(MDR!$AV$6*HY86+MDR!$AW$6*HY87+MDR!$AX$6*HY88+MDR!$AY$6*HY89+MDR!$AZ$6*HY90)/100","v":{"$error":"#VALUE!"}},null,{"$f":"(MDR!$AV$6*IA86+MDR!$AW$6*IA87+MDR!$AX$6*IA88+MDR!$AY$6*IA89+MDR!$AZ$6*IA90)/100","v":{"$error":"#VALUE!"}},null,{"$f":"(MDR!$AV$6*IC86+MDR!$AW$6*IC87+MDR!$AX$6*IC88+MDR!$AY$6*IC89+MDR!$AZ$6*IC90)/100","v":{"$error":"#VALUE!"}},null,{"$f":"(MDR!$AV$6*IE86+MDR!$AW$6*IE87+MDR!$AX$6*IE88+MDR!$AY$6*IE89+MDR!$AZ$6*IE90)/100","v":{"$error":"#VALUE!"}},null,null,null,null,null,{"$f":"(MDR!$AV$6*IK86+MDR!$AW$6*IK87+MDR!$AX$6*IK88+MDR!$AY$6*IK89+MDR!$AZ$6*IK90)/100","v":{"$error":"#VALUE!"}},null,{"$f":"(MDR!$AV$6*IM86+MDR!$AW$6*IM87+MDR!$AX$6*IM88+MDR!$AY$6*IM89+MDR!$AZ$6*IM90)/100","v":{"$error":"#VALUE!"}},null,{"$f":"(MDR!$AV$6*IO86+MDR!$AW$6*IO87+MDR!$AX$6*IO88+MDR!$AY$6*IO89+MDR!$AZ$6*IO90)/100","v":{"$error":"#VALUE!"}},null,{"$f":"(MDR!$AV$6*IQ86+MDR!$AW$6*IQ87+MDR!$AX$6*IQ88+MDR!$AY$6*IQ89+MDR!$AZ$6*IQ90)/100","v":{"$error":"#VALUE!"}},null,null,0,"Agency AFT Substituted"]
[null,null,null,null,{"$f":"(MDR!$AV$6*E86+MDR!$AW$6*E87+MDR!$AX$6*E88+MDR!$AY$6*E89+MDR!$AZ$6*E90+MDR!$BA$6*E91)/100","v":0},null,{"$f":"(MDR!$AV$6*G86+MDR!$AW$6*G87+MDR!$AX$6*G88+MDR!$AY$6*G89+MDR!$AZ$6*G90+MDR!$BA$6*G91)/100","v":{"$error":"#VALUE!"}},null,{"$f":"(MDR!$AV$6*I86+MDR!$AW$6*I87+MDR!$AX$6*I88+MDR!$AY$6*I89+MDR!$AZ$6*I90+MDR!$BA$6*I91)/100","v":{"$error":"#VALUE!"}},null,{"$f":"(MDR!$AV$6*K86+MDR!$AW$6*K87+MDR!$AX$6*K88+MDR!$AY$6*K89+MDR!$AZ$6*K90+MDR!$BA$6*K91)/100","v":{"$error":"#VALUE!"}},null,null,null,null,null,{"$f":"(MDR!$AV$6*Q86+MDR!$AW$6*Q87+MDR!$AX$6*Q88+MDR!$AY$6*Q89+MDR!$AZ$6*Q90+MDR!$BA$6*Q91)/100","v":{"$error":"#VALUE!"}},null,{"$f":"(MDR!$AV$6*S86+MDR!$AW$6*S87+MDR!$AX$6*S88+MDR!$AY$6*S89+MDR!$AZ$6*S90+MDR!$BA$6*S91)/100","v":{"$error":"#VALUE!"}},null,{"$f":"(MDR!$AV$6*U86+MDR!$AW$6*U87+MDR!$AX$6*U88+MDR!$AY$6*U89+MDR!$AZ$6*U90+MDR!$BA$6*U91)/100","v":{"$error":"#VALUE!"}},null,{"$f":"(MDR!$AV$6*W86+MDR!$AW$6*W87+MDR!$AX$6*W88+MDR!$AY$6*W89+MDR!$AZ$6*W90+MDR!$BA$6*W91)/100","v":{"$error":"#VALUE!"}},null,null,null,null,null,{"$f":"(MDR!$AV$6*AC86+MDR!$AW$6*AC87+MDR!$AX$6*AC88+MDR!$AY$6*AC89+MDR!$AZ$6*AC90+MDR!$BA$6*AC91)/100","v":{"$error":"#VALUE!"}},null,{"$f":"(MDR!$AV$6*AE86+MDR!$AW$6*AE87+MDR!$AX$6*AE88+MDR!$AY$6*AE89+MDR!$AZ$6*AE90+MDR!$BA$6*AE91)/100","v":{"$error":"#VALUE!"}},null,{"$f":"(MDR!$AV$6*AG86+MDR!$AW$6*AG87+MDR!$AX$6*AG88+MDR!$AY$6*AG89+MDR!$AZ$6*AG90+MDR!$BA$6*AG91)/100","v":{"$error":"#VALUE!"}},null,{"$f":"(MDR!$AV$6*AI86+MDR!$AW$6*AI87+MDR!$AX$6*AI88+MDR!$AY$6*AI89+MDR!$AZ$6*AI90+MDR!$BA$6*AI91)/100","v":{"$error":"#VALUE!"}},null,null,null,null,null,{"$f":"(MDR!$AV$6*AO86+MDR!$AW$6*AO87+MDR!$AX$6*AO88+MDR!$AY$6*AO89+MDR!$AZ$6*AO90+MDR!$BA$6*AO91)/100","v":{"$error":"#VALUE!"}},null,{"$f":"(MDR!$AV$6*AQ86+MDR!$AW$6*AQ87+MDR!$AX$6*AQ88+MDR!$AY$6*AQ89+MDR!$AZ$6*AQ90+MDR!$BA$6*AQ91)/100","v":{"$error":"#VALUE!"}},null,{"$f":"(MDR!$AV$6*AS86+MDR!$AW$6*AS87+MDR!$AX$6*AS88+MDR!$AY$6*AS89+MDR!$AZ$6*AS90+MDR!$BA$6*AS91)/100","v":{"$error":"#VALUE!"}},null,{"$f":"(MDR!$AV$6*AU86+MDR!$AW$6*AU87+MDR!$AX$6*AU88+MDR!$AY$6*AU89+MDR!$AZ$6*AU90+MDR!$BA$6*AU91)/100","v":{"$error":"#VALUE!"}},null,null,null,null,null,{"$f":"(MDR!$AV$6*BA86+MDR!$AW$6*BA87+MDR!$AX$6*BA88+MDR!$AY$6*BA89+MDR!$AZ$6*BA90+MDR!$BA$6*BA91)/100","v":{"$error":"#VALUE!"}},null,{"$f":"(MDR!$AV$6*BC86+MDR!$AW$6*BC87+MDR!$AX$6*BC88+MDR!$AY$6*BC89+MDR!$AZ$6*BC90+MDR!$BA$6*BC91)/100","v":{"$error":"#VALUE!"}},null,{"$f":"(MDR!$AV$6*BE86+MDR!$AW$6*BE87+MDR!$AX$6*BE88+MDR!$AY$6*BE89+MDR!$AZ$6*BE90+MDR!$BA$6*BE91)/100","v":{"$error":"#VALUE!"}},null,{"$f":"(MDR!$AV$6*BG86+MDR!$AW$6*BG87+MDR!$AX$6*BG88+MDR!$AY$6*BG89+MDR!$AZ$6*BG90+MDR!$BA$6*BG91)/100","v":{"$error":"#VALUE!"}},null,null,null,null,null,{"$f":"(MDR!$AV$6*BM86+MDR!$AW$6*BM87+MDR!$AX$6*BM88+MDR!$AY$6*BM89+MDR!$AZ$6*BM90+MDR!$BA$6*BM91)/100","v":{"$error":"#VALUE!"}},null,{"$f":"(MDR!$AV$6*BO86+MDR!$AW$6*BO87+MDR!$AX$6*BO88+MDR!$AY$6*BO89+MDR!$AZ$6*BO90+MDR!$BA$6*BO91)/100","v":{"$error":"#VALUE!"}},null,{"$f":"(MDR!$AV$6*BQ86+MDR!$AW$6*BQ87+MDR!$AX$6*BQ88+MDR!$AY$6*BQ89+MDR!$AZ$6*BQ90+MDR!$BA$6*BQ91)/100","v":{"$error":"#VALUE!"}},null,{"$f":"(MDR!$AV$6*BS86+MDR!$AW$6*BS87+MDR!$AX$6*BS88+MDR!$AY$6*BS89+MDR!$AZ$6*BS90+MDR!$BA$6*BS91)/100","v":{"$error":"#VALUE!"}},null,null,null,null,null,{"$f":"(MDR!$AV$6*BY86+MDR!$AW$6*BY87+MDR!$AX$6*BY88+MDR!$AY$6*BY89+MDR!$AZ$6*BY90+MDR!$BA$6*BY91)/100","v":{"$error":"#VALUE!"}},null,{"$f":"(MDR!$AV$6*CA86+MDR!$AW$6*CA87+MDR!$AX$6*CA88+MDR!$AY$6*CA89+MDR!$AZ$6*CA90+MDR!$BA$6*CA91)/100","v":{"$error":"#VALUE!"}},null,{"$f":"(MDR!$AV$6*CC86+MDR!$AW$6*CC87+MDR!$AX$6*CC88+MDR!$AY$6*CC89+MDR!$AZ$6*CC90+MDR!$BA$6*CC91)/100","v":{"$error":"#VALUE!"}},null,{"$f":"(MDR!$AV$6*CE86+MDR!$AW$6*CE87+MDR!$AX$6*CE88+MDR!$AY$6*CE89+MDR!$AZ$6*CE90+MDR!$BA$6*CE91)/100","v":{"$error":"#VALUE!"}},null,null,null,null,null,{"$f":"(MDR!$AV$6*CK86+MDR!$AW$6*CK87+MDR!$AX$6*CK88+MDR!$AY$6*CK89+MDR!$AZ$6*CK90+MDR!$BA$6*CK91)/100","v":{"$error":"#VALUE!"}},null,{"$f":"(MDR!$AV$6*CM86+MDR!$AW$6*CM87+MDR!$AX$6*CM88+MDR!$AY$6*CM89+MDR!$AZ$6*CM90+MDR!$BA$6*CM91)/100","v":{"$error":"#VALUE!"}},null,{"$f":"(MDR!$AV$6*CO86+MDR!$AW$6*CO87+MDR!$AX$6*CO88+MDR!$AY$6*CO89+MDR!$AZ$6*CO90+MDR!$BA$6*CO91)/100","v":{"$error":"#VALUE!"}},null,{"$f":"(MDR!$AV$6*CQ86+MDR!$AW$6*CQ87+MDR!$AX$6*CQ88+MDR!$AY$6*CQ89+MDR!$AZ$6*CQ90+MDR!$BA$6*CQ91)/100","v":{"$error":"#VALUE!"}},null,null,null,null,null,{"$f":"(MDR!$AV$6*CW86+MDR!$AW$6*CW87+MDR!$AX$6*CW88+MDR!$AY$6*CW89+MDR!$AZ$6*CW90+MDR!$BA$6*CW91)/100","v":{"$error":"#VALUE!"}},null,{"$f":"(MDR!$AV$6*CY86+MDR!$AW$6*CY87+MDR!$AX$6*CY88+MDR!$AY$6*CY89+MDR!$AZ$6*CY90+MDR!$BA$6*CY91)/100","v":{"$error":"#VALUE!"}},null,{"$f":"(MDR!$AV$6*DA86+MDR!$AW$6*DA87+MDR!$AX$6*DA88+MDR!$AY$6*DA89+MDR!$AZ$6*DA90+MDR!$BA$6*DA91)/100","v":{"$error":"#VALUE!"}},null,{"$f":"(MDR!$AV$6*DC86+MDR!$AW$6*DC87+MDR!$AX$6*DC88+MDR!$AY$6*DC89+MDR!$AZ$6*DC90+MDR!$BA$6*DC91)/100","v":{"$error":"#VALUE!"}},null,null,null,null,null,{"$f":"(MDR!$AV$6*DI86+MDR!$AW$6*DI87+MDR!$AX$6*DI88+MDR!$AY$6*DI89+MDR!$AZ$6*DI90+MDR!$BA$6*DI91)/100","v":{"$error":"#VALUE!"}},null,{"$f":"(MDR!$AV$6*DK86+MDR!$AW$6*DK87+MDR!$AX$6*DK88+MDR!$AY$6*DK89+MDR!$AZ$6*DK90+MDR!$BA$6*DK91)/100","v":{"$error":"#VALUE!"}},null,{"$f":"(MDR!$AV$6*DM86+MDR!$AW$6*DM87+MDR!$AX$6*DM88+MDR!$AY$6*DM89+MDR!$AZ$6*DM90+MDR!$BA$6*DM91)/100","v":{"$error":"#VALUE!"}},null,{"$f":"(MDR!$AV$6*DO86+MDR!$AW$6*DO87+MDR!$AX$6*DO88+MDR!$AY$6*DO89+MDR!$AZ$6*DO90+MDR!$BA$6*DO91)/100","v":{"$error":"#VALUE!"}},null,null,null,null,null,{"$f":"(MDR!$AV$6*DU86+MDR!$AW$6*DU87+MDR!$AX$6*DU88+MDR!$AY$6*DU89+MDR!$AZ$6*DU90+MDR!$BA$6*DU91)/100","v":{"$error":"#VALUE!"}},null,{"$f":"(MDR!$AV$6*DW86+MDR!$AW$6*DW87+MDR!$AX$6*DW88+MDR!$AY$6*DW89+MDR!$AZ$6*DW90+MDR!$BA$6*DW91)/100","v":{"$error":"#VALUE!"}},null,{"$f":"(MDR!$AV$6*DY86+MDR!$AW$6*DY87+MDR!$AX$6*DY88+MDR!$AY$6*DY89+MDR!$AZ$6*DY90+MDR!$BA$6*DY91)/100","v":{"$error":"#VALUE!"}},null,{"$f":"(MDR!$AV$6*EA86+MDR!$AW$6*EA87+MDR!$AX$6*EA88+MDR!$AY$6*EA89+MDR!$AZ$6*EA90+MDR!$BA$6*EA91)/100","v":{"$error":"#VALUE!"}},null,null,null,null,null,{"$f":"(MDR!$AV$6*EG86+MDR!$AW$6*EG87+MDR!$AX$6*EG88+MDR!$AY$6*EG89+MDR!$AZ$6*EG90+MDR!$BA$6*EG91)/100","v":{"$error":"#VALUE!"}},null,{"$f":"(MDR!$AV$6*EI86+MDR!$AW$6*EI87+MDR!$AX$6*EI88+MDR!$AY$6*EI89+MDR!$AZ$6*EI90+MDR!$BA$6*EI91)/100","v":{"$error":"#VALUE!"}},null,{"$f":"(MDR!$AV$6*EK86+MDR!$AW$6*EK87+MDR!$AX$6*EK88+MDR!$AY$6*EK89+MDR!$AZ$6*EK90+MDR!$BA$6*EK91)/100","v":{"$error":"#VALUE!"}},null,{"$f":"(MDR!$AV$6*EM86+MDR!$AW$6*EM87+MDR!$AX$6*EM88+MDR!$AY$6*EM89+MDR!$AZ$6*EM90+MDR!$BA$6*EM91)/100","v":{"$error":"#VALUE!"}},null,null,null,null,null,{"$f":"(MDR!$AV$6*ES86+MDR!$AW$6*ES87+MDR!$AX$6*ES88+MDR!$AY$6*ES89+MDR!$AZ$6*ES90+MDR!$BA$6*ES91)/100","v":{"$error":"#VALUE!"}},null,{"$f":"(MDR!$AV$6*EU86+MDR!$AW$6*EU87+MDR!$AX$6*EU88+MDR!$AY$6*EU89+MDR!$AZ$6*EU90+MDR!$BA$6*EU91)/100","v":{"$error":"#VALUE!"}},null,{"$f":"(MDR!$AV$6*EW86+MDR!$AW$6*EW87+MDR!$AX$6*EW88+MDR!$AY$6*EW89+MDR!$AZ$6*EW90+MDR!$BA$6*EW91)/100","v":{"$error":"#VALUE!"}},null,{"$f":"(MDR!$AV$6*EY86+MDR!$AW$6*EY87+MDR!$AX$6*EY88+MDR!$AY$6*EY89+MDR!$AZ$6*EY90+MDR!$BA$6*EY91)/100","v":{"$error":"#VALUE!"}},null,null,null,null,null,{"$f":"(MDR!$AV$6*FE86+MDR!$AW$6*FE87+MDR!$AX$6*FE88+MDR!$AY$6*FE89+MDR!$AZ$6*FE90+MDR!$BA$6*FE91)/100","v":{"$error":"#VALUE!"}},null,{"$f":"(MDR!$AV$6*FG86+MDR!$AW$6*FG87+MDR!$AX$6*FG88+MDR!$AY$6*FG89+MDR!$AZ$6*FG90+MDR!$BA$6*FG91)/100","v":{"$error":"#VALUE!"}},null,{"$f":"(MDR!$AV$6*FI86+MDR!$AW$6*FI87+MDR!$AX$6*FI88+MDR!$AY$6*FI89+MDR!$AZ$6*FI90+MDR!$BA$6*FI91)/100","v":{"$error":"#VALUE!"}},null,{"$f":"(MDR!$AV$6*FK86+MDR!$AW$6*FK87+MDR!$AX$6*FK88+MDR!$AY$6*FK89+MDR!$AZ$6*FK90+MDR!$BA$6*FK91)/100","v":{"$error":"#VALUE!"}},null,null,null,null,null,{"$f":"(MDR!$AV$6*FQ86+MDR!$AW$6*FQ87+MDR!$AX$6*FQ88+MDR!$AY$6*FQ89+MDR!$AZ$6*FQ90+MDR!$BA$6*FQ91)/100","v":{"$error":"#VALUE!"}},null,{"$f":"(MDR!$AV$6*FS86+MDR!$AW$6*FS87+MDR!$AX$6*FS88+MDR!$AY$6*FS89+MDR!$AZ$6*FS90+MDR!$BA$6*FS91)/100","v":{"$error":"#VALUE!"}},null,{"$f":"(MDR!$AV$6*FU86+MDR!$AW$6*FU87+MDR!$AX$6*FU88+MDR!$AY$6*FU89+MDR!$AZ$6*FU90+MDR!$BA$6*FU91)/100","v":{"$error":"#VALUE!"}},null,{"$f":"(MDR!$AV$6*FW86+MDR!$AW$6*FW87+MDR!$AX$6*FW88+MDR!$AY$6*FW89+MDR!$AZ$6*FW90+MDR!$BA$6*FW91)/100","v":{"$error":"#VALUE!"}},null,null,null,null,null,{"$f":"(MDR!$AV$6*GC86+MDR!$AW$6*GC87+MDR!$AX$6*GC88+MDR!$AY$6*GC89+MDR!$AZ$6*GC90+MDR!$BA$6*GC91)/100","v":{"$error":"#VALUE!"}},null,{"$f":"(MDR!$AV$6*GE86+MDR!$AW$6*GE87+MDR!$AX$6*GE88+MDR!$AY$6*GE89+MDR!$AZ$6*GE90+MDR!$BA$6*GE91)/100","v":{"$error":"#VALUE!"}},null,{"$f":"(MDR!$AV$6*GG86+MDR!$AW$6*GG87+MDR!$AX$6*GG88+MDR!$AY$6*GG89+MDR!$AZ$6*GG90+MDR!$BA$6*GG91)/100","v":{"$error":"#VALUE!"}},null,{"$f":"(MDR!$AV$6*GI86+MDR!$AW$6*GI87+MDR!$AX$6*GI88+MDR!$AY$6*GI89+MDR!$AZ$6*GI90+MDR!$BA$6*GI91)/100","v":{"$error":"#VALUE!"}},null,null,null,null,null,{"$f":"(MDR!$AV$6*GO86+MDR!$AW$6*GO87+MDR!$AX$6*GO88+MDR!$AY$6*GO89+MDR!$AZ$6*GO90+MDR!$BA$6*GO91)/100","v":{"$error":"#VALUE!"}},null,{"$f":"(MDR!$AV$6*GQ86+MDR!$AW$6*GQ87+MDR!$AX$6*GQ88+MDR!$AY$6*GQ89+MDR!$AZ$6*GQ90+MDR!$BA$6*GQ91)/100","v":{"$error":"#VALUE!"}},null,{"$f":"(MDR!$AV$6*GS86+MDR!$AW$6*GS87+MDR!$AX$6*GS88+MDR!$AY$6*GS89+MDR!$AZ$6*GS90+MDR!$BA$6*GS91)/100","v":{"$error":"#VALUE!"}},null,{"$f":"(MDR!$AV$6*GU86+MDR!$AW$6*GU87+MDR!$AX$6*GU88+MDR!$AY$6*GU89+MDR!$AZ$6*GU90+MDR!$BA$6*GU91)/100","v":{"$error":"#VALUE!"}},null,null,null,null,null,{"$f":"(MDR!$AV$6*HA86+MDR!$AW$6*HA87+MDR!$AX$6*HA88+MDR!$AY$6*HA89+MDR!$AZ$6*HA90+MDR!$BA$6*HA91)/100","v":{"$error":"#VALUE!"}},null,{"$f":"(MDR!$AV$6*HC86+MDR!$AW$6*HC87+MDR!$AX$6*HC88+MDR!$AY$6*HC89+MDR!$AZ$6*HC90+MDR!$BA$6*HC91)/100","v":{"$error":"#VALUE!"}},null,{"$f":"(MDR!$AV$6*HE86+MDR!$AW$6*HE87+MDR!$AX$6*HE88+MDR!$AY$6*HE89+MDR!$AZ$6*HE90+MDR!$BA$6*HE91)/100","v":{"$error":"#VALUE!"}},null,{"$f":"(MDR!$AV$6*HG86+MDR!$AW$6*HG87+MDR!$AX$6*HG88+MDR!$AY$6*HG89+MDR!$AZ$6*HG90+MDR!$BA$6*HG91)/100","v":{"$error":"#VALUE!"}},null,null,null,null,null,{"$f":"(MDR!$AV$6*HM86+MDR!$AW$6*HM87+MDR!$AX$6*HM88+MDR!$AY$6*HM89+MDR!$AZ$6*HM90+MDR!$BA$6*HM91)/100","v":{"$error":"#VALUE!"}},null,{"$f":"(MDR!$AV$6*HO86+MDR!$AW$6*HO87+MDR!$AX$6*HO88+MDR!$AY$6*HO89+MDR!$AZ$6*HO90+MDR!$BA$6*HO91)/100","v":{"$error":"#VALUE!"}},null,{"$f":"(MDR!$AV$6*HQ86+MDR!$AW$6*HQ87+MDR!$AX$6*HQ88+MDR!$AY$6*HQ89+MDR!$AZ$6*HQ90+MDR!$BA$6*HQ91)/100","v":{"$error":"#VALUE!"}},null,{"$f":"(MDR!$AV$6*HS86+MDR!$AW$6*HS87+MDR!$AX$6*HS88+MDR!$AY$6*HS89+MDR!$AZ$6*HS90+MDR!$BA$6*HS91)/100","v":{"$error":"#VALUE!"}},null,null,null,null,null,{"$f":"(MDR!$AV$6*HY86+MDR!$AW$6*HY87+MDR!$AX$6*HY88+MDR!$AY$6*HY89+MDR!$AZ$6*HY90+MDR!$BA$6*HY91)/100","v":{"$error":"#VALUE!"}},null,{"$f":"(MDR!$AV$6*IA86+MDR!$AW$6*IA87+MDR!$AX$6*IA88+MDR!$AY$6*IA89+MDR!$AZ$6*IA90+MDR!$BA$6*IA91)/100","v":{"$error":"#VALUE!"}},null,{"$f":"(MDR!$AV$6*IC86+MDR!$AW$6*IC87+MDR!$AX$6*IC88+MDR!$AY$6*IC89+MDR!$AZ$6*IC90+MDR!$BA$6*IC91)/100","v":{"$error":"#VALUE!"}},null,{"$f":"(MDR!$AV$6*IE86+MDR!$AW$6*IE87+MDR!$AX$6*IE88+MDR!$AY$6*IE89+MDR!$AZ$6*IE90+MDR!$BA$6*IE91)/100","v":{"$error":"#VALUE!"}},null,null,null,null,null,{"$f":"(MDR!$AV$6*IK86+MDR!$AW$6*IK87+MDR!$AX$6*IK88+MDR!$AY$6*IK89+MDR!$AZ$6*IK90+MDR!$BA$6*IK91)/100","v":{"$error":"#VALUE!"}},null,{"$f":"(MDR!$AV$6*IM86+MDR!$AW$6*IM87+MDR!$AX$6*IM88+MDR!$AY$6*IM89+MDR!$AZ$6*IM90+MDR!$BA$6*IM91)/100","v":{"$error":"#VALUE!"}},null,{"$f":"(MDR!$AV$6*IO86+MDR!$AW$6*IO87+MDR!$AX$6*IO88+MDR!$AY$6*IO89+MDR!$AZ$6*IO90+MDR!$BA$6*IO91)/100","v":{"$error":"#VALUE!"}},null,{"$f":"(MDR!$AV$6*IQ86+MDR!$AW$6*IQ87+MDR!$AX$6*IQ88+MDR!$AY$6*IQ89+MDR!$AZ$6*IQ90+MDR!$BA$6*IQ91)/100","v":{"$error":"#VALUE!"}},null,null,0,"Agency AFT Substituted"]
[null,null,null,null,{"$f":"(MDR!$AV$6*E86+MDR!$AW$6*E87+MDR!$AX$6*E88+MDR!$AY$6*E89+MDR!$AZ$6*E90+MDR!$BA$6*E91+MDR!$BB$6*E92)/100","v":0},null,{"$f":"(MDR!$AV$6*G86+MDR!$AW$6*G87+MDR!$AX$6*G88+MDR!$AY$6*G89+MDR!$AZ$6*G90+MDR!$BA$6*G91+MDR!$BB$6*G92)/100","v":{"$error":"#VALUE!"}},null,{"$f":"(MDR!$AV$6*I86+MDR!$AW$6*I87+MDR!$AX$6*I88+MDR!$AY$6*I89+MDR!$AZ$6*I90+MDR!$BA$6*I91+MDR!$BB$6*I92)/100","v":{"$error":"#VALUE!"}},null,{"$f":"(MDR!$AV$6*K86+MDR!$AW$6*K87+MDR!$AX$6*K88+MDR!$AY$6*K89+MDR!$AZ$6*K90+MDR!$BA$6*K91+MDR!$BB$6*K92)/100","v":{"$error":"#VALUE!"}},null,null,null,null,null,{"$f":"(MDR!$AV$6*Q86+MDR!$AW$6*Q87+MDR!$AX$6*Q88+MDR!$AY$6*Q89+MDR!$AZ$6*Q90+MDR!$BA$6*Q91+MDR!$BB$6*Q92)/100","v":{"$error":"#VALUE!"}},null,{"$f":"(MDR!$AV$6*S86+MDR!$AW$6*S87+MDR!$AX$6*S88+MDR!$AY$6*S89+MDR!$AZ$6*S90+MDR!$BA$6*S91+MDR!$BB$6*S92)/100","v":{"$error":"#VALUE!"}},null,{"$f":"(MDR!$AV$6*U86+MDR!$AW$6*U87+MDR!$AX$6*U88+MDR!$AY$6*U89+MDR!$AZ$6*U90+MDR!$BA$6*U91+MDR!$BB$6*U92)/100","v":{"$error":"#VALUE!"}},null,{"$f":"(MDR!$AV$6*W86+MDR!$AW$6*W87+MDR!$AX$6*W88+MDR!$AY$6*W89+MDR!$AZ$6*W90+MDR!$BA$6*W91+MDR!$BB$6*W92)/100","v":{"$error":"#VALUE!"}},null,null,null,null,null,{"$f":"(MDR!$AV$6*AC86+MDR!$AW$6*AC87+MDR!$AX$6*AC88+MDR!$AY$6*AC89+MDR!$AZ$6*AC90+MDR!$BA$6*AC91+MDR!$BB$6*AC92)/100","v":{"$error":"#VALUE!"}},null,{"$f":"(MDR!$AV$6*AE86+MDR!$AW$6*AE87+MDR!$AX$6*AE88+MDR!$AY$6*AE89+MDR!$AZ$6*AE90+MDR!$BA$6*AE91+MDR!$BB$6*AE92)/100","v":{"$error":"#VALUE!"}},null,{"$f":"(MDR!$AV$6*AG86+MDR!$AW$6*AG87+MDR!$AX$6*AG88+MDR!$AY$6*AG89+MDR!$AZ$6*AG90+MDR!$BA$6*AG91+MDR!$BB$6*AG92)/100","v":{"$error":"#VALUE!"}},null,{"$f":"(MDR!$AV$6*AI86+MDR!$AW$6*AI87+MDR!$AX$6*AI88+MDR!$AY$6*AI89+MDR!$AZ$6*AI90+MDR!$BA$6*AI91+MDR!$BB$6*AI92)/100","v":{"$error":"#VALUE!"}},null,null,null,null,null,{"$f":"(MDR!$AV$6*AO86+MDR!$AW$6*AO87+MDR!$AX$6*AO88+MDR!$AY$6*AO89+MDR!$AZ$6*AO90+MDR!$BA$6*AO91+MDR!$BB$6*AO92)/100","v":{"$error":"#VALUE!"}},null,{"$f":"(MDR!$AV$6*AQ86+MDR!$AW$6*AQ87+MDR!$AX$6*AQ88+MDR!$AY$6*AQ89+MDR!$AZ$6*AQ90+MDR!$BA$6*AQ91+MDR!$BB$6*AQ92)/100","v":{"$error":"#VALUE!"}},null,{"$f":"(MDR!$AV$6*AS86+MDR!$AW$6*AS87+MDR!$AX$6*AS88+MDR!$AY$6*AS89+MDR!$AZ$6*AS90+MDR!$BA$6*AS91+MDR!$BB$6*AS92)/100","v":{"$error":"#VALUE!"}},null,{"$f":"(MDR!$AV$6*AU86+MDR!$AW$6*AU87+MDR!$AX$6*AU88+MDR!$AY$6*AU89+MDR!$AZ$6*AU90+MDR!$BA$6*AU91+MDR!$BB$6*AU92)/100","v":{"$error":"#VALUE!"}},null,null,null,null,null,{"$f":"(MDR!$AV$6*BA86+MDR!$AW$6*BA87+MDR!$AX$6*BA88+MDR!$AY$6*BA89+MDR!$AZ$6*BA90+MDR!$BA$6*BA91+MDR!$BB$6*BA92)/100","v":{"$error":"#VALUE!"}},null,{"$f":"(MDR!$AV$6*BC86+MDR!$AW$6*BC87+MDR!$AX$6*BC88+MDR!$AY$6*BC89+MDR!$AZ$6*BC90+MDR!$BA$6*BC91+MDR!$BB$6*BC92)/100","v":{"$error":"#VALUE!"}},null,{"$f":"(MDR!$AV$6*BE86+MDR!$AW$6*BE87+MDR!$AX$6*BE88+MDR!$AY$6*BE89+MDR!$AZ$6*BE90+MDR!$BA$6*BE91+MDR!$BB$6*BE92)/100","v":{"$error":"#VALUE!"}},null,{"$f":"(MDR!$AV$6*BG86+MDR!$AW$6*BG87+MDR!$AX$6*BG88+MDR!$AY$6*BG89+MDR!$AZ$6*BG90+MDR!$BA$6*BG91+MDR!$BB$6*BG92)/100","v":{"$error":"#VALUE!"}},null,null,null,null,null,{"$f":"(MDR!$AV$6*BM86+MDR!$AW$6*BM87+MDR!$AX$6*BM88+MDR!$AY$6*BM89+MDR!$AZ$6*BM90+MDR!$BA$6*BM91+MDR!$BB$6*BM92)/100","v":{"$error":"#VALUE!"}},null,{"$f":"(MDR!$AV$6*BO86+MDR!$AW$6*BO87+MDR!$AX$6*BO88+MDR!$AY$6*BO89+MDR!$AZ$6*BO90+MDR!$BA$6*BO91+MDR!$BB$6*BO92)/100","v":{"$error":"#VALUE!"}},null,{"$f":"(MDR!$AV$6*BQ86+MDR!$AW$6*BQ87+MDR!$AX$6*BQ88+MDR!$AY$6*BQ89+MDR!$AZ$6*BQ90+MDR!$BA$6*BQ91+MDR!$BB$6*BQ92)/100","v":{"$error":"#VALUE!"}},null,{"$f":"(MDR!$AV$6*BS86+MDR!$AW$6*BS87+MDR!$AX$6*BS88+MDR!$AY$6*BS89+MDR!$AZ$6*BS90+MDR!$BA$6*BS91+MDR!$BB$6*BS92)/100","v":{"$error":"#VALUE!"}},null,null,null,null,null,{"$f":"(MDR!$AV$6*BY86+MDR!$AW$6*BY87+MDR!$AX$6*BY88+MDR!$AY$6*BY89+MDR!$AZ$6*BY90+MDR!$BA$6*BY91+MDR!$BB$6*BY92)/100","v":{"$error":"#VALUE!"}},null,{"$f":"(MDR!$AV$6*CA86+MDR!$AW$6*CA87+MDR!$AX$6*CA88+MDR!$AY$6*CA89+MDR!$AZ$6*CA90+MDR!$BA$6*CA91+MDR!$BB$6*CA92)/100","v":{"$error":"#VALUE!"}},null,{"$f":"(MDR!$AV$6*CC86+MDR!$AW$6*CC87+MDR!$AX$6*CC88+MDR!$AY$6*CC89+MDR!$AZ$6*CC90+MDR!$BA$6*CC91+MDR!$BB$6*CC92)/100","v":{"$error":"#VALUE!"}},null,{"$f":"(MDR!$AV$6*CE86+MDR!$AW$6*CE87+MDR!$AX$6*CE88+MDR!$AY$6*CE89+MDR!$AZ$6*CE90+MDR!$BA$6*CE91+MDR!$BB$6*CE92)/100","v":{"$error":"#VALUE!"}},null,null,null,null,null,{"$f":"(MDR!$AV$6*CK86+MDR!$AW$6*CK87+MDR!$AX$6*CK88+MDR!$AY$6*CK89+MDR!$AZ$6*CK90+MDR!$BA$6*CK91+MDR!$BB$6*CK92)/100","v":{"$error":"#VALUE!"}},null,{"$f":"(MDR!$AV$6*CM86+MDR!$AW$6*CM87+MDR!$AX$6*CM88+MDR!$AY$6*CM89+MDR!$AZ$6*CM90+MDR!$BA$6*CM91+MDR!$BB$6*CM92)/100","v":{"$error":"#VALUE!"}},null,{"$f":"(MDR!$AV$6*CO86+MDR!$AW$6*CO87+MDR!$AX$6*CO88+MDR!$AY$6*CO89+MDR!$AZ$6*CO90+MDR!$BA$6*CO91+MDR!$BB$6*CO92)/100","v":{"$error":"#VALUE!"}},null,{"$f":"(MDR!$AV$6*CQ86+MDR!$AW$6*CQ87+MDR!$AX$6*CQ88+MDR!$AY$6*CQ89+MDR!$AZ$6*CQ90+MDR!$BA$6*CQ91+MDR!$BB$6*CQ92)/100","v":{"$error":"#VALUE!"}},null,null,null,null,null,{"$f":"(MDR!$AV$6*CW86+MDR!$AW$6*CW87+MDR!$AX$6*CW88+MDR!$AY$6*CW89+MDR!$AZ$6*CW90+MDR!$BA$6*CW91+MDR!$BB$6*CW92)/100","v":{"$error":"#VALUE!"}},null,{"$f":"(MDR!$AV$6*CY86+MDR!$AW$6*CY87+MDR!$AX$6*CY88+MDR!$AY$6*CY89+MDR!$AZ$6*CY90+MDR!$BA$6*CY91+MDR!$BB$6*CY92)/100","v":{"$error":"#VALUE!"}},null,{"$f":"(MDR!$AV$6*DA86+MDR!$AW$6*DA87+MDR!$AX$6*DA88+MDR!$AY$6*DA89+MDR!$AZ$6*DA90+MDR!$BA$6*DA91+MDR!$BB$6*DA92)/100","v":{"$error":"#VALUE!"}},null,{"$f":"(MDR!$AV$6*DC86+MDR!$AW$6*DC87+MDR!$AX$6*DC88+MDR!$AY$6*DC89+MDR!$AZ$6*DC90+MDR!$BA$6*DC91+MDR!$BB$6*DC92)/100","v":{"$error":"#VALUE!"}},null,null,null,null,null,{"$f":"(MDR!$AV$6*DI86+MDR!$AW$6*DI87+MDR!$AX$6*DI88+MDR!$AY$6*DI89+MDR!$AZ$6*DI90+MDR!$BA$6*DI91+MDR!$BB$6*DI92)/100","v":{"$error":"#VALUE!"}},null,{"$f":"(MDR!$AV$6*DK86+MDR!$AW$6*DK87+MDR!$AX$6*DK88+MDR!$AY$6*DK89+MDR!$AZ$6*DK90+MDR!$BA$6*DK91+MDR!$BB$6*DK92)/100","v":{"$error":"#VALUE!"}},null,{"$f":"(MDR!$AV$6*DM86+MDR!$AW$6*DM87+MDR!$AX$6*DM88+MDR!$AY$6*DM89+MDR!$AZ$6*DM90+MDR!$BA$6*DM91+MDR!$BB$6*DM92)/100","v":{"$error":"#VALUE!"}},null,{"$f":"(MDR!$AV$6*DO86+MDR!$AW$6*DO87+MDR!$AX$6*DO88+MDR!$AY$6*DO89+MDR!$AZ$6*DO90+MDR!$BA$6*DO91+MDR!$BB$6*DO92)/100","v":{"$error":"#VALUE!"}},null,null,null,null,null,{"$f":"(MDR!$AV$6*DU86+MDR!$AW$6*DU87+MDR!$AX$6*DU88+MDR!$AY$6*DU89+MDR!$AZ$6*DU90+MDR!$BA$6*DU91+MDR!$BB$6*DU92)/100","v":{"$error":"#VALUE!"}},null,{"$f":"(MDR!$AV$6*DW86+MDR!$AW$6*DW87+MDR!$AX$6*DW88+MDR!$AY$6*DW89+MDR!$AZ$6*DW90+MDR!$BA$6*DW91+MDR!$BB$6*DW92)/100","v":{"$error":"#VALUE!"}},null,{"$f":"(MDR!$AV$6*DY86+MDR!$AW$6*DY87+MDR!$AX$6*DY88+MDR!$AY$6*DY89+MDR!$AZ$6*DY90+MDR!$BA$6*DY91+MDR!$BB$6*DY92)/100","v":{"$error":"#VALUE!"}},null,{"$f":"(MDR!$AV$6*EA86+MDR!$AW$6*EA87+MDR!$AX$6*EA88+MDR!$AY$6*EA89+MDR!$AZ$6*EA90+MDR!$BA$6*EA91+MDR!$BB$6*EA92)/100","v":{"$error":"#VALUE!"}},null,null,null,null,null,{"$f":"(MDR!$AV$6*EG86+MDR!$AW$6*EG87+MDR!$AX$6*EG88+MDR!$AY$6*EG89+MDR!$AZ$6*EG90+MDR!$BA$6*EG91+MDR!$BB$6*EG92)/100","v":{"$error":"#VALUE!"}},null,{"$f":"(MDR!$AV$6*EI86+MDR!$AW$6*EI87+MDR!$AX$6*EI88+MDR!$AY$6*EI89+MDR!$AZ$6*EI90+MDR!$BA$6*EI91+MDR!$BB$6*EI92)/100","v":{"$error":"#VALUE!"}},null,{"$f":"(MDR!$AV$6*EK86+MDR!$AW$6*EK87+MDR!$AX$6*EK88+MDR!$AY$6*EK89+MDR!$AZ$6*EK90+MDR!$BA$6*EK91+MDR!$BB$6*EK92)/100","v":{"$error":"#VALUE!"}},null,{"$f":"(MDR!$AV$6*EM86+MDR!$AW$6*EM87+MDR!$AX$6*EM88+MDR!$AY$6*EM89+MDR!$AZ$6*EM90+MDR!$BA$6*EM91+MDR!$BB$6*EM92)/100","v":{"$error":"#VALUE!"}},null,null,null,null,null,{"$f":"(MDR!$AV$6*ES86+MDR!$AW$6*ES87+MDR!$AX$6*ES88+MDR!$AY$6*ES89+MDR!$AZ$6*ES90+MDR!$BA$6*ES91+MDR!$BB$6*ES92)/100","v":{"$error":"#VALUE!"}},null,{"$f":"(MDR!$AV$6*EU86+MDR!$AW$6*EU87+MDR!$AX$6*EU88+MDR!$AY$6*EU89+MDR!$AZ$6*EU90+MDR!$BA$6*EU91+MDR!$BB$6*EU92)/100","v":{"$error":"#VALUE!"}},null,{"$f":"(MDR!$AV$6*EW86+MDR!$AW$6*EW87+MDR!$AX$6*EW88+MDR!$AY$6*EW89+MDR!$AZ$6*EW90+MDR!$BA$6*EW91+MDR!$BB$6*EW92)/100","v":{"$error":"#VALUE!"}},null,{"$f":"(MDR!$AV$6*EY86+MDR!$AW$6*EY87+MDR!$AX$6*EY88+MDR!$AY$6*EY89+MDR!$AZ$6*EY90+MDR!$BA$6*EY91+MDR!$BB$6*EY92)/100","v":{"$error":"#VALUE!"}},null,null,null,null,null,{"$f":"(MDR!$AV$6*FE86+MDR!$AW$6*FE87+MDR!$AX$6*FE88+MDR!$AY$6*FE89+MDR!$AZ$6*FE90+MDR!$BA$6*FE91+MDR!$BB$6*FE92)/100","v":{"$error":"#VALUE!"}},null,{"$f":"(MDR!$AV$6*FG86+MDR!$AW$6*FG87+MDR!$AX$6*FG88+MDR!$AY$6*FG89+MDR!$AZ$6*FG90+MDR!$BA$6*FG91+MDR!$BB$6*FG92)/100","v":{"$error":"#VALUE!"}},null,{"$f":"(MDR!$AV$6*FI86+MDR!$AW$6*FI87+MDR!$AX$6*FI88+MDR!$AY$6*FI89+MDR!$AZ$6*FI90+MDR!$BA$6*FI91+MDR!$BB$6*FI92)/100","v":{"$error":"#VALUE!"}},null,{"$f":"(MDR!$AV$6*FK86+MDR!$AW$6*FK87+MDR!$AX$6*FK88+MDR!$AY$6*FK89+MDR!$AZ$6*FK90+MDR!$BA$6*FK91+MDR!$BB$6*FK92)/100","v":{"$error":"#VALUE!"}},null,null,null,null,null,{"$f":"(MDR!$AV$6*FQ86+MDR!$AW$6*FQ87+MDR!$AX$6*FQ88+MDR!$AY$6*FQ89+MDR!$AZ$6*FQ90+MDR!$BA$6*FQ91+MDR!$BB$6*FQ92)/100","v":{"$error":"#VALUE!"}},null,{"$f":"(MDR!$AV$6*FS86+MDR!$AW$6*FS87+MDR!$AX$6*FS88+MDR!$AY$6*FS89+MDR!$AZ$6*FS90+MDR!$BA$6*FS91+MDR!$BB$6*FS92)/100","v":{"$error":"#VALUE!"}},null,{"$f":"(MDR!$AV$6*FU86+MDR!$AW$6*FU87+MDR!$AX$6*FU88+MDR!$AY$6*FU89+MDR!$AZ$6*FU90+MDR!$BA$6*FU91+MDR!$BB$6*FU92)/100","v":{"$error":"#VALUE!"}},null,{"$f":"(MDR!$AV$6*FW86+MDR!$AW$6*FW87+MDR!$AX$6*FW88+MDR!$AY$6*FW89+MDR!$AZ$6*FW90+MDR!$BA$6*FW91+MDR!$BB$6*FW92)/100","v":{"$error":"#VALUE!"}},null,null,null,null,null,{"$f":"(MDR!$AV$6*GC86+MDR!$AW$6*GC87+MDR!$AX$6*GC88+MDR!$AY$6*GC89+MDR!$AZ$6*GC90+MDR!$BA$6*GC91+MDR!$BB$6*GC92)/100","v":{"$error":"#VALUE!"}},null,{"$f":"(MDR!$AV$6*GE86+MDR!$AW$6*GE87+MDR!$AX$6*GE88+MDR!$AY$6*GE89+MDR!$AZ$6*GE90+MDR!$BA$6*GE91+MDR!$BB$6*GE92)/100","v":{"$error":"#VALUE!"}},null,{"$f":"(MDR!$AV$6*GG86+MDR!$AW$6*GG87+MDR!$AX$6*GG88+MDR!$AY$6*GG89+MDR!$AZ$6*GG90+MDR!$BA$6*GG91+MDR!$BB$6*GG92)/100","v":{"$error":"#VALUE!"}},null,{"$f":"(MDR!$AV$6*GI86+MDR!$AW$6*GI87+MDR!$AX$6*GI88+MDR!$AY$6*GI89+MDR!$AZ$6*GI90+MDR!$BA$6*GI91+MDR!$BB$6*GI92)/100","v":{"$error":"#VALUE!"}},null,null,null,null,null,{"$f":"(MDR!$AV$6*GO86+MDR!$AW$6*GO87+MDR!$AX$6*GO88+MDR!$AY$6*GO89+MDR!$AZ$6*GO90+MDR!$BA$6*GO91+MDR!$BB$6*GO92)/100","v":{"$error":"#VALUE!"}},null,{"$f":"(MDR!$AV$6*GQ86+MDR!$AW$6*GQ87+MDR!$AX$6*GQ88+MDR!$AY$6*GQ89+MDR!$AZ$6*GQ90+MDR!$BA$6*GQ91+MDR!$BB$6*GQ92)/100","v":{"$error":"#VALUE!"}},null,{"$f":"(MDR!$AV$6*GS86+MDR!$AW$6*GS87+MDR!$AX$6*GS88+MDR!$AY$6*GS89+MDR!$AZ$6*GS90+MDR!$BA$6*GS91+MDR!$BB$6*GS92)/100","v":{"$error":"#VALUE!"}},null,{"$f":"(MDR!$AV$6*GU86+MDR!$AW$6*GU87+MDR!$AX$6*GU88+MDR!$AY$6*GU89+MDR!$AZ$6*GU90+MDR!$BA$6*GU91+MDR!$BB$6*GU92)/100","v":{"$error":"#VALUE!"}},null,null,null,null,null,{"$f":"(MDR!$AV$6*HA86+MDR!$AW$6*HA87+MDR!$AX$6*HA88+MDR!$AY$6*HA89+MDR!$AZ$6*HA90+MDR!$BA$6*HA91+MDR!$BB$6*HA92)/100","v":{"$error":"#VALUE!"}},null,{"$f":"(MDR!$AV$6*HC86+MDR!$AW$6*HC87+MDR!$AX$6*HC88+MDR!$AY$6*HC89+MDR!$AZ$6*HC90+MDR!$BA$6*HC91+MDR!$BB$6*HC92)/100","v":{"$error":"#VALUE!"}},null,{"$f":"(MDR!$AV$6*HE86+MDR!$AW$6*HE87+MDR!$AX$6*HE88+MDR!$AY$6*HE89+MDR!$AZ$6*HE90+MDR!$BA$6*HE91+MDR!$BB$6*HE92)/100","v":{"$error":"#VALUE!"}},null,{"$f":"(MDR!$AV$6*HG86+MDR!$AW$6*HG87+MDR!$AX$6*HG88+MDR!$AY$6*HG89+MDR!$AZ$6*HG90+MDR!$BA$6*HG91+MDR!$BB$6*HG92)/100","v":{"$error":"#VALUE!"}},null,null,null,null,null,{"$f":"(MDR!$AV$6*HM86+MDR!$AW$6*HM87+MDR!$AX$6*HM88+MDR!$AY$6*HM89+MDR!$AZ$6*HM90+MDR!$BA$6*HM91+MDR!$BB$6*HM92)/100","v":{"$error":"#VALUE!"}},null,{"$f":"(MDR!$AV$6*HO86+MDR!$AW$6*HO87+MDR!$AX$6*HO88+MDR!$AY$6*HO89+MDR!$AZ$6*HO90+MDR!$BA$6*HO91+MDR!$BB$6*HO92)/100","v":{"$error":"#VALUE!"}},null,{"$f":"(MDR!$AV$6*HQ86+MDR!$AW$6*HQ87+MDR!$AX$6*HQ88+MDR!$AY$6*HQ89+MDR!$AZ$6*HQ90+MDR!$BA$6*HQ91+MDR!$BB$6*HQ92)/100","v":{"$error":"#VALUE!"}},null,{"$f":"(MDR!$AV$6*HS86+MDR!$AW$6*HS87+MDR!$AX$6*HS88+MDR!$AY$6*HS89+MDR!$AZ$6*HS90+MDR!$BA$6*HS91+MDR!$BB$6*HS92)/100","v":{"$error":"#VALUE!"}},null,null,null,null,null,{"$f":"(MDR!$AV$6*HY86+MDR!$AW$6*HY87+MDR!$AX$6*HY88+MDR!$AY$6*HY89+MDR!$AZ$6*HY90+MDR!$BA$6*HY91+MDR!$BB$6*HY92)/100","v":{"$error":"#VALUE!"}},null,{"$f":"(MDR!$AV$6*IA86+MDR!$AW$6*IA87+MDR!$AX$6*IA88+MDR!$AY$6*IA89+MDR!$AZ$6*IA90+MDR!$BA$6*IA91+MDR!$BB$6*IA92)/100","v":{"$error":"#VALUE!"}},null,{"$f":"(MDR!$AV$6*IC86+MDR!$AW$6*IC87+MDR!$AX$6*IC88+MDR!$AY$6*IC89+MDR!$AZ$6*IC90+MDR!$BA$6*IC91+MDR!$BB$6*IC92)/100","v":{"$error":"#VALUE!"}},null,{"$f":"(MDR!$AV$6*IE86+MDR!$AW$6*IE87+MDR!$AX$6*IE88+MDR!$AY$6*IE89+MDR!$AZ$6*IE90+MDR!$BA$6*IE91+MDR!$BB$6*IE92)/100","v":{"$error":"#VALUE!"}},null,null,null,null,null,{"$f":"(MDR!$AV$6*IK86+MDR!$AW$6*IK87+MDR!$AX$6*IK88+MDR!$AY$6*IK89+MDR!$AZ$6*IK90+MDR!$BA$6*IK91+MDR!$BB$6*IK92)/100","v":{"$error":"#VALUE!"}},null,{"$f":"(MDR!$AV$6*IM86+MDR!$AW$6*IM87+MDR!$AX$6*IM88+MDR!$AY$6*IM89+MDR!$AZ$6*IM90+MDR!$BA$6*IM91+MDR!$BB$6*IM92)/100","v":{"$error":"#VALUE!"}},null,{"$f":"(MDR!$AV$6*IO86+MDR!$AW$6*IO87+MDR!$AX$6*IO88+MDR!$AY$6*IO89+MDR!$AZ$6*IO90+MDR!$BA$6*IO91+MDR!$BB$6*IO92)/100","v":{"$error":"#VALUE!"}},null,{"$f":"(MDR!$AV$6*IQ86+MDR!$AW$6*IQ87+MDR!$AX$6*IQ88+MDR!$AY$6*IQ89+MDR!$AZ$6*IQ90+MDR!$BA$6*IQ91+MDR!$BB$6*IQ92)/100","v":{"$error":"#VALUE!"}},null,null,0,"Agency AFT Substituted"]
[null,null,null,null,{"$f":"(MDR!$AV$6*E86+MDR!$AW$6*E87+MDR!$AX$6*E88+MDR!$AY$6*E89+MDR!$AZ$6*E90+MDR!$BA$6*E91+MDR!$BB$6*E92+MDR!$BC$6*E93)/100","v":0},null,{"$f":"(MDR!$AV$6*G86+MDR!$AW$6*G87+MDR!$AX$6*G88+MDR!$AY$6*G89+MDR!$AZ$6*G90+MDR!$BA$6*G91+MDR!$BB$6*G92+MDR!$BC$6*G93)/100","v":{"$error":"#VALUE!"}},null,{"$f":"(MDR!$AV$6*I86+MDR!$AW$6*I87+MDR!$AX$6*I88+MDR!$AY$6*I89+MDR!$AZ$6*I90+MDR!$BA$6*I91+MDR!$BB$6*I92+MDR!$BC$6*I93)/100","v":{"$error":"#VALUE!"}},null,{"$f":"(MDR!$AV$6*K86+MDR!$AW$6*K87+MDR!$AX$6*K88+MDR!$AY$6*K89+MDR!$AZ$6*K90+MDR!$BA$6*K91+MDR!$BB$6*K92+MDR!$BC$6*K93)/100","v":{"$error":"#VALUE!"}},null,null,null,null,null,{"$f":"(MDR!$AV$6*Q86+MDR!$AW$6*Q87+MDR!$AX$6*Q88+MDR!$AY$6*Q89+MDR!$AZ$6*Q90+MDR!$BA$6*Q91+MDR!$BB$6*Q92+MDR!$BC$6*Q93)/100","v":{"$error":"#VALUE!"}},null,{"$f":"(MDR!$AV$6*S86+MDR!$AW$6*S87+MDR!$AX$6*S88+MDR!$AY$6*S89+MDR!$AZ$6*S90+MDR!$BA$6*S91+MDR!$BB$6*S92+MDR!$BC$6*S93)/100","v":{"$error":"#VALUE!"}},null,{"$f":"(MDR!$AV$6*U86+MDR!$AW$6*U87+MDR!$AX$6*U88+MDR!$AY$6*U89+MDR!$AZ$6*U90+MDR!$BA$6*U91+MDR!$BB$6*U92+MDR!$BC$6*U93)/100","v":{"$error":"#VALUE!"}},null,{"$f":"(MDR!$AV$6*W86+MDR!$AW$6*W87+MDR!$AX$6*W88+MDR!$AY$6*W89+MDR!$AZ$6*W90+MDR!$BA$6*W91+MDR!$BB$6*W92+MDR!$BC$6*W93)/100","v":{"$error":"#VALUE!"}},null,null,null,null,null,{"$f":"(MDR!$AV$6*AC86+MDR!$AW$6*AC87+MDR!$AX$6*AC88+MDR!$AY$6*AC89+MDR!$AZ$6*AC90+MDR!$BA$6*AC91+MDR!$BB$6*AC92+MDR!$BC$6*AC93)/100","v":{"$error":"#VALUE!"}},null,{"$f":"(MDR!$AV$6*AE86+MDR!$AW$6*AE87+MDR!$AX$6*AE88+MDR!$AY$6*AE89+MDR!$AZ$6*AE90+MDR!$BA$6*AE91+MDR!$BB$6*AE92+MDR!$BC$6*AE93)/100","v":{"$error":"#VALUE!"}},null,{"$f":"(MDR!$AV$6*AG86+MDR!$AW$6*AG87+MDR!$AX$6*AG88+MDR!$AY$6*AG89+MDR!$AZ$6*AG90+MDR!$BA$6*AG91+MDR!$BB$6*AG92+MDR!$BC$6*AG93)/100","v":{"$error":"#VALUE!"}},null,{"$f":"(MDR!$AV$6*AI86+MDR!$AW$6*AI87+MDR!$AX$6*AI88+MDR!$AY$6*AI89+MDR!$AZ$6*AI90+MDR!$BA$6*AI91+MDR!$BB$6*AI92+MDR!$BC$6*AI93)/100","v":{"$error":"#VALUE!"}},null,null,null,null,null,{"$f":"(MDR!$AV$6*AO86+MDR!$AW$6*AO87+MDR!$AX$6*AO88+MDR!$AY$6*AO89+MDR!$AZ$6*AO90+MDR!$BA$6*AO91+MDR!$BB$6*AO92+MDR!$BC$6*AO93)/100","v":{"$error":"#VALUE!"}},null,{"$f":"(MDR!$AV$6*AQ86+MDR!$AW$6*AQ87+MDR!$AX$6*AQ88+MDR!$AY$6*AQ89+MDR!$AZ$6*AQ90+MDR!$BA$6*AQ91+MDR!$BB$6*AQ92+MDR!$BC$6*AQ93)/100","v":{"$error":"#VALUE!"}},null,{"$f":"(MDR!$AV$6*AS86+MDR!$AW$6*AS87+MDR!$AX$6*AS88+MDR!$AY$6*AS89+MDR!$AZ$6*AS90+MDR!$BA$6*AS91+MDR!$BB$6*AS92+MDR!$BC$6*AS93)/100","v":{"$error":"#VALUE!"}},null,{"$f":"(MDR!$AV$6*AU86+MDR!$AW$6*AU87+MDR!$AX$6*AU88+MDR!$AY$6*AU89+MDR!$AZ$6*AU90+MDR!$BA$6*AU91+MDR!$BB$6*AU92+MDR!$BC$6*AU93)/100","v":{"$error":"#VALUE!"}},null,null,null,null,null,{"$f":"(MDR!$AV$6*BA86+MDR!$AW$6*BA87+MDR!$AX$6*BA88+MDR!$AY$6*BA89+MDR!$AZ$6*BA90+MDR!$BA$6*BA91+MDR!$BB$6*BA92+MDR!$BC$6*BA93)/100","v":{"$error":"#VALUE!"}},null,{"$f":"(MDR!$AV$6*BC86+MDR!$AW$6*BC87+MDR!$AX$6*BC88+MDR!$AY$6*BC89+MDR!$AZ$6*BC90+MDR!$BA$6*BC91+MDR!$BB$6*BC92+MDR!$BC$6*BC93)/100","v":{"$error":"#VALUE!"}},null,{"$f":"(MDR!$AV$6*BE86+MDR!$AW$6*BE87+MDR!$AX$6*BE88+MDR!$AY$6*BE89+MDR!$AZ$6*BE90+MDR!$BA$6*BE91+MDR!$BB$6*BE92+MDR!$BC$6*BE93)/100","v":{"$error":"#VALUE!"}},null,{"$f":"(MDR!$AV$6*BG86+MDR!$AW$6*BG87+MDR!$AX$6*BG88+MDR!$AY$6*BG89+MDR!$AZ$6*BG90+MDR!$BA$6*BG91+MDR!$BB$6*BG92+MDR!$BC$6*BG93)/100","v":{"$error":"#VALUE!"}},null,null,null,null,null,{"$f":"(MDR!$AV$6*BM86+MDR!$AW$6*BM87+MDR!$AX$6*BM88+MDR!$AY$6*BM89+MDR!$AZ$6*BM90+MDR!$BA$6*BM91+MDR!$BB$6*BM92+MDR!$BC$6*BM93)/100","v":{"$error":"#VALUE!"}},null,{"$f":"(MDR!$AV$6*BO86+MDR!$AW$6*BO87+MDR!$AX$6*BO88+MDR!$AY$6*BO89+MDR!$AZ$6*BO90+MDR!$BA$6*BO91+MDR!$BB$6*BO92+MDR!$BC$6*BO93)/100","v":{"$error":"#VALUE!"}},null,{"$f":"(MDR!$AV$6*BQ86+MDR!$AW$6*BQ87+MDR!$AX$6*BQ88+MDR!$AY$6*BQ89+MDR!$AZ$6*BQ90+MDR!$BA$6*BQ91+MDR!$BB$6*BQ92+MDR!$BC$6*BQ93)/100","v":{"$error":"#VALUE!"}},null,{"$f":"(MDR!$AV$6*BS86+MDR!$AW$6*BS87+MDR!$AX$6*BS88+MDR!$AY$6*BS89+MDR!$AZ$6*BS90+MDR!$BA$6*BS91+MDR!$BB$6*BS92+MDR!$BC$6*BS93)/100","v":{"$error":"#VALUE!"}},null,null,null,null,null,{"$f":"(MDR!$AV$6*BY86+MDR!$AW$6*BY87+MDR!$AX$6*BY88+MDR!$AY$6*BY89+MDR!$AZ$6*BY90+MDR!$BA$6*BY91+MDR!$BB$6*BY92+MDR!$BC$6*BY93)/100","v":{"$error":"#VALUE!"}},null,{"$f":"(MDR!$AV$6*CA86+MDR!$AW$6*CA87+MDR!$AX$6*CA88+MDR!$AY$6*CA89+MDR!$AZ$6*CA90+MDR!$BA$6*CA91+MDR!$BB$6*CA92+MDR!$BC$6*CA93)/100","v":{"$error":"#VALUE!"}},null,{"$f":"(MDR!$AV$6*CC86+MDR!$AW$6*CC87+MDR!$AX$6*CC88+MDR!$AY$6*CC89+MDR!$AZ$6*CC90+MDR!$BA$6*CC91+MDR!$BB$6*CC92+MDR!$BC$6*CC93)/100","v":{"$error":"#VALUE!"}},null,{"$f":"(MDR!$AV$6*CE86+MDR!$AW$6*CE87+MDR!$AX$6*CE88+MDR!$AY$6*CE89+MDR!$AZ$6*CE90+MDR!$BA$6*CE91+MDR!$BB$6*CE92+MDR!$BC$6*CE93)/100","v":{"$error":"#VALUE!"}},null,null,null,null,null,{"$f":"(MDR!$AV$6*CK86+MDR!$AW$6*CK87+MDR!$AX$6*CK88+MDR!$AY$6*CK89+MDR!$AZ$6*CK90+MDR!$BA$6*CK91+MDR!$BB$6*CK92+MDR!$BC$6*CK93)/100","v":{"$error":"#VALUE!"}},null,{"$f":"(MDR!$AV$6*CM86+MDR!$AW$6*CM87+MDR!$AX$6*CM88+MDR!$AY$6*CM89+MDR!$AZ$6*CM90+MDR!$BA$6*CM91+MDR!$BB$6*CM92+MDR!$BC$6*CM93)/100","v":{"$error":"#VALUE!"}},null,{"$f":"(MDR!$AV$6*CO86+MDR!$AW$6*CO87+MDR!$AX$6*CO88+MDR!$AY$6*CO89+MDR!$AZ$6*CO90+MDR!$BA$6*CO91+MDR!$BB$6*CO92+MDR!$BC$6*CO93)/100","v":{"$error":"#VALUE!"}},null,{"$f":"(MDR!$AV$6*CQ86+MDR!$AW$6*CQ87+MDR!$AX$6*CQ88+MDR!$AY$6*CQ89+MDR!$AZ$6*CQ90+MDR!$BA$6*CQ91+MDR!$BB$6*CQ92+MDR!$BC$6*CQ93)/100","v":{"$error":"#VALUE!"}},null,null,null,null,null,{"$f":"(MDR!$AV$6*CW86+MDR!$AW$6*CW87+MDR!$AX$6*CW88+MDR!$AY$6*CW89+MDR!$AZ$6*CW90+MDR!$BA$6*CW91+MDR!$BB$6*CW92+MDR!$BC$6*CW93)/100","v":{"$error":"#VALUE!"}},null,{"$f":"(MDR!$AV$6*CY86+MDR!$AW$6*CY87+MDR!$AX$6*CY88+MDR!$AY$6*CY89+MDR!$AZ$6*CY90+MDR!$BA$6*CY91+MDR!$BB$6*CY92+MDR!$BC$6*CY93)/100","v":{"$error":"#VALUE!"}},null,{"$f":"(MDR!$AV$6*DA86+MDR!$AW$6*DA87+MDR!$AX$6*DA88+MDR!$AY$6*DA89+MDR!$AZ$6*DA90+MDR!$BA$6*DA91+MDR!$BB$6*DA92+MDR!$BC$6*DA93)/100","v":{"$error":"#VALUE!"}},null,{"$f":"(MDR!$AV$6*DC86+MDR!$AW$6*DC87+MDR!$AX$6*DC88+MDR!$AY$6*DC89+MDR!$AZ$6*DC90+MDR!$BA$6*DC91+MDR!$BB$6*DC92+MDR!$BC$6*DC93)/100","v":{"$error":"#VALUE!"}},null,null,null,null,null,{"$f":"(MDR!$AV$6*DI86+MDR!$AW$6*DI87+MDR!$AX$6*DI88+MDR!$AY$6*DI89+MDR!$AZ$6*DI90+MDR!$BA$6*DI91+MDR!$BB$6*DI92+MDR!$BC$6*DI93)/100","v":{"$error":"#VALUE!"}},null,{"$f":"(MDR!$AV$6*DK86+MDR!$AW$6*DK87+MDR!$AX$6*DK88+MDR!$AY$6*DK89+MDR!$AZ$6*DK90+MDR!$BA$6*DK91+MDR!$BB$6*DK92+MDR!$BC$6*DK93)/100","v":{"$error":"#VALUE!"}},null,{"$f":"(MDR!$AV$6*DM86+MDR!$AW$6*DM87+MDR!$AX$6*DM88+MDR!$AY$6*DM89+MDR!$AZ$6*DM90+MDR!$BA$6*DM91+MDR!$BB$6*DM92+MDR!$BC$6*DM93)/100","v":{"$error":"#VALUE!"}},null,{"$f":"(MDR!$AV$6*DO86+MDR!$AW$6*DO87+MDR!$AX$6*DO88+MDR!$AY$6*DO89+MDR!$AZ$6*DO90+MDR!$BA$6*DO91+MDR!$BB$6*DO92+MDR!$BC$6*DO93)/100","v":{"$error":"#VALUE!"}},null,null,null,null,null,{"$f":"(MDR!$AV$6*DU86+MDR!$AW$6*DU87+MDR!$AX$6*DU88+MDR!$AY$6*DU89+MDR!$AZ$6*DU90+MDR!$BA$6*DU91+MDR!$BB$6*DU92+MDR!$BC$6*DU93)/100","v":{"$error":"#VALUE!"}},null,{"$f":"(MDR!$AV$6*DW86+MDR!$AW$6*DW87+MDR!$AX$6*DW88+MDR!$AY$6*DW89+MDR!$AZ$6*DW90+MDR!$BA$6*DW91+MDR!$BB$6*DW92+MDR!$BC$6*DW93)/100","v":{"$error":"#VALUE!"}},null,{"$f":"(MDR!$AV$6*DY86+MDR!$AW$6*DY87+MDR!$AX$6*DY88+MDR!$AY$6*DY89+MDR!$AZ$6*DY90+MDR!$BA$6*DY91+MDR!$BB$6*DY92+MDR!$BC$6*DY93)/100","v":{"$error":"#VALUE!"}},null,{"$f":"(MDR!$AV$6*EA86+MDR!$AW$6*EA87+MDR!$AX$6*EA88+MDR!$AY$6*EA89+MDR!$AZ$6*EA90+MDR!$BA$6*EA91+MDR!$BB$6*EA92+MDR!$BC$6*EA93)/100","v":{"$error":"#VALUE!"}},null,null,null,null,null,{"$f":"(MDR!$AV$6*EG86+MDR!$AW$6*EG87+MDR!$AX$6*EG88+MDR!$AY$6*EG89+MDR!$AZ$6*EG90+MDR!$BA$6*EG91+MDR!$BB$6*EG92+MDR!$BC$6*EG93)/100","v":{"$error":"#VALUE!"}},null,{"$f":"(MDR!$AV$6*EI86+MDR!$AW$6*EI87+MDR!$AX$6*EI88+MDR!$AY$6*EI89+MDR!$AZ$6*EI90+MDR!$BA$6*EI91+MDR!$BB$6*EI92+MDR!$BC$6*EI93)/100","v":{"$error":"#VALUE!"}},null,{"$f":"(MDR!$AV$6*EK86+MDR!$AW$6*EK87+MDR!$AX$6*EK88+MDR!$AY$6*EK89+MDR!$AZ$6*EK90+MDR!$BA$6*EK91+MDR!$BB$6*EK92+MDR!$BC$6*EK93)/100","v":{"$error":"#VALUE!"}},null,{"$f":"(MDR!$AV$6*EM86+MDR!$AW$6*EM87+MDR!$AX$6*EM88+MDR!$AY$6*EM89+MDR!$AZ$6*EM90+MDR!$BA$6*EM91+MDR!$BB$6*EM92+MDR!$BC$6*EM93)/100","v":{"$error":"#VALUE!"}},null,null,null,null,null,{"$f":"(MDR!$AV$6*ES86+MDR!$AW$6*ES87+MDR!$AX$6*ES88+MDR!$AY$6*ES89+MDR!$AZ$6*ES90+MDR!$BA$6*ES91+MDR!$BB$6*ES92+MDR!$BC$6*ES93)/100","v":{"$error":"#VALUE!"}},null,{"$f":"(MDR!$AV$6*EU86+MDR!$AW$6*EU87+MDR!$AX$6*EU88+MDR!$AY$6*EU89+MDR!$AZ$6*EU90+MDR!$BA$6*EU91+MDR!$BB$6*EU92+MDR!$BC$6*EU93)/100","v":{"$error":"#VALUE!"}},null,{"$f":"(MDR!$AV$6*EW86+MDR!$AW$6*EW87+MDR!$AX$6*EW88+MDR!$AY$6*EW89+MDR!$AZ$6*EW90+MDR!$BA$6*EW91+MDR!$BB$6*EW92+MDR!$BC$6*EW93)/100","v":{"$error":"#VALUE!"}},null,{"$f":"(MDR!$AV$6*EY86+MDR!$AW$6*EY87+MDR!$AX$6*EY88+MDR!$AY$6*EY89+MDR!$AZ$6*EY90+MDR!$BA$6*EY91+MDR!$BB$6*EY92+MDR!$BC$6*EY93)/100","v":{"$error":"#VALUE!"}},null,null,null,null,null,{"$f":"(MDR!$AV$6*FE86+MDR!$AW$6*FE87+MDR!$AX$6*FE88+MDR!$AY$6*FE89+MDR!$AZ$6*FE90+MDR!$BA$6*FE91+MDR!$BB$6*FE92+MDR!$BC$6*FE93)/100","v":{"$error":"#VALUE!"}},null,{"$f":"(MDR!$AV$6*FG86+MDR!$AW$6*FG87+MDR!$AX$6*FG88+MDR!$AY$6*FG89+MDR!$AZ$6*FG90+MDR!$BA$6*FG91+MDR!$BB$6*FG92+MDR!$BC$6*FG93)/100","v":{"$error":"#VALUE!"}},null,{"$f":"(MDR!$AV$6*FI86+MDR!$AW$6*FI87+MDR!$AX$6*FI88+MDR!$AY$6*FI89+MDR!$AZ$6*FI90+MDR!$BA$6*FI91+MDR!$BB$6*FI92+MDR!$BC$6*FI93)/100","v":{"$error":"#VALUE!"}},null,{"$f":"(MDR!$AV$6*FK86+MDR!$AW$6*FK87+MDR!$AX$6*FK88+MDR!$AY$6*FK89+MDR!$AZ$6*FK90+MDR!$BA$6*FK91+MDR!$BB$6*FK92+MDR!$BC$6*FK93)/100","v":{"$error":"#VALUE!"}},null,null,null,null,null,{"$f":"(MDR!$AV$6*FQ86+MDR!$AW$6*FQ87+MDR!$AX$6*FQ88+MDR!$AY$6*FQ89+MDR!$AZ$6*FQ90+MDR!$BA$6*FQ91+MDR!$BB$6*FQ92+MDR!$BC$6*FQ93)/100","v":{"$error":"#VALUE!"}},null,{"$f":"(MDR!$AV$6*FS86+MDR!$AW$6*FS87+MDR!$AX$6*FS88+MDR!$AY$6*FS89+MDR!$AZ$6*FS90+MDR!$BA$6*FS91+MDR!$BB$6*FS92+MDR!$BC$6*FS93)/100","v":{"$error":"#VALUE!"}},null,{"$f":"(MDR!$AV$6*FU86+MDR!$AW$6*FU87+MDR!$AX$6*FU88+MDR!$AY$6*FU89+MDR!$AZ$6*FU90+MDR!$BA$6*FU91+MDR!$BB$6*FU92+MDR!$BC$6*FU93)/100","v":{"$error":"#VALUE!"}},null,{"$f":"(MDR!$AV$6*FW86+MDR!$AW$6*FW87+MDR!$AX$6*FW88+MDR!$AY$6*FW89+MDR!$AZ$6*FW90+MDR!$BA$6*FW91+MDR!$BB$6*FW92+MDR!$BC$6*FW93)/100","v":{"$error":"#VALUE!"}},null,null,null,null,null,{"$f":"(MDR!$AV$6*GC86+MDR!$AW$6*GC87+MDR!$AX$6*GC88+MDR!$AY$6*GC89+MDR!$AZ$6*GC90+MDR!$BA$6*GC91+MDR!$BB$6*GC92+MDR!$BC$6*GC93)/100","v":{"$error":"#VALUE!"}},null,{"$f":"(MDR!$AV$6*GE86+MDR!$AW$6*GE87+MDR!$AX$6*GE88+MDR!$AY$6*GE89+MDR!$AZ$6*GE90+MDR!$BA$6*GE91+MDR!$BB$6*GE92+MDR!$BC$6*GE93)/100","v":{"$error":"#VALUE!"}},null,{"$f":"(MDR!$AV$6*GG86+MDR!$AW$6*GG87+MDR!$AX$6*GG88+MDR!$AY$6*GG89+MDR!$AZ$6*GG90+MDR!$BA$6*GG91+MDR!$BB$6*GG92+MDR!$BC$6*GG93)/100","v":{"$error":"#VALUE!"}},null,{"$f":"(MDR!$AV$6*GI86+MDR!$AW$6*GI87+MDR!$AX$6*GI88+MDR!$AY$6*GI89+MDR!$AZ$6*GI90+MDR!$BA$6*GI91+MDR!$BB$6*GI92+MDR!$BC$6*GI93)/100","v":{"$error":"#VALUE!"}},null,null,null,null,null,{"$f":"(MDR!$AV$6*GO86+MDR!$AW$6*GO87+MDR!$AX$6*GO88+MDR!$AY$6*GO89+MDR!$AZ$6*GO90+MDR!$BA$6*GO91+MDR!$BB$6*GO92+MDR!$BC$6*GO93)/100","v":{"$error":"#VALUE!"}},null,{"$f":"(MDR!$AV$6*GQ86+MDR!$AW$6*GQ87+MDR!$AX$6*GQ88+MDR!$AY$6*GQ89+MDR!$AZ$6*GQ90+MDR!$BA$6*GQ91+MDR!$BB$6*GQ92+MDR!$BC$6*GQ93)/100","v":{"$error":"#VALUE!"}},null,{"$f":"(MDR!$AV$6*GS86+MDR!$AW$6*GS87+MDR!$AX$6*GS88+MDR!$AY$6*GS89+MDR!$AZ$6*GS90+MDR!$BA$6*GS91+MDR!$BB$6*GS92+MDR!$BC$6*GS93)/100","v":{"$error":"#VALUE!"}},null,{"$f":"(MDR!$AV$6*GU86+MDR!$AW$6*GU87+MDR!$AX$6*GU88+MDR!$AY$6*GU89+MDR!$AZ$6*GU90+MDR!$BA$6*GU91+MDR!$BB$6*GU92+MDR!$BC$6*GU93)/100","v":{"$error":"#VALUE!"}},null,null,null,null,null,{"$f":"(MDR!$AV$6*HA86+MDR!$AW$6*HA87+MDR!$AX$6*HA88+MDR!$AY$6*HA89+MDR!$AZ$6*HA90+MDR!$BA$6*HA91+MDR!$BB$6*HA92+MDR!$BC$6*HA93)/100","v":{"$error":"#VALUE!"}},null,{"$f":"(MDR!$AV$6*HC86+MDR!$AW$6*HC87+MDR!$AX$6*HC88+MDR!$AY$6*HC89+MDR!$AZ$6*HC90+MDR!$BA$6*HC91+MDR!$BB$6*HC92+MDR!$BC$6*HC93)/100","v":{"$error":"#VALUE!"}},null,{"$f":"(MDR!$AV$6*HE86+MDR!$AW$6*HE87+MDR!$AX$6*HE88+MDR!$AY$6*HE89+MDR!$AZ$6*HE90+MDR!$BA$6*HE91+MDR!$BB$6*HE92+MDR!$BC$6*HE93)/100","v":{"$error":"#VALUE!"}},null,{"$f":"(MDR!$AV$6*HG86+MDR!$AW$6*HG87+MDR!$AX$6*HG88+MDR!$AY$6*HG89+MDR!$AZ$6*HG90+MDR!$BA$6*HG91+MDR!$BB$6*HG92+MDR!$BC$6*HG93)/100","v":{"$error":"#VALUE!"}},null,null,null,null,null,{"$f":"(MDR!$AV$6*HM86+MDR!$AW$6*HM87+MDR!$AX$6*HM88+MDR!$AY$6*HM89+MDR!$AZ$6*HM90+MDR!$BA$6*HM91+MDR!$BB$6*HM92+MDR!$BC$6*HM93)/100","v":{"$error":"#VALUE!"}},null,{"$f":"(MDR!$AV$6*HO86+MDR!$AW$6*HO87+MDR!$AX$6*HO88+MDR!$AY$6*HO89+MDR!$AZ$6*HO90+MDR!$BA$6*HO91+MDR!$BB$6*HO92+MDR!$BC$6*HO93)/100","v":{"$error":"#VALUE!"}},null,{"$f":"(MDR!$AV$6*HQ86+MDR!$AW$6*HQ87+MDR!$AX$6*HQ88+MDR!$AY$6*HQ89+MDR!$AZ$6*HQ90+MDR!$BA$6*HQ91+MDR!$BB$6*HQ92+MDR!$BC$6*HQ93)/100","v":{"$error":"#VALUE!"}},null,{"$f":"(MDR!$AV$6*HS86+MDR!$AW$6*HS87+MDR!$AX$6*HS88+MDR!$AY$6*HS89+MDR!$AZ$6*HS90+MDR!$BA$6*HS91+MDR!$BB$6*HS92+MDR!$BC$6*HS93)/100","v":{"$error":"#VALUE!"}},null,null,null,null,null,{"$f":"(MDR!$AV$6*HY86+MDR!$AW$6*HY87+MDR!$AX$6*HY88+MDR!$AY$6*HY89+MDR!$AZ$6*HY90+MDR!$BA$6*HY91+MDR!$BB$6*HY92+MDR!$BC$6*HY93)/100","v":{"$error":"#VALUE!"}},null,{"$f":"(MDR!$AV$6*IA86+MDR!$AW$6*IA87+MDR!$AX$6*IA88+MDR!$AY$6*IA89+MDR!$AZ$6*IA90+MDR!$BA$6*IA91+MDR!$BB$6*IA92+MDR!$BC$6*IA93)/100","v":{"$error":"#VALUE!"}},null,{"$f":"(MDR!$AV$6*IC86+MDR!$AW$6*IC87+MDR!$AX$6*IC88+MDR!$AY$6*IC89+MDR!$AZ$6*IC90+MDR!$BA$6*IC91+MDR!$BB$6*IC92+MDR!$BC$6*IC93)/100","v":{"$error":"#VALUE!"}},null,{"$f":"(MDR!$AV$6*IE86+MDR!$AW$6*IE87+MDR!$AX$6*IE88+MDR!$AY$6*IE89+MDR!$AZ$6*IE90+MDR!$BA$6*IE91+MDR!$BB$6*IE92+MDR!$BC$6*IE93)/100","v":{"$error":"#VALUE!"}},null,null,null,null,null,{"$f":"(MDR!$AV$6*IK86+MDR!$AW$6*IK87+MDR!$AX$6*IK88+MDR!$AY$6*IK89+MDR!$AZ$6*IK90+MDR!$BA$6*IK91+MDR!$BB$6*IK92+MDR!$BC$6*IK93)/100","v":{"$error":"#VALUE!"}},null,{"$f":"(MDR!$AV$6*IM86+MDR!$AW$6*IM87+MDR!$AX$6*IM88+MDR!$AY$6*IM89+MDR!$AZ$6*IM90+MDR!$BA$6*IM91+MDR!$BB$6*IM92+MDR!$BC$6*IM93)/100","v":{"$error":"#VALUE!"}},null,{"$f":"(MDR!$AV$6*IO86+MDR!$AW$6*IO87+MDR!$AX$6*IO88+MDR!$AY$6*IO89+MDR!$AZ$6*IO90+MDR!$BA$6*IO91+MDR!$BB$6*IO92+MDR!$BC$6*IO93)/100","v":{"$error":"#VALUE!"}},null,{"$f":"(MDR!$AV$6*IQ86+MDR!$AW$6*IQ87+MDR!$AX$6*IQ88+MDR!$AY$6*IQ89+MDR!$AZ$6*IQ90+MDR!$BA$6*IQ91+MDR!$BB$6*IQ92+MDR!$BC$6*IQ93)/100","v":{"$error":"#VALUE!"}},null,null,0,"Agency AFT Substituted"]
[null,null,null,null,{"$f":"(MDR!$AV$6*E86+MDR!$AW$6*E87+MDR!$AX$6*E88+MDR!$AY$6*E89+MDR!$AZ$6*E90+MDR!$BA$6*E91+MDR!$BB$6*E92+MDR!$BC$6*E93+MDR!$BD$6*E94)/100","v":0},null,{"$f":"(MDR!$AV$6*G86+MDR!$AW$6*G87+MDR!$AX$6*G88+MDR!$AY$6*G89+MDR!$AZ$6*G90+MDR!$BA$6*G91+MDR!$BB$6*G92+MDR!$BC$6*G93+MDR!$BD$6*G94)/100","v":{"$error":"#VALUE!"}},null,{"$f":"(MDR!$AV$6*I86+MDR!$AW$6*I87+MDR!$AX$6*I88+MDR!$AY$6*I89+MDR!$AZ$6*I90+MDR!$BA$6*I91+MDR!$BB$6*I92+MDR!$BC$6*I93+MDR!$BD$6*I94)/100","v":{"$error":"#VALUE!"}},null,{"$f":"(MDR!$AV$6*K86+MDR!$AW$6*K87+MDR!$AX$6*K88+MDR!$AY$6*K89+MDR!$AZ$6*K90+MDR!$BA$6*K91+MDR!$BB$6*K92+MDR!$BC$6*K93+MDR!$BD$6*K94)/100","v":{"$error":"#VALUE!"}},null,null,null,null,null,{"$f":"(MDR!$AV$6*Q86+MDR!$AW$6*Q87+MDR!$AX$6*Q88+MDR!$AY$6*Q89+MDR!$AZ$6*Q90+MDR!$BA$6*Q91+MDR!$BB$6*Q92+MDR!$BC$6*Q93+MDR!$BD$6*Q94)/100","v":{"$error":"#VALUE!"}},null,{"$f":"(MDR!$AV$6*S86+MDR!$AW$6*S87+MDR!$AX$6*S88+MDR!$AY$6*S89+MDR!$AZ$6*S90+MDR!$BA$6*S91+MDR!$BB$6*S92+MDR!$BC$6*S93+MDR!$BD$6*S94)/100","v":{"$error":"#VALUE!"}},null,{"$f":"(MDR!$AV$6*U86+MDR!$AW$6*U87+MDR!$AX$6*U88+MDR!$AY$6*U89+MDR!$AZ$6*U90+MDR!$BA$6*U91+MDR!$BB$6*U92+MDR!$BC$6*U93+MDR!$BD$6*U94)/100","v":{"$error":"#VALUE!"}},null,{"$f":"(MDR!$AV$6*W86+MDR!$AW$6*W87+MDR!$AX$6*W88+MDR!$AY$6*W89+MDR!$AZ$6*W90+MDR!$BA$6*W91+MDR!$BB$6*W92+MDR!$BC$6*W93+MDR!$BD$6*W94)/100","v":{"$error":"#VALUE!"}},null,null,null,null,null,{"$f":"(MDR!$AV$6*AC86+MDR!$AW$6*AC87+MDR!$AX$6*AC88+MDR!$AY$6*AC89+MDR!$AZ$6*AC90+MDR!$BA$6*AC91+MDR!$BB$6*AC92+MDR!$BC$6*AC93+MDR!$BD$6*AC94)/100","v":{"$error":"#VALUE!"}},null,{"$f":"(MDR!$AV$6*AE86+MDR!$AW$6*AE87+MDR!$AX$6*AE88+MDR!$AY$6*AE89+MDR!$AZ$6*AE90+MDR!$BA$6*AE91+MDR!$BB$6*AE92+MDR!$BC$6*AE93+MDR!$BD$6*AE94)/100","v":{"$error":"#VALUE!"}},null,{"$f":"(MDR!$AV$6*AG86+MDR!$AW$6*AG87+MDR!$AX$6*AG88+MDR!$AY$6*AG89+MDR!$AZ$6*AG90+MDR!$BA$6*AG91+MDR!$BB$6*AG92+MDR!$BC$6*AG93+MDR!$BD$6*AG94)/100","v":{"$error":"#VALUE!"}},null,{"$f":"(MDR!$AV$6*AI86+MDR!$AW$6*AI87+MDR!$AX$6*AI88+MDR!$AY$6*AI89+MDR!$AZ$6*AI90+MDR!$BA$6*AI91+MDR!$BB$6*AI92+MDR!$BC$6*AI93+MDR!$BD$6*AI94)/100","v":{"$error":"#VALUE!"}},null,null,null,null,null,{"$f":"(MDR!$AV$6*AO86+MDR!$AW$6*AO87+MDR!$AX$6*AO88+MDR!$AY$6*AO89+MDR!$AZ$6*AO90+MDR!$BA$6*AO91+MDR!$BB$6*AO92+MDR!$BC$6*AO93+MDR!$BD$6*AO94)/100","v":{"$error":"#VALUE!"}},null,{"$f":"(MDR!$AV$6*AQ86+MDR!$AW$6*AQ87+MDR!$AX$6*AQ88+MDR!$AY$6*AQ89+MDR!$AZ$6*AQ90+MDR!$BA$6*AQ91+MDR!$BB$6*AQ92+MDR!$BC$6*AQ93+MDR!$BD$6*AQ94)/100","v":{"$error":"#VALUE!"}},null,{"$f":"(MDR!$AV$6*AS86+MDR!$AW$6*AS87+MDR!$AX$6*AS88+MDR!$AY$6*AS89+MDR!$AZ$6*AS90+MDR!$BA$6*AS91+MDR!$BB$6*AS92+MDR!$BC$6*AS93+MDR!$BD$6*AS94)/100","v":{"$error":"#VALUE!"}},null,{"$f":"(MDR!$AV$6*AU86+MDR!$AW$6*AU87+MDR!$AX$6*AU88+MDR!$AY$6*AU89+MDR!$AZ$6*AU90+MDR!$BA$6*AU91+MDR!$BB$6*AU92+MDR!$BC$6*AU93+MDR!$BD$6*AU94)/100","v":{"$error":"#VALUE!"}},null,null,null,null,null,{"$f":"(MDR!$AV$6*BA86+MDR!$AW$6*BA87+MDR!$AX$6*BA88+MDR!$AY$6*BA89+MDR!$AZ$6*BA90+MDR!$BA$6*BA91+MDR!$BB$6*BA92+MDR!$BC$6*BA93+MDR!$BD$6*BA94)/100","v":{"$error":"#VALUE!"}},null,{"$f":"(MDR!$AV$6*BC86+MDR!$AW$6*BC87+MDR!$AX$6*BC88+MDR!$AY$6*BC89+MDR!$AZ$6*BC90+MDR!$BA$6*BC91+MDR!$BB$6*BC92+MDR!$BC$6*BC93+MDR!$BD$6*BC94)/100","v":{"$error":"#VALUE!"}},null,{"$f":"(MDR!$AV$6*BE86+MDR!$AW$6*BE87+MDR!$AX$6*BE88+MDR!$AY$6*BE89+MDR!$AZ$6*BE90+MDR!$BA$6*BE91+MDR!$BB$6*BE92+MDR!$BC$6*BE93+MDR!$BD$6*BE94)/100","v":{"$error":"#VALUE!"}},null,{"$f":"(MDR!$AV$6*BG86+MDR!$AW$6*BG87+MDR!$AX$6*BG88+MDR!$AY$6*BG89+MDR!$AZ$6*BG90+MDR!$BA$6*BG91+MDR!$BB$6*BG92+MDR!$BC$6*BG93+MDR!$BD$6*BG94)/100","v":{"$error":"#VALUE!"}},null,null,null,null,null,{"$f":"(MDR!$AV$6*BM86+MDR!$AW$6*BM87+MDR!$AX$6*BM88+MDR!$AY$6*BM89+MDR!$AZ$6*BM90+MDR!$BA$6*BM91+MDR!$BB$6*BM92+MDR!$BC$6*BM93+MDR!$BD$6*BM94)/100","v":{"$error":"#VALUE!"}},null,{"$f":"(MDR!$AV$6*BO86+MDR!$AW$6*BO87+MDR!$AX$6*BO88+MDR!$AY$6*BO89+MDR!$AZ$6*BO90+MDR!$BA$6*BO91+MDR!$BB$6*BO92+MDR!$BC$6*BO93+MDR!$BD$6*BO94)/100","v":{"$error":"#VALUE!"}},null,{"$f":"(MDR!$AV$6*BQ86+MDR!$AW$6*BQ87+MDR!$AX$6*BQ88+MDR!$AY$6*BQ89+MDR!$AZ$6*BQ90+MDR!$BA$6*BQ91+MDR!$BB$6*BQ92+MDR!$BC$6*BQ93+MDR!$BD$6*BQ94)/100","v":{"$error":"#VALUE!"}},null,{"$f":"(MDR!$AV$6*BS86+MDR!$AW$6*BS87+MDR!$AX$6*BS88+MDR!$AY$6*BS89+MDR!$AZ$6*BS90+MDR!$BA$6*BS91+MDR!$BB$6*BS92+MDR!$BC$6*BS93+MDR!$BD$6*BS94)/100","v":{"$error":"#VALUE!"}},null,null,null,null,null,{"$f":"(MDR!$AV$6*BY86+MDR!$AW$6*BY87+MDR!$AX$6*BY88+MDR!$AY$6*BY89+MDR!$AZ$6*BY90+MDR!$BA$6*BY91+MDR!$BB$6*BY92+MDR!$BC$6*BY93+MDR!$BD$6*BY94)/100","v":{"$error":"#VALUE!"}},null,{"$f":"(MDR!$AV$6*CA86+MDR!$AW$6*CA87+MDR!$AX$6*CA88+MDR!$AY$6*CA89+MDR!$AZ$6*CA90+MDR!$BA$6*CA91+MDR!$BB$6*CA92+MDR!$BC$6*CA93+MDR!$BD$6*CA94)/100","v":{"$error":"#VALUE!"}},null,{"$f":"(MDR!$AV$6*CC86+MDR!$AW$6*CC87+MDR!$AX$6*CC88+MDR!$AY$6*CC89+MDR!$AZ$6*CC90+MDR!$BA$6*CC91+MDR!$BB$6*CC92+MDR!$BC$6*CC93+MDR!$BD$6*CC94)/100","v":{"$error":"#VALUE!"}},null,{"$f":"(MDR!$AV$6*CE86+MDR!$AW$6*CE87+MDR!$AX$6*CE88+MDR!$AY$6*CE89+MDR!$AZ$6*CE90+MDR!$BA$6*CE91+MDR!$BB$6*CE92+MDR!$BC$6*CE93+MDR!$BD$6*CE94)/100","v":{"$error":"#VALUE!"}},null,null,null,null,null,{"$f":"(MDR!$AV$6*CK86+MDR!$AW$6*CK87+MDR!$AX$6*CK88+MDR!$AY$6*CK89+MDR!$AZ$6*CK90+MDR!$BA$6*CK91+MDR!$BB$6*CK92+MDR!$BC$6*CK93+MDR!$BD$6*CK94)/100","v":{"$error":"#VALUE!"}},null,{"$f":"(MDR!$AV$6*CM86+MDR!$AW$6*CM87+MDR!$AX$6*CM88+MDR!$AY$6*CM89+MDR!$AZ$6*CM90+MDR!$BA$6*CM91+MDR!$BB$6*CM92+MDR!$BC$6*CM93+MDR!$BD$6*CM94)/100","v":{"$error":"#VALUE!"}},null,{"$f":"(MDR!$AV$6*CO86+MDR!$AW$6*CO87+MDR!$AX$6*CO88+MDR!$AY$6*CO89+MDR!$AZ$6*CO90+MDR!$BA$6*CO91+MDR!$BB$6*CO92+MDR!$BC$6*CO93+MDR!$BD$6*CO94)/100","v":{"$error":"#VALUE!"}},null,{"$f":"(MDR!$AV$6*CQ86+MDR!$AW$6*CQ87+MDR!$AX$6*CQ88+MDR!$AY$6*CQ89+MDR!$AZ$6*CQ90+MDR!$BA$6*CQ91+MDR!$BB$6*CQ92+MDR!$BC$6*CQ93+MDR!$BD$6*CQ94)/100","v":{"$error":"#VALUE!"}},null,null,null,null,null,{"$f":"(MDR!$AV$6*CW86+MDR!$AW$6*CW87+MDR!$AX$6*CW88+MDR!$AY$6*CW89+MDR!$AZ$6*CW90+MDR!$BA$6*CW91+MDR!$BB$6*CW92+MDR!$BC$6*CW93+MDR!$BD$6*CW94)/100","v":{"$error":"#VALUE!"}},null,{"$f":"(MDR!$AV$6*CY86+MDR!$AW$6*CY87+MDR!$AX$6*CY88+MDR!$AY$6*CY89+MDR!$AZ$6*CY90+MDR!$BA$6*CY91+MDR!$BB$6*CY92+MDR!$BC$6*CY93+MDR!$BD$6*CY94)/100","v":{"$error":"#VALUE!"}},null,{"$f":"(MDR!$AV$6*DA86+MDR!$AW$6*DA87+MDR!$AX$6*DA88+MDR!$AY$6*DA89+MDR!$AZ$6*DA90+MDR!$BA$6*DA91+MDR!$BB$6*DA92+MDR!$BC$6*DA93+MDR!$BD$6*DA94)/100","v":{"$error":"#VALUE!"}},null,{"$f":"(MDR!$AV$6*DC86+MDR!$AW$6*DC87+MDR!$AX$6*DC88+MDR!$AY$6*DC89+MDR!$AZ$6*DC90+MDR!$BA$6*DC91+MDR!$BB$6*DC92+MDR!$BC$6*DC93+MDR!$BD$6*DC94)/100","v":{"$error":"#VALUE!"}},null,null,null,null,null,{"$f":"(MDR!$AV$6*DI86+MDR!$AW$6*DI87+MDR!$AX$6*DI88+MDR!$AY$6*DI89+MDR!$AZ$6*DI90+MDR!$BA$6*DI91+MDR!$BB$6*DI92+MDR!$BC$6*DI93+MDR!$BD$6*DI94)/100","v":{"$error":"#VALUE!"}},null,{"$f":"(MDR!$AV$6*DK86+MDR!$AW$6*DK87+MDR!$AX$6*DK88+MDR!$AY$6*DK89+MDR!$AZ$6*DK90+MDR!$BA$6*DK91+MDR!$BB$6*DK92+MDR!$BC$6*DK93+MDR!$BD$6*DK94)/100","v":{"$error":"#VALUE!"}},null,{"$f":"(MDR!$AV$6*DM86+MDR!$AW$6*DM87+MDR!$AX$6*DM88+MDR!$AY$6*DM89+MDR!$AZ$6*DM90+MDR!$BA$6*DM91+MDR!$BB$6*DM92+MDR!$BC$6*DM93+MDR!$BD$6*DM94)/100","v":{"$error":"#VALUE!"}},null,{"$f":"(MDR!$AV$6*DO86+MDR!$AW$6*DO87+MDR!$AX$6*DO88+MDR!$AY$6*DO89+MDR!$AZ$6*DO90+MDR!$BA$6*DO91+MDR!$BB$6*DO92+MDR!$BC$6*DO93+MDR!$BD$6*DO94)/100","v":{"$error":"#VALUE!"}},null,null,null,null,null,{"$f":"(MDR!$AV$6*DU86+MDR!$AW$6*DU87+MDR!$AX$6*DU88+MDR!$AY$6*DU89+MDR!$AZ$6*DU90+MDR!$BA$6*DU91+MDR!$BB$6*DU92+MDR!$BC$6*DU93+MDR!$BD$6*DU94)/100","v":{"$error":"#VALUE!"}},null,{"$f":"(MDR!$AV$6*DW86+MDR!$AW$6*DW87+MDR!$AX$6*DW88+MDR!$AY$6*DW89+MDR!$AZ$6*DW90+MDR!$BA$6*DW91+MDR!$BB$6*DW92+MDR!$BC$6*DW93+MDR!$BD$6*DW94)/100","v":{"$error":"#VALUE!"}},null,{"$f":"(MDR!$AV$6*DY86+MDR!$AW$6*DY87+MDR!$AX$6*DY88+MDR!$AY$6*DY89+MDR!$AZ$6*DY90+MDR!$BA$6*DY91+MDR!$BB$6*DY92+MDR!$BC$6*DY93+MDR!$BD$6*DY94)/100","v":{"$error":"#VALUE!"}},null,{"$f":"(MDR!$AV$6*EA86+MDR!$AW$6*EA87+MDR!$AX$6*EA88+MDR!$AY$6*EA89+MDR!$AZ$6*EA90+MDR!$BA$6*EA91+MDR!$BB$6*EA92+MDR!$BC$6*EA93+MDR!$BD$6*EA94)/100","v":{"$error":"#VALUE!"}},null,null,null,null,null,{"$f":"(MDR!$AV$6*EG86+MDR!$AW$6*EG87+MDR!$AX$6*EG88+MDR!$AY$6*EG89+MDR!$AZ$6*EG90+MDR!$BA$6*EG91+MDR!$BB$6*EG92+MDR!$BC$6*EG93+MDR!$BD$6*EG94)/100","v":{"$error":"#VALUE!"}},null,{"$f":"(MDR!$AV$6*EI86+MDR!$AW$6*EI87+MDR!$AX$6*EI88+MDR!$AY$6*EI89+MDR!$AZ$6*EI90+MDR!$BA$6*EI91+MDR!$BB$6*EI92+MDR!$BC$6*EI93+MDR!$BD$6*EI94)/100","v":{"$error":"#VALUE!"}},null,{"$f":"(MDR!$AV$6*EK86+MDR!$AW$6*EK87+MDR!$AX$6*EK88+MDR!$AY$6*EK89+MDR!$AZ$6*EK90+MDR!$BA$6*EK91+MDR!$BB$6*EK92+MDR!$BC$6*EK93+MDR!$BD$6*EK94)/100","v":{"$error":"#VALUE!"}},null,{"$f":"(MDR!$AV$6*EM86+MDR!$AW$6*EM87+MDR!$AX$6*EM88+MDR!$AY$6*EM89+MDR!$AZ$6*EM90+MDR!$BA$6*EM91+MDR!$BB$6*EM92+MDR!$BC$6*EM93+MDR!$BD$6*EM94)/100","v":{"$error":"#VALUE!"}},null,null,null,null,null,{"$f":"(MDR!$AV$6*ES86+MDR!$AW$6*ES87+MDR!$AX$6*ES88+MDR!$AY$6*ES89+MDR!$AZ$6*ES90+MDR!$BA$6*ES91+MDR!$BB$6*ES92+MDR!$BC$6*ES93+MDR!$BD$6*ES94)/100","v":{"$error":"#VALUE!"}},null,{"$f":"(MDR!$AV$6*EU86+MDR!$AW$6*EU87+MDR!$AX$6*EU88+MDR!$AY$6*EU89+MDR!$AZ$6*EU90+MDR!$BA$6*EU91+MDR!$BB$6*EU92+MDR!$BC$6*EU93+MDR!$BD$6*EU94)/100","v":{"$error":"#VALUE!"}},null,{"$f":"(MDR!$AV$6*EW86+MDR!$AW$6*EW87+MDR!$AX$6*EW88+MDR!$AY$6*EW89+MDR!$AZ$6*EW90+MDR!$BA$6*EW91+MDR!$BB$6*EW92+MDR!$BC$6*EW93+MDR!$BD$6*EW94)/100","v":{"$error":"#VALUE!"}},null,{"$f":"(MDR!$AV$6*EY86+MDR!$AW$6*EY87+MDR!$AX$6*EY88+MDR!$AY$6*EY89+MDR!$AZ$6*EY90+MDR!$BA$6*EY91+MDR!$BB$6*EY92+MDR!$BC$6*EY93+MDR!$BD$6*EY94)/100","v":{"$error":"#VALUE!"}},null,null,null,null,null,{"$f":"(MDR!$AV$6*FE86+MDR!$AW$6*FE87+MDR!$AX$6*FE88+MDR!$AY$6*FE89+MDR!$AZ$6*FE90+MDR!$BA$6*FE91+MDR!$BB$6*FE92+MDR!$BC$6*FE93+MDR!$BD$6*FE94)/100","v":{"$error":"#VALUE!"}},null,{"$f":"(MDR!$AV$6*FG86+MDR!$AW$6*FG87+MDR!$AX$6*FG88+MDR!$AY$6*FG89+MDR!$AZ$6*FG90+MDR!$BA$6*FG91+MDR!$BB$6*FG92+MDR!$BC$6*FG93+MDR!$BD$6*FG94)/100","v":{"$error":"#VALUE!"}},null,{"$f":"(MDR!$AV$6*FI86+MDR!$AW$6*FI87+MDR!$AX$6*FI88+MDR!$AY$6*FI89+MDR!$AZ$6*FI90+MDR!$BA$6*FI91+MDR!$BB$6*FI92+MDR!$BC$6*FI93+MDR!$BD$6*FI94)/100","v":{"$error":"#VALUE!"}},null,{"$f":"(MDR!$AV$6*FK86+MDR!$AW$6*FK87+MDR!$AX$6*FK88+MDR!$AY$6*FK89+MDR!$AZ$6*FK90+MDR!$BA$6*FK91+MDR!$BB$6*FK92+MDR!$BC$6*FK93+MDR!$BD$6*FK94)/100","v":{"$error":"#VALUE!"}},null,null,null,null,null,{"$f":"(MDR!$AV$6*FQ86+MDR!$AW$6*FQ87+MDR!$AX$6*FQ88+MDR!$AY$6*FQ89+MDR!$AZ$6*FQ90+MDR!$BA$6*FQ91+MDR!$BB$6*FQ92+MDR!$BC$6*FQ93+MDR!$BD$6*FQ94)/100","v":{"$error":"#VALUE!"}},null,{"$f":"(MDR!$AV$6*FS86+MDR!$AW$6*FS87+MDR!$AX$6*FS88+MDR!$AY$6*FS89+MDR!$AZ$6*FS90+MDR!$BA$6*FS91+MDR!$BB$6*FS92+MDR!$BC$6*FS93+MDR!$BD$6*FS94)/100","v":{"$error":"#VALUE!"}},null,{"$f":"(MDR!$AV$6*FU86+MDR!$AW$6*FU87+MDR!$AX$6*FU88+MDR!$AY$6*FU89+MDR!$AZ$6*FU90+MDR!$BA$6*FU91+MDR!$BB$6*FU92+MDR!$BC$6*FU93+MDR!$BD$6*FU94)/100","v":{"$error":"#VALUE!"}},null,{"$f":"(MDR!$AV$6*FW86+MDR!$AW$6*FW87+MDR!$AX$6*FW88+MDR!$AY$6*FW89+MDR!$AZ$6*FW90+MDR!$BA$6*FW91+MDR!$BB$6*FW92+MDR!$BC$6*FW93+MDR!$BD$6*FW94)/100","v":{"$error":"#VALUE!"}},null,null,null,null,null,{"$f":"(MDR!$AV$6*GC86+MDR!$AW$6*GC87+MDR!$AX$6*GC88+MDR!$AY$6*GC89+MDR!$AZ$6*GC90+MDR!$BA$6*GC91+MDR!$BB$6*GC92+MDR!$BC$6*GC93+MDR!$BD$6*GC94)/100","v":{"$error":"#VALUE!"}},null,{"$f":"(MDR!$AV$6*GE86+MDR!$AW$6*GE87+MDR!$AX$6*GE88+MDR!$AY$6*GE89+MDR!$AZ$6*GE90+MDR!$BA$6*GE91+MDR!$BB$6*GE92+MDR!$BC$6*GE93+MDR!$BD$6*GE94)/100","v":{"$error":"#VALUE!"}},null,{"$f":"(MDR!$AV$6*GG86+MDR!$AW$6*GG87+MDR!$AX$6*GG88+MDR!$AY$6*GG89+MDR!$AZ$6*GG90+MDR!$BA$6*GG91+MDR!$BB$6*GG92+MDR!$BC$6*GG93+MDR!$BD$6*GG94)/100","v":{"$error":"#VALUE!"}},null,{"$f":"(MDR!$AV$6*GI86+MDR!$AW$6*GI87+MDR!$AX$6*GI88+MDR!$AY$6*GI89+MDR!$AZ$6*GI90+MDR!$BA$6*GI91+MDR!$BB$6*GI92+MDR!$BC$6*GI93+MDR!$BD$6*GI94)/100","v":{"$error":"#VALUE!"}},null,null,null,null,null,{"$f":"(MDR!$AV$6*GO86+MDR!$AW$6*GO87+MDR!$AX$6*GO88+MDR!$AY$6*GO89+MDR!$AZ$6*GO90+MDR!$BA$6*GO91+MDR!$BB$6*GO92+MDR!$BC$6*GO93+MDR!$BD$6*GO94)/100","v":{"$error":"#VALUE!"}},null,{"$f":"(MDR!$AV$6*GQ86+MDR!$AW$6*GQ87+MDR!$AX$6*GQ88+MDR!$AY$6*GQ89+MDR!$AZ$6*GQ90+MDR!$BA$6*GQ91+MDR!$BB$6*GQ92+MDR!$BC$6*GQ93+MDR!$BD$6*GQ94)/100","v":{"$error":"#VALUE!"}},null,{"$f":"(MDR!$AV$6*GS86+MDR!$AW$6*GS87+MDR!$AX$6*GS88+MDR!$AY$6*GS89+MDR!$AZ$6*GS90+MDR!$BA$6*GS91+MDR!$BB$6*GS92+MDR!$BC$6*GS93+MDR!$BD$6*GS94)/100","v":{"$error":"#VALUE!"}},null,{"$f":"(MDR!$AV$6*GU86+MDR!$AW$6*GU87+MDR!$AX$6*GU88+MDR!$AY$6*GU89+MDR!$AZ$6*GU90+MDR!$BA$6*GU91+MDR!$BB$6*GU92+MDR!$BC$6*GU93+MDR!$BD$6*GU94)/100","v":{"$error":"#VALUE!"}},null,null,null,null,null,{"$f":"(MDR!$AV$6*HA86+MDR!$AW$6*HA87+MDR!$AX$6*HA88+MDR!$AY$6*HA89+MDR!$AZ$6*HA90+MDR!$BA$6*HA91+MDR!$BB$6*HA92+MDR!$BC$6*HA93+MDR!$BD$6*HA94)/100","v":{"$error":"#VALUE!"}},null,{"$f":"(MDR!$AV$6*HC86+MDR!$AW$6*HC87+MDR!$AX$6*HC88+MDR!$AY$6*HC89+MDR!$AZ$6*HC90+MDR!$BA$6*HC91+MDR!$BB$6*HC92+MDR!$BC$6*HC93+MDR!$BD$6*HC94)/100","v":{"$error":"#VALUE!"}},null,{"$f":"(MDR!$AV$6*HE86+MDR!$AW$6*HE87+MDR!$AX$6*HE88+MDR!$AY$6*HE89+MDR!$AZ$6*HE90+MDR!$BA$6*HE91+MDR!$BB$6*HE92+MDR!$BC$6*HE93+MDR!$BD$6*HE94)/100","v":{"$error":"#VALUE!"}},null,{"$f":"(MDR!$AV$6*HG86+MDR!$AW$6*HG87+MDR!$AX$6*HG88+MDR!$AY$6*HG89+MDR!$AZ$6*HG90+MDR!$BA$6*HG91+MDR!$BB$6*HG92+MDR!$BC$6*HG93+MDR!$BD$6*HG94)/100","v":{"$error":"#VALUE!"}},null,null,null,null,null,{"$f":"(MDR!$AV$6*HM86+MDR!$AW$6*HM87+MDR!$AX$6*HM88+MDR!$AY$6*HM89+MDR!$AZ$6*HM90+MDR!$BA$6*HM91+MDR!$BB$6*HM92+MDR!$BC$6*HM93+MDR!$BD$6*HM94)/100","v":{"$error":"#VALUE!"}},null,{"$f":"(MDR!$AV$6*HO86+MDR!$AW$6*HO87+MDR!$AX$6*HO88+MDR!$AY$6*HO89+MDR!$AZ$6*HO90+MDR!$BA$6*HO91+MDR!$BB$6*HO92+MDR!$BC$6*HO93+MDR!$BD$6*HO94)/100","v":{"$error":"#VALUE!"}},null,{"$f":"(MDR!$AV$6*HQ86+MDR!$AW$6*HQ87+MDR!$AX$6*HQ88+MDR!$AY$6*HQ89+MDR!$AZ$6*HQ90+MDR!$BA$6*HQ91+MDR!$BB$6*HQ92+MDR!$BC$6*HQ93+MDR!$BD$6*HQ94)/100","v":{"$error":"#VALUE!"}},null,{"$f":"(MDR!$AV$6*HS86+MDR!$AW$6*HS87+MDR!$AX$6*HS88+MDR!$AY$6*HS89+MDR!$AZ$6*HS90+MDR!$BA$6*HS91+MDR!$BB$6*HS92+MDR!$BC$6*HS93+MDR!$BD$6*HS94)/100","v":{"$error":"#VALUE!"}},null,null,null,null,null,{"$f":"(MDR!$AV$6*HY86+MDR!$AW$6*HY87+MDR!$AX$6*HY88+MDR!$AY$6*HY89+MDR!$AZ$6*HY90+MDR!$BA$6*HY91+MDR!$BB$6*HY92+MDR!$BC$6*HY93+MDR!$BD$6*HY94)/100","v":{"$error":"#VALUE!"}},null,{"$f":"(MDR!$AV$6*IA86+MDR!$AW$6*IA87+MDR!$AX$6*IA88+MDR!$AY$6*IA89+MDR!$AZ$6*IA90+MDR!$BA$6*IA91+MDR!$BB$6*IA92+MDR!$BC$6*IA93+MDR!$BD$6*IA94)/100","v":{"$error":"#VALUE!"}},null,{"$f":"(MDR!$AV$6*IC86+MDR!$AW$6*IC87+MDR!$AX$6*IC88+MDR!$AY$6*IC89+MDR!$AZ$6*IC90+MDR!$BA$6*IC91+MDR!$BB$6*IC92+MDR!$BC$6*IC93+MDR!$BD$6*IC94)/100","v":{"$error":"#VALUE!"}},null,{"$f":"(MDR!$AV$6*IE86+MDR!$AW$6*IE87+MDR!$AX$6*IE88+MDR!$AY$6*IE89+MDR!$AZ$6*IE90+MDR!$BA$6*IE91+MDR!$BB$6*IE92+MDR!$BC$6*IE93+MDR!$BD$6*IE94)/100","v":{"$error":"#VALUE!"}},null,null,null,null,null,{"$f":"(MDR!$AV$6*IK86+MDR!$AW$6*IK87+MDR!$AX$6*IK88+MDR!$AY$6*IK89+MDR!$AZ$6*IK90+MDR!$BA$6*IK91+MDR!$BB$6*IK92+MDR!$BC$6*IK93+MDR!$BD$6*IK94)/100","v":{"$error":"#VALUE!"}},null,{"$f":"(MDR!$AV$6*IM86+MDR!$AW$6*IM87+MDR!$AX$6*IM88+MDR!$AY$6*IM89+MDR!$AZ$6*IM90+MDR!$BA$6*IM91+MDR!$BB$6*IM92+MDR!$BC$6*IM93+MDR!$BD$6*IM94)/100","v":{"$error":"#VALUE!"}},null,{"$f":"(MDR!$AV$6*IO86+MDR!$AW$6*IO87+MDR!$AX$6*IO88+MDR!$AY$6*IO89+MDR!$AZ$6*IO90+MDR!$BA$6*IO91+MDR!$BB$6*IO92+MDR!$BC$6*IO93+MDR!$BD$6*IO94)/100","v":{"$error":"#VALUE!"}},null,{"$f":"(MDR!$AV$6*IQ86+MDR!$AW$6*IQ87+MDR!$AX$6*IQ88+MDR!$AY$6*IQ89+MDR!$AZ$6*IQ90+MDR!$BA$6*IQ91+MDR!$BB$6*IQ92+MDR!$BC$6*IQ93+MDR!$BD$6*IQ94)/100","v":{"$error":"#VALUE!"}},null,null,0,"Agency AFT Substituted"]
[null,null,null,null,{"$f":"(MDR!$AV$6*E86+MDR!$AW$6*E87+MDR!$AX$6*E88+MDR!$AY$6*E89+MDR!$AZ$6*E90+MDR!$BA$6*E91+MDR!$BB$6*E92+MDR!$BC$6*E93+MDR!$BD$6*E94+MDR!$BE$6*E95)/100","v":0},null,{"$f":"(MDR!$AV$6*G86+MDR!$AW$6*G87+MDR!$AX$6*G88+MDR!$AY$6*G89+MDR!$AZ$6*G90+MDR!$BA$6*G91+MDR!$BB$6*G92+MDR!$BC$6*G93+MDR!$BD$6*G94+MDR!$BE$6*G95)/100","v":{"$error":"#VALUE!"}},null,{"$f":"(MDR!$AV$6*I86+MDR!$AW$6*I87+MDR!$AX$6*I88+MDR!$AY$6*I89+MDR!$AZ$6*I90+MDR!$BA$6*I91+MDR!$BB$6*I92+MDR!$BC$6*I93+MDR!$BD$6*I94+MDR!$BE$6*I95)/100","v":{"$error":"#VALUE!"}},null,{"$f":"(MDR!$AV$6*K86+MDR!$AW$6*K87+MDR!$AX$6*K88+MDR!$AY$6*K89+MDR!$AZ$6*K90+MDR!$BA$6*K91+MDR!$BB$6*K92+MDR!$BC$6*K93+MDR!$BD$6*K94+MDR!$BE$6*K95)/100","v":{"$error":"#VALUE!"}},null,null,null,null,null,{"$f":"(MDR!$AV$6*Q86+MDR!$AW$6*Q87+MDR!$AX$6*Q88+MDR!$AY$6*Q89+MDR!$AZ$6*Q90+MDR!$BA$6*Q91+MDR!$BB$6*Q92+MDR!$BC$6*Q93+MDR!$BD$6*Q94+MDR!$BE$6*Q95)/100","v":{"$error":"#VALUE!"}},null,{"$f":"(MDR!$AV$6*S86+MDR!$AW$6*S87+MDR!$AX$6*S88+MDR!$AY$6*S89+MDR!$AZ$6*S90+MDR!$BA$6*S91+MDR!$BB$6*S92+MDR!$BC$6*S93+MDR!$BD$6*S94+MDR!$BE$6*S95)/100","v":{"$error":"#VALUE!"}},null,{"$f":"(MDR!$AV$6*U86+MDR!$AW$6*U87+MDR!$AX$6*U88+MDR!$AY$6*U89+MDR!$AZ$6*U90+MDR!$BA$6*U91+MDR!$BB$6*U92+MDR!$BC$6*U93+MDR!$BD$6*U94+MDR!$BE$6*U95)/100","v":{"$error":"#VALUE!"}},null,{"$f":"(MDR!$AV$6*W86+MDR!$AW$6*W87+MDR!$AX$6*W88+MDR!$AY$6*W89+MDR!$AZ$6*W90+MDR!$BA$6*W91+MDR!$BB$6*W92+MDR!$BC$6*W93+MDR!$BD$6*W94+MDR!$BE$6*W95)/100","v":{"$error":"#VALUE!"}},null,null,null,null,null,{"$f":"(MDR!$AV$6*AC86+MDR!$AW$6*AC87+MDR!$AX$6*AC88+MDR!$AY$6*AC89+MDR!$AZ$6*AC90+MDR!$BA$6*AC91+MDR!$BB$6*AC92+MDR!$BC$6*AC93+MDR!$BD$6*AC94+MDR!$BE$6*AC95)/100","v":{"$error":"#VALUE!"}},null,{"$f":"(MDR!$AV$6*AE86+MDR!$AW$6*AE87+MDR!$AX$6*AE88+MDR!$AY$6*AE89+MDR!$AZ$6*AE90+MDR!$BA$6*AE91+MDR!$BB$6*AE92+MDR!$BC$6*AE93+MDR!$BD$6*AE94+MDR!$BE$6*AE95)/100","v":{"$error":"#VALUE!"}},null,{"$f":"(MDR!$AV$6*AG86+MDR!$AW$6*AG87+MDR!$AX$6*AG88+MDR!$AY$6*AG89+MDR!$AZ$6*AG90+MDR!$BA$6*AG91+MDR!$BB$6*AG92+MDR!$BC$6*AG93+MDR!$BD$6*AG94+MDR!$BE$6*AG95)/100","v":{"$error":"#VALUE!"}},null,{"$f":"(MDR!$AV$6*AI86+MDR!$AW$6*AI87+MDR!$AX$6*AI88+MDR!$AY$6*AI89+MDR!$AZ$6*AI90+MDR!$BA$6*AI91+MDR!$BB$6*AI92+MDR!$BC$6*AI93+MDR!$BD$6*AI94+MDR!$BE$6*AI95)/100","v":{"$error":"#VALUE!"}},null,null,null,null,null,{"$f":"(MDR!$AV$6*AO86+MDR!$AW$6*AO87+MDR!$AX$6*AO88+MDR!$AY$6*AO89+MDR!$AZ$6*AO90+MDR!$BA$6*AO91+MDR!$BB$6*AO92+MDR!$BC$6*AO93+MDR!$BD$6*AO94+MDR!$BE$6*AO95)/100","v":{"$error":"#VALUE!"}},null,{"$f":"(MDR!$AV$6*AQ86+MDR!$AW$6*AQ87+MDR!$AX$6*AQ88+MDR!$AY$6*AQ89+MDR!$AZ$6*AQ90+MDR!$BA$6*AQ91+MDR!$BB$6*AQ92+MDR!$BC$6*AQ93+MDR!$BD$6*AQ94+MDR!$BE$6*AQ95)/100","v":{"$error":"#VALUE!"}},null,{"$f":"(MDR!$AV$6*AS86+MDR!$AW$6*AS87+MDR!$AX$6*AS88+MDR!$AY$6*AS89+MDR!$AZ$6*AS90+MDR!$BA$6*AS91+MDR!$BB$6*AS92+MDR!$BC$6*AS93+MDR!$BD$6*AS94+MDR!$BE$6*AS95)/100","v":{"$error":"#VALUE!"}},null,{"$f":"(MDR!$AV$6*AU86+MDR!$AW$6*AU87+MDR!$AX$6*AU88+MDR!$AY$6*AU89+MDR!$AZ$6*AU90+MDR!$BA$6*AU91+MDR!$BB$6*AU92+MDR!$BC$6*AU93+MDR!$BD$6*AU94+MDR!$BE$6*AU95)/100","v":{"$error":"#VALUE!"}},null,null,null,null,null,{"$f":"(MDR!$AV$6*BA86+MDR!$AW$6*BA87+MDR!$AX$6*BA88+MDR!$AY$6*BA89+MDR!$AZ$6*BA90+MDR!$BA$6*BA91+MDR!$BB$6*BA92+MDR!$BC$6*BA93+MDR!$BD$6*BA94+MDR!$BE$6*BA95)/100","v":{"$error":"#VALUE!"}},null,{"$f":"(MDR!$AV$6*BC86+MDR!$AW$6*BC87+MDR!$AX$6*BC88+MDR!$AY$6*BC89+MDR!$AZ$6*BC90+MDR!$BA$6*BC91+MDR!$BB$6*BC92+MDR!$BC$6*BC93+MDR!$BD$6*BC94+MDR!$BE$6*BC95)/100","v":{"$error":"#VALUE!"}},null,{"$f":"(MDR!$AV$6*BE86+MDR!$AW$6*BE87+MDR!$AX$6*BE88+MDR!$AY$6*BE89+MDR!$AZ$6*BE90+MDR!$BA$6*BE91+MDR!$BB$6*BE92+MDR!$BC$6*BE93+MDR!$BD$6*BE94+MDR!$BE$6*BE95)/100","v":{"$error":"#VALUE!"}},null,{"$f":"(MDR!$AV$6*BG86+MDR!$AW$6*BG87+MDR!$AX$6*BG88+MDR!$AY$6*BG89+MDR!$AZ$6*BG90+MDR!$BA$6*BG91+MDR!$BB$6*BG92+MDR!$BC$6*BG93+MDR!$BD$6*BG94+MDR!$BE$6*BG95)/100","v":{"$error":"#VALUE!"}},null,null,null,null,null,{"$f":"(MDR!$AV$6*BM86+MDR!$AW$6*BM87+MDR!$AX$6*BM88+MDR!$AY$6*BM89+MDR!$AZ$6*BM90+MDR!$BA$6*BM91+MDR!$BB$6*BM92+MDR!$BC$6*BM93+MDR!$BD$6*BM94+MDR!$BE$6*BM95)/100","v":{"$error":"#VALUE!"}},null,{"$f":"(MDR!$AV$6*BO86+MDR!$AW$6*BO87+MDR!$AX$6*BO88+MDR!$AY$6*BO89+MDR!$AZ$6*BO90+MDR!$BA$6*BO91+MDR!$BB$6*BO92+MDR!$BC$6*BO93+MDR!$BD$6*BO94+MDR!$BE$6*BO95)/100","v":{"$error":"#VALUE!"}},null,{"$f":"(MDR!$AV$6*BQ86+MDR!$AW$6*BQ87+MDR!$AX$6*BQ88+MDR!$AY$6*BQ89+MDR!$AZ$6*BQ90+MDR!$BA$6*BQ91+MDR!$BB$6*BQ92+MDR!$BC$6*BQ93+MDR!$BD$6*BQ94+MDR!$BE$6*BQ95)/100","v":{"$error":"#VALUE!"}},null,{"$f":"(MDR!$AV$6*BS86+MDR!$AW$6*BS87+MDR!$AX$6*BS88+MDR!$AY$6*BS89+MDR!$AZ$6*BS90+MDR!$BA$6*BS91+MDR!$BB$6*BS92+MDR!$BC$6*BS93+MDR!$BD$6*BS94+MDR!$BE$6*BS95)/100","v":{"$error":"#VALUE!"}},null,null,null,null,null,{"$f":"(MDR!$AV$6*BY86+MDR!$AW$6*BY87+MDR!$AX$6*BY88+MDR!$AY$6*BY89+MDR!$AZ$6*BY90+MDR!$BA$6*BY91+MDR!$BB$6*BY92+MDR!$BC$6*BY93+MDR!$BD$6*BY94+MDR!$BE$6*BY95)/100","v":{"$error":"#VALUE!"}},null,{"$f":"(MDR!$AV$6*CA86+MDR!$AW$6*CA87+MDR!$AX$6*CA88+MDR!$AY$6*CA89+MDR!$AZ$6*CA90+MDR!$BA$6*CA91+MDR!$BB$6*CA92+MDR!$BC$6*CA93+MDR!$BD$6*CA94+MDR!$BE$6*CA95)/100","v":{"$error":"#VALUE!"}},null,{"$f":"(MDR!$AV$6*CC86+MDR!$AW$6*CC87+MDR!$AX$6*CC88+MDR!$AY$6*CC89+MDR!$AZ$6*CC90+MDR!$BA$6*CC91+MDR!$BB$6*CC92+MDR!$BC$6*CC93+MDR!$BD$6*CC94+MDR!$BE$6*CC95)/100","v":{"$error":"#VALUE!"}},null,{"$f":"(MDR!$AV$6*CE86+MDR!$AW$6*CE87+MDR!$AX$6*CE88+MDR!$AY$6*CE89+MDR!$AZ$6*CE90+MDR!$BA$6*CE91+MDR!$BB$6*CE92+MDR!$BC$6*CE93+MDR!$BD$6*CE94+MDR!$BE$6*CE95)/100","v":{"$error":"#VALUE!"}},null,null,null,null,null,{"$f":"(MDR!$AV$6*CK86+MDR!$AW$6*CK87+MDR!$AX$6*CK88+MDR!$AY$6*CK89+MDR!$AZ$6*CK90+MDR!$BA$6*CK91+MDR!$BB$6*CK92+MDR!$BC$6*CK93+MDR!$BD$6*CK94+MDR!$BE$6*CK95)/100","v":{"$error":"#VALUE!"}},null,{"$f":"(MDR!$AV$6*CM86+MDR!$AW$6*CM87+MDR!$AX$6*CM88+MDR!$AY$6*CM89+MDR!$AZ$6*CM90+MDR!$BA$6*CM91+MDR!$BB$6*CM92+MDR!$BC$6*CM93+MDR!$BD$6*CM94+MDR!$BE$6*CM95)/100","v":{"$error":"#VALUE!"}},null,{"$f":"(MDR!$AV$6*CO86+MDR!$AW$6*CO87+MDR!$AX$6*CO88+MDR!$AY$6*CO89+MDR!$AZ$6*CO90+MDR!$BA$6*CO91+MDR!$BB$6*CO92+MDR!$BC$6*CO93+MDR!$BD$6*CO94+MDR!$BE$6*CO95)/100","v":{"$error":"#VALUE!"}},null,{"$f":"(MDR!$AV$6*CQ86+MDR!$AW$6*CQ87+MDR!$AX$6*CQ88+MDR!$AY$6*CQ89+MDR!$AZ$6*CQ90+MDR!$BA$6*CQ91+MDR!$BB$6*CQ92+MDR!$BC$6*CQ93+MDR!$BD$6*CQ94+MDR!$BE$6*CQ95)/100","v":{"$error":"#VALUE!"}},null,null,null,null,null,{"$f":"(MDR!$AV$6*CW86+MDR!$AW$6*CW87+MDR!$AX$6*CW88+MDR!$AY$6*CW89+MDR!$AZ$6*CW90+MDR!$BA$6*CW91+MDR!$BB$6*CW92+MDR!$BC$6*CW93+MDR!$BD$6*CW94+MDR!$BE$6*CW95)/100","v":{"$error":"#VALUE!"}},null,{"$f":"(MDR!$AV$6*CY86+MDR!$AW$6*CY87+MDR!$AX$6*CY88+MDR!$AY$6*CY89+MDR!$AZ$6*CY90+MDR!$BA$6*CY91+MDR!$BB$6*CY92+MDR!$BC$6*CY93+MDR!$BD$6*CY94+MDR!$BE$6*CY95)/100","v":{"$error":"#VALUE!"}},null,{"$f":"(MDR!$AV$6*DA86+MDR!$AW$6*DA87+MDR!$AX$6*DA88+MDR!$AY$6*DA89+MDR!$AZ$6*DA90+MDR!$BA$6*DA91+MDR!$BB$6*DA92+MDR!$BC$6*DA93+MDR!$BD$6*DA94+MDR!$BE$6*DA95)/100","v":{"$error":"#VALUE!"}},null,{"$f":"(MDR!$AV$6*DC86+MDR!$AW$6*DC87+MDR!$AX$6*DC88+MDR!$AY$6*DC89+MDR!$AZ$6*DC90+MDR!$BA$6*DC91+MDR!$BB$6*DC92+MDR!$BC$6*DC93+MDR!$BD$6*DC94+MDR!$BE$6*DC95)/100","v":{"$error":"#VALUE!"}},null,null,null,null,null,{"$f":"(MDR!$AV$6*DI86+MDR!$AW$6*DI87+MDR!$AX$6*DI88+MDR!$AY$6*DI89+MDR!$AZ$6*DI90+MDR!$BA$6*DI91+MDR!$BB$6*DI92+MDR!$BC$6*DI93+MDR!$BD$6*DI94+MDR!$BE$6*DI95)/100","v":{"$error":"#VALUE!"}},null,{"$f":"(MDR!$AV$6*DK86+MDR!$AW$6*DK87+MDR!$AX$6*DK88+MDR!$AY$6*DK89+MDR!$AZ$6*DK90+MDR!$BA$6*DK91+MDR!$BB$6*DK92+MDR!$BC$6*DK93+MDR!$BD$6*DK94+MDR!$BE$6*DK95)/100","v":{"$error":"#VALUE!"}},null,{"$f":"(MDR!$AV$6*DM86+MDR!$AW$6*DM87+MDR!$AX$6*DM88+MDR!$AY$6*DM89+MDR!$AZ$6*DM90+MDR!$BA$6*DM91+MDR!$BB$6*DM92+MDR!$BC$6*DM93+MDR!$BD$6*DM94+MDR!$BE$6*DM95)/100","v":{"$error":"#VALUE!"}},null,{"$f":"(MDR!$AV$6*DO86+MDR!$AW$6*DO87+MDR!$AX$6*DO88+MDR!$AY$6*DO89+MDR!$AZ$6*DO90+MDR!$BA$6*DO91+MDR!$BB$6*DO92+MDR!$BC$6*DO93+MDR!$BD$6*DO94+MDR!$BE$6*DO95)/100","v":{"$error":"#VALUE!"}},null,null,null,null,null,{"$f":"(MDR!$AV$6*DU86+MDR!$AW$6*DU87+MDR!$AX$6*DU88+MDR!$AY$6*DU89+MDR!$AZ$6*DU90+MDR!$BA$6*DU91+MDR!$BB$6*DU92+MDR!$BC$6*DU93+MDR!$BD$6*DU94+MDR!$BE$6*DU95)/100","v":{"$error":"#VALUE!"}},null,{"$f":"(MDR!$AV$6*DW86+MDR!$AW$6*DW87+MDR!$AX$6*DW88+MDR!$AY$6*DW89+MDR!$AZ$6*DW90+MDR!$BA$6*DW91+MDR!$BB$6*DW92+MDR!$BC$6*DW93+MDR!$BD$6*DW94+MDR!$BE$6*DW95)/100","v":{"$error":"#VALUE!"}},null,{"$f":"(MDR!$AV$6*DY86+MDR!$AW$6*DY87+MDR!$AX$6*DY88+MDR!$AY$6*DY89+MDR!$AZ$6*DY90+MDR!$BA$6*DY91+MDR!$BB$6*DY92+MDR!$BC$6*DY93+MDR!$BD$6*DY94+MDR!$BE$6*DY95)/100","v":{"$error":"#VALUE!"}},null,{"$f":"(MDR!$AV$6*EA86+MDR!$AW$6*EA87+MDR!$AX$6*EA88+MDR!$AY$6*EA89+MDR!$AZ$6*EA90+MDR!$BA$6*EA91+MDR!$BB$6*EA92+MDR!$BC$6*EA93+MDR!$BD$6*EA94+MDR!$BE$6*EA95)/100","v":{"$error":"#VALUE!"}},null,null,null,null,null,{"$f":"(MDR!$AV$6*EG86+MDR!$AW$6*EG87+MDR!$AX$6*EG88+MDR!$AY$6*EG89+MDR!$AZ$6*EG90+MDR!$BA$6*EG91+MDR!$BB$6*EG92+MDR!$BC$6*EG93+MDR!$BD$6*EG94+MDR!$BE$6*EG95)/100","v":{"$error":"#VALUE!"}},null,{"$f":"(MDR!$AV$6*EI86+MDR!$AW$6*EI87+MDR!$AX$6*EI88+MDR!$AY$6*EI89+MDR!$AZ$6*EI90+MDR!$BA$6*EI91+MDR!$BB$6*EI92+MDR!$BC$6*EI93+MDR!$BD$6*EI94+MDR!$BE$6*EI95)/100","v":{"$error":"#VALUE!"}},null,{"$f":"(MDR!$AV$6*EK86+MDR!$AW$6*EK87+MDR!$AX$6*EK88+MDR!$AY$6*EK89+MDR!$AZ$6*EK90+MDR!$BA$6*EK91+MDR!$BB$6*EK92+MDR!$BC$6*EK93+MDR!$BD$6*EK94+MDR!$BE$6*EK95)/100","v":{"$error":"#VALUE!"}},null,{"$f":"(MDR!$AV$6*EM86+MDR!$AW$6*EM87+MDR!$AX$6*EM88+MDR!$AY$6*EM89+MDR!$AZ$6*EM90+MDR!$BA$6*EM91+MDR!$BB$6*EM92+MDR!$BC$6*EM93+MDR!$BD$6*EM94+MDR!$BE$6*EM95)/100","v":{"$error":"#VALUE!"}},null,null,null,null,null,{"$f":"(MDR!$AV$6*ES86+MDR!$AW$6*ES87+MDR!$AX$6*ES88+MDR!$AY$6*ES89+MDR!$AZ$6*ES90+MDR!$BA$6*ES91+MDR!$BB$6*ES92+MDR!$BC$6*ES93+MDR!$BD$6*ES94+MDR!$BE$6*ES95)/100","v":{"$error":"#VALUE!"}},null,{"$f":"(MDR!$AV$6*EU86+MDR!$AW$6*EU87+MDR!$AX$6*EU88+MDR!$AY$6*EU89+MDR!$AZ$6*EU90+MDR!$BA$6*EU91+MDR!$BB$6*EU92+MDR!$BC$6*EU93+MDR!$BD$6*EU94+MDR!$BE$6*EU95)/100","v":{"$error":"#VALUE!"}},null,{"$f":"(MDR!$AV$6*EW86+MDR!$AW$6*EW87+MDR!$AX$6*EW88+MDR!$AY$6*EW89+MDR!$AZ$6*EW90+MDR!$BA$6*EW91+MDR!$BB$6*EW92+MDR!$BC$6*EW93+MDR!$BD$6*EW94+MDR!$BE$6*EW95)/100","v":{"$error":"#VALUE!"}},null,{"$f":"(MDR!$AV$6*EY86+MDR!$AW$6*EY87+MDR!$AX$6*EY88+MDR!$AY$6*EY89+MDR!$AZ$6*EY90+MDR!$BA$6*EY91+MDR!$BB$6*EY92+MDR!$BC$6*EY93+MDR!$BD$6*EY94+MDR!$BE$6*EY95)/100","v":{"$error":"#VALUE!"}},null,null,null,null,null,{"$f":"(MDR!$AV$6*FE86+MDR!$AW$6*FE87+MDR!$AX$6*FE88+MDR!$AY$6*FE89+MDR!$AZ$6*FE90+MDR!$BA$6*FE91+MDR!$BB$6*FE92+MDR!$BC$6*FE93+MDR!$BD$6*FE94+MDR!$BE$6*FE95)/100","v":{"$error":"#VALUE!"}},null,{"$f":"(MDR!$AV$6*FG86+MDR!$AW$6*FG87+MDR!$AX$6*FG88+MDR!$AY$6*FG89+MDR!$AZ$6*FG90+MDR!$BA$6*FG91+MDR!$BB$6*FG92+MDR!$BC$6*FG93+MDR!$BD$6*FG94+MDR!$BE$6*FG95)/100","v":{"$error":"#VALUE!"}},null,{"$f":"(MDR!$AV$6*FI86+MDR!$AW$6*FI87+MDR!$AX$6*FI88+MDR!$AY$6*FI89+MDR!$AZ$6*FI90+MDR!$BA$6*FI91+MDR!$BB$6*FI92+MDR!$BC$6*FI93+MDR!$BD$6*FI94+MDR!$BE$6*FI95)/100","v":{"$error":"#VALUE!"}},null,{"$f":"(MDR!$AV$6*FK86+MDR!$AW$6*FK87+MDR!$AX$6*FK88+MDR!$AY$6*FK89+MDR!$AZ$6*FK90+MDR!$BA$6*FK91+MDR!$BB$6*FK92+MDR!$BC$6*FK93+MDR!$BD$6*FK94+MDR!$BE$6*FK95)/100","v":{"$error":"#VALUE!"}},null,null,null,null,null,{"$f":"(MDR!$AV$6*FQ86+MDR!$AW$6*FQ87+MDR!$AX$6*FQ88+MDR!$AY$6*FQ89+MDR!$AZ$6*FQ90+MDR!$BA$6*FQ91+MDR!$BB$6*FQ92+MDR!$BC$6*FQ93+MDR!$BD$6*FQ94+MDR!$BE$6*FQ95)/100","v":{"$error":"#VALUE!"}},null,{"$f":"(MDR!$AV$6*FS86+MDR!$AW$6*FS87+MDR!$AX$6*FS88+MDR!$AY$6*FS89+MDR!$AZ$6*FS90+MDR!$BA$6*FS91+MDR!$BB$6*FS92+MDR!$BC$6*FS93+MDR!$BD$6*FS94+MDR!$BE$6*FS95)/100","v":{"$error":"#VALUE!"}},null,{"$f":"(MDR!$AV$6*FU86+MDR!$AW$6*FU87+MDR!$AX$6*FU88+MDR!$AY$6*FU89+MDR!$AZ$6*FU90+MDR!$BA$6*FU91+MDR!$BB$6*FU92+MDR!$BC$6*FU93+MDR!$BD$6*FU94+MDR!$BE$6*FU95)/100","v":{"$error":"#VALUE!"}},null,{"$f":"(MDR!$AV$6*FW86+MDR!$AW$6*FW87+MDR!$AX$6*FW88+MDR!$AY$6*FW89+MDR!$AZ$6*FW90+MDR!$BA$6*FW91+MDR!$BB$6*FW92+MDR!$BC$6*FW93+MDR!$BD$6*FW94+MDR!$BE$6*FW95)/100","v":{"$error":"#VALUE!"}},null,null,null,null,null,{"$f":"(MDR!$AV$6*GC86+MDR!$AW$6*GC87+MDR!$AX$6*GC88+MDR!$AY$6*GC89+MDR!$AZ$6*GC90+MDR!$BA$6*GC91+MDR!$BB$6*GC92+MDR!$BC$6*GC93+MDR!$BD$6*GC94+MDR!$BE$6*GC95)/100","v":{"$error":"#VALUE!"}},null,{"$f":"(MDR!$AV$6*GE86+MDR!$AW$6*GE87+MDR!$AX$6*GE88+MDR!$AY$6*GE89+MDR!$AZ$6*GE90+MDR!$BA$6*GE91+MDR!$BB$6*GE92+MDR!$BC$6*GE93+MDR!$BD$6*GE94+MDR!$BE$6*GE95)/100","v":{"$error":"#VALUE!"}},null,{"$f":"(MDR!$AV$6*GG86+MDR!$AW$6*GG87+MDR!$AX$6*GG88+MDR!$AY$6*GG89+MDR!$AZ$6*GG90+MDR!$BA$6*GG91+MDR!$BB$6*GG92+MDR!$BC$6*GG93+MDR!$BD$6*GG94+MDR!$BE$6*GG95)/100","v":{"$error":"#VALUE!"}},null,{"$f":"(MDR!$AV$6*GI86+MDR!$AW$6*GI87+MDR!$AX$6*GI88+MDR!$AY$6*GI89+MDR!$AZ$6*GI90+MDR!$BA$6*GI91+MDR!$BB$6*GI92+MDR!$BC$6*GI93+MDR!$BD$6*GI94+MDR!$BE$6*GI95)/100","v":{"$error":"#VALUE!"}},null,null,null,null,null,{"$f":"(MDR!$AV$6*GO86+MDR!$AW$6*GO87+MDR!$AX$6*GO88+MDR!$AY$6*GO89+MDR!$AZ$6*GO90+MDR!$BA$6*GO91+MDR!$BB$6*GO92+MDR!$BC$6*GO93+MDR!$BD$6*GO94+MDR!$BE$6*GO95)/100","v":{"$error":"#VALUE!"}},null,{"$f":"(MDR!$AV$6*GQ86+MDR!$AW$6*GQ87+MDR!$AX$6*GQ88+MDR!$AY$6*GQ89+MDR!$AZ$6*GQ90+MDR!$BA$6*GQ91+MDR!$BB$6*GQ92+MDR!$BC$6*GQ93+MDR!$BD$6*GQ94+MDR!$BE$6*GQ95)/100","v":{"$error":"#VALUE!"}},null,{"$f":"(MDR!$AV$6*GS86+MDR!$AW$6*GS87+MDR!$AX$6*GS88+MDR!$AY$6*GS89+MDR!$AZ$6*GS90+MDR!$BA$6*GS91+MDR!$BB$6*GS92+MDR!$BC$6*GS93+MDR!$BD$6*GS94+MDR!$BE$6*GS95)/100","v":{"$error":"#VALUE!"}},null,{"$f":"(MDR!$AV$6*GU86+MDR!$AW$6*GU87+MDR!$AX$6*GU88+MDR!$AY$6*GU89+MDR!$AZ$6*GU90+MDR!$BA$6*GU91+MDR!$BB$6*GU92+MDR!$BC$6*GU93+MDR!$BD$6*GU94+MDR!$BE$6*GU95)/100","v":{"$error":"#VALUE!"}},null,null,null,null,null,{"$f":"(MDR!$AV$6*HA86+MDR!$AW$6*HA87+MDR!$AX$6*HA88+MDR!$AY$6*HA89+MDR!$AZ$6*HA90+MDR!$BA$6*HA91+MDR!$BB$6*HA92+MDR!$BC$6*HA93+MDR!$BD$6*HA94+MDR!$BE$6*HA95)/100","v":{"$error":"#VALUE!"}},null,{"$f":"(MDR!$AV$6*HC86+MDR!$AW$6*HC87+MDR!$AX$6*HC88+MDR!$AY$6*HC89+MDR!$AZ$6*HC90+MDR!$BA$6*HC91+MDR!$BB$6*HC92+MDR!$BC$6*HC93+MDR!$BD$6*HC94+MDR!$BE$6*HC95)/100","v":{"$error":"#VALUE!"}},null,{"$f":"(MDR!$AV$6*HE86+MDR!$AW$6*HE87+MDR!$AX$6*HE88+MDR!$AY$6*HE89+MDR!$AZ$6*HE90+MDR!$BA$6*HE91+MDR!$BB$6*HE92+MDR!$BC$6*HE93+MDR!$BD$6*HE94+MDR!$BE$6*HE95)/100","v":{"$error":"#VALUE!"}},null,{"$f":"(MDR!$AV$6*HG86+MDR!$AW$6*HG87+MDR!$AX$6*HG88+MDR!$AY$6*HG89+MDR!$AZ$6*HG90+MDR!$BA$6*HG91+MDR!$BB$6*HG92+MDR!$BC$6*HG93+MDR!$BD$6*HG94+MDR!$BE$6*HG95)/100","v":{"$error":"#VALUE!"}},null,null,null,null,null,{"$f":"(MDR!$AV$6*HM86+MDR!$AW$6*HM87+MDR!$AX$6*HM88+MDR!$AY$6*HM89+MDR!$AZ$6*HM90+MDR!$BA$6*HM91+MDR!$BB$6*HM92+MDR!$BC$6*HM93+MDR!$BD$6*HM94+MDR!$BE$6*HM95)/100","v":{"$error":"#VALUE!"}},null,{"$f":"(MDR!$AV$6*HO86+MDR!$AW$6*HO87+MDR!$AX$6*HO88+MDR!$AY$6*HO89+MDR!$AZ$6*HO90+MDR!$BA$6*HO91+MDR!$BB$6*HO92+MDR!$BC$6*HO93+MDR!$BD$6*HO94+MDR!$BE$6*HO95)/100","v":{"$error":"#VALUE!"}},null,{"$f":"(MDR!$AV$6*HQ86+MDR!$AW$6*HQ87+MDR!$AX$6*HQ88+MDR!$AY$6*HQ89+MDR!$AZ$6*HQ90+MDR!$BA$6*HQ91+MDR!$BB$6*HQ92+MDR!$BC$6*HQ93+MDR!$BD$6*HQ94+MDR!$BE$6*HQ95)/100","v":{"$error":"#VALUE!"}},null,{"$f":"(MDR!$AV$6*HS86+MDR!$AW$6*HS87+MDR!$AX$6*HS88+MDR!$AY$6*HS89+MDR!$AZ$6*HS90+MDR!$BA$6*HS91+MDR!$BB$6*HS92+MDR!$BC$6*HS93+MDR!$BD$6*HS94+MDR!$BE$6*HS95)/100","v":{"$error":"#VALUE!"}},null,null,null,null,null,{"$f":"(MDR!$AV$6*HY86+MDR!$AW$6*HY87+MDR!$AX$6*HY88+MDR!$AY$6*HY89+MDR!$AZ$6*HY90+MDR!$BA$6*HY91+MDR!$BB$6*HY92+MDR!$BC$6*HY93+MDR!$BD$6*HY94+MDR!$BE$6*HY95)/100","v":{"$error":"#VALUE!"}},null,{"$f":"(MDR!$AV$6*IA86+MDR!$AW$6*IA87+MDR!$AX$6*IA88+MDR!$AY$6*IA89+MDR!$AZ$6*IA90+MDR!$BA$6*IA91+MDR!$BB$6*IA92+MDR!$BC$6*IA93+MDR!$BD$6*IA94+MDR!$BE$6*IA95)/100","v":{"$error":"#VALUE!"}},null,{"$f":"(MDR!$AV$6*IC86+MDR!$AW$6*IC87+MDR!$AX$6*IC88+MDR!$AY$6*IC89+MDR!$AZ$6*IC90+MDR!$BA$6*IC91+MDR!$BB$6*IC92+MDR!$BC$6*IC93+MDR!$BD$6*IC94+MDR!$BE$6*IC95)/100","v":{"$error":"#VALUE!"}},null,{"$f":"(MDR!$AV$6*IE86+MDR!$AW$6*IE87+MDR!$AX$6*IE88+MDR!$AY$6*IE89+MDR!$AZ$6*IE90+MDR!$BA$6*IE91+MDR!$BB$6*IE92+MDR!$BC$6*IE93+MDR!$BD$6*IE94+MDR!$BE$6*IE95)/100","v":{"$error":"#VALUE!"}},null,null,null,null,null,{"$f":"(MDR!$AV$6*IK86+MDR!$AW$6*IK87+MDR!$AX$6*IK88+MDR!$AY$6*IK89+MDR!$AZ$6*IK90+MDR!$BA$6*IK91+MDR!$BB$6*IK92+MDR!$BC$6*IK93+MDR!$BD$6*IK94+MDR!$BE$6*IK95)/100","v":{"$error":"#VALUE!"}},null,{"$f":"(MDR!$AV$6*IM86+MDR!$AW$6*IM87+MDR!$AX$6*IM88+MDR!$AY$6*IM89+MDR!$AZ$6*IM90+MDR!$BA$6*IM91+MDR!$BB$6*IM92+MDR!$BC$6*IM93+MDR!$BD$6*IM94+MDR!$BE$6*IM95)/100","v":{"$error":"#VALUE!"}},null,{"$f":"(MDR!$AV$6*IO86+MDR!$AW$6*IO87+MDR!$AX$6*IO88+MDR!$AY$6*IO89+MDR!$AZ$6*IO90+MDR!$BA$6*IO91+MDR!$BB$6*IO92+MDR!$BC$6*IO93+MDR!$BD$6*IO94+MDR!$BE$6*IO95)/100","v":{"$error":"#VALUE!"}},null,{"$f":"(MDR!$AV$6*IQ86+MDR!$AW$6*IQ87+MDR!$AX$6*IQ88+MDR!$AY$6*IQ89+MDR!$AZ$6*IQ90+MDR!$BA$6*IQ91+MDR!$BB$6*IQ92+MDR!$BC$6*IQ93+MDR!$BD$6*IQ94+MDR!$BE$6*IQ95)/100","v":{"$error":"#VALUE!"}},null,null,0,"Agency AFT Substituted"]
[null,null,null,null,null,null,null,null,null,null,null,null,null,null,null,null,null,null,null,null,null,null,null,null,null,null,null,null,null,null,null,null,null,null,null,null,null,null,null,null,null,null,null,null,null,null,null,null,null,null,null,null,null,null,null,null,null,null,null,null,null,null,null,null,null,null,null,null,null,null,null,null,null,null,null,null,null,null,null,null,null,null,null,null,null,null,null,null,null,null,null,null,null,null,null,null,null,null,null,null,null,null,null,null,null,null,null,null,null,null,null,null,null,null,null,null,null,null,null,null,null,null,null,null,null,null,null,null,null,null,null,null,null,null,null,null,null,null,null,null,null,null,null,null,null,null,null,null,null,null,null,null,null,null,null,null,null,null,null,null,null,null,null,null,null,null,null,null,null,null,null,null,null,null,null,null,null,null,null,null,null,null,null,null,null,null,null,null,null,null,null,null,null,null,null,null,null,null,null,null,null,null,null,null,null,null,null,null,null,null,null,null,null,null,null,null,null,null,null,null,null,null,null,null,null,null,null,null,null,null,null,null,null,null,null,null,null,null,null,null,null,null,null,null,null,null,null,null,null,null,null,null,null,0,"Agency AFT Substituted"]
[null,null,null,null,null,null,null,null,null,null,null,null,null,null,null,null,null,null,null,null,null,null,null,null,null,null,null,null,null,null,null,null,null,null,null,null,null,null,null,null,null,null,null,null,null,null,null,null,null,null,null,null,null,null,null,null,null,null,null,null,null,null,null,null,null,null,null,null,null,null,null,null,null,null,null,null,null,null,null,null,null,null,null,null,null,null,null,null,null,null,null,null,null,null,null,null,null,null,null,null,null,null,null,null,null,null,null,null,null,null,null,null,null,null,null,null,null,null,null,null,null,null,null,null,null,null,null,null,null,null,null,null,null,null,null,null,null,null,null,null,null,null,null,null,null,null,null,null,null,null,null,null,null,null,null,null,null,null,null,null,null,null,null,null,null,null,null,null,null,null,null,null,null,null,null,null,null,null,null,null,null,null,null,null,null,null,null,null,null,null,null,null,null,null,null,null,null,null,null,null,null,null,null,null,null,null,null,null,null,null,null,null,null,null,null,null,null,null,null,null,null,null,null,null,null,null,null,null,null,null,null,null,null,null,null,null,null,null,null,null,null,null,null,null,null,null,null,null,null,null,null,null,null,0,"Agency AFT Substituted"]
[null,null,null,null,null,null,null,null,null,null,null,null,null,null,null,null,null,null,null,null,null,null,null,null,null,null,null,null,null,null,null,null,null,null,null,null,null,null,null,null,null,null,null,null,null,null,null,null,null,null,null,null,null,null,null,null,null,null,null,null,null,null,null,null,null,null,null,null,null,null,null,null,null,null,null,null,null,null,null,null,null,null,null,null,null,null,null,null,null,null,null,null,null,null,null,null,null,null,null,null,null,null,null,null,null,null,null,null,null,null,null,null,null,null,null,null,null,null,null,null,null,null,null,null,null,null,null,null,null,null,null,null,null,null,null,null,null,null,null,null,null,null,null,null,null,null,null,null,null,null,null,null,null,null,null,null,null,null,null,null,null,null,null,null,null,null,null,null,null,null,null,null,null,null,null,null,null,null,null,null,null,null,null,null,null,null,null,null,null,null,null,null,null,null,null,null,null,null,null,null,null,null,null,null,null,null,null,null,null,null,null,null,null,null,null,null,null,null,null,null,null,null,null,null,null,null,null,null,null,null,null,null,null,null,null,null,null,null,null,null,null,null,null,null,null,null,null,null,null,null,null,null,null,0,"Agency AFT Substituted"]
["agency AFT",null,null,null,{"$f":"IF(E126=\"\",\"\",mndot_rounding_1((E126*4870)/((100-E42)*E131)))","v":""},null,{"$f":"IF(G126=\"\",\"\",mndot_rounding_1((G126*4870)/((100-G42)*G131)))","v":""},null,{"$f":"IF(I126=\"\",\"\",mndot_rounding_1((I126*4870)/((100-I42)*I131)))","v":""},null,{"$f":"IF(K126=\"\",\"\",mndot_rounding_1((K126*4870)/((100-K42)*K131)))","v":""},null,null,null,null,null,{"$f":"IF(Q126=\"\",\"\",mndot_rounding_1((Q126*4870)/((100-Q42)*Q131)))","v":""},null,{"$f":"IF(S126=\"\",\"\",mndot_rounding_1((S126*4870)/((100-S42)*S131)))","v":""},null,{"$f":"IF(U126=\"\",\"\",mndot_rounding_1((U126*4870)/((100-U42)*U131)))","v":""},null,{"$f":"IF(W126=\"\",\"\",mndot_rounding_1((W126*4870)/((100-W42)*W131)))","v":""},null,null,null,null,null,{"$f":"IF(AC126=\"\",\"\",mndot_rounding_1((AC126*4870)/((100-AC42)*AC131)))","v":""},null,{"$f":"IF(AE126=\"\",\"\",mndot_rounding_1((AE126*4870)/((100-AE42)*AE131)))","v":""},null,{"$f":"IF(AG126=\"\",\"\",mndot_rounding_1((AG126*4870)/((100-AG42)*AG131)))","v":""},null,{"$f":"IF(AI126=\"\",\"\",mndot_rounding_1((AI126*4870)/((100-AI42)*AI131)))","v":""},null,null,null,null,null,{"$f":"IF(AO126=\"\",\"\",mndot_rounding_1((AO126*4870)/((100-AO42)*AO131)))","v":""},null,{"$f":"IF(AQ126=\"\",\"\",mndot_rounding_1((AQ126*4870)/((100-AQ42)*AQ131)))","v":""},null,{"$f":"IF(AS126=\"\",\"\",mndot_rounding_1((AS126*4870)/((100-AS42)*AS131)))","v":""},null,{"$f":"IF(AU126=\"\",\"\",mndot_rounding_1((AU126*4870)/((100-AU42)*AU131)))","v":""},null,null,null,null,null,{"$f":"IF(BA126=\"\",\"\",mndot_rounding_1((BA126*4870)/((100-BA42)*BA131)))","v":""},null,{"$f":"IF(BC126=\"\",\"\",mndot_rounding_1((BC126*4870)/((100-BC42)*BC131)))","v":""},null,{"$f":"IF(BE126=\"\",\"\",mndot_rounding_1((BE126*4870)/((100-BE42)*BE131)))","v":""},null,{"$f":"IF(BG126=\"\",\"\",mndot_rounding_1((BG126*4870)/((100-BG42)*BG131)))","v":""},null,null,null,null,null,{"$f":"IF(BM126=\"\",\"\",mndot_rounding_1((BM126*4870)/((100-BM42)*BM131)))","v":""},null,{"$f":"IF(BO126=\"\",\"\",mndot_rounding_1((BO126*4870)/((100-BO42)*BO131)))","v":""},null,{"$f":"IF(BQ126=\"\",\"\",mndot_rounding_1((BQ126*4870)/((100-BQ42)*BQ131)))","v":""},null,{"$f":"IF(BS126=\"\",\"\",mndot_rounding_1((BS126*4870)/((100-BS42)*BS131)))","v":""},null,null,null,null,null,{"$f":"IF(BY126=\"\",\"\",mndot_rounding_1((BY126*4870)/((100-BY42)*BY131)))","v":""},null,{"$f":"IF(CA126=\"\",\"\",mndot_rounding_1((CA126*4870)/((100-CA42)*CA131)))","v":""},null,{"$f":"IF(CC126=\"\",\"\",mndot_rounding_1((CC126*4870)/((100-CC42)*CC131)))","v":""},null,{"$f":"IF(CE126=\"\",\"\",mndot_rounding_1((CE126*4870)/((100-CE42)*CE131)))","v":""},null,null,null,null,null,{"$f":"IF(CK126=\"\",\"\",mndot_rounding_1((CK126*4870)/((100-CK42)*CK131)))","v":""},null,{"$f":"IF(CM126=\"\",\"\",mndot_rounding_1((CM126*4870)/((100-CM42)*CM131)))","v":""},null,{"$f":"IF(CO126=\"\",\"\",mndot_rounding_1((CO126*4870)/((100-CO42)*CO131)))","v":""},null,{"$f":"IF(CQ126=\"\",\"\",mndot_rounding_1((CQ126*4870)/((100-CQ42)*CQ131)))","v":""},null,null,null,null,null,{"$f":"IF(CW126=\"\",\"\",mndot_rounding_1((CW126*4870)/((100-CW42)*CW131)))","v":""},null,{"$f":"IF(CY126=\"\",\"\",mndot_rounding_1((CY126*4870)/((100-CY42)*CY131)))","v":""},null,{"$f":"IF(DA126=\"\",\"\",mndot_rounding_1((DA126*4870)/((100-DA42)*DA131)))","v":""},null,{"$f":"IF(DC126=\"\",\"\",mndot_rounding_1((DC126*4870)/((100-DC42)*DC131)))","v":""},null,null,null,null,null,{"$f":"IF(DI126=\"\",\"\",mndot_rounding_1((DI126*4870)/((100-DI42)*DI131)))","v":""},null,{"$f":"IF(DK126=\"\",\"\",mndot_rounding_1((DK126*4870)/((100-DK42)*DK131)))","v":""},null,{"$f":"IF(DM126=\"\",\"\",mndot_rounding_1((DM126*4870)/((100-DM42)*DM131)))","v":""},null,{"$f":"IF(DO126=\"\",\"\",mndot_rounding_1((DO126*4870)/((100-DO42)*DO131)))","v":""},null,null,null,null,null,{"$f":"IF(DU126=\"\",\"\",mndot_rounding_1((DU126*4870)/((100-DU42)*DU131)))","v":""},null,{"$f":"IF(DW126=\"\",\"\",mndot_rounding_1((DW126*4870)/((100-DW42)*DW131)))","v":""},null,{"$f":"IF(DY126=\"\",\"\",mndot_rounding_1((DY126*4870)/((100-DY42)*DY131)))","v":""},null,{"$f":"IF(EA126=\"\",\"\",mndot_rounding_1((EA126*4870)/((100-EA42)*EA131)))","v":""},null,null,null,null,null,{"$f":"IF(EG126=\"\",\"\",mndot_rounding_1((EG126*4870)/((100-EG42)*EG131)))","v":""},null,{"$f":"IF(EI126=\"\",\"\",mndot_rounding_1((EI126*4870)/((100-EI42)*EI131)))","v":""},null,{"$f":"IF(EK126=\"\",\"\",mndot_rounding_1((EK126*4870)/((100-EK42)*EK131)))","v":""},null,{"$f":"IF(EM126=\"\",\"\",mndot_rounding_1((EM126*4870)/((100-EM42)*EM131)))","v":""},null,null,null,null,null,{"$f":"IF(ES126=\"\",\"\",mndot_rounding_1((ES126*4870)/((100-ES42)*ES131)))","v":""},null,{"$f":"IF(EU126=\"\",\"\",mndot_rounding_1((EU126*4870)/((100-EU42)*EU131)))","v":""},null,{"$f":"IF(EW126=\"\",\"\",mndot_rounding_1((EW126*4870)/((100-EW42)*EW131)))","v":""},null,{"$f":"IF(EY126=\"\",\"\",mndot_rounding_1((EY126*4870)/((100-EY42)*EY131)))","v":""},null,null,null,null,null,{"$f":"IF(FE126=\"\",\"\",mndot_rounding_1((FE126*4870)/((100-FE42)*FE131)))","v":""},null,{"$f":"IF(FG126=\"\",\"\",mndot_rounding_1((FG126*4870)/((100-FG42)*FG131)))","v":""},null,{"$f":"IF(FI126=\"\",\"\",mndot_rounding_1((FI126*4870)/((100-FI42)*FI131)))","v":""},null,{"$f":"IF(FK126=\"\",\"\",mndot_rounding_1((FK126*4870)/((100-FK42)*FK131)))","v":""},null,null,null,null,null,{"$f":"IF(FQ126=\"\",\"\",mndot_rounding_1((FQ126*4870)/((100-FQ42)*FQ131)))","v":""},null,{"$f":"IF(FS126=\"\",\"\",mndot_rounding_1((FS126*4870)/((100-FS42)*FS131)))","v":""},null,{"$f":"IF(FU126=\"\",\"\",mndot_rounding_1((FU126*4870)/((100-FU42)*FU131)))","v":""},null,{"$f":"IF(FW126=\"\",\"\",mndot_rounding_1((FW126*4870)/((100-FW42)*FW131)))","v":""},null,null,null,null,null,{"$f":"IF(GC126=\"\",\"\",mndot_rounding_1((GC126*4870)/((100-GC42)*GC131)))","v":""},null,{"$f":"IF(GE126=\"\",\"\",mndot_rounding_1((GE126*4870)/((100-GE42)*GE131)))","v":""},null,{"$f":"IF(GG126=\"\",\"\",mndot_rounding_1((GG126*4870)/((100-GG42)*GG131)))","v":""},null,{"$f":"IF(GI126=\"\",\"\",mndot_rounding_1((GI126*4870)/((100-GI42)*GI131)))","v":""},null,null,null,null,null,{"$f":"IF(GO126=\"\",\"\",mndot_rounding_1((GO126*4870)/((100-GO42)*GO131)))","v":""},null,{"$f":"IF(GQ126=\"\",\"\",mndot_rounding_1((GQ126*4870)/((100-GQ42)*GQ131)))","v":""},null,{"$f":"IF(GS126=\"\",\"\",mndot_rounding_1((GS126*4870)/((100-GS42)*GS131)))","v":""},null,{"$f":"IF(GU126=\"\",\"\",mndot_rounding_1((GU126*4870)/((100-GU42)*GU131)))","v":""},null,null,null,null,null,{"$f":"IF(HA126=\"\",\"\",mndot_rounding_1((HA126*4870)/((100-HA42)*HA131)))","v":""},null,{"$f":"IF(HC126=\"\",\"\",mndot_rounding_1((HC126*4870)/((100-HC42)*HC131)))","v":""},null,{"$f":"IF(HE126=\"\",\"\",mndot_rounding_1((HE126*4870)/((100-HE42)*HE131)))","v":""},null,{"$f":"IF(HG126=\"\",\"\",mndot_rounding_1((HG126*4870)/((100-HG42)*HG131)))","v":""},null,null,null,null,null,{"$f":"IF(HM126=\"\",\"\",mndot_rounding_1((HM126*4870)/((100-HM42)*HM131)))","v":""},null,{"$f":"IF(HO126=\"\",\"\",mndot_rounding_1((HO126*4870)/((100-HO42)*HO131)))","v":""},null,{"$f":"IF(HQ126=\"\",\"\",mndot_rounding_1((HQ126*4870)/((100-HQ42)*HQ131)))","v":""},null,{"$f":"IF(HS126=\"\",\"\",mndot_rounding_1((HS126*4870)/((100-HS42)*HS131)))","v":""},null,null,null,null,null,{"$f":"IF(HY126=\"\",\"\",mndot_rounding_1((HY126*4870)/((100-HY42)*HY131)))","v":""},null,{"$f":"IF(IA126=\"\",\"\",mndot_rounding_1((IA126*4870)/((100-IA42)*IA131)))","v":""},null,{"$f":"IF(IC126=\"\",\"\",mndot_rounding_1((IC126*4870)/((100-IC42)*IC131)))","v":""},null,{"$f":"IF(IE126=\"\",\"\",mndot_rounding_1((IE126*4870)/((100-IE42)*IE131)))","v":""},null,null,null,null,null,{"$f":"IF(IK126=\"\",\"\",mndot_rounding_1((IK126*4870)/((100-IK42)*IK131)))","v":""},null,{"$f":"IF(IM126=\"\",\"\",mndot_rounding_1((IM126*4870)/((100-IM42)*IM131)))","v":""},null,{"$f":"IF(IO126=\"\",\"\",mndot_rounding_1((IO126*4870)/((100-IO42)*IO131)))","v":""},null,{"$f":"IF(IQ126=\"\",\"\",mndot_rounding_1((IQ126*4870)/((100-IQ42)*IQ131)))","v":""}]
["agency Gse",null,null,null,{"$f":"IF(E45=\"\",\"\",mndot_rounding_3((100-E42)/((100/E45)-(E42/B$7))))","v":""},null,{"$f":"IF(G45=\"\",\"\",mndot_rounding_3((100-G42)/((100/G45)-(G42/B$7))))","v":""},null,{"$f":"IF(I45=\"\",\"\",mndot_rounding_3((100-I42)/((100/I45)-(I42/B$7))))","v":""},null,{"$f":"IF(K45=\"\",\"\",mndot_rounding_3((100-K42)/((100/K45)-(K42/B$7))))","v":""},null,null,null,null,null,{"$f":"IF(Q45=\"\",\"\",mndot_rounding_3((100-Q42)/((100/Q45)-(Q42/N$7))))","v":""},null,{"$f":"IF(S45=\"\",\"\",mndot_rounding_3((100-S42)/((100/S45)-(S42/N$7))))","v":""},null,{"$f":"IF(U45=\"\",\"\",mndot_rounding_3((100-U42)/((100/U45)-(U42/N$7))))","v":""},null,{"$f":"IF(W45=\"\",\"\",mndot_rounding_3((100-W42)/((100/W45)-(W42/N$7))))","v":""},null,null,null,null,null,{"$f":"IF(AC45=\"\",\"\",mndot_rounding_3((100-AC42)/((100/AC45)-(AC42/Z$7))))","v":""},null,{"$f":"IF(AE45=\"\",\"\",mndot_rounding_3((100-AE42)/((100/AE45)-(AE42/Z$7))))","v":""},null,{"$f":"IF(AG45=\"\",\"\",mndot_rounding_3((100-AG42)/((100/AG45)-(AG42/Z$7))))","v":""},null,{"$f":"IF(AI45=\"\",\"\",mndot_rounding_3((100-AI42)/((100/AI45)-(AI42/Z$7))))","v":""},null,null,null,null,null,{"$f":"IF(AO45=\"\",\"\",mndot_rounding_3((100-AO42)/((100/AO45)-(AO42/AL$7))))","v":""},null,{"$f":"IF(AQ45=\"\",\"\",mndot_rounding_3((100-AQ42)/((100/AQ45)-(AQ42/AL$7))))","v":""},null,{"$f":"IF(AS45=\"\",\"\",mndot_rounding_3((100-AS42)/((100/AS45)-(AS42/AL$7))))","v":""},null,{"$f":"IF(AU45=\"\",\"\",mndot_rounding_3((100-AU42)/((100/AU45)-(AU42/AL$7))))","v":""},null,null,null,null,null,{"$f":"IF(BA45=\"\",\"\",mndot_rounding_3((100-BA42)/((100/BA45)-(BA42/AX$7))))","v":""},null,{"$f":"IF(BC45=\"\",\"\",mndot_rounding_3((100-BC42)/((100/BC45)-(BC42/AX$7))))","v":""},null,{"$f":"IF(BE45=\"\",\"\",mndot_rounding_3((100-BE42)/((100/BE45)-(BE42/AX$7))))","v":""},null,{"$f":"IF(BG45=\"\",\"\",mndot_rounding_3((100-BG42)/((100/BG45)-(BG42/AX$7))))","v":""},null,null,null,null,null,{"$f":"IF(BM45=\"\",\"\",mndot_rounding_3((100-BM42)/((100/BM45)-(BM42/BJ$7))))","v":""},null,{"$f":"IF(BO45=\"\",\"\",mndot_rounding_3((100-BO42)/((100/BO45)-(BO42/BJ$7))))","v":""},null,{"$f":"IF(BQ45=\"\",\"\",mndot_rounding_3((100-BQ42)/((100/BQ45)-(BQ42/BJ$7))))","v":""},null,{"$f":"IF(BS45=\"\",\"\",mndot_rounding_3((100-BS42)/((100/BS45)-(BS42/BJ$7))))","v":""},null,null,null,null,null,{"$f":"IF(BY45=\"\",\"\",mndot_rounding_3((100-BY42)/((100/BY45)-(BY42/BV$7))))","v":""},null,{"$f":"IF(CA45=\"\",\"\",mndot_rounding_3((100-CA42)/((100/CA45)-(CA42/BV$7))))","v":""},null,{"$f":"IF(CC45=\"\",\"\",mndot_rounding_3((100-CC42)/((100/CC45)-(CC42/BV$7))))","v":""},null,{"$f":"IF(CE45=\"\",\"\",mndot_rounding_3((100-CE42)/((100/CE45)-(CE42/BV$7))))","v":""},null,null,null,null,null,{"$f":"IF(CK45=\"\",\"\",mndot_rounding_3((100-CK42)/((100/CK45)-(CK42/CH$7))))","v":""},null,{"$f":"IF(CM45=\"\",\"\",mndot_rounding_3((100-CM42)/((100/CM45)-(CM42/CH$7))))","v":""},null,{"$f":"IF(CO45=\"\",\"\",mndot_rounding_3((100-CO42)/((100/CO45)-(CO42/CH$7))))","v":""},null,{"$f":"IF(CQ45=\"\",\"\",mndot_rounding_3((100-CQ42)/((100/CQ45)-(CQ42/CH$7))))","v":""},null,null,null,null,null,{"$f":"IF(CW45=\"\",\"\",mndot_rounding_3((100-CW42)/((100/CW45)-(CW42/CT$7))))","v":""},null,{"$f":"IF(CY45=\"\",\"\",mndot_rounding_3((100-CY42)/((100/CY45)-(CY42/CT$7))))","v":""},null,{"$f":"IF(DA45=\"\",\"\",mndot_rounding_3((100-DA42)/((100/DA45)-(DA42/CT$7))))","v":""},null,{"$f":"IF(DC45=\"\",\"\",mndot_rounding_3((100-DC42)/((100/DC45)-(DC42/CT$7))))","v":""},null,null,null,null,null,{"$f":"IF(DI45=\"\",\"\",mndot_rounding_3((100-DI42)/((100/DI45)-(DI42/DF$7))))","v":""},null,{"$f":"IF(DK45=\"\",\"\",mndot_rounding_3((100-DK42)/((100/DK45)-(DK42/DF$7))))","v":""},null,{"$f":"IF(DM45=\"\",\"\",mndot_rounding_3((100-DM42)/((100/DM45)-(DM42/DF$7))))","v":""},null,{"$f":"IF(DO45=\"\",\"\",mndot_rounding_3((100-DO42)/((100/DO45)-(DO42/DF$7))))","v":""},null,null,null,null,null,{"$f":"IF(DU45=\"\",\"\",mndot_rounding_3((100-DU42)/((100/DU45)-(DU42/DR$7))))","v":""},null,{"$f":"IF(DW45=\"\",\"\",mndot_rounding_3((100-DW42)/((100/DW45)-(DW42/DR$7))))","v":""},null,{"$f":"IF(DY45=\"\",\"\",mndot_rounding_3((100-DY42)/((100/DY45)-(DY42/DR$7))))","v":""},null,{"$f":"IF(EA45=\"\",\"\",mndot_rounding_3((100-EA42)/((100/EA45)-(EA42/DR$7))))","v":""},null,null,null,null,null,{"$f":"IF(EG45=\"\",\"\",mndot_rounding_3((100-EG42)/((100/EG45)-(EG42/ED$7))))","v":""},null,{"$f":"IF(EI45=\"\",\"\",mndot_rounding_3((100-EI42)/((100/EI45)-(EI42/ED$7))))","v":""},null,{"$f":"IF(EK45=\"\",\"\",mndot_rounding_3((100-EK42)/((100/EK45)-(EK42/ED$7))))","v":""},null,{"$f":"IF(EM45=\"\",\"\",mndot_rounding_3((100-EM42)/((100/EM45)-(EM42/ED$7))))","v":""},null,null,null,null,null,{"$f":"IF(ES45=\"\",\"\",mndot_rounding_3((100-ES42)/((100/ES45)-(ES42/EP$7))))","v":""},null,{"$f":"IF(EU45=\"\",\"\",mndot_rounding_3((100-EU42)/((100/EU45)-(EU42/EP$7))))","v":""},null,{"$f":"IF(EW45=\"\",\"\",mndot_rounding_3((100-EW42)/((100/EW45)-(EW42/EP$7))))","v":""},null,{"$f":"IF(EY45=\"\",\"\",mndot_rounding_3((100-EY42)/((100/EY45)-(EY42/EP$7))))","v":""},null,null,null,null,null,{"$f":"IF(FE45=\"\",\"\",mndot_rounding_3((100-FE42)/((100/FE45)-(FE42/FB$7))))","v":""},null,{"$f":"IF(FG45=\"\",\"\",mndot_rounding_3((100-FG42)/((100/FG45)-(FG42/FB$7))))","v":""},null,{"$f":"IF(FI45=\"\",\"\",mndot_rounding_3((100-FI42)/((100/FI45)-(FI42/FB$7))))","v":""},null,{"$f":"IF(FK45=\"\",\"\",mndot_rounding_3((100-FK42)/((100/FK45)-(FK42/FB$7))))","v":""},null,null,null,null,null,{"$f":"IF(FQ45=\"\",\"\",mndot_rounding_3((100-FQ42)/((100/FQ45)-(FQ42/FN$7))))","v":""},null,{"$f":"IF(FS45=\"\",\"\",mndot_rounding_3((100-FS42)/((100/FS45)-(FS42/FN$7))))","v":""},null,{"$f":"IF(FU45=\"\",\"\",mndot_rounding_3((100-FU42)/((100/FU45)-(FU42/FN$7))))","v":""},null,{"$f":"IF(FW45=\"\",\"\",mndot_rounding_3((100-FW42)/((100/FW45)-(FW42/FN$7))))","v":""},null,null,null,null,null,{"$f":"IF(GC45=\"\",\"\",mndot_rounding_3((100-GC42)/((100/GC45)-(GC42/FZ$7))))","v":""},null,{"$f":"IF(GE45=\"\",\"\",mndot_rounding_3((100-GE42)/((100/GE45)-(GE42/FZ$7))))","v":""},null,{"$f":"IF(GG45=\"\",\"\",mndot_rounding_3((100-GG42)/((100/GG45)-(GG42/FZ$7))))","v":""},null,{"$f":"IF(GI45=\"\",\"\",mndot_rounding_3((100-GI42)/((100/GI45)-(GI42/FZ$7))))","v":""},null,null,null,null,null,{"$f":"IF(GO45=\"\",\"\",mndot_rounding_3((100-GO42)/((100/GO45)-(GO42/GL$7))))","v":""},null,{"$f":"IF(GQ45=\"\",\"\",mndot_rounding_3((100-GQ42)/((100/GQ45)-(GQ42/GL$7))))","v":""},null,{"$f":"IF(GS45=\"\",\"\",mndot_rounding_3((100-GS42)/((100/GS45)-(GS42/GL$7))))","v":""},null,{"$f":"IF(GU45=\"\",\"\",mndot_rounding_3((100-GU42)/((100/GU45)-(GU42/GL$7))))","v":""},null,null,null,null,null,{"$f":"IF(HA45=\"\",\"\",mndot_rounding_3((100-HA42)/((100/HA45)-(HA42/GX$7))))","v":""},null,{"$f":"IF(HC45=\"\",\"\",mndot_rounding_3((100-HC42)/((100/HC45)-(HC42/GX$7))))","v":""},null,{"$f":"IF(HE45=\"\",\"\",mndot_rounding_3((100-HE42)/((100/HE45)-(HE42/GX$7))))","v":""},null,{"$f":"IF(HG45=\"\",\"\",mndot_rounding_3((100-HG42)/((100/HG45)-(HG42/GX$7))))","v":""},null,null,null,null,null,{"$f":"IF(HM45=\"\",\"\",mndot_rounding_3((100-HM42)/((100/HM45)-(HM42/HJ$7))))","v":""},null,{"$f":"IF(HO45=\"\",\"\",mndot_rounding_3((100-HO42)/((100/HO45)-(HO42/HJ$7))))","v":""},null,{"$f":"IF(HQ45=\"\",\"\",mndot_rounding_3((100-HQ42)/((100/HQ45)-(HQ42/HJ$7))))","v":""},null,{"$f":"IF(HS45=\"\",\"\",mndot_rounding_3((100-HS42)/((100/HS45)-(HS42/HJ$7))))","v":""},null,null,null,null,null,{"$f":"IF(HY45=\"\",\"\",mndot_rounding_3((100-HY42)/((100/HY45)-(HY42/HV$7))))","v":""},null,{"$f":"IF(IA45=\"\",\"\",mndot_rounding_3((100-IA42)/((100/IA45)-(IA42/HV$7))))","v":""},null,{"$f":"IF(IC45=\"\",\"\",mndot_rounding_3((100-IC42)/((100/IC45)-(IC42/HV$7))))","v":""},null,{"$f":"IF(IE45=\"\",\"\",mndot_rounding_3((100-IE42)/((100/IE45)-(IE42/HV$7))))","v":""},null,null,null,null,null,{"$f":"IF(IK45=\"\",\"\",mndot_rounding_3((100-IK42)/((100/IK45)-(IK42/IH$7))))","v":""},null,{"$f":"IF(IM45=\"\",\"\",mndot_rounding_3((100-IM42)/((100/IM45)-(IM42/IH$7))))","v":""},null,{"$f":"IF(IO45=\"\",\"\",mndot_rounding_3((100-IO42)/((100/IO45)-(IO42/IH$7))))","v":""},null,{"$f":"IF(IQ45=\"\",\"\",mndot_rounding_3((100-IQ42)/((100/IQ45)-(IQ42/IH$7))))","v":""}]
["agency Pbe ",null,null,null,{"$f":"IF(E125=\"\",\"\",mndot_rounding_1(E42-((E125-D11)*$B$7)*(100-E42)/(E125*D11)))","v":""},null,{"$f":"IF(G125=\"\",\"\",mndot_rounding_1(G42-((G125-F11)*$B$7)*(100-G42)/(G125*F11)))","v":""},null,{"$f":"IF(I125=\"\",\"\",mndot_rounding_1(I42-((I125-H11)*$B$7)*(100-I42)/(I125*H11)))","v":""},null,{"$f":"IF(K125=\"\",\"\",mndot_rounding_1(K42-((K125-J11)*$B$7)*(100-K42)/(K125*J11)))","v":""},null,null,null,null,null,{"$f":"IF(Q125=\"\",\"\",mndot_rounding_1(Q42-((Q125-P11)*$N$7)*(100-Q42)/(Q125*P11)))","v":""},null,{"$f":"IF(S125=\"\",\"\",mndot_rounding_1(S42-((S125-R11)*$N$7)*(100-S42)/(S125*R11)))","v":""},null,{"$f":"IF(U125=\"\",\"\",mndot_rounding_1(U42-((U125-T11)*$N$7)*(100-U42)/(U125*T11)))","v":""},null,{"$f":"IF(W125=\"\",\"\",mndot_rounding_1(W42-((W125-V11)*$N$7)*(100-W42)/(W125*V11)))","v":""},null,null,null,null,null,{"$f":"IF(AC125=\"\",\"\",mndot_rounding_1(AC42-((AC125-AB11)*$Z$7)*(100-AC42)/(AC125*AB11)))","v":""},null,{"$f":"IF(AE125=\"\",\"\",mndot_rounding_1(AE42-((AE125-AD11)*$Z$7)*(100-AE42)/(AE125*AD11)))","v":""},null,{"$f":"IF(AG125=\"\",\"\",mndot_rounding_1(AG42-((AG125-AF11)*$Z$7)*(100-AG42)/(AG125*AF11)))","v":""},null,{"$f":"IF(AI125=\"\",\"\",mndot_rounding_1(AI42-((AI125-AH11)*$Z$7)*(100-AI42)/(AI125*AH11)))","v":""},null,null,null,null,null,{"$f":"IF(AO125=\"\",\"\",mndot_rounding_1(AO42-((AO125-AN11)*$AL$7)*(100-AO42)/(AO125*AN11)))","v":""},null,{"$f":"IF(AQ125=\"\",\"\",mndot_rounding_1(AQ42-((AQ125-AP11)*$AL$7)*(100-AQ42)/(AQ125*AP11)))","v":""},null,{"$f":"IF(AS125=\"\",\"\",mndot_rounding_1(AS42-((AS125-AR11)*$AL$7)*(100-AS42)/(AS125*AR11)))","v":""},null,{"$f":"IF(AU125=\"\",\"\",mndot_rounding_1(AU42-((AU125-AT11)*$AL$7)*(100-AU42)/(AU125*AT11)))","v":""},null,null,null,null,null,{"$f":"IF(BA125=\"\",\"\",mndot_rounding_1(BA42-((BA125-AZ11)*$AX$7)*(100-BA42)/(BA125*AZ11)))","v":""},null,{"$f":"IF(BC125=\"\",\"\",mndot_rounding_1(BC42-((BC125-BB11)*$AX$7)*(100-BC42)/(BC125*BB11)))","v":""},null,{"$f":"IF(BE125=\"\",\"\",mndot_rounding_1(BE42-((BE125-BD11)*$AX$7)*(100-BE42)/(BE125*BD11)))","v":""},null,{"$f":"IF(BG125=\"\",\"\",mndot_rounding_1(BG42-((BG125-BF11)*$AX$7)*(100-BG42)/(BG125*BF11)))","v":""},null,null,null,null,null,{"$f":"IF(BM125=\"\",\"\",mndot_rounding_1(BM42-((BM125-BL11)*$BJ$7)*(100-BM42)/(BM125*BL11)))","v":""},null,{"$f":"IF(BO125=\"\",\"\",mndot_rounding_1(BO42-((BO125-BN11)*$BJ$7)*(100-BO42)/(BO125*BN11)))","v":""},null,{"$f":"IF(BQ125=\"\",\"\",mndot_rounding_1(BQ42-((BQ125-BP11)*$BJ$7)*(100-BQ42)/(BQ125*BP11)))","v":""},null,{"$f":"IF(BS125=\"\",\"\",mndot_rounding_1(BS42-((BS125-BR11)*$BJ$7)*(100-BS42)/(BS125*BR11)))","v":""},null,null,null,null,null,{"$f":"IF(BY125=\"\",\"\",mndot_rounding_1(BY42-((BY125-BX11)*$BV$7)*(100-BY42)/(BY125*BX11)))","v":""},null,{"$f":"IF(CA125=\"\",\"\",mndot_rounding_1(CA42-((CA125-BZ11)*$BV$7)*(100-CA42)/(CA125*BZ11)))","v":""},null,{"$f":"IF(CC125=\"\",\"\",mndot_rounding_1(CC42-((CC125-CB11)*$BV$7)*(100-CC42)/(CC125*CB11)))","v":""},null,{"$f":"IF(CE125=\"\",\"\",mndot_rounding_1(CE42-((CE125-CD11)*$BV$7)*(100-CE42)/(CE125*CD11)))","v":""},null,null,null,null,null,{"$f":"IF(CK125=\"\",\"\",mndot_rounding_1(CK42-((CK125-CJ11)*$CH$7)*(100-CK42)/(CK125*CJ11)))","v":""},null,{"$f":"IF(CM125=\"\",\"\",mndot_rounding_1(CM42-((CM125-CL11)*$CH$7)*(100-CM42)/(CM125*CL11)))","v":""},null,{"$f":"IF(CO125=\"\",\"\",mndot_rounding_1(CO42-((CO125-CN11)*$CH$7)*(100-CO42)/(CO125*CN11)))","v":""},null,{"$f":"IF(CQ125=\"\",\"\",mndot_rounding_1(CQ42-((CQ125-CP11)*$CH$7)*(100-CQ42)/(CQ125*CP11)))","v":""},null,null,null,null,null,{"$f":"IF(CW125=\"\",\"\",mndot_rounding_1(CW42-((CW125-CV11)*$CT$7)*(100-CW42)/(CW125*CV11)))","v":""},null,{"$f":"IF(CY125=\"\",\"\",mndot_rounding_1(CY42-((CY125-CX11)*$CT$7)*(100-CY42)/(CY125*CX11)))","v":""},null,{"$f":"IF(DA125=\"\",\"\",mndot_rounding_1(DA42-((DA125-CZ11)*$CT$7)*(100-DA42)/(DA125*CZ11)))","v":""},null,{"$f":"IF(DC125=\"\",\"\",mndot_rounding_1(DC42-((DC125-DB11)*$CT$7)*(100-DC42)/(DC125*DB11)))","v":""},null,null,null,null,null,{"$f":"IF(DI125=\"\",\"\",mndot_rounding_1(DI42-((DI125-DH11)*$DF$7)*(100-DI42)/(DI125*DH11)))","v":""},null,{"$f":"IF(DK125=\"\",\"\",mndot_rounding_1(DK42-((DK125-DJ11)*$DF$7)*(100-DK42)/(DK125*DJ11)))","v":""},null,{"$f":"IF(DM125=\"\",\"\",mndot_rounding_1(DM42-((DM125-DL11)*$DF$7)*(100-DM42)/(DM125*DL11)))","v":""},null,{"$f":"IF(DO125=\"\",\"\",mndot_rounding_1(DO42-((DO125-DN11)*$DF$7)*(100-DO42)/(DO125*DN11)))","v":""},null,null,null,null,null,{"$f":"IF(DU125=\"\",\"\",mndot_rounding_1(DU42-((DU125-DT11)*$DR$7)*(100-DU42)/(DU125*DT11)))","v":""},null,{"$f":"IF(DW125=\"\",\"\",mndot_rounding_1(DW42-((DW125-DV11)*$DR$7)*(100-DW42)/(DW125*DV11)))","v":""},null,{"$f":"IF(DY125=\"\",\"\",mndot_rounding_1(DY42-((DY125-DX11)*$DR$7)*(100-DY42)/(DY125*DX11)))","v":""},null,{"$f":"IF(EA125=\"\",\"\",mndot_rounding_1(EA42-((EA125-DZ11)*$DR$7)*(100-EA42)/(EA125*DZ11)))","v":""},null,null,null,null,null,{"$f":"IF(EG125=\"\",\"\",mndot_rounding_1(EG42-((EG125-EF11)*$ED$7)*(100-EG42)/(EG125*EF11)))","v":""},null,{"$f":"IF(EI125=\"\",\"\",mndot_rounding_1(EI42-((EI125-EH11)*$ED$7)*(100-EI42)/(EI125*EH11)))","v":""},null,{"$f":"IF(EK125=\"\",\"\",mndot_rounding_1(EK42-((EK125-EJ11)*$ED$7)*(100-EK42)/(EK125*EJ11)))","v":""},null,{"$f":"IF(EM125=\"\",\"\",mndot_rounding_1(EM42-((EM125-EL11)*$ED$7)*(100-EM42)/(EM125*EL11)))","v":""},null,null,null,null,null,{"$f":"IF(ES125=\"\",\"\",mndot_rounding_1(ES42-((ES125-ER11)*$EP$7)*(100-ES42)/(ES125*ER11)))","v":""},null,{"$f":"IF(EU125=\"\",\"\",mndot_rounding_1(EU42-((EU125-ET11)*$EP$7)*(100-EU42)/(EU125*ET11)))","v":""},null,{"$f":"IF(EW125=\"\",\"\",mndot_rounding_1(EW42-((EW125-EV11)*$EP$7)*(100-EW42)/(EW125*EV11)))","v":""},null,{"$f":"IF(EY125=\"\",\"\",mndot_rounding_1(EY42-((EY125-EX11)*$EP$7)*(100-EY42)/(EY125*EX11)))","v":""},null,null,null,null,null,{"$f":"IF(FE125=\"\",\"\",mndot_rounding_1(FE42-((FE125-FD11)*$FB$7)*(100-FE42)/(FE125*FD11)))","v":""},null,{"$f":"IF(FG125=\"\",\"\",mndot_rounding_1(FG42-((FG125-FF11)*$FB$7)*(100-FG42)/(FG125*FF11)))","v":""},null,{"$f":"IF(FI125=\"\",\"\",mndot_rounding_1(FI42-((FI125-FH11)*$FB$7)*(100-FI42)/(FI125*FH11)))","v":""},null,{"$f":"IF(FK125=\"\",\"\",mndot_rounding_1(FK42-((FK125-FJ11)*$FB$7)*(100-FK42)/(FK125*FJ11)))","v":""},null,null,null,null,null,{"$f":"IF(FQ125=\"\",\"\",mndot_rounding_1(FQ42-((FQ125-FP11)*$FN$7)*(100-FQ42)/(FQ125*FP11)))","v":""},null,{"$f":"IF(FS125=\"\",\"\",mndot_rounding_1(FS42-((FS125-FR11)*$FN$7)*(100-FS42)/(FS125*FR11)))","v":""},null,{"$f":"IF(FU125=\"\",\"\",mndot_rounding_1(FU42-((FU125-FT11)*$FN$7)*(100-FU42)/(FU125*FT11)))","v":""},null,{"$f":"IF(FW125=\"\",\"\",mndot_rounding_1(FW42-((FW125-FV11)*$FN$7)*(100-FW42)/(FW125*FV11)))","v":""},null,null,null,null,null,{"$f":"IF(GC125=\"\",\"\",mndot_rounding_1(GC42-((GC125-GB11)*$FZ$7)*(100-GC42)/(GC125*GB11)))","v":""},null,{"$f":"IF(GE125=\"\",\"\",mndot_rounding_1(GE42-((GE125-GD11)*$FZ$7)*(100-GE42)/(GE125*GD11)))","v":""},null,{"$f":"IF(GG125=\"\",\"\",mndot_rounding_1(GG42-((GG125-GF11)*$FZ$7)*(100-GG42)/(GG125*GF11)))","v":""},null,{"$f":"IF(GI125=\"\",\"\",mndot_rounding_1(GI42-((GI125-GH11)*$FZ$7)*(100-GI42)/(GI125*GH11)))","v":""},null,null,null,null,null,{"$f":"IF(GO125=\"\",\"\",mndot_rounding_1(GO42-((GO125-GN11)*$GL$7)*(100-GO42)/(GO125*GN11)))","v":""},null,{"$f":"IF(GQ125=\"\",\"\",mndot_rounding_1(GQ42-((GQ125-GP11)*$GL$7)*(100-GQ42)/(GQ125*GP11)))","v":""},null,{"$f":"IF(GS125=\"\",\"\",mndot_rounding_1(GS42-((GS125-GR11)*$GL$7)*(100-GS42)/(GS125*GR11)))","v":""},null,{"$f":"IF(GU125=\"\",\"\",mndot_rounding_1(GU42-((GU125-GT11)*$GL$7)*(100-GU42)/(GU125*GT11)))","v":""},null,null,null,null,null,{"$f":"IF(HA125=\"\",\"\",mndot_rounding_1(HA42-((HA125-GZ11)*$GX$7)*(100-HA42)/(HA125*GZ11)))","v":""},null,{"$f":"IF(HC125=\"\",\"\",mndot_rounding_1(HC42-((HC125-HB11)*$GX$7)*(100-HC42)/(HC125*HB11)))","v":""},null,{"$f":"IF(HE125=\"\",\"\",mndot_rounding_1(HE42-((HE125-HD11)*$GX$7)*(100-HE42)/(HE125*HD11)))","v":""},null,{"$f":"IF(HG125=\"\",\"\",mndot_rounding_1(HG42-((HG125-HF11)*$GX$7)*(100-HG42)/(HG125*HF11)))","v":""},null,null,null,null,null,{"$f":"IF(HM125=\"\",\"\",mndot_rounding_1(HM42-((HM125-HL11)*$HJ$7)*(100-HM42)/(HM125*HL11)))","v":""},null,{"$f":"IF(HO125=\"\",\"\",mndot_rounding_1(HO42-((HO125-HN11)*$HJ$7)*(100-HO42)/(HO125*HN11)))","v":""},null,{"$f":"IF(HQ125=\"\",\"\",mndot_rounding_1(HQ42-((HQ125-HP11)*$HJ$7)*(100-HQ42)/(HQ125*HP11)))","v":""},null,{"$f":"IF(HS125=\"\",\"\",mndot_rounding_1(HS42-((HS125-HR11)*$HJ$7)*(100-HS42)/(HS125*HR11)))","v":""},null,null,null,null,null,{"$f":"IF(HY125=\"\",\"\",mndot_rounding_1(HY42-((HY125-HX11)*$HV$7)*(100-HY42)/(HY125*HX11)))","v":""},null,{"$f":"IF(IA125=\"\",\"\",mndot_rounding_1(IA42-((IA125-HZ11)*$HV$7)*(100-IA42)/(IA125*HZ11)))","v":""},null,{"$f":"IF(IC125=\"\",\"\",mndot_rounding_1(IC42-((IC125-IB11)*$HV$7)*(100-IC42)/(IC125*IB11)))","v":""},null,{"$f":"IF(IE125=\"\",\"\",mndot_rounding_1(IE42-((IE125-ID11)*$HV$7)*(100-IE42)/(IE125*ID11)))","v":""},null,null,null,null,null,{"$f":"IF(IK125=\"\",\"\",mndot_rounding_1(IK42-((IK125-IJ11)*$IH$7)*(100-IK42)/(IK125*IJ11)))","v":""},null,{"$f":"IF(IM125=\"\",\"\",mndot_rounding_1(IM42-((IM125-IL11)*$IH$7)*(100-IM42)/(IM125*IL11)))","v":""},null,{"$f":"IF(IO125=\"\",\"\",mndot_rounding_1(IO42-((IO125-IN11)*$IH$7)*(100-IO42)/(IO125*IN11)))","v":""},null,{"$f":"IF(IQ125=\"\",\"\",mndot_rounding_1(IQ42-((IQ125-IP11)*$IH$7)*(100-IQ42)/(IQ125*IP11)))","v":""}]
["(by mix wgt)"]
["agency Pbe ",null,null,null,{"$f":"IF(E126=\"\",\"\",mndot_rounding_1((E126*100)/(100-E42)))","v":""},null,{"$f":"IF(G126=\"\",\"\",mndot_rounding_1((G126*100)/(100-G42)))","v":""},null,{"$f":"IF(I126=\"\",\"\",mndot_rounding_1((I126*100)/(100-I42)))","v":""},null,{"$f":"IF(K126=\"\",\"\",mndot_rounding_1((K126*100)/(100-K42)))","v":""},null,null,null,null,null,{"$f":"IF(Q126=\"\",\"\",mndot_rounding_1((Q126*100)/(100-Q42)))","v":""},null,{"$f":"IF(S126=\"\",\"\",mndot_rounding_1((S126*100)/(100-S42)))","v":""},null,{"$f":"IF(U126=\"\",\"\",mndot_rounding_1((U126*100)/(100-U42)))","v":""},null,{"$f":"IF(W126=\"\",\"\",mndot_rounding_1((W126*100)/(100-W42)))","v":""},null,null,null,null,null,{"$f":"IF(AC126=\"\",\"\",mndot_rounding_1((AC126*100)/(100-AC42)))","v":""},null,{"$f":"IF(AE126=\"\",\"\",mndot_rounding_1((AE126*100)/(100-AE42)))","v":""},null,{"$f":"IF(AG126=\"\",\"\",mndot_rounding_1((AG126*100)/(100-AG42)))","v":""},null,{"$f":"IF(AI126=\"\",\"\",mndot_rounding_1((AI126*100)/(100-AI42)))","v":""},null,null,null,null,null,{"$f":"IF(AO126=\"\",\"\",mndot_rounding_1((AO126*100)/(100-AO42)))","v":""},null,{"$f":"IF(AQ126=\"\",\"\",mndot_rounding_1((AQ126*100)/(100-AQ42)))","v":""},null,{"$f":"IF(AS126=\"\",\"\",mndot_rounding_1((AS126*100)/(100-AS42)))","v":""},null,{"$f":"IF(AU126=\"\",\"\",mndot_rounding_1((AU126*100)/(100-AU42)))","v":""},null,null,null,null,null,{"$f":"IF(BA126=\"\",\"\",mndot_rounding_1((BA126*100)/(100-BA42)))","v":""},null,{"$f":"IF(BC126=\"\",\"\",mndot_rounding_1((BC126*100)/(100-BC42)))","v":""},null,{"$f":"IF(BE126=\"\",\"\",mndot_rounding_1((BE126*100)/(100-BE42)))","v":""},null,{"$f":"IF(BG126=\"\",\"\",mndot_rounding_1((BG126*100)/(100-BG42)))","v":""},null,null,null,null,null,{"$f":"IF(BM126=\"\",\"\",mndot_rounding_1((BM126*100)/(100-BM42)))","v":""},null,{"$f":"IF(BO126=\"\",\"\",mndot_rounding_1((BO126*100)/(100-BO42)))","v":""},null,{"$f":"IF(BQ126=\"\",\"\",mndot_rounding_1((BQ126*100)/(100-BQ42)))","v":""},null,{"$f":"IF(BS126=\"\",\"\",mndot_rounding_1((BS126*100)/(100-BS42)))","v":""},null,null,null,null,null,{"$f":"IF(BY126=\"\",\"\",mndot_rounding_1((BY126*100)/(100-BY42)))","v":""},null,{"$f":"IF(CA126=\"\",\"\",mndot_rounding_1((CA126*100)/(100-CA42)))","v":""},null,{"$f":"IF(CC126=\"\",\"\",mndot_rounding_1((CC126*100)/(100-CC42)))","v":""},null,{"$f":"IF(CE126=\"\",\"\",mndot_rounding_1((CE126*100)/(100-CE42)))","v":""},null,null,null,null,null,{"$f":"IF(CK126=\"\",\"\",mndot_rounding_1((CK126*100)/(100-CK42)))","v":""},null,{"$f":"IF(CM126=\"\",\"\",mndot_rounding_1((CM126*100)/(100-CM42)))","v":""},null,{"$f":"IF(CO126=\"\",\"\",mndot_rounding_1((CO126*100)/(100-CO42)))","v":""},null,{"$f":"IF(CQ126=\"\",\"\",mndot_rounding_1((CQ126*100)/(100-CQ42)))","v":""},null,null,null,null,null,{"$f":"IF(CW126=\"\",\"\",mndot_rounding_1((CW126*100)/(100-CW42)))","v":""},null,{"$f":"IF(CY126=\"\",\"\",mndot_rounding_1((CY126*100)/(100-CY42)))","v":""},null,{"$f":"IF(DA126=\"\",\"\",mndot_rounding_1((DA126*100)/(100-DA42)))","v":""},null,{"$f":"IF(DC126=\"\",\"\",mndot_rounding_1((DC126*100)/(100-DC42)))","v":""},null,null,null,null,null,{"$f":"IF(DI126=\"\",\"\",mndot_rounding_1((DI126*100)/(100-DI42)))","v":""},null,{"$f":"IF(DK126=\"\",\"\",mndot_rounding_1((DK126*100)/(100-DK42)))","v":""},null,{"$f":"IF(DM126=\"\",\"\",mndot_rounding_1((DM126*100)/(100-DM42)))","v":""},null,{"$f":"IF(DO126=\"\",\"\",mndot_rounding_1((DO126*100)/(100-DO42)))","v":""},null,null,null,null,null,{"$f":"IF(DU126=\"\",\"\",mndot_rounding_1((DU126*100)/(100-DU42)))","v":""},null,{"$f":"IF(DW126=\"\",\"\",mndot_rounding_1((DW126*100)/(100-DW42)))","v":""},null,{"$f":"IF(DY126=\"\",\"\",mndot_rounding_1((DY126*100)/(100-DY42)))","v":""},null,{"$f":"IF(EA126=\"\",\"\",mndot_rounding_1((EA126*100)/(100-EA42)))","v":""},null,null,null,null,null,{"$f":"IF(EG126=\"\",\"\",mndot_rounding_1((EG126*100)/(100-EG42)))","v":""},null,{"$f":"IF(EI126=\"\",\"\",mndot_rounding_1((EI126*100)/(100-EI42)))","v":""},null,{"$f":"IF(EK126=\"\",\"\",mndot_rounding_1((EK126*100)/(100-EK42)))","v":""},null,{"$f":"IF(EM126=\"\",\"\",mndot_rounding_1((EM126*100)/(100-EM42)))","v":""},null,null,null,null,null,{"$f":"IF(ES126=\"\",\"\",mndot_rounding_1((ES126*100)/(100-ES42)))","v":""},null,{"$f":"IF(EU126=\"\",\"\",mndot_rounding_1((EU126*100)/(100-EU42)))","v":""},null,{"$f":"IF(EW126=\"\",\"\",mndot_rounding_1((EW126*100)/(100-EW42)))","v":""},null,{"$f":"IF(EY126=\"\",\"\",mndot_rounding_1((EY126*100)/(100-EY42)))","v":""},null,null,null,null,null,{"$f":"IF(FE126=\"\",\"\",mndot_rounding_1((FE126*100)/(100-FE42)))","v":""},null,{"$f":"IF(FG126=\"\",\"\",mndot_rounding_1((FG126*100)/(100-FG42)))","v":""},null,{"$f":"IF(FI126=\"\",\"\",mndot_rounding_1((FI126*100)/(100-FI42)))","v":""},null,{"$f":"IF(FK126=\"\",\"\",mndot_rounding_1((FK126*100)/(100-FK42)))","v":""},null,null,null,null,null,{"$f":"IF(FQ126=\"\",\"\",mndot_rounding_1((FQ126*100)/(100-FQ42)))","v":""},null,{"$f":"IF(FS126=\"\",\"\",mndot_rounding_1((FS126*100)/(100-FS42)))","v":""},null,{"$f":"IF(FU126=\"\",\"\",mndot_rounding_1((FU126*100)/(100-FU42)))","v":""},null,{"$f":"IF(FW126=\"\",\"\",mndot_rounding_1((FW126*100)/(100-FW42)))","v":""},null,null,null,null,null,{"$f":"IF(GC126=\"\",\"\",mndot_rounding_1((GC126*100)/(100-GC42)))","v":""},null,{"$f":"IF(GE126=\"\",\"\",mndot_rounding_1((GE126*100)/(100-GE42)))","v":""},null,{"$f":"IF(GG126=\"\",\"\",mndot_rounding_1((GG126*100)/(100-GG42)))","v":""},null,{"$f":"IF(GI126=\"\",\"\",mndot_rounding_1((GI126*100)/(100-GI42)))","v":""},null,null,null,null,null,{"$f":"IF(GO126=\"\",\"\",mndot_rounding_1((GO126*100)/(100-GO42)))","v":""},null,{"$f":"IF(GQ126=\"\",\"\",mndot_rounding_1((GQ126*100)/(100-GQ42)))","v":""},null,{"$f":"IF(GS126=\"\",\"\",mndot_rounding_1((GS126*100)/(100-GS42)))","v":""},null,{"$f":"IF(GU126=\"\",\"\",mndot_rounding_1((GU126*100)/(100-GU42)))","v":""},null,null,null,null,null,{"$f":"IF(HA126=\"\",\"\",mndot_rounding_1((HA126*100)/(100-HA42)))","v":""},null,{"$f":"IF(HC126=\"\",\"\",mndot_rounding_1((HC126*100)/(100-HC42)))","v":""},null,{"$f":"IF(HE126=\"\",\"\",mndot_rounding_1((HE126*100)/(100-HE42)))","v":""},null,{"$f":"IF(HG126=\"\",\"\",mndot_rounding_1((HG126*100)/(100-HG42)))","v":""},null,null,null,null,null,{"$f":"IF(HM126=\"\",\"\",mndot_rounding_1((HM126*100)/(100-HM42)))","v":""},null,{"$f":"IF(HO126=\"\",\"\",mndot_rounding_1((HO126*100)/(100-HO42)))","v":""},null,{"$f":"IF(HQ126=\"\",\"\",mndot_rounding_1((HQ126*100)/(100-HQ42)))","v":""},null,{"$f":"IF(HS126=\"\",\"\",mndot_rounding_1((HS126*100)/(100-HS42)))","v":""},null,null,null,null,null,{"$f":"IF(HY126=\"\",\"\",mndot_rounding_1((HY126*100)/(100-HY42)))","v":""},null,{"$f":"IF(IA126=\"\",\"\",mndot_rounding_1((IA126*100)/(100-IA42)))","v":""},null,{"$f":"IF(IC126=\"\",\"\",mndot_rounding_1((IC126*100)/(100-IC42)))","v":""},null,{"$f":"IF(IE126=\"\",\"\",mndot_rounding_1((IE126*100)/(100-IE42)))","v":""},null,null,null,null,null,{"$f":"IF(IK126=\"\",\"\",mndot_rounding_1((IK126*100)/(100-IK42)))","v":""},null,{"$f":"IF(IM126=\"\",\"\",mndot_rounding_1((IM126*100)/(100-IM42)))","v":""},null,{"$f":"IF(IO126=\"\",\"\",mndot_rounding_1((IO126*100)/(100-IO42)))","v":""},null,{"$f":"IF(IQ126=\"\",\"\",mndot_rounding_1((IQ126*100)/(100-IQ42)))","v":""}]
["(by aggregate)"]
["Surface Area",null,null,null,{"$f":"mndot_rounding_1(2+1.6*E39+0.6*E37+0.3*E35+0.14*E33+0.08*E31+0.04*E28+0.02*E25)","v":2},null,{"$f":"mndot_rounding_1(2+1.6*G39+0.6*G37+0.3*G35+0.14*G33+0.08*G31+0.04*G28+0.02*G25)","v":2},null,{"$f":"mndot_rounding_1(2+1.6*I39+0.6*I37+0.3*I35+0.14*I33+0.08*I31+0.04*I28+0.02*I25)","v":2},null,{"$f":"mndot_rounding_1(2+1.6*K39+0.6*K37+0.3*K35+0.14*K33+0.08*K31+0.04*K28+0.02*K25)","v":2},null,null,null,null,null,{"$f":"mndot_rounding_1(2+1.6*Q39+0.6*Q37+0.3*Q35+0.14*Q33+0.08*Q31+0.04*Q28+0.02*Q25)","v":2},null,{"$f":"mndot_rounding_1(2+1.6*S39+0.6*S37+0.3*S35+0.14*S33+0.08*S31+0.04*S28+0.02*S25)","v":2},null,{"$f":"mndot_rounding_1(2+1.6*U39+0.6*U37+0.3*U35+0.14*U33+0.08*U31+0.04*U28+0.02*U25)","v":2},null,{"$f":"mndot_rounding_1(2+1.6*W39+0.6*W37+0.3*W35+0.14*W33+0.08*W31+0.04*W28+0.02*W25)","v":2},null,null,null,null,null,{"$f":"mndot_rounding_1(2+1.6*AC39+0.6*AC37+0.3*AC35+0.14*AC33+0.08*AC31+0.04*AC28+0.02*AC25)","v":2},null,{"$f":"mndot_rounding_1(2+1.6*AE39+0.6*AE37+0.3*AE35+0.14*AE33+0.08*AE31+0.04*AE28+0.02*AE25)","v":2},null,{"$f":"mndot_rounding_1(2+1.6*AG39+0.6*AG37+0.3*AG35+0.14*AG33+0.08*AG31+0.04*AG28+0.02*AG25)","v":2},null,{"$f":"mndot_rounding_1(2+1.6*AI39+0.6*AI37+0.3*AI35+0.14*AI33+0.08*AI31+0.04*AI28+0.02*AI25)","v":2},null,null,null,null,null,{"$f":"mndot_rounding_1(2+1.6*AO39+0.6*AO37+0.3*AO35+0.14*AO33+0.08*AO31+0.04*AO28+0.02*AO25)","v":2},null,{"$f":"mndot_rounding_1(2+1.6*AQ39+0.6*AQ37+0.3*AQ35+0.14*AQ33+0.08*AQ31+0.04*AQ28+0.02*AQ25)","v":2},null,{"$f":"mndot_rounding_1(2+1.6*AS39+0.6*AS37+0.3*AS35+0.14*AS33+0.08*AS31+0.04*AS28+0.02*AS25)","v":2},null,{"$f":"mndot_rounding_1(2+1.6*AU39+0.6*AU37+0.3*AU35+0.14*AU33+0.08*AU31+0.04*AU28+0.02*AU25)","v":2},null,null,null,null,null,{"$f":"mndot_rounding_1(2+1.6*BA39+0.6*BA37+0.3*BA35+0.14*BA33+0.08*BA31+0.04*BA28+0.02*BA25)","v":2},null,{"$f":"mndot_rounding_1(2+1.6*BC39+0.6*BC37+0.3*BC35+0.14*BC33+0.08*BC31+0.04*BC28+0.02*BC25)","v":2},null,{"$f":"mndot_rounding_1(2+1.6*BE39+0.6*BE37+0.3*BE35+0.14*BE33+0.08*BE31+0.04*BE28+0.02*BE25)","v":2},null,{"$f":"mndot_rounding_1(2+1.6*BG39+0.6*BG37+0.3*BG35+0.14*BG33+0.08*BG31+0.04*BG28+0.02*BG25)","v":2},null,null,null,null,null,{"$f":"mndot_rounding_1(2+1.6*BM39+0.6*BM37+0.3*BM35+0.14*BM33+0.08*BM31+0.04*BM28+0.02*BM25)","v":2},null,{"$f":"mndot_rounding_1(2+1.6*BO39+0.6*BO37+0.3*BO35+0.14*BO33+0.08*BO31+0.04*BO28+0.02*BO25)","v":2},null,{"$f":"mndot_rounding_1(2+1.6*BQ39+0.6*BQ37+0.3*BQ35+0.14*BQ33+0.08*BQ31+0.04*BQ28+0.02*BQ25)","v":2},null,{"$f":"mndot_rounding_1(2+1.6*BS39+0.6*BS37+0.3*BS35+0.14*BS33+0.08*BS31+0.04*BS28+0.02*BS25)","v":2},null,null,null,null,null,{"$f":"mndot_rounding_1(2+1.6*BY39+0.6*BY37+0.3*BY35+0.14*BY33+0.08*BY31+0.04*BY28+0.02*BY25)","v":2},null,{"$f":"mndot_rounding_1(2+1.6*CA39+0.6*CA37+0.3*CA35+0.14*CA33+0.08*CA31+0.04*CA28+0.02*CA25)","v":2},null,{"$f":"mndot_rounding_1(2+1.6*CC39+0.6*CC37+0.3*CC35+0.14*CC33+0.08*CC31+0.04*CC28+0.02*CC25)","v":2},null,{"$f":"mndot_rounding_1(2+1.6*CE39+0.6*CE37+0.3*CE35+0.14*CE33+0.08*CE31+0.04*CE28+0.02*CE25)","v":2},null,null,null,null,null,{"$f":"mndot_rounding_1(2+1.6*CK39+0.6*CK37+0.3*CK35+0.14*CK33+0.08*CK31+0.04*CK28+0.02*CK25)","v":2},null,{"$f":"mndot_rounding_1(2+1.6*CM39+0.6*CM37+0.3*CM35+0.14*CM33+0.08*CM31+0.04*CM28+0.02*CM25)","v":2},null,{"$f":"mndot_rounding_1(2+1.6*CO39+0.6*CO37+0.3*CO35+0.14*CO33+0.08*CO31+0.04*CO28+0.02*CO25)","v":2},null,{"$f":"mndot_rounding_1(2+1.6*CQ39+0.6*CQ37+0.3*CQ35+0.14*CQ33+0.08*CQ31+0.04*CQ28+0.02*CQ25)","v":2},null,null,null,null,null,{"$f":"mndot_rounding_1(2+1.6*CW39+0.6*CW37+0.3*CW35+0.14*CW33+0.08*CW31+0.04*CW28+0.02*CW25)","v":2},null,{"$f":"mndot_rounding_1(2+1.6*CY39+0.6*CY37+0.3*CY35+0.14*CY33+0.08*CY31+0.04*CY28+0.02*CY25)","v":2},null,{"$f":"mndot_rounding_1(2+1.6*DA39+0.6*DA37+0.3*DA35+0.14*DA33+0.08*DA31+0.04*DA28+0.02*DA25)","v":2},null,{"$f":"mndot_rounding_1(2+1.6*DC39+0.6*DC37+0.3*DC35+0.14*DC33+0.08*DC31+0.04*DC28+0.02*DC25)","v":2},null,null,null,null,null,{"$f":"mndot_rounding_1(2+1.6*DI39+0.6*DI37+0.3*DI35+0.14*DI33+0.08*DI31+0.04*DI28+0.02*DI25)","v":2},null,{"$f":"mndot_rounding_1(2+1.6*DK39+0.6*DK37+0.3*DK35+0.14*DK33+0.08*DK31+0.04*DK28+0.02*DK25)","v":2},null,{"$f":"mndot_rounding_1(2+1.6*DM39+0.6*DM37+0.3*DM35+0.14*DM33+0.08*DM31+0.04*DM28+0.02*DM25)","v":2},null,{"$f":"mndot_rounding_1(2+1.6*DO39+0.6*DO37+0.3*DO35+0.14*DO33+0.08*DO31+0.04*DO28+0.02*DO25)","v":2},null,null,null,null,null,{"$f":"mndot_rounding_1(2+1.6*DU39+0.6*DU37+0.3*DU35+0.14*DU33+0.08*DU31+0.04*DU28+0.02*DU25)","v":2},null,{"$f":"mndot_rounding_1(2+1.6*DW39+0.6*DW37+0.3*DW35+0.14*DW33+0.08*DW31+0.04*DW28+0.02*DW25)","v":2},null,{"$f":"mndot_rounding_1(2+1.6*DY39+0.6*DY37+0.3*DY35+0.14*DY33+0.08*DY31+0.04*DY28+0.02*DY25)","v":2},null,{"$f":"mndot_rounding_1(2+1.6*EA39+0.6*EA37+0.3*EA35+0.14*EA33+0.08*EA31+0.04*EA28+0.02*EA25)","v":2},null,null,null,null,null,{"$f":"mndot_rounding_1(2+1.6*EG39+0.6*EG37+0.3*EG35+0.14*EG33+0.08*EG31+0.04*EG28+0.02*EG25)","v":2},null,{"$f":"mndot_rounding_1(2+1.6*EI39+0.6*EI37+0.3*EI35+0.14*EI33+0.08*EI31+0.04*EI28+0.02*EI25)","v":2},null,{"$f":"mndot_rounding_1(2+1.6*EK39+0.6*EK37+0.3*EK35+0.14*EK33+0.08*EK31+0.04*EK28+0.02*EK25)","v":2},null,{"$f":"mndot_rounding_1(2+1.6*EM39+0.6*EM37+0.3*EM35+0.14*EM33+0.08*EM31+0.04*EM28+0.02*EM25)","v":2},null,null,null,null,null,{"$f":"mndot_rounding_1(2+1.6*ES39+0.6*ES37+0.3*ES35+0.14*ES33+0.08*ES31+0.04*ES28+0.02*ES25)","v":2},null,{"$f":"mndot_rounding_1(2+1.6*EU39+0.6*EU37+0.3*EU35+0.14*EU33+0.08*EU31+0.04*EU28+0.02*EU25)","v":2},null,{"$f":"mndot_rounding_1(2+1.6*EW39+0.6*EW37+0.3*EW35+0.14*EW33+0.08*EW31+0.04*EW28+0.02*EW25)","v":2},null,{"$f":"mndot_rounding_1(2+1.6*EY39+0.6*EY37+0.3*EY35+0.14*EY33+0.08*EY31+0.04*EY28+0.02*EY25)","v":2},null,null,null,null,null,{"$f":"mndot_rounding_1(2+1.6*FE39+0.6*FE37+0.3*FE35+0.14*FE33+0.08*FE31+0.04*FE28+0.02*FE25)","v":2},null,{"$f":"mndot_rounding_1(2+1.6*FG39+0.6*FG37+0.3*FG35+0.14*FG33+0.08*FG31+0.04*FG28+0.02*FG25)","v":2},null,{"$f":"mndot_rounding_1(2+1.6*FI39+0.6*FI37+0.3*FI35+0.14*FI33+0.08*FI31+0.04*FI28+0.02*FI25)","v":2},null,{"$f":"mndot_rounding_1(2+1.6*FK39+0.6*FK37+0.3*FK35+0.14*FK33+0.08*FK31+0.04*FK28+0.02*FK25)","v":2},null,null,null,null,null,{"$f":"mndot_rounding_1(2+1.6*FQ39+0.6*FQ37+0.3*FQ35+0.14*FQ33+0.08*FQ31+0.04*FQ28+0.02*FQ25)","v":2},null,{"$f":"mndot_rounding_1(2+1.6*FS39+0.6*FS37+0.3*FS35+0.14*FS33+0.08*FS31+0.04*FS28+0.02*FS25)","v":2},null,{"$f":"mndot_rounding_1(2+1.6*FU39+0.6*FU37+0.3*FU35+0.14*FU33+0.08*FU31+0.04*FU28+0.02*FU25)","v":2},null,{"$f":"mndot_rounding_1(2+1.6*FW39+0.6*FW37+0.3*FW35+0.14*FW33+0.08*FW31+0.04*FW28+0.02*FW25)","v":2},null,null,null,null,null,{"$f":"mndot_rounding_1(2+1.6*GC39+0.6*GC37+0.3*GC35+0.14*GC33+0.08*GC31+0.04*GC28+0.02*GC25)","v":2},null,{"$f":"mndot_rounding_1(2+1.6*GE39+0.6*GE37+0.3*GE35+0.14*GE33+0.08*GE31+0.04*GE28+0.02*GE25)","v":2},null,{"$f":"mndot_rounding_1(2+1.6*GG39+0.6*GG37+0.3*GG35+0.14*GG33+0.08*GG31+0.04*GG28+0.02*GG25)","v":2},null,{"$f":"mndot_rounding_1(2+1.6*GI39+0.6*GI37+0.3*GI35+0.14*GI33+0.08*GI31+0.04*GI28+0.02*GI25)","v":2},null,null,null,null,null,{"$f":"mndot_rounding_1(2+1.6*GO39+0.6*GO37+0.3*GO35+0.14*GO33+0.08*GO31+0.04*GO28+0.02*GO25)","v":2},null,{"$f":"mndot_rounding_1(2+1.6*GQ39+0.6*GQ37+0.3*GQ35+0.14*GQ33+0.08*GQ31+0.04*GQ28+0.02*GQ25)","v":2},null,{"$f":"mndot_rounding_1(2+1.6*GS39+0.6*GS37+0.3*GS35+0.14*GS33+0.08*GS31+0.04*GS28+0.02*GS25)","v":2},null,{"$f":"mndot_rounding_1(2+1.6*GU39+0.6*GU37+0.3*GU35+0.14*GU33+0.08*GU31+0.04*GU28+0.02*GU25)","v":2},null,null,null,null,null,{"$f":"mndot_rounding_1(2+1.6*HA39+0.6*HA37+0.3*HA35+0.14*HA33+0.08*HA31+0.04*HA28+0.02*HA25)","v":2},null,{"$f":"mndot_rounding_1(2+1.6*HC39+0.6*HC37+0.3*HC35+0.14*HC33+0.08*HC31+0.04*HC28+0.02*HC25)","v":2},null,{"$f":"mndot_rounding_1(2+1.6*HE39+0.6*HE37+0.3*HE35+0.14*HE33+0.08*HE31+0.04*HE28+0.02*HE25)","v":2},null,{"$f":"mndot_rounding_1(2+1.6*HG39+0.6*HG37+0.3*HG35+0.14*HG33+0.08*HG31+0.04*HG28+0.02*HG25)","v":2},null,null,null,null,null,{"$f":"mndot_rounding_1(2+1.6*HM39+0.6*HM37+0.3*HM35+0.14*HM33+0.08*HM31+0.04*HM28+0.02*HM25)","v":2},null,{"$f":"mndot_rounding_1(2+1.6*HO39+0.6*HO37+0.3*HO35+0.14*HO33+0.08*HO31+0.04*HO28+0.02*HO25)","v":2},null,{"$f":"mndot_rounding_1(2+1.6*HQ39+0.6*HQ37+0.3*HQ35+0.14*HQ33+0.08*HQ31+0.04*HQ28+0.02*HQ25)","v":2},null,{"$f":"mndot_rounding_1(2+1.6*HS39+0.6*HS37+0.3*HS35+0.14*HS33+0.08*HS31+0.04*HS28+0.02*HS25)","v":2},null,null,null,null,null,{"$f":"mndot_rounding_1(2+1.6*HY39+0.6*HY37+0.3*HY35+0.14*HY33+0.08*HY31+0.04*HY28+0.02*HY25)","v":2},null,{"$f":"mndot_rounding_1(2+1.6*IA39+0.6*IA37+0.3*IA35+0.14*IA33+0.08*IA31+0.04*IA28+0.02*IA25)","v":2},null,{"$f":"mndot_rounding_1(2+1.6*IC39+0.6*IC37+0.3*IC35+0.14*IC33+0.08*IC31+0.04*IC28+0.02*IC25)","v":2},null,{"$f":"mndot_rounding_1(2+1.6*IE39+0.6*IE37+0.3*IE35+0.14*IE33+0.08*IE31+0.04*IE28+0.02*IE25)","v":2},null,null,null,null,null,{"$f":"mndot_rounding_1(2+1.6*IK39+0.6*IK37+0.3*IK35+0.14*IK33+0.08*IK31+0.04*IK28+0.02*IK25)","v":2},null,{"$f":"mndot_rounding_1(2+1.6*IM39+0.6*IM37+0.3*IM35+0.14*IM33+0.08*IM31+0.04*IM28+0.02*IM25)","v":2},null,{"$f":"mndot_rounding_1(2+1.6*IO39+0.6*IO37+0.3*IO35+0.14*IO33+0.08*IO31+0.04*IO28+0.02*IO25)","v":2},null,{"$f":"mndot_rounding_1(2+1.6*IQ39+0.6*IQ37+0.3*IQ35+0.14*IQ33+0.08*IQ31+0.04*IQ28+0.02*IQ25)","v":2}]
["agency adj SA",null,null,null,{"$f":"IF(D10<2.58,mndot_rounding_1(E130*(2.65/D10)),(IF(D10>2.7,mndot_rounding_1(E130*(2.65/D10)),E130)))","v":{"$error":"#VALUE!"}},null,{"$f":"IF(F10<2.58,mndot_rounding_1(G130*(2.65/F10)),(IF(F10>2.7,mndot_rounding_1(G130*(2.65/F10)),G130)))","v":{"$error":"#VALUE!"}},null,{"$f":"IF(H10<2.58,mndot_rounding_1(I130*(2.65/H10)),(IF(H10>2.7,mndot_rounding_1(I130*(2.65/H10)),I130)))","v":{"$error":"#VALUE!"}},null,{"$f":"IF(J10<2.58,mndot_rounding_1(K130*(2.65/J10)),(IF(J10>2.7,mndot_rounding_1(K130*(2.65/J10)),K130)))","v":{"$error":"#VALUE!"}},null,null,null,null,null,{"$f":"IF(P10<2.58,mndot_rounding_1(Q130*(2.65/P10)),(IF(P10>2.7,mndot_rounding_1(Q130*(2.65/P10)),Q130)))","v":{"$error":"#VALUE!"}},null,{"$f":"IF(R10<2.58,mndot_rounding_1(S130*(2.65/R10)),(IF(R10>2.7,mndot_rounding_1(S130*(2.65/R10)),S130)))","v":{"$error":"#VALUE!"}},null,{"$f":"IF(T10<2.58,mndot_rounding_1(U130*(2.65/T10)),(IF(T10>2.7,mndot_rounding_1(U130*(2.65/T10)),U130)))","v":{"$error":"#VALUE!"}},null,{"$f":"IF(V10<2.58,mndot_rounding_1(W130*(2.65/V10)),(IF(V10>2.7,mndot_rounding_1(W130*(2.65/V10)),W130)))","v":{"$error":"#VALUE!"}},null,null,null,null,null,{"$f":"IF(AB10<2.58,mndot_rounding_1(AC130*(2.65/AB10)),(IF(AB10>2.7,mndot_rounding_1(AC130*(2.65/AB10)),AC130)))","v":{"$error":"#VALUE!"}},null,{"$f":"IF(AD10<2.58,mndot_rounding_1(AE130*(2.65/AD10)),(IF(AD10>2.7,mndot_rounding_1(AE130*(2.65/AD10)),AE130)))","v":{"$error":"#VALUE!"}},null,{"$f":"IF(AF10<2.58,mndot_rounding_1(AG130*(2.65/AF10)),(IF(AF10>2.7,mndot_rounding_1(AG130*(2.65/AF10)),AG130)))","v":{"$error":"#VALUE!"}},null,{"$f":"IF(AH10<2.58,mndot_rounding_1(AI130*(2.65/AH10)),(IF(AH10>2.7,mndot_rounding_1(AI130*(2.65/AH10)),AI130)))","v":{"$error":"#VALUE!"}},null,null,null,null,null,{"$f":"IF(AN10<2.58,mndot_rounding_1(AO130*(2.65/AN10)),(IF(AN10>2.7,mndot_rounding_1(AO130*(2.65/AN10)),AO130)))","v":{"$error":"#VALUE!"}},null,{"$f":"IF(AP10<2.58,mndot_rounding_1(AQ130*(2.65/AP10)),(IF(AP10>2.7,mndot_rounding_1(AQ130*(2.65/AP10)),AQ130)))","v":{"$error":"#VALUE!"}},null,{"$f":"IF(AR10<2.58,mndot_rounding_1(AS130*(2.65/AR10)),(IF(AR10>2.7,mndot_rounding_1(AS130*(2.65/AR10)),AS130)))","v":{"$error":"#VALUE!"}},null,{"$f":"IF(AT10<2.58,mndot_rounding_1(AU130*(2.65/AT10)),(IF(AT10>2.7,mndot_rounding_1(AU130*(2.65/AT10)),AU130)))","v":{"$error":"#VALUE!"}},null,null,null,null,null,{"$f":"IF(AZ10<2.58,mndot_rounding_1(BA130*(2.65/AZ10)),(IF(AZ10>2.7,mndot_rounding_1(BA130*(2.65/AZ10)),BA130)))","v":{"$error":"#VALUE!"}},null,{"$f":"IF(BB10<2.58,mndot_rounding_1(BC130*(2.65/BB10)),(IF(BB10>2.7,mndot_rounding_1(BC130*(2.65/BB10)),BC130)))","v":{"$error":"#VALUE!"}},null,{"$f":"IF(BD10<2.58,mndot_rounding_1(BE130*(2.65/BD10)),(IF(BD10>2.7,mndot_rounding_1(BE130*(2.65/BD10)),BE130)))","v":{"$error":"#VALUE!"}},null,{"$f":"IF(BF10<2.58,mndot_rounding_1(BG130*(2.65/BF10)),(IF(BF10>2.7,mndot_rounding_1(BG130*(2.65/BF10)),BG130)))","v":{"$error":"#VALUE!"}},null,null,null,null,null,{"$f":"IF(BL10<2.58,mndot_rounding_1(BM130*(2.65/BL10)),(IF(BL10>2.7,mndot_rounding_1(BM130*(2.65/BL10)),BM130)))","v":{"$error":"#VALUE!"}},null,{"$f":"IF(BN10<2.58,mndot_rounding_1(BO130*(2.65/BN10)),(IF(BN10>2.7,mndot_rounding_1(BO130*(2.65/BN10)),BO130)))","v":{"$error":"#VALUE!"}},null,{"$f":"IF(BP10<2.58,mndot_rounding_1(BQ130*(2.65/BP10)),(IF(BP10>2.7,mndot_rounding_1(BQ130*(2.65/BP10)),BQ130)))","v":{"$error":"#VALUE!"}},null,{"$f":"IF(BR10<2.58,mndot_rounding_1(BS130*(2.65/BR10)),(IF(BR10>2.7,mndot_rounding_1(BS130*(2.65/BR10)),BS130)))","v":{"$error":"#VALUE!"}},null,null,null,null,null,{"$f":"IF(BX10<2.58,mndot_rounding_1(BY130*(2.65/BX10)),(IF(BX10>2.7,mndot_rounding_1(BY130*(2.65/BX10)),BY130)))","v":{"$error":"#VALUE!"}},null,{"$f":"IF(BZ10<2.58,mndot_rounding_1(CA130*(2.65/BZ10)),(IF(BZ10>2.7,mndot_rounding_1(CA130*(2.65/BZ10)),CA130)))","v":{"$error":"#VALUE!"}},null,{"$f":"IF(CB10<2.58,mndot_rounding_1(CC130*(2.65/CB10)),(IF(CB10>2.7,mndot_rounding_1(CC130*(2.65/CB10)),CC130)))","v":{"$error":"#VALUE!"}},null,{"$f":"IF(CD10<2.58,mndot_rounding_1(CE130*(2.65/CD10)),(IF(CD10>2.7,mndot_rounding_1(CE130*(2.65/CD10)),CE130)))","v":{"$error":"#VALUE!"}},null,null,null,null,null,{"$f":"IF(CJ10<2.58,mndot_rounding_1(CK130*(2.65/CJ10)),(IF(CJ10>2.7,mndot_rounding_1(CK130*(2.65/CJ10)),CK130)))","v":{"$error":"#VALUE!"}},null,{"$f":"IF(CL10<2.58,mndot_rounding_1(CM130*(2.65/CL10)),(IF(CL10>2.7,mndot_rounding_1(CM130*(2.65/CL10)),CM130)))","v":{"$error":"#VALUE!"}},null,{"$f":"IF(CN10<2.58,mndot_rounding_1(CO130*(2.65/CN10)),(IF(CN10>2.7,mndot_rounding_1(CO130*(2.65/CN10)),CO130)))","v":{"$error":"#VALUE!"}},null,{"$f":"IF(CP10<2.58,mndot_rounding_1(CQ130*(2.65/CP10)),(IF(CP10>2.7,mndot_rounding_1(CQ130*(2.65/CP10)),CQ130)))","v":{"$error":"#VALUE!"}},null,null,null,null,null,{"$f":"IF(CV10<2.58,mndot_rounding_1(CW130*(2.65/CV10)),(IF(CV10>2.7,mndot_rounding_1(CW130*(2.65/CV10)),CW130)))","v":{"$error":"#VALUE!"}},null,{"$f":"IF(CX10<2.58,mndot_rounding_1(CY130*(2.65/CX10)),(IF(CX10>2.7,mndot_rounding_1(CY130*(2.65/CX10)),CY130)))","v":{"$error":"#VALUE!"}},null,{"$f":"IF(CZ10<2.58,mndot_rounding_1(DA130*(2.65/CZ10)),(IF(CZ10>2.7,mndot_rounding_1(DA130*(2.65/CZ10)),DA130)))","v":{"$error":"#VALUE!"}},null,{"$f":"IF(DB10<2.58,mndot_rounding_1(DC130*(2.65/DB10)),(IF(DB10>2.7,mndot_rounding_1(DC130*(2.65/DB10)),DC130)))","v":{"$error":"#VALUE!"}},null,null,null,null,null,{"$f":"IF(DH10<2.58,mndot_rounding_1(DI130*(2.65/DH10)),(IF(DH10>2.7,mndot_rounding_1(DI130*(2.65/DH10)),DI130)))","v":{"$error":"#VALUE!"}},null,{"$f":"IF(DJ10<2.58,mndot_rounding_1(DK130*(2.65/DJ10)),(IF(DJ10>2.7,mndot_rounding_1(DK130*(2.65/DJ10)),DK130)))","v":{"$error":"#VALUE!"}},null,{"$f":"IF(DL10<2.58,mndot_rounding_1(DM130*(2.65/DL10)),(IF(DL10>2.7,mndot_rounding_1(DM130*(2.65/DL10)),DM130)))","v":{"$error":"#VALUE!"}},null,{"$f":"IF(DN10<2.58,mndot_rounding_1(DO130*(2.65/DN10)),(IF(DN10>2.7,mndot_rounding_1(DO130*(2.65/DN10)),DO130)))","v":{"$error":"#VALUE!"}},null,null,null,null,null,{"$f":"IF(DT10<2.58,mndot_rounding_1(DU130*(2.65/DT10)),(IF(DT10>2.7,mndot_rounding_1(DU130*(2.65/DT10)),DU130)))","v":{"$error":"#VALUE!"}},null,{"$f":"IF(DV10<2.58,mndot_rounding_1(DW130*(2.65/DV10)),(IF(DV10>2.7,mndot_rounding_1(DW130*(2.65/DV10)),DW130)))","v":{"$error":"#VALUE!"}},null,{"$f":"IF(DX10<2.58,mndot_rounding_1(DY130*(2.65/DX10)),(IF(DX10>2.7,mndot_rounding_1(DY130*(2.65/DX10)),DY130)))","v":{"$error":"#VALUE!"}},null,{"$f":"IF(DZ10<2.58,mndot_rounding_1(EA130*(2.65/DZ10)),(IF(DZ10>2.7,mndot_rounding_1(EA130*(2.65/DZ10)),EA130)))","v":{"$error":"#VALUE!"}},null,null,null,null,null,{"$f":"IF(EF10<2.58,mndot_rounding_1(EG130*(2.65/EF10)),(IF(EF10>2.7,mndot_rounding_1(EG130*(2.65/EF10)),EG130)))","v":{"$error":"#VALUE!"}},null,{"$f":"IF(EH10<2.58,mndot_rounding_1(EI130*(2.65/EH10)),(IF(EH10>2.7,mndot_rounding_1(EI130*(2.65/EH10)),EI130)))","v":{"$error":"#VALUE!"}},null,{"$f":"IF(EJ10<2.58,mndot_rounding_1(EK130*(2.65/EJ10)),(IF(EJ10>2.7,mndot_rounding_1(EK130*(2.65/EJ10)),EK130)))","v":{"$error":"#VALUE!"}},null,{"$f":"IF(EL10<2.58,mndot_rounding_1(EM130*(2.65/EL10)),(IF(EL10>2.7,mndot_rounding_1(EM130*(2.65/EL10)),EM130)))","v":{"$error":"#VALUE!"}},null,null,null,null,null,{"$f":"IF(ER10<2.58,mndot_rounding_1(ES130*(2.65/ER10)),(IF(ER10>2.7,mndot_rounding_1(ES130*(2.65/ER10)),ES130)))","v":{"$error":"#VALUE!"}},null,{"$f":"IF(ET10<2.58,mndot_rounding_1(EU130*(2.65/ET10)),(IF(ET10>2.7,mndot_rounding_1(EU130*(2.65/ET10)),EU130)))","v":{"$error":"#VALUE!"}},null,{"$f":"IF(EV10<2.58,mndot_rounding_1(EW130*(2.65/EV10)),(IF(EV10>2.7,mndot_rounding_1(EW130*(2.65/EV10)),EW130)))","v":{"$error":"#VALUE!"}},null,{"$f":"IF(EX10<2.58,mndot_rounding_1(EY130*(2.65/EX10)),(IF(EX10>2.7,mndot_rounding_1(EY130*(2.65/EX10)),EY130)))","v":{"$error":"#VALUE!"}},null,null,null,null,null,{"$f":"IF(FD10<2.58,mndot_rounding_1(FE130*(2.65/FD10)),(IF(FD10>2.7,mndot_rounding_1(FE130*(2.65/FD10)),FE130)))","v":{"$error":"#VALUE!"}},null,{"$f":"IF(FF10<2.58,mndot_rounding_1(FG130*(2.65/FF10)),(IF(FF10>2.7,mndot_rounding_1(FG130*(2.65/FF10)),FG130)))","v":{"$error":"#VALUE!"}},null,{"$f":"IF(FH10<2.58,mndot_rounding_1(FI130*(2.65/FH10)),(IF(FH10>2.7,mndot_rounding_1(FI130*(2.65/FH10)),FI130)))","v":{"$error":"#VALUE!"}},null,{"$f":"IF(FJ10<2.58,mndot_rounding_1(FK130*(2.65/FJ10)),(IF(FJ10>2.7,mndot_rounding_1(FK130*(2.65/FJ10)),FK130)))","v":{"$error":"#VALUE!"}},null,null,null,null,null,{"$f":"IF(FP10<2.58,mndot_rounding_1(FQ130*(2.65/FP10)),(IF(FP10>2.7,mndot_rounding_1(FQ130*(2.65/FP10)),FQ130)))","v":{"$error":"#VALUE!"}},null,{"$f":"IF(FR10<2.58,mndot_rounding_1(FS130*(2.65/FR10)),(IF(FR10>2.7,mndot_rounding_1(FS130*(2.65/FR10)),FS130)))","v":{"$error":"#VALUE!"}},null,{"$f":"IF(FT10<2.58,mndot_rounding_1(FU130*(2.65/FT10)),(IF(FT10>2.7,mndot_rounding_1(FU130*(2.65/FT10)),FU130)))","v":{"$error":"#VALUE!"}},null,{"$f":"IF(FV10<2.58,mndot_rounding_1(FW130*(2.65/FV10)),(IF(FV10>2.7,mndot_rounding_1(FW130*(2.65/FV10)),FW130)))","v":{"$error":"#VALUE!"}},null,null,null,null,null,{"$f":"IF(GB10<2.58,mndot_rounding_1(GC130*(2.65/GB10)),(IF(GB10>2.7,mndot_rounding_1(GC130*(2.65/GB10)),GC130)))","v":{"$error":"#VALUE!"}},null,{"$f":"IF(GD10<2.58,mndot_rounding_1(GE130*(2.65/GD10)),(IF(GD10>2.7,mndot_rounding_1(GE130*(2.65/GD10)),GE130)))","v":{"$error":"#VALUE!"}},null,{"$f":"IF(GF10<2.58,mndot_rounding_1(GG130*(2.65/GF10)),(IF(GF10>2.7,mndot_rounding_1(GG130*(2.65/GF10)),GG130)))","v":{"$error":"#VALUE!"}},null,{"$f":"IF(GH10<2.58,mndot_rounding_1(GI130*(2.65/GH10)),(IF(GH10>2.7,mndot_rounding_1(GI130*(2.65/GH10)),GI130)))","v":{"$error":"#VALUE!"}},null,null,null,null,null,{"$f":"IF(GN10<2.58,mndot_rounding_1(GO130*(2.65/GN10)),(IF(GN10>2.7,mndot_rounding_1(GO130*(2.65/GN10)),GO130)))","v":{"$error":"#VALUE!"}},null,{"$f":"IF(GP10<2.58,mndot_rounding_1(GQ130*(2.65/GP10)),(IF(GP10>2.7,mndot_rounding_1(GQ130*(2.65/GP10)),GQ130)))","v":{"$error":"#VALUE!"}},null,{"$f":"IF(GR10<2.58,mndot_rounding_1(GS130*(2.65/GR10)),(IF(GR10>2.7,mndot_rounding_1(GS130*(2.65/GR10)),GS130)))","v":{"$error":"#VALUE!"}},null,{"$f":"IF(GT10<2.58,mndot_rounding_1(GU130*(2.65/GT10)),(IF(GT10>2.7,mndot_rounding_1(GU130*(2.65/GT10)),GU130)))","v":{"$error":"#VALUE!"}},null,null,null,null,null,{"$f":"IF(GZ10<2.58,mndot_rounding_1(HA130*(2.65/GZ10)),(IF(GZ10>2.7,mndot_rounding_1(HA130*(2.65/GZ10)),HA130)))","v":{"$error":"#VALUE!"}},null,{"$f":"IF(HB10<2.58,mndot_rounding_1(HC130*(2.65/HB10)),(IF(HB10>2.7,mndot_rounding_1(HC130*(2.65/HB10)),HC130)))","v":{"$error":"#VALUE!"}},null,{"$f":"IF(HD10<2.58,mndot_rounding_1(HE130*(2.65/HD10)),(IF(HD10>2.7,mndot_rounding_1(HE130*(2.65/HD10)),HE130)))","v":{"$error":"#VALUE!"}},null,{"$f":"IF(HF10<2.58,mndot_rounding_1(HG130*(2.65/HF10)),(IF(HF10>2.7,mndot_rounding_1(HG130*(2.65/HF10)),HG130)))","v":{"$error":"#VALUE!"}},null,null,null,null,null,{"$f":"IF(HL10<2.58,mndot_rounding_1(HM130*(2.65/HL10)),(IF(HL10>2.7,mndot_rounding_1(HM130*(2.65/HL10)),HM130)))","v":{"$error":"#VALUE!"}},null,{"$f":"IF(HN10<2.58,mndot_rounding_1(HO130*(2.65/HN10)),(IF(HN10>2.7,mndot_rounding_1(HO130*(2.65/HN10)),HO130)))","v":{"$error":"#VALUE!"}},null,{"$f":"IF(HP10<2.58,mndot_rounding_1(HQ130*(2.65/HP10)),(IF(HP10>2.7,mndot_rounding_1(HQ130*(2.65/HP10)),HQ130)))","v":{"$error":"#VALUE!"}},null,{"$f":"IF(HR10<2.58,mndot_rounding_1(HS130*(2.65/HR10)),(IF(HR10>2.7,mndot_rounding_1(HS130*(2.65/HR10)),HS130)))","v":{"$error":"#VALUE!"}},null,null,null,null,null,{"$f":"IF(HX10<2.58,mndot_rounding_1(HY130*(2.65/HX10)),(IF(HX10>2.7,mndot_rounding_1(HY130*(2.65/HX10)),HY130)))","v":{"$error":"#VALUE!"}},null,{"$f":"IF(HZ10<2.58,mndot_rounding_1(IA130*(2.65/HZ10)),(IF(HZ10>2.7,mndot_rounding_1(IA130*(2.65/HZ10)),IA130)))","v":{"$error":"#VALUE!"}},null,{"$f":"IF(IB10<2.58,mndot_rounding_1(IC130*(2.65/IB10)),(IF(IB10>2.7,mndot_rounding_1(IC130*(2.65/IB10)),IC130)))","v":{"$error":"#VALUE!"}},null,{"$f":"IF(ID10<2.58,mndot_rounding_1(IE130*(2.65/ID10)),(IF(ID10>2.7,mndot_rounding_1(IE130*(2.65/ID10)),IE130)))","v":{"$error":"#VALUE!"}},null,null,null,null,null,{"$f":"IF(IJ10<2.58,mndot_rounding_1(IK130*(2.65/IJ10)),(IF(IJ10>2.7,mndot_rounding_1(IK130*(2.65/IJ10)),IK130)))","v":{"$error":"#VALUE!"}},null,{"$f":"IF(IL10<2.58,mndot_rounding_1(IM130*(2.65/IL10)),(IF(IL10>2.7,mndot_rounding_1(IM130*(2.65/IL10)),IM130)))","v":{"$error":"#VALUE!"}},null,{"$f":"IF(IN10<2.58,mndot_rounding_1(IO130*(2.65/IN10)),(IF(IN10>2.7,mndot_rounding_1(IO130*(2.65/IN10)),IO130)))","v":{"$error":"#VALUE!"}},null,{"$f":"IF(IP10<2.58,mndot_rounding_1(IQ130*(2.65/IP10)),(IF(IP10>2.7,mndot_rounding_1(IQ130*(2.65/IP10)),IQ130)))","v":{"$error":"#VALUE!"}}]
["agency adj AFT",null,null,null,{"$f":"IF(E124=\"\",\"\",mndot_rounding_1(E124+0.06*(E131-28)))","v":""},null,{"$f":"IF(G124=\"\",\"\",mndot_rounding_1(G124+0.06*(G131-28)))","v":""},null,{"$f":"IF(I124=\"\",\"\",mndot_rounding_1(I124+0.06*(I131-28)))","v":""},null,{"$f":"IF(K124=\"\",\"\",mndot_rounding_1(K124+0.06*(K131-28)))","v":""},null,null,null,null,null,{"$f":"IF(Q124=\"\",\"\",mndot_rounding_1(Q124+0.06*(Q131-28)))","v":""},null,{"$f":"IF(S124=\"\",\"\",mndot_rounding_1(S124+0.06*(S131-28)))","v":""},null,{"$f":"IF(U124=\"\",\"\",mndot_rounding_1(U124+0.06*(U131-28)))","v":""},null,{"$f":"IF(W124=\"\",\"\",mndot_rounding_1(W124+0.06*(W131-28)))","v":""},null,null,null,null,null,{"$f":"IF(AC124=\"\",\"\",mndot_rounding_1(AC124+0.06*(AC131-28)))","v":""},null,{"$f":"IF(AE124=\"\",\"\",mndot_rounding_1(AE124+0.06*(AE131-28)))","v":""},null,{"$f":"IF(AG124=\"\",\"\",mndot_rounding_1(AG124+0.06*(AG131-28)))","v":""},null,{"$f":"IF(AI124=\"\",\"\",mndot_rounding_1(AI124+0.06*(AI131-28)))","v":""},null,null,null,null,null,{"$f":"IF(AO124=\"\",\"\",mndot_rounding_1(AO124+0.06*(AO131-28)))","v":""},null,{"$f":"IF(AQ124=\"\",\"\",mndot_rounding_1(AQ124+0.06*(AQ131-28)))","v":""},null,{"$f":"IF(AS124=\"\",\"\",mndot_rounding_1(AS124+0.06*(AS131-28)))","v":""},null,{"$f":"IF(AU124=\"\",\"\",mndot_rounding_1(AU124+0.06*(AU131-28)))","v":""},null,null,null,null,null,{"$f":"IF(BA124=\"\",\"\",mndot_rounding_1(BA124+0.06*(BA131-28)))","v":""},null,{"$f":"IF(BC124=\"\",\"\",mndot_rounding_1(BC124+0.06*(BC131-28)))","v":""},null,{"$f":"IF(BE124=\"\",\"\",mndot_rounding_1(BE124+0.06*(BE131-28)))","v":""},null,{"$f":"IF(BG124=\"\",\"\",mndot_rounding_1(BG124+0.06*(BG131-28)))","v":""},null,null,null,null,null,{"$f":"IF(BM124=\"\",\"\",mndot_rounding_1(BM124+0.06*(BM131-28)))","v":""},null,{"$f":"IF(BO124=\"\",\"\",mndot_rounding_1(BO124+0.06*(BO131-28)))","v":""},null,{"$f":"IF(BQ124=\"\",\"\",mndot_rounding_1(BQ124+0.06*(BQ131-28)))","v":""},null,{"$f":"IF(BS124=\"\",\"\",mndot_rounding_1(BS124+0.06*(BS131-28)))","v":""},null,null,null,null,null,{"$f":"IF(BY124=\"\",\"\",mndot_rounding_1(BY124+0.06*(BY131-28)))","v":""},null,{"$f":"IF(CA124=\"\",\"\",mndot_rounding_1(CA124+0.06*(CA131-28)))","v":""},null,{"$f":"IF(CC124=\"\",\"\",mndot_rounding_1(CC124+0.06*(CC131-28)))","v":""},null,{"$f":"IF(CE124=\"\",\"\",mndot_rounding_1(CE124+0.06*(CE131-28)))","v":""},null,null,null,null,null,{"$f":"IF(CK124=\"\",\"\",mndot_rounding_1(CK124+0.06*(CK131-28)))","v":""},null,{"$f":"IF(CM124=\"\",\"\",mndot_rounding_1(CM124+0.06*(CM131-28)))","v":""},null,{"$f":"IF(CO124=\"\",\"\",mndot_rounding_1(CO124+0.06*(CO131-28)))","v":""},null,{"$f":"IF(CQ124=\"\",\"\",mndot_rounding_1(CQ124+0.06*(CQ131-28)))","v":""},null,null,null,null,null,{"$f":"IF(CW124=\"\",\"\",mndot_rounding_1(CW124+0.06*(CW131-28)))","v":""},null,{"$f":"IF(CY124=\"\",\"\",mndot_rounding_1(CY124+0.06*(CY131-28)))","v":""},null,{"$f":"IF(DA124=\"\",\"\",mndot_rounding_1(DA124+0.06*(DA131-28)))","v":""},null,{"$f":"IF(DC124=\"\",\"\",mndot_rounding_1(DC124+0.06*(DC131-28)))","v":""},null,null,null,null,null,{"$f":"IF(DI124=\"\",\"\",mndot_rounding_1(DI124+0.06*(DI131-28)))","v":""},null,{"$f":"IF(DK124=\"\",\"\",mndot_rounding_1(DK124+0.06*(DK131-28)))","v":""},null,{"$f":"IF(DM124=\"\",\"\",mndot_rounding_1(DM124+0.06*(DM131-28)))","v":""},null,{"$f":"IF(DO124=\"\",\"\",mndot_rounding_1(DO124+0.06*(DO131-28)))","v":""},null,null,null,null,null,{"$f":"IF(DU124=\"\",\"\",mndot_rounding_1(DU124+0.06*(DU131-28)))","v":""},null,{"$f":"IF(DW124=\"\",\"\",mndot_rounding_1(DW124+0.06*(DW131-28)))","v":""},null,{"$f":"IF(DY124=\"\",\"\",mndot_rounding_1(DY124+0.06*(DY131-28)))","v":""},null,{"$f":"IF(EA124=\"\",\"\",mndot_rounding_1(EA124+0.06*(EA131-28)))","v":""},null,null,null,null,null,{"$f":"IF(EG124=\"\",\"\",mndot_rounding_1(EG124+0.06*(EG131-28)))","v":""},null,{"$f":"IF(EI124=\"\",\"\",mndot_rounding_1(EI124+0.06*(EI131-28)))","v":""},null,{"$f":"IF(EK124=\"\",\"\",mndot_rounding_1(EK124+0.06*(EK131-28)))","v":""},null,{"$f":"IF(EM124=\"\",\"\",mndot_rounding_1(EM124+0.06*(EM131-28)))","v":""},null,null,null,null,null,{"$f":"IF(ES124=\"\",\"\",mndot_rounding_1(ES124+0.06*(ES131-28)))","v":""},null,{"$f":"IF(EU124=\"\",\"\",mndot_rounding_1(EU124+0.06*(EU131-28)))","v":""},null,{"$f":"IF(EW124=\"\",\"\",mndot_rounding_1(EW124+0.06*(EW131-28)))","v":""},null,{"$f":"IF(EY124=\"\",\"\",mndot_rounding_1(EY124+0.06*(EY131-28)))","v":""},null,null,null,null,null,{"$f":"IF(FE124=\"\",\"\",mndot_rounding_1(FE124+0.06*(FE131-28)))","v":""},null,{"$f":"IF(FG124=\"\",\"\",mndot_rounding_1(FG124+0.06*(FG131-28)))","v":""},null,{"$f":"IF(FI124=\"\",\"\",mndot_rounding_1(FI124+0.06*(FI131-28)))","v":""},null,{"$f":"IF(FK124=\"\",\"\",mndot_rounding_1(FK124+0.06*(FK131-28)))","v":""},null,null,null,null,null,{"$f":"IF(FQ124=\"\",\"\",mndot_rounding_1(FQ124+0.06*(FQ131-28)))","v":""},null,{"$f":"IF(FS124=\"\",\"\",mndot_rounding_1(FS124+0.06*(FS131-28)))","v":""},null,{"$f":"IF(FU124=\"\",\"\",mndot_rounding_1(FU124+0.06*(FU131-28)))","v":""},null,{"$f":"IF(FW124=\"\",\"\",mndot_rounding_1(FW124+0.06*(FW131-28)))","v":""},null,null,null,null,null,{"$f":"IF(GC124=\"\",\"\",mndot_rounding_1(GC124+0.06*(GC131-28)))","v":""},null,{"$f":"IF(GE124=\"\",\"\",mndot_rounding_1(GE124+0.06*(GE131-28)))","v":""},null,{"$f":"IF(GG124=\"\",\"\",mndot_rounding_1(GG124+0.06*(GG131-28)))","v":""},null,{"$f":"IF(GI124=\"\",\"\",mndot_rounding_1(GI124+0.06*(GI131-28)))","v":""},null,null,null,null,null,{"$f":"IF(GO124=\"\",\"\",mndot_rounding_1(GO124+0.06*(GO131-28)))","v":""},null,{"$f":"IF(GQ124=\"\",\"\",mndot_rounding_1(GQ124+0.06*(GQ131-28)))","v":""},null,{"$f":"IF(GS124=\"\",\"\",mndot_rounding_1(GS124+0.06*(GS131-28)))","v":""},null,{"$f":"IF(GU124=\"\",\"\",mndot_rounding_1(GU124+0.06*(GU131-28)))","v":""},null,null,null,null,null,{"$f":"IF(HA124=\"\",\"\",mndot_rounding_1(HA124+0.06*(HA131-28)))","v":""},null,{"$f":"IF(HC124=\"\",\"\",mndot_rounding_1(HC124+0.06*(HC131-28)))","v":""},null,{"$f":"IF(HE124=\"\",\"\",mndot_rounding_1(HE124+0.06*(HE131-28)))","v":""},null,{"$f":"IF(HG124=\"\",\"\",mndot_rounding_1(HG124+0.06*(HG131-28)))","v":""},null,null,null,null,null,{"$f":"IF(HM124=\"\",\"\",mndot_rounding_1(HM124+0.06*(HM131-28)))","v":""},null,{"$f":"IF(HO124=\"\",\"\",mndot_rounding_1(HO124+0.06*(HO131-28)))","v":""},null,{"$f":"IF(HQ124=\"\",\"\",mndot_rounding_1(HQ124+0.06*(HQ131-28)))","v":""},null,{"$f":"IF(HS124=\"\",\"\",mndot_rounding_1(HS124+0.06*(HS131-28)))","v":""},null,null,null,null,null,{"$f":"IF(HY124=\"\",\"\",mndot_rounding_1(HY124+0.06*(HY131-28)))","v":""},null,{"$f":"IF(IA124=\"\",\"\",mndot_rounding_1(IA124+0.06*(IA131-28)))","v":""},null,{"$f":"IF(IC124=\"\",\"\",mndot_rounding_1(IC124+0.06*(IC131-28)))","v":""},null,{"$f":"IF(IE124=\"\",\"\",mndot_rounding_1(IE124+0.06*(IE131-28)))","v":""},null,null,null,null,null,{"$f":"IF(IK124=\"\",\"\",mndot_rounding_1(IK124+0.06*(IK131-28)))","v":""},null,{"$f":"IF(IM124=\"\",\"\",mndot_rounding_1(IM124+0.06*(IM131-28)))","v":""},null,{"$f":"IF(IO124=\"\",\"\",mndot_rounding_1(IO124+0.06*(IO131-28)))","v":""},null,{"$f":"IF(IQ124=\"\",\"\",mndot_rounding_1(IQ124+0.06*(IQ131-28)))","v":""}]
[]
[]
[]
[null,null,null,"Gsb -4","Result","Gsb -4","Result","Gsb -4","Result","Gsb -4","Result",null,null,null,null,"Gsb -4","Result","Gsb -4","Result","Gsb -4","Result","Gsb -4","Result",null,null,null,null,"Gsb -4","Result","Gsb -4","Result","Gsb -4","Result","Gsb -4","Result",null,null,null,null,"Gsb -4","Result","Gsb -4","Result","Gsb -4","Result","Gsb -4","Result",null,null,null,null,"Gsb -4","Result","Gsb -4","Result","Gsb -4","Result","Gsb -4","Result",null,null,null,null,"Gsb -4","Result","Gsb -4","Result","Gsb -4","Result","Gsb -4","Result",null,null,null,null,"Gsb -4","Result","Gsb -4","Result","Gsb -4","Result","Gsb -4","Result",null,null,null,null,"Gsb -4","Result","Gsb -4","Result","Gsb -4","Result","Gsb -4","Result",null,null,null,null,"Gsb -4","Result","Gsb -4","Result","Gsb -4","Result","Gsb -4","Result",null,null,null,null,"Gsb -4","Result","Gsb -4","Result","Gsb -4","Result","Gsb -4","Result",null,null,null,null,"Gsb -4","Result","Gsb -4","Result","Gsb -4","Result","Gsb -4","Result",null,null,null,null,"Gsb -4","Result","Gsb -4","Result","Gsb -4","Result","Gsb -4","Result",null,null,null,null,"Gsb -4","Result","Gsb -4","Result","Gsb -4","Result","Gsb -4","Result",null,null,null,null,"Gsb -4","Result","Gsb -4","Result","Gsb -4","Result","Gsb -4","Result",null,null,null,null,"Gsb -4","Result","Gsb -4","Result","Gsb -4","Result","Gsb -4","Result",null,null,null,null,"Gsb -4","Result","Gsb -4","Result","Gsb -4","Result","Gsb -4","Result",null,null,null,null,"Gsb -4","Result","Gsb -4","Result","Gsb -4","Result","Gsb -4","Result",null,null,null,null,"Gsb -4","Result","Gsb -4","Result","Gsb -4","Result","Gsb -4","Result",null,null,null,null,"Gsb -4","Result","Gsb -4","Result","Gsb -4","Result","Gsb -4","Result",null,null,null,null,"Gsb -4","Result","Gsb -4","Result","Gsb -4","Result","Gsb -4","Result",null,null,null,null,"Gsb -4","Result","Gsb -4","Result","Gsb -4","Result","Gsb -4","Result"]
[null,null,null,{"$f":"IF(MDR!$AV$12=\"\",\"\",(IF(E87=\"\",E76,IF(E88=\"\",E77,IF(E89=\"\",E78,IF(E90=\"\",E79,IF(E91=\"\",E80,IF(E92=\"\",E81,\"\"))))))))","v":""},{"$f":"IF(E93=\"\",E82,IF(E94=\"\",E83,E84))","v":{"$error":"#DIV/0!"}},{"$f":"IF(MDR!$AV$12=\"\",\"\",(IF(G87=\"\",G76,IF(G88=\"\",G77,IF(G89=\"\",G78,IF(G90=\"\",G79,IF(G91=\"\",G80,IF(G92=\"\",G81,\"\"))))))))","v":""},{"$f":"IF(G93=\"\",G82,IF(G94=\"\",G83,G84))","v":{"$error":"#VALUE!"}},{"$f":"IF(MDR!$AV$12=\"\",\"\",(IF(I87=\"\",I76,IF(I88=\"\",I77,IF(I89=\"\",I78,IF(I90=\"\",I79,IF(I91=\"\",I80,IF(I92=\"\",I81,\"\"))))))))","v":""},{"$f":"IF(I93=\"\",I82,IF(I94=\"\",I83,I84))","v":{"$error":"#VALUE!"}},{"$f":"IF(MDR!$AV$12=\"\",\"\",(IF(K87=\"\",K76,IF(K88=\"\",K77,IF(K89=\"\",K78,IF(K90=\"\",K79,IF(K91=\"\",K80,IF(K92=\"\",K81,\"\"))))))))","v":""},{"$f":"IF(K93=\"\",K82,IF(K94=\"\",K83,K84))","v":{"$error":"#VALUE!"}},null,null,null,null,{"$f":"IF(MDR!$AV$12=\"\",\"\",(IF(Q87=\"\",Q76,IF(Q88=\"\",Q77,IF(Q89=\"\",Q78,IF(Q90=\"\",Q79,IF(Q91=\"\",Q80,IF(Q92=\"\",Q81,\"\"))))))))","v":""},{"$f":"IF(Q93=\"\",Q82,IF(Q94=\"\",Q83,Q84))","v":{"$error":"#VALUE!"}},{"$f":"IF(MDR!$AV$12=\"\",\"\",(IF(S87=\"\",S76,IF(S88=\"\",S77,IF(S89=\"\",S78,IF(S90=\"\",S79,IF(S91=\"\",S80,IF(S92=\"\",S81,\"\"))))))))","v":""},{"$f":"IF(S93=\"\",S82,IF(S94=\"\",S83,S84))","v":{"$error":"#VALUE!"}},{"$f":"IF(MDR!$AV$12=\"\",\"\",(IF(U87=\"\",U76,IF(U88=\"\",U77,IF(U89=\"\",U78,IF(U90=\"\",U79,IF(U91=\"\",U80,IF(U92=\"\",U81,\"\"))))))))","v":""},{"$f":"IF(U93=\"\",U82,IF(U94=\"\",U83,U84))","v":{"$error":"#VALUE!"}},{"$f":"IF(MDR!$AV$12=\"\",\"\",(IF(W87=\"\",W76,IF(W88=\"\",W77,IF(W89=\"\",W78,IF(W90=\"\",W79,IF(W91=\"\",W80,IF(W92=\"\",W81,\"\"))))))))","v":""},{"$f":"IF(W93=\"\",W82,IF(W94=\"\",W83,W84))","v":{"$error":"#VALUE!"}},null,null,null,null,{"$f":"IF(MDR!$AV$12=\"\",\"\",(IF(AC87=\"\",AC76,IF(AC88=\"\",AC77,IF(AC89=\"\",AC78,IF(AC90=\"\",AC79,IF(AC91=\"\",AC80,IF(AC92=\"\",AC81,\"\"))))))))","v":""},{"$f":"IF(AC93=\"\",AC82,IF(AC94=\"\",AC83,AC84))","v":{"$error":"#VALUE!"}},{"$f":"IF(MDR!$AV$12=\"\",\"\",(IF(AE87=\"\",AE76,IF(AE88=\"\",AE77,IF(AE89=\"\",AE78,IF(AE90=\"\",AE79,IF(AE91=\"\",AE80,IF(AE92=\"\",AE81,\"\"))))))))","v":""},{"$f":"IF(AE93=\"\",AE82,IF(AE94=\"\",AE83,AE84))","v":{"$error":"#VALUE!"}},{"$f":"IF(MDR!$AV$12=\"\",\"\",(IF(AG87=\"\",AG76,IF(AG88=\"\",AG77,IF(AG89=\"\",AG78,IF(AG90=\"\",AG79,IF(AG91=\"\",AG80,IF(AG92=\"\",AG81,\"\"))))))))","v":""},{"$f":"IF(AG93=\"\",AG82,IF(AG94=\"\",AG83,AG84))","v":{"$error":"#VALUE!"}},{"$f":"IF(MDR!$AV$12=\"\",\"\",(IF(AI87=\"\",AI76,IF(AI88=\"\",AI77,IF(AI89=\"\",AI78,IF(AI90=\"\",AI79,IF(AI91=\"\",AI80,IF(AI92=\"\",AI81,\"\"))))))))","v":""},{"$f":"IF(AI93=\"\",AI82,IF(AI94=\"\",AI83,AI84))","v":{"$error":"#VALUE!"}},null,null,null,null,{"$f":"IF(MDR!$AV$12=\"\",\"\",(IF(AO87=\"\",AO76,IF(AO88=\"\",AO77,IF(AO89=\"\",AO78,IF(AO90=\"\",AO79,IF(AO91=\"\",AO80,IF(AO92=\"\",AO81,\"\"))))))))","v":""},{"$f":"IF(AO93=\"\",AO82,IF(AO94=\"\",AO83,AO84))","v":{"$error":"#VALUE!"}},{"$f":"IF(MDR!$AV$12=\"\",\"\",(IF(AQ87=\"\",AQ76,IF(AQ88=\"\",AQ77,IF(AQ89=\"\",AQ78,IF(AQ90=\"\",AQ79,IF(AQ91=\"\",AQ80,IF(AQ92=\"\",AQ81,\"\"))))))))","v":""},{"$f":"IF(AQ93=\"\",AQ82,IF(AQ94=\"\",AQ83,AQ84))","v":{"$error":"#VALUE!"}},{"$f":"IF(MDR!$AV$12=\"\",\"\",(IF(AS87=\"\",AS76,IF(AS88=\"\",AS77,IF(AS89=\"\",AS78,IF(AS90=\"\",AS79,IF(AS91=\"\",AS80,IF(AS92=\"\",AS81,\"\"))))))))","v":""},{"$f":"IF(AS93=\"\",AS82,IF(AS94=\"\",AS83,AS84))","v":{"$error":"#VALUE!"}},{"$f":"IF(MDR!$AV$12=\"\",\"\",(IF(AU87=\"\",AU76,IF(AU88=\"\",AU77,IF(AU89=\"\",AU78,IF(AU90=\"\",AU79,IF(AU91=\"\",AU80,IF(AU92=\"\",AU81,\"\"))))))))","v":""},{"$f":"IF(AU93=\"\",AU82,IF(AU94=\"\",AU83,AU84))","v":{"$error":"#VALUE!"}},null,null,null,null,{"$f":"IF(MDR!$AV$12=\"\",\"\",(IF(BA87=\"\",BA76,IF(BA88=\"\",BA77,IF(BA89=\"\",BA78,IF(BA90=\"\",BA79,IF(BA91=\"\",BA80,IF(BA92=\"\",BA81,\"\"))))))))","v":""},{"$f":"IF(BA93=\"\",BA82,IF(BA94=\"\",BA83,BA84))","v":{"$error":"#VALUE!"}},{"$f":"IF(MDR!$AV$12=\"\",\"\",(IF(BC87=\"\",BC76,IF(BC88=\"\",BC77,IF(BC89=\"\",BC78,IF(BC90=\"\",BC79,IF(BC91=\"\",BC80,IF(BC92=\"\",BC81,\"\"))))))))","v":""},{"$f":"IF(BC93=\"\",BC82,IF(BC94=\"\",BC83,BC84))","v":{"$error":"#VALUE!"}},{"$f":"IF(MDR!$AV$12=\"\",\"\",(IF(BE87=\"\",BE76,IF(BE88=\"\",BE77,IF(BE89=\"\",BE78,IF(BE90=\"\",BE79,IF(BE91=\"\",BE80,IF(BE92=\"\",BE81,\"\"))))))))","v":""},{"$f":"IF(BE93=\"\",BE82,IF(BE94=\"\",BE83,BE84))","v":{"$error":"#VALUE!"}},{"$f":"IF(MDR!$AV$12=\"\",\"\",(IF(BG87=\"\",BG76,IF(BG88=\"\",BG77,IF(BG89=\"\",BG78,IF(BG90=\"\",BG79,IF(BG91=\"\",BG80,IF(BG92=\"\",BG81,\"\"))))))))","v":""},{"$f":"IF(BG93=\"\",BG82,IF(BG94=\"\",BG83,BG84))","v":{"$error":"#VALUE!"}},null,null,null,null,{"$f":"IF(MDR!$AV$12=\"\",\"\",(IF(BM87=\"\",BM76,IF(BM88=\"\",BM77,IF(BM89=\"\",BM78,IF(BM90=\"\",BM79,IF(BM91=\"\",BM80,IF(BM92=\"\",BM81,\"\"))))))))","v":""},{"$f":"IF(BM93=\"\",BM82,IF(BM94=\"\",BM83,BM84))","v":{"$error":"#VALUE!"}},{"$f":"IF(MDR!$AV$12=\"\",\"\",(IF(BO87=\"\",BO76,IF(BO88=\"\",BO77,IF(BO89=\"\",BO78,IF(BO90=\"\",BO79,IF(BO91=\"\",BO80,IF(BO92=\"\",BO81,\"\"))))))))","v":""},{"$f":"IF(BO93=\"\",BO82,IF(BO94=\"\",BO83,BO84))","v":{"$error":"#VALUE!"}},{"$f":"IF(MDR!$AV$12=\"\",\"\",(IF(BQ87=\"\",BQ76,IF(BQ88=\"\",BQ77,IF(BQ89=\"\",BQ78,IF(BQ90=\"\",BQ79,IF(BQ91=\"\",BQ80,IF(BQ92=\"\",BQ81,\"\"))))))))","v":""},{"$f":"IF(BQ93=\"\",BQ82,IF(BQ94=\"\",BQ83,BQ84))","v":{"$error":"#VALUE!"}},{"$f":"IF(MDR!$AV$12=\"\",\"\",(IF(BS87=\"\",BS76,IF(BS88=\"\",BS77,IF(BS89=\"\",BS78,IF(BS90=\"\",BS79,IF(BS91=\"\",BS80,IF(BS92=\"\",BS81,\"\"))))))))","v":""},{"$f":"IF(BS93=\"\",BS82,IF(BS94=\"\",BS83,BS84))","v":{"$error":"#VALUE!"}},null,null,null,null,{"$f":"IF(MDR!$AV$12=\"\",\"\",(IF(BY87=\"\",BY76,IF(BY88=\"\",BY77,IF(BY89=\"\",BY78,IF(BY90=\"\",BY79,IF(BY91=\"\",BY80,IF(BY92=\"\",BY81,\"\"))))))))","v":""},{"$f":"IF(BY93=\"\",BY82,IF(BY94=\"\",BY83,BY84))","v":{"$error":"#VALUE!"}},{"$f":"IF(MDR!$AV$12=\"\",\"\",(IF(CA87=\"\",CA76,IF(CA88=\"\",CA77,IF(CA89=\"\",CA78,IF(CA90=\"\",CA79,IF(CA91=\"\",CA80,IF(CA92=\"\",CA81,\"\"))))))))","v":""},{"$f":"IF(CA93=\"\",CA82,IF(CA94=\"\",CA83,CA84))","v":{"$error":"#VALUE!"}},{"$f":"IF(MDR!$AV$12=\"\",\"\",(IF(CC87=\"\",CC76,IF(CC88=\"\",CC77,IF(CC89=\"\",CC78,IF(CC90=\"\",CC79,IF(CC91=\"\",CC80,IF(CC92=\"\",CC81,\"\"))))))))","v":""},{"$f":"IF(CC93=\"\",CC82,IF(CC94=\"\",CC83,CC84))","v":{"$error":"#VALUE!"}},{"$f":"IF(MDR!$AV$12=\"\",\"\",(IF(CE87=\"\",CE76,IF(CE88=\"\",CE77,IF(CE89=\"\",CE78,IF(CE90=\"\",CE79,IF(CE91=\"\",CE80,IF(CE92=\"\",CE81,\"\"))))))))","v":""},{"$f":"IF(CE93=\"\",CE82,IF(CE94=\"\",CE83,CE84))","v":{"$error":"#VALUE!"}},null,null,null,null,{"$f":"IF(MDR!$AV$12=\"\",\"\",(IF(CK87=\"\",CK76,IF(CK88=\"\",CK77,IF(CK89=\"\",CK78,IF(CK90=\"\",CK79,IF(CK91=\"\",CK80,IF(CK92=\"\",CK81,\"\"))))))))","v":""},{"$f":"IF(CK93=\"\",CK82,IF(CK94=\"\",CK83,CK84))","v":{"$error":"#VALUE!"}},{"$f":"IF(MDR!$AV$12=\"\",\"\",(IF(CM87=\"\",CM76,IF(CM88=\"\",CM77,IF(CM89=\"\",CM78,IF(CM90=\"\",CM79,IF(CM91=\"\",CM80,IF(CM92=\"\",CM81,\"\"))))))))","v":""},{"$f":"IF(CM93=\"\",CM82,IF(CM94=\"\",CM83,CM84))","v":{"$error":"#VALUE!"}},{"$f":"IF(MDR!$AV$12=\"\",\"\",(IF(CO87=\"\",CO76,IF(CO88=\"\",CO77,IF(CO89=\"\",CO78,IF(CO90=\"\",CO79,IF(CO91=\"\",CO80,IF(CO92=\"\",CO81,\"\"))))))))","v":""},{"$f":"IF(CO93=\"\",CO82,IF(CO94=\"\",CO83,CO84))","v":{"$error":"#VALUE!"}},{"$f":"IF(MDR!$AV$12=\"\",\"\",(IF(CQ87=\"\",CQ76,IF(CQ88=\"\",CQ77,IF(CQ89=\"\",CQ78,IF(CQ90=\"\",CQ79,IF(CQ91=\"\",CQ80,IF(CQ92=\"\",CQ81,\"\"))))))))","v":""},{"$f":"IF(CQ93=\"\",CQ82,IF(CQ94=\"\",CQ83,CQ84))","v":{"$error":"#VALUE!"}},null,null,null,null,{"$f":"IF(MDR!$AV$12=\"\",\"\",(IF(CW87=\"\",CW76,IF(CW88=\"\",CW77,IF(CW89=\"\",CW78,IF(CW90=\"\",CW79,IF(CW91=\"\",CW80,IF(CW92=\"\",CW81,\"\"))))))))","v":""},{"$f":"IF(CW93=\"\",CW82,IF(CW94=\"\",CW83,CW84))","v":{"$error":"#VALUE!"}},{"$f":"IF(MDR!$AV$12=\"\",\"\",(IF(CY87=\"\",CY76,IF(CY88=\"\",CY77,IF(CY89=\"\",CY78,IF(CY90=\"\",CY79,IF(CY91=\"\",CY80,IF(CY92=\"\",CY81,\"\"))))))))","v":""},{"$f":"IF(CY93=\"\",CY82,IF(CY94=\"\",CY83,CY84))","v":{"$error":"#VALUE!"}},{"$f":"IF(MDR!$AV$12=\"\",\"\",(IF(DA87=\"\",DA76,IF(DA88=\"\",DA77,IF(DA89=\"\",DA78,IF(DA90=\"\",DA79,IF(DA91=\"\",DA80,IF(DA92=\"\",DA81,\"\"))))))))","v":""},{"$f":"IF(DA93=\"\",DA82,IF(DA94=\"\",DA83,DA84))","v":{"$error":"#VALUE!"}},{"$f":"IF(MDR!$AV$12=\"\",\"\",(IF(DC87=\"\",DC76,IF(DC88=\"\",DC77,IF(DC89=\"\",DC78,IF(DC90=\"\",DC79,IF(DC91=\"\",DC80,IF(DC92=\"\",DC81,\"\"))))))))","v":""},{"$f":"IF(DC93=\"\",DC82,IF(DC94=\"\",DC83,DC84))","v":{"$error":"#VALUE!"}},null,null,null,null,{"$f":"IF(MDR!$AV$12=\"\",\"\",(IF(DI87=\"\",DI76,IF(DI88=\"\",DI77,IF(DI89=\"\",DI78,IF(DI90=\"\",DI79,IF(DI91=\"\",DI80,IF(DI92=\"\",DI81,\"\"))))))))","v":""},{"$f":"IF(DI93=\"\",DI82,IF(DI94=\"\",DI83,DI84))","v":{"$error":"#VALUE!"}},{"$f":"IF(MDR!$AV$12=\"\",\"\",(IF(DK87=\"\",DK76,IF(DK88=\"\",DK77,IF(DK89=\"\",DK78,IF(DK90=\"\",DK79,IF(DK91=\"\",DK80,IF(DK92=\"\",DK81,\"\"))))))))","v":""},{"$f":"IF(DK93=\"\",DK82,IF(DK94=\"\",DK83,DK84))","v":{"$error":"#VALUE!"}},{"$f":"IF(MDR!$AV$12=\"\",\"\",(IF(DM87=\"\",DM76,IF(DM88=\"\",DM77,IF(DM89=\"\",DM78,IF(DM90=\"\",DM79,IF(DM91=\"\",DM80,IF(DM92=\"\",DM81,\"\"))))))))","v":""},{"$f":"IF(DM93=\"\",DM82,IF(DM94=\"\",DM83,DM84))","v":{"$error":"#VALUE!"}},{"$f":"IF(MDR!$AV$12=\"\",\"\",(IF(DO87=\"\",DO76,IF(DO88=\"\",DO77,IF(DO89=\"\",DO78,IF(DO90=\"\",DO79,IF(DO91=\"\",DO80,IF(DO92=\"\",DO81,\"\"))))))))","v":""},{"$f":"IF(DO93=\"\",DO82,IF(DO94=\"\",DO83,DO84))","v":{"$error":"#VALUE!"}},null,null,null,null,{"$f":"IF(MDR!$AV$12=\"\",\"\",(IF(DU87=\"\",DU76,IF(DU88=\"\",DU77,IF(DU89=\"\",DU78,IF(DU90=\"\",DU79,IF(DU91=\"\",DU80,IF(DU92=\"\",DU81,\"\"))))))))","v":""},{"$f":"IF(DU93=\"\",DU82,IF(DU94=\"\",DU83,DU84))","v":{"$error":"#VALUE!"}},{"$f":"IF(MDR!$AV$12=\"\",\"\",(IF(DW87=\"\",DW76,IF(DW88=\"\",DW77,IF(DW89=\"\",DW78,IF(DW90=\"\",DW79,IF(DW91=\"\",DW80,IF(DW92=\"\",DW81,\"\"))))))))","v":""},{"$f":"IF(DW93=\"\",DW82,IF(DW94=\"\",DW83,DW84))","v":{"$error":"#VALUE!"}},{"$f":"IF(MDR!$AV$12=\"\",\"\",(IF(DY87=\"\",DY76,IF(DY88=\"\",DY77,IF(DY89=\"\",DY78,IF(DY90=\"\",DY79,IF(DY91=\"\",DY80,IF(DY92=\"\",DY81,\"\"))))))))","v":""},{"$f":"IF(DY93=\"\",DY82,IF(DY94=\"\",DY83,DY84))","v":{"$error":"#VALUE!"}},{"$f":"IF(MDR!$AV$12=\"\",\"\",(IF(EA87=\"\",EA76,IF(EA88=\"\",EA77,IF(EA89=\"\",EA78,IF(EA90=\"\",EA79,IF(EA91=\"\",EA80,IF(EA92=\"\",EA81,\"\"))))))))","v":""},{"$f":"IF(EA93=\"\",EA82,IF(EA94=\"\",EA83,EA84))","v":{"$error":"#VALUE!"}},null,null,null,null,{"$f":"IF(MDR!$AV$12=\"\",\"\",(IF(EG87=\"\",EG76,IF(EG88=\"\",EG77,IF(EG89=\"\",EG78,IF(EG90=\"\",EG79,IF(EG91=\"\",EG80,IF(EG92=\"\",EG81,\"\"))))))))","v":""},{"$f":"IF(EG93=\"\",EG82,IF(EG94=\"\",EG83,EG84))","v":{"$error":"#VALUE!"}},{"$f":"IF(MDR!$AV$12=\"\",\"\",(IF(EI87=\"\",EI76,IF(EI88=\"\",EI77,IF(EI89=\"\",EI78,IF(EI90=\"\",EI79,IF(EI91=\"\",EI80,IF(EI92=\"\",EI81,\"\"))))))))","v":""},{"$f":"IF(EI93=\"\",EI82,IF(EI94=\"\",EI83,EI84))","v":{"$error":"#VALUE!"}},{"$f":"IF(MDR!$AV$12=\"\",\"\",(IF(EK87=\"\",EK76,IF(EK88=\"\",EK77,IF(EK89=\"\",EK78,IF(EK90=\"\",EK79,IF(EK91=\"\",EK80,IF(EK92=\"\",EK81,\"\"))))))))","v":""},{"$f":"IF(EK93=\"\",EK82,IF(EK94=\"\",EK83,EK84))","v":{"$error":"#VALUE!"}},{"$f":"IF(MDR!$AV$12=\"\",\"\",(IF(EM87=\"\",EM76,IF(EM88=\"\",EM77,IF(EM89=\"\",EM78,IF(EM90=\"\",EM79,IF(EM91=\"\",EM80,IF(EM92=\"\",EM81,\"\"))))))))","v":""},{"$f":"IF(EM93=\"\",EM82,IF(EM94=\"\",EM83,EM84))","v":{"$error":"#VALUE!"}},null,null,null,null,{"$f":"IF(MDR!$AV$12=\"\",\"\",(IF(ES87=\"\",ES76,IF(ES88=\"\",ES77,IF(ES89=\"\",ES78,IF(ES90=\"\",ES79,IF(ES91=\"\",ES80,IF(ES92=\"\",ES81,\"\"))))))))","v":""},{"$f":"IF(ES93=\"\",ES82,IF(ES94=\"\",ES83,ES84))","v":{"$error":"#VALUE!"}},{"$f":"IF(MDR!$AV$12=\"\",\"\",(IF(EU87=\"\",EU76,IF(EU88=\"\",EU77,IF(EU89=\"\",EU78,IF(EU90=\"\",EU79,IF(EU91=\"\",EU80,IF(EU92=\"\",EU81,\"\"))))))))","v":""},{"$f":"IF(EU93=\"\",EU82,IF(EU94=\"\",EU83,EU84))","v":{"$error":"#VALUE!"}},{"$f":"IF(MDR!$AV$12=\"\",\"\",(IF(EW87=\"\",EW76,IF(EW88=\"\",EW77,IF(EW89=\"\",EW78,IF(EW90=\"\",EW79,IF(EW91=\"\",EW80,IF(EW92=\"\",EW81,\"\"))))))))","v":""},{"$f":"IF(EW93=\"\",EW82,IF(EW94=\"\",EW83,EW84))","v":{"$error":"#VALUE!"}},{"$f":"IF(MDR!$AV$12=\"\",\"\",(IF(EY87=\"\",EY76,IF(EY88=\"\",EY77,IF(EY89=\"\",EY78,IF(EY90=\"\",EY79,IF(EY91=\"\",EY80,IF(EY92=\"\",EY81,\"\"))))))))","v":""},{"$f":"IF(EY93=\"\",EY82,IF(EY94=\"\",EY83,EY84))","v":{"$error":"#VALUE!"}},null,null,null,null,{"$f":"IF(MDR!$AV$12=\"\",\"\",(IF(FE87=\"\",FE76,IF(FE88=\"\",FE77,IF(FE89=\"\",FE78,IF(FE90=\"\",FE79,IF(FE91=\"\",FE80,IF(FE92=\"\",FE81,\"\"))))))))","v":""},{"$f":"IF(FE93=\"\",FE82,IF(FE94=\"\",FE83,FE84))","v":{"$error":"#VALUE!"}},{"$f":"IF(MDR!$AV$12=\"\",\"\",(IF(FG87=\"\",FG76,IF(FG88=\"\",FG77,IF(FG89=\"\",FG78,IF(FG90=\"\",FG79,IF(FG91=\"\",FG80,IF(FG92=\"\",FG81,\"\"))))))))","v":""},{"$f":"IF(FG93=\"\",FG82,IF(FG94=\"\",FG83,FG84))","v":{"$error":"#VALUE!"}},{"$f":"IF(MDR!$AV$12=\"\",\"\",(IF(FI87=\"\",FI76,IF(FI88=\"\",FI77,IF(FI89=\"\",FI78,IF(FI90=\"\",FI79,IF(FI91=\"\",FI80,IF(FI92=\"\",FI81,\"\"))))))))","v":""},{"$f":"IF(FI93=\"\",FI82,IF(FI94=\"\",FI83,FI84))","v":{"$error":"#VALUE!"}},{"$f":"IF(MDR!$AV$12=\"\",\"\",(IF(FK87=\"\",FK76,IF(FK88=\"\",FK77,IF(FK89=\"\",FK78,IF(FK90=\"\",FK79,IF(FK91=\"\",FK80,IF(FK92=\"\",FK81,\"\"))))))))","v":""},{"$f":"IF(FK93=\"\",FK82,IF(FK94=\"\",FK83,FK84))","v":{"$error":"#VALUE!"}},null,null,null,null,{"$f":"IF(MDR!$AV$12=\"\",\"\",(IF(FQ87=\"\",FQ76,IF(FQ88=\"\",FQ77,IF(FQ89=\"\",FQ78,IF(FQ90=\"\",FQ79,IF(FQ91=\"\",FQ80,IF(FQ92=\"\",FQ81,\"\"))))))))","v":""},{"$f":"IF(FQ93=\"\",FQ82,IF(FQ94=\"\",FQ83,FQ84))","v":{"$error":"#VALUE!"}},{"$f":"IF(MDR!$AV$12=\"\",\"\",(IF(FS87=\"\",FS76,IF(FS88=\"\",FS77,IF(FS89=\"\",FS78,IF(FS90=\"\",FS79,IF(FS91=\"\",FS80,IF(FS92=\"\",FS81,\"\"))))))))","v":""},{"$f":"IF(FS93=\"\",FS82,IF(FS94=\"\",FS83,FS84))","v":{"$error":"#VALUE!"}},{"$f":"IF(MDR!$AV$12=\"\",\"\",(IF(FU87=\"\",FU76,IF(FU88=\"\",FU77,IF(FU89=\"\",FU78,IF(FU90=\"\",FU79,IF(FU91=\"\",FU80,IF(FU92=\"\",FU81,\"\"))))))))","v":""},{"$f":"IF(FU93=\"\",FU82,IF(FU94=\"\",FU83,FU84))","v":{"$error":"#VALUE!"}},{"$f":"IF(MDR!$AV$12=\"\",\"\",(IF(FW87=\"\",FW76,IF(FW88=\"\",FW77,IF(FW89=\"\",FW78,IF(FW90=\"\",FW79,IF(FW91=\"\",FW80,IF(FW92=\"\",FW81,\"\"))))))))","v":""},{"$f":"IF(FW93=\"\",FW82,IF(FW94=\"\",FW83,FW84))","v":{"$error":"#VALUE!"}},null,null,null,null,{"$f":"IF(MDR!$AV$12=\"\",\"\",(IF(GC87=\"\",GC76,IF(GC88=\"\",GC77,IF(GC89=\"\",GC78,IF(GC90=\"\",GC79,IF(GC91=\"\",GC80,IF(GC92=\"\",GC81,\"\"))))))))","v":""},{"$f":"IF(GC93=\"\",GC82,IF(GC94=\"\",GC83,GC84))","v":{"$error":"#VALUE!"}},{"$f":"IF(MDR!$AV$12=\"\",\"\",(IF(GE87=\"\",GE76,IF(GE88=\"\",GE77,IF(GE89=\"\",GE78,IF(GE90=\"\",GE79,IF(GE91=\"\",GE80,IF(GE92=\"\",GE81,\"\"))))))))","v":""},{"$f":"IF(GE93=\"\",GE82,IF(GE94=\"\",GE83,GE84))","v":{"$error":"#VALUE!"}},{"$f":"IF(MDR!$AV$12=\"\",\"\",(IF(GG87=\"\",GG76,IF(GG88=\"\",GG77,IF(GG89=\"\",GG78,IF(GG90=\"\",GG79,IF(GG91=\"\",GG80,IF(GG92=\"\",GG81,\"\"))))))))","v":""},{"$f":"IF(GG93=\"\",GG82,IF(GG94=\"\",GG83,GG84))","v":{"$error":"#VALUE!"}},{"$f":"IF(MDR!$AV$12=\"\",\"\",(IF(GI87=\"\",GI76,IF(GI88=\"\",GI77,IF(GI89=\"\",GI78,IF(GI90=\"\",GI79,IF(GI91=\"\",GI80,IF(GI92=\"\",GI81,\"\"))))))))","v":""},{"$f":"IF(GI93=\"\",GI82,IF(GI94=\"\",GI83,GI84))","v":{"$error":"#VALUE!"}},null,null,null,null,{"$f":"IF(MDR!$AV$12=\"\",\"\",(IF(GO87=\"\",GO76,IF(GO88=\"\",GO77,IF(GO89=\"\",GO78,IF(GO90=\"\",GO79,IF(GO91=\"\",GO80,IF(GO92=\"\",GO81,\"\"))))))))","v":""},{"$f":"IF(GO93=\"\",GO82,IF(GO94=\"\",GO83,GO84))","v":{"$error":"#VALUE!"}},{"$f":"IF(MDR!$AV$12=\"\",\"\",(IF(GQ87=\"\",GQ76,IF(GQ88=\"\",GQ77,IF(GQ89=\"\",GQ78,IF(GQ90=\"\",GQ79,IF(GQ91=\"\",GQ80,IF(GQ92=\"\",GQ81,\"\"))))))))","v":""},{"$f":"IF(GQ93=\"\",GQ82,IF(GQ94=\"\",GQ83,GQ84))","v":{"$error":"#VALUE!"}},{"$f":"IF(MDR!$AV$12=\"\",\"\",(IF(GS87=\"\",GS76,IF(GS88=\"\",GS77,IF(GS89=\"\",GS78,IF(GS90=\"\",GS79,IF(GS91=\"\",GS80,IF(GS92=\"\",GS81,\"\"))))))))","v":""},{"$f":"IF(GS93=\"\",GS82,IF(GS94=\"\",GS83,GS84))","v":{"$error":"#VALUE!"}},{"$f":"IF(MDR!$AV$12=\"\",\"\",(IF(GU87=\"\",GU76,IF(GU88=\"\",GU77,IF(GU89=\"\",GU78,IF(GU90=\"\",GU79,IF(GU91=\"\",GU80,IF(GU92=\"\",GU81,\"\"))))))))","v":""},{"$f":"IF(GU93=\"\",GU82,IF(GU94=\"\",GU83,GU84))","v":{"$error":"#VALUE!"}},null,null,null,null,{"$f":"IF(MDR!$AV$12=\"\",\"\",(IF(HA87=\"\",HA76,IF(HA88=\"\",HA77,IF(HA89=\"\",HA78,IF(HA90=\"\",HA79,IF(HA91=\"\",HA80,IF(HA92=\"\",HA81,\"\"))))))))","v":""},{"$f":"IF(HA93=\"\",HA82,IF(HA94=\"\",HA83,HA84))","v":{"$error":"#VALUE!"}},{"$f":"IF(MDR!$AV$12=\"\",\"\",(IF(HC87=\"\",HC76,IF(HC88=\"\",HC77,IF(HC89=\"\",HC78,IF(HC90=\"\",HC79,IF(HC91=\"\",HC80,IF(HC92=\"\",HC81,\"\"))))))))","v":""},{"$f":"IF(HC93=\"\",HC82,IF(HC94=\"\",HC83,HC84))","v":{"$error":"#VALUE!"}},{"$f":"IF(MDR!$AV$12=\"\",\"\",(IF(HE87=\"\",HE76,IF(HE88=\"\",HE77,IF(HE89=\"\",HE78,IF(HE90=\"\",HE79,IF(HE91=\"\",HE80,IF(HE92=\"\",HE81,\"\"))))))))","v":""},{"$f":"IF(HE93=\"\",HE82,IF(HE94=\"\",HE83,HE84))","v":{"$error":"#VALUE!"}},{"$f":"IF(MDR!$AV$12=\"\",\"\",(IF(HG87=\"\",HG76,IF(HG88=\"\",HG77,IF(HG89=\"\",HG78,IF(HG90=\"\",HG79,IF(HG91=\"\",HG80,IF(HG92=\"\",HG81,\"\"))))))))","v":""},{"$f":"IF(HG93=\"\",HG82,IF(HG94=\"\",HG83,HG84))","v":{"$error":"#VALUE!"}},null,null,null,null,{"$f":"IF(MDR!$AV$12=\"\",\"\",(IF(HM87=\"\",HM76,IF(HM88=\"\",HM77,IF(HM89=\"\",HM78,IF(HM90=\"\",HM79,IF(HM91=\"\",HM80,IF(HM92=\"\",HM81,\"\"))))))))","v":""},{"$f":"IF(HM93=\"\",HM82,IF(HM94=\"\",HM83,HM84))","v":{"$error":"#VALUE!"}},{"$f":"IF(MDR!$AV$12=\"\",\"\",(IF(HO87=\"\",HO76,IF(HO88=\"\",HO77,IF(HO89=\"\",HO78,IF(HO90=\"\",HO79,IF(HO91=\"\",HO80,IF(HO92=\"\",HO81,\"\"))))))))","v":""},{"$f":"IF(HO93=\"\",HO82,IF(HO94=\"\",HO83,HO84))","v":{"$error":"#VALUE!"}},{"$f":"IF(MDR!$AV$12=\"\",\"\",(IF(HQ87=\"\",HQ76,IF(HQ88=\"\",HQ77,IF(HQ89=\"\",HQ78,IF(HQ90=\"\",HQ79,IF(HQ91=\"\",HQ80,IF(HQ92=\"\",HQ81,\"\"))))))))","v":""},{"$f":"IF(HQ93=\"\",HQ82,IF(HQ94=\"\",HQ83,HQ84))","v":{"$error":"#VALUE!"}},{"$f":"IF(MDR!$AV$12=\"\",\"\",(IF(HS87=\"\",HS76,IF(HS88=\"\",HS77,IF(HS89=\"\",HS78,IF(HS90=\"\",HS79,IF(HS91=\"\",HS80,IF(HS92=\"\",HS81,\"\"))))))))","v":""},{"$f":"IF(HS93=\"\",HS82,IF(HS94=\"\",HS83,HS84))","v":{"$error":"#VALUE!"}},null,null,null,null,{"$f":"IF(MDR!$AV$12=\"\",\"\",(IF(HY87=\"\",HY76,IF(HY88=\"\",HY77,IF(HY89=\"\",HY78,IF(HY90=\"\",HY79,IF(HY91=\"\",HY80,IF(HY92=\"\",HY81,\"\"))))))))","v":""},{"$f":"IF(HY93=\"\",HY82,IF(HY94=\"\",HY83,HY84))","v":{"$error":"#VALUE!"}},{"$f":"IF(MDR!$AV$12=\"\",\"\",(IF(IA87=\"\",IA76,IF(IA88=\"\",IA77,IF(IA89=\"\",IA78,IF(IA90=\"\",IA79,IF(IA91=\"\",IA80,IF(IA92=\"\",IA81,\"\"))))))))","v":""},{"$f":"IF(IA93=\"\",IA82,IF(IA94=\"\",IA83,IA84))","v":{"$error":"#VALUE!"}},{"$f":"IF(MDR!$AV$12=\"\",\"\",(IF(IC87=\"\",IC76,IF(IC88=\"\",IC77,IF(IC89=\"\",IC78,IF(IC90=\"\",IC79,IF(IC91=\"\",IC80,IF(IC92=\"\",IC81,\"\"))))))))","v":""},{"$f":"IF(IC93=\"\",IC82,IF(IC94=\"\",IC83,IC84))","v":{"$error":"#VALUE!"}},{"$f":"IF(MDR!$AV$12=\"\",\"\",(IF(IE87=\"\",IE76,IF(IE88=\"\",IE77,IF(IE89=\"\",IE78,IF(IE90=\"\",IE79,IF(IE91=\"\",IE80,IF(IE92=\"\",IE81,\"\"))))))))","v":""},{"$f":"IF(IE93=\"\",IE82,IF(IE94=\"\",IE83,IE84))","v":{"$error":"#VALUE!"}},null,null,null,null,{"$f":"IF(MDR!$AV$12=\"\",\"\",(IF(IK87=\"\",IK76,IF(IK88=\"\",IK77,IF(IK89=\"\",IK78,IF(IK90=\"\",IK79,IF(IK91=\"\",IK80,IF(IK92=\"\",IK81,\"\"))))))))","v":""},{"$f":"IF(IK93=\"\",IK82,IF(IK94=\"\",IK83,IK84))","v":{"$error":"#VALUE!"}},{"$f":"IF(MDR!$AV$12=\"\",\"\",(IF(IM87=\"\",IM76,IF(IM88=\"\",IM77,IF(IM89=\"\",IM78,IF(IM90=\"\",IM79,IF(IM91=\"\",IM80,IF(IM92=\"\",IM81,\"\"))))))))","v":""},{"$f":"IF(IM93=\"\",IM82,IF(IM94=\"\",IM83,IM84))","v":{"$error":"#VALUE!"}},{"$f":"IF(MDR!$AV$12=\"\",\"\",(IF(IO87=\"\",IO76,IF(IO88=\"\",IO77,IF(IO89=\"\",IO78,IF(IO90=\"\",IO79,IF(IO91=\"\",IO80,IF(IO92=\"\",IO81,\"\"))))))))","v":""},{"$f":"IF(IO93=\"\",IO82,IF(IO94=\"\",IO83,IO84))","v":{"$error":"#VALUE!"}},{"$f":"IF(MDR!$AV$12=\"\",\"\",(IF(IQ87=\"\",IQ76,IF(IQ88=\"\",IQ77,IF(IQ89=\"\",IQ78,IF(IQ90=\"\",IQ79,IF(IQ91=\"\",IQ80,IF(IQ92=\"\",IQ81,\"\"))))))))","v":""},{"$f":"IF(IQ93=\"\",IQ82,IF(IQ94=\"\",IQ83,IQ84))","v":{"$error":"#VALUE!"}}]
[null,null,null,null,{"$f":"mndot_rounding_3(IF(D137=\"\",E137,D137))","v":{"$error":"#VALUE!"}},null,{"$f":"mndot_rounding_3(IF(F137=\"\",G137,F137))","v":{"$error":"#VALUE!"}},null,{"$f":"mndot_rounding_3(IF(H137=\"\",I137,H137))","v":{"$error":"#VALUE!"}},null,{"$f":"mndot_rounding_3(IF(J137=\"\",K137,J137))","v":{"$error":"#VALUE!"}},null,null,null,null,null,{"$f":"mndot_rounding_3(IF(P137=\"\",Q137,P137))","v":{"$error":"#VALUE!"}},null,{"$f":"mndot_rounding_3(IF(R137=\"\",S137,R137))","v":{"$error":"#VALUE!"}},null,{"$f":"mndot_rounding_3(IF(T137=\"\",U137,T137))","v":{"$error":"#VALUE!"}},null,{"$f":"mndot_rounding_3(IF(V137=\"\",W137,V137))","v":{"$error":"#VALUE!"}},null,null,null,null,null,{"$f":"mndot_rounding_3(IF(AB137=\"\",AC137,AB137))","v":{"$error":"#VALUE!"}},null,{"$f":"mndot_rounding_3(IF(AD137=\"\",AE137,AD137))","v":{"$error":"#VALUE!"}},null,{"$f":"mndot_rounding_3(IF(AF137=\"\",AG137,AF137))","v":{"$error":"#VALUE!"}},null,{"$f":"mndot_rounding_3(IF(AH137=\"\",AI137,AH137))","v":{"$error":"#VALUE!"}},null,null,null,null,null,{"$f":"mndot_rounding_3(IF(AN137=\"\",AO137,AN137))","v":{"$error":"#VALUE!"}},null,{"$f":"mndot_rounding_3(IF(AP137=\"\",AQ137,AP137))","v":{"$error":"#VALUE!"}},null,{"$f":"mndot_rounding_3(IF(AR137=\"\",AS137,AR137))","v":{"$error":"#VALUE!"}},null,{"$f":"mndot_rounding_3(IF(AT137=\"\",AU137,AT137))","v":{"$error":"#VALUE!"}},null,null,null,null,null,{"$f":"mndot_rounding_3(IF(AZ137=\"\",BA137,AZ137))","v":{"$error":"#VALUE!"}},null,{"$f":"mndot_rounding_3(IF(BB137=\"\",BC137,BB137))","v":{"$error":"#VALUE!"}},null,{"$f":"mndot_rounding_3(IF(BD137=\"\",BE137,BD137))","v":{"$error":"#VALUE!"}},null,{"$f":"mndot_rounding_3(IF(BF137=\"\",BG137,BF137))","v":{"$error":"#VALUE!"}},null,null,null,null,null,{"$f":"mndot_rounding_3(IF(BL137=\"\",BM137,BL137))","v":{"$error":"#VALUE!"}},null,{"$f":"mndot_rounding_3(IF(BN137=\"\",BO137,BN137))","v":{"$error":"#VALUE!"}},null,{"$f":"mndot_rounding_3(IF(BP137=\"\",BQ137,BP137))","v":{"$error":"#VALUE!"}},null,{"$f":"mndot_rounding_3(IF(BR137=\"\",BS137,BR137))","v":{"$error":"#VALUE!"}},null,null,null,null,null,{"$f":"mndot_rounding_3(IF(BX137=\"\",BY137,BX137))","v":{"$error":"#VALUE!"}},null,{"$f":"mndot_rounding_3(IF(BZ137=\"\",CA137,BZ137))","v":{"$error":"#VALUE!"}},null,{"$f":"mndot_rounding_3(IF(CB137=\"\",CC137,CB137))","v":{"$error":"#VALUE!"}},null,{"$f":"mndot_rounding_3(IF(CD137=\"\",CE137,CD137))","v":{"$error":"#VALUE!"}},null,null,null,null,null,{"$f":"mndot_rounding_3(IF(CJ137=\"\",CK137,CJ137))","v":{"$error":"#VALUE!"}},null,{"$f":"mndot_rounding_3(IF(CL137=\"\",CM137,CL137))","v":{"$error":"#VALUE!"}},null,{"$f":"mndot_rounding_3(IF(CN137=\"\",CO137,CN137))","v":{"$error":"#VALUE!"}},null,{"$f":"mndot_rounding_3(IF(CP137=\"\",CQ137,CP137))","v":{"$error":"#VALUE!"}},null,null,null,null,null,{"$f":"mndot_rounding_3(IF(CV137=\"\",CW137,CV137))","v":{"$error":"#VALUE!"}},null,{"$f":"mndot_rounding_3(IF(CX137=\"\",CY137,CX137))","v":{"$error":"#VALUE!"}},null,{"$f":"mndot_rounding_3(IF(CZ137=\"\",DA137,CZ137))","v":{"$error":"#VALUE!"}},null,{"$f":"mndot_rounding_3(IF(DB137=\"\",DC137,DB137))","v":{"$error":"#VALUE!"}},null,null,null,null,null,{"$f":"mndot_rounding_3(IF(DH137=\"\",DI137,DH137))","v":{"$error":"#VALUE!"}},null,{"$f":"mndot_rounding_3(IF(DJ137=\"\",DK137,DJ137))","v":{"$error":"#VALUE!"}},null,{"$f":"mndot_rounding_3(IF(DL137=\"\",DM137,DL137))","v":{"$error":"#VALUE!"}},null,{"$f":"mndot_rounding_3(IF(DN137=\"\",DO137,DN137))","v":{"$error":"#VALUE!"}},null,null,null,null,null,{"$f":"mndot_rounding_3(IF(DT137=\"\",DU137,DT137))","v":{"$error":"#VALUE!"}},null,{"$f":"mndot_rounding_3(IF(DV137=\"\",DW137,DV137))","v":{"$error":"#VALUE!"}},null,{"$f":"mndot_rounding_3(IF(DX137=\"\",DY137,DX137))","v":{"$error":"#VALUE!"}},null,{"$f":"mndot_rounding_3(IF(DZ137=\"\",EA137,DZ137))","v":{"$error":"#VALUE!"}},null,null,null,null,null,{"$f":"mndot_rounding_3(IF(EF137=\"\",EG137,EF137))","v":{"$error":"#VALUE!"}},null,{"$f":"mndot_rounding_3(IF(EH137=\"\",EI137,EH137))","v":{"$error":"#VALUE!"}},null,{"$f":"mndot_rounding_3(IF(EJ137=\"\",EK137,EJ137))","v":{"$error":"#VALUE!"}},null,{"$f":"mndot_rounding_3(IF(EL137=\"\",EM137,EL137))","v":{"$error":"#VALUE!"}},null,null,null,null,null,{"$f":"mndot_rounding_3(IF(ER137=\"\",ES137,ER137))","v":{"$error":"#VALUE!"}},null,{"$f":"mndot_rounding_3(IF(ET137=\"\",EU137,ET137))","v":{"$error":"#VALUE!"}},null,{"$f":"mndot_rounding_3(IF(EV137=\"\",EW137,EV137))","v":{"$error":"#VALUE!"}},null,{"$f":"mndot_rounding_3(IF(EX137=\"\",EY137,EX137))","v":{"$error":"#VALUE!"}},null,null,null,null,null,{"$f":"mndot_rounding_3(IF(FD137=\"\",FE137,FD137))","v":{"$error":"#VALUE!"}},null,{"$f":"mndot_rounding_3(IF(FF137=\"\",FG137,FF137))","v":{"$error":"#VALUE!"}},null,{"$f":"mndot_rounding_3(IF(FH137=\"\",FI137,FH137))","v":{"$error":"#VALUE!"}},null,{"$f":"mndot_rounding_3(IF(FJ137=\"\",FK137,FJ137))","v":{"$error":"#VALUE!"}},null,null,null,null,null,{"$f":"mndot_rounding_3(IF(FP137=\"\",FQ137,FP137))","v":{"$error":"#VALUE!"}},null,{"$f":"mndot_rounding_3(IF(FR137=\"\",FS137,FR137))","v":{"$error":"#VALUE!"}},null,{"$f":"mndot_rounding_3(IF(FT137=\"\",FU137,FT137))","v":{"$error":"#VALUE!"}},null,{"$f":"mndot_rounding_3(IF(FV137=\"\",FW137,FV137))","v":{"$error":"#VALUE!"}},null,null,null,null,null,{"$f":"mndot_rounding_3(IF(GB137=\"\",GC137,GB137))","v":{"$error":"#VALUE!"}},null,{"$f":"mndot_rounding_3(IF(GD137=\"\",GE137,GD137))","v":{"$error":"#VALUE!"}},null,{"$f":"mndot_rounding_3(IF(GF137=\"\",GG137,GF137))","v":{"$error":"#VALUE!"}},null,{"$f":"mndot_rounding_3(IF(GH137=\"\",GI137,GH137))","v":{"$error":"#VALUE!"}},null,null,null,null,null,{"$f":"mndot_rounding_3(IF(GN137=\"\",GO137,GN137))","v":{"$error":"#VALUE!"}},null,{"$f":"mndot_rounding_3(IF(GP137=\"\",GQ137,GP137))","v":{"$error":"#VALUE!"}},null,{"$f":"mndot_rounding_3(IF(GR137=\"\",GS137,GR137))","v":{"$error":"#VALUE!"}},null,{"$f":"mndot_rounding_3(IF(GT137=\"\",GU137,GT137))","v":{"$error":"#VALUE!"}},null,null,null,null,null,{"$f":"mndot_rounding_3(IF(GZ137=\"\",HA137,GZ137))","v":{"$error":"#VALUE!"}},null,{"$f":"mndot_rounding_3(IF(HB137=\"\",HC137,HB137))","v":{"$error":"#VALUE!"}},null,{"$f":"mndot_rounding_3(IF(HD137=\"\",HE137,HD137))","v":{"$error":"#VALUE!"}},null,{"$f":"mndot_rounding_3(IF(HF137=\"\",HG137,HF137))","v":{"$error":"#VALUE!"}},null,null,null,null,null,{"$f":"mndot_rounding_3(IF(HL137=\"\",HM137,HL137))","v":{"$error":"#VALUE!"}},null,{"$f":"mndot_rounding_3(IF(HN137=\"\",HO137,HN137))","v":{"$error":"#VALUE!"}},null,{"$f":"mndot_rounding_3(IF(HP137=\"\",HQ137,HP137))","v":{"$error":"#VALUE!"}},null,{"$f":"mndot_rounding_3(IF(HR137=\"\",HS137,HR137))","v":{"$error":"#VALUE!"}},null,null,null,null,null,{"$f":"mndot_rounding_3(IF(HX137=\"\",HY137,HX137))","v":{"$error":"#VALUE!"}},null,{"$f":"mndot_rounding_3(IF(HZ137=\"\",IA137,HZ137))","v":{"$error":"#VALUE!"}},null,{"$f":"mndot_rounding_3(IF(IB137=\"\",IC137,IB137))","v":{"$error":"#VALUE!"}},null,{"$f":"mndot_rounding_3(IF(ID137=\"\",IE137,ID137))","v":{"$error":"#VALUE!"}},null,null,null,null,null,{"$f":"mndot_rounding_3(IF(IJ137=\"\",IK137,IJ137))","v":{"$error":"#VALUE!"}},null,{"$f":"mndot_rounding_3(IF(IL137=\"\",IM137,IL137))","v":{"$error":"#VALUE!"}},null,{"$f":"mndot_rounding_3(IF(IN137=\"\",IO137,IN137))","v":{"$error":"#VALUE!"}},null,{"$f":"mndot_rounding_3(IF(IP137=\"\",IQ137,IP137))","v":{"$error":"#VALUE!"}}]
[null,null,null,"Gsb","Result","Gsb","Result","Gsb","Result","Gsb","Result",null,null,null,null,"Gsb","Result","Gsb","Result","Gsb","Result","Gsb","Result",null,null,null,null,"Gsb","Result","Gsb","Result","Gsb","Result","Gsb","Result",null,null,null,null,"Gsb","Result","Gsb","Result","Gsb","Result","Gsb","Result",null,null,null,null,"Gsb","Result","Gsb","Result","Gsb","Result","Gsb","Result",null,null,null,null,"Gsb","Result","Gsb","Result","Gsb","Result","Gsb","Result",null,null,null,null,"Gsb","Result","Gsb","Result","Gsb","Result","Gsb","Result",null,null,null,null,"Gsb","Result","Gsb","Result","Gsb","Result","Gsb","Result",null,null,null,null,"Gsb","Result","Gsb","Result","Gsb","Result","Gsb","Result",null,null,null,null,"Gsb","Result","Gsb","Result","Gsb","Result","Gsb","Result",null,null,null,null,"Gsb","Result","Gsb","Result","Gsb","Result","Gsb","Result",null,null,null,null,"Gsb","Result","Gsb","Result","Gsb","Result","Gsb","Result",null,null,null,null,"Gsb","Result","Gsb","Result","Gsb","Result","Gsb","Result",null,null,null,null,"Gsb","Result","Gsb","Result","Gsb","Result","Gsb","Result",null,null,null,null,"Gsb","Result","Gsb","Result","Gsb","Result","Gsb","Result",null,null,null,null,"Gsb","Result","Gsb","Result","Gsb","Result","Gsb","Result",null,null,null,null,"Gsb","Result","Gsb","Result","Gsb","Result","Gsb","Result",null,null,null,null,"Gsb","Result","Gsb","Result","Gsb","Result","Gsb","Result",null,null,null,null,"Gsb","Result","Gsb","Result","Gsb","Result","Gsb","Result",null,null,null,null,"Gsb","Result","Gsb","Result","Gsb","Result","Gsb","Result",null,null,null,null,"Gsb","Result","Gsb","Result","Gsb","Result","Gsb","Result"]
[null,null,null,{"$f":"IF(D86=\"\",\"\",(IF(E88=\"\",D77,IF(E89=\"\",D78,IF(E90=\"\",D79,IF(E91=\"\",D80,IF(E92=\"\",D81,IF(E93=\"\",D82,\"\"))))))))","v":""},{"$f":"(IF(E94=\"\",D83,IF(E95=\"\",D84,D85)))","v":{"$error":"#DIV/0!"}},{"$f":"IF(F86=\"\",\"\",(IF(G88=\"\",F77,IF(G89=\"\",F78,IF(G90=\"\",F79,IF(G91=\"\",F80,IF(G92=\"\",F81,IF(G93=\"\",F82,\"\"))))))))","v":""},{"$f":"(IF(G94=\"\",F83,IF(G95=\"\",F84,F85)))","v":{"$error":"#VALUE!"}},{"$f":"IF(H86=\"\",\"\",(IF(I88=\"\",H77,IF(I89=\"\",H78,IF(I90=\"\",H79,IF(I91=\"\",H80,IF(I92=\"\",H81,IF(I93=\"\",H82,\"\"))))))))","v":""},{"$f":"(IF(I94=\"\",H83,IF(I95=\"\",H84,H85)))","v":{"$error":"#VALUE!"}},{"$f":"IF(J86=\"\",\"\",(IF(K88=\"\",J77,IF(K89=\"\",J78,IF(K90=\"\",J79,IF(K91=\"\",J80,IF(K92=\"\",J81,IF(K93=\"\",J82,\"\"))))))))","v":""},{"$f":"(IF(K94=\"\",J83,IF(K95=\"\",J84,J85)))","v":{"$error":"#VALUE!"}},null,null,null,null,{"$f":"IF(P86=\"\",\"\",(IF(Q88=\"\",P77,IF(Q89=\"\",P78,IF(Q90=\"\",P79,IF(Q91=\"\",P80,IF(Q92=\"\",P81,IF(Q93=\"\",P82,\"\"))))))))","v":""},{"$f":"(IF(Q94=\"\",P83,IF(Q95=\"\",P84,P85)))","v":{"$error":"#VALUE!"}},{"$f":"IF(R86=\"\",\"\",(IF(S88=\"\",R77,IF(S89=\"\",R78,IF(S90=\"\",R79,IF(S91=\"\",R80,IF(S92=\"\",R81,IF(S93=\"\",R82,\"\"))))))))","v":""},{"$f":"(IF(S94=\"\",R83,IF(S95=\"\",R84,R85)))","v":{"$error":"#VALUE!"}},{"$f":"IF(T86=\"\",\"\",(IF(U88=\"\",T77,IF(U89=\"\",T78,IF(U90=\"\",T79,IF(U91=\"\",T80,IF(U92=\"\",T81,IF(U93=\"\",T82,\"\"))))))))","v":""},{"$f":"(IF(U94=\"\",T83,IF(U95=\"\",T84,T85)))","v":{"$error":"#VALUE!"}},{"$f":"IF(V86=\"\",\"\",(IF(W88=\"\",V77,IF(W89=\"\",V78,IF(W90=\"\",V79,IF(W91=\"\",V80,IF(W92=\"\",V81,IF(W93=\"\",V82,\"\"))))))))","v":""},{"$f":"(IF(W94=\"\",V83,IF(W95=\"\",V84,V85)))","v":{"$error":"#VALUE!"}},null,null,null,null,{"$f":"IF(AB86=\"\",\"\",(IF(AC88=\"\",AB77,IF(AC89=\"\",AB78,IF(AC90=\"\",AB79,IF(AC91=\"\",AB80,IF(AC92=\"\",AB81,IF(AC93=\"\",AB82,\"\"))))))))","v":""},{"$f":"(IF(AC94=\"\",AB83,IF(AC95=\"\",AB84,AB85)))","v":{"$error":"#VALUE!"}},{"$f":"IF(AD86=\"\",\"\",(IF(AE88=\"\",AD77,IF(AE89=\"\",AD78,IF(AE90=\"\",AD79,IF(AE91=\"\",AD80,IF(AE92=\"\",AD81,IF(AE93=\"\",AD82,\"\"))))))))","v":""},{"$f":"(IF(AE94=\"\",AD83,IF(AE95=\"\",AD84,AD85)))","v":{"$error":"#VALUE!"}},{"$f":"IF(AF86=\"\",\"\",(IF(AG88=\"\",AF77,IF(AG89=\"\",AF78,IF(AG90=\"\",AF79,IF(AG91=\"\",AF80,IF(AG92=\"\",AF81,IF(AG93=\"\",AF82,\"\"))))))))","v":""},{"$f":"(IF(AG94=\"\",AF83,IF(AG95=\"\",AF84,AF85)))","v":{"$error":"#VALUE!"}},{"$f":"IF(AH86=\"\",\"\",(IF(AI88=\"\",AH77,IF(AI89=\"\",AH78,IF(AI90=\"\",AH79,IF(AI91=\"\",AH80,IF(AI92=\"\",AH81,IF(AI93=\"\",AH82,\"\"))))))))","v":""},{"$f":"(IF(AI94=\"\",AH83,IF(AI95=\"\",AH84,AH85)))","v":{"$error":"#VALUE!"}},null,null,null,null,{"$f":"IF(AN86=\"\",\"\",(IF(AO88=\"\",AN77,IF(AO89=\"\",AN78,IF(AO90=\"\",AN79,IF(AO91=\"\",AN80,IF(AO92=\"\",AN81,IF(AO93=\"\",AN82,\"\"))))))))","v":""},{"$f":"(IF(AO94=\"\",AN83,IF(AO95=\"\",AN84,AN85)))","v":{"$error":"#VALUE!"}},{"$f":"IF(AP86=\"\",\"\",(IF(AQ88=\"\",AP77,IF(AQ89=\"\",AP78,IF(AQ90=\"\",AP79,IF(AQ91=\"\",AP80,IF(AQ92=\"\",AP81,IF(AQ93=\"\",AP82,\"\"))))))))","v":""},{"$f":"(IF(AQ94=\"\",AP83,IF(AQ95=\"\",AP84,AP85)))","v":{"$error":"#VALUE!"}},{"$f":"IF(AR86=\"\",\"\",(IF(AS88=\"\",AR77,IF(AS89=\"\",AR78,IF(AS90=\"\",AR79,IF(AS91=\"\",AR80,IF(AS92=\"\",AR81,IF(AS93=\"\",AR82,\"\"))))))))","v":""},{"$f":"(IF(AS94=\"\",AR83,IF(AS95=\"\",AR84,AR85)))","v":{"$error":"#VALUE!"}},{"$f":"IF(AT86=\"\",\"\",(IF(AU88=\"\",AT77,IF(AU89=\"\",AT78,IF(AU90=\"\",AT79,IF(AU91=\"\",AT80,IF(AU92=\"\",AT81,IF(AU93=\"\",AT82,\"\"))))))))","v":""},{"$f":"(IF(AU94=\"\",AT83,IF(AU95=\"\",AT84,AT85)))","v":{"$error":"#VALUE!"}},null,null,null,null,{"$f":"IF(AZ86=\"\",\"\",(IF(BA88=\"\",AZ77,IF(BA89=\"\",AZ78,IF(BA90=\"\",AZ79,IF(BA91=\"\",AZ80,IF(BA92=\"\",AZ81,IF(BA93=\"\",AZ82,\"\"))))))))","v":""},{"$f":"(IF(BA94=\"\",AZ83,IF(BA95=\"\",AZ84,AZ85)))","v":{"$error":"#VALUE!"}},{"$f":"IF(BB86=\"\",\"\",(IF(BC88=\"\",BB77,IF(BC89=\"\",BB78,IF(BC90=\"\",BB79,IF(BC91=\"\",BB80,IF(BC92=\"\",BB81,IF(BC93=\"\",BB82,\"\"))))))))","v":""},{"$f":"(IF(BC94=\"\",BB83,IF(BC95=\"\",BB84,BB85)))","v":{"$error":"#VALUE!"}},{"$f":"IF(BD86=\"\",\"\",(IF(BE88=\"\",BD77,IF(BE89=\"\",BD78,IF(BE90=\"\",BD79,IF(BE91=\"\",BD80,IF(BE92=\"\",BD81,IF(BE93=\"\",BD82,\"\"))))))))","v":""},{"$f":"(IF(BE94=\"\",BD83,IF(BE95=\"\",BD84,BD85)))","v":{"$error":"#VALUE!"}},{"$f":"IF(BF86=\"\",\"\",(IF(BG88=\"\",BF77,IF(BG89=\"\",BF78,IF(BG90=\"\",BF79,IF(BG91=\"\",BF80,IF(BG92=\"\",BF81,IF(BG93=\"\",BF82,\"\"))))))))","v":""},{"$f":"(IF(BG94=\"\",BF83,IF(BG95=\"\",BF84,BF85)))","v":{"$error":"#VALUE!"}},null,null,null,null,{"$f":"IF(BL86=\"\",\"\",(IF(BM88=\"\",BL77,IF(BM89=\"\",BL78,IF(BM90=\"\",BL79,IF(BM91=\"\",BL80,IF(BM92=\"\",BL81,IF(BM93=\"\",BL82,\"\"))))))))","v":""},{"$f":"(IF(BM94=\"\",BL83,IF(BM95=\"\",BL84,BL85)))","v":{"$error":"#VALUE!"}},{"$f":"IF(BN86=\"\",\"\",(IF(BO88=\"\",BN77,IF(BO89=\"\",BN78,IF(BO90=\"\",BN79,IF(BO91=\"\",BN80,IF(BO92=\"\",BN81,IF(BO93=\"\",BN82,\"\"))))))))","v":""},{"$f":"(IF(BO94=\"\",BN83,IF(BO95=\"\",BN84,BN85)))","v":{"$error":"#VALUE!"}},{"$f":"IF(BP86=\"\",\"\",(IF(BQ88=\"\",BP77,IF(BQ89=\"\",BP78,IF(BQ90=\"\",BP79,IF(BQ91=\"\",BP80,IF(BQ92=\"\",BP81,IF(BQ93=\"\",BP82,\"\"))))))))","v":""},{"$f":"(IF(BQ94=\"\",BP83,IF(BQ95=\"\",BP84,BP85)))","v":{"$error":"#VALUE!"}},{"$f":"IF(BR86=\"\",\"\",(IF(BS88=\"\",BR77,IF(BS89=\"\",BR78,IF(BS90=\"\",BR79,IF(BS91=\"\",BR80,IF(BS92=\"\",BR81,IF(BS93=\"\",BR82,\"\"))))))))","v":""},{"$f":"(IF(BS94=\"\",BR83,IF(BS95=\"\",BR84,BR85)))","v":{"$error":"#VALUE!"}},null,null,null,null,{"$f":"IF(BX86=\"\",\"\",(IF(BY88=\"\",BX77,IF(BY89=\"\",BX78,IF(BY90=\"\",BX79,IF(BY91=\"\",BX80,IF(BY92=\"\",BX81,IF(BY93=\"\",BX82,\"\"))))))))","v":""},{"$f":"(IF(BY94=\"\",BX83,IF(BY95=\"\",BX84,BX85)))","v":{"$error":"#VALUE!"}},{"$f":"IF(BZ86=\"\",\"\",(IF(CA88=\"\",BZ77,IF(CA89=\"\",BZ78,IF(CA90=\"\",BZ79,IF(CA91=\"\",BZ80,IF(CA92=\"\",BZ81,IF(CA93=\"\",BZ82,\"\"))))))))","v":""},{"$f":"(IF(CA94=\"\",BZ83,IF(CA95=\"\",BZ84,BZ85)))","v":{"$error":"#VALUE!"}},{"$f":"IF(CB86=\"\",\"\",(IF(CC88=\"\",CB77,IF(CC89=\"\",CB78,IF(CC90=\"\",CB79,IF(CC91=\"\",CB80,IF(CC92=\"\",CB81,IF(CC93=\"\",CB82,\"\"))))))))","v":""},{"$f":"(IF(CC94=\"\",CB83,IF(CC95=\"\",CB84,CB85)))","v":{"$error":"#VALUE!"}},{"$f":"IF(CD86=\"\",\"\",(IF(CE88=\"\",CD77,IF(CE89=\"\",CD78,IF(CE90=\"\",CD79,IF(CE91=\"\",CD80,IF(CE92=\"\",CD81,IF(CE93=\"\",CD82,\"\"))))))))","v":""},{"$f":"(IF(CE94=\"\",CD83,IF(CE95=\"\",CD84,CD85)))","v":{"$error":"#VALUE!"}},null,null,null,null,{"$f":"IF(CJ86=\"\",\"\",(IF(CK88=\"\",CJ77,IF(CK89=\"\",CJ78,IF(CK90=\"\",CJ79,IF(CK91=\"\",CJ80,IF(CK92=\"\",CJ81,IF(CK93=\"\",CJ82,\"\"))))))))","v":""},{"$f":"(IF(CK94=\"\",CJ83,IF(CK95=\"\",CJ84,CJ85)))","v":{"$error":"#VALUE!"}},{"$f":"IF(CL86=\"\",\"\",(IF(CM88=\"\",CL77,IF(CM89=\"\",CL78,IF(CM90=\"\",CL79,IF(CM91=\"\",CL80,IF(CM92=\"\",CL81,IF(CM93=\"\",CL82,\"\"))))))))","v":""},{"$f":"(IF(CM94=\"\",CL83,IF(CM95=\"\",CL84,CL85)))","v":{"$error":"#VALUE!"}},{"$f":"IF(CN86=\"\",\"\",(IF(CO88=\"\",CN77,IF(CO89=\"\",CN78,IF(CO90=\"\",CN79,IF(CO91=\"\",CN80,IF(CO92=\"\",CN81,IF(CO93=\"\",CN82,\"\"))))))))","v":""},{"$f":"(IF(CO94=\"\",CN83,IF(CO95=\"\",CN84,CN85)))","v":{"$error":"#VALUE!"}},{"$f":"IF(CP86=\"\",\"\",(IF(CQ88=\"\",CP77,IF(CQ89=\"\",CP78,IF(CQ90=\"\",CP79,IF(CQ91=\"\",CP80,IF(CQ92=\"\",CP81,IF(CQ93=\"\",CP82,\"\"))))))))","v":""},{"$f":"(IF(CQ94=\"\",CP83,IF(CQ95=\"\",CP84,CP85)))","v":{"$error":"#VALUE!"}},null,null,null,null,{"$f":"IF(CV86=\"\",\"\",(IF(CW88=\"\",CV77,IF(CW89=\"\",CV78,IF(CW90=\"\",CV79,IF(CW91=\"\",CV80,IF(CW92=\"\",CV81,IF(CW93=\"\",CV82,\"\"))))))))","v":""},{"$f":"(IF(CW94=\"\",CV83,IF(CW95=\"\",CV84,CV85)))","v":{"$error":"#VALUE!"}},{"$f":"IF(CX86=\"\",\"\",(IF(CY88=\"\",CX77,IF(CY89=\"\",CX78,IF(CY90=\"\",CX79,IF(CY91=\"\",CX80,IF(CY92=\"\",CX81,IF(CY93=\"\",CX82,\"\"))))))))","v":""},{"$f":"(IF(CY94=\"\",CX83,IF(CY95=\"\",CX84,CX85)))","v":{"$error":"#VALUE!"}},{"$f":"IF(CZ86=\"\",\"\",(IF(DA88=\"\",CZ77,IF(DA89=\"\",CZ78,IF(DA90=\"\",CZ79,IF(DA91=\"\",CZ80,IF(DA92=\"\",CZ81,IF(DA93=\"\",CZ82,\"\"))))))))","v":""},{"$f":"(IF(DA94=\"\",CZ83,IF(DA95=\"\",CZ84,CZ85)))","v":{"$error":"#VALUE!"}},{"$f":"IF(DB86=\"\",\"\",(IF(DC88=\"\",DB77,IF(DC89=\"\",DB78,IF(DC90=\"\",DB79,IF(DC91=\"\",DB80,IF(DC92=\"\",DB81,IF(DC93=\"\",DB82,\"\"))))))))","v":""},{"$f":"(IF(DC94=\"\",DB83,IF(DC95=\"\",DB84,DB85)))","v":{"$error":"#VALUE!"}},null,null,null,null,{"$f":"IF(DH86=\"\",\"\",(IF(DI88=\"\",DH77,IF(DI89=\"\",DH78,IF(DI90=\"\",DH79,IF(DI91=\"\",DH80,IF(DI92=\"\",DH81,IF(DI93=\"\",DH82,\"\"))))))))","v":""},{"$f":"(IF(DI94=\"\",DH83,IF(DI95=\"\",DH84,DH85)))","v":{"$error":"#VALUE!"}},{"$f":"IF(DJ86=\"\",\"\",(IF(DK88=\"\",DJ77,IF(DK89=\"\",DJ78,IF(DK90=\"\",DJ79,IF(DK91=\"\",DJ80,IF(DK92=\"\",DJ81,IF(DK93=\"\",DJ82,\"\"))))))))","v":""},{"$f":"(IF(DK94=\"\",DJ83,IF(DK95=\"\",DJ84,DJ85)))","v":{"$error":"#VALUE!"}},{"$f":"IF(DL86=\"\",\"\",(IF(DM88=\"\",DL77,IF(DM89=\"\",DL78,IF(DM90=\"\",DL79,IF(DM91=\"\",DL80,IF(DM92=\"\",DL81,IF(DM93=\"\",DL82,\"\"))))))))","v":""},{"$f":"(IF(DM94=\"\",DL83,IF(DM95=\"\",DL84,DL85)))","v":{"$error":"#VALUE!"}},{"$f":"IF(DN86=\"\",\"\",(IF(DO88=\"\",DN77,IF(DO89=\"\",DN78,IF(DO90=\"\",DN79,IF(DO91=\"\",DN80,IF(DO92=\"\",DN81,IF(DO93=\"\",DN82,\"\"))))))))","v":""},{"$f":"(IF(DO94=\"\",DN83,IF(DO95=\"\",DN84,DN85)))","v":{"$error":"#VALUE!"}},null,null,null,null,{"$f":"IF(DT86=\"\",\"\",(IF(DU88=\"\",DT77,IF(DU89=\"\",DT78,IF(DU90=\"\",DT79,IF(DU91=\"\",DT80,IF(DU92=\"\",DT81,IF(DU93=\"\",DT82,\"\"))))))))","v":""},{"$f":"(IF(DU94=\"\",DT83,IF(DU95=\"\",DT84,DT85)))","v":{"$error":"#VALUE!"}},{"$f":"IF(DV86=\"\",\"\",(IF(DW88=\"\",DV77,IF(DW89=\"\",DV78,IF(DW90=\"\",DV79,IF(DW91=\"\",DV80,IF(DW92=\"\",DV81,IF(DW93=\"\",DV82,\"\"))))))))","v":""},{"$f":"(IF(DW94=\"\",DV83,IF(DW95=\"\",DV84,DV85)))","v":{"$error":"#VALUE!"}},{"$f":"IF(DX86=\"\",\"\",(IF(DY88=\"\",DX77,IF(DY89=\"\",DX78,IF(DY90=\"\",DX79,IF(DY91=\"\",DX80,IF(DY92=\"\",DX81,IF(DY93=\"\",DX82,\"\"))))))))","v":""},{"$f":"(IF(DY94=\"\",DX83,IF(DY95=\"\",DX84,DX85)))","v":{"$error":"#VALUE!"}},{"$f":"IF(DZ86=\"\",\"\",(IF(EA88=\"\",DZ77,IF(EA89=\"\",DZ78,IF(EA90=\"\",DZ79,IF(EA91=\"\",DZ80,IF(EA92=\"\",DZ81,IF(EA93=\"\",DZ82,\"\"))))))))","v":""},{"$f":"(IF(EA94=\"\",DZ83,IF(EA95=\"\",DZ84,DZ85)))","v":{"$error":"#VALUE!"}},null,null,null,null,{"$f":"IF(EF86=\"\",\"\",(IF(EG88=\"\",EF77,IF(EG89=\"\",EF78,IF(EG90=\"\",EF79,IF(EG91=\"\",EF80,IF(EG92=\"\",EF81,IF(EG93=\"\",EF82,\"\"))))))))","v":""},{"$f":"(IF(EG94=\"\",EF83,IF(EG95=\"\",EF84,EF85)))","v":{"$error":"#VALUE!"}},{"$f":"IF(EH86=\"\",\"\",(IF(EI88=\"\",EH77,IF(EI89=\"\",EH78,IF(EI90=\"\",EH79,IF(EI91=\"\",EH80,IF(EI92=\"\",EH81,IF(EI93=\"\",EH82,\"\"))))))))","v":""},{"$f":"(IF(EI94=\"\",EH83,IF(EI95=\"\",EH84,EH85)))","v":{"$error":"#VALUE!"}},{"$f":"IF(EJ86=\"\",\"\",(IF(EK88=\"\",EJ77,IF(EK89=\"\",EJ78,IF(EK90=\"\",EJ79,IF(EK91=\"\",EJ80,IF(EK92=\"\",EJ81,IF(EK93=\"\",EJ82,\"\"))))))))","v":""},{"$f":"(IF(EK94=\"\",EJ83,IF(EK95=\"\",EJ84,EJ85)))","v":{"$error":"#VALUE!"}},{"$f":"IF(EL86=\"\",\"\",(IF(EM88=\"\",EL77,IF(EM89=\"\",EL78,IF(EM90=\"\",EL79,IF(EM91=\"\",EL80,IF(EM92=\"\",EL81,IF(EM93=\"\",EL82,\"\"))))))))","v":""},{"$f":"(IF(EM94=\"\",EL83,IF(EM95=\"\",EL84,EL85)))","v":{"$error":"#VALUE!"}},null,null,null,null,{"$f":"IF(ER86=\"\",\"\",(IF(ES88=\"\",ER77,IF(ES89=\"\",ER78,IF(ES90=\"\",ER79,IF(ES91=\"\",ER80,IF(ES92=\"\",ER81,IF(ES93=\"\",ER82,\"\"))))))))","v":""},{"$f":"(IF(ES94=\"\",ER83,IF(ES95=\"\",ER84,ER85)))","v":{"$error":"#VALUE!"}},{"$f":"IF(ET86=\"\",\"\",(IF(EU88=\"\",ET77,IF(EU89=\"\",ET78,IF(EU90=\"\",ET79,IF(EU91=\"\",ET80,IF(EU92=\"\",ET81,IF(EU93=\"\",ET82,\"\"))))))))","v":""},{"$f":"(IF(EU94=\"\",ET83,IF(EU95=\"\",ET84,ET85)))","v":{"$error":"#VALUE!"}},{"$f":"IF(EV86=\"\",\"\",(IF(EW88=\"\",EV77,IF(EW89=\"\",EV78,IF(EW90=\"\",EV79,IF(EW91=\"\",EV80,IF(EW92=\"\",EV81,IF(EW93=\"\",EV82,\"\"))))))))","v":""},{"$f":"(IF(EW94=\"\",EV83,IF(EW95=\"\",EV84,EV85)))","v":{"$error":"#VALUE!"}},{"$f":"IF(EX86=\"\",\"\",(IF(EY88=\"\",EX77,IF(EY89=\"\",EX78,IF(EY90=\"\",EX79,IF(EY91=\"\",EX80,IF(EY92=\"\",EX81,IF(EY93=\"\",EX82,\"\"))))))))","v":""},{"$f":"(IF(EY94=\"\",EX83,IF(EY95=\"\",EX84,EX85)))","v":{"$error":"#VALUE!"}},null,null,null,null,{"$f":"IF(FD86=\"\",\"\",(IF(FE88=\"\",FD77,IF(FE89=\"\",FD78,IF(FE90=\"\",FD79,IF(FE91=\"\",FD80,IF(FE92=\"\",FD81,IF(FE93=\"\",FD82,\"\"))))))))","v":""},{"$f":"(IF(FE94=\"\",FD83,IF(FE95=\"\",FD84,FD85)))","v":{"$error":"#VALUE!"}},{"$f":"IF(FF86=\"\",\"\",(IF(FG88=\"\",FF77,IF(FG89=\"\",FF78,IF(FG90=\"\",FF79,IF(FG91=\"\",FF80,IF(FG92=\"\",FF81,IF(FG93=\"\",FF82,\"\"))))))))","v":""},{"$f":"(IF(FG94=\"\",FF83,IF(FG95=\"\",FF84,FF85)))","v":{"$error":"#VALUE!"}},{"$f":"IF(FH86=\"\",\"\",(IF(FI88=\"\",FH77,IF(FI89=\"\",FH78,IF(FI90=\"\",FH79,IF(FI91=\"\",FH80,IF(FI92=\"\",FH81,IF(FI93=\"\",FH82,\"\"))))))))","v":""},{"$f":"(IF(FI94=\"\",FH83,IF(FI95=\"\",FH84,FH85)))","v":{"$error":"#VALUE!"}},{"$f":"IF(FJ86=\"\",\"\",(IF(FK88=\"\",FJ77,IF(FK89=\"\",FJ78,IF(FK90=\"\",FJ79,IF(FK91=\"\",FJ80,IF(FK92=\"\",FJ81,IF(FK93=\"\",FJ82,\"\"))))))))","v":""},{"$f":"(IF(FK94=\"\",FJ83,IF(FK95=\"\",FJ84,FJ85)))","v":{"$error":"#VALUE!"}},null,null,null,null,{"$f":"IF(FP86=\"\",\"\",(IF(FQ88=\"\",FP77,IF(FQ89=\"\",FP78,IF(FQ90=\"\",FP79,IF(FQ91=\"\",FP80,IF(FQ92=\"\",FP81,IF(FQ93=\"\",FP82,\"\"))))))))","v":""},{"$f":"(IF(FQ94=\"\",FP83,IF(FQ95=\"\",FP84,FP85)))","v":{"$error":"#VALUE!"}},{"$f":"IF(FR86=\"\",\"\",(IF(FS88=\"\",FR77,IF(FS89=\"\",FR78,IF(FS90=\"\",FR79,IF(FS91=\"\",FR80,IF(FS92=\"\",FR81,IF(FS93=\"\",FR82,\"\"))))))))","v":""},{"$f":"(IF(FS94=\"\",FR83,IF(FS95=\"\",FR84,FR85)))","v":{"$error":"#VALUE!"}},{"$f":"IF(FT86=\"\",\"\",(IF(FU88=\"\",FT77,IF(FU89=\"\",FT78,IF(FU90=\"\",FT79,IF(FU91=\"\",FT80,IF(FU92=\"\",FT81,IF(FU93=\"\",FT82,\"\"))))))))","v":""},{"$f":"(IF(FU94=\"\",FT83,IF(FU95=\"\",FT84,FT85)))","v":{"$error":"#VALUE!"}},{"$f":"IF(FV86=\"\",\"\",(IF(FW88=\"\",FV77,IF(FW89=\"\",FV78,IF(FW90=\"\",FV79,IF(FW91=\"\",FV80,IF(FW92=\"\",FV81,IF(FW93=\"\",FV82,\"\"))))))))","v":""},{"$f":"(IF(FW94=\"\",FV83,IF(FW95=\"\",FV84,FV85)))","v":{"$error":"#VALUE!"}},null,null,null,null,{"$f":"IF(GB86=\"\",\"\",(IF(GC88=\"\",GB77,IF(GC89=\"\",GB78,IF(GC90=\"\",GB79,IF(GC91=\"\",GB80,IF(GC92=\"\",GB81,IF(GC93=\"\",GB82,\"\"))))))))","v":""},{"$f":"(IF(GC94=\"\",GB83,IF(GC95=\"\",GB84,GB85)))","v":{"$error":"#VALUE!"}},{"$f":"IF(GD86=\"\",\"\",(IF(GE88=\"\",GD77,IF(GE89=\"\",GD78,IF(GE90=\"\",GD79,IF(GE91=\"\",GD80,IF(GE92=\"\",GD81,IF(GE93=\"\",GD82,\"\"))))))))","v":""},{"$f":"(IF(GE94=\"\",GD83,IF(GE95=\"\",GD84,GD85)))","v":{"$error":"#VALUE!"}},{"$f":"IF(GF86=\"\",\"\",(IF(GG88=\"\",GF77,IF(GG89=\"\",GF78,IF(GG90=\"\",GF79,IF(GG91=\"\",GF80,IF(GG92=\"\",GF81,IF(GG93=\"\",GF82,\"\"))))))))","v":""},{"$f":"(IF(GG94=\"\",GF83,IF(GG95=\"\",GF84,GF85)))","v":{"$error":"#VALUE!"}},{"$f":"IF(GH86=\"\",\"\",(IF(GI88=\"\",GH77,IF(GI89=\"\",GH78,IF(GI90=\"\",GH79,IF(GI91=\"\",GH80,IF(GI92=\"\",GH81,IF(GI93=\"\",GH82,\"\"))))))))","v":""},{"$f":"(IF(GI94=\"\",GH83,IF(GI95=\"\",GH84,GH85)))","v":{"$error":"#VALUE!"}},null,null,null,null,{"$f":"IF(GN86=\"\",\"\",(IF(GO88=\"\",GN77,IF(GO89=\"\",GN78,IF(GO90=\"\",GN79,IF(GO91=\"\",GN80,IF(GO92=\"\",GN81,IF(GO93=\"\",GN82,\"\"))))))))","v":""},{"$f":"(IF(GO94=\"\",GN83,IF(GO95=\"\",GN84,GN85)))","v":{"$error":"#VALUE!"}},{"$f":"IF(GP86=\"\",\"\",(IF(GQ88=\"\",GP77,IF(GQ89=\"\",GP78,IF(GQ90=\"\",GP79,IF(GQ91=\"\",GP80,IF(GQ92=\"\",GP81,IF(GQ93=\"\",GP82,\"\"))))))))","v":""},{"$f":"(IF(GQ94=\"\",GP83,IF(GQ95=\"\",GP84,GP85)))","v":{"$error":"#VALUE!"}},{"$f":"IF(GR86=\"\",\"\",(IF(GS88=\"\",GR77,IF(GS89=\"\",GR78,IF(GS90=\"\",GR79,IF(GS91=\"\",GR80,IF(GS92=\"\",GR81,IF(GS93=\"\",GR82,\"\"))))))))","v":""},{"$f":"(IF(GS94=\"\",GR83,IF(GS95=\"\",GR84,GR85)))","v":{"$error":"#VALUE!"}},{"$f":"IF(GT86=\"\",\"\",(IF(GU88=\"\",GT77,IF(GU89=\"\",GT78,IF(GU90=\"\",GT79,IF(GU91=\"\",GT80,IF(GU92=\"\",GT81,IF(GU93=\"\",GT82,\"\"))))))))","v":""},{"$f":"(IF(GU94=\"\",GT83,IF(GU95=\"\",GT84,GT85)))","v":{"$error":"#VALUE!"}},null,null,null,null,{"$f":"IF(GZ86=\"\",\"\",(IF(HA88=\"\",GZ77,IF(HA89=\"\",GZ78,IF(HA90=\"\",GZ79,IF(HA91=\"\",GZ80,IF(HA92=\"\",GZ81,IF(HA93=\"\",GZ82,\"\"))))))))","v":""},{"$f":"(IF(HA94=\"\",GZ83,IF(HA95=\"\",GZ84,GZ85)))","v":{"$error":"#VALUE!"}},{"$f":"IF(HB86=\"\",\"\",(IF(HC88=\"\",HB77,IF(HC89=\"\",HB78,IF(HC90=\"\",HB79,IF(HC91=\"\",HB80,IF(HC92=\"\",HB81,IF(HC93=\"\",HB82,\"\"))))))))","v":""},{"$f":"(IF(HC94=\"\",HB83,IF(HC95=\"\",HB84,HB85)))","v":{"$error":"#VALUE!"}},{"$f":"IF(HD86=\"\",\"\",(IF(HE88=\"\",HD77,IF(HE89=\"\",HD78,IF(HE90=\"\",HD79,IF(HE91=\"\",HD80,IF(HE92=\"\",HD81,IF(HE93=\"\",HD82,\"\"))))))))","v":""},{"$f":"(IF(HE94=\"\",HD83,IF(HE95=\"\",HD84,HD85)))","v":{"$error":"#VALUE!"}},{"$f":"IF(HF86=\"\",\"\",(IF(HG88=\"\",HF77,IF(HG89=\"\",HF78,IF(HG90=\"\",HF79,IF(HG91=\"\",HF80,IF(HG92=\"\",HF81,IF(HG93=\"\",HF82,\"\"))))))))","v":""},{"$f":"(IF(HG94=\"\",HF83,IF(HG95=\"\",HF84,HF85)))","v":{"$error":"#VALUE!"}},null,null,null,null,{"$f":"IF(HL86=\"\",\"\",(IF(HM88=\"\",HL77,IF(HM89=\"\",HL78,IF(HM90=\"\",HL79,IF(HM91=\"\",HL80,IF(HM92=\"\",HL81,IF(HM93=\"\",HL82,\"\"))))))))","v":""},{"$f":"(IF(HM94=\"\",HL83,IF(HM95=\"\",HL84,HL85)))","v":{"$error":"#VALUE!"}},{"$f":"IF(HN86=\"\",\"\",(IF(HO88=\"\",HN77,IF(HO89=\"\",HN78,IF(HO90=\"\",HN79,IF(HO91=\"\",HN80,IF(HO92=\"\",HN81,IF(HO93=\"\",HN82,\"\"))))))))","v":""},{"$f":"(IF(HO94=\"\",HN83,IF(HO95=\"\",HN84,HN85)))","v":{"$error":"#VALUE!"}},{"$f":"IF(HP86=\"\",\"\",(IF(HQ88=\"\",HP77,IF(HQ89=\"\",HP78,IF(HQ90=\"\",HP79,IF(HQ91=\"\",HP80,IF(HQ92=\"\",HP81,IF(HQ93=\"\",HP82,\"\"))))))))","v":""},{"$f":"(IF(HQ94=\"\",HP83,IF(HQ95=\"\",HP84,HP85)))","v":{"$error":"#VALUE!"}},{"$f":"IF(HR86=\"\",\"\",(IF(HS88=\"\",HR77,IF(HS89=\"\",HR78,IF(HS90=\"\",HR79,IF(HS91=\"\",HR80,IF(HS92=\"\",HR81,IF(HS93=\"\",HR82,\"\"))))))))","v":""},{"$f":"(IF(HS94=\"\",HR83,IF(HS95=\"\",HR84,HR85)))","v":{"$error":"#VALUE!"}},null,null,null,null,{"$f":"IF(HX86=\"\",\"\",(IF(HY88=\"\",HX77,IF(HY89=\"\",HX78,IF(HY90=\"\",HX79,IF(HY91=\"\",HX80,IF(HY92=\"\",HX81,IF(HY93=\"\",HX82,\"\"))))))))","v":""},{"$f":"(IF(HY94=\"\",HX83,IF(HY95=\"\",HX84,HX85)))","v":{"$error":"#VALUE!"}},{"$f":"IF(HZ86=\"\",\"\",(IF(IA88=\"\",HZ77,IF(IA89=\"\",HZ78,IF(IA90=\"\",HZ79,IF(IA91=\"\",HZ80,IF(IA92=\"\",HZ81,IF(IA93=\"\",HZ82,\"\"))))))))","v":""},{"$f":"(IF(IA94=\"\",HZ83,IF(IA95=\"\",HZ84,HZ85)))","v":{"$error":"#VALUE!"}},{"$f":"IF(IB86=\"\",\"\",(IF(IC88=\"\",IB77,IF(IC89=\"\",IB78,IF(IC90=\"\",IB79,IF(IC91=\"\",IB80,IF(IC92=\"\",IB81,IF(IC93=\"\",IB82,\"\"))))))))","v":""},{"$f":"(IF(IC94=\"\",IB83,IF(IC95=\"\",IB84,IB85)))","v":{"$error":"#VALUE!"}},{"$f":"IF(ID86=\"\",\"\",(IF(IE88=\"\",ID77,IF(IE89=\"\",ID78,IF(IE90=\"\",ID79,IF(IE91=\"\",ID80,IF(IE92=\"\",ID81,IF(IE93=\"\",ID82,\"\"))))))))","v":""},{"$f":"(IF(IE94=\"\",ID83,IF(IE95=\"\",ID84,ID85)))","v":{"$error":"#VALUE!"}},null,null,null,null,{"$f":"IF(IJ86=\"\",\"\",(IF(IK88=\"\",IJ77,IF(IK89=\"\",IJ78,IF(IK90=\"\",IJ79,IF(IK91=\"\",IJ80,IF(IK92=\"\",IJ81,IF(IK93=\"\",IJ82,\"\"))))))))","v":""},{"$f":"(IF(IK94=\"\",IJ83,IF(IK95=\"\",IJ84,IJ85)))","v":{"$error":"#VALUE!"}},{"$f":"IF(IL86=\"\",\"\",(IF(IM88=\"\",IL77,IF(IM89=\"\",IL78,IF(IM90=\"\",IL79,IF(IM91=\"\",IL80,IF(IM92=\"\",IL81,IF(IM93=\"\",IL82,\"\"))))))))","v":""},{"$f":"(IF(IM94=\"\",IL83,IF(IM95=\"\",IL84,IL85)))","v":{"$error":"#VALUE!"}},{"$f":"IF(IN86=\"\",\"\",(IF(IO88=\"\",IN77,IF(IO89=\"\",IN78,IF(IO90=\"\",IN79,IF(IO91=\"\",IN80,IF(IO92=\"\",IN81,IF(IO93=\"\",IN82,\"\"))))))))","v":""},{"$f":"(IF(IO94=\"\",IN83,IF(IO95=\"\",IN84,IN85)))","v":{"$error":"#VALUE!"}},{"$f":"IF(IP86=\"\",\"\",(IF(IQ88=\"\",IP77,IF(IQ89=\"\",IP78,IF(IQ90=\"\",IP79,IF(IQ91=\"\",IP80,IF(IQ92=\"\",IP81,IF(IQ93=\"\",IP82,\"\"))))))))","v":""},{"$f":"(IF(IQ94=\"\",IP83,IF(IQ95=\"\",IP84,IP85)))","v":{"$error":"#VALUE!"}}]
[null,null,null,null,{"$f":"mndot_rounding_3(IF(D140=\"\",E140,D140))","v":{"$error":"#VALUE!"}},null,{"$f":"mndot_rounding_3(IF(F140=\"\",G140,F140))","v":{"$error":"#VALUE!"}},null,{"$f":"mndot_rounding_3(IF(H140=\"\",I140,H140))","v":{"$error":"#VALUE!"}},null,{"$f":"mndot_rounding_3(IF(J140=\"\",K140,J140))","v":{"$error":"#VALUE!"}},null,null,null,null,null,{"$f":"mndot_rounding_3(IF(P140=\"\",Q140,P140))","v":{"$error":"#VALUE!"}},null,{"$f":"mndot_rounding_3(IF(R140=\"\",S140,R140))","v":{"$error":"#VALUE!"}},null,{"$f":"mndot_rounding_3(IF(T140=\"\",U140,T140))","v":{"$error":"#VALUE!"}},null,{"$f":"mndot_rounding_3(IF(V140=\"\",W140,V140))","v":{"$error":"#VALUE!"}},null,null,null,null,null,{"$f":"mndot_rounding_3(IF(AB140=\"\",AC140,AB140))","v":{"$error":"#VALUE!"}},null,{"$f":"mndot_rounding_3(IF(AD140=\"\",AE140,AD140))","v":{"$error":"#VALUE!"}},null,{"$f":"mndot_rounding_3(IF(AF140=\"\",AG140,AF140))","v":{"$error":"#VALUE!"}},null,{"$f":"mndot_rounding_3(IF(AH140=\"\",AI140,AH140))","v":{"$error":"#VALUE!"}},null,null,null,null,null,{"$f":"mndot_rounding_3(IF(AN140=\"\",AO140,AN140))","v":{"$error":"#VALUE!"}},null,{"$f":"mndot_rounding_3(IF(AP140=\"\",AQ140,AP140))","v":{"$error":"#VALUE!"}},null,{"$f":"mndot_rounding_3(IF(AR140=\"\",AS140,AR140))","v":{"$error":"#VALUE!"}},null,{"$f":"mndot_rounding_3(IF(AT140=\"\",AU140,AT140))","v":{"$error":"#VALUE!"}},null,null,null,null,null,{"$f":"mndot_rounding_3(IF(AZ140=\"\",BA140,AZ140))","v":{"$error":"#VALUE!"}},null,{"$f":"mndot_rounding_3(IF(BB140=\"\",BC140,BB140))","v":{"$error":"#VALUE!"}},null,{"$f":"mndot_rounding_3(IF(BD140=\"\",BE140,BD140))","v":{"$error":"#VALUE!"}},null,{"$f":"mndot_rounding_3(IF(BF140=\"\",BG140,BF140))","v":{"$error":"#VALUE!"}},null,null,null,null,null,{"$f":"mndot_rounding_3(IF(BL140=\"\",BM140,BL140))","v":{"$error":"#VALUE!"}},null,{"$f":"mndot_rounding_3(IF(BN140=\"\",BO140,BN140))","v":{"$error":"#VALUE!"}},null,{"$f":"mndot_rounding_3(IF(BP140=\"\",BQ140,BP140))","v":{"$error":"#VALUE!"}},null,{"$f":"mndot_rounding_3(IF(BR140=\"\",BS140,BR140))","v":{"$error":"#VALUE!"}},null,null,null,null,null,{"$f":"mndot_rounding_3(IF(BX140=\"\",BY140,BX140))","v":{"$error":"#VALUE!"}},null,{"$f":"mndot_rounding_3(IF(BZ140=\"\",CA140,BZ140))","v":{"$error":"#VALUE!"}},null,{"$f":"mndot_rounding_3(IF(CB140=\"\",CC140,CB140))","v":{"$error":"#VALUE!"}},null,{"$f":"mndot_rounding_3(IF(CD140=\"\",CE140,CD140))","v":{"$error":"#VALUE!"}},null,null,null,null,null,{"$f":"mndot_rounding_3(IF(CJ140=\"\",CK140,CJ140))","v":{"$error":"#VALUE!"}},null,{"$f":"mndot_rounding_3(IF(CL140=\"\",CM140,CL140))","v":{"$error":"#VALUE!"}},null,{"$f":"mndot_rounding_3(IF(CN140=\"\",CO140,CN140))","v":{"$error":"#VALUE!"}},null,{"$f":"mndot_rounding_3(IF(CP140=\"\",CQ140,CP140))","v":{"$error":"#VALUE!"}},null,null,null,null,null,{"$f":"mndot_rounding_3(IF(CV140=\"\",CW140,CV140))","v":{"$error":"#VALUE!"}},null,{"$f":"mndot_rounding_3(IF(CX140=\"\",CY140,CX140))","v":{"$error":"#VALUE!"}},null,{"$f":"mndot_rounding_3(IF(CZ140=\"\",DA140,CZ140))","v":{"$error":"#VALUE!"}},null,{"$f":"mndot_rounding_3(IF(DB140=\"\",DC140,DB140))","v":{"$error":"#VALUE!"}},null,null,null,null,null,{"$f":"mndot_rounding_3(IF(DH140=\"\",DI140,DH140))","v":{"$error":"#VALUE!"}},null,{"$f":"mndot_rounding_3(IF(DJ140=\"\",DK140,DJ140))","v":{"$error":"#VALUE!"}},null,{"$f":"mndot_rounding_3(IF(DL140=\"\",DM140,DL140))","v":{"$error":"#VALUE!"}},null,{"$f":"mndot_rounding_3(IF(DN140=\"\",DO140,DN140))","v":{"$error":"#VALUE!"}},null,null,null,null,null,{"$f":"mndot_rounding_3(IF(DT140=\"\",DU140,DT140))","v":{"$error":"#VALUE!"}},null,{"$f":"mndot_rounding_3(IF(DV140=\"\",DW140,DV140))","v":{"$error":"#VALUE!"}},null,{"$f":"mndot_rounding_3(IF(DX140=\"\",DY140,DX140))","v":{"$error":"#VALUE!"}},null,{"$f":"mndot_rounding_3(IF(DZ140=\"\",EA140,DZ140))","v":{"$error":"#VALUE!"}},null,null,null,null,null,{"$f":"mndot_rounding_3(IF(EF140=\"\",EG140,EF140))","v":{"$error":"#VALUE!"}},null,{"$f":"mndot_rounding_3(IF(EH140=\"\",EI140,EH140))","v":{"$error":"#VALUE!"}},null,{"$f":"mndot_rounding_3(IF(EJ140=\"\",EK140,EJ140))","v":{"$error":"#VALUE!"}},null,{"$f":"mndot_rounding_3(IF(EL140=\"\",EM140,EL140))","v":{"$error":"#VALUE!"}},null,null,null,null,null,{"$f":"mndot_rounding_3(IF(ER140=\"\",ES140,ER140))","v":{"$error":"#VALUE!"}},null,{"$f":"mndot_rounding_3(IF(ET140=\"\",EU140,ET140))","v":{"$error":"#VALUE!"}},null,{"$f":"mndot_rounding_3(IF(EV140=\"\",EW140,EV140))","v":{"$error":"#VALUE!"}},null,{"$f":"mndot_rounding_3(IF(EX140=\"\",EY140,EX140))","v":{"$error":"#VALUE!"}},null,null,null,null,null,{"$f":"mndot_rounding_3(IF(FD140=\"\",FE140,FD140))","v":{"$error":"#VALUE!"}},null,{"$f":"mndot_rounding_3(IF(FF140=\"\",FG140,FF140))","v":{"$error":"#VALUE!"}},null,{"$f":"mndot_rounding_3(IF(FH140=\"\",FI140,FH140))","v":{"$error":"#VALUE!"}},null,{"$f":"mndot_rounding_3(IF(FJ140=\"\",FK140,FJ140))","v":{"$error":"#VALUE!"}},null,null,null,null,null,{"$f":"mndot_rounding_3(IF(FP140=\"\",FQ140,FP140))","v":{"$error":"#VALUE!"}},null,{"$f":"mndot_rounding_3(IF(FR140=\"\",FS140,FR140))","v":{"$error":"#VALUE!"}},null,{"$f":"mndot_rounding_3(IF(FT140=\"\",FU140,FT140))","v":{"$error":"#VALUE!"}},null,{"$f":"mndot_rounding_3(IF(FV140=\"\",FW140,FV140))","v":{"$error":"#VALUE!"}},null,null,null,null,null,{"$f":"mndot_rounding_3(IF(GB140=\"\",GC140,GB140))","v":{"$error":"#VALUE!"}},null,{"$f":"mndot_rounding_3(IF(GD140=\"\",GE140,GD140))","v":{"$error":"#VALUE!"}},null,{"$f":"mndot_rounding_3(IF(GF140=\"\",GG140,GF140))","v":{"$error":"#VALUE!"}},null,{"$f":"mndot_rounding_3(IF(GH140=\"\",GI140,GH140))","v":{"$error":"#VALUE!"}},null,null,null,null,null,{"$f":"mndot_rounding_3(IF(GN140=\"\",GO140,GN140))","v":{"$error":"#VALUE!"}},null,{"$f":"mndot_rounding_3(IF(GP140=\"\",GQ140,GP140))","v":{"$error":"#VALUE!"}},null,{"$f":"mndot_rounding_3(IF(GR140=\"\",GS140,GR140))","v":{"$error":"#VALUE!"}},null,{"$f":"mndot_rounding_3(IF(GT140=\"\",GU140,GT140))","v":{"$error":"#VALUE!"}},null,null,null,null,null,{"$f":"mndot_rounding_3(IF(GZ140=\"\",HA140,GZ140))","v":{"$error":"#VALUE!"}},null,{"$f":"mndot_rounding_3(IF(HB140=\"\",HC140,HB140))","v":{"$error":"#VALUE!"}},null,{"$f":"mndot_rounding_3(IF(HD140=\"\",HE140,HD140))","v":{"$error":"#VALUE!"}},null,{"$f":"mndot_rounding_3(IF(HF140=\"\",HG140,HF140))","v":{"$error":"#VALUE!"}},null,null,null,null,null,{"$f":"mndot_rounding_3(IF(HL140=\"\",HM140,HL140))","v":{"$error":"#VALUE!"}},null,{"$f":"mndot_rounding_3(IF(HN140=\"\",HO140,HN140))","v":{"$error":"#VALUE!"}},null,{"$f":"mndot_rounding_3(IF(HP140=\"\",HQ140,HP140))","v":{"$error":"#VALUE!"}},null,{"$f":"mndot_rounding_3(IF(HR140=\"\",HS140,HR140))","v":{"$error":"#VALUE!"}},null,null,null,null,null,{"$f":"mndot_rounding_3(IF(HX140=\"\",HY140,HX140))","v":{"$error":"#VALUE!"}},null,{"$f":"mndot_rounding_3(IF(HZ140=\"\",IA140,HZ140))","v":{"$error":"#VALUE!"}},null,{"$f":"mndot_rounding_3(IF(IB140=\"\",IC140,IB140))","v":{"$error":"#VALUE!"}},null,{"$f":"mndot_rounding_3(IF(ID140=\"\",IE140,ID140))","v":{"$error":"#VALUE!"}},null,null,null,null,null,{"$f":"mndot_rounding_3(IF(IJ140=\"\",IK140,IJ140))","v":{"$error":"#VALUE!"}},null,{"$f":"mndot_rounding_3(IF(IL140=\"\",IM140,IL140))","v":{"$error":"#VALUE!"}},null,{"$f":"mndot_rounding_3(IF(IN140=\"\",IO140,IN140))","v":{"$error":"#VALUE!"}},null,{"$f":"mndot_rounding_3(IF(IP140=\"\",IQ140,IP140))","v":{"$error":"#VALUE!"}}]
[null,null,null,null,null,null,null,null,null,null,null,null,null,null,null,null,null,null,null,null,null,null,null,null,null,null,null,null,null,null,null,null,null,null,null,null,null,null,null,null,null,null,null,null,null,null,null,null,null,null,null,null,null,null,null,null,null,null,null,null,null,null,null,null,null,null,null,null,null,null,null,null,null,null,null,null,null,null,null,null,null,null,null,null,null,null,null,null,null,null,null,null,null,null,null,null,null,null,null,null,null,null,null,null,null,null,null,null,null,null,null,null,null,null,null,null,null,null,null,null,null,null,null,null,null,null,null,null,null,null,null,null,null,null,null,null,null,null,null,null,null,null,null,null,null,null,null,null,null,null,null,null,null,null,null,null,null,null,null,null,null,null,null,null,null,null,null,null,null,null,null,null,null,null,null,null,null,null,null,null,null,null,null,null,null,null,null,null,null,null,null,null,null,null,null,null,null,null,null,null,null,null,null,null,null,null,null,null,null,null,null,null,null,null,null,null,null,null,null,{"$f":"mndot_rounding_0(Grad!$S63)","v":{"$error":"#VALUE!"}},{"$f":"IF(HM141=\"\",\"\",IF(OR(HM141>(HL141+6),HM141<(HL141-6)),\"Tolerance\",\"\"))","v":{"$error":"#VALUE!"}},{"$f":"mndot_rounding_0(Grad!$S64)","v":{"$error":"#VALUE!"}},{"$f":"IF(HO141=\"\",\"\",IF(OR(HO141>(HN141+6),HO141<(HN141-6)),\"Tolerance\",\"\"))","v":{"$error":"#VALUE!"}},{"$f":"mndot_rounding_0(Grad!$S65)","v":{"$error":"#VALUE!"}},{"$f":"IF(HQ141=\"\",\"\",IF(OR(HQ141>(HP141+6),HQ141<(HP141-6)),\"Tolerance\",\"\"))","v":{"$error":"#VALUE!"}},{"$f":"mndot_rounding_0(Grad!$S66)","v":{"$error":"#VALUE!"}},{"$f":"IF(HS141=\"\",\"\",IF(OR(HS141>(#REF!+6),HS141<(#REF!-6)),\"Tolerance\",\"\"))","v":{"$error":"#VALUE!"}},null,null,null,null,{"$f":"mndot_rounding_0(Grad!$S63)","v":{"$error":"#VALUE!"}},{"$f":"IF(HY141=\"\",\"\",IF(OR(HY141>(HX141+6),HY141<(HX141-6)),\"Tolerance\",\"\"))","v":{"$error":"#VALUE!"}},{"$f":"mndot_rounding_0(Grad!$S64)","v":{"$error":"#VALUE!"}},{"$f":"IF(IA141=\"\",\"\",IF(OR(IA141>(HZ141+6),IA141<(HZ141-6)),\"Tolerance\",\"\"))","v":{"$error":"#VALUE!"}},{"$f":"mndot_rounding_0(Grad!$S65)","v":{"$error":"#VALUE!"}},{"$f":"IF(IC141=\"\",\"\",IF(OR(IC141>(IB141+6),IC141<(IB141-6)),\"Tolerance\",\"\"))","v":{"$error":"#VALUE!"}},{"$f":"mndot_rounding_0(Grad!$S66)","v":{"$error":"#VALUE!"}},{"$f":"IF(IE141=\"\",\"\",IF(OR(IE141>(#REF!+6),IE141<(#REF!-6)),\"Tolerance\",\"\"))","v":{"$error":"#VALUE!"}},null,null,null,null,{"$f":"mndot_rounding_0(Grad!$S63)","v":{"$error":"#VALUE!"}},{"$f":"IF(IK141=\"\",\"\",IF(OR(IK141>(IJ141+6),IK141<(IJ141-6)),\"Tolerance\",\"\"))","v":{"$error":"#VALUE!"}},{"$f":"mndot_rounding_0(Grad!$S64)","v":{"$error":"#VALUE!"}},{"$f":"IF(IM141=\"\",\"\",IF(OR(IM141>(IL141+6),IM141<(IL141-6)),\"Tolerance\",\"\"))","v":{"$error":"#VALUE!"}},{"$f":"mndot_rounding_0(Grad!$S65)","v":{"$error":"#VALUE!"}},{"$f":"IF(IO141=\"\",\"\",IF(OR(IO141>(IN141+6),IO141<(IN141-6)),\"Tolerance\",\"\"))","v":{"$error":"#VALUE!"}},{"$f":"mndot_rounding_0(Grad!$S66)","v":{"$error":"#VALUE!"}},{"$f":"IF(IQ141=\"\",\"\",IF(OR(IQ141>(IP141+6),IQ141<(IP141-6)),\"Tolerance\",\"\"))","v":{"$error":"#VALUE!"}}]
[null,null,null,null,{"$f":"isnumber","v":{"$error":"#NAME?"}}]

{"sheet":"Read","index":2,"n_rows":315,"n_cols":9,"rows_kept":315,"cut":false,"hidden":false,"merged":[[129,0,164,13],[46,0,48,14],[50,0,53,14],[101,0,128,13],[79,0,100,13],[3,0,3,8],[5,0,5,8],[8,0,13,14],[38,0,44,14],[15,0,21,14],[23,0,24,14],[26,0,31,14],[33,0,36,14],[7,0,7,8]]}
[]
[null,"VERSION",{"$f":"SUMMARY!$A$1","v":"Rev.02May2012 "}]
[]
[]
[]
[]
[]
[]
["STEP #1  -  Fill in the Mixture Design Report information on the pave labeled \"JMF\".  The information will be carried to the lines that follow.  There are formulas that duplicate the line to the following lines.  Once you enter a new JMF on a line, the formulas will be over written on the line you enter data.                                                      "]
[]
[]
[]
[]
[]
[]
["STEP #2  -  Fill in the Summary sheet data.  Fill in only the cell that are colored.  The heading information will be transferred automatically from the \"JMF\" sheet.  The following items need to be filled in: the asphalt cement specific gravity, the first test number, the day # for each test, the date for each test, the SP for each test, the gradation values, thye AC content, Gmm, Gmb, CAA, FAA, Tons where Sampled, Tons represented, Cumulative Tons, Quality Control Notes, and the specific gravities and proportions of the different aggregate sources."]
[]
[]
[]
[]
[]
[]
[]
["The following are the definitions for Tons where Sampled, Tons Represented, and Cumulative Tons. "]
[]
[]
["Cumulative Tonnage - The total tons of a mix (from the same MDR) produced from the start of the year, upto the point the sample is taken.  The tonnage would start from zero again if a new mix design is made (new TM).  This tonnage is based on the total tonnage produced from a plant and not the tonnage delivered to the job "]
[]
[]
[]
[]
[]
[]
["Tons Sampled at - Starting from zero at the beginning of the day, the Tons sampled at would be the tons produced that day, prior to the sample being taken.  This tonnage is based on mix delivered to the job.\n"]
[]
[]
[]
[]
["Representative Tons - For the first test of the day, the representative tons is the tonnage produced from the start of the day to the tonnage produced prior to the second test.  For the last test of the day, the representative tonnage is the tonnage produced between the point the sample is taken and the end of the day.  For other tests, the representive tonnage is the quantity produced between the sample in question and the following sample."]
[]
[]
[]
[]
[]
[]
[]
["The tonnage delivered to the job for a day is not reported, but is equal to the \"Tons Sampled at\" for the last sample of the day, plus the \"Tons Represented\" for the last sample of the day."]
[]
[]
[]
["Generally for Out-State plants the tonnage delivered to the job and the tonnage produced are equal.  In the metro area, it is very common to have mix being produced from one plant, being delivered to more than one job.\n\n"]
[]
[]
[]
["Example:"]
[]
["200 tons delivered to job \"A\""]
["400 tons delivered to job \"B\""]
["800 tons delivered to job \"A\"           sample taken at 300 tons"]
["500 tons delivered to job \"B\"          sample taken at 400 tons"]
["600 tons delivered to job \"A\""]
["400 tons delivered to job \"B\""]
["1000 tons delivered to job \"A\"         sample taken at 500 tons"]
["1200 tons delivered to job \"B\"            sample taken at 800 tons"]
["300 tons delivered to job \"A\""]
["700 tons delivered to job \"B\""]
["1000 tons delivered to job \"A\"          sample taken at 300 tons"]
["900 tons delivered to job \"B\"            sample taken at 200 tons"]
[]
[]
["For job \"A\""]
[]
["Test Number",null,null,null,1,null,2,null,3]
["Cumulative Tons",null,null,null,900,null,3400,null,6400]
["Tons Sampled at",null,null,null,500,null,2100,null,3200]
["Tons Represented",null,null,null,2100,null,1100,null,700]
["Total Tonnage Supplied to Job \"A\" for the day - 3900 tons"]
[]
[]
["Revisions History \n\nAugust 8, 2002 Revision - Cosmetic Changes; Fixed VMA on page 16\n\nMay 7, 2003 Revision - for this season, the marshall and the gyratory design test summary sheets\nhave been combined into one spread sheet.  Mn/DOT rounding has been added for the first time\nto the test summary sheet spread sheet.  The number of sheets has been expanded to the maximum\nallowed by the width of a page, 21 sheets wide or 84 tests.  This version will not fit on a floppy disk.\n\nJuly 11, 2003 Revision - formatted the cells for the ignition oven clalibration number to round to \nfour digits\n\nJuly 31, 2003 Revision - added HV mix as an option - modified the table on the MDR sheet BF13:BP23\nand cells BF6 to BF11, BG6 to BG9, Y2, and D7\n\nAugust 14, 2003 revision - changed the print setup to print in black and white\n"]
[]
[]
[]
[]
[]
[]
[]
[]
[]
[]
[]
[]
[]
[]
[]
[]
[]
[]
[]
[]
[]
["\nRevision for 7/8/04 - changed the format of the Gmb for Ninitial and Nmax so that the numbers\ndisplay out to 3 decimal points\n\nRevision for 4/26/05 - added AFT calculations for contractor and agency\n\nRevision for 5/3/05 - corrected a bug that was causing an error for the moving average of the \n#200 percent passing.  Fixed the calculation for fines to effect asphalt.  The F/E was using \nthe individual percent passing the #200 when it should have been using the moving average.\nFixed AFT calculation - rounding error).\n\nRevision for 5/18/05 - changed the \"Spec Year 2003\" to \"Spec Year 2005\".\n\nRevision for 5/20/05 - fixed errors with the minus#4 spgr calculations.  Fixed bug for the calculation\nand display of the agency's VMA.\n\nRevision for 12DEC2005 - modified AFT calculations to include the adjustment for SA and the \nadjustment for AFT.  [adj SA = SA*(2.65/-#4 spgr)]    [adj AFT = AFT + 0.06 * (adj SA - 28)]\n\n\n"]
[]
[]
[]
[]
[]
[]
[]
[]
[]
[]
[]
[]
[]
[]
[]
[]
[]
[]
[]
[]
[]
[]
[]
[]
[]
[]
[]
["Revision for 17JAN2006 - corrected rounding error in the AFT calculation.  Corrected error in \nthe Verification AFT calculation.  Added the moving average to the AFT data.\n\nRevision of 16JUN2006 - Added ability to automated the substitution of Agency values that are out \nof tolerance.  There is an additional worksheet page that has been added, \n\"tolerance substitutions\", where the user can enter AFT values, when the AFT between the\ncontractor and the Agency is out of tolerance.  This value is automatically transfered to the \n\"SUMMARY\" worksheet page.  The moving average also is calculated with the substituted value.\n\nRevision of 21JUN2006 - Fixed the gradation chart for the #200 sieve.  The chart was plotting the\n#100 sieve where it should chart the #200  sieve.\n\nRevision of 17JAN2007 - Fixed the AFT moving average for the QC testing.  Many of the formulas\non the \"Mix\" sheet, under column \"AU\" were in error.  Changed the \"Year\" to 2007."]
[]
[]
[]
[]
[]
[]
[]
[]
[]
[]
[]
[]
[]
[]
[]
[]
[]
[]
[]
[]
[]
[]
[]
[]
[]
[]
[]
[]
[]
[]
[]
[]
[]
[]
[]
["Revision for 05OCT2007 - Added the ability of the spreadsheet to replace the contractor values for agency values when they are out of tolerance."]
[]
[]
["Revision: 04DEC2007"]
[]
["Removed N(initial) and N (max) to reflect changes in specification that will be used for the 2008 season.  "]
["Removed the comment that sieves 16 - 100 are for information purposes only, since they are used in the AFT calcuation."]
["Changed Spec. Year from 2007 to 2008."]
[]
["Cal. % cells were inserted into the spreadsheet.  These cells indicate what values (shown in orange) the spreadsheet is going to use to calcualate "]
["the calculatated values (Voids, VMA, AFT, etc.).  If the contractor and agency values are out of tolerance, the agency values will"]
["be used in the calculations.  Also red text will discplay that there is a tolerance replacement by by  "]
["displaying \"Tolerance\" and \"Agncy Repl.\"."]
[]
["Revision: 14DEC2007"]
[]
["Added a cell on the MDR sheet (Y4) to destiguish whether the job has the AFT special provision added.  The question is answered by a drop down list of Yes or No.  If AFT is yes, the "]
["#200 sieve tolerance is 1.2, per AFT sprecial provision.  If it is not an AFT job, then the tolerance limit is 2.0 for the #200 sieve.  (Calculations in cells sheet MDR cells BT3 to BV5.  "]
[]
["Added a row to show what the amount of new AC that is being added.  (SUMMARY, row 83)."]
[]
["Revision: 19DEC2007"]
[]
["Cell E1 will display \"AFT Project\" when the the answer is \"Yes\" on the MDR sheet question (Cell Y4)."]
["Row 54 of the SUMMAY sheet will now check the VMA tolerance."]
[]
["Revision: 31DEC2007"]
["Modified the broad gradation limits shown on the SUMMARY sheet use the JMF limits if it is a non AFT job (MDR!AL4=\"No\").  If AFT is \"Yes\", then the broad band gradation limits are used."]
[]
["Revision: 02JAN2008"]
["Fixed a circular reference problem on the MIX sheet.  (All related to row 40)"]
[]
["Revision: 10JAN2008"]
["The SUMMARY sheet will now display under Individual AFT, the contractor AFT using only the contractor's lab results.  The agency individual AFT result will display using only the agency lab results."]
["The \"Working AFT\" value is uses as a base the contractor values, then any out of tolerance value is substituted with the agency value.  Lastly the \"Working AFT\" value is checked for the tolerance "]
["between the \"Working AFT\" and the agency AFT value for a tolerance of 1.2 .  If the tolerance is out, the agency value +0.5 is substituted for the \"Working Value\"."]
["The \"SUMMARY\" sheet checks the tolerances  between contractor and agency values and if there is an out of tolerance value, the agency value will replace the contractor value for the calculations."]
["This tolerance check is being done on, the gradation, %AC, Gmm, Gmb, %Air Voids, %VMA, CAA, and FAA. "]
[]
["Revision: 13MAR2008"]
["SUMMARY sheet will now display the correct CAA-1, CAA-2, and FAA requirements "]
[]
["Revision: 16APR2008"]
["The moving average calculations include logic so that when there is a missed test, the moving average will start up again on the next test where there are values that can be used in the calcuations.  "]
["This logic is now in the calculated moving averages for all gradation sieves (that have moving averages), %AC, Gmm (Rice), VMA, and AFT."]
[]
["Revision: 21MAY2008"]
["SUMMARY Sheet, source #7 was not included in the calculation of the bulk specific gravity.  Also, all ties to the address of the add AC for other cell's calculations were removed.  Some additional"]
["comments were added to the 1st test of the summary sheet so users can identify which value go in certain cells."]
[]
["Revision: 29MAY2008"]
["The moving average calculations on the GRAD and MIX sheets were corrected so that the moving average for the gradations and %AC are correct after test 19."]
[]
["Revision: 6JUN2008"]
["The total number of aggregate sources that can be inputted in the spreadsheet was increased from 7 to 10.  "]
[]
["Revision: 10JUN2008"]
["The Aggregate Bulk SpG for Mix and -4 portions were not referenced to the proper cells in the calculation table for tests 5 and above.  Modified to reference row 136/139 instead of the previous 135/138."]
[]
["Revision: 01JUL2008"]
["The moving average was not calculating for gradations on test #21, 23, 25, and 27.  This problem was corrected.  The cell references for those tests were incorrect. "]
[]
["Revision: 14JUL2008"]
["Gradation Moving averages (Row 33) test 23 was using the values from test 22 (Row 34).  Fixed to use row 33 values (test 23)"]
["Added Shoulder Wear (SHLDR-WE) to drop down list in  MDR Y3 and included logic so when that is specified, a 3.0% Air Void will be displayed."]
[]
["Revision: 25JUL2008"]
["The calculation for the -4 Gsb was not calculating if a 7th source was used.  The incorrect cell reference was corrected on row 115 on the SUMMARY sheet "]
[]
["Revision: 12AUG2008"]
["The Gse calculation for AFT was only using the initial ACsg (Sheet B7).  If a AC source was changed (ACsg) this was not reflected in the AFT calculation."]
["The calculation for AFT Gse (Sheet: Mix Y111 to Y194) was changed so that the ACsg is taken from the Sheet: Summary B7, N7, Z7, … and used.   "]
["Therefore, each page (4 tests) has uses its own individual ACsg. "]
[]
["Revision: 15AUG2008"]
["The formulas for checking the tolerance on sheet 9, 3/4\" gradation (CV18 to DC18) and sheet 10, 1/2\" gradation (DH21 to DO21) were copied "]
["1 cell offset to the right.  The correct formulas were copied in the the cells."]
[]
["Revision: 20AUG2008"]
["Individual AFT values calculated on the sheet are correct.  However the working AFT value was not always correct when there is an agency and contractor calculation for one test."]
["The working AFT value was corrected (cells Mix!AL111 to 194)"]
[]
["Revision: 20JAN2009"]
["Changed specification year to 2009 and changed date on sheet to 20JAN2009"]
[]
["Revision 26MAR2009"]
["Fixed SUMMARY Row 10 references to Sp.G values in MDR. Changed eqs in Mix!AL111 to 194 to use agency values for out-of-spec tests."]
["Unprotected hidden sheets & protected workbook.  All visible sheets are protected."]
[]
["Revision: 07May2009"]
["The MDR sheet would put an \"L\" in the binder type when a 64-28 \"E\" oil was selected.  MDR cell BK80 equation was modified.  ..\"E = PG 64-34\" was changed to \"E = PG 64-28\""]
["Now and \"E\" will appear when a PG 64-28 is selected."]
[]
["Revision: 04Jun2009"]
["Problem:  The SUMMARY will not calculate the correct AFT on sheet 18, cell GZ84 & HB84"]
["Solution: cell reference to copy result from previous cell was not present.  Wrote in the equation so the Agg SG from the previous test would reference in the cell.  "]
[]
["Revision: 16Jun2009"]
["Problem: Aggregate Percentages in cells HA84:HA93 were changing when a values was inserted for the Add AC"]
["Solution: Cell HA84 was calculating using cells HA84 to HA94, should have been to HA93.  Modified formula."]
[]
["Revision: 30JUN2009"]
["Problem:  Tests 330 & 331 are not calculating AFT correctly (SummaryCL57, SummaryCN57)"]
["Solution: Gse was not being calculated correctly"]
["Cells MixAM40, did not have had cell references that were not for test 330; also Cell MixAM41, needed to be 41."]
[]
["Revision: 20JUL2009"]
["Problem: Cells not merged so aggregate source wraps out of cell"]
["Solution: Merged cells AL89:AM93, CH89:CI93"]
[]
["Problem: Aggregete Sources title and % of mix title are not being copied from previous sheet"]
["Solution: Copied equation in that will inserted the information from the previous sheet.  Aggregete Source> GX84:GX90,  % of mix > HA85:HA91"]
[]
["Problem: Missing drop down list (reference) for MDR:Asphalt Test Comparison (AE7)"]
["Solution: Inserted drop down list in MDR: BI3:BI5"]
[]
["Problem: Moving average cells (Row 29) for #8 Sieve is unprotected."]
["Solution:  Protected the cells."]
[]
["Problem: Counties sometime spec. a wear mix (WE) with 3% voids, on the MDR sheet drop down list there is no selection for WE with 3% voids"]
["Solution: Added a \"WE - 3% Voids\" to the drop down list in MDR BI53 that can be chosen in MDR Y3."]
[]
["Revision: 16SEP2009"]
["Problem:  The agency Pbe was calculating using the ACSpG from page 1 only, not for the ACSpG for each individual page"]
["Solution:  Changed equation so the agency Pbe would be calculated using the value shown on the individual page"]
["What was changed:  SUMMARY Row 124, the equation was changed from using $B$7 in the equation, to the ACSpG at the top of each page"]
[]
["Revision: 01APR2010"]
["Problem:  Yearly update to 2010"]
["Solution: Added AFT graph to Volumetrics tab"]
[]
["Revision: 29Sep2010"]
["Problem:  Agency AFT not calculating correctly for test #13"]
["Solution:  Cell AO24 was referencing AM7 instead of AL7."]
[]
["Revision: 25Feb2011"]
["Added % Add AC/Total AC row on \"Summary\" (row 60&61), calculation (E95, G95,I95,K95,etc.), and \"Stop Production\" statement if less than 66% (ind.) & 70% (mov. Avg.) - (F95,H95,J95,L95)"]
["Removed drop down options for mix type and AFT project on \"MDR\" (AL5)"]
["Removed Mix Design type selection on \"MDR\" (Y2)"]
["Removed automatic fill in of Add AC on \"Summary\" row (E95, G95,I95, K95, etc.)"]
["Added Drop Down box to pick if it is a Verific. Sample on Summary (E6, G6, I6, K6, etc.)"]
[]
["Revision: 11Apr2011"]
["Changed Cumulative Total for the day to a calculated value instead of a user inputted value.  (\"Summary\", row 70)"]
[]
["Revision: 02APR2012"]
["Changed: Updated for 2012, dates"]
[]
["Revision: 02May2012"]
["Change:  Corrected A gradation to 2012 spec and included RAP criteria"]

{"sheet":"Mix","index":3,"n_rows":194,"n_cols":52,"rows_kept":194,"cut":false,"hidden":true,"merged":[[105,9,105,10],[105,11,105,12],[105,1,105,2],[105,3,105,4],[105,5,105,6],[105,7,105,8],[5,9,5,10],[5,11,5,12],[5,1,5,2],[5,3,5,4],[5,5,5,6],[5,7,5,8],[1,9,1,11],[2,9,2,11],[1,7,1,8],[2,7,2,8],[1,0,1,1],[2,0,2,1],[1,2,1,4],[2,2,2,4]]}
[null,null,null,null,null,null,"MIXTURE PROPERTIES"]
["Project #",null,{"$f":"SUMMARY!B3","v":""},null,null,"T.H. #",{"$f":"MDR!E4","v":0},"           Contractor",null,{"$f":"MDR!AF4","v":"AFT Project?"}]
[null,null,{"$f":"SUMMARY!B4","v":""},null,null,"Mix Spec.",{"$f":"MDR!C7","v":0},"              Mix Type",null,{"$f":"MDR!Y3","v":"WE (Wear) - 3% Voids"},null,null,null,null,"Test "]
[null,null,null,null,null,null,null,null,null,null,null,null,null,null,"Summary"]
["Design",null,"AC %",null,null,"Voids",{"$f":"MDR!C4","v":0},null,"indiv","ACsg",{"$f":"SUMMARY!B7","v":0},"VMA",{"$f":"MDR!C5","v":0},null,"Sheet"]
[null,"AC",null,"Gmm",null,"Gmb",null,"Indiv",null,"Iso",null,"VMA",null,"Gsb","Test",null,null,"Eff.","Eff.","Pass","F/A","AC",null,null,null,null,null,null,null,null,null,null,null,null,null,null,null,null,null,null,null,null,null,null,"Adjusted"]
["Test","AC","AVE-4","Gmm","AVE-4","Gmb","AVE-4","Void","AVE-4","Void","AVE-4","VMA","AVE-4","Blend","#",null,"Test","SG","AC","#200","Ratio","Abs",null,null,"Target","Target","Target",null,"Test ","Voids","Voids","Voids","Voids","VMA","VMA","AC","AC",null,null,null,null,null,null,null,"AFT"]
[null,null,null,null,null,null,"calc, but",null,null,null,"calc, but",null,null,null,null,null,null,null,null,null,null,null,null,null,"Voids","AC","VMA",null,"summary ",1,2,-1,-2,-0.3,-0.6,-0.4,-0.8,null,"Gse","Pbe (% mix)","Pbe (% agg)","SA","AFT","Adjusted ","USED",null,"moving avg","Adjusted","moving avg",null,"Agency ","Adjusted"]
[null,null,null,null,null,null,"not used",null,null,{"$f":"ROUND(((D9-F9)/D9*100),1)","v":{"$error":"#DIV/0!"}},"not used",null,null,null,null,null,"Design",{"$f":"(100-D5)/((100/D9)-(D5/$K$5))","v":{"$error":"#DIV/0!"}},{"$f":"D5-((R9-N9)/(R9*N9)*$K$5*(100-D5))","v":{"$error":"#DIV/0!"}},null,{"$f":"T9/S9","v":{"$error":"#DIV/0!"}},{"$f":"D5-S9","v":{"$error":"#DIV/0!"}},null,null,null,null,null,null,"sheet","UJMFL","2X UJMF","LJMF","2X LJMF","JMF","2XLJMF","JMF","2XLJMF",null,null,null,null,null,null,"SA","After",null,"adj aft","AFT","adj aft",null,"Substituted","AFT"]
[null,null,null,null,null,null,"on Summary",null,null,null,"on Summary",null,null,null,null,null,null,null,null,null,null,null,null,null,null,null,null,null,null,null,null,null,null,null,null,null,null,null,null,null,null,null,null,null,"Substitution",null,"QC data","QA data","QA data",null,"AFT"]
[{"$f":"SUMMARY!D7","v":301},{"$f":"SUMMARY!D44","v":""},null,{"$f":"SUMMARY!D47","v":""},null,{"$f":"SUMMARY!D49","v":""},null,{"$f":"mndot_rounding_1((($E$14-F11)/$E$14*100))","v":{"$error":"#VALUE!"}},null,{"$f":"mndot_rounding_1(((D11-F11)/D11*100))","v":{"$error":"#VALUE!"}},null,{"$f":"mndot_rounding_1(100-(F11*(100-B11)/N11))","v":{"$error":"#VALUE!"}},null,{"$f":"SUMMARY!D11","v":{"$error":"#VALUE!"}},{"$f":"A11","v":301},null,{"$f":"A11","v":301},{"$f":"(100-B11)/((100/D11)-(B11/$K$5))","v":{"$error":"#VALUE!"}},{"$f":"B11-((R11-N11)/(R11*N11)*$K$5*(100-B11))","v":{"$error":"#VALUE!"}},{"$f":"SUMMARY!D41","v":""},{"$f":"mndot_rounding_1(T11/S11)","v":{"$error":"#VALUE!"}},{"$f":"B11-S11","v":{"$error":"#VALUE!"}},null,null,{"$f":"+G5","v":0},{"$f":"MDR!D12","v":0},{"$f":"$M$5","v":0},null,{"$f":"A11","v":301},{"$f":"G5+AD8","v":1},{"$f":"$G$5+AE8","v":2},{"$f":"$G$5+AF8","v":-1},{"$f":"$G$5+AG8","v":-2},{"$f":"$M$5+AH8","v":-0.3},{"$f":"$M$5+AI8","v":-0.6},{"$f":"Z11+$AJ$8","v":-0.4},{"$f":"Z11+AK8","v":-0.8},null,{"$f":"+mndot_rounding_3((100-B11)/((100/D11)-(B11/$K$5)))","v":{"$error":"#VALUE!"}},{"$f":"+mndot_rounding_1(B11-((AM11-N11)*$K$5)*(100-B11)/(N11*AM11))","v":{"$error":"#VALUE!"}},{"$f":"+mndot_rounding_1((AN11*100)/(100-B11))","v":{"$error":"#VALUE!"}},{"$f":"mndot_rounding_1(2+1.6*Grad!N11+0.6*Grad!AD11+0.3*Grad!AC11+0.14*Grad!AB11+0.08*Grad!AA11+0.04*Grad!L11+0.02*Grad!J11)","v":{"$error":"#VALUE!"}},{"$f":"+mndot_rounding_1((AN11*4870)/((100-B11)*AR11))","v":{"$error":"#VALUE!"}},{"$f":"IF(AT11<2.58,mndot_rounding_1(AP11*(2.65/AT11)),(IF(AT11>2.7,mndot_rounding_1(AP11*(2.65/AT11)),AP11)))","v":{"$error":"#VALUE!"}},{"$f":"IF(AY11>0.1,AY11,AZ11)","v":{"$error":"#VALUE!"}},{"$f":"SUMMARY!$D$10","v":{"$error":"#VALUE!"}},null,{"$f":"SUMMARY!E132","v":""},null,null,0,{"$f":"mndot_rounding_1(AQ11 + 0.06*(AR11-28))","v":{"$error":"#VALUE!"}}]
[{"$f":"SUMMARY!F7","v":302},{"$f":"SUMMARY!F44","v":""},null,{"$f":"SUMMARY!F47","v":""},null,{"$f":"SUMMARY!F49","v":""},null,{"$f":"mndot_rounding_1((($E$14-F12)/$E$14*100))","v":{"$error":"#VALUE!"}},null,{"$f":"mndot_rounding_1(((D12-F12)/D12*100))","v":{"$error":"#VALUE!"}},null,{"$f":"mndot_rounding_1(100-(F12*(100-B12)/N12))","v":{"$error":"#VALUE!"}},null,{"$f":"SUMMARY!F11","v":{"$error":"#VALUE!"}},{"$f":"O11+1","v":302},null,{"$f":"Q11+1","v":302},{"$error":"#VALUE!"},{"$error":"#VALUE!"},{"$f":"SUMMARY!F41","v":""},{"$error":"#VALUE!"},{"$error":"#VALUE!"},null,null,{"$f":"Y11","v":0},{"$f":"MDR!D13","v":""},0,null,{"$f":"AC11+1","v":302},{"$f":"AD11","v":1},2,-1,-2,-0.3,-0.6,{"$f":"Z12+$AJ$8","v":{"$error":"#VALUE!"}},{"$f":"Z12+AK8","v":{"$error":"#VALUE!"}},null,{"$f":"+mndot_rounding_3((100-B12)/((100/D12)-(B12/$K$5)))","v":{"$error":"#VALUE!"}},{"$f":"+mndot_rounding_1(B12-((AM12-N12)*$K$5)*(100-B12)/(N12*AM12))","v":{"$error":"#VALUE!"}},{"$f":"+mndot_rounding_1((AN12*100)/(100-B12))","v":{"$error":"#VALUE!"}},{"$f":"mndot_rounding_1(2+1.6*Grad!N12+0.6*Grad!AD12+0.3*Grad!AC12+0.14*Grad!AB12+0.08*Grad!AA12+0.04*Grad!L12+0.02*Grad!J12)","v":{"$error":"#VALUE!"}},{"$f":"+mndot_rounding_1((AN12*4870)/((100-B12)*AR12))","v":{"$error":"#VALUE!"}},{"$f":"IF(AT12<2.58,mndot_rounding_1(AP12*(2.65/AT12)),(IF(AT12>2.7,mndot_rounding_1(AP12*(2.65/AT12)),AP12)))","v":{"$error":"#VALUE!"}},{"$f":"IF(AY12>0.1,AY12,AZ12)","v":{"$error":"#VALUE!"}},{"$f":"SUMMARY!$F$10","v":{"$error":"#VALUE!"}},null,{"$f":"SUMMARY!G132","v":""},null,null,0,{"$error":"#VALUE!"}]
[{"$f":"SUMMARY!H7","v":303},{"$f":"SUMMARY!H44","v":""},null,{"$f":"SUMMARY!H47","v":""},null,{"$f":"SUMMARY!H49","v":""},null,{"$f":"mndot_rounding_1((($E$14-F13)/$E$14*100))","v":{"$error":"#VALUE!"}},null,{"$error":"#VALUE!"},null,{"$f":"mndot_rounding_1(100-(F13*(100-B13)/N13))","v":{"$error":"#VALUE!"}},null,{"$f":"SUMMARY!H11","v":{"$error":"#VALUE!"}},303,null,303,{"$error":"#VALUE!"},{"$error":"#VALUE!"},{"$f":"SUMMARY!H41","v":""},{"$error":"#VALUE!"},{"$error":"#VALUE!"},null,null,{"$f":"Y12","v":0},{"$f":"MDR!D14","v":""},0,null,303,{"$f":"AD12","v":1},{"$f":"AE12","v":2},{"$f":"AF12","v":-1},{"$f":"AG12","v":-2},{"$f":"AH12","v":-0.3},{"$f":"AI12","v":-0.6},{"$f":"Z13+$AJ$8","v":{"$error":"#VALUE!"}},{"$f":"Z13+AK8","v":{"$error":"#VALUE!"}},null,{"$error":"#VALUE!"},{"$error":"#VALUE!"},{"$error":"#VALUE!"},{"$f":"mndot_rounding_1(2+1.6*Grad!N13+0.6*Grad!AD13+0.3*Grad!AC13+0.14*Grad!AB13+0.08*Grad!AA13+0.04*Grad!L13+0.02*Grad!J13)","v":{"$error":"#VALUE!"}},{"$error":"#VALUE!"},{"$error":"#VALUE!"},{"$error":"#VALUE!"},{"$f":"SUMMARY!$H$10","v":{"$error":"#VALUE!"}},null,{"$f":"SUMMARY!I132","v":""},null,null,0,{"$error":"#VALUE!"}]
[{"$f":"SUMMARY!J7","v":304},{"$f":"SUMMARY!J44","v":""},{"$f":"IF(B14=0,\"\",AVERAGE(B11,B12,B13,B14)+(IF(B11=0,\" \",IF(B12=0,\" \",IF(B13=0,\" \",IF(B14=0,\" \",))))))","v":{"$error":"#DIV/0!"}},{"$f":"SUMMARY!J47","v":""},{"$f":"mndot_rounding_3(IF(D14=0,\"\",AVERAGE(D11,D12,D13,D14)+(IF(D11=0,\" \",IF(D12=0,\" \",IF(D13=0,\" \",IF(D14=0,\" \",)))))))","v":{"$error":"#VALUE!"}},{"$f":"SUMMARY!J49","v":""},{"$f":"ROUND(AVERAGE(F11:F14),3)","v":{"$error":"#DIV/0!"}},{"$f":"mndot_rounding_1((($E$14-F14)/$E$14*100))","v":{"$error":"#VALUE!"}},{"$f":"mndot_rounding_1(IF(H14=0,\"\",AVERAGE(H11,H12,H13,H14)+(IF(H11=0,\" \",IF(H12=0,\" \",IF(H13=0,\" \",IF(H14=0,\" \",)))))))","v":{"$error":"#VALUE!"}},{"$error":"#VALUE!"},{"$f":"mndot_rounding_1(AVERAGE(J11:J14))","v":{"$error":"#VALUE!"}},{"$f":"mndot_rounding_1(100-(F14*(100-B14)/N14))","v":{"$error":"#VALUE!"}},{"$f":"mndot_rounding_1(IF(L14=0,\"\",AVERAGE(L11,L12,L13,L14)+(IF(L11=0,\" \",IF(L12=0,\" \",IF(L13=0,\" \",IF(L14=0,\" \",)))))))","v":{"$error":"#VALUE!"}},{"$f":"SUMMARY!J11","v":{"$error":"#VALUE!"}},304,null,304,{"$error":"#VALUE!"},{"$error":"#VALUE!"},{"$f":"SUMMARY!J41","v":""},{"$error":"#VALUE!"},{"$error":"#VALUE!"},null,null,0,{"$f":"MDR!D15","v":""},0,null,304,1,2,-1,-2,-0.3,-0.6,{"$f":"Z14+AJ8","v":{"$error":"#VALUE!"}},{"$f":"Z14+AK8","v":{"$error":"#VALUE!"}},null,{"$error":"#VALUE!"},{"$error":"#VALUE!"},{"$error":"#VALUE!"},{"$f":"mndot_rounding_1(2+1.6*Grad!N14+0.6*Grad!AD14+0.3*Grad!AC14+0.14*Grad!AB14+0.08*Grad!AA14+0.04*Grad!L14+0.02*Grad!J14)","v":{"$error":"#VALUE!"}},{"$error":"#VALUE!"},{"$error":"#VALUE!"},{"$error":"#VALUE!"},{"$f":"SUMMARY!$J$10","v":{"$error":"#VALUE!"}},{"$f":"AVERAGE(AS11,AS12,AS13,AS14)+(IF(AS11=0,\" \",IF(AS12=0,\" \",IF(AS13=0,\" \",IF(AS14=0,\" \",)))))","v":{"$error":"#VALUE!"}},{"$f":"SUMMARY!K132","v":""},{"$f":"AVERAGE(AV11,AV12,AV13,AV14)+(IF(AV11=0,\" \",IF(AV12=0,\" \",IF(AV13=0,\" \",IF(AV14=0,\" \",)))))","v":{"$error":"#DIV/0!"}},null,0,{"$error":"#VALUE!"}]
[{"$f":"SUMMARY!P7","v":305},{"$f":"SUMMARY!P44","v":""},{"$f":"+IF(B15=0,\"\",(IF(B15>0,+B15,0)+IF(B14>0,+B14,0)+IF(B13>0,+B13,0)+IF(B12>0,+B12,0)+IF(+COUNTIF(B12:B15,\">0\")<=3,+B11)+IF(+COUNTIF(B11:B15,\">0\")<4,\" \"))/4)","v":{"$error":"#VALUE!"}},{"$f":"SUMMARY!P47","v":""},{"$f":"mndot_rounding_3(+IF(D15=0,\"\",(IF(D15>0,+D15,0)+IF(D14>0,+D14,0)+IF(D13>0,+D13,0)+IF(D12>0,+D12,0)+IF(+COUNTIF(D12:D15,\">0\")<=3,+D11)+IF(+COUNTIF(D11:D15,\">0\")<4,\" \"))/4))","v":{"$error":"#VALUE!"}},{"$f":"SUMMARY!P49","v":""},{"$error":"#DIV/0!"},{"$f":"mndot_rounding_1(((E15-F15)/E15*100))","v":{"$error":"#VALUE!"}},{"$f":"mndot_rounding_1(+IF(H15=0,\"\",(IF(H15>0,+H15,0)+IF(H14>0,+H14,0)+IF(H13>0,+H13,0)+IF(H12>0,+H12,0)+IF(+COUNTIF(H12:H15,\">0\")<=3,+H11)+IF(+COUNTIF(H11:H15,\">0\")<4,\" \"))/4))","v":{"$error":"#VALUE!"}},{"$error":"#VALUE!"},{"$f":"mndot_rounding_1(AVERAGE(J12:J15))","v":{"$error":"#VALUE!"}},{"$f":"mndot_rounding_1(100-(F15*(100-B15)/N15))","v":{"$error":"#VALUE!"}},{"$f":"mndot_rounding_1(+IF(L15=0,\"\",(IF(L15>0,+L15,0)+IF(L14>0,+L14,0)+IF(L13>0,+L13,0)+IF(L12>0,+L12,0)+IF(+COUNTIF(L12:L15,\">0\")<=3,+L11)+IF(+COUNTIF(L11:L15,\">0\")<4,\" \"))/4))","v":{"$error":"#VALUE!"}},{"$f":"SUMMARY!P11","v":{"$error":"#VALUE!"}},305,null,305,{"$error":"#VALUE!"},{"$error":"#VALUE!"},{"$f":"SUMMARY!P41","v":""},{"$error":"#VALUE!"},{"$error":"#VALUE!"},null,null,0,{"$f":"MDR!D16","v":""},0,null,305,1,2,-1,-2,-0.3,-0.6,{"$f":"Z15+AJ8","v":{"$error":"#VALUE!"}},{"$f":"Z15+AK8","v":{"$error":"#VALUE!"}},null,{"$error":"#VALUE!"},{"$error":"#VALUE!"},{"$error":"#VALUE!"},{"$f":"mndot_rounding_1(2+1.6*Grad!N15+0.6*Grad!AD15+0.3*Grad!AC15+0.14*Grad!AB15+0.08*Grad!AA15+0.04*Grad!L15+0.02*Grad!J15)","v":{"$error":"#VALUE!"}},{"$error":"#VALUE!"},{"$error":"#VALUE!"},{"$error":"#VALUE!"},{"$f":"SUMMARY!$P$10","v":{"$error":"#VALUE!"}},{"$f":"+(IF(AS15>0,+AS15,0)+IF(AS14>0,+AS14,0)+IF(AS13>0,+AS13,0)+IF(AS12>0,+AS12,0)+IF(+COUNTIF(AS12:AS15,\">0\")<=3,+AS11)+IF(+COUNTIF(AS11:AS15,\">0\")<4,\" \"))/4","v":{"$error":"#VALUE!"}},{"$f":"SUMMARY!Q132","v":""},{"$f":"+(IF(AV15>0,+AV15,0)+IF(AV14>0,+AV14,0)+IF(AV13>0,+AV13,0)+IF(AV12>0,+AV12,0)+IF(+COUNTIF(AV12:AV15,\">0\")<=3,+AV11)+IF(+COUNTIF(AV11:AV15,\">0\")<4,\" \"))/4","v":{"$error":"#VALUE!"}},null,0,{"$error":"#VALUE!"}]
[{"$f":"SUMMARY!R7","v":306},{"$f":"SUMMARY!R44","v":""},{"$f":"+IF(B16=0,\"\",(IF(B16>0,+B16,0)+IF(B15>0,+B15,0)+IF(B14>0,+B14,0)+IF(B13>0,+B13,0)+IF(+COUNTIF(B13:B16,\">0\")<=3,+B12)+IF(+COUNTIF(B12:B16,\">0\")<=3,+B11)+IF(+COUNTIF(B11:B16,\">0\")<4,\" \"))/4)","v":{"$error":"#VALUE!"}},{"$f":"SUMMARY!R47","v":""},{"$f":"mndot_rounding_3(+IF(D16=0,\"\",(IF(D16>0,+D16,0)+IF(D15>0,+D15,0)+IF(D14>0,+D14,0)+IF(D13>0,+D13,0)+IF(+COUNTIF(D13:D16,\">0\")<=3,+D12)+IF(+COUNTIF(D12:D16,\">0\")<=3,+D11)+IF(+COUNTIF(D11:D16,\">0\")<4,\" \"))/4))","v":{"$error":"#VALUE!"}},{"$f":"SUMMARY!R49","v":""},{"$error":"#DIV/0!"},{"$f":"mndot_rounding_1(((E16-F16)/E16*100))","v":{"$error":"#VALUE!"}},{"$f":"mndot_rounding_1(+IF(H16=0,\"\",(IF(H16>0,+H16,0)+IF(H15>0,+H15,0)+IF(H14>0,+H14,0)+IF(H13>0,+H13,0)+IF(+COUNTIF(H13:H16,\">0\")<=3,+H12)+IF(+COUNTIF(H12:H16,\">0\")<=3,+H11)+IF(+COUNTIF(H11:H16,\">0\")<4,\" \"))/4))","v":{"$error":"#VALUE!"}},{"$error":"#VALUE!"},{"$error":"#VALUE!"},{"$f":"mndot_rounding_1(100-(F16*(100-B16)/N16))","v":{"$error":"#VALUE!"}},{"$f":"mndot_rounding_1(+IF(L16=0,\"\",(IF(L16>0,+L16,0)+IF(L15>0,+L15,0)+IF(L14>0,+L14,0)+IF(L13>0,+L13,0)+IF(+COUNTIF(L13:L16,\">0\")<=3,+L12)+IF(+COUNTIF(L12:L16,\">0\")<=3,+L11)+IF(+COUNTIF(L11:L16,\">0\")<4,\" \"))/4))","v":{"$error":"#VALUE!"}},{"$f":"SUMMARY!R11","v":{"$error":"#VALUE!"}},306,null,306,{"$error":"#VALUE!"},{"$error":"#VALUE!"},{"$f":"SUMMARY!R41","v":""},{"$error":"#VALUE!"},{"$error":"#VALUE!"},null,null,0,{"$f":"MDR!D17","v":""},0,null,306,1,2,-1,-2,-0.3,-0.6,{"$f":"Z16+AJ8","v":{"$error":"#VALUE!"}},{"$f":"Z16+AK8","v":{"$error":"#VALUE!"}},null,{"$error":"#VALUE!"},{"$error":"#VALUE!"},{"$error":"#VALUE!"},{"$f":"mndot_rounding_1(2+1.6*Grad!N16+0.6*Grad!AD16+0.3*Grad!AC16+0.14*Grad!AB16+0.08*Grad!AA16+0.04*Grad!L16+0.02*Grad!J16)","v":{"$error":"#VALUE!"}},{"$error":"#VALUE!"},{"$error":"#VALUE!"},{"$error":"#VALUE!"},{"$f":"SUMMARY!$R$10","v":{"$error":"#VALUE!"}},{"$f":"+(IF(AS16>0,+AS16,0)+IF(AS15>0,+AS15,0)+IF(AS14>0,+AS14,0)+IF(AS13>0,+AS13,0)+IF(+COUNTIF(AS13:AS16,\">0\")<=3,+AS12)+IF(+COUNTIF(AS12:AS16,\">0\")<=3,+AS11)+IF(+COUNTIF(AS11:AS16,\">0\")<4,\" \"))/4","v":{"$error":"#VALUE!"}},{"$f":"SUMMARY!S132","v":""},{"$f":"+(IF(AV16>0,+AV16,0)+IF(AV15>0,+AV15,0)+IF(AV14>0,+AV14,0)+IF(AV13>0,+AV13,0)+IF(+COUNTIF(AV13:AV16,\">0\")<=3,+AV12)+IF(+COUNTIF(AV12:AV16,\">0\")<=3,+AV11)+IF(+COUNTIF(AV11:AV16,\">0\")<4,\" \"))/4","v":{"$error":"#VALUE!"}},null,0,{"$error":"#VALUE!"}]
[{"$f":"SUMMARY!T7","v":307},{"$f":"SUMMARY!T44","v":""},{"$f":"+IF(B17=0,\"\",(IF(B17>0,+B17,0)+IF(B16>0,+B16,0)+IF(B15>0,+B15,0)+IF(B14>0,+B14,0)+IF(+COUNTIF(B14:B17,\">0\")<=3,+B13)+IF(+COUNTIF(B13:B17,\">0\")<=3,+B12)+IF(+COUNTIF(B12:B17,\">0\")<=3,+B11)+IF(+COUNTIF(B11:B17,\">0\")<4,\" \"))/4)","v":{"$error":"#VALUE!"}},{"$f":"SUMMARY!T47","v":""},{"$f":"mndot_rounding_3(+IF(D17=0,\"\",(IF(D17>0,+D17,0)+IF(D16>0,+D16,0)+IF(D15>0,+D15,0)+IF(D14>0,+D14,0)+IF(+COUNTIF(D14:D17,\">0\")<=3,+D13)+IF(+COUNTIF(D13:D17,\">0\")<=3,+D12)+IF(+COUNTIF(D12:D17,\">0\")<=3,+D11)+IF(+COUNTIF(D11:D17,\">0\")<4,\" \"))/4))","v":{"$error":"#VALUE!"}},{"$f":"SUMMARY!T49","v":""},{"$error":"#DIV/0!"},{"$error":"#VALUE!"},{"$f":"mndot_rounding_1(+IF(H17=0,\"\",(IF(H17>0,+H17,0)+IF(H16>0,+H16,0)+IF(H15>0,+H15,0)+IF(H14>0,+H14,0)+IF(+COUNTIF(H14:H17,\">0\")<=3,+H13)+IF(+COUNTIF(H13:H17,\">0\")<=3,+H12)+IF(+COUNTIF(H12:H17,\">0\")<=3,+H11)+IF(+COUNTIF(H11:H17,\">0\")<4,\" \"))/4))","v":{"$error":"#VALUE!"}},{"$error":"#VALUE!"},{"$error":"#VALUE!"},{"$error":"#VALUE!"},{"$f":"mndot_rounding_1(+IF(L17=0,\"\",(IF(L17>0,+L17,0)+IF(L16>0,+L16,0)+IF(L15>0,+L15,0)+IF(L14>0,+L14,0)+IF(+COUNTIF(L14:L17,\">0\")<=3,+L13)+IF(+COUNTIF(L13:L17,\">0\")<=3,+L12)+IF(+COUNTIF(L12:L17,\">0\")<=3,+L11)+IF(+COUNTIF(L11:L17,\">0\")<4,\" \"))/4))","v":{"$error":"#VALUE!"}},{"$f":"SUMMARY!T11","v":{"$error":"#VALUE!"}},307,null,307,{"$error":"#VALUE!"},{"$error":"#VALUE!"},{"$f":"SUMMARY!T41","v":""},{"$error":"#VALUE!"},{"$error":"#VALUE!"},null,null,0,{"$f":"MDR!D18","v":""},0,null,307,1,2,-1,-2,-0.3,-0.6,{"$f":"Z17+AJ8","v":{"$error":"#VALUE!"}},{"$f":"Z17+AK8","v":{"$error":"#VALUE!"}},null,{"$error":"#VALUE!"},{"$error":"#VALUE!"},{"$error":"#VALUE!"},{"$f":"mndot_rounding_1(2+1.6*Grad!N17+0.6*Grad!AD17+0.3*Grad!AC17+0.14*Grad!AB17+0.08*Grad!AA17+0.04*Grad!L17+0.02*Grad!J17)","v":{"$error":"#VALUE!"}},{"$error":"#VALUE!"},{"$error":"#VALUE!"},{"$error":"#VALUE!"},{"$f":"SUMMARY!$T$10","v":{"$error":"#VALUE!"}},{"$f":"+(IF(AS17>0,+AS17,0)+IF(AS16>0,+AS16,0)+IF(AS15>0,+AS15,0)+IF(AS14>0,+AS14,0)+IF(+COUNTIF(AS14:AS17,\">0\")<=3,+AS13)+IF(+COUNTIF(AS13:AS17,\">0\")<=3,+AS12)+IF(+COUNTIF(AS12:AS17,\">0\")<=3,+AS11)+IF(+COUNTIF(AS11:AS17,\">0\")<4,\" \"))/4","v":{"$error":"#VALUE!"}},{"$f":"SUMMARY!U132","v":""},{"$f":"+(IF(AV17>0,+AV17,0)+IF(AV16>0,+AV16,0)+IF(AV15>0,+AV15,0)+IF(AV14>0,+AV14,0)+IF(+COUNTIF(AV14:AV17,\">0\")<=3,+AV13)+IF(+COUNTIF(AV13:AV17,\">0\")<=3,+AV12)+IF(+COUNTIF(AV12:AV17,\">0\")<=3,+AV11)+IF(+COUNTIF(AV11:AV17,\">0\")<4,\" \"))/4","v":{"$error":"#VALUE!"}},null,0,{"$error":"#VALUE!"}]
[{"$f":"SUMMARY!V7","v":308},{"$f":"SUMMARY!V44","v":""},{"$f":"+IF(B18=0,\"\",(IF(B18>0,+B18,0)+IF(B17>0,+B17,0)+IF(B16>0,+B16,0)+IF(B15>0,+B15,0)+IF(+COUNTIF(B15:B18,\">0\")<=3,+B14)+IF(+COUNTIF(B14:B18,\">0\")<=3,+B13)+IF(+COUNTIF(B13:B18,\">0\")<=3,+B12)+IF(+COUNTIF(B12:B18,\">0\")<=3,+B11)+IF(+COUNTIF(B11:B18,\">0\")<4,\" \"))/4)","v":{"$error":"#VALUE!"}},{"$f":"SUMMARY!V47","v":""},{"$f":"mndot_rounding_3(+IF(D18=0,\"\",(IF(D18>0,+D18,0)+IF(D17>0,+D17,0)+IF(D16>0,+D16,0)+IF(D15>0,+D15,0)+IF(+COUNTIF(D15:D18,\">0\")<=3,+D14)+IF(+COUNTIF(D14:D18,\">0\")<=3,+D13)+IF(+COUNTIF(D13:D18,\">0\")<=3,+D12)+IF(+COUNTIF(D12:D18,\">0\")<=3,+D11)+IF(+COUNTIF(D11:D18,\">0\")<4,\" \"))/4))","v":{"$error":"#VALUE!"}},{"$f":"SUMMARY!V49","v":""},{"$error":"#DIV/0!"},{"$error":"#VALUE!"},{"$f":"mndot_rounding_1(+IF(H18=0,\"\",(IF(H18>0,+H18,0)+IF(H17>0,+H17,0)+IF(H16>0,+H16,0)+IF(H15>0,+H15,0)+IF(+COUNTIF(H15:H18,\">0\")<=3,+H14)+IF(+COUNTIF(H14:H18,\">0\")<=3,+H13)+IF(+COUNTIF(H13:H18,\">0\")<=3,+H12)+IF(+COUNTIF(H12:H18,\">0\")<=3,+H11)+IF(+COUNTIF(H11:H18,\">0\")<4,\" \"))/4))","v":{"$error":"#VALUE!"}},{"$error":"#VALUE!"},{"$error":"#VALUE!"},{"$error":"#VALUE!"},{"$f":"mndot_rounding_1(+IF(L18=0,\"\",(IF(L18>0,+L18,0)+IF(L17>0,+L17,0)+IF(L16>0,+L16,0)+IF(L15>0,+L15,0)+IF(+COUNTIF(L15:L18,\">0\")<=3,+L14)+IF(+COUNTIF(L14:L18,\">0\")<=3,+L13)+IF(+COUNTIF(L13:L18,\">0\")<=3,+L12)+IF(+COUNTIF(L12:L18,\">0\")<=3,+L11)+IF(+COUNTIF(L11:L18,\">0\")<4,\" \"))/4))","v":{"$error":"#VALUE!"}},{"$f":"SUMMARY!V11","v":{"$error":"#VALUE!"}},308,null,308,{"$error":"#VALUE!"},{"$error":"#VALUE!"},{"$f":"SUMMARY!V41","v":""},{"$error":"#VALUE!"},{"$error":"#VALUE!"},null,null,0,{"$f":"MDR!D19","v":""},0,null,308,1,2,-1,-2,-0.3,-0.6,{"$f":"Z18+AJ8","v":{"$error":"#VALUE!"}},{"$f":"Z18+AK8","v":{"$error":"#VALUE!"}},null,{"$error":"#VALUE!"},{"$error":"#VALUE!"},{"$error":"#VALUE!"},{"$f":"mndot_rounding_1(2+1.6*Grad!N18+0.6*Grad!AD18+0.3*Grad!AC18+0.14*Grad!AB18+0.08*Grad!AA18+0.04*Grad!L18+0.02*Grad!J18)","v":{"$error":"#VALUE!"}},{"$error":"#VALUE!"},{"$error":"#VALUE!"},{"$error":"#VALUE!"},{"$f":"SUMMARY!$V$10","v":{"$error":"#VALUE!"}},{"$f":"+(IF(AS18>0,+AS18,0)+IF(AS17>0,+AS17,0)+IF(AS16>0,+AS16,0)+IF(AS15>0,+AS15,0)+IF(+COUNTIF(AS15:AS18,\">0\")<=3,+AS14)+IF(+COUNTIF(AS14:AS18,\">0\")<=3,+AS13)+IF(+COUNTIF(AS13:AS18,\">0\")<=3,+AS12)+IF(+COUNTIF(AS12:AS18,\">0\")<=3,+AS11)+IF(+COUNTIF(AS11:AS18,\">0\")<4,\" \"))/4","v":{"$error":"#VALUE!"}},{"$f":"SUMMARY!W132","v":""},{"$f":"+(IF(AV18>0,+AV18,0)+IF(AV17>0,+AV17,0)+IF(AV16>0,+AV16,0)+IF(AV15>0,+AV15,0)+IF(+COUNTIF(AV15:AV18,\">0\")<=3,+AV14)+IF(+COUNTIF(AV14:AV18,\">0\")<=3,+AV13)+IF(+COUNTIF(AV13:AV18,\">0\")<=3,+AV12)+IF(+COUNTIF(AV12:AV18,\">0\")<=3,+AV11)+IF(+COUNTIF(AV11:AV18,\">0\")<4,\" \"))/4","v":{"$error":"#VALUE!"}},null,0,{"$error":"#VALUE!"}]
[{"$f":"SUMMARY!AB7","v":309},{"$f":"SUMMARY!AB44","v":""},{"$f":"+IF(B19=0,\"\",(IF(B19>0,+B19,0)+IF(B18>0,+B18,0)+IF(B17>0,+B17,0)+IF(B16>0,+B16,0)+IF(+COUNTIF(B16:B19,\">0\")<=3,+B15)+IF(+COUNTIF(B15:B19,\">0\")<=3,+B14)+IF(+COUNTIF(B14:B19,\">0\")<=3,+B13)+IF(+COUNTIF(B13:B19,\">0\")<=3,+B12)+IF(+COUNTIF(B12:B19,\">0\")<=3,+B11)+IF(+COUNTIF(B11:B19,\">0\")<4,\" \"))/4)","v":{"$error":"#VALUE!"}},{"$f":"SUMMARY!AB47","v":""},{"$f":"mndot_rounding_3(+IF(D19=0,\"\",(IF(D19>0,+D19,0)+IF(D18>0,+D18,0)+IF(D17>0,+D17,0)+IF(D16>0,+D16,0)+IF(+COUNTIF(D16:D19,\">0\")<=3,+D15)+IF(+COUNTIF(D15:D19,\">0\")<=3,+D14)+IF(+COUNTIF(D14:D19,\">0\")<=3,+D13)+IF(+COUNTIF(D13:D19,\">0\")<=3,+D12)+IF(+COUNTIF(D12:D19,\">0\")<=3,+D11)+IF(+COUNTIF(D11:D19,\">0\")<4,\" \"))/4))","v":{"$error":"#VALUE!"}},{"$f":"SUMMARY!AB49","v":""},{"$error":"#DIV/0!"},{"$error":"#VALUE!"},{"$f":"mndot_rounding_1(+IF(H19=0,\"\",(IF(H19>0,+H19,0)+IF(H18>0,+H18,0)+IF(H17>0,+H17,0)+IF(H16>0,+H16,0)+IF(+COUNTIF(H16:H19,\">0\")<=3,+H15)+IF(+COUNTIF(H15:H19,\">0\")<=3,+H14)+IF(+COUNTIF(H14:H19,\">0\")<=3,+H13)+IF(+COUNTIF(H13:H19,\">0\")<=3,+H12)+IF(+COUNTIF(H12:H19,\">0\")<=3,+H11)+IF(+COUNTIF(H11:H19,\">0\")<4,\" \"))/4))","v":{"$error":"#VALUE!"}},{"$error":"#VALUE!"},{"$error":"#VALUE!"},{"$error":"#VALUE!"},{"$f":"mndot_rounding_1(+IF(L19=0,\"\",(IF(L19>0,+L19,0)+IF(L18>0,+L18,0)+IF(L17>0,+L17,0)+IF(L16>0,+L16,0)+IF(+COUNTIF(L16:L19,\">0\")<=3,+L15)+IF(+COUNTIF(L15:L19,\">0\")<=3,+L14)+IF(+COUNTIF(L14:L19,\">0\")<=3,+L13)+IF(+COUNTIF(L13:L19,\">0\")<=3,+L12)+IF(+COUNTIF(L12:L19,\">0\")<=3,+L11)+IF(+COUNTIF(L11:L19,\">0\")<4,\" \"))/4))","v":{"$error":"#VALUE!"}},{"$f":"SUMMARY!AB11","v":{"$error":"#VALUE!"}},309,null,309,{"$error":"#VALUE!"},{"$error":"#VALUE!"},{"$f":"SUMMARY!AB41","v":""},{"$error":"#VALUE!"},{"$error":"#VALUE!"},null,null,0,{"$f":"MDR!D20","v":""},0,null,309,1,2,-1,-2,-0.3,-0.6,{"$f":"Z19+AJ8","v":{"$error":"#VALUE!"}},{"$f":"Z19+AK8","v":{"$error":"#VALUE!"}},null,{"$error":"#VALUE!"},{"$error":"#VALUE!"},{"$error":"#VALUE!"},{"$f":"mndot_rounding_1(2+1.6*Grad!N19+0.6*Grad!AD19+0.3*Grad!AC19+0.14*Grad!AB19+0.08*Grad!AA19+0.04*Grad!L19+0.02*Grad!J19)","v":{"$error":"#VALUE!"}},{"$error":"#VALUE!"},{"$error":"#VALUE!"},{"$error":"#VALUE!"},{"$f":"SUMMARY!$AB$10","v":{"$error":"#VALUE!"}},{"$f":"+(IF(AS19>0,+AS19,0)+IF(AS18>0,+AS18,0)+IF(AS17>0,+AS17,0)+IF(AS16>0,+AS16,0)+IF(+COUNTIF(AS16:AS19,\">0\")<=3,+AS15)+IF(+COUNTIF(AS15:AS19,\">0\")<=3,+AS14)+IF(+COUNTIF(AS14:AS19,\">0\")<=3,+AS13)+IF(+COUNTIF(AS13:AS19,\">0\")<=3,+AS12)+IF(+COUNTIF(AS12:AS19,\">0\")<=3,+AS11)+IF(+COUNTIF(AS11:AS19,\">0\")<4,\" \"))/4","v":{"$error":"#VALUE!"}},{"$f":"SUMMARY!AC132","v":""},{"$f":"+(IF(AV19>0,+AV19,0)+IF(AV18>0,+AV18,0)+IF(AV17>0,+AV17,0)+IF(AV16>0,+AV16,0)+IF(+COUNTIF(AV16:AV19,\">0\")<=3,+AV15)+IF(+COUNTIF(AV15:AV19,\">0\")<=3,+AV14)+IF(+COUNTIF(AV14:AV19,\">0\")<=3,+AV13)+IF(+COUNTIF(AV13:AV19,\">0\")<=3,+AV12)+IF(+COUNTIF(AV12:AV19,\">0\")<=3,+AV11)+IF(+COUNTIF(AV11:AV19,\">0\")<4,\" \"))/4","v":{"$error":"#VALUE!"}},null,0,{"$error":"#VALUE!"}]
[{"$f":"SUMMARY!AD7","v":310},{"$f":"SUMMARY!AD44","v":""},{"$f":"+IF(B20=0,\"\",(IF(B20>0,+B20,0)+IF(B19>0,+B19,0)+IF(B18>0,+B18,0)+IF(B17>0,+B17,0)+IF(+COUNTIF(B17:B20,\">0\")<=3,+B16)+IF(+COUNTIF(B16:B20,\">0\")<=3,+B15)+IF(+COUNTIF(B15:B20,\">0\")<=3,+B14)+IF(+COUNTIF(B14:B20,\">0\")<=3,+B13)+IF(+COUNTIF(B13:B20,\">0\")<=3,+B12)+IF(+COUNTIF(B12:B20,\">0\")<=3,+B11)+IF(+COUNTIF(B11:B20,\">0\")<4,\" \"))/4)","v":{"$error":"#VALUE!"}},{"$f":"SUMMARY!AD47","v":""},{"$f":"mndot_rounding_3(+IF(D20=0,\"\",(IF(D20>0,+D20,0)+IF(D19>0,+D19,0)+IF(D18>0,+D18,0)+IF(D17>0,+D17,0)+IF(+COUNTIF(D17:D20,\">0\")<=3,+D16)+IF(+COUNTIF(D16:D20,\">0\")<=3,+D15)+IF(+COUNTIF(D15:D20,\">0\")<=3,+D14)+IF(+COUNTIF(D14:D20,\">0\")<=3,+D13)+IF(+COUNTIF(D13:D20,\">0\")<=3,+D12)+IF(+COUNTIF(D12:D20,\">0\")<=3,+D11)+IF(+COUNTIF(D11:D20,\">0\")<4,\" \"))/4))","v":{"$error":"#VALUE!"}},{"$f":"SUMMARY!AD49","v":""},{"$error":"#DIV/0!"},{"$error":"#VALUE!"},{"$f":"mndot_rounding_1(+IF(H20=0,\"\",(IF(H20>0,+H20,0)+IF(H19>0,+H19,0)+IF(H18>0,+H18,0)+IF(H17>0,+H17,0)+IF(+COUNTIF(H17:H20,\">0\")<=3,+H16)+IF(+COUNTIF(H16:H20,\">0\")<=3,+H15)+IF(+COUNTIF(H15:H20,\">0\")<=3,+H14)+IF(+COUNTIF(H14:H20,\">0\")<=3,+H13)+IF(+COUNTIF(H13:H20,\">0\")<=3,+H12)+IF(+COUNTIF(H12:H20,\">0\")<=3,+H11)+IF(+COUNTIF(H11:H20,\">0\")<4,\" \"))/4))","v":{"$error":"#VALUE!"}},{"$error":"#VALUE!"},{"$error":"#VALUE!"},{"$error":"#VALUE!"},{"$f":"mndot_rounding_1(+IF(L20=0,\"\",(IF(L20>0,+L20,0)+IF(L19>0,+L19,0)+IF(L18>0,+L18,0)+IF(L17>0,+L17,0)+IF(+COUNTIF(L17:L20,\">0\")<=3,+L16)+IF(+COUNTIF(L16:L20,\">0\")<=3,+L15)+IF(+COUNTIF(L15:L20,\">0\")<=3,+L14)+IF(+COUNTIF(L14:L20,\">0\")<=3,+L13)+IF(+COUNTIF(L13:L20,\">0\")<=3,+L12)+IF(+COUNTIF(L12:L20,\">0\")<=3,+L11)+IF(+COUNTIF(L11:L20,\">0\")<4,\" \"))/4))","v":{"$error":"#VALUE!"}},{"$f":"SUMMARY!AD11","v":{"$error":"#VALUE!"}},310,null,310,{"$error":"#VALUE!"},{"$error":"#VALUE!"},{"$f":"SUMMARY!AD41","v":""},{"$error":"#VALUE!"},{"$error":"#VALUE!"},null,null,0,{"$f":"MDR!D21","v":""},0,null,310,1,2,-1,-2,-0.3,-0.6,{"$f":"Z20+AJ8","v":{"$error":"#VALUE!"}},{"$f":"Z20+AK8","v":{"$error":"#VALUE!"}},null,{"$error":"#VALUE!"},{"$error":"#VALUE!"},{"$error":"#VALUE!"},{"$f":"mndot_rounding_1(2+1.6*Grad!N20+0.6*Grad!AD20+0.3*Grad!AC20+0.14*Grad!AB20+0.08*Grad!AA20+0.04*Grad!L20+0.02*Grad!J20)","v":{"$error":"#VALUE!"}},{"$error":"#VALUE!"},{"$error":"#VALUE!"},{"$error":"#VALUE!"},{"$f":"SUMMARY!$AD$10","v":{"$error":"#VALUE!"}},{"$f":"+(IF(AS20>0,+AS20,0)+IF(AS19>0,+AS19,0)+IF(AS18>0,+AS18,0)+IF(AS17>0,+AS17,0)+IF(+COUNTIF(AS17:AS20,\">0\")<=3,+AS16)+IF(+COUNTIF(AS16:AS20,\">0\")<=3,+AS15)+IF(+COUNTIF(AS15:AS20,\">0\")<=3,+AS14)+IF(+COUNTIF(AS14:AS20,\">0\")<=3,+AS13)+IF(+COUNTIF(AS13:AS20,\">0\")<=3,+AS12)+IF(+COUNTIF(AS12:AS20,\">0\")<=3,+AS11)+IF(+COUNTIF(AS11:AS20,\">0\")<4,\" \"))/4","v":{"$error":"#VALUE!"}},{"$f":"SUMMARY!AE132","v":""},{"$f":"+(IF(AV20>0,+AV20,0)+IF(AV19>0,+AV19,0)+IF(AV18>0,+AV18,0)+IF(AV17>0,+AV17,0)+IF(+COUNTIF(AV17:AV20,\">0\")<=3,+AV16)+IF(+COUNTIF(AV16:AV20,\">0\")<=3,+AV15)+IF(+COUNTIF(AV15:AV20,\">0\")<=3,+AV14)+IF(+COUNTIF(AV14:AV20,\">0\")<=3,+AV13)+IF(+COUNTIF(AV13:AV20,\">0\")<=3,+AV12)+IF(+COUNTIF(AV12:AV20,\">0\")<=3,+AV11)+IF(+COUNTIF(AV11:AV20,\">0\")<4,\" \"))/4","v":{"$error":"#VALUE!"}},null,0,{"$error":"#VALUE!"}]
[{"$f":"SUMMARY!AF7","v":311},{"$f":"SUMMARY!AF44","v":""},{"$f":"+IF(B21=0,\"\",(IF(B21>0,+B21,0)+IF(B20>0,+B20,0)+IF(B19>0,+B19,0)+IF(B18>0,+B18,0)+IF(+COUNTIF(B18:B21,\">0\")<=3,+B17)+IF(+COUNTIF(B17:B21,\">0\")<=3,+B16)+IF(+COUNTIF(B16:B21,\">0\")<=3,+B15)+IF(+COUNTIF(B15:B21,\">0\")<=3,+B14)+IF(+COUNTIF(B14:B21,\">0\")<=3,+B13)+IF(+COUNTIF(B13:B21,\">0\")<=3,+B12)+IF(+COUNTIF(B12:B21,\">0\")<=3,+B11)+IF(+COUNTIF(B11:B21,\">0\")<4,\" \"))/4)","v":{"$error":"#VALUE!"}},{"$f":"SUMMARY!AF47","v":""},{"$f":"mndot_rounding_3(+IF(D21=0,\"\",(IF(D21>0,+D21,0)+IF(D20>0,+D20,0)+IF(D19>0,+D19,0)+IF(D18>0,+D18,0)+IF(+COUNTIF(D18:D21,\">0\")<=3,+D17)+IF(+COUNTIF(D17:D21,\">0\")<=3,+D16)+IF(+COUNTIF(D16:D21,\">0\")<=3,+D15)+IF(+COUNTIF(D15:D21,\">0\")<=3,+D14)+IF(+COUNTIF(D14:D21,\">0\")<=3,+D13)+IF(+COUNTIF(D13:D21,\">0\")<=3,+D12)+IF(+COUNTIF(D12:D21,\">0\")<=3,+D11)+IF(+COUNTIF(D11:D21,\">0\")<4,\" \"))/4))","v":{"$error":"#VALUE!"}},{"$f":"SUMMARY!AF49","v":""},{"$error":"#DIV/0!"},{"$error":"#VALUE!"},{"$f":"mndot_rounding_1(+IF(H21=0,\"\",(IF(H21>0,+H21,0)+IF(H20>0,+H20,0)+IF(H19>0,+H19,0)+IF(H18>0,+H18,0)+IF(+COUNTIF(H18:H21,\">0\")<=3,+H17)+IF(+COUNTIF(H17:H21,\">0\")<=3,+H16)+IF(+COUNTIF(H16:H21,\">0\")<=3,+H15)+IF(+COUNTIF(H15:H21,\">0\")<=3,+H14)+IF(+COUNTIF(H14:H21,\">0\")<=3,+H13)+IF(+COUNTIF(H13:H21,\">0\")<=3,+H12)+IF(+COUNTIF(H12:H21,\">0\")<=3,+H11)+IF(+COUNTIF(H11:H21,\">0\")<4,\" \"))/4))","v":{"$error":"#VALUE!"}},{"$error":"#VALUE!"},{"$error":"#VALUE!"},{"$error":"#VALUE!"},{"$f":"mndot_rounding_1(+IF(L21=0,\"\",(IF(L21>0,+L21,0)+IF(L20>0,+L20,0)+IF(L19>0,+L19,0)+IF(L18>0,+L18,0)+IF(+COUNTIF(L18:L21,\">0\")<=3,+L17)+IF(+COUNTIF(L17:L21,\">0\")<=3,+L16)+IF(+COUNTIF(L16:L21,\">0\")<=3,+L15)+IF(+COUNTIF(L15:L21,\">0\")<=3,+L14)+IF(+COUNTIF(L14:L21,\">0\")<=3,+L13)+IF(+COUNTIF(L13:L21,\">0\")<=3,+L12)+IF(+COUNTIF(L12:L21,\">0\")<=3,+L11)+IF(+COUNTIF(L11:L21,\">0\")<4,\" \"))/4))","v":{"$error":"#VALUE!"}},{"$f":"SUMMARY!AF11","v":{"$error":"#VALUE!"}},311,null,311,{"$error":"#VALUE!"},{"$error":"#VALUE!"},{"$f":"SUMMARY!AF41","v":""},{"$error":"#VALUE!"},{"$error":"#VALUE!"},null,null,0,{"$f":"MDR!D22","v":""},0,null,311,1,2,-1,-2,-0.3,-0.6,{"$f":"Z21+AJ8","v":{"$error":"#VALUE!"}},{"$f":"Z21+AK8","v":{"$error":"#VALUE!"}},null,{"$error":"#VALUE!"},{"$error":"#VALUE!"},{"$error":"#VALUE!"},{"$f":"mndot_rounding_1(2+1.6*Grad!N21+0.6*Grad!AD21+0.3*Grad!AC21+0.14*Grad!AB21+0.08*Grad!AA21+0.04*Grad!L21+0.02*Grad!J21)","v":{"$error":"#VALUE!"}},{"$error":"#VALUE!"},{"$error":"#VALUE!"},{"$error":"#VALUE!"},{"$f":"SUMMARY!$AF$10","v":{"$error":"#VALUE!"}},{"$f":"+(IF(AS21>0,+AS21,0)+IF(AS20>0,+AS20,0)+IF(AS19>0,+AS19,0)+IF(AS18>0,+AS18,0)+IF(+COUNTIF(AS18:AS21,\">0\")<=3,+AS17)+IF(+COUNTIF(AS17:AS21,\">0\")<=3,+AS16)+IF(+COUNTIF(AS16:AS21,\">0\")<=3,+AS15)+IF(+COUNTIF(AS15:AS21,\">0\")<=3,+AS14)+IF(+COUNTIF(AS14:AS21,\">0\")<=3,+AS13)+IF(+COUNTIF(AS13:AS21,\">0\")<=3,+AS12)+IF(+COUNTIF(AS12:AS21,\">0\")<=3,+AS11)+IF(+COUNTIF(AS11:AS21,\">0\")<4,\" \"))/4","v":{"$error":"#VALUE!"}},{"$f":"SUMMARY!AG132","v":""},{"$f":"+(IF(AV21>0,+AV21,0)+IF(AV20>0,+AV20,0)+IF(AV19>0,+AV19,0)+IF(AV18>0,+AV18,0)+IF(+COUNTIF(AV18:AV21,\">0\")<=3,+AV17)+IF(+COUNTIF(AV17:AV21,\">0\")<=3,+AV16)+IF(+COUNTIF(AV16:AV21,\">0\")<=3,+AV15)+IF(+COUNTIF(AV15:AV21,\">0\")<=3,+AV14)+IF(+COUNTIF(AV14:AV21,\">0\")<=3,+AV13)+IF(+COUNTIF(AV13:AV21,\">0\")<=3,+AV12)+IF(+COUNTIF(AV12:AV21,\">0\")<=3,+AV11)+IF(+COUNTIF(AV11:AV21,\">0\")<4,\" \"))/4","v":{"$error":"#VALUE!"}},null,0,{"$error":"#VALUE!"}]
[{"$f":"SUMMARY!AH7","v":312},{"$f":"SUMMARY!AH44","v":""},{"$f":"+IF(B22=0,\"\",(IF(B22>0,+B22,0)+IF(B21>0,+B21,0)+IF(B20>0,+B20,0)+IF(B19>0,+B19,0)+IF(+COUNTIF(B19:B22,\">0\")<=3,+B18)+IF(+COUNTIF(B18:B22,\">0\")<=3,+B17)+IF(+COUNTIF(B17:B22,\">0\")<=3,+B16)+IF(+COUNTIF(B16:B22,\">0\")<=3,+B15)+IF(+COUNTIF(B15:B22,\">0\")<=3,+B14)+IF(+COUNTIF(B14:B22,\">0\")<=3,+B13)+IF(+COUNTIF(B13:B22,\">0\")<=3,+B12)+IF(+COUNTIF(B12:B22,\">0\")<=3,+B11)+IF(+COUNTIF(B11:B22,\">0\")<4,\" \"))/4)","v":{"$error":"#VALUE!"}},{"$f":"SUMMARY!AH47","v":""},{"$f":"mndot_rounding_3(+IF(D22=0,\"\",(IF(D22>0,+D22,0)+IF(D21>0,+D21,0)+IF(D20>0,+D20,0)+IF(D19>0,+D19,0)+IF(+COUNTIF(D19:D22,\">0\")<=3,+D18)+IF(+COUNTIF(D18:D22,\">0\")<=3,+D17)+IF(+COUNTIF(D17:D22,\">0\")<=3,+D16)+IF(+COUNTIF(D16:D22,\">0\")<=3,+D15)+IF(+COUNTIF(D15:D22,\">0\")<=3,+D14)+IF(+COUNTIF(D14:D22,\">0\")<=3,+D13)+IF(+COUNTIF(D13:D22,\">0\")<=3,+D12)+IF(+COUNTIF(D12:D22,\">0\")<=3,+D11)+IF(+COUNTIF(D11:D22,\">0\")<4,\" \"))/4))","v":{"$error":"#VALUE!"}},{"$f":"SUMMARY!AH49","v":""},{"$error":"#DIV/0!"},{"$error":"#VALUE!"},{"$f":"mndot_rounding_1(+IF(H22=0,\"\",(IF(H22>0,+H22,0)+IF(H21>0,+H21,0)+IF(H20>0,+H20,0)+IF(H19>0,+H19,0)+IF(+COUNTIF(H19:H22,\">0\")<=3,+H18)+IF(+COUNTIF(H18:H22,\">0\")<=3,+H17)+IF(+COUNTIF(H17:H22,\">0\")<=3,+H16)+IF(+COUNTIF(H16:H22,\">0\")<=3,+H15)+IF(+COUNTIF(H15:H22,\">0\")<=3,+H14)+IF(+COUNTIF(H14:H22,\">0\")<=3,+H13)+IF(+COUNTIF(H13:H22,\">0\")<=3,+H12)+IF(+COUNTIF(H12:H22,\">0\")<=3,+H11)+IF(+COUNTIF(H11:H22,\">0\")<4,\" \"))/4))","v":{"$error":"#VALUE!"}},{"$error":"#VALUE!"},{"$error":"#VALUE!"},{"$error":"#VALUE!"},{"$f":"mndot_rounding_1(+IF(L22=0,\"\",(IF(L22>0,+L22,0)+IF(L21>0,+L21,0)+IF(L20>0,+L20,0)+IF(L19>0,+L19,0)+IF(+COUNTIF(L19:L22,\">0\")<=3,+L18)+IF(+COUNTIF(L18:L22,\">0\")<=3,+L17)+IF(+COUNTIF(L17:L22,\">0\")<=3,+L16)+IF(+COUNTIF(L16:L22,\">0\")<=3,+L15)+IF(+COUNTIF(L15:L22,\">0\")<=3,+L14)+IF(+COUNTIF(L14:L22,\">0\")<=3,+L13)+IF(+COUNTIF(L13:L22,\">0\")<=3,+L12)+IF(+COUNTIF(L12:L22,\">0\")<=3,+L11)+IF(+COUNTIF(L11:L22,\">0\")<4,\" \"))/4))","v":{"$error":"#VALUE!"}},{"$f":"SUMMARY!AH11","v":{"$error":"#VALUE!"}},312,null,312,{"$error":"#VALUE!"},{"$error":"#VALUE!"},{"$f":"SUMMARY!AH41","v":""},{"$error":"#VALUE!"},{"$error":"#VALUE!"},null,null,0,{"$f":"MDR!D23","v":""},0,null,312,1,2,-1,-2,-0.3,-0.6,{"$f":"Z22+AJ8","v":{"$error":"#VALUE!"}},{"$f":"Z22+AK8","v":{"$error":"#VALUE!"}},null,{"$error":"#VALUE!"},{"$error":"#VALUE!"},{"$error":"#VALUE!"},{"$f":"mndot_rounding_1(2+1.6*Grad!N22+0.6*Grad!AD22+0.3*Grad!AC22+0.14*Grad!AB22+0.08*Grad!AA22+0.04*Grad!L22+0.02*Grad!J22)","v":{"$error":"#VALUE!"}},{"$error":"#VALUE!"},{"$error":"#VALUE!"},{"$error":"#VALUE!"},{"$f":"SUMMARY!$AH$10","v":{"$error":"#VALUE!"}},{"$f":"+(IF(AS22>0,+AS22,0)+IF(AS21>0,+AS21,0)+IF(AS20>0,+AS20,0)+IF(AS19>0,+AS19,0)+IF(+COUNTIF(AS19:AS22,\">0\")<=3,+AS18)+IF(+COUNTIF(AS18:AS22,\">0\")<=3,+AS17)+IF(+COUNTIF(AS17:AS22,\">0\")<=3,+AS16)+IF(+COUNTIF(AS16:AS22,\">0\")<=3,+AS15)+IF(+COUNTIF(AS15:AS22,\">0\")<=3,+AS14)+IF(+COUNTIF(AS14:AS22,\">0\")<=3,+AS13)+IF(+COUNTIF(AS13:AS22,\">0\")<=3,+AS12)+IF(+COUNTIF(AS12:AS22,\">0\")<=3,+AS11)+IF(+COUNTIF(AS11:AS22,\">0\")<4,\" \"))/4","v":{"$error":"#VALUE!"}},{"$f":"SUMMARY!AI132","v":""},{"$f":"+(IF(AV22>0,+AV22,0)+IF(AV21>0,+AV21,0)+IF(AV20>0,+AV20,0)+IF(AV19>0,+AV19,0)+IF(+COUNTIF(AV19:AV22,\">0\")<=3,+AV18)+IF(+COUNTIF(AV18:AV22,\">0\")<=3,+AV17)+IF(+COUNTIF(AV17:AV22,\">0\")<=3,+AV16)+IF(+COUNTIF(AV16:AV22,\">0\")<=3,+AV15)+IF(+COUNTIF(AV15:AV22,\">0\")<=3,+AV14)+IF(+COUNTIF(AV14:AV22,\">0\")<=3,+AV13)+IF(+COUNTIF(AV13:AV22,\">0\")<=3,+AV12)+IF(+COUNTIF(AV12:AV22,\">0\")<=3,+AV11)+IF(+COUNTIF(AV11:AV22,\">0\")<4,\" \"))/4","v":{"$error":"#VALUE!"}},null,0,{"$error":"#VALUE!"}]
[{"$f":"SUMMARY!AN7","v":313},{"$f":"SUMMARY!AN44","v":""},{"$error":"#VALUE!"},{"$f":"SUMMARY!AN47","v":""},{"$f":"mndot_rounding_3(+IF(D23=0,\"\",(IF(D23>0,+D23,0)+IF(D22>0,+D22,0)+IF(D21>0,+D21,0)+IF(D20>0,+D20,0)+IF(+COUNTIF(D20:D23,\">0\")<=3,+D19)+IF(+COUNTIF(D19:D23,\">0\")<=3,+D18)+IF(+COUNTIF(D18:D23,\">0\")<=3,+D17)+IF(+COUNTIF(D17:D23,\">0\")<=3,+D16)+IF(+COUNTIF(D16:D23,\">0\")<=3,+D15)+IF(+COUNTIF(D15:D23,\">0\")<=3,+D14)+IF(+COUNTIF(D14:D23,\">0\")<=3,+D13)+IF(+COUNTIF(D13:D23,\">0\")<=3,+D12)+IF(+COUNTIF(D12:D23,\">0\")<4,\" \"))/4))","v":{"$error":"#VALUE!"}},{"$f":"SUMMARY!AN49","v":""},{"$error":"#DIV/0!"},{"$error":"#VALUE!"},{"$error":"#VALUE!"},{"$error":"#VALUE!"},{"$error":"#VALUE!"},{"$error":"#VALUE!"},{"$error":"#VALUE!"},{"$f":"SUMMARY!AN11","v":{"$error":"#VALUE!"}},313,null,313,{"$error":"#VALUE!"},{"$error":"#VALUE!"},{"$f":"SUMMARY!AN41","v":""},{"$error":"#VALUE!"},{"$error":"#VALUE!"},null,null,0,{"$f":"MDR!D24","v":""},0,null,313,1,2,-1,-2,-0.3,-0.6,{"$f":"Z23+AJ8","v":{"$error":"#VALUE!"}},{"$f":"Z23+AK8","v":{"$error":"#VALUE!"}},null,{"$error":"#VALUE!"},{"$error":"#VALUE!"},{"$error":"#VALUE!"},{"$f":"mndot_rounding_1(2+1.6*Grad!N23+0.6*Grad!AD23+0.3*Grad!AC23+0.14*Grad!AB23+0.08*Grad!AA23+0.04*Grad!L23+0.02*Grad!J23)","v":{"$error":"#VALUE!"}},{"$error":"#VALUE!"},{"$error":"#VALUE!"},{"$error":"#VALUE!"},{"$f":"SUMMARY!$AN$10","v":{"$error":"#VALUE!"}},{"$f":"+(IF(AS23>0,+AS23,0)+IF(AS22>0,+AS22,0)+IF(AS21>0,+AS21,0)+IF(AS20>0,+AS20,0)+IF(+COUNTIF(AS20:AS23,\">0\")<=3,+AS19)+IF(+COUNTIF(AS19:AS23,\">0\")<=3,+AS18)+IF(+COUNTIF(AS18:AS23,\">0\")<=3,+AS17)+IF(+COUNTIF(AS17:AS23,\">0\")<=3,+AS16)+IF(+COUNTIF(AS16:AS23,\">0\")<=3,+AS15)+IF(+COUNTIF(AS15:AS23,\">0\")<=3,+AS14)+IF(+COUNTIF(AS14:AS23,\">0\")<=3,+AS13)+IF(+COUNTIF(AS13:AS23,\">0\")<=3,+AS12)+IF(+COUNTIF(AS12:AS23,\">0\")<4,\" \"))/4","v":{"$error":"#VALUE!"}},{"$f":"SUMMARY!AO132","v":""},{"$error":"#VALUE!"},null,0,{"$error":"#VALUE!"}]
[{"$f":"SUMMARY!AP7","v":314},{"$f":"SUMMARY!AP44","v":""},{"$error":"#VALUE!"},{"$f":"SUMMARY!AP47","v":""},{"$f":"mndot_rounding_3(+IF(D24=0,\"\",(IF(D24>0,+D24,0)+IF(D23>0,+D23,0)+IF(D22>0,+D22,0)+IF(D21>0,+D21,0)+IF(+COUNTIF(D21:D24,\">0\")<=3,+D20)+IF(+COUNTIF(D20:D24,\">0\")<=3,+D19)+IF(+COUNTIF(D19:D24,\">0\")<=3,+D18)+IF(+COUNTIF(D18:D24,\">0\")<=3,+D17)+IF(+COUNTIF(D17:D24,\">0\")<=3,+D16)+IF(+COUNTIF(D16:D24,\">0\")<=3,+D15)+IF(+COUNTIF(D15:D24,\">0\")<=3,+D14)+IF(+COUNTIF(D14:D24,\">0\")<=3,+D13)+IF(+COUNTIF(D13:D24,\">0\")<4,\" \"))/4))","v":{"$error":"#VALUE!"}},{"$f":"SUMMARY!AP49","v":""},{"$error":"#DIV/0!"},{"$error":"#VALUE!"},{"$error":"#VALUE!"},{"$error":"#VALUE!"},{"$error":"#VALUE!"},{"$error":"#VALUE!"},{"$error":"#VALUE!"},{"$f":"SUMMARY!AP11","v":{"$error":"#VALUE!"}},314,null,314,{"$error":"#VALUE!"},{"$error":"#VALUE!"},{"$f":"SUMMARY!AP41","v":""},{"$error":"#VALUE!"},{"$error":"#VALUE!"},null,null,0,{"$f":"MDR!D25","v":""},0,null,314,1,2,-1,-2,-0.3,-0.6,{"$f":"Z24+AJ8","v":{"$error":"#VALUE!"}},{"$f":"Z24+AK8","v":{"$error":"#VALUE!"}},null,{"$error":"#VALUE!"},{"$error":"#VALUE!"},{"$error":"#VALUE!"},{"$f":"mndot_rounding_1(2+1.6*Grad!N24+0.6*Grad!AD24+0.3*Grad!AC24+0.14*Grad!AB24+0.08*Grad!AA24+0.04*Grad!L24+0.02*Grad!J24)","v":{"$error":"#VALUE!"}},{"$error":"#VALUE!"},{"$error":"#VALUE!"},{"$error":"#VALUE!"},{"$f":"SUMMARY!$AP$10","v":{"$error":"#VALUE!"}},{"$error":"#VALUE!"},{"$f":"SUMMARY!AQ132","v":""},{"$error":"#VALUE!"},null,0,{"$error":"#VALUE!"}]
[{"$f":"SUMMARY!AR7","v":315},{"$f":"SUMMARY!AR44","v":""},{"$error":"#VALUE!"},{"$f":"SUMMARY!AR47","v":""},{"$f":"mndot_rounding_3(+IF(D25=0,\"\",(IF(D25>0,+D25,0)+IF(D24>0,+D24,0)+IF(D23>0,+D23,0)+IF(D22>0,+D22,0)+IF(+COUNTIF(D22:D25,\">0\")<=3,+D21)+IF(+COUNTIF(D21:D25,\">0\")<=3,+D20)+IF(+COUNTIF(D20:D25,\">0\")<=3,+D19)+IF(+COUNTIF(D19:D25,\">0\")<=3,+D18)+IF(+COUNTIF(D18:D25,\">0\")<=3,+D17)+IF(+COUNTIF(D17:D25,\">0\")<=3,+D16)+IF(+COUNTIF(D16:D25,\">0\")<=3,+D15)+IF(+COUNTIF(D15:D25,\">0\")<=3,+D14)+IF(+COUNTIF(D14:D25,\">0\")<4,\" \"))/4))","v":{"$error":"#VALUE!"}},{"$f":"SUMMARY!AR49","v":""},{"$error":"#DIV/0!"},{"$error":"#VALUE!"},{"$error":"#VALUE!"},{"$error":"#VALUE!"},{"$error":"#VALUE!"},{"$error":"#VALUE!"},{"$error":"#VALUE!"},{"$f":"SUMMARY!AR11","v":{"$error":"#VALUE!"}},315,null,315,{"$error":"#VALUE!"},{"$error":"#VALUE!"},{"$f":"SUMMARY!AR41","v":""},{"$error":"#VALUE!"},{"$error":"#VALUE!"},null,null,0,{"$f":"MDR!D26","v":""},0,null,315,1,2,-1,-2,-0.3,-0.6,{"$f":"Z25+AJ8","v":{"$error":"#VALUE!"}},{"$f":"Z25+AK8","v":{"$error":"#VALUE!"}},null,{"$error":"#VALUE!"},{"$error":"#VALUE!"},{"$error":"#VALUE!"},{"$f":"mndot_rounding_1(2+1.6*Grad!N25+0.6*Grad!AD25+0.3*Grad!AC25+0.14*Grad!AB25+0.08*Grad!AA25+0.04*Grad!L25+0.02*Grad!J25)","v":{"$error":"#VALUE!"}},{"$error":"#VALUE!"},{"$error":"#VALUE!"},{"$error":"#VALUE!"},{"$f":"SUMMARY!$AR$10","v":{"$error":"#VALUE!"}},{"$error":"#VALUE!"},{"$f":"SUMMARY!AS132","v":""},{"$error":"#VALUE!"},null,0,{"$error":"#VALUE!"}]
[{"$f":"SUMMARY!AT7","v":316},{"$f":"SUMMARY!AT44","v":""},{"$error":"#VALUE!"},{"$f":"SUMMARY!AT47","v":""},{"$f":"mndot_rounding_3(+IF(D26=0,\"\",(IF(D26>0,+D26,0)+IF(D25>0,+D25,0)+IF(D24>0,+D24,0)+IF(D23>0,+D23,0)+IF(+COUNTIF(D23:D26,\">0\")<=3,+D22)+IF(+COUNTIF(D22:D26,\">0\")<=3,+D21)+IF(+COUNTIF(D21:D26,\">0\")<=3,+D20)+IF(+COUNTIF(D20:D26,\">0\")<=3,+D19)+IF(+COUNTIF(D19:D26,\">0\")<=3,+D18)+IF(+COUNTIF(D18:D26,\">0\")<=3,+D17)+IF(+COUNTIF(D17:D26,\">0\")<=3,+D16)+IF(+COUNTIF(D16:D26,\">0\")<=3,+D15)+IF(+COUNTIF(D15:D26,\">0\")<4,\" \"))/4))","v":{"$error":"#VALUE!"}},{"$f":"SUMMARY!AT49","v":""},{"$error":"#DIV/0!"},{"$error":"#VALUE!"},{"$error":"#VALUE!"},{"$error":"#VALUE!"},{"$error":"#VALUE!"},{"$error":"#VALUE!"},{"$error":"#VALUE!"},{"$f":"SUMMARY!AT11","v":{"$error":"#VALUE!"}},316,null,316,{"$error":"#VALUE!"},{"$error":"#VALUE!"},{"$f":"SUMMARY!AT41","v":""},{"$error":"#VALUE!"},{"$error":"#VALUE!"},null,null,0,{"$f":"MDR!D27","v":""},0,null,316,1,2,-1,-2,-0.3,-0.6,{"$f":"Z26+AJ8","v":{"$error":"#VALUE!"}},{"$f":"Z26+AK8","v":{"$error":"#VALUE!"}},null,{"$error":"#VALUE!"},{"$error":"#VALUE!"},{"$error":"#VALUE!"},{"$f":"mndot_rounding_1(2+1.6*Grad!N26+0.6*Grad!AD26+0.3*Grad!AC26+0.14*Grad!AB26+0.08*Grad!AA26+0.04*Grad!L26+0.02*Grad!J26)","v":{"$error":"#VALUE!"}},{"$error":"#VALUE!"},{"$error":"#VALUE!"},{"$error":"#VALUE!"},{"$f":"SUMMARY!$AT$10","v":{"$error":"#VALUE!"}},{"$error":"#VALUE!"},{"$f":"SUMMARY!AU132","v":""},{"$error":"#VALUE!"},null,0,{"$error":"#VALUE!"}]
[{"$f":"SUMMARY!AZ7","v":317},{"$f":"SUMMARY!AZ44","v":""},{"$error":"#VALUE!"},{"$f":"SUMMARY!AZ47","v":""},{"$error":"#VALUE!"},{"$f":"SUMMARY!AZ49","v":""},{"$error":"#DIV/0!"},{"$error":"#VALUE!"},{"$error":"#VALUE!"},{"$error":"#VALUE!"},{"$error":"#VALUE!"},{"$error":"#VALUE!"},{"$error":"#VALUE!"},{"$f":"SUMMARY!AZ11","v":{"$error":"#VALUE!"}},317,null,317,{"$error":"#VALUE!"},{"$error":"#VALUE!"},{"$f":"SUMMARY!AZ41","v":""},{"$error":"#VALUE!"},{"$error":"#VALUE!"},null,null,0,{"$f":"MDR!D28","v":""},0,null,317,1,2,-1,-2,-0.3,-0.6,{"$f":"Z27+AJ8","v":{"$error":"#VALUE!"}},{"$f":"Z27+AK8","v":{"$error":"#VALUE!"}},null,{"$error":"#VALUE!"},{"$error":"#VALUE!"},{"$error":"#VALUE!"},{"$f":"mndot_rounding_1(2+1.6*Grad!N27+0.6*Grad!AD27+0.3*Grad!AC27+0.14*Grad!AB27+0.08*Grad!AA27+0.04*Grad!L27+0.02*Grad!J27)","v":{"$error":"#VALUE!"}},{"$error":"#VALUE!"},{"$error":"#VALUE!"},{"$error":"#VALUE!"},{"$f":"SUMMARY!$AZ$10","v":{"$error":"#VALUE!"}},{"$error":"#VALUE!"},{"$f":"SUMMARY!BA132","v":""},{"$error":"#VALUE!"},null,0,{"$error":"#VALUE!"}]
[{"$f":"SUMMARY!BB7","v":318},{"$f":"SUMMARY!BB44","v":""},{"$error":"#VALUE!"},{"$f":"SUMMARY!BB47","v":""},{"$error":"#VALUE!"},{"$f":"SUMMARY!BB49","v":""},{"$error":"#DIV/0!"},{"$error":"#VALUE!"},{"$error":"#VALUE!"},{"$error":"#VALUE!"},{"$error":"#VALUE!"},{"$error":"#VALUE!"},{"$error":"#VALUE!"},{"$f":"SUMMARY!BB11","v":{"$error":"#VALUE!"}},318,null,318,{"$error":"#VALUE!"},{"$error":"#VALUE!"},{"$f":"SUMMARY!BB41","v":""},{"$error":"#VALUE!"},{"$error":"#VALUE!"},null,null,0,{"$f":"MDR!D29","v":""},0,null,318,1,2,-1,-2,-0.3,-0.6,{"$f":"Z28+AJ8","v":{"$error":"#VALUE!"}},{"$f":"Z28+AK8","v":{"$error":"#VALUE!"}},null,{"$error":"#VALUE!"},{"$error":"#VALUE!"},{"$error":"#VALUE!"},{"$f":"mndot_rounding_1(2+1.6*Grad!N28+0.6*Grad!AD28+0.3*Grad!AC28+0.14*Grad!AB28+0.08*Grad!AA28+0.04*Grad!L28+0.02*Grad!J28)","v":{"$error":"#VALUE!"}},{"$error":"#VALUE!"},{"$error":"#VALUE!"},{"$error":"#VALUE!"},{"$f":"SUMMARY!$BB$10","v":{"$error":"#VALUE!"}},{"$error":"#VALUE!"},{"$f":"SUMMARY!BC132","v":""},{"$error":"#VALUE!"},null,0,{"$error":"#VALUE!"}]
[{"$f":"SUMMARY!BD7","v":319},{"$f":"SUMMARY!BD44","v":""},{"$error":"#VALUE!"},{"$f":"SUMMARY!BD47","v":""},{"$error":"#VALUE!"},{"$f":"SUMMARY!BD49","v":""},{"$error":"#DIV/0!"},{"$error":"#VALUE!"},{"$error":"#VALUE!"},{"$error":"#VALUE!"},{"$error":"#VALUE!"},{"$error":"#VALUE!"},{"$error":"#VALUE!"},{"$f":"SUMMARY!BD11","v":{"$error":"#VALUE!"}},319,null,319,{"$error":"#VALUE!"},{"$error":"#VALUE!"},{"$f":"SUMMARY!BD41","v":""},{"$error":"#VALUE!"},{"$error":"#VALUE!"},null,null,0,{"$f":"MDR!D30","v":""},0,null,319,1,2,-1,-2,-0.3,-0.6,{"$f":"Z29+AJ8","v":{"$error":"#VALUE!"}},{"$f":"Z29+AK8","v":{"$error":"#VALUE!"}},null,{"$error":"#VALUE!"},{"$error":"#VALUE!"},{"$error":"#VALUE!"},{"$f":"mndot_rounding_1(2+1.6*Grad!N29+0.6*Grad!AD29+0.3*Grad!AC29+0.14*Grad!AB29+0.08*Grad!AA29+0.04*Grad!L29+0.02*Grad!J29)","v":{"$error":"#VALUE!"}},{"$error":"#VALUE!"},{"$error":"#VALUE!"},{"$error":"#VALUE!"},{"$f":"SUMMARY!$BD$10","v":{"$error":"#VALUE!"}},{"$error":"#VALUE!"},{"$f":"SUMMARY!BE132","v":""},{"$error":"#VALUE!"},null,0,{"$error":"#VALUE!"}]
[{"$f":"SUMMARY!BF7","v":320},{"$f":"SUMMARY!BF44","v":""},{"$error":"#VALUE!"},{"$f":"SUMMARY!BF47","v":""},{"$error":"#VALUE!"},{"$f":"SUMMARY!BF49","v":""},{"$error":"#DIV/0!"},{"$error":"#VALUE!"},{"$error":"#VALUE!"},{"$error":"#VALUE!"},{"$error":"#VALUE!"},{"$error":"#VALUE!"},{"$error":"#VALUE!"},{"$f":"SUMMARY!BF11","v":{"$error":"#VALUE!"}},320,null,320,{"$error":"#VALUE!"},{"$error":"#VALUE!"},{"$f":"SUMMARY!BF41","v":""},{"$error":"#VALUE!"},{"$error":"#VALUE!"},null,null,0,{"$f":"MDR!D31","v":""},0,null,320,1,2,-1,-2,-0.3,-0.6,{"$f":"Z30+AJ8","v":{"$error":"#VALUE!"}},{"$f":"Z30+AK8","v":{"$error":"#VALUE!"}},null,{"$error":"#VALUE!"},{"$error":"#VALUE!"},{"$error":"#VALUE!"},{"$f":"mndot_rounding_1(2+1.6*Grad!N30+0.6*Grad!AD30+0.3*Grad!AC30+0.14*Grad!AB30+0.08*Grad!AA30+0.04*Grad!L30+0.02*Grad!J30)","v":{"$error":"#VALUE!"}},{"$error":"#VALUE!"},{"$error":"#VALUE!"},{"$error":"#VALUE!"},{"$f":"SUMMARY!$BF$10","v":{"$error":"#VALUE!"}},{"$error":"#VALUE!"},{"$f":"SUMMARY!BG132","v":""},{"$error":"#VALUE!"},null,0,{"$error":"#VALUE!"}]
[{"$f":"SUMMARY!BL7","v":321},{"$f":"SUMMARY!BL44","v":""},{"$error":"#VALUE!"},{"$f":"SUMMARY!BL47","v":""},{"$error":"#VALUE!"},{"$f":"SUMMARY!BL49","v":""},{"$error":"#DIV/0!"},{"$error":"#VALUE!"},{"$error":"#VALUE!"},{"$error":"#VALUE!"},{"$error":"#VALUE!"},{"$error":"#VALUE!"},{"$error":"#VALUE!"},{"$f":"SUMMARY!BL11","v":{"$error":"#VALUE!"}},321,null,321,{"$error":"#VALUE!"},{"$error":"#VALUE!"},{"$f":"SUMMARY!BL41","v":""},{"$error":"#VALUE!"},{"$error":"#VALUE!"},null,null,0,{"$f":"MDR!D32","v":""},0,null,321,1,2,-1,-2,-0.3,-0.6,{"$f":"Z31+AJ8","v":{"$error":"#VALUE!"}},{"$f":"Z31+AK8","v":{"$error":"#VALUE!"}},null,{"$error":"#VALUE!"},{"$error":"#VALUE!"},{"$error":"#VALUE!"},{"$f":"mndot_rounding_1(2+1.6*Grad!N31+0.6*Grad!AD31+0.3*Grad!AC31+0.14*Grad!AB31+0.08*Grad!AA31+0.04*Grad!L31+0.02*Grad!J31)","v":{"$error":"#VALUE!"}},{"$error":"#VALUE!"},{"$error":"#VALUE!"},{"$error":"#VALUE!"},{"$f":"SUMMARY!$BL$10","v":{"$error":"#VALUE!"}},{"$error":"#VALUE!"},{"$f":"SUMMARY!BM132","v":""},{"$error":"#VALUE!"},null,0,{"$error":"#VALUE!"}]
[{"$f":"SUMMARY!BN7","v":322},{"$f":"SUMMARY!BN44","v":""},{"$error":"#VALUE!"},{"$f":"SUMMARY!BN47","v":""},{"$error":"#VALUE!"},{"$f":"SUMMARY!BN49","v":""},{"$error":"#DIV/0!"},{"$error":"#VALUE!"},{"$error":"#VALUE!"},{"$error":"#VALUE!"},{"$error":"#VALUE!"},{"$error":"#VALUE!"},{"$error":"#VALUE!"},{"$f":"SUMMARY!BN11","v":{"$error":"#VALUE!"}},322,null,322,{"$error":"#VALUE!"},{"$error":"#VALUE!"},{"$f":"SUMMARY!BN41","v":""},{"$error":"#VALUE!"},{"$error":"#VALUE!"},null,null,0,{"$f":"MDR!D33","v":""},0,null,322,1,2,-1,-2,-0.3,-0.6,{"$f":"Z32+AJ8","v":{"$error":"#VALUE!"}},{"$f":"Z32+AK8","v":{"$error":"#VALUE!"}},null,{"$error":"#VALUE!"},{"$error":"#VALUE!"},{"$error":"#VALUE!"},{"$f":"mndot_rounding_1(2+1.6*Grad!N32+0.6*Grad!AD32+0.3*Grad!AC32+0.14*Grad!AB32+0.08*Grad!AA32+0.04*Grad!L32+0.02*Grad!J32)","v":{"$error":"#VALUE!"}},{"$error":"#VALUE!"},{"$error":"#VALUE!"},{"$error":"#VALUE!"},{"$f":"SUMMARY!$BN$10","v":{"$error":"#VALUE!"}},{"$error":"#VALUE!"},{"$f":"SUMMARY!BO132","v":""},{"$error":"#VALUE!"},null,0,{"$error":"#VALUE!"}]
[{"$f":"SUMMARY!BP7","v":323},{"$f":"SUMMARY!BP44","v":""},{"$error":"#VALUE!"},{"$f":"SUMMARY!BP47","v":""},{"$error":"#VALUE!"},{"$f":"SUMMARY!BP49","v":""},{"$error":"#DIV/0!"},{"$error":"#VALUE!"},{"$error":"#VALUE!"},{"$error":"#VALUE!"},{"$error":"#VALUE!"},{"$error":"#VALUE!"},{"$error":"#VALUE!"},{"$f":"SUMMARY!BP11","v":{"$error":"#VALUE!"}},323,null,323,{"$error":"#VALUE!"},{"$error":"#VALUE!"},{"$f":"SUMMARY!BP41","v":""},{"$error":"#VALUE!"},{"$error":"#VALUE!"},null,null,0,{"$f":"MDR!D34","v":""},0,null,323,1,2,-1,-2,-0.3,-0.6,{"$f":"Z33+AJ8","v":{"$error":"#VALUE!"}},{"$f":"Z33+AK8","v":{"$error":"#VALUE!"}},null,{"$error":"#VALUE!"},{"$error":"#VALUE!"},{"$error":"#VALUE!"},{"$f":"mndot_rounding_1(2+1.6*Grad!N33+0.6*Grad!AD33+0.3*Grad!AC33+0.14*Grad!AB33+0.08*Grad!AA33+0.04*Grad!L33+0.02*Grad!J33)","v":{"$error":"#VALUE!"}},{"$error":"#VALUE!"},{"$error":"#VALUE!"},{"$error":"#VALUE!"},{"$f":"SUMMARY!$BP$10","v":{"$error":"#VALUE!"}},{"$error":"#VALUE!"},{"$f":"SUMMARY!BQ132","v":""},{"$error":"#VALUE!"},null,0,{"$error":"#VALUE!"}]
[{"$f":"SUMMARY!BR7","v":324},{"$f":"SUMMARY!BR44","v":""},{"$error":"#VALUE!"},{"$f":"SUMMARY!BR47","v":""},{"$error":"#VALUE!"},{"$f":"SUMMARY!BR49","v":""},{"$error":"#DIV/0!"},{"$error":"#VALUE!"},{"$error":"#VALUE!"},{"$error":"#VALUE!"},{"$error":"#VALUE!"},{"$error":"#VALUE!"},{"$error":"#VALUE!"},{"$f":"SUMMARY!BR11","v":{"$error":"#VALUE!"}},324,null,324,{"$error":"#VALUE!"},{"$error":"#VALUE!"},{"$f":"SUMMARY!BR41","v":""},{"$error":"#VALUE!"},{"$error":"#VALUE!"},null,null,0,{"$f":"MDR!D35","v":""},0,null,324,1,2,-1,-2,-0.3,-0.6,{"$f":"Z34+AJ8","v":{"$error":"#VALUE!"}},{"$f":"Z34+AK8","v":{"$error":"#VALUE!"}},null,{"$error":"#VALUE!"},{"$error":"#VALUE!"},{"$error":"#VALUE!"},{"$f":"mndot_rounding_1(2+1.6*Grad!N34+0.6*Grad!AD34+0.3*Grad!AC34+0.14*Grad!AB34+0.08*Grad!AA34+0.04*Grad!L34+0.02*Grad!J34)","v":{"$error":"#VALUE!"}},{"$error":"#VALUE!"},{"$error":"#VALUE!"},{"$error":"#VALUE!"},{"$f":"SUMMARY!$BR$10","v":{"$error":"#VALUE!"}},{"$error":"#VALUE!"},{"$f":"SUMMARY!BS132","v":""},{"$error":"#VALUE!"},null,0,{"$error":"#VALUE!"}]
[{"$f":"SUMMARY!BX7","v":325},{"$f":"SUMMARY!BX44","v":""},{"$error":"#VALUE!"},{"$f":"SUMMARY!BX47","v":""},{"$error":"#VALUE!"},{"$f":"SUMMARY!BX49","v":""},{"$error":"#DIV/0!"},{"$error":"#VALUE!"},{"$error":"#VALUE!"},{"$error":"#VALUE!"},{"$error":"#VALUE!"},{"$error":"#VALUE!"},{"$error":"#VALUE!"},{"$f":"SUMMARY!BX11","v":{"$error":"#VALUE!"}},325,null,325,{"$error":"#VALUE!"},{"$error":"#VALUE!"},{"$f":"SUMMARY!BX41","v":""},{"$error":"#VALUE!"},{"$error":"#VALUE!"},null,null,0,{"$f":"MDR!D36","v":""},0,null,325,1,2,-1,-2,-0.3,-0.6,{"$f":"Z35+AJ8","v":{"$error":"#VALUE!"}},{"$f":"Z35+AK8","v":{"$error":"#VALUE!"}},null,{"$error":"#VALUE!"},{"$error":"#VALUE!"},{"$error":"#VALUE!"},{"$f":"mndot_rounding_1(2+1.6*Grad!N35+0.6*Grad!AD35+0.3*Grad!AC35+0.14*Grad!AB35+0.08*Grad!AA35+0.04*Grad!L35+0.02*Grad!J35)","v":{"$error":"#VALUE!"}},{"$error":"#VALUE!"},{"$error":"#VALUE!"},{"$error":"#VALUE!"},{"$f":"SUMMARY!$BX$10","v":{"$error":"#VALUE!"}},{"$error":"#VALUE!"},{"$f":"SUMMARY!BY132","v":""},{"$error":"#VALUE!"},null,0,{"$error":"#VALUE!"}]
[{"$f":"SUMMARY!BZ7","v":326},{"$f":"SUMMARY!BZ44","v":""},{"$error":"#VALUE!"},{"$f":"SUMMARY!BZ47","v":""},{"$error":"#VALUE!"},{"$f":"SUMMARY!BZ49","v":""},{"$error":"#DIV/0!"},{"$error":"#VALUE!"},{"$error":"#VALUE!"},{"$error":"#VALUE!"},{"$error":"#VALUE!"},{"$error":"#VALUE!"},{"$error":"#VALUE!"},{"$f":"SUMMARY!BZ11","v":{"$error":"#VALUE!"}},326,null,326,{"$error":"#VALUE!"},{"$error":"#VALUE!"},{"$f":"SUMMARY!BZ41","v":""},{"$error":"#VALUE!"},{"$error":"#VALUE!"},null,null,0,{"$f":"MDR!D37","v":""},0,null,326,1,2,-1,-2,-0.3,-0.6,{"$f":"Z36+AJ8","v":{"$error":"#VALUE!"}},{"$f":"Z36+AK8","v":{"$error":"#VALUE!"}},null,{"$error":"#VALUE!"},{"$error":"#VALUE!"},{"$error":"#VALUE!"},{"$f":"mndot_rounding_1(2+1.6*Grad!N36+0.6*Grad!AD36+0.3*Grad!AC36+0.14*Grad!AB36+0.08*Grad!AA36+0.04*Grad!L36+0.02*Grad!J36)","v":{"$error":"#VALUE!"}},{"$error":"#VALUE!"},{"$error":"#VALUE!"},{"$error":"#VALUE!"},{"$f":"SUMMARY!$BZ$10","v":{"$error":"#VALUE!"}},{"$error":"#VALUE!"},{"$f":"SUMMARY!CA132","v":""},{"$error":"#VALUE!"},null,0,{"$error":"#VALUE!"}]
[{"$f":"SUMMARY!CB7","v":327},{"$f":"SUMMARY!CB44","v":""},{"$error":"#VALUE!"},{"$f":"SUMMARY!CB47","v":""},{"$error":"#VALUE!"},{"$f":"SUMMARY!CB49","v":""},{"$error":"#DIV/0!"},{"$error":"#VALUE!"},{"$error":"#VALUE!"},{"$error":"#VALUE!"},{"$error":"#VALUE!"},{"$error":"#VALUE!"},{"$error":"#VALUE!"},{"$f":"SUMMARY!CB11","v":{"$error":"#VALUE!"}},327,null,327,{"$error":"#VALUE!"},{"$error":"#VALUE!"},{"$f":"SUMMARY!CB41","v":""},{"$error":"#VALUE!"},{"$error":"#VALUE!"},null,null,0,{"$f":"MDR!D38","v":""},0,null,327,1,2,-1,-2,-0.3,-0.6,{"$f":"Z37+AJ8","v":{"$error":"#VALUE!"}},{"$f":"Z37+AK8","v":{"$error":"#VALUE!"}},null,{"$error":"#VALUE!"},{"$error":"#VALUE!"},{"$error":"#VALUE!"},{"$f":"mndot_rounding_1(2+1.6*Grad!N37+0.6*Grad!AD37+0.3*Grad!AC37+0.14*Grad!AB37+0.08*Grad!AA37+0.04*Grad!L37+0.02*Grad!J37)","v":{"$error":"#VALUE!"}},{"$error":"#VALUE!"},{"$error":"#VALUE!"},{"$error":"#VALUE!"},{"$f":"SUMMARY!$CB$10","v":{"$error":"#VALUE!"}},{"$error":"#VALUE!"},{"$f":"SUMMARY!CC132","v":""},{"$error":"#VALUE!"},null,0,{"$error":"#VALUE!"}]
[{"$f":"SUMMARY!CD7","v":328},{"$f":"SUMMARY!CD44","v":""},{"$error":"#VALUE!"},{"$f":"SUMMARY!CD47","v":""},{"$error":"#VALUE!"},{"$f":"SUMMARY!CD49","v":""},{"$error":"#DIV/0!"},{"$error":"#VALUE!"},{"$error":"#VALUE!"},{"$error":"#VALUE!"},{"$error":"#VALUE!"},{"$error":"#VALUE!"},{"$error":"#VALUE!"},{"$f":"SUMMARY!CD11","v":{"$error":"#VALUE!"}},328,null,328,{"$error":"#VALUE!"},{"$error":"#VALUE!"},{"$f":"SUMMARY!CD41","v":""},{"$error":"#VALUE!"},{"$error":"#VALUE!"},null,null,0,{"$f":"MDR!D39","v":""},0,null,328,1,2,-1,-2,-0.3,-0.6,{"$f":"Z38+AJ8","v":{"$error":"#VALUE!"}},{"$f":"Z38+AK8","v":{"$error":"#VALUE!"}},null,{"$error":"#VALUE!"},{"$error":"#VALUE!"},{"$error":"#VALUE!"},{"$f":"mndot_rounding_1(2+1.6*Grad!N38+0.6*Grad!AD38+0.3*Grad!AC38+0.14*Grad!AB38+0.08*Grad!AA38+0.04*Grad!L38+0.02*Grad!J38)","v":{"$error":"#VALUE!"}},{"$error":"#VALUE!"},{"$error":"#VALUE!"},{"$error":"#VALUE!"},{"$f":"SUMMARY!$CD$10","v":{"$error":"#VALUE!"}},{"$error":"#VALUE!"},{"$f":"SUMMARY!CE132","v":""},{"$error":"#VALUE!"},null,0,{"$error":"#VALUE!"}]
[{"$f":"SUMMARY!CJ7","v":329},{"$f":"SUMMARY!CJ44","v":""},{"$error":"#VALUE!"},{"$f":"SUMMARY!CJ47","v":""},{"$error":"#VALUE!"},{"$f":"SUMMARY!CJ49","v":""},{"$error":"#DIV/0!"},{"$error":"#VALUE!"},{"$error":"#VALUE!"},{"$error":"#VALUE!"},{"$error":"#VALUE!"},{"$error":"#VALUE!"},{"$error":"#VALUE!"},{"$f":"SUMMARY!CJ11","v":{"$error":"#VALUE!"}},329,null,329,{"$error":"#VALUE!"},{"$error":"#VALUE!"},{"$f":"SUMMARY!CJ41","v":""},{"$error":"#VALUE!"},{"$error":"#VALUE!"},null,null,0,{"$f":"MDR!D41","v":""},0,null,329,1,2,-1,-2,-0.3,-0.6,{"$f":"Z39+AJ8","v":{"$error":"#VALUE!"}},{"$f":"Z39+AK8","v":{"$error":"#VALUE!"}},null,{"$error":"#VALUE!"},{"$error":"#VALUE!"},{"$error":"#VALUE!"},{"$f":"mndot_rounding_1(2+1.6*Grad!N39+0.6*Grad!AD39+0.3*Grad!AC39+0.14*Grad!AB39+0.08*Grad!AA39+0.04*Grad!L39+0.02*Grad!J39)","v":{"$error":"#VALUE!"}},{"$error":"#VALUE!"},{"$error":"#VALUE!"},{"$error":"#VALUE!"},{"$f":"SUMMARY!$CJ$10","v":{"$error":"#VALUE!"}},{"$error":"#VALUE!"},{"$f":"SUMMARY!CK132","v":""},{"$error":"#VALUE!"},null,0,{"$error":"#VALUE!"}]
[{"$f":"SUMMARY!CL7","v":330},{"$f":"SUMMARY!CL44","v":""},{"$error":"#VALUE!"},{"$f":"SUMMARY!CL47","v":""},{"$error":"#VALUE!"},{"$f":"SUMMARY!CL49","v":""},{"$error":"#DIV/0!"},{"$error":"#VALUE!"},{"$error":"#VALUE!"},{"$error":"#VALUE!"},{"$error":"#VALUE!"},{"$error":"#VALUE!"},{"$error":"#VALUE!"},{"$f":"SUMMARY!CL11","v":{"$error":"#VALUE!"}},330,null,330,{"$error":"#VALUE!"},{"$error":"#VALUE!"},{"$f":"SUMMARY!CL41","v":""},{"$error":"#VALUE!"},{"$error":"#VALUE!"},null,null,0,{"$f":"MDR!D41","v":""},0,null,330,1,2,-1,-2,-0.3,-0.6,{"$f":"Z40+AJ8","v":{"$error":"#VALUE!"}},{"$f":"Z40+AK8","v":{"$error":"#VALUE!"}},null,{"$f":"+mndot_rounding_3((100-B40)/((100/D40)-(B40/$K$5)))","v":{"$error":"#VALUE!"}},{"$f":"+mndot_rounding_1(B40-((AM40-N40)*$K$5)*(100-B40)/(N40*AM40))","v":{"$error":"#VALUE!"}},{"$f":"+mndot_rounding_1((AN40*100)/(100-B40))","v":{"$error":"#VALUE!"}},{"$f":"mndot_rounding_1(2+1.6*Grad!N40+0.6*Grad!AD40+0.3*Grad!AC40+0.14*Grad!AB40+0.08*Grad!AA40+0.04*Grad!L40+0.02*Grad!J40)","v":{"$error":"#VALUE!"}},{"$f":"+mndot_rounding_1((AN40*4870)/((100-B40)*AR40))","v":{"$error":"#VALUE!"}},{"$f":"IF(AT40<2.58,mndot_rounding_1(AP40*(2.65/AT40)),(IF(AT40>2.7,mndot_rounding_1(AP40*(2.65/AT40)),AP40)))","v":{"$error":"#VALUE!"}},{"$f":"IF(AY40>0.1,AY40,AZ40)","v":{"$error":"#VALUE!"}},{"$f":"SUMMARY!$CL$10","v":{"$error":"#VALUE!"}},{"$error":"#VALUE!"},{"$f":"SUMMARY!CM132","v":""},{"$error":"#VALUE!"},null,0,{"$error":"#VALUE!"}]
[{"$f":"SUMMARY!CN7","v":331},{"$f":"SUMMARY!CN44","v":""},{"$error":"#VALUE!"},{"$f":"SUMMARY!CN47","v":""},{"$error":"#VALUE!"},{"$f":"SUMMARY!CN49","v":""},{"$error":"#DIV/0!"},{"$error":"#VALUE!"},{"$error":"#VALUE!"},{"$error":"#VALUE!"},{"$error":"#VALUE!"},{"$error":"#VALUE!"},{"$error":"#VALUE!"},{"$f":"SUMMARY!CN11","v":{"$error":"#VALUE!"}},{"$f":"O40+1","v":331},null,{"$f":"Q40+1","v":331},{"$error":"#VALUE!"},{"$error":"#VALUE!"},{"$f":"SUMMARY!CN41","v":""},{"$error":"#VALUE!"},{"$error":"#VALUE!"},null,null,{"$f":"Y40","v":0},{"$f":"MDR!D42","v":""},0,null,{"$f":"AC40+1","v":331},{"$f":"AD40","v":1},2,-1,-2,-0.3,-0.6,{"$f":"Z41+AJ8","v":{"$error":"#VALUE!"}},{"$f":"Z41+AK8","v":{"$error":"#VALUE!"}},null,{"$f":"+mndot_rounding_3((100-B41)/((100/D41)-(B41/$K$5)))","v":{"$error":"#VALUE!"}},{"$error":"#VALUE!"},{"$error":"#VALUE!"},{"$f":"mndot_rounding_1(2+1.6*Grad!N41+0.6*Grad!AD41+0.3*Grad!AC41+0.14*Grad!AB41+0.08*Grad!AA41+0.04*Grad!L41+0.02*Grad!J41)","v":{"$error":"#VALUE!"}},{"$error":"#VALUE!"},{"$error":"#VALUE!"},{"$error":"#VALUE!"},{"$f":"SUMMARY!$CN$10","v":{"$error":"#VALUE!"}},{"$f":"+(IF(AS41>0,+AS41,0)+IF(AS41>0,+AS41,0)+IF(AS39>0,+AS39,0)+IF(AS38>0,+AS38,0)+IF(+COUNTIF(AS38:AS41,\">0\")<=3,+AS37)+IF(+COUNTIF(AS37:AS41,\">0\")<=3,+AS36)+IF(+COUNTIF(AS36:AS41,\">0\")<=3,+AS35)+IF(+COUNTIF(AS35:AS41,\">0\")<=3,+AS34)+IF(+COUNTIF(AS34:AS41,\">0\")<=3,+AS33)+IF(+COUNTIF(AS33:AS41,\">0\")<=3,+AS32)+IF(+COUNTIF(AS32:AS41,\">0\")<=3,+AS31)+IF(+COUNTIF(AS31:AS41,\">0\")<=3,+AS30)+IF(+COUNTIF(AS30:AS41,\">0\")<4,\" \"))/4","v":{"$error":"#VALUE!"}},{"$f":"SUMMARY!CO132","v":""},{"$f":"+(IF(AV41>0,+AV41,0)+IF(AV41>0,+AV41,0)+IF(AV39>0,+AV39,0)+IF(AV38>0,+AV38,0)+IF(+COUNTIF(AV38:AV41,\">0\")<=3,+AV37)+IF(+COUNTIF(AV37:AV41,\">0\")<=3,+AV36)+IF(+COUNTIF(AV36:AV41,\">0\")<=3,+AV35)+IF(+COUNTIF(AV35:AV41,\">0\")<=3,+AV34)+IF(+COUNTIF(AV34:AV41,\">0\")<=3,+AV33)+IF(+COUNTIF(AV33:AV41,\">0\")<=3,+AV32)+IF(+COUNTIF(AV32:AV41,\">0\")<=3,+AV31)+IF(+COUNTIF(AV31:AV41,\">0\")<=3,+AV30)+IF(+COUNTIF(AV30:AV41,\">0\")<4,\" \"))/4","v":{"$error":"#VALUE!"}},null,0,{"$error":"#VALUE!"}]
[{"$f":"SUMMARY!CP7","v":332},{"$f":"SUMMARY!CP44","v":""},{"$error":"#VALUE!"},{"$f":"SUMMARY!CP47","v":""},{"$error":"#VALUE!"},{"$f":"SUMMARY!CP49","v":""},{"$error":"#DIV/0!"},{"$error":"#VALUE!"},{"$error":"#VALUE!"},{"$error":"#VALUE!"},{"$error":"#VALUE!"},{"$error":"#VALUE!"},{"$error":"#VALUE!"},{"$f":"SUMMARY!CP11","v":{"$error":"#VALUE!"}},332,null,332,{"$f":"(100-B42)/((100/D42)-(B42/$K$5))","v":{"$error":"#VALUE!"}},{"$f":"B42-((R42-N42)/(R42*N42)*$K$5*(100-B42))","v":{"$error":"#VALUE!"}},{"$f":"SUMMARY!CP41","v":""},{"$error":"#VALUE!"},{"$f":"B42-S42","v":{"$error":"#VALUE!"}},null,null,0,{"$f":"MDR!D43","v":""},0,null,{"$f":"AC41+1","v":332},{"$f":"AD41","v":1},{"$f":"AE41","v":2},{"$f":"AF41","v":-1},{"$f":"AG41","v":-2},{"$f":"AH41","v":-0.3},{"$f":"AI41","v":-0.6},{"$f":"Z42+AJ8","v":{"$error":"#VALUE!"}},{"$f":"Z42+AK8","v":{"$error":"#VALUE!"}},null,{"$error":"#VALUE!"},{"$error":"#VALUE!"},{"$error":"#VALUE!"},{"$f":"mndot_rounding_1(2+1.6*Grad!N42+0.6*Grad!AD42+0.3*Grad!AC42+0.14*Grad!AB42+0.08*Grad!AA42+0.04*Grad!L42+0.02*Grad!J42)","v":{"$error":"#VALUE!"}},{"$error":"#VALUE!"},{"$error":"#VALUE!"},{"$error":"#VALUE!"},{"$f":"SUMMARY!$CP$10","v":{"$error":"#VALUE!"}},{"$f":"+(IF(AS42>0,+AS42,0)+IF(AS41>0,+AS41,0)+IF(AS41>0,+AS41,0)+IF(AS39>0,+AS39,0)+IF(+COUNTIF(AS39:AS42,\">0\")<=3,+AS38)+IF(+COUNTIF(AS38:AS42,\">0\")<=3,+AS37)+IF(+COUNTIF(AS37:AS42,\">0\")<=3,+AS36)+IF(+COUNTIF(AS36:AS42,\">0\")<=3,+AS35)+IF(+COUNTIF(AS35:AS42,\">0\")<=3,+AS34)+IF(+COUNTIF(AS34:AS42,\">0\")<=3,+AS33)+IF(+COUNTIF(AS33:AS42,\">0\")<=3,+AS32)+IF(+COUNTIF(AS32:AS42,\">0\")<=3,+AS31)+IF(+COUNTIF(AS31:AS42,\">0\")<4,\" \"))/4","v":{"$error":"#VALUE!"}},{"$f":"SUMMARY!CQ132","v":""},{"$f":"+(IF(AV42>0,+AV42,0)+IF(AV41>0,+AV41,0)+IF(AV41>0,+AV41,0)+IF(AV39>0,+AV39,0)+IF(+COUNTIF(AV39:AV42,\">0\")<=3,+AV38)+IF(+COUNTIF(AV38:AV42,\">0\")<=3,+AV37)+IF(+COUNTIF(AV37:AV42,\">0\")<=3,+AV36)+IF(+COUNTIF(AV36:AV42,\">0\")<=3,+AV35)+IF(+COUNTIF(AV35:AV42,\">0\")<=3,+AV34)+IF(+COUNTIF(AV34:AV42,\">0\")<=3,+AV33)+IF(+COUNTIF(AV33:AV42,\">0\")<=3,+AV32)+IF(+COUNTIF(AV32:AV42,\">0\")<=3,+AV31)+IF(+COUNTIF(AV31:AV42,\">0\")<4,\" \"))/4","v":{"$error":"#VALUE!"}},null,0,{"$error":"#VALUE!"}]
[{"$f":"SUMMARY!CV7","v":333},{"$f":"SUMMARY!CV44","v":""},{"$error":"#VALUE!"},{"$f":"SUMMARY!CV47","v":""},{"$error":"#VALUE!"},{"$f":"SUMMARY!CV49","v":""},{"$error":"#DIV/0!"},{"$error":"#VALUE!"},{"$error":"#VALUE!"},{"$error":"#VALUE!"},{"$error":"#VALUE!"},{"$error":"#VALUE!"},{"$error":"#VALUE!"},{"$f":"SUMMARY!CV11","v":{"$error":"#VALUE!"}},333,null,333,{"$error":"#VALUE!"},{"$error":"#VALUE!"},{"$f":"SUMMARY!CV41","v":""},{"$f":"mndot_rounding_1(T43/S43)","v":{"$error":"#VALUE!"}},{"$error":"#VALUE!"},null,null,0,{"$f":"MDR!D44","v":""},{"$f":"$M$5","v":0},null,333,1,2,-1,-2,-0.3,-0.6,{"$f":"Z43+AJ8","v":{"$error":"#VALUE!"}},{"$f":"Z43+AK8","v":{"$error":"#VALUE!"}},null,{"$error":"#VALUE!"},{"$error":"#VALUE!"},{"$error":"#VALUE!"},{"$f":"mndot_rounding_1(2+1.6*Grad!N43+0.6*Grad!AD43+0.3*Grad!AC43+0.14*Grad!AB43+0.08*Grad!AA43+0.04*Grad!L43+0.02*Grad!J43)","v":{"$error":"#VALUE!"}},{"$error":"#VALUE!"},{"$error":"#VALUE!"},{"$error":"#VALUE!"},{"$f":"SUMMARY!$CV$10","v":{"$error":"#VALUE!"}},{"$f":"+(IF(AS43>0,+AS43,0)+IF(AS42>0,+AS42,0)+IF(AS41>0,+AS41,0)+IF(AS41>0,+AS41,0)+IF(+COUNTIF(AS41:AS43,\">0\")<=3,+AS39)+IF(+COUNTIF(AS39:AS43,\">0\")<=3,+AS38)+IF(+COUNTIF(AS38:AS43,\">0\")<=3,+AS37)+IF(+COUNTIF(AS37:AS43,\">0\")<=3,+AS36)+IF(+COUNTIF(AS36:AS43,\">0\")<=3,+AS35)+IF(+COUNTIF(AS35:AS43,\">0\")<=3,+AS34)+IF(+COUNTIF(AS34:AS43,\">0\")<=3,+AS33)+IF(+COUNTIF(AS33:AS43,\">0\")<=3,+AS32)+IF(+COUNTIF(AS32:AS43,\">0\")<4,\" \"))/4","v":{"$error":"#VALUE!"}},{"$f":"SUMMARY!CW132","v":""},{"$f":"+(IF(AV43>0,+AV43,0)+IF(AV42>0,+AV42,0)+IF(AV41>0,+AV41,0)+IF(AV41>0,+AV41,0)+IF(+COUNTIF(AV41:AV43,\">0\")<=3,+AV39)+IF(+COUNTIF(AV39:AV43,\">0\")<=3,+AV38)+IF(+COUNTIF(AV38:AV43,\">0\")<=3,+AV37)+IF(+COUNTIF(AV37:AV43,\">0\")<=3,+AV36)+IF(+COUNTIF(AV36:AV43,\">0\")<=3,+AV35)+IF(+COUNTIF(AV35:AV43,\">0\")<=3,+AV34)+IF(+COUNTIF(AV34:AV43,\">0\")<=3,+AV33)+IF(+COUNTIF(AV33:AV43,\">0\")<=3,+AV32)+IF(+COUNTIF(AV32:AV43,\">0\")<4,\" \"))/4","v":{"$error":"#VALUE!"}},null,0,{"$f":"mndot_rounding_1(AQ43 + 0.06*(AR43-28))","v":{"$error":"#VALUE!"}}]
[{"$f":"SUMMARY!CX7","v":334},{"$f":"SUMMARY!CX44","v":""},{"$error":"#VALUE!"},{"$f":"SUMMARY!CX47","v":""},{"$error":"#VALUE!"},{"$f":"SUMMARY!CX49","v":""},{"$error":"#DIV/0!"},{"$error":"#VALUE!"},{"$error":"#VALUE!"},{"$error":"#VALUE!"},{"$error":"#VALUE!"},{"$error":"#VALUE!"},{"$error":"#VALUE!"},{"$f":"SUMMARY!CX11","v":{"$error":"#VALUE!"}},334,null,334,{"$error":"#VALUE!"},{"$error":"#VALUE!"},{"$f":"SUMMARY!CX41","v":""},{"$error":"#VALUE!"},{"$error":"#VALUE!"},null,null,0,{"$f":"MDR!D45","v":""},0,null,334,1,2,-1,-2,-0.3,-0.6,{"$f":"Z44+AJ8","v":{"$error":"#VALUE!"}},{"$f":"Z44+AK8","v":{"$error":"#VALUE!"}},null,{"$error":"#VALUE!"},{"$error":"#VALUE!"},{"$error":"#VALUE!"},{"$f":"mndot_rounding_1(2+1.6*Grad!N44+0.6*Grad!AD44+0.3*Grad!AC44+0.14*Grad!AB44+0.08*Grad!AA44+0.04*Grad!L44+0.02*Grad!J44)","v":{"$error":"#VALUE!"}},{"$error":"#VALUE!"},{"$error":"#VALUE!"},{"$error":"#VALUE!"},{"$f":"SUMMARY!$CX$10","v":{"$error":"#VALUE!"}},{"$f":"+(IF(AS44>0,+AS44,0)+IF(AS43>0,+AS43,0)+IF(AS42>0,+AS42,0)+IF(AS41>0,+AS41,0)+IF(+COUNTIF(AS41:AS44,\">0\")<=3,+AS41)+IF(+COUNTIF(AS41:AS44,\">0\")<=3,+AS39)+IF(+COUNTIF(AS39:AS44,\">0\")<=3,+AS38)+IF(+COUNTIF(AS38:AS44,\">0\")<=3,+AS37)+IF(+COUNTIF(AS37:AS44,\">0\")<=3,+AS36)+IF(+COUNTIF(AS36:AS44,\">0\")<=3,+AS35)+IF(+COUNTIF(AS35:AS44,\">0\")<=3,+AS34)+IF(+COUNTIF(AS34:AS44,\">0\")<=3,+AS33)+IF(+COUNTIF(AS33:AS44,\">0\")<4,\" \"))/4","v":{"$error":"#VALUE!"}},{"$f":"SUMMARY!CY132","v":""},{"$f":"+(IF(AV44>0,+AV44,0)+IF(AV43>0,+AV43,0)+IF(AV42>0,+AV42,0)+IF(AV41>0,+AV41,0)+IF(+COUNTIF(AV41:AV44,\">0\")<=3,+AV41)+IF(+COUNTIF(AV41:AV44,\">0\")<=3,+AV39)+IF(+COUNTIF(AV39:AV44,\">0\")<=3,+AV38)+IF(+COUNTIF(AV38:AV44,\">0\")<=3,+AV37)+IF(+COUNTIF(AV37:AV44,\">0\")<=3,+AV36)+IF(+COUNTIF(AV36:AV44,\">0\")<=3,+AV35)+IF(+COUNTIF(AV35:AV44,\">0\")<=3,+AV34)+IF(+COUNTIF(AV34:AV44,\">0\")<=3,+AV33)+IF(+COUNTIF(AV33:AV44,\">0\")<4,\" \"))/4","v":{"$error":"#VALUE!"}},null,0,{"$error":"#VALUE!"}]
[{"$f":"SUMMARY!CZ7","v":335},{"$f":"SUMMARY!CZ44","v":""},{"$error":"#VALUE!"},{"$f":"SUMMARY!CZ47","v":""},{"$error":"#VALUE!"},{"$f":"SUMMARY!CZ49","v":""},{"$error":"#DIV/0!"},{"$error":"#VALUE!"},{"$error":"#VALUE!"},{"$error":"#VALUE!"},{"$error":"#VALUE!"},{"$error":"#VALUE!"},{"$error":"#VALUE!"},{"$f":"SUMMARY!CZ11","v":{"$error":"#VALUE!"}},335,null,335,{"$error":"#VALUE!"},{"$error":"#VALUE!"},{"$f":"SUMMARY!CZ41","v":""},{"$error":"#VALUE!"},{"$error":"#VALUE!"},null,null,0,{"$f":"MDR!D46","v":""},0,null,335,1,2,-1,-2,-0.3,-0.6,{"$f":"Z45+AJ8","v":{"$error":"#VALUE!"}},{"$f":"Z45+AK8","v":{"$error":"#VALUE!"}},null,{"$error":"#VALUE!"},{"$error":"#VALUE!"},{"$error":"#VALUE!"},{"$f":"mndot_rounding_1(2+1.6*Grad!N45+0.6*Grad!AD45+0.3*Grad!AC45+0.14*Grad!AB45+0.08*Grad!AA45+0.04*Grad!L45+0.02*Grad!J45)","v":{"$error":"#VALUE!"}},{"$error":"#VALUE!"},{"$error":"#VALUE!"},{"$error":"#VALUE!"},{"$f":"SUMMARY!$CZ$10","v":{"$error":"#VALUE!"}},{"$f":"+(IF(AS45>0,+AS45,0)+IF(AS44>0,+AS44,0)+IF(AS43>0,+AS43,0)+IF(AS42>0,+AS42,0)+IF(+COUNTIF(AS42:AS45,\">0\")<=3,+AS41)+IF(+COUNTIF(AS41:AS45,\">0\")<=3,+AS41)+IF(+COUNTIF(AS41:AS45,\">0\")<=3,+AS39)+IF(+COUNTIF(AS39:AS45,\">0\")<=3,+AS38)+IF(+COUNTIF(AS38:AS45,\">0\")<=3,+AS37)+IF(+COUNTIF(AS37:AS45,\">0\")<=3,+AS36)+IF(+COUNTIF(AS36:AS45,\">0\")<=3,+AS35)+IF(+COUNTIF(AS35:AS45,\">0\")<=3,+AS34)+IF(+COUNTIF(AS34:AS45,\">0\")<4,\" \"))/4","v":{"$error":"#VALUE!"}},{"$f":"SUMMARY!DA132","v":""},{"$f":"+(IF(AV45>0,+AV45,0)+IF(AV44>0,+AV44,0)+IF(AV43>0,+AV43,0)+IF(AV42>0,+AV42,0)+IF(+COUNTIF(AV42:AV45,\">0\")<=3,+AV41)+IF(+COUNTIF(AV41:AV45,\">0\")<=3,+AV41)+IF(+COUNTIF(AV41:AV45,\">0\")<=3,+AV39)+IF(+COUNTIF(AV39:AV45,\">0\")<=3,+AV38)+IF(+COUNTIF(AV38:AV45,\">0\")<=3,+AV37)+IF(+COUNTIF(AV37:AV45,\">0\")<=3,+AV36)+IF(+COUNTIF(AV36:AV45,\">0\")<=3,+AV35)+IF(+COUNTIF(AV35:AV45,\">0\")<=3,+AV34)+IF(+COUNTIF(AV34:AV45,\">0\")<4,\" \"))/4","v":{"$error":"#VALUE!"}},null,0,{"$error":"#VALUE!"}]
[{"$f":"SUMMARY!DB7","v":336},{"$f":"SUMMARY!DB44","v":""},{"$error":"#VALUE!"},{"$f":"SUMMARY!DB47","v":""},{"$error":"#VALUE!"},{"$f":"SUMMARY!DB49","v":""},{"$error":"#DIV/0!"},{"$error":"#VALUE!"},{"$error":"#VALUE!"},{"$error":"#VALUE!"},{"$error":"#VALUE!"},{"$error":"#VALUE!"},{"$error":"#VALUE!"},{"$f":"SUMMARY!DB11","v":{"$error":"#VALUE!"}},336,null,336,{"$error":"#VALUE!"},{"$error":"#VALUE!"},{"$f":"SUMMARY!DB41","v":""},{"$error":"#VALUE!"},{"$error":"#VALUE!"},null,null,0,{"$f":"MDR!D47","v":""},0,null,336,1,2,-1,-2,-0.3,-0.6,{"$f":"Z46+AJ8","v":{"$error":"#VALUE!"}},{"$f":"Z46+AK8","v":{"$error":"#VALUE!"}},null,{"$error":"#VALUE!"},{"$error":"#VALUE!"},{"$error":"#VALUE!"},{"$f":"mndot_rounding_1(2+1.6*Grad!N46+0.6*Grad!AD46+0.3*Grad!AC46+0.14*Grad!AB46+0.08*Grad!AA46+0.04*Grad!L46+0.02*Grad!J46)","v":{"$error":"#VALUE!"}},{"$error":"#VALUE!"},{"$error":"#VALUE!"},{"$error":"#VALUE!"},{"$f":"SUMMARY!$DB$10","v":{"$error":"#VALUE!"}},{"$f":"+(IF(AS46>0,+AS46,0)+IF(AS45>0,+AS45,0)+IF(AS44>0,+AS44,0)+IF(AS43>0,+AS43,0)+IF(+COUNTIF(AS43:AS46,\">0\")<=3,+AS42)+IF(+COUNTIF(AS42:AS46,\">0\")<=3,+AS41)+IF(+COUNTIF(AS41:AS46,\">0\")<=3,+AS41)+IF(+COUNTIF(AS41:AS46,\">0\")<=3,+AS39)+IF(+COUNTIF(AS39:AS46,\">0\")<=3,+AS38)+IF(+COUNTIF(AS38:AS46,\">0\")<=3,+AS37)+IF(+COUNTIF(AS37:AS46,\">0\")<=3,+AS36)+IF(+COUNTIF(AS36:AS46,\">0\")<=3,+AS35)+IF(+COUNTIF(AS35:AS46,\">0\")<4,\" \"))/4","v":{"$error":"#VALUE!"}},{"$f":"SUMMARY!DC132","v":""},{"$f":"+(IF(AV46>0,+AV46,0)+IF(AV45>0,+AV45,0)+IF(AV44>0,+AV44,0)+IF(AV43>0,+AV43,0)+IF(+COUNTIF(AV43:AV46,\">0\")<=3,+AV42)+IF(+COUNTIF(AV42:AV46,\">0\")<=3,+AV41)+IF(+COUNTIF(AV41:AV46,\">0\")<=3,+AV41)+IF(+COUNTIF(AV41:AV46,\">0\")<=3,+AV39)+IF(+COUNTIF(AV39:AV46,\">0\")<=3,+AV38)+IF(+COUNTIF(AV38:AV46,\">0\")<=3,+AV37)+IF(+COUNTIF(AV37:AV46,\">0\")<=3,+AV36)+IF(+COUNTIF(AV36:AV46,\">0\")<=3,+AV35)+IF(+COUNTIF(AV35:AV46,\">0\")<4,\" \"))/4","v":{"$error":"#VALUE!"}},null,0,{"$error":"#VALUE!"}]
[{"$f":"SUMMARY!DH7","v":337},{"$f":"SUMMARY!DH44","v":""},{"$error":"#VALUE!"},{"$f":"SUMMARY!DH47","v":""},{"$error":"#VALUE!"},{"$f":"SUMMARY!DH49","v":""},{"$error":"#DIV/0!"},{"$error":"#VALUE!"},{"$error":"#VALUE!"},{"$error":"#VALUE!"},{"$error":"#VALUE!"},{"$error":"#VALUE!"},{"$error":"#VALUE!"},{"$f":"SUMMARY!DH11","v":{"$error":"#VALUE!"}},337,null,337,{"$error":"#VALUE!"},{"$error":"#VALUE!"},{"$f":"SUMMARY!DH41","v":""},{"$error":"#VALUE!"},{"$error":"#VALUE!"},null,null,0,{"$f":"MDR!D48","v":""},0,null,337,1,2,-1,-2,-0.3,-0.6,{"$f":"Z47+AJ8","v":{"$error":"#VALUE!"}},{"$f":"Z47+AK8","v":{"$error":"#VALUE!"}},null,{"$error":"#VALUE!"},{"$error":"#VALUE!"},{"$error":"#VALUE!"},{"$f":"mndot_rounding_1(2+1.6*Grad!N47+0.6*Grad!AD47+0.3*Grad!AC47+0.14*Grad!AB47+0.08*Grad!AA47+0.04*Grad!L47+0.02*Grad!J47)","v":{"$error":"#VALUE!"}},{"$error":"#VALUE!"},{"$error":"#VALUE!"},{"$error":"#VALUE!"},{"$f":"SUMMARY!$DH$10","v":{"$error":"#VALUE!"}},{"$f":"+(IF(AS47>0,+AS47,0)+IF(AS46>0,+AS46,0)+IF(AS45>0,+AS45,0)+IF(AS44>0,+AS44,0)+IF(+COUNTIF(AS44:AS47,\">0\")<=3,+AS43)+IF(+COUNTIF(AS43:AS47,\">0\")<=3,+AS42)+IF(+COUNTIF(AS42:AS47,\">0\")<=3,+AS41)+IF(+COUNTIF(AS41:AS47,\">0\")<=3,+AS41)+IF(+COUNTIF(AS41:AS47,\">0\")<=3,+AS39)+IF(+COUNTIF(AS39:AS47,\">0\")<=3,+AS38)+IF(+COUNTIF(AS38:AS47,\">0\")<=3,+AS37)+IF(+COUNTIF(AS37:AS47,\">0\")<=3,+AS36)+IF(+COUNTIF(AS36:AS47,\">0\")<4,\" \"))/4","v":{"$error":"#VALUE!"}},{"$f":"SUMMARY!DI132","v":""},{"$f":"+(IF(AV47>0,+AV47,0)+IF(AV46>0,+AV46,0)+IF(AV45>0,+AV45,0)+IF(AV44>0,+AV44,0)+IF(+COUNTIF(AV44:AV47,\">0\")<=3,+AV43)+IF(+COUNTIF(AV43:AV47,\">0\")<=3,+AV42)+IF(+COUNTIF(AV42:AV47,\">0\")<=3,+AV41)+IF(+COUNTIF(AV41:AV47,\">0\")<=3,+AV41)+IF(+COUNTIF(AV41:AV47,\">0\")<=3,+AV39)+IF(+COUNTIF(AV39:AV47,\">0\")<=3,+AV38)+IF(+COUNTIF(AV38:AV47,\">0\")<=3,+AV37)+IF(+COUNTIF(AV37:AV47,\">0\")<=3,+AV36)+IF(+COUNTIF(AV36:AV47,\">0\")<4,\" \"))/4","v":{"$error":"#VALUE!"}},null,0,{"$error":"#VALUE!"}]
[{"$f":"SUMMARY!DJ7","v":338},{"$f":"SUMMARY!DJ44","v":""},{"$error":"#VALUE!"},{"$f":"SUMMARY!DJ47","v":""},{"$error":"#VALUE!"},{"$f":"SUMMARY!DJ49","v":""},{"$error":"#DIV/0!"},{"$error":"#VALUE!"},{"$error":"#VALUE!"},{"$error":"#VALUE!"},{"$error":"#VALUE!"},{"$error":"#VALUE!"},{"$error":"#VALUE!"},{"$f":"SUMMARY!DJ11","v":{"$error":"#VALUE!"}},338,null,338,{"$error":"#VALUE!"},{"$error":"#VALUE!"},{"$f":"SUMMARY!DJ41","v":""},{"$error":"#VALUE!"},{"$error":"#VALUE!"},null,null,0,{"$f":"MDR!D49","v":""},0,null,338,1,2,-1,-2,-0.3,-0.6,{"$f":"Z48+AJ8","v":{"$error":"#VALUE!"}},{"$f":"Z48+AK8","v":{"$error":"#VALUE!"}},null,{"$error":"#VALUE!"},{"$error":"#VALUE!"},{"$error":"#VALUE!"},{"$f":"mndot_rounding_1(2+1.6*Grad!N48+0.6*Grad!AD48+0.3*Grad!AC48+0.14*Grad!AB48+0.08*Grad!AA48+0.04*Grad!L48+0.02*Grad!J48)","v":{"$error":"#VALUE!"}},{"$error":"#VALUE!"},{"$error":"#VALUE!"},{"$error":"#VALUE!"},{"$f":"SUMMARY!$DJ$10","v":{"$error":"#VALUE!"}},{"$f":"+(IF(AS48>0,+AS48,0)+IF(AS47>0,+AS47,0)+IF(AS46>0,+AS46,0)+IF(AS45>0,+AS45,0)+IF(+COUNTIF(AS45:AS48,\">0\")<=3,+AS44)+IF(+COUNTIF(AS44:AS48,\">0\")<=3,+AS43)+IF(+COUNTIF(AS43:AS48,\">0\")<=3,+AS42)+IF(+COUNTIF(AS42:AS48,\">0\")<=3,+AS41)+IF(+COUNTIF(AS41:AS48,\">0\")<=3,+AS41)+IF(+COUNTIF(AS41:AS48,\">0\")<=3,+AS39)+IF(+COUNTIF(AS39:AS48,\">0\")<=3,+AS38)+IF(+COUNTIF(AS38:AS48,\">0\")<=3,+AS37)+IF(+COUNTIF(AS37:AS48,\">0\")<4,\" \"))/4","v":{"$error":"#VALUE!"}},{"$f":"SUMMARY!DK132","v":""},{"$f":"+(IF(AV48>0,+AV48,0)+IF(AV47>0,+AV47,0)+IF(AV46>0,+AV46,0)+IF(AV45>0,+AV45,0)+IF(+COUNTIF(AV45:AV48,\">0\")<=3,+AV44)+IF(+COUNTIF(AV44:AV48,\">0\")<=3,+AV43)+IF(+COUNTIF(AV43:AV48,\">0\")<=3,+AV42)+IF(+COUNTIF(AV42:AV48,\">0\")<=3,+AV41)+IF(+COUNTIF(AV41:AV48,\">0\")<=3,+AV41)+IF(+COUNTIF(AV41:AV48,\">0\")<=3,+AV39)+IF(+COUNTIF(AV39:AV48,\">0\")<=3,+AV38)+IF(+COUNTIF(AV38:AV48,\">0\")<=3,+AV37)+IF(+COUNTIF(AV37:AV48,\">0\")<4,\" \"))/4","v":{"$error":"#VALUE!"}},null,0,{"$error":"#VALUE!"}]
[{"$f":"SUMMARY!DL7","v":339},{"$f":"SUMMARY!DL44","v":""},{"$error":"#VALUE!"},{"$f":"SUMMARY!DL47","v":""},{"$error":"#VALUE!"},{"$f":"SUMMARY!DL49","v":""},{"$error":"#DIV/0!"},{"$error":"#VALUE!"},{"$error":"#VALUE!"},{"$error":"#VALUE!"},{"$error":"#VALUE!"},{"$error":"#VALUE!"},{"$error":"#VALUE!"},{"$f":"SUMMARY!DL11","v":{"$error":"#VALUE!"}},339,null,339,{"$error":"#VALUE!"},{"$error":"#VALUE!"},{"$f":"SUMMARY!DL41","v":""},{"$error":"#VALUE!"},{"$error":"#VALUE!"},null,null,0,{"$f":"MDR!D50","v":""},0,null,339,1,2,-1,-2,-0.3,-0.6,{"$f":"Z49+AJ8","v":{"$error":"#VALUE!"}},{"$f":"Z49+AK8","v":{"$error":"#VALUE!"}},null,{"$error":"#VALUE!"},{"$error":"#VALUE!"},{"$error":"#VALUE!"},{"$f":"mndot_rounding_1(2+1.6*Grad!N49+0.6*Grad!AD49+0.3*Grad!AC49+0.14*Grad!AB49+0.08*Grad!AA49+0.04*Grad!L49+0.02*Grad!J49)","v":{"$error":"#VALUE!"}},{"$error":"#VALUE!"},{"$error":"#VALUE!"},{"$error":"#VALUE!"},{"$f":"SUMMARY!$DL$10","v":{"$error":"#VALUE!"}},{"$f":"+(IF(AS49>0,+AS49,0)+IF(AS48>0,+AS48,0)+IF(AS47>0,+AS47,0)+IF(AS46>0,+AS46,0)+IF(+COUNTIF(AS46:AS49,\">0\")<=3,+AS45)+IF(+COUNTIF(AS45:AS49,\">0\")<=3,+AS44)+IF(+COUNTIF(AS44:AS49,\">0\")<=3,+AS43)+IF(+COUNTIF(AS43:AS49,\">0\")<=3,+AS42)+IF(+COUNTIF(AS42:AS49,\">0\")<=3,+AS41)+IF(+COUNTIF(AS41:AS49,\">0\")<=3,+AS41)+IF(+COUNTIF(AS41:AS49,\">0\")<=3,+AS39)+IF(+COUNTIF(AS39:AS49,\">0\")<=3,+AS38)+IF(+COUNTIF(AS38:AS49,\">0\")<4,\" \"))/4","v":{"$error":"#VALUE!"}},{"$f":"SUMMARY!DM132","v":""},{"$f":"+(IF(AV49>0,+AV49,0)+IF(AV48>0,+AV48,0)+IF(AV47>0,+AV47,0)+IF(AV46>0,+AV46,0)+IF(+COUNTIF(AV46:AV49,\">0\")<=3,+AV45)+IF(+COUNTIF(AV45:AV49,\">0\")<=3,+AV44)+IF(+COUNTIF(AV44:AV49,\">0\")<=3,+AV43)+IF(+COUNTIF(AV43:AV49,\">0\")<=3,+AV42)+IF(+COUNTIF(AV42:AV49,\">0\")<=3,+AV41)+IF(+COUNTIF(AV41:AV49,\">0\")<=3,+AV41)+IF(+COUNTIF(AV41:AV49,\">0\")<=3,+AV39)+IF(+COUNTIF(AV39:AV49,\">0\")<=3,+AV38)+IF(+COUNTIF(AV38:AV49,\">0\")<4,\" \"))/4","v":{"$error":"#VALUE!"}},null,0,{"$error":"#VALUE!"}]
[{"$f":"SUMMARY!DN7","v":340},{"$f":"SUMMARY!DN44","v":""},{"$error":"#VALUE!"},{"$f":"SUMMARY!DN47","v":""},{"$error":"#VALUE!"},{"$f":"SUMMARY!DN49","v":""},{"$error":"#DIV/0!"},{"$error":"#VALUE!"},{"$error":"#VALUE!"},{"$error":"#VALUE!"},{"$error":"#VALUE!"},{"$error":"#VALUE!"},{"$error":"#VALUE!"},{"$f":"SUMMARY!DN11","v":{"$error":"#VALUE!"}},340,null,340,{"$error":"#VALUE!"},{"$error":"#VALUE!"},{"$f":"SUMMARY!DN41","v":""},{"$error":"#VALUE!"},{"$error":"#VALUE!"},null,null,0,{"$f":"MDR!D51","v":""},0,null,340,1,2,-1,-2,-0.3,-0.6,{"$f":"Z50+AJ8","v":{"$error":"#VALUE!"}},{"$f":"Z50+AK8","v":{"$error":"#VALUE!"}},null,{"$error":"#VALUE!"},{"$error":"#VALUE!"},{"$error":"#VALUE!"},{"$f":"mndot_rounding_1(2+1.6*Grad!N50+0.6*Grad!AD50+0.3*Grad!AC50+0.14*Grad!AB50+0.08*Grad!AA50+0.04*Grad!L50+0.02*Grad!J50)","v":{"$error":"#VALUE!"}},{"$error":"#VALUE!"},{"$error":"#VALUE!"},{"$error":"#VALUE!"},{"$f":"SUMMARY!$DN$10","v":{"$error":"#VALUE!"}},{"$f":"+(IF(AS50>0,+AS50,0)+IF(AS49>0,+AS49,0)+IF(AS48>0,+AS48,0)+IF(AS47>0,+AS47,0)+IF(+COUNTIF(AS47:AS50,\">0\")<=3,+AS46)+IF(+COUNTIF(AS46:AS50,\">0\")<=3,+AS45)+IF(+COUNTIF(AS45:AS50,\">0\")<=3,+AS44)+IF(+COUNTIF(AS44:AS50,\">0\")<=3,+AS43)+IF(+COUNTIF(AS43:AS50,\">0\")<=3,+AS42)+IF(+COUNTIF(AS42:AS50,\">0\")<=3,+AS41)+IF(+COUNTIF(AS41:AS50,\">0\")<=3,+AS41)+IF(+COUNTIF(AS41:AS50,\">0\")<=3,+AS39)+IF(+COUNTIF(AS39:AS50,\">0\")<4,\" \"))/4","v":{"$error":"#VALUE!"}},{"$f":"SUMMARY!DO132","v":""},{"$f":"+(IF(AV50>0,+AV50,0)+IF(AV49>0,+AV49,0)+IF(AV48>0,+AV48,0)+IF(AV47>0,+AV47,0)+IF(+COUNTIF(AV47:AV50,\">0\")<=3,+AV46)+IF(+COUNTIF(AV46:AV50,\">0\")<=3,+AV45)+IF(+COUNTIF(AV45:AV50,\">0\")<=3,+AV44)+IF(+COUNTIF(AV44:AV50,\">0\")<=3,+AV43)+IF(+COUNTIF(AV43:AV50,\">0\")<=3,+AV42)+IF(+COUNTIF(AV42:AV50,\">0\")<=3,+AV41)+IF(+COUNTIF(AV41:AV50,\">0\")<=3,+AV41)+IF(+COUNTIF(AV41:AV50,\">0\")<=3,+AV39)+IF(+COUNTIF(AV39:AV50,\">0\")<4,\" \"))/4","v":{"$error":"#VALUE!"}},null,0,{"$error":"#VALUE!"}]
[{"$f":"SUMMARY!DT7","v":341},{"$f":"SUMMARY!DT44","v":""},{"$error":"#VALUE!"},{"$f":"SUMMARY!DT47","v":""},{"$error":"#VALUE!"},{"$f":"SUMMARY!DT49","v":""},{"$error":"#DIV/0!"},{"$error":"#VALUE!"},{"$error":"#VALUE!"},{"$error":"#VALUE!"},{"$error":"#VALUE!"},{"$error":"#VALUE!"},{"$error":"#VALUE!"},{"$f":"SUMMARY!DT11","v":{"$error":"#VALUE!"}},341,null,341,{"$f":"(100-B51)/((100/D51)-(B51/$K$5))","v":{"$error":"#VALUE!"}},{"$f":"B51-((R51-N51)/(R51*N51)*$K$5*(100-B51))","v":{"$error":"#VALUE!"}},{"$f":"SUMMARY!DT41","v":""},{"$error":"#VALUE!"},{"$f":"B51-S51","v":{"$error":"#VALUE!"}},null,null,{"$f":"Y50","v":0},{"$f":"MDR!D52","v":""},0,null,{"$f":"AC50+1","v":341},{"$f":"AD50","v":1},{"$f":"AE50","v":2},{"$f":"AF50","v":-1},{"$f":"AG50","v":-2},{"$f":"AH50","v":-0.3},{"$f":"AI50","v":-0.6},{"$f":"Z51+AJ8","v":{"$error":"#VALUE!"}},{"$f":"Z51+AK8","v":{"$error":"#VALUE!"}},null,{"$error":"#VALUE!"},{"$error":"#VALUE!"},{"$error":"#VALUE!"},{"$f":"mndot_rounding_1(2+1.6*Grad!N51+0.6*Grad!AD51+0.3*Grad!AC51+0.14*Grad!AB51+0.08*Grad!AA51+0.04*Grad!L51+0.02*Grad!J51)","v":{"$error":"#VALUE!"}},{"$error":"#VALUE!"},{"$error":"#VALUE!"},{"$error":"#VALUE!"},{"$f":"SUMMARY!$DT$10","v":{"$error":"#VALUE!"}},{"$f":"+(IF(AS51>0,+AS51,0)+IF(AS50>0,+AS50,0)+IF(AS49>0,+AS49,0)+IF(AS48>0,+AS48,0)+IF(+COUNTIF(AS48:AS51,\">0\")<=3,+AS47)+IF(+COUNTIF(AS47:AS51,\">0\")<=3,+AS46)+IF(+COUNTIF(AS46:AS51,\">0\")<=3,+AS45)+IF(+COUNTIF(AS45:AS51,\">0\")<=3,+AS44)+IF(+COUNTIF(AS44:AS51,\">0\")<=3,+AS43)+IF(+COUNTIF(AS43:AS51,\">0\")<=3,+AS42)+IF(+COUNTIF(AS42:AS51,\">0\")<=3,+AS41)+IF(+COUNTIF(AS41:AS51,\">0\")<=3,+AS41)+IF(+COUNTIF(AS41:AS51,\">0\")<4,\" \"))/4","v":{"$error":"#VALUE!"}},{"$f":"SUMMARY!DU132","v":""},{"$f":"+(IF(AV51>0,+AV51,0)+IF(AV50>0,+AV50,0)+IF(AV49>0,+AV49,0)+IF(AV48>0,+AV48,0)+IF(+COUNTIF(AV48:AV51,\">0\")<=3,+AV47)+IF(+COUNTIF(AV47:AV51,\">0\")<=3,+AV46)+IF(+COUNTIF(AV46:AV51,\">0\")<=3,+AV45)+IF(+COUNTIF(AV45:AV51,\">0\")<=3,+AV44)+IF(+COUNTIF(AV44:AV51,\">0\")<=3,+AV43)+IF(+COUNTIF(AV43:AV51,\">0\")<=3,+AV42)+IF(+COUNTIF(AV42:AV51,\">0\")<=3,+AV41)+IF(+COUNTIF(AV41:AV51,\">0\")<=3,+AV41)+IF(+COUNTIF(AV41:AV51,\">0\")<4,\" \"))/4","v":{"$error":"#VALUE!"}},null,0,{"$error":"#VALUE!"}]
[{"$f":"SUMMARY!DV7","v":342},{"$f":"SUMMARY!DV44","v":""},{"$error":"#VALUE!"},{"$f":"SUMMARY!DV47","v":""},{"$error":"#VALUE!"},{"$f":"SUMMARY!DV49","v":""},{"$error":"#DIV/0!"},{"$error":"#VALUE!"},{"$error":"#VALUE!"},{"$error":"#VALUE!"},{"$error":"#VALUE!"},{"$error":"#VALUE!"},{"$error":"#VALUE!"},{"$f":"SUMMARY!DV11","v":{"$error":"#VALUE!"}},342,null,342,{"$error":"#VALUE!"},{"$error":"#VALUE!"},{"$f":"SUMMARY!DV41","v":""},{"$error":"#VALUE!"},{"$error":"#VALUE!"},null,null,0,{"$f":"MDR!D53","v":""},0,null,342,1,2,-1,-2,-0.3,-0.6,{"$f":"Z52+AJ8","v":{"$error":"#VALUE!"}},{"$f":"Z52+AK8","v":{"$error":"#VALUE!"}},null,{"$error":"#VALUE!"},{"$error":"#VALUE!"},{"$error":"#VALUE!"},{"$f":"mndot_rounding_1(2+1.6*Grad!N52+0.6*Grad!AD52+0.3*Grad!AC52+0.14*Grad!AB52+0.08*Grad!AA52+0.04*Grad!L52+0.02*Grad!J52)","v":{"$error":"#VALUE!"}},{"$error":"#VALUE!"},{"$error":"#VALUE!"},{"$error":"#VALUE!"},{"$f":"SUMMARY!$DV$10","v":{"$error":"#VALUE!"}},{"$error":"#VALUE!"},{"$f":"SUMMARY!DW132","v":""},{"$error":"#VALUE!"},null,0,{"$error":"#VALUE!"}]
[{"$f":"SUMMARY!DX7","v":343},{"$f":"SUMMARY!DX44","v":""},{"$error":"#VALUE!"},{"$f":"SUMMARY!DX47","v":""},{"$error":"#VALUE!"},{"$f":"SUMMARY!DX49","v":""},{"$error":"#DIV/0!"},{"$error":"#VALUE!"},{"$error":"#VALUE!"},{"$error":"#VALUE!"},{"$error":"#VALUE!"},{"$error":"#VALUE!"},{"$error":"#VALUE!"},{"$f":"SUMMARY!DX11","v":{"$error":"#VALUE!"}},343,null,343,{"$error":"#VALUE!"},{"$error":"#VALUE!"},{"$f":"SUMMARY!DX41","v":""},{"$error":"#VALUE!"},{"$error":"#VALUE!"},null,null,0,{"$f":"MDR!D54","v":""},0,null,343,1,2,-1,-2,-0.3,-0.6,{"$f":"Z53+AJ8","v":{"$error":"#VALUE!"}},{"$f":"Z53+AK8","v":{"$error":"#VALUE!"}},null,{"$error":"#VALUE!"},{"$error":"#VALUE!"},{"$error":"#VALUE!"},{"$f":"mndot_rounding_1(2+1.6*Grad!N53+0.6*Grad!AD53+0.3*Grad!AC53+0.14*Grad!AB53+0.08*Grad!AA53+0.04*Grad!L53+0.02*Grad!J53)","v":{"$error":"#VALUE!"}},{"$error":"#VALUE!"},{"$error":"#VALUE!"},{"$error":"#VALUE!"},{"$f":"SUMMARY!$DX$10","v":{"$error":"#VALUE!"}},{"$error":"#VALUE!"},{"$f":"SUMMARY!DY132","v":""},{"$error":"#VALUE!"},null,0,{"$error":"#VALUE!"}]
[{"$f":"SUMMARY!DZ7","v":344},{"$f":"SUMMARY!DZ44","v":""},{"$error":"#VALUE!"},{"$f":"SUMMARY!DZ47","v":""},{"$error":"#VALUE!"},{"$f":"SUMMARY!DZ49","v":""},{"$error":"#DIV/0!"},{"$error":"#VALUE!"},{"$error":"#VALUE!"},{"$error":"#VALUE!"},{"$error":"#VALUE!"},{"$error":"#VALUE!"},{"$error":"#VALUE!"},{"$f":"SUMMARY!DZ11","v":{"$error":"#VALUE!"}},344,null,344,{"$error":"#VALUE!"},{"$error":"#VALUE!"},{"$f":"SUMMARY!DZ41","v":""},{"$error":"#VALUE!"},{"$error":"#VALUE!"},null,null,0,{"$f":"MDR!D55","v":""},0,null,344,1,2,-1,-2,-0.3,-0.6,{"$f":"Z54+AJ8","v":{"$error":"#VALUE!"}},{"$f":"Z54+AK8","v":{"$error":"#VALUE!"}},null,{"$error":"#VALUE!"},{"$error":"#VALUE!"},{"$error":"#VALUE!"},{"$f":"mndot_rounding_1(2+1.6*Grad!N54+0.6*Grad!AD54+0.3*Grad!AC54+0.14*Grad!AB54+0.08*Grad!AA54+0.04*Grad!L54+0.02*Grad!J54)","v":{"$error":"#VALUE!"}},{"$error":"#VALUE!"},{"$error":"#VALUE!"},{"$error":"#VALUE!"},{"$f":"SUMMARY!$DZ$10","v":{"$error":"#VALUE!"}},{"$error":"#VALUE!"},{"$f":"SUMMARY!EA132","v":""},{"$error":"#VALUE!"},null,0,{"$error":"#VALUE!"}]
[{"$f":"SUMMARY!EF7","v":345},{"$f":"SUMMARY!EF44","v":""},{"$error":"#VALUE!"},{"$f":"SUMMARY!EF47","v":""},{"$error":"#VALUE!"},{"$f":"SUMMARY!EF49","v":""},{"$error":"#DIV/0!"},{"$error":"#VALUE!"},{"$error":"#VALUE!"},{"$error":"#VALUE!"},{"$error":"#VALUE!"},{"$error":"#VALUE!"},{"$error":"#VALUE!"},{"$f":"SUMMARY!EF11","v":{"$error":"#VALUE!"}},345,null,345,{"$error":"#VALUE!"},{"$error":"#VALUE!"},{"$f":"SUMMARY!EF41","v":""},{"$error":"#VALUE!"},{"$error":"#VALUE!"},null,null,0,{"$f":"MDR!D56","v":""},0,null,345,1,2,-1,-2,-0.3,-0.6,{"$f":"Z55+AJ8","v":{"$error":"#VALUE!"}},{"$f":"Z55+AK8","v":{"$error":"#VALUE!"}},null,{"$error":"#VALUE!"},{"$error":"#VALUE!"},{"$error":"#VALUE!"},{"$f":"mndot_rounding_1(2+1.6*Grad!N55+0.6*Grad!AD55+0.3*Grad!AC55+0.14*Grad!AB55+0.08*Grad!AA55+0.04*Grad!L55+0.02*Grad!J55)","v":{"$error":"#VALUE!"}},{"$error":"#VALUE!"},{"$error":"#VALUE!"},{"$error":"#VALUE!"},{"$f":"SUMMARY!$EF$10","v":{"$error":"#VALUE!"}},{"$error":"#VALUE!"},{"$f":"SUMMARY!EG132","v":""},{"$error":"#VALUE!"},null,0,{"$error":"#VALUE!"}]
[{"$f":"SUMMARY!EH7","v":346},{"$f":"SUMMARY!EH44","v":""},{"$error":"#VALUE!"},{"$f":"SUMMARY!EH47","v":""},{"$error":"#VALUE!"},{"$f":"SUMMARY!EH49","v":""},{"$error":"#DIV/0!"},{"$error":"#VALUE!"},{"$error":"#VALUE!"},{"$error":"#VALUE!"},{"$error":"#VALUE!"},{"$error":"#VALUE!"},{"$error":"#VALUE!"},{"$f":"SUMMARY!EH11","v":{"$error":"#VALUE!"}},346,null,346,{"$error":"#VALUE!"},{"$error":"#VALUE!"},{"$f":"SUMMARY!EH41","v":""},{"$error":"#VALUE!"},{"$error":"#VALUE!"},null,null,0,{"$f":"MDR!D57","v":""},0,null,346,1,2,-1,-2,-0.3,-0.6,{"$f":"Z56+AJ8","v":{"$error":"#VALUE!"}},{"$f":"Z56+AK8","v":{"$error":"#VALUE!"}},null,{"$error":"#VALUE!"},{"$error":"#VALUE!"},{"$error":"#VALUE!"},{"$f":"mndot_rounding_1(2+1.6*Grad!N56+0.6*Grad!AD56+0.3*Grad!AC56+0.14*Grad!AB56+0.08*Grad!AA56+0.04*Grad!L56+0.02*Grad!J56)","v":{"$error":"#VALUE!"}},{"$error":"#VALUE!"},{"$error":"#VALUE!"},{"$error":"#VALUE!"},{"$f":"SUMMARY!$EH$10","v":{"$error":"#VALUE!"}},{"$error":"#VALUE!"},{"$f":"SUMMARY!EI132","v":""},{"$error":"#VALUE!"},null,0,{"$error":"#VALUE!"}]
[{"$f":"SUMMARY!EJ7","v":347},{"$f":"SUMMARY!EJ44","v":""},{"$error":"#VALUE!"},{"$f":"SUMMARY!EJ47","v":""},{"$error":"#VALUE!"},{"$f":"SUMMARY!EJ49","v":""},{"$error":"#DIV/0!"},{"$error":"#VALUE!"},{"$error":"#VALUE!"},{"$error":"#VALUE!"},{"$error":"#VALUE!"},{"$error":"#VALUE!"},{"$error":"#VALUE!"},{"$f":"SUMMARY!EJ11","v":{"$error":"#VALUE!"}},347,null,347,{"$error":"#VALUE!"},{"$error":"#VALUE!"},{"$f":"SUMMARY!EJ41","v":""},{"$error":"#VALUE!"},{"$error":"#VALUE!"},null,null,0,{"$f":"MDR!D58","v":""},0,null,347,1,2,-1,-2,-0.3,-0.6,{"$f":"Z57+AJ8","v":{"$error":"#VALUE!"}},{"$f":"Z57+AK8","v":{"$error":"#VALUE!"}},null,{"$error":"#VALUE!"},{"$error":"#VALUE!"},{"$error":"#VALUE!"},{"$f":"mndot_rounding_1(2+1.6*Grad!N57+0.6*Grad!AD57+0.3*Grad!AC57+0.14*Grad!AB57+0.08*Grad!AA57+0.04*Grad!L57+0.02*Grad!J57)","v":{"$error":"#VALUE!"}},{"$error":"#VALUE!"},{"$error":"#VALUE!"},{"$error":"#VALUE!"},{"$f":"SUMMARY!$EJ$10","v":{"$error":"#VALUE!"}},{"$error":"#VALUE!"},{"$f":"SUMMARY!EK132","v":""},{"$error":"#VALUE!"},null,0,{"$error":"#VALUE!"}]
[{"$f":"SUMMARY!EL7","v":348},{"$f":"SUMMARY!EL44","v":""},{"$error":"#VALUE!"},{"$f":"SUMMARY!EL47","v":""},{"$error":"#VALUE!"},{"$f":"SUMMARY!EL49","v":""},{"$error":"#DIV/0!"},{"$error":"#VALUE!"},{"$error":"#VALUE!"},{"$error":"#VALUE!"},{"$error":"#VALUE!"},{"$error":"#VALUE!"},{"$error":"#VALUE!"},{"$f":"SUMMARY!EL11","v":{"$error":"#VALUE!"}},348,null,348,{"$error":"#VALUE!"},{"$error":"#VALUE!"},{"$f":"SUMMARY!EL41","v":""},{"$error":"#VALUE!"},{"$error":"#VALUE!"},null,null,0,{"$f":"MDR!D59","v":""},0,null,348,1,2,-1,-2,-0.3,-0.6,{"$f":"Z58+AJ8","v":{"$error":"#VALUE!"}},{"$f":"Z58+AK8","v":{"$error":"#VALUE!"}},null,{"$error":"#VALUE!"},{"$error":"#VALUE!"},{"$error":"#VALUE!"},{"$f":"mndot_rounding_1(2+1.6*Grad!N58+0.6*Grad!AD58+0.3*Grad!AC58+0.14*Grad!AB58+0.08*Grad!AA58+0.04*Grad!L58+0.02*Grad!J58)","v":{"$error":"#VALUE!"}},{"$error":"#VALUE!"},{"$error":"#VALUE!"},{"$error":"#VALUE!"},{"$f":"SUMMARY!$EL$10","v":{"$error":"#VALUE!"}},{"$error":"#VALUE!"},{"$f":"SUMMARY!EM132","v":""},{"$error":"#VALUE!"},null,0,{"$error":"#VALUE!"}]
[{"$f":"SUMMARY!ER7","v":349},{"$f":"SUMMARY!ER44","v":""},{"$error":"#VALUE!"},{"$f":"SUMMARY!ER47","v":""},{"$error":"#VALUE!"},{"$f":"SUMMARY!ER49","v":""},{"$error":"#DIV/0!"},{"$error":"#VALUE!"},{"$error":"#VALUE!"},{"$error":"#VALUE!"},{"$error":"#VALUE!"},{"$error":"#VALUE!"},{"$error":"#VALUE!"},{"$f":"SUMMARY!ER11","v":{"$error":"#VALUE!"}},349,null,349,{"$error":"#VALUE!"},{"$error":"#VALUE!"},{"$f":"SUMMARY!ER41","v":""},{"$error":"#VALUE!"},{"$error":"#VALUE!"},null,null,0,{"$f":"MDR!D60","v":""},0,null,349,1,2,-1,-2,-0.3,-0.6,{"$f":"Z59+AJ8","v":{"$error":"#VALUE!"}},{"$f":"Z59+AK8","v":{"$error":"#VALUE!"}},null,{"$error":"#VALUE!"},{"$error":"#VALUE!"},{"$error":"#VALUE!"},{"$f":"mndot_rounding_1(2+1.6*Grad!N59+0.6*Grad!AD59+0.3*Grad!AC59+0.14*Grad!AB59+0.08*Grad!AA59+0.04*Grad!L59+0.02*Grad!J59)","v":{"$error":"#VALUE!"}},{"$error":"#VALUE!"},{"$error":"#VALUE!"},{"$error":"#VALUE!"},{"$f":"SUMMARY!$ER$10","v":{"$error":"#VALUE!"}},{"$error":"#VALUE!"},{"$f":"SUMMARY!ES132","v":""},{"$error":"#VALUE!"},null,0,{"$error":"#VALUE!"}]
[{"$f":"SUMMARY!ET7","v":350},{"$f":"SUMMARY!ET44","v":""},{"$error":"#VALUE!"},{"$f":"SUMMARY!ET47","v":""},{"$error":"#VALUE!"},{"$f":"SUMMARY!ET49","v":""},{"$error":"#DIV/0!"},{"$error":"#VALUE!"},{"$error":"#VALUE!"},{"$error":"#VALUE!"},{"$error":"#VALUE!"},{"$error":"#VALUE!"},{"$error":"#VALUE!"},{"$f":"SUMMARY!ET11","v":{"$error":"#VALUE!"}},350,null,350,{"$error":"#VALUE!"},{"$error":"#VALUE!"},{"$f":"SUMMARY!ET41","v":""},{"$error":"#VALUE!"},{"$error":"#VALUE!"},null,null,0,{"$f":"MDR!D61","v":""},0,null,350,1,2,-1,-2,-0.3,-0.6,{"$f":"Z60+AJ8","v":{"$error":"#VALUE!"}},{"$f":"Z60+AK8","v":{"$error":"#VALUE!"}},null,{"$error":"#VALUE!"},{"$error":"#VALUE!"},{"$error":"#VALUE!"},{"$f":"mndot_rounding_1(2+1.6*Grad!N60+0.6*Grad!AD60+0.3*Grad!AC60+0.14*Grad!AB60+0.08*Grad!AA60+0.04*Grad!L60+0.02*Grad!J60)","v":{"$error":"#VALUE!"}},{"$error":"#VALUE!"},{"$error":"#VALUE!"},{"$error":"#VALUE!"},{"$f":"SUMMARY!$ET$10","v":{"$error":"#VALUE!"}},{"$error":"#VALUE!"},{"$f":"SUMMARY!EU132","v":""},{"$error":"#VALUE!"},null,0,{"$error":"#VALUE!"}]
[{"$f":"SUMMARY!EV7","v":351},{"$f":"SUMMARY!EV44","v":""},{"$error":"#VALUE!"},{"$f":"SUMMARY!EV47","v":""},{"$error":"#VALUE!"},{"$f":"SUMMARY!EV49","v":""},{"$error":"#DIV/0!"},{"$error":"#VALUE!"},{"$error":"#VALUE!"},{"$error":"#VALUE!"},{"$error":"#VALUE!"},{"$error":"#VALUE!"},{"$error":"#VALUE!"},{"$f":"SUMMARY!EV11","v":{"$error":"#VALUE!"}},351,null,351,{"$error":"#VALUE!"},{"$error":"#VALUE!"},{"$f":"SUMMARY!EV41","v":""},{"$error":"#VALUE!"},{"$error":"#VALUE!"},null,null,0,{"$f":"MDR!D62","v":""},0,null,351,1,2,-1,-2,-0.3,-0.6,{"$f":"Z61+AJ8","v":{"$error":"#VALUE!"}},{"$f":"Z61+AK8","v":{"$error":"#VALUE!"}},null,{"$error":"#VALUE!"},{"$error":"#VALUE!"},{"$error":"#VALUE!"},{"$f":"mndot_rounding_1(2+1.6*Grad!N61+0.6*Grad!AD61+0.3*Grad!AC61+0.14*Grad!AB61+0.08*Grad!AA61+0.04*Grad!L61+0.02*Grad!J61)","v":{"$error":"#VALUE!"}},{"$error":"#VALUE!"},{"$error":"#VALUE!"},{"$error":"#VALUE!"},{"$f":"SUMMARY!$EV$10","v":{"$error":"#VALUE!"}},{"$error":"#VALUE!"},{"$f":"SUMMARY!EW132","v":""},{"$error":"#VALUE!"},null,0,{"$error":"#VALUE!"}]
[{"$f":"SUMMARY!EX7","v":352},{"$f":"SUMMARY!EX44","v":""},{"$error":"#VALUE!"},{"$f":"SUMMARY!EX47","v":""},{"$error":"#VALUE!"},{"$f":"SUMMARY!EX49","v":""},{"$error":"#DIV/0!"},{"$error":"#VALUE!"},{"$error":"#VALUE!"},{"$error":"#VALUE!"},{"$error":"#VALUE!"},{"$error":"#VALUE!"},{"$error":"#VALUE!"},{"$f":"SUMMARY!EX11","v":{"$error":"#VALUE!"}},352,null,352,{"$error":"#VALUE!"},{"$error":"#VALUE!"},{"$f":"SUMMARY!EX41","v":""},{"$error":"#VALUE!"},{"$error":"#VALUE!"},null,null,0,{"$f":"MDR!D63","v":""},0,null,352,1,2,-1,-2,-0.3,-0.6,{"$f":"Z62+AJ8","v":{"$error":"#VALUE!"}},{"$f":"Z62+AK8","v":{"$error":"#VALUE!"}},null,{"$error":"#VALUE!"},{"$error":"#VALUE!"},{"$error":"#VALUE!"},{"$f":"mndot_rounding_1(2+1.6*Grad!N62+0.6*Grad!AD62+0.3*Grad!AC62+0.14*Grad!AB62+0.08*Grad!AA62+0.04*Grad!L62+0.02*Grad!J62)","v":{"$error":"#VALUE!"}},{"$error":"#VALUE!"},{"$error":"#VALUE!"},{"$error":"#VALUE!"},{"$f":"SUMMARY!$EX$10","v":{"$error":"#VALUE!"}},{"$error":"#VALUE!"},{"$f":"SUMMARY!EY132","v":""},{"$error":"#VALUE!"},null,0,{"$error":"#VALUE!"}]
[{"$f":"SUMMARY!FD7","v":353},{"$f":"SUMMARY!FD44","v":""},{"$error":"#VALUE!"},{"$f":"SUMMARY!FD47","v":""},{"$error":"#VALUE!"},{"$f":"SUMMARY!FD49","v":""},{"$error":"#DIV/0!"},{"$error":"#VALUE!"},{"$error":"#VALUE!"},{"$error":"#VALUE!"},{"$error":"#VALUE!"},{"$error":"#VALUE!"},{"$error":"#VALUE!"},{"$f":"SUMMARY!FD11","v":{"$error":"#VALUE!"}},353,null,353,{"$error":"#VALUE!"},{"$error":"#VALUE!"},{"$f":"SUMMARY!FD41","v":""},{"$error":"#VALUE!"},{"$error":"#VALUE!"},null,null,0,{"$f":"MDR!D64","v":""},0,null,353,1,2,-1,-2,-0.3,-0.6,{"$f":"Z63+AJ8","v":{"$error":"#VALUE!"}},{"$f":"Z63+$AK$8","v":{"$error":"#VALUE!"}},null,{"$error":"#VALUE!"},{"$error":"#VALUE!"},{"$error":"#VALUE!"},{"$f":"mndot_rounding_1(2+1.6*Grad!N63+0.6*Grad!AD63+0.3*Grad!AC63+0.14*Grad!AB63+0.08*Grad!AA63+0.04*Grad!L63+0.02*Grad!J63)","v":{"$error":"#VALUE!"}},{"$error":"#VALUE!"},{"$error":"#VALUE!"},{"$error":"#VALUE!"},{"$f":"SUMMARY!$FD$10","v":{"$error":"#VALUE!"}},{"$error":"#VALUE!"},{"$f":"SUMMARY!FE132","v":""},{"$error":"#VALUE!"},null,0,{"$error":"#VALUE!"}]
[{"$f":"SUMMARY!FF7","v":354},{"$f":"SUMMARY!FF44","v":""},{"$error":"#VALUE!"},{"$f":"SUMMARY!FF47","v":""},{"$error":"#VALUE!"},{"$f":"SUMMARY!FF49","v":""},{"$error":"#DIV/0!"},{"$error":"#VALUE!"},{"$error":"#VALUE!"},{"$error":"#VALUE!"},{"$error":"#VALUE!"},{"$error":"#VALUE!"},{"$error":"#VALUE!"},{"$f":"SUMMARY!FF11","v":{"$error":"#VALUE!"}},354,null,354,{"$error":"#VALUE!"},{"$error":"#VALUE!"},{"$f":"SUMMARY!FF41","v":""},{"$error":"#VALUE!"},{"$error":"#VALUE!"},null,null,0,{"$f":"MDR!D65","v":""},0,null,354,1,2,-1,-2,-0.3,-0.6,{"$f":"Z64+AJ8","v":{"$error":"#VALUE!"}},{"$error":"#VALUE!"},null,{"$error":"#VALUE!"},{"$error":"#VALUE!"},{"$error":"#VALUE!"},{"$f":"mndot_rounding_1(2+1.6*Grad!N64+0.6*Grad!AD64+0.3*Grad!AC64+0.14*Grad!AB64+0.08*Grad!AA64+0.04*Grad!L64+0.02*Grad!J64)","v":{"$error":"#VALUE!"}},{"$error":"#VALUE!"},{"$error":"#VALUE!"},{"$error":"#VALUE!"},{"$f":"SUMMARY!$FF$10","v":{"$error":"#VALUE!"}},{"$error":"#VALUE!"},{"$f":"SUMMARY!FG132","v":""},{"$error":"#VALUE!"},null,0,{"$error":"#VALUE!"}]
[{"$f":"SUMMARY!FH7","v":355},{"$f":"SUMMARY!FH44","v":""},{"$error":"#VALUE!"},{"$f":"SUMMARY!FH47","v":""},{"$error":"#VALUE!"},{"$f":"SUMMARY!FH49","v":""},{"$error":"#DIV/0!"},{"$error":"#VALUE!"},{"$error":"#VALUE!"},{"$error":"#VALUE!"},{"$error":"#VALUE!"},{"$error":"#VALUE!"},{"$error":"#VALUE!"},{"$f":"SUMMARY!FH11","v":{"$error":"#VALUE!"}},355,null,355,{"$error":"#VALUE!"},{"$error":"#VALUE!"},{"$f":"SUMMARY!FH41","v":""},{"$error":"#VALUE!"},{"$error":"#VALUE!"},null,null,0,{"$f":"MDR!D66","v":""},0,null,355,1,2,-1,-2,-0.3,-0.6,{"$f":"Z65+AJ8","v":{"$error":"#VALUE!"}},{"$error":"#VALUE!"},null,{"$error":"#VALUE!"},{"$error":"#VALUE!"},{"$error":"#VALUE!"},{"$f":"mndot_rounding_1(2+1.6*Grad!N65+0.6*Grad!AD65+0.3*Grad!AC65+0.14*Grad!AB65+0.08*Grad!AA65+0.04*Grad!L65+0.02*Grad!J65)","v":{"$error":"#VALUE!"}},{"$error":"#VALUE!"},{"$error":"#VALUE!"},{"$error":"#VALUE!"},{"$f":"SUMMARY!$FH$10","v":{"$error":"#VALUE!"}},{"$error":"#VALUE!"},{"$f":"SUMMARY!FI132","v":""},{"$error":"#VALUE!"},null,0,{"$error":"#VALUE!"}]
[{"$f":"SUMMARY!FJ7","v":356},{"$f":"SUMMARY!FJ44","v":""},{"$error":"#VALUE!"},{"$f":"SUMMARY!FJ47","v":""},{"$error":"#VALUE!"},{"$f":"SUMMARY!FJ49","v":""},{"$error":"#DIV/0!"},{"$error":"#VALUE!"},{"$error":"#VALUE!"},{"$error":"#VALUE!"},{"$error":"#VALUE!"},{"$error":"#VALUE!"},{"$error":"#VALUE!"},{"$f":"SUMMARY!FJ11","v":{"$error":"#VALUE!"}},356,null,356,{"$error":"#VALUE!"},{"$error":"#VALUE!"},{"$f":"SUMMARY!FJ41","v":""},{"$error":"#VALUE!"},{"$error":"#VALUE!"},null,null,0,{"$f":"MDR!D67","v":""},0,null,356,1,2,-1,-2,-0.3,-0.6,{"$f":"Z66+AJ8","v":{"$error":"#VALUE!"}},{"$error":"#VALUE!"},null,{"$error":"#VALUE!"},{"$error":"#VALUE!"},{"$error":"#VALUE!"},{"$f":"mndot_rounding_1(2+1.6*Grad!N66+0.6*Grad!AD66+0.3*Grad!AC66+0.14*Grad!AB66+0.08*Grad!AA66+0.04*Grad!L66+0.02*Grad!J66)","v":{"$error":"#VALUE!"}},{"$error":"#VALUE!"},{"$error":"#VALUE!"},{"$error":"#VALUE!"},{"$f":"SUMMARY!$FJ$10","v":{"$error":"#VALUE!"}},{"$error":"#VALUE!"},{"$f":"SUMMARY!FK132","v":""},{"$error":"#VALUE!"},null,0,{"$error":"#VALUE!"}]
[{"$f":"SUMMARY!FP7","v":357},{"$f":"SUMMARY!FP44","v":""},{"$error":"#VALUE!"},{"$f":"SUMMARY!FP47","v":""},{"$error":"#VALUE!"},{"$f":"SUMMARY!FP49","v":""},{"$error":"#DIV/0!"},{"$error":"#VALUE!"},{"$error":"#VALUE!"},{"$error":"#VALUE!"},{"$error":"#VALUE!"},{"$error":"#VALUE!"},{"$error":"#VALUE!"},{"$f":"SUMMARY!FP11","v":{"$error":"#VALUE!"}},357,null,357,{"$error":"#VALUE!"},{"$error":"#VALUE!"},{"$f":"SUMMARY!FP41","v":""},{"$error":"#VALUE!"},{"$error":"#VALUE!"},null,null,0,{"$f":"MDR!D68","v":""},0,null,357,1,2,-1,-2,-0.3,-0.6,{"$f":"Z67+$AJ$8","v":{"$error":"#VALUE!"}},{"$error":"#VALUE!"},null,{"$error":"#VALUE!"},{"$error":"#VALUE!"},{"$error":"#VALUE!"},{"$f":"mndot_rounding_1(2+1.6*Grad!N67+0.6*Grad!AD67+0.3*Grad!AC67+0.14*Grad!AB67+0.08*Grad!AA67+0.04*Grad!L67+0.02*Grad!J67)","v":{"$error":"#VALUE!"}},{"$error":"#VALUE!"},{"$error":"#VALUE!"},{"$error":"#VALUE!"},{"$f":"SUMMARY!$FP$10","v":{"$error":"#VALUE!"}},{"$error":"#VALUE!"},{"$f":"SUMMARY!FQ132","v":""},{"$error":"#VALUE!"},null,0,{"$error":"#VALUE!"}]
[{"$f":"SUMMARY!FR7","v":358},{"$f":"SUMMARY!FR44","v":""},{"$error":"#VALUE!"},{"$f":"SUMMARY!FR47","v":""},{"$error":"#VALUE!"},{"$f":"SUMMARY!FR49","v":""},{"$error":"#DIV/0!"},{"$error":"#VALUE!"},{"$error":"#VALUE!"},{"$error":"#VALUE!"},{"$error":"#VALUE!"},{"$error":"#VALUE!"},{"$error":"#VALUE!"},{"$f":"SUMMARY!FR11","v":{"$error":"#VALUE!"}},358,null,358,{"$error":"#VALUE!"},{"$error":"#VALUE!"},{"$f":"SUMMARY!FR41","v":""},{"$error":"#VALUE!"},{"$error":"#VALUE!"},null,null,0,{"$f":"MDR!D69","v":""},0,null,358,1,2,-1,-2,-0.3,-0.6,{"$error":"#VALUE!"},{"$error":"#VALUE!"},null,{"$error":"#VALUE!"},{"$error":"#VALUE!"},{"$error":"#VALUE!"},{"$f":"mndot_rounding_1(2+1.6*Grad!N68+0.6*Grad!AD68+0.3*Grad!AC68+0.14*Grad!AB68+0.08*Grad!AA68+0.04*Grad!L68+0.02*Grad!J68)","v":{"$error":"#VALUE!"}},{"$error":"#VALUE!"},{"$error":"#VALUE!"},{"$error":"#VALUE!"},{"$f":"SUMMARY!$FR$10","v":{"$error":"#VALUE!"}},{"$error":"#VALUE!"},{"$f":"SUMMARY!FS132","v":""},{"$error":"#VALUE!"},null,0,{"$error":"#VALUE!"}]
[{"$f":"SUMMARY!FT7","v":359},{"$f":"SUMMARY!FT44","v":""},{"$error":"#VALUE!"},{"$f":"SUMMARY!FT47","v":""},{"$error":"#VALUE!"},{"$f":"SUMMARY!FT49","v":""},{"$error":"#DIV/0!"},{"$error":"#VALUE!"},{"$error":"#VALUE!"},{"$error":"#VALUE!"},{"$error":"#VALUE!"},{"$error":"#VALUE!"},{"$error":"#VALUE!"},{"$f":"SUMMARY!FT11","v":{"$error":"#VALUE!"}},359,null,359,{"$error":"#VALUE!"},{"$error":"#VALUE!"},{"$f":"SUMMARY!FT41","v":""},{"$error":"#VALUE!"},{"$error":"#VALUE!"},null,null,0,{"$f":"MDR!D70","v":""},0,null,359,1,2,-1,-2,-0.3,-0.6,{"$error":"#VALUE!"},{"$error":"#VALUE!"},null,{"$error":"#VALUE!"},{"$error":"#VALUE!"},{"$error":"#VALUE!"},{"$f":"mndot_rounding_1(2+1.6*Grad!N69+0.6*Grad!AD69+0.3*Grad!AC69+0.14*Grad!AB69+0.08*Grad!AA69+0.04*Grad!L69+0.02*Grad!J69)","v":{"$error":"#VALUE!"}},{"$error":"#VALUE!"},{"$error":"#VALUE!"},{"$error":"#VALUE!"},{"$f":"SUMMARY!$FT$10","v":{"$error":"#VALUE!"}},{"$error":"#VALUE!"},{"$f":"SUMMARY!FU132","v":""},{"$error":"#VALUE!"},null,0,{"$error":"#VALUE!"}]
[{"$f":"SUMMARY!FV7","v":360},{"$f":"SUMMARY!FV44","v":""},{"$error":"#VALUE!"},{"$f":"SUMMARY!FV47","v":""},{"$error":"#VALUE!"},{"$f":"SUMMARY!FV49","v":""},{"$error":"#DIV/0!"},{"$error":"#VALUE!"},{"$error":"#VALUE!"},{"$error":"#VALUE!"},{"$error":"#VALUE!"},{"$error":"#VALUE!"},{"$error":"#VALUE!"},{"$f":"SUMMARY!FV11","v":{"$error":"#VALUE!"}},360,null,360,{"$error":"#VALUE!"},{"$error":"#VALUE!"},{"$f":"SUMMARY!FV41","v":""},{"$error":"#VALUE!"},{"$error":"#VALUE!"},null,null,0,{"$f":"MDR!D71","v":""},0,null,360,1,2,-1,-2,-0.3,-0.6,{"$error":"#VALUE!"},{"$error":"#VALUE!"},null,{"$error":"#VALUE!"},{"$error":"#VALUE!"},{"$error":"#VALUE!"},{"$f":"mndot_rounding_1(2+1.6*Grad!N70+0.6*Grad!AD70+0.3*Grad!AC70+0.14*Grad!AB70+0.08*Grad!AA70+0.04*Grad!L70+0.02*Grad!J70)","v":{"$error":"#VALUE!"}},{"$error":"#VALUE!"},{"$error":"#VALUE!"},{"$error":"#VALUE!"},{"$f":"SUMMARY!$FV$10","v":{"$error":"#VALUE!"}},{"$error":"#VALUE!"},{"$f":"SUMMARY!FW132","v":""},{"$error":"#VALUE!"},null,0,{"$error":"#VALUE!"}]
[{"$f":"SUMMARY!GB7","v":361},{"$f":"SUMMARY!GB44","v":""},{"$error":"#VALUE!"},{"$f":"SUMMARY!GB47","v":""},{"$error":"#VALUE!"},{"$f":"SUMMARY!GB49","v":""},{"$error":"#DIV/0!"},{"$error":"#VALUE!"},{"$error":"#VALUE!"},{"$f":"mndot_rounding_1(((D71-F71)/D71*100))","v":{"$error":"#VALUE!"}},{"$error":"#VALUE!"},{"$f":"mndot_rounding_1(100-(F71*(100-B71)/N71))","v":{"$error":"#VALUE!"}},{"$error":"#VALUE!"},{"$f":"SUMMARY!GB11","v":{"$error":"#VALUE!"}},361,null,361,{"$f":"(100-B71)/((100/D71)-(B71/$K$5))","v":{"$error":"#VALUE!"}},{"$f":"B71-((R71-N71)/(R71*N71)*$K$5*(100-B71))","v":{"$error":"#VALUE!"}},{"$f":"SUMMARY!GB41","v":""},{"$error":"#VALUE!"},{"$f":"B71-S71","v":{"$error":"#VALUE!"}},null,null,0,{"$f":"MDR!D72","v":""},0,null,361,1,2,-1,-2,-0.3,-0.6,{"$error":"#VALUE!"},{"$error":"#VALUE!"},null,{"$error":"#VALUE!"},{"$error":"#VALUE!"},{"$error":"#VALUE!"},{"$f":"mndot_rounding_1(2+1.6*Grad!N71+0.6*Grad!AD71+0.3*Grad!AC71+0.14*Grad!AB71+0.08*Grad!AA71+0.04*Grad!L71+0.02*Grad!J71)","v":{"$error":"#VALUE!"}},{"$error":"#VALUE!"},{"$error":"#VALUE!"},{"$error":"#VALUE!"},{"$f":"SUMMARY!$GB$10","v":{"$error":"#VALUE!"}},{"$error":"#VALUE!"},{"$f":"SUMMARY!GC132","v":""},{"$error":"#VALUE!"},null,0,{"$error":"#VALUE!"}]
[{"$f":"SUMMARY!GD7","v":362},{"$f":"SUMMARY!GD44","v":""},{"$error":"#VALUE!"},{"$f":"SUMMARY!GD47","v":""},{"$error":"#VALUE!"},{"$f":"SUMMARY!GD49","v":""},{"$error":"#DIV/0!"},{"$error":"#VALUE!"},{"$error":"#VALUE!"},{"$error":"#VALUE!"},{"$error":"#VALUE!"},{"$error":"#VALUE!"},{"$error":"#VALUE!"},{"$f":"SUMMARY!GD11","v":{"$error":"#VALUE!"}},362,null,362,{"$error":"#VALUE!"},{"$error":"#VALUE!"},{"$f":"SUMMARY!GD41","v":""},{"$error":"#VALUE!"},{"$error":"#VALUE!"},null,null,0,{"$f":"MDR!D73","v":""},0,null,362,1,2,-1,-2,-0.3,-0.6,{"$error":"#VALUE!"},{"$error":"#VALUE!"},null,{"$error":"#VALUE!"},{"$error":"#VALUE!"},{"$error":"#VALUE!"},{"$f":"mndot_rounding_1(2+1.6*Grad!N72+0.6*Grad!AD72+0.3*Grad!AC72+0.14*Grad!AB72+0.08*Grad!AA72+0.04*Grad!L72+0.02*Grad!J72)","v":{"$error":"#VALUE!"}},{"$error":"#VALUE!"},{"$error":"#VALUE!"},{"$error":"#VALUE!"},{"$f":"SUMMARY!$GD$10","v":{"$error":"#VALUE!"}},{"$error":"#VALUE!"},{"$f":"SUMMARY!GE132","v":""},{"$error":"#VALUE!"},null,0,{"$error":"#VALUE!"}]
[{"$f":"SUMMARY!GF7","v":363},{"$f":"SUMMARY!GF44","v":""},{"$error":"#VALUE!"},{"$f":"SUMMARY!GF47","v":""},{"$error":"#VALUE!"},{"$f":"SUMMARY!GF49","v":""},{"$error":"#DIV/0!"},{"$error":"#VALUE!"},{"$error":"#VALUE!"},{"$error":"#VALUE!"},{"$error":"#VALUE!"},{"$error":"#VALUE!"},{"$error":"#VALUE!"},{"$f":"SUMMARY!GF11","v":{"$error":"#VALUE!"}},363,null,363,{"$error":"#VALUE!"},{"$error":"#VALUE!"},{"$f":"SUMMARY!GF41","v":""},{"$error":"#VALUE!"},{"$error":"#VALUE!"},null,null,0,{"$f":"MDR!D74","v":""},0,null,363,1,2,-1,-2,-0.3,-0.6,{"$error":"#VALUE!"},{"$error":"#VALUE!"},null,{"$error":"#VALUE!"},{"$error":"#VALUE!"},{"$error":"#VALUE!"},{"$f":"mndot_rounding_1(2+1.6*Grad!N73+0.6*Grad!AD73+0.3*Grad!AC73+0.14*Grad!AB73+0.08*Grad!AA73+0.04*Grad!L73+0.02*Grad!J73)","v":{"$error":"#VALUE!"}},{"$error":"#VALUE!"},{"$error":"#VALUE!"},{"$error":"#VALUE!"},{"$f":"SUMMARY!$GF$10","v":{"$error":"#VALUE!"}},{"$error":"#VALUE!"},{"$f":"SUMMARY!GG132","v":""},{"$error":"#VALUE!"},null,0,{"$error":"#VALUE!"}]
[{"$f":"SUMMARY!GH7","v":364},{"$f":"SUMMARY!GH44","v":""},{"$error":"#VALUE!"},{"$f":"SUMMARY!GH47","v":""},{"$error":"#VALUE!"},{"$f":"SUMMARY!GH49","v":""},{"$error":"#DIV/0!"},{"$error":"#VALUE!"},{"$error":"#VALUE!"},{"$error":"#VALUE!"},{"$error":"#VALUE!"},{"$error":"#VALUE!"},{"$error":"#VALUE!"},{"$f":"SUMMARY!GH11","v":{"$error":"#VALUE!"}},364,null,364,{"$error":"#VALUE!"},{"$error":"#VALUE!"},{"$f":"SUMMARY!GH41","v":""},{"$error":"#VALUE!"},{"$error":"#VALUE!"},null,null,0,{"$f":"MDR!D75","v":""},0,null,364,1,2,-1,-2,-0.3,-0.6,{"$error":"#VALUE!"},{"$error":"#VALUE!"},null,{"$error":"#VALUE!"},{"$error":"#VALUE!"},{"$error":"#VALUE!"},{"$f":"mndot_rounding_1(2+1.6*Grad!N74+0.6*Grad!AD74+0.3*Grad!AC74+0.14*Grad!AB74+0.08*Grad!AA74+0.04*Grad!L74+0.02*Grad!J74)","v":{"$error":"#VALUE!"}},{"$error":"#VALUE!"},{"$error":"#VALUE!"},{"$error":"#VALUE!"},{"$f":"SUMMARY!$GH$10","v":{"$error":"#VALUE!"}},{"$error":"#VALUE!"},{"$f":"SUMMARY!GI132","v":""},{"$error":"#VALUE!"},null,0,{"$error":"#VALUE!"}]
[{"$f":"SUMMARY!GN7","v":365},{"$f":"SUMMARY!GN44","v":""},{"$error":"#VALUE!"},{"$f":"SUMMARY!GN47","v":""},{"$error":"#VALUE!"},{"$f":"SUMMARY!GN49","v":""},{"$error":"#DIV/0!"},{"$error":"#VALUE!"},{"$error":"#VALUE!"},{"$error":"#VALUE!"},{"$error":"#VALUE!"},{"$error":"#VALUE!"},{"$error":"#VALUE!"},{"$f":"SUMMARY!GN11","v":{"$error":"#VALUE!"}},365,null,365,{"$error":"#VALUE!"},{"$error":"#VALUE!"},{"$f":"SUMMARY!GN41","v":""},{"$f":"mndot_rounding_1(T75/S75)","v":{"$error":"#VALUE!"}},{"$error":"#VALUE!"},null,null,0,{"$f":"MDR!D76","v":""},{"$f":"$M$5","v":0},null,365,1,2,-1,-2,-0.3,-0.6,{"$error":"#VALUE!"},{"$error":"#VALUE!"},null,{"$error":"#VALUE!"},{"$error":"#VALUE!"},{"$error":"#VALUE!"},{"$f":"mndot_rounding_1(2+1.6*Grad!N75+0.6*Grad!AD75+0.3*Grad!AC75+0.14*Grad!AB75+0.08*Grad!AA75+0.04*Grad!L75+0.02*Grad!J75)","v":{"$error":"#VALUE!"}},{"$error":"#VALUE!"},{"$error":"#VALUE!"},{"$error":"#VALUE!"},{"$f":"SUMMARY!$GN$10","v":{"$error":"#VALUE!"}},{"$error":"#VALUE!"},{"$f":"SUMMARY!GO132","v":""},{"$error":"#VALUE!"},null,0,{"$f":"mndot_rounding_1(AQ75 + 0.06*(AR75-28))","v":{"$error":"#VALUE!"}}]
[{"$f":"SUMMARY!GP7","v":366},{"$f":"SUMMARY!GP44","v":""},{"$error":"#VALUE!"},{"$f":"SUMMARY!GP47","v":""},{"$error":"#VALUE!"},{"$f":"SUMMARY!GP49","v":""},{"$error":"#DIV/0!"},{"$error":"#VALUE!"},{"$error":"#VALUE!"},{"$error":"#VALUE!"},{"$error":"#VALUE!"},{"$error":"#VALUE!"},{"$error":"#VALUE!"},{"$f":"SUMMARY!GP11","v":{"$error":"#VALUE!"}},{"$f":"O75+1","v":366},null,{"$f":"Q75+1","v":366},{"$error":"#VALUE!"},{"$error":"#VALUE!"},{"$f":"SUMMARY!GP41","v":""},{"$error":"#VALUE!"},{"$error":"#VALUE!"},null,null,0,{"$f":"MDR!D77","v":""},0,null,366,1,2,-1,-2,-0.3,-0.6,{"$error":"#VALUE!"},{"$error":"#VALUE!"},null,{"$f":"+mndot_rounding_3((100-B76)/((100/D76)-(B76/$K$5)))","v":{"$error":"#VALUE!"}},{"$f":"+mndot_rounding_1(B76-((AM76-N76)*$K$5)*(100-B76)/(N76*AM76))","v":{"$error":"#VALUE!"}},{"$f":"+mndot_rounding_1((AN76*100)/(100-B76))","v":{"$error":"#VALUE!"}},{"$f":"mndot_rounding_1(2+1.6*Grad!N76+0.6*Grad!AD76+0.3*Grad!AC76+0.14*Grad!AB76+0.08*Grad!AA76+0.04*Grad!L76+0.02*Grad!J76)","v":{"$error":"#VALUE!"}},{"$f":"+mndot_rounding_1((AN76*4870)/((100-B76)*AR76))","v":{"$error":"#VALUE!"}},{"$f":"IF(AT76<2.58,mndot_rounding_1(AP76*(2.65/AT76)),(IF(AT76>2.7,mndot_rounding_1(AP76*(2.65/AT76)),AP76)))","v":{"$error":"#VALUE!"}},{"$f":"IF(AY76>0.1,AY76,AZ76)","v":{"$error":"#VALUE!"}},{"$f":"SUMMARY!$GP$10","v":{"$error":"#VALUE!"}},{"$error":"#VALUE!"},{"$f":"SUMMARY!GQ132","v":""},{"$error":"#VALUE!"},null,0,{"$error":"#VALUE!"}]
[{"$f":"SUMMARY!GR7","v":367},{"$f":"SUMMARY!GR44","v":""},{"$error":"#VALUE!"},{"$f":"SUMMARY!GR47","v":""},{"$error":"#VALUE!"},{"$f":"SUMMARY!GR49","v":""},{"$error":"#DIV/0!"},{"$error":"#VALUE!"},{"$error":"#VALUE!"},{"$error":"#VALUE!"},{"$error":"#VALUE!"},{"$error":"#VALUE!"},{"$error":"#VALUE!"},{"$f":"SUMMARY!GR11","v":{"$error":"#VALUE!"}},367,null,367,{"$error":"#VALUE!"},{"$error":"#VALUE!"},{"$f":"SUMMARY!GR41","v":""},{"$error":"#VALUE!"},{"$error":"#VALUE!"},null,null,0,{"$f":"MDR!D78","v":""},0,null,367,1,2,-1,-2,-0.3,-0.6,{"$error":"#VALUE!"},{"$error":"#VALUE!"},null,{"$error":"#VALUE!"},{"$error":"#VALUE!"},{"$error":"#VALUE!"},{"$f":"mndot_rounding_1(2+1.6*Grad!N77+0.6*Grad!AD77+0.3*Grad!AC77+0.14*Grad!AB77+0.08*Grad!AA77+0.04*Grad!L77+0.02*Grad!J77)","v":{"$error":"#VALUE!"}},{"$error":"#VALUE!"},{"$error":"#VALUE!"},{"$error":"#VALUE!"},{"$f":"SUMMARY!$GR$10","v":{"$error":"#VALUE!"}},{"$error":"#VALUE!"},{"$f":"SUMMARY!GS132","v":""},{"$error":"#VALUE!"},null,0,{"$error":"#VALUE!"}]
[{"$f":"SUMMARY!GT7","v":368},{"$f":"SUMMARY!GT44","v":""},{"$error":"#VALUE!"},{"$f":"SUMMARY!GT47","v":""},{"$error":"#VALUE!"},{"$f":"SUMMARY!GT49","v":""},{"$f":"ROUND(AVERAGE(F75:F78),3)","v":{"$error":"#DIV/0!"}},{"$error":"#VALUE!"},{"$error":"#VALUE!"},{"$error":"#VALUE!"},{"$error":"#VALUE!"},{"$error":"#VALUE!"},{"$error":"#VALUE!"},{"$f":"SUMMARY!GT11","v":{"$error":"#VALUE!"}},368,null,368,{"$error":"#VALUE!"},{"$error":"#VALUE!"},{"$f":"SUMMARY!GT41","v":""},{"$error":"#VALUE!"},{"$error":"#VALUE!"},null,null,0,{"$f":"MDR!D79","v":""},0,null,368,1,2,-1,-2,-0.3,-0.6,{"$error":"#VALUE!"},{"$error":"#VALUE!"},null,{"$error":"#VALUE!"},{"$error":"#VALUE!"},{"$error":"#VALUE!"},{"$f":"mndot_rounding_1(2+1.6*Grad!N78+0.6*Grad!AD78+0.3*Grad!AC78+0.14*Grad!AB78+0.08*Grad!AA78+0.04*Grad!L78+0.02*Grad!J78)","v":{"$error":"#VALUE!"}},{"$error":"#VALUE!"},{"$error":"#VALUE!"},{"$error":"#VALUE!"},{"$f":"SUMMARY!$GT$10","v":{"$error":"#VALUE!"}},{"$error":"#VALUE!"},{"$f":"SUMMARY!GU132","v":""},{"$error":"#VALUE!"},null,0,{"$error":"#VALUE!"}]
[{"$f":"SUMMARY!GZ7","v":369},{"$f":"SUMMARY!GZ44","v":""},{"$error":"#VALUE!"},{"$f":"SUMMARY!GZ47","v":""},{"$error":"#VALUE!"},{"$f":"SUMMARY!GZ49","v":""},{"$error":"#DIV/0!"},{"$error":"#VALUE!"},{"$error":"#VALUE!"},{"$error":"#VALUE!"},{"$error":"#VALUE!"},{"$error":"#VALUE!"},{"$error":"#VALUE!"},{"$f":"SUMMARY!GZ11","v":{"$error":"#VALUE!"}},369,null,369,{"$error":"#VALUE!"},{"$error":"#VALUE!"},{"$f":"SUMMARY!GZ41","v":""},{"$error":"#VALUE!"},{"$error":"#VALUE!"},null,null,0,{"$f":"MDR!D80","v":""},0,null,369,1,2,-1,-2,-0.3,-0.6,{"$error":"#VALUE!"},{"$error":"#VALUE!"},null,{"$error":"#VALUE!"},{"$error":"#VALUE!"},{"$error":"#VALUE!"},{"$f":"mndot_rounding_1(2+1.6*Grad!N79+0.6*Grad!AD79+0.3*Grad!AC79+0.14*Grad!AB79+0.08*Grad!AA79+0.04*Grad!L79+0.02*Grad!J79)","v":{"$error":"#VALUE!"}},{"$error":"#VALUE!"},{"$error":"#VALUE!"},{"$error":"#VALUE!"},{"$f":"SUMMARY!$GZ$10","v":{"$error":"#VALUE!"}},{"$error":"#VALUE!"},{"$f":"SUMMARY!HA132","v":""},{"$error":"#VALUE!"},null,0,{"$error":"#VALUE!"}]
[{"$f":"SUMMARY!HB7","v":370},{"$f":"SUMMARY!HB44","v":""},{"$error":"#VALUE!"},{"$f":"SUMMARY!HB47","v":""},{"$error":"#VALUE!"},{"$f":"SUMMARY!HB49","v":""},{"$error":"#DIV/0!"},{"$f":"mndot_rounding_1(((E80-F80)/E80*100))","v":{"$error":"#VALUE!"}},{"$error":"#VALUE!"},{"$error":"#VALUE!"},{"$f":"mndot_rounding_1(AVERAGE(J77:J80))","v":{"$error":"#VALUE!"}},{"$error":"#VALUE!"},{"$error":"#VALUE!"},{"$f":"SUMMARY!HB11","v":{"$error":"#VALUE!"}},370,null,370,{"$error":"#VALUE!"},{"$error":"#VALUE!"},{"$f":"SUMMARY!HB41","v":""},{"$error":"#VALUE!"},{"$error":"#VALUE!"},null,null,0,{"$f":"MDR!D81","v":""},0,null,370,1,2,-1,-2,-0.3,-0.6,{"$error":"#VALUE!"},{"$error":"#VALUE!"},null,{"$error":"#VALUE!"},{"$error":"#VALUE!"},{"$error":"#VALUE!"},{"$f":"mndot_rounding_1(2+1.6*Grad!N80+0.6*Grad!AD80+0.3*Grad!AC80+0.14*Grad!AB80+0.08*Grad!AA80+0.04*Grad!L80+0.02*Grad!J80)","v":{"$error":"#VALUE!"}},{"$error":"#VALUE!"},{"$error":"#VALUE!"},{"$error":"#VALUE!"},{"$f":"SUMMARY!$HB$10","v":{"$error":"#VALUE!"}},{"$error":"#VALUE!"},{"$f":"SUMMARY!HC132","v":""},{"$error":"#VALUE!"},null,0,{"$error":"#VALUE!"}]
[{"$f":"SUMMARY!HD7","v":371},{"$f":"SUMMARY!HD44","v":""},{"$error":"#VALUE!"},{"$f":"SUMMARY!HD47","v":""},{"$error":"#VALUE!"},{"$f":"SUMMARY!HD49","v":""},{"$error":"#DIV/0!"},{"$error":"#VALUE!"},{"$error":"#VALUE!"},{"$error":"#VALUE!"},{"$error":"#VALUE!"},{"$error":"#VALUE!"},{"$error":"#VALUE!"},{"$f":"SUMMARY!HD11","v":{"$error":"#VALUE!"}},371,null,371,{"$error":"#VALUE!"},{"$error":"#VALUE!"},{"$f":"SUMMARY!HD41","v":""},{"$error":"#VALUE!"},{"$error":"#VALUE!"},null,null,0,{"$f":"MDR!D82","v":""},0,null,371,1,2,-1,-2,-0.3,-0.6,{"$error":"#VALUE!"},{"$error":"#VALUE!"},null,{"$error":"#VALUE!"},{"$error":"#VALUE!"},{"$error":"#VALUE!"},{"$f":"mndot_rounding_1(2+1.6*Grad!N81+0.6*Grad!AD81+0.3*Grad!AC81+0.14*Grad!AB81+0.08*Grad!AA81+0.04*Grad!L81+0.02*Grad!J81)","v":{"$error":"#VALUE!"}},{"$error":"#VALUE!"},{"$error":"#VALUE!"},{"$error":"#VALUE!"},{"$f":"SUMMARY!$HD$10","v":{"$error":"#VALUE!"}},{"$error":"#VALUE!"},{"$f":"SUMMARY!HE132","v":""},{"$error":"#VALUE!"},null,0,{"$error":"#VALUE!"}]
[{"$f":"SUMMARY!HF7","v":372},{"$f":"SUMMARY!HF44","v":""},{"$error":"#VALUE!"},{"$f":"SUMMARY!HF47","v":""},{"$error":"#VALUE!"},{"$f":"SUMMARY!HF49","v":""},{"$error":"#DIV/0!"},{"$error":"#VALUE!"},{"$error":"#VALUE!"},{"$error":"#VALUE!"},{"$error":"#VALUE!"},{"$error":"#VALUE!"},{"$error":"#VALUE!"},{"$f":"SUMMARY!HF11","v":{"$error":"#VALUE!"}},372,null,372,{"$error":"#VALUE!"},{"$error":"#VALUE!"},{"$f":"SUMMARY!HF41","v":""},{"$error":"#VALUE!"},{"$error":"#VALUE!"},null,null,0,{"$f":"MDR!D83","v":""},0,null,372,1,2,-1,-2,-0.3,-0.6,{"$error":"#VALUE!"},{"$error":"#VALUE!"},null,{"$error":"#VALUE!"},{"$error":"#VALUE!"},{"$error":"#VALUE!"},{"$f":"mndot_rounding_1(2+1.6*Grad!N82+0.6*Grad!AD82+0.3*Grad!AC82+0.14*Grad!AB82+0.08*Grad!AA82+0.04*Grad!L82+0.02*Grad!J82)","v":{"$error":"#VALUE!"}},{"$error":"#VALUE!"},{"$error":"#VALUE!"},{"$error":"#VALUE!"},{"$f":"SUMMARY!$HF$10","v":{"$error":"#VALUE!"}},{"$error":"#VALUE!"},{"$f":"SUMMARY!HG132","v":""},{"$error":"#VALUE!"},null,0,{"$error":"#VALUE!"}]
[{"$f":"SUMMARY!HL7","v":373},{"$f":"SUMMARY!HL44","v":""},{"$error":"#VALUE!"},{"$f":"SUMMARY!HL47","v":""},{"$error":"#VALUE!"},{"$f":"SUMMARY!HL49","v":""},{"$error":"#DIV/0!"},{"$error":"#VALUE!"},{"$error":"#VALUE!"},{"$error":"#VALUE!"},{"$error":"#VALUE!"},{"$error":"#VALUE!"},{"$error":"#VALUE!"},{"$f":"SUMMARY!HL11","v":{"$error":"#VALUE!"}},373,null,373,{"$error":"#VALUE!"},{"$error":"#VALUE!"},{"$f":"SUMMARY!HL41","v":""},{"$error":"#VALUE!"},{"$error":"#VALUE!"},null,null,0,{"$f":"MDR!D84","v":""},0,null,373,1,2,-1,-2,-0.3,-0.6,{"$error":"#VALUE!"},{"$error":"#VALUE!"},null,{"$error":"#VALUE!"},{"$error":"#VALUE!"},{"$error":"#VALUE!"},{"$f":"mndot_rounding_1(2+1.6*Grad!N83+0.6*Grad!AD83+0.3*Grad!AC83+0.14*Grad!AB83+0.08*Grad!AA83+0.04*Grad!L83+0.02*Grad!J83)","v":{"$error":"#VALUE!"}},{"$error":"#VALUE!"},{"$error":"#VALUE!"},{"$error":"#VALUE!"},{"$f":"SUMMARY!$HL$10","v":{"$error":"#VALUE!"}},{"$error":"#VALUE!"},{"$f":"SUMMARY!HM132","v":""},{"$error":"#VALUE!"},null,0,{"$error":"#VALUE!"}]
[{"$f":"SUMMARY!HN7","v":374},{"$f":"SUMMARY!HN44","v":""},{"$error":"#VALUE!"},{"$f":"SUMMARY!HN47","v":""},{"$error":"#VALUE!"},{"$f":"SUMMARY!HN49","v":""},{"$error":"#DIV/0!"},{"$error":"#VALUE!"},{"$error":"#VALUE!"},{"$error":"#VALUE!"},{"$error":"#VALUE!"},{"$error":"#VALUE!"},{"$error":"#VALUE!"},{"$f":"SUMMARY!HN11","v":{"$error":"#VALUE!"}},374,null,374,{"$error":"#VALUE!"},{"$error":"#VALUE!"},{"$f":"SUMMARY!HN41","v":""},{"$error":"#VALUE!"},{"$error":"#VALUE!"},null,null,0,{"$f":"MDR!D85","v":""},0,null,374,1,2,-1,-2,-0.3,-0.6,{"$error":"#VALUE!"},{"$error":"#VALUE!"},null,{"$error":"#VALUE!"},{"$error":"#VALUE!"},{"$error":"#VALUE!"},{"$f":"mndot_rounding_1(2+1.6*Grad!N84+0.6*Grad!AD84+0.3*Grad!AC84+0.14*Grad!AB84+0.08*Grad!AA84+0.04*Grad!L84+0.02*Grad!J84)","v":{"$error":"#VALUE!"}},{"$error":"#VALUE!"},{"$error":"#VALUE!"},{"$error":"#VALUE!"},{"$f":"SUMMARY!$HN$10","v":{"$error":"#VALUE!"}},{"$error":"#VALUE!"},{"$f":"SUMMARY!HO132","v":""},{"$error":"#VALUE!"},null,0,{"$error":"#VALUE!"}]
[{"$f":"SUMMARY!HP7","v":375},{"$f":"SUMMARY!HP44","v":""},{"$error":"#VALUE!"},{"$f":"SUMMARY!HP47","v":""},{"$error":"#VALUE!"},{"$f":"SUMMARY!HP49","v":""},{"$error":"#DIV/0!"},{"$error":"#VALUE!"},{"$error":"#VALUE!"},{"$error":"#VALUE!"},{"$error":"#VALUE!"},{"$error":"#VALUE!"},{"$error":"#VALUE!"},{"$f":"SUMMARY!HP11","v":{"$error":"#VALUE!"}},375,null,375,{"$error":"#VALUE!"},{"$error":"#VALUE!"},{"$f":"SUMMARY!HP41","v":""},{"$error":"#VALUE!"},{"$error":"#VALUE!"},null,null,0,{"$f":"MDR!D86","v":""},0,null,375,1,2,-1,-2,-0.3,-0.6,{"$error":"#VALUE!"},{"$error":"#VALUE!"},null,{"$error":"#VALUE!"},{"$error":"#VALUE!"},{"$error":"#VALUE!"},{"$f":"mndot_rounding_1(2+1.6*Grad!N85+0.6*Grad!AD85+0.3*Grad!AC85+0.14*Grad!AB85+0.08*Grad!AA85+0.04*Grad!L85+0.02*Grad!J85)","v":{"$error":"#VALUE!"}},{"$error":"#VALUE!"},{"$error":"#VALUE!"},{"$error":"#VALUE!"},{"$f":"SUMMARY!$HP$10","v":{"$error":"#VALUE!"}},{"$error":"#VALUE!"},{"$f":"SUMMARY!HQ132","v":""},{"$error":"#VALUE!"},null,0,{"$error":"#VALUE!"}]
[{"$f":"SUMMARY!HR7","v":376},{"$f":"SUMMARY!HR44","v":""},{"$f":"+IF(B86=0,\"\",(IF(B86>0,+B86,0)+IF(B85>0,+B85,0)+IF(B84>0,+B84,0)+IF(B83>0,+B83,0)+IF(+COUNTIF(B83:B86,\">0\")<=3,+B82)+IF(+COUNTIF(B82:B86,\">0\")<=3,+B81)+IF(+COUNTIF(B81:B86,\">0\")<=3,+B80)+IF(+COUNTIF(B80:B86,\">0\")<=3,+B79)+IF(+COUNTIF(B79:B86,\">0\")<=3,+B78)+IF(+COUNTIF(B78:B86,\">0\")<=3,+B77)+IF(+COUNTIF(B77:B86,\">0\")<=3,+B76)+IF(+COUNTIF(B76:B86,\">0\")<=3,+B75)+IF(+COUNTIF(B75:B86,\">0\")<4,\" \"))/4)","v":{"$error":"#VALUE!"}},{"$f":"SUMMARY!HR47","v":""},{"$error":"#VALUE!"},{"$f":"SUMMARY!HR49","v":""},{"$error":"#DIV/0!"},{"$error":"#VALUE!"},{"$f":"mndot_rounding_1(+IF(H86=0,\"\",(IF(H86>0,+H86,0)+IF(H85>0,+H85,0)+IF(H84>0,+H84,0)+IF(H83>0,+H83,0)+IF(+COUNTIF(H83:H86,\">0\")<=3,+H82)+IF(+COUNTIF(H82:H86,\">0\")<=3,+H81)+IF(+COUNTIF(H81:H86,\">0\")<=3,+H80)+IF(+COUNTIF(H80:H86,\">0\")<=3,+H79)+IF(+COUNTIF(H79:H86,\">0\")<=3,+H78)+IF(+COUNTIF(H78:H86,\">0\")<=3,+H77)+IF(+COUNTIF(H77:H86,\">0\")<=3,+H76)+IF(+COUNTIF(H76:H86,\">0\")<=3,+H75)+IF(+COUNTIF(H75:H86,\">0\")<4,\" \"))/4))","v":{"$error":"#VALUE!"}},{"$error":"#VALUE!"},{"$error":"#VALUE!"},{"$error":"#VALUE!"},{"$f":"mndot_rounding_1(+IF(L86=0,\"\",(IF(L86>0,+L86,0)+IF(L85>0,+L85,0)+IF(L84>0,+L84,0)+IF(L83>0,+L83,0)+IF(+COUNTIF(L83:L86,\">0\")<=3,+L82)+IF(+COUNTIF(L82:L86,\">0\")<=3,+L81)+IF(+COUNTIF(L81:L86,\">0\")<=3,+L80)+IF(+COUNTIF(L80:L86,\">0\")<=3,+L79)+IF(+COUNTIF(L79:L86,\">0\")<=3,+L78)+IF(+COUNTIF(L78:L86,\">0\")<=3,+L77)+IF(+COUNTIF(L77:L86,\">0\")<=3,+L76)+IF(+COUNTIF(L76:L86,\">0\")<=3,+L75)+IF(+COUNTIF(L75:L86,\">0\")<4,\" \"))/4))","v":{"$error":"#VALUE!"}},{"$f":"SUMMARY!HR11","v":{"$error":"#VALUE!"}},376,null,376,{"$error":"#VALUE!"},{"$error":"#VALUE!"},{"$f":"SUMMARY!HR41","v":""},{"$error":"#VALUE!"},{"$error":"#VALUE!"},null,null,0,{"$f":"MDR!D87","v":""},0,null,376,1,2,-1,-2,-0.3,-0.6,{"$error":"#VALUE!"},{"$error":"#VALUE!"},null,{"$error":"#VALUE!"},{"$error":"#VALUE!"},{"$error":"#VALUE!"},{"$f":"mndot_rounding_1(2+1.6*Grad!N86+0.6*Grad!AD86+0.3*Grad!AC86+0.14*Grad!AB86+0.08*Grad!AA86+0.04*Grad!L86+0.02*Grad!J86)","v":{"$error":"#VALUE!"}},{"$error":"#VALUE!"},{"$error":"#VALUE!"},{"$error":"#VALUE!"},{"$f":"SUMMARY!$HR$10","v":{"$error":"#VALUE!"}},{"$error":"#VALUE!"},{"$f":"SUMMARY!HS132","v":""},{"$f":"+(IF(AV86>0,+AV86,0)+IF(AV85>0,+AV85,0)+IF(AV84>0,+AV84,0)+IF(AV83>0,+AV83,0)+IF(+COUNTIF(AV83:AV86,\">0\")<=3,+AV82)+IF(+COUNTIF(AV82:AV86,\">0\")<=3,+AV81)+IF(+COUNTIF(AV81:AV86,\">0\")<=3,+AV80)+IF(+COUNTIF(AV80:AV86,\">0\")<=3,+AV79)+IF(+COUNTIF(AV79:AV86,\">0\")<=3,+AV78)+IF(+COUNTIF(AV78:AV86,\">0\")<=3,+AV77)+IF(+COUNTIF(AV77:AV86,\">0\")<=3,+AV76)+IF(+COUNTIF(AV76:AV86,\">0\")<=3,+AV75)+IF(+COUNTIF(AV75:AV86,\">0\")<4,\" \"))/4","v":{"$error":"#VALUE!"}},null,0,{"$error":"#VALUE!"}]
[{"$f":"SUMMARY!HX7","v":377},{"$f":"SUMMARY!HX44","v":""},{"$error":"#VALUE!"},{"$f":"SUMMARY!HX47","v":""},{"$error":"#VALUE!"},{"$f":"SUMMARY!HX49","v":""},{"$error":"#DIV/0!"},{"$error":"#VALUE!"},{"$error":"#VALUE!"},{"$error":"#VALUE!"},{"$error":"#VALUE!"},{"$error":"#VALUE!"},{"$error":"#VALUE!"},{"$f":"SUMMARY!HX11","v":{"$error":"#VALUE!"}},377,null,377,{"$error":"#VALUE!"},{"$error":"#VALUE!"},{"$f":"SUMMARY!HX41","v":""},{"$error":"#VALUE!"},{"$error":"#VALUE!"},null,null,0,{"$f":"MDR!D88","v":""},0,null,377,1,2,-1,-2,-0.3,-0.6,{"$error":"#VALUE!"},{"$error":"#VALUE!"},null,{"$error":"#VALUE!"},{"$error":"#VALUE!"},{"$error":"#VALUE!"},{"$f":"mndot_rounding_1(2+1.6*Grad!N87+0.6*Grad!AD87+0.3*Grad!AC87+0.14*Grad!AB87+0.08*Grad!AA87+0.04*Grad!L87+0.02*Grad!J87)","v":{"$error":"#VALUE!"}},{"$error":"#VALUE!"},{"$error":"#VALUE!"},{"$error":"#VALUE!"},{"$f":"SUMMARY!$HX$10","v":{"$error":"#VALUE!"}},{"$f":"+(IF(AS87>0,+AS87,0)+IF(AS86>0,+AS86,0)+IF(AS85>0,+AS85,0)+IF(AS84>0,+AS84,0)+IF(+COUNTIF(AS84:AS87,\">0\")<=3,+AS83)+IF(+COUNTIF(AS83:AS87,\">0\")<=3,+AS82)+IF(+COUNTIF(AS82:AS87,\">0\")<=3,+AS81)+IF(+COUNTIF(AS81:AS87,\">0\")<=3,+AS80)+IF(+COUNTIF(AS80:AS87,\">0\")<=3,+AS79)+IF(+COUNTIF(AS79:AS87,\">0\")<=3,+AS78)+IF(+COUNTIF(AS78:AS87,\">0\")<=3,+AS77)+IF(+COUNTIF(AS77:AS87,\">0\")<=3,+AS76)+IF(+COUNTIF(AS76:AS87,\">0\")<4,\" \"))/4","v":{"$error":"#VALUE!"}},{"$f":"SUMMARY!HY132","v":""},{"$error":"#VALUE!"},null,0,{"$error":"#VALUE!"}]
[{"$f":"SUMMARY!HZ7","v":378},{"$f":"SUMMARY!HZ44","v":""},{"$error":"#VALUE!"},{"$f":"SUMMARY!HZ47","v":""},{"$error":"#VALUE!"},{"$f":"SUMMARY!HZ49","v":""},{"$error":"#DIV/0!"},{"$error":"#VALUE!"},{"$error":"#VALUE!"},{"$error":"#VALUE!"},{"$error":"#VALUE!"},{"$error":"#VALUE!"},{"$error":"#VALUE!"},{"$f":"SUMMARY!HZ11","v":{"$error":"#VALUE!"}},378,null,378,{"$error":"#VALUE!"},{"$error":"#VALUE!"},{"$f":"SUMMARY!HZ41","v":""},{"$error":"#VALUE!"},{"$error":"#VALUE!"},null,null,0,{"$f":"MDR!D89","v":""},0,null,378,1,2,-1,-2,-0.3,-0.6,{"$error":"#VALUE!"},{"$error":"#VALUE!"},null,{"$error":"#VALUE!"},{"$error":"#VALUE!"},{"$error":"#VALUE!"},{"$f":"mndot_rounding_1(2+1.6*Grad!N88+0.6*Grad!AD88+0.3*Grad!AC88+0.14*Grad!AB88+0.08*Grad!AA88+0.04*Grad!L88+0.02*Grad!J88)","v":{"$error":"#VALUE!"}},{"$error":"#VALUE!"},{"$error":"#VALUE!"},{"$error":"#VALUE!"},{"$f":"SUMMARY!$HZ$10","v":{"$error":"#VALUE!"}},{"$error":"#VALUE!"},{"$f":"SUMMARY!IA132","v":""},{"$error":"#VALUE!"},null,0,{"$error":"#VALUE!"}]
[{"$f":"SUMMARY!IB7","v":379},{"$f":"SUMMARY!IB44","v":""},{"$error":"#VALUE!"},{"$f":"SUMMARY!IB47","v":""},{"$error":"#VALUE!"},{"$f":"SUMMARY!IB49","v":""},{"$error":"#DIV/0!"},{"$error":"#VALUE!"},{"$error":"#VALUE!"},{"$error":"#VALUE!"},{"$error":"#VALUE!"},{"$error":"#VALUE!"},{"$error":"#VALUE!"},{"$f":"SUMMARY!IB11","v":{"$error":"#VALUE!"}},379,null,379,{"$error":"#VALUE!"},{"$error":"#VALUE!"},{"$f":"SUMMARY!IB41","v":""},{"$error":"#VALUE!"},{"$error":"#VALUE!"},null,null,0,{"$f":"MDR!D90","v":""},0,null,379,1,2,-1,-2,-0.3,-0.6,{"$error":"#VALUE!"},{"$error":"#VALUE!"},null,{"$error":"#VALUE!"},{"$error":"#VALUE!"},{"$error":"#VALUE!"},{"$f":"mndot_rounding_1(2+1.6*Grad!N89+0.6*Grad!AD89+0.3*Grad!AC89+0.14*Grad!AB89+0.08*Grad!AA89+0.04*Grad!L89+0.02*Grad!J89)","v":{"$error":"#VALUE!"}},{"$error":"#VALUE!"},{"$error":"#VALUE!"},{"$error":"#VALUE!"},{"$f":"SUMMARY!$IB$10","v":{"$error":"#VALUE!"}},{"$error":"#VALUE!"},{"$f":"SUMMARY!IC132","v":""},{"$error":"#VALUE!"},null,0,{"$error":"#VALUE!"}]
[{"$f":"SUMMARY!ID7","v":380},{"$f":"SUMMARY!ID44","v":""},{"$error":"#VALUE!"},{"$f":"SUMMARY!ID47","v":""},{"$f":"mndot_rounding_3(+IF(D90=0,\"\",(IF(D90>0,+D90,0)+IF(D89>0,+D89,0)+IF(D88>0,+D88,0)+IF(D87>0,+D87,0)+IF(+COUNTIF(D87:D90,\">0\")<=3,+D86)+IF(+COUNTIF(D86:D90,\">0\")<=3,+D85)+IF(+COUNTIF(D85:D90,\">0\")<=3,+D84)+IF(+COUNTIF(D84:D90,\">0\")<=3,+D83)+IF(+COUNTIF(D83:D90,\">0\")<=3,+D82)+IF(+COUNTIF(D82:D90,\">0\")<=3,+D81)+IF(+COUNTIF(D81:D90,\">0\")<=3,+D80)+IF(+COUNTIF(D80:D90,\">0\")<=3,+D79)+IF(+COUNTIF(D79:D90,\">0\")<4,\" \"))/4))","v":{"$error":"#VALUE!"}},{"$f":"SUMMARY!ID49","v":""},{"$error":"#DIV/0!"},{"$error":"#VALUE!"},{"$error":"#VALUE!"},{"$error":"#VALUE!"},{"$error":"#VALUE!"},{"$error":"#VALUE!"},{"$error":"#VALUE!"},{"$f":"SUMMARY!ID11","v":{"$error":"#VALUE!"}},380,null,380,{"$error":"#VALUE!"},{"$error":"#VALUE!"},{"$f":"SUMMARY!ID41","v":""},{"$error":"#VALUE!"},{"$error":"#VALUE!"},null,null,0,{"$f":"MDR!D91","v":""},0,null,380,1,2,-1,-2,-0.3,-0.6,{"$error":"#VALUE!"},{"$error":"#VALUE!"},null,{"$error":"#VALUE!"},{"$error":"#VALUE!"},{"$error":"#VALUE!"},{"$f":"mndot_rounding_1(2+1.6*Grad!N90+0.6*Grad!AD90+0.3*Grad!AC90+0.14*Grad!AB90+0.08*Grad!AA90+0.04*Grad!L90+0.02*Grad!J90)","v":{"$error":"#VALUE!"}},{"$error":"#VALUE!"},{"$error":"#VALUE!"},{"$error":"#VALUE!"},{"$f":"SUMMARY!$ID$10","v":{"$error":"#VALUE!"}},{"$error":"#VALUE!"},{"$f":"SUMMARY!IE132","v":""},{"$error":"#VALUE!"},null,0,{"$error":"#VALUE!"}]
[{"$f":"SUMMARY!IJ7","v":381},{"$f":"SUMMARY!IJ44","v":""},{"$error":"#VALUE!"},{"$f":"SUMMARY!IJ47","v":""},{"$f":"mndot_rounding_3(+IF(D91=0,\"\",(IF(D91>0,+D91,0)+IF(D90>0,+D90,0)+IF(D89>0,+D89,0)+IF(D88>0,+D88,0)+IF(+COUNTIF(D88:D91,\">0\")<=3,+D87)+IF(+COUNTIF(D87:D91,\">0\")<=3,+D86)+IF(+COUNTIF(D86:D91,\">0\")<=3,+D85)+IF(+COUNTIF(D85:D91,\">0\")<=3,+D84)+IF(+COUNTIF(D84:D91,\">0\")<=3,+D83)+IF(+COUNTIF(D83:D91,\">0\")<=3,+D82)+IF(+COUNTIF(D82:D91,\">0\")<=3,+D81)+IF(+COUNTIF(D81:D91,\">0\")<=3,+D80)+IF(+COUNTIF(D80:D91,\">0\")<4,\" \"))/4))","v":{"$error":"#VALUE!"}},{"$f":"SUMMARY!IJ49","v":""},{"$error":"#DIV/0!"},{"$error":"#VALUE!"},{"$error":"#VALUE!"},{"$error":"#VALUE!"},{"$error":"#VALUE!"},{"$error":"#VALUE!"},{"$error":"#VALUE!"},{"$f":"SUMMARY!IJ11","v":{"$error":"#VALUE!"}},381,null,381,{"$error":"#VALUE!"},{"$error":"#VALUE!"},{"$f":"SUMMARY!IJ41","v":""},{"$error":"#VALUE!"},{"$error":"#VALUE!"},null,null,0,{"$f":"MDR!D92","v":""},0,null,381,1,2,-1,-2,-0.3,-0.6,{"$error":"#VALUE!"},{"$error":"#VALUE!"},null,{"$error":"#VALUE!"},{"$error":"#VALUE!"},{"$error":"#VALUE!"},{"$f":"mndot_rounding_1(2+1.6*Grad!N91+0.6*Grad!AD91+0.3*Grad!AC91+0.14*Grad!AB91+0.08*Grad!AA91+0.04*Grad!L91+0.02*Grad!J91)","v":{"$error":"#VALUE!"}},{"$error":"#VALUE!"},{"$error":"#VALUE!"},{"$error":"#VALUE!"},{"$f":"SUMMARY!$IJ$10","v":{"$error":"#VALUE!"}},{"$error":"#VALUE!"},{"$f":"SUMMARY!IK132","v":""},{"$error":"#VALUE!"},null,0,{"$error":"#VALUE!"}]
[{"$f":"SUMMARY!IL7","v":382},{"$f":"SUMMARY!IL44","v":""},{"$error":"#VALUE!"},{"$f":"SUMMARY!IL47","v":""},{"$f":"mndot_rounding_3(+IF(D92=0,\"\",(IF(D92>0,+D92,0)+IF(D91>0,+D91,0)+IF(D90>0,+D90,0)+IF(D89>0,+D89,0)+IF(+COUNTIF(D89:D92,\">0\")<=3,+D88)+IF(+COUNTIF(D88:D92,\">0\")<=3,+D87)+IF(+COUNTIF(D87:D92,\">0\")<=3,+D86)+IF(+COUNTIF(D86:D92,\">0\")<=3,+D85)+IF(+COUNTIF(D85:D92,\">0\")<=3,+D84)+IF(+COUNTIF(D84:D92,\">0\")<=3,+D83)+IF(+COUNTIF(D83:D92,\">0\")<=3,+D82)+IF(+COUNTIF(D82:D92,\">0\")<=3,+D81)+IF(+COUNTIF(D81:D92,\">0\")<4,\" \"))/4))","v":{"$error":"#VALUE!"}},{"$f":"SUMMARY!IL49","v":""},{"$error":"#DIV/0!"},{"$error":"#VALUE!"},{"$error":"#VALUE!"},{"$error":"#VALUE!"},{"$error":"#VALUE!"},{"$error":"#VALUE!"},{"$error":"#VALUE!"},{"$f":"SUMMARY!IL11","v":{"$error":"#VALUE!"}},382,null,382,{"$error":"#VALUE!"},{"$error":"#VALUE!"},{"$f":"SUMMARY!IL41","v":""},{"$error":"#VALUE!"},{"$error":"#VALUE!"},null,null,0,{"$f":"MDR!D93","v":""},0,null,382,1,2,-1,-2,-0.3,-0.6,{"$error":"#VALUE!"},{"$error":"#VALUE!"},null,{"$error":"#VALUE!"},{"$error":"#VALUE!"},{"$error":"#VALUE!"},{"$f":"mndot_rounding_1(2+1.6*Grad!N92+0.6*Grad!AD92+0.3*Grad!AC92+0.14*Grad!AB92+0.08*Grad!AA92+0.04*Grad!L92+0.02*Grad!J92)","v":{"$error":"#VALUE!"}},{"$error":"#VALUE!"},{"$error":"#VALUE!"},{"$error":"#VALUE!"},{"$f":"SUMMARY!$IL$10","v":{"$error":"#VALUE!"}},{"$error":"#VALUE!"},{"$f":"SUMMARY!IM132","v":""},{"$error":"#VALUE!"},null,0,{"$error":"#VALUE!"}]
[{"$f":"SUMMARY!IN7","v":383},{"$f":"SUMMARY!IN44","v":""},{"$error":"#VALUE!"},{"$f":"SUMMARY!IN47","v":""},{"$f":"mndot_rounding_3(+IF(D93=0,\"\",(IF(D93>0,+D93,0)+IF(D92>0,+D92,0)+IF(D91>0,+D91,0)+IF(D90>0,+D90,0)+IF(+COUNTIF(D90:D93,\">0\")<=3,+D89)+IF(+COUNTIF(D89:D93,\">0\")<=3,+D88)+IF(+COUNTIF(D88:D93,\">0\")<=3,+D87)+IF(+COUNTIF(D87:D93,\">0\")<=3,+D86)+IF(+COUNTIF(D86:D93,\">0\")<=3,+D85)+IF(+COUNTIF(D85:D93,\">0\")<=3,+D84)+IF(+COUNTIF(D84:D93,\">0\")<=3,+D83)+IF(+COUNTIF(D83:D93,\">0\")<=3,+D82)+IF(+COUNTIF(D82:D93,\">0\")<4,\" \"))/4))","v":{"$error":"#VALUE!"}},{"$f":"SUMMARY!IN49","v":""},{"$error":"#DIV/0!"},{"$error":"#VALUE!"},{"$error":"#VALUE!"},{"$error":"#VALUE!"},{"$error":"#VALUE!"},{"$error":"#VALUE!"},{"$error":"#VALUE!"},{"$f":"SUMMARY!IN11","v":{"$error":"#VALUE!"}},383,null,383,{"$error":"#VALUE!"},{"$error":"#VALUE!"},{"$f":"SUMMARY!IN41","v":""},{"$error":"#VALUE!"},{"$error":"#VALUE!"},null,null,0,{"$f":"MDR!D94","v":""},0,null,383,1,2,-1,-2,-0.3,-0.6,{"$error":"#VALUE!"},{"$error":"#VALUE!"},null,{"$error":"#VALUE!"},{"$error":"#VALUE!"},{"$error":"#VALUE!"},{"$f":"mndot_rounding_1(2+1.6*Grad!N93+0.6*Grad!AD93+0.3*Grad!AC93+0.14*Grad!AB93+0.08*Grad!AA93+0.04*Grad!L93+0.02*Grad!J93)","v":{"$error":"#VALUE!"}},{"$error":"#VALUE!"},{"$error":"#VALUE!"},{"$error":"#VALUE!"},{"$f":"SUMMARY!$IN$10","v":{"$error":"#VALUE!"}},{"$error":"#VALUE!"},{"$f":"SUMMARY!IO132","v":""},{"$error":"#VALUE!"},null,0,{"$error":"#VALUE!"}]
[{"$f":"SUMMARY!IP7","v":384},{"$f":"SUMMARY!IP44","v":""},{"$error":"#VALUE!"},{"$f":"SUMMARY!IP47","v":""},{"$f":"mndot_rounding_3(+IF(D94=0,\"\",(IF(D94>0,+D94,0)+IF(D93>0,+D93,0)+IF(D92>0,+D92,0)+IF(D91>0,+D91,0)+IF(+COUNTIF(D91:D94,\">0\")<=3,+D90)+IF(+COUNTIF(D90:D94,\">0\")<=3,+D89)+IF(+COUNTIF(D89:D94,\">0\")<=3,+D88)+IF(+COUNTIF(D88:D94,\">0\")<=3,+D87)+IF(+COUNTIF(D87:D94,\">0\")<=3,+D86)+IF(+COUNTIF(D86:D94,\">0\")<=3,+D85)+IF(+COUNTIF(D85:D94,\">0\")<=3,+D84)+IF(+COUNTIF(D84:D94,\">0\")<=3,+D83)+IF(+COUNTIF(D83:D94,\">0\")<4,\" \"))/4))","v":{"$error":"#VALUE!"}},{"$f":"SUMMARY!IP49","v":""},{"$error":"#DIV/0!"},{"$error":"#VALUE!"},{"$error":"#VALUE!"},{"$error":"#VALUE!"},{"$error":"#VALUE!"},{"$error":"#VALUE!"},{"$error":"#VALUE!"},{"$f":"SUMMARY!IP11","v":{"$error":"#VALUE!"}},384,null,384,{"$error":"#VALUE!"},{"$error":"#VALUE!"},{"$f":"SUMMARY!IP41","v":""},{"$error":"#VALUE!"},{"$error":"#VALUE!"},null,null,0,{"$f":"MDR!D95","v":""},0,null,384,1,2,-1,-2,-0.3,-0.6,{"$error":"#VALUE!"},{"$error":"#VALUE!"},null,{"$error":"#VALUE!"},{"$error":"#VALUE!"},{"$error":"#VALUE!"},{"$f":"mndot_rounding_1(2+1.6*Grad!N94+0.6*Grad!AD94+0.3*Grad!AC94+0.14*Grad!AB94+0.08*Grad!AA94+0.04*Grad!L94+0.02*Grad!J94)","v":{"$error":"#VALUE!"}},{"$error":"#VALUE!"},{"$error":"#VALUE!"},{"$error":"#VALUE!"},{"$f":"SUMMARY!$IP$10","v":{"$error":"#VALUE!"}},{"$error":"#VALUE!"},{"$f":"SUMMARY!IQ132","v":""},{"$error":"#VALUE!"},null,0,{"$error":"#VALUE!"}]
[]
[]
[]
[]
[]
[]
[]
["Contractor AFT Calculations",null,null,null,null,null,null,null,null,null,null,null,null,null,null,null,"Contractor Gradation Values",null,null,null,null,null,null,null,null,null,null,null,"Contractor AFT Values",null,null,null,null,null,null,"Agency AFT Values"]
[]
[]
["Design",null,"AC %",null,null,"Voids",{"$f":"MDR!C5","v":0},null,"indiv","ACsg",{"$f":"SUMMARY!B7","v":0},"VMA",{"$f":"MDR!C4","v":0},null,"Sheet"]
[null,"AC",null,"Gmm",null,"Gmb",null,"Indiv",null,"Iso",null,"VMA",null,"Gsb","Test",null,null,null,null,null,null,null,null,null,null,null,null,null,null,null,null,null,null,null,null,null,null,1.2,"Tolerance?","Agency","Moving","ISNUMBER","Moving"]
["Test","AC","AVE-4","Gmm","AVE-4","Gmb","AVE-4","Void","AVE-4","Void","AVE-4","VMA","AVE-4","Blend","#",null,null,null,null,null,null,null,null,null,null,null,null,null,null,null,null,null,null,null,null,"Agency",null,"AFT",null,"Replac?","Average","Check on","Average"]
[null,null,null,null,null,null,null,null,null,null,null,null,null,null,null,null,"#4","#8","#16","#30","#50","#100","#200",null,"Gse","Pbe (% mix)","Pbe (% agg)","SA","AFT","Adjusted ","-4 Agg Gsb","Adjusted",null,null,"Test","AFT",null,"Working ",null,null,"Working ","AFT Values","Working "]
[null,null,null,null,null,null,null,null,null,{"$f":"ROUND(((D109-F109)/D109*100),1)","v":{"$error":"#DIV/0!"}},null,null,null,null,null,null,25,28,31,33,35,37,39,null,null,null,null,null,null,"SA",null,"AFT",null,null,"#","Values",null,"Value",null,null,"Value",null,"Value"]
[null,null,null,null,null,null,null,null,null,null,null,null,null,null,null,null,null,null,null,null,null,null,null,null,null,null,null,null,null,null,null,null,null,null,null,null,null,null,null,null,null,null,"with replacement"]
[{"$f":"A11","v":301},{"$f":"SUMMARY!D42","v":0},null,{"$f":"SUMMARY!D45","v":0},null,{"$f":"SUMMARY!D48","v":0},null,{"$f":"mndot_rounding_1((($E$14-F111)/$E$14*100))","v":{"$error":"#VALUE!"}},null,{"$f":"mndot_rounding_1(((D111-F111)/D111*100))","v":{"$error":"#VALUE!"}},null,{"$f":"mndot_rounding_1(100-(F111*(100-B111)/N111))","v":{"$error":"#VALUE!"}},null,{"$f":"SUMMARY!$D11","v":{"$error":"#VALUE!"}},{"$f":"A111","v":301},"d",{"$f":"SUMMARY!$D25","v":0},{"$f":"SUMMARY!$D28","v":0},{"$f":"SUMMARY!$D31","v":0},{"$f":"SUMMARY!$D33","v":0},{"$f":"SUMMARY!$D35","v":0},{"$f":"SUMMARY!$D37","v":0},{"$f":"SUMMARY!$D39","v":0},null,{"$f":"+mndot_rounding_3((100-B111)/((100/D111)-(B111/SUMMARY!$B$7)))","v":{"$error":"#VALUE!"}},{"$f":"+mndot_rounding_1(B111-((Y111-N111)*$K$5)*(100-B111)/(N111*Y111))","v":{"$error":"#VALUE!"}},{"$f":"+mndot_rounding_1((Z111*100)/(100-B111))","v":{"$error":"#VALUE!"}},{"$f":"mndot_rounding_1(2+1.6*W111+0.6*V111+0.3*U111+0.14*T111+0.08*S111+0.04*R111+0.02*Q111)","v":2},{"$f":"+mndot_rounding_1(IF(AB111=2,\"\",((Z111*4870)/((100-B111)*AD111))))","v":{"$error":"#VALUE!"}},{"$f":"IF(AE111<2.58,mndot_rounding_1(AB111*(2.65/AE111)),(IF(AE111>2.7,mndot_rounding_1(AB111*(2.65/AE111)),AB111)))","v":{"$error":"#VALUE!"}},{"$f":"SUMMARY!$D$10","v":{"$error":"#VALUE!"}},{"$f":"mndot_rounding_1(AC111 + 0.06*(AD111-28))","v":{"$error":"#VALUE!"}},null,null,1,{"$f":"SUMMARY!E57","v":""},null,{"$f":"IF(AJ111=\"\",AZ11,IF(OR((AJ111>(AZ11+1.2)),(AJ111<(AZ11-1.2))),AJ111+0.5,AZ11))","v":{"$error":"#VALUE!"}},{"$f":"IF(AJ111=\"\",\"\",IF(OR((AJ111>(AZ11+1.2)),(AJ111<(AZ11-1.2))),\"Tolerance\",\"\"))","v":""},{"$f":"IF(AJ111=\"\",\"\",IF(OR((AJ111>(AZ11+1.2)),(AJ111<(AZ11-1.2))),\"Agncy Repl.\",\"\"))","v":""},null,{"$f":"IF(ISNUMBER(AL111),AL111,0)","v":0}]
[302,{"$f":"SUMMARY!F42","v":0},null,{"$f":"SUMMARY!F45","v":0},null,{"$f":"SUMMARY!F48","v":0},null,{"$f":"mndot_rounding_1((($E$14-F112)/$E$14*100))","v":{"$error":"#VALUE!"}},null,{"$f":"mndot_rounding_1(((D112-F112)/D112*100))","v":{"$error":"#VALUE!"}},null,{"$f":"mndot_rounding_1(100-(F112*(100-B112)/N112))","v":{"$error":"#VALUE!"}},null,{"$f":"SUMMARY!F11","v":{"$error":"#VALUE!"}},{"$f":"O111+1","v":302},"f",{"$f":"SUMMARY!$F25","v":0},{"$f":"SUMMARY!$F28","v":0},{"$f":"SUMMARY!$F31","v":0},{"$f":"SUMMARY!$F33","v":0},{"$f":"SUMMARY!$F35","v":0},{"$f":"SUMMARY!$F37","v":0},{"$f":"SUMMARY!$F39","v":0},null,{"$f":"+mndot_rounding_3((100-B112)/((100/D112)-(B112/SUMMARY!$B$7)))","v":{"$error":"#VALUE!"}},{"$error":"#VALUE!"},{"$error":"#VALUE!"},{"$f":"mndot_rounding_1(2+1.6*W112+0.6*V112+0.3*U112+0.14*T112+0.08*S112+0.04*R112+0.02*Q112)","v":2},{"$error":"#VALUE!"},{"$error":"#VALUE!"},{"$f":"SUMMARY!$F$10","v":{"$error":"#VALUE!"}},{"$error":"#VALUE!"},null,null,2,{"$f":"SUMMARY!G57","v":""},null,{"$f":"IF(AJ112=\"\",AZ12,IF(OR((AJ112>(AZ12+1.2)),(AJ112<(AZ12-1.2))),AJ112+0.5,AZ12))","v":{"$error":"#VALUE!"}},{"$f":"IF(AJ112=\"\",\"\",IF(OR((AJ112>(AZ12+1.2)),(AJ112<(AZ12-1.2))),\"Tolerance\",\"\"))","v":""},{"$f":"IF(AJ112=\"\",\"\",IF(OR((AJ112>(AZ12+1.2)),(AJ112<(AZ12-1.2))),\"Agncy Repl.\",\"\"))","v":""},null,{"$f":"IF(ISNUMBER(AL112),AL112,0)","v":0}]
[303,{"$f":"SUMMARY!H42","v":0},null,{"$f":"SUMMARY!H45","v":0},null,{"$f":"SUMMARY!H48","v":0},null,{"$f":"mndot_rounding_1((($E$14-F113)/$E$14*100))","v":{"$error":"#VALUE!"}},null,{"$error":"#VALUE!"},null,{"$f":"mndot_rounding_1(100-(F113*(100-B113)/N113))","v":{"$error":"#VALUE!"}},null,{"$f":"SUMMARY!H11","v":{"$error":"#VALUE!"}},303,"h",{"$f":"SUMMARY!$H25","v":0},{"$f":"SUMMARY!$H28","v":0},{"$f":"SUMMARY!$H31","v":0},{"$f":"SUMMARY!$H33","v":0},{"$f":"SUMMARY!$H35","v":0},{"$f":"SUMMARY!$H37","v":0},{"$f":"SUMMARY!$H39","v":0},null,{"$f":"+mndot_rounding_3((100-B113)/((100/D113)-(B113/SUMMARY!$B$7)))","v":{"$error":"#VALUE!"}},{"$error":"#VALUE!"},{"$error":"#VALUE!"},2,{"$error":"#VALUE!"},{"$error":"#VALUE!"},{"$f":"SUMMARY!$H$10","v":{"$error":"#VALUE!"}},{"$error":"#VALUE!"},null,null,3,{"$f":"SUMMARY!I57","v":""},null,{"$error":"#VALUE!"},"","",null,0]
[304,{"$f":"SUMMARY!J42","v":0},{"$f":"AVERAGE(B111:B114)","v":0},{"$f":"SUMMARY!J45","v":0},{"$f":"mndot_rounding_3(AVERAGE(D111:D114))","v":0},{"$f":"SUMMARY!J48","v":0},{"$f":"ROUND(AVERAGE(F111:F114),3)","v":0},{"$f":"mndot_rounding_1((($E$14-F114)/$E$14*100))","v":{"$error":"#VALUE!"}},{"$f":"mndot_rounding_1(AVERAGE(H111:H114))","v":{"$error":"#VALUE!"}},{"$error":"#VALUE!"},{"$f":"mndot_rounding_1(AVERAGE(J111:J114))","v":{"$error":"#VALUE!"}},{"$f":"mndot_rounding_1(100-(F114*(100-B114)/N114))","v":{"$error":"#VALUE!"}},{"$f":"mndot_rounding_1(AVERAGE(L111:L114))","v":{"$error":"#VALUE!"}},{"$f":"SUMMARY!J11","v":{"$error":"#VALUE!"}},304,"j",{"$f":"SUMMARY!$J25","v":0},{"$f":"SUMMARY!$J28","v":0},{"$f":"SUMMARY!$J31","v":0},{"$f":"SUMMARY!$J33","v":0},{"$f":"SUMMARY!$J35","v":0},{"$f":"SUMMARY!$J37","v":0},{"$f":"SUMMARY!$J39","v":0},null,{"$f":"+mndot_rounding_3((100-B114)/((100/D114)-(B114/SUMMARY!$B$7)))","v":{"$error":"#VALUE!"}},{"$error":"#VALUE!"},{"$error":"#VALUE!"},2,{"$error":"#VALUE!"},{"$error":"#VALUE!"},{"$f":"SUMMARY!$J$10","v":{"$error":"#VALUE!"}},{"$error":"#VALUE!"},null,null,4,{"$f":"SUMMARY!K57","v":""},null,{"$error":"#VALUE!"},"","",{"$f":"AVERAGE(AL111,AL112,AL113,AL114)+(IF(AL111=0,\" \",IF(AL112=0,\" \",IF(AL113=0,\" \",IF(AL114=0,\" \",)))))","v":{"$error":"#VALUE!"}},0,{"$f":"mndot_rounding_1(IF(AP114=0,\"\",AVERAGE(AP111,AP112,AP113,AP114)+(IF(AP111=0,\" \",IF(AP112=0,\" \",IF(AP113=0,\" \",IF(AP114=0,\" \",)))))))","v":{"$error":"#VALUE!"}}]
[305,{"$f":"SUMMARY!P42","v":0},0,{"$f":"SUMMARY!P45","v":0},0,{"$f":"SUMMARY!P48","v":0},0,{"$f":"mndot_rounding_1(((E115-F115)/E115*100))","v":{"$error":"#VALUE!"}},{"$error":"#VALUE!"},{"$error":"#VALUE!"},{"$error":"#VALUE!"},{"$f":"mndot_rounding_1(100-(F115*(100-B115)/N115))","v":{"$error":"#VALUE!"}},{"$error":"#VALUE!"},{"$f":"SUMMARY!P11","v":{"$error":"#VALUE!"}},305,"p",{"$f":"SUMMARY!$P25","v":0},{"$f":"SUMMARY!$P28","v":0},{"$f":"SUMMARY!$P31","v":0},{"$f":"SUMMARY!$P33","v":0},{"$f":"SUMMARY!$P35","v":0},{"$f":"SUMMARY!$P37","v":0},{"$f":"SUMMARY!$P39","v":0},null,{"$f":"+mndot_rounding_3((100-B115)/((100/D115)-(B115/SUMMARY!$N$7)))","v":{"$error":"#VALUE!"}},{"$error":"#VALUE!"},{"$error":"#VALUE!"},2,{"$error":"#VALUE!"},{"$error":"#VALUE!"},{"$f":"SUMMARY!$P$10","v":{"$error":"#VALUE!"}},{"$error":"#VALUE!"},null,null,5,{"$f":"SUMMARY!Q57","v":""},null,{"$error":"#VALUE!"},"","",{"$error":"#VALUE!"},0,{"$f":"mndot_rounding_1(+IF(AP115=0,\"\",(IF(AP115>0,+AP115,0)+IF(AP114>0,+AP114,0)+IF(AP113>0,+AP113,0)+IF(AP112>0,+AP112,0)+IF(+COUNTIF(AP112:AP115,\">0\")<=3,+AP111)+IF(+COUNTIF(AP111:AP115,\">0\")<4,\" \"))/4))","v":{"$error":"#VALUE!"}}]
[306,{"$f":"SUMMARY!R42","v":0},0,{"$f":"SUMMARY!R45","v":0},0,{"$f":"SUMMARY!R48","v":0},0,{"$f":"mndot_rounding_1(((E116-F116)/E116*100))","v":{"$error":"#VALUE!"}},{"$error":"#VALUE!"},{"$error":"#VALUE!"},{"$error":"#VALUE!"},{"$f":"mndot_rounding_1(100-(F116*(100-B116)/N116))","v":{"$error":"#VALUE!"}},{"$error":"#VALUE!"},{"$f":"SUMMARY!R11","v":{"$error":"#VALUE!"}},306,"r",{"$f":"SUMMARY!$R25","v":0},{"$f":"SUMMARY!$R28","v":0},{"$f":"SUMMARY!$R31","v":0},{"$f":"SUMMARY!$R33","v":0},{"$f":"SUMMARY!$R35","v":0},{"$f":"SUMMARY!$R37","v":0},{"$f":"SUMMARY!$R39","v":0},null,{"$f":"+mndot_rounding_3((100-B116)/((100/D116)-(B116/SUMMARY!$N$7)))","v":{"$error":"#VALUE!"}},{"$error":"#VALUE!"},{"$error":"#VALUE!"},2,{"$error":"#VALUE!"},{"$error":"#VALUE!"},{"$f":"SUMMARY!$R$10","v":{"$error":"#VALUE!"}},{"$error":"#VALUE!"},null,null,6,{"$f":"SUMMARY!S57","v":""},null,{"$error":"#VALUE!"},"","",{"$error":"#VALUE!"},0,{"$f":"mndot_rounding_1(+IF(AP116=0,\"\",(IF(AP116>0,+AP116,0)+IF(AP115>0,+AP115,0)+IF(AP114>0,+AP114,0)+IF(AP113>0,+AP113,0)+IF(+COUNTIF(AP113:AP116,\">0\")<=3,+AP112)+IF(+COUNTIF(AP112:AP116,\">0\")<=3,+AP111)+IF(+COUNTIF(AP111:AP116,\">0\")<4,\" \"))/4))","v":{"$error":"#VALUE!"}}]
[307,{"$f":"SUMMARY!T42","v":0},0,{"$f":"SUMMARY!T45","v":0},0,{"$f":"SUMMARY!T48","v":0},0,{"$error":"#VALUE!"},{"$error":"#VALUE!"},{"$error":"#VALUE!"},{"$error":"#VALUE!"},{"$error":"#VALUE!"},{"$error":"#VALUE!"},{"$f":"SUMMARY!T11","v":{"$error":"#VALUE!"}},307,"t",{"$f":"SUMMARY!$T25","v":0},{"$f":"SUMMARY!$T28","v":0},{"$f":"SUMMARY!$T31","v":0},{"$f":"SUMMARY!$T33","v":0},{"$f":"SUMMARY!$T35","v":0},{"$f":"SUMMARY!$T37","v":0},{"$f":"SUMMARY!$T39","v":0},null,{"$f":"+mndot_rounding_3((100-B117)/((100/D117)-(B117/SUMMARY!$N$7)))","v":{"$error":"#VALUE!"}},{"$error":"#VALUE!"},{"$error":"#VALUE!"},2,{"$error":"#VALUE!"},{"$error":"#VALUE!"},{"$f":"SUMMARY!$T$10","v":{"$error":"#VALUE!"}},{"$error":"#VALUE!"},null,null,7,{"$f":"SUMMARY!U57","v":""},null,{"$error":"#VALUE!"},"","",{"$error":"#VALUE!"},0,{"$f":"mndot_rounding_1(+IF(AP117=0,\"\",(IF(AP117>0,+AP117,0)+IF(AP116>0,+AP116,0)+IF(AP115>0,+AP115,0)+IF(AP114>0,+AP114,0)+IF(+COUNTIF(AP114:AP117,\">0\")<=3,+AP113)+IF(+COUNTIF(AP113:AP117,\">0\")<=3,+AP112)+IF(+COUNTIF(AP112:AP117,\">0\")<=3,+AP111)+IF(+COUNTIF(AP111:AP117,\">0\")<4,\" \"))/4))","v":{"$error":"#VALUE!"}}]
[308,{"$f":"SUMMARY!V42","v":0},0,{"$f":"SUMMARY!V45","v":0},0,{"$f":"SUMMARY!V48","v":0},0,{"$error":"#VALUE!"},{"$error":"#VALUE!"},{"$error":"#VALUE!"},{"$error":"#VALUE!"},{"$error":"#VALUE!"},{"$error":"#VALUE!"},{"$f":"SUMMARY!V11","v":{"$error":"#VALUE!"}},308,"v",{"$f":"SUMMARY!$V25","v":0},{"$f":"SUMMARY!$V28","v":0},{"$f":"SUMMARY!$V31","v":0},{"$f":"SUMMARY!$V33","v":0},{"$f":"SUMMARY!$V35","v":0},{"$f":"SUMMARY!$V37","v":0},{"$f":"SUMMARY!$V39","v":0},null,{"$f":"+mndot_rounding_3((100-B118)/((100/D118)-(B118/SUMMARY!$N$7)))","v":{"$error":"#VALUE!"}},{"$error":"#VALUE!"},{"$error":"#VALUE!"},2,{"$f":"+mndot_rounding_1(IF(AB118=2,\"\",((Z118*4870)/((100-B118)*AD118))))","v":{"$error":"#VALUE!"}},{"$error":"#VALUE!"},{"$f":"SUMMARY!$V$10","v":{"$error":"#VALUE!"}},{"$error":"#VALUE!"},null,null,8,{"$f":"SUMMARY!W57","v":""},null,{"$error":"#VALUE!"},"","",{"$error":"#VALUE!"},0,{"$f":"mndot_rounding_1(+IF(AP118=0,\"\",(IF(AP118>0,+AP118,0)+IF(AP117>0,+AP117,0)+IF(AP116>0,+AP116,0)+IF(AP115>0,+AP115,0)+IF(+COUNTIF(AP115:AP118,\">0\")<=3,+AP114)+IF(+COUNTIF(AP114:AP118,\">0\")<=3,+AP113)+IF(+COUNTIF(AP113:AP118,\">0\")<=3,+AP112)+IF(+COUNTIF(AP112:AP118,\">0\")<=3,+AP111)+IF(+COUNTIF(AP111:AP118,\">0\")<4,\" \"))/4))","v":{"$error":"#VALUE!"}}]
[309,{"$f":"SUMMARY!AB42","v":0},0,{"$f":"SUMMARY!AB45","v":0},0,{"$f":"SUMMARY!AB48","v":0},0,{"$error":"#VALUE!"},{"$error":"#VALUE!"},{"$error":"#VALUE!"},{"$error":"#VALUE!"},{"$error":"#VALUE!"},{"$error":"#VALUE!"},{"$f":"SUMMARY!AB11","v":{"$error":"#VALUE!"}},309,"ab",{"$f":"SUMMARY!$AB25","v":0},{"$f":"SUMMARY!$AB28","v":0},{"$f":"SUMMARY!$AB31","v":0},{"$f":"SUMMARY!$AB33","v":0},{"$f":"SUMMARY!$AB35","v":0},{"$f":"SUMMARY!$AB37","v":0},{"$f":"SUMMARY!$AB39","v":0},null,{"$f":"+mndot_rounding_3((100-B119)/((100/D119)-(B119/SUMMARY!$Z$7)))","v":{"$error":"#VALUE!"}},{"$error":"#VALUE!"},{"$error":"#VALUE!"},2,{"$f":"+mndot_rounding_1(IF(AB119=2,\"\",((Z119*4870)/((100-B119)*AD119))))","v":{"$error":"#VALUE!"}},{"$error":"#VALUE!"},{"$f":"SUMMARY!$AB$10","v":{"$error":"#VALUE!"}},{"$error":"#VALUE!"},null,null,9,{"$f":"SUMMARY!AC57","v":""},null,{"$error":"#VALUE!"},"","",{"$error":"#VALUE!"},0,{"$f":"mndot_rounding_1(+IF(AP119=0,\"\",(IF(AP119>0,+AP119,0)+IF(AP118>0,+AP118,0)+IF(AP117>0,+AP117,0)+IF(AP116>0,+AP116,0)+IF(+COUNTIF(AP116:AP119,\">0\")<=3,+AP115)+IF(+COUNTIF(AP115:AP119,\">0\")<=3,+AP114)+IF(+COUNTIF(AP114:AP119,\">0\")<=3,+AP113)+IF(+COUNTIF(AP113:AP119,\">0\")<=3,+AP112)+IF(+COUNTIF(AP112:AP119,\">0\")<=3,+AP111)+IF(+COUNTIF(AP111:AP119,\">0\")<4,\" \"))/4))","v":{"$error":"#VALUE!"}}]
[310,{"$f":"SUMMARY!AD42","v":0},0,{"$f":"SUMMARY!AD45","v":0},0,{"$f":"SUMMARY!AD48","v":0},0,{"$error":"#VALUE!"},{"$error":"#VALUE!"},{"$error":"#VALUE!"},{"$error":"#VALUE!"},{"$error":"#VALUE!"},{"$error":"#VALUE!"},{"$f":"SUMMARY!AD11","v":{"$error":"#VALUE!"}},310,"ad",{"$f":"SUMMARY!$AD25","v":0},{"$f":"SUMMARY!$AD28","v":0},{"$f":"SUMMARY!$AD31","v":0},{"$f":"SUMMARY!$AD33","v":0},{"$f":"SUMMARY!$AD35","v":0},{"$f":"SUMMARY!$AD37","v":0},{"$f":"SUMMARY!$AD39","v":0},null,{"$f":"+mndot_rounding_3((100-B120)/((100/D120)-(B120/SUMMARY!$Z$7)))","v":{"$error":"#VALUE!"}},{"$error":"#VALUE!"},{"$error":"#VALUE!"},2,{"$error":"#VALUE!"},{"$error":"#VALUE!"},{"$f":"SUMMARY!$AD$10","v":{"$error":"#VALUE!"}},{"$error":"#VALUE!"},null,null,10,{"$f":"SUMMARY!AE57","v":""},null,{"$error":"#VALUE!"},"","",{"$error":"#VALUE!"},0,{"$f":"mndot_rounding_1(+IF(AP120=0,\"\",(IF(AP120>0,+AP120,0)+IF(AP119>0,+AP119,0)+IF(AP118>0,+AP118,0)+IF(AP117>0,+AP117,0)+IF(+COUNTIF(AP117:AP120,\">0\")<=3,+AP116)+IF(+COUNTIF(AP116:AP120,\">0\")<=3,+AP115)+IF(+COUNTIF(AP115:AP120,\">0\")<=3,+AP114)+IF(+COUNTIF(AP114:AP120,\">0\")<=3,+AP113)+IF(+COUNTIF(AP113:AP120,\">0\")<=3,+AP112)+IF(+COUNTIF(AP112:AP120,\">0\")<=3,+AP111)+IF(+COUNTIF(AP111:AP120,\">0\")<4,\" \"))/4))","v":{"$error":"#VALUE!"}}]
[311,{"$f":"SUMMARY!AF42","v":0},0,{"$f":"SUMMARY!AF45","v":0},0,{"$f":"SUMMARY!AF48","v":0},0,{"$error":"#VALUE!"},{"$error":"#VALUE!"},{"$error":"#VALUE!"},{"$error":"#VALUE!"},{"$error":"#VALUE!"},{"$error":"#VALUE!"},{"$f":"SUMMARY!AF11","v":{"$error":"#VALUE!"}},311,"af",{"$f":"SUMMARY!$AF25","v":0},{"$f":"SUMMARY!$AF28","v":0},{"$f":"SUMMARY!$AF31","v":0},{"$f":"SUMMARY!$AF33","v":0},{"$f":"SUMMARY!$AF35","v":0},{"$f":"SUMMARY!$AF37","v":0},{"$f":"SUMMARY!$AF39","v":0},null,{"$f":"+mndot_rounding_3((100-B121)/((100/D121)-(B121/SUMMARY!$Z$7)))","v":{"$error":"#VALUE!"}},{"$error":"#VALUE!"},{"$error":"#VALUE!"},2,{"$error":"#VALUE!"},{"$error":"#VALUE!"},{"$f":"SUMMARY!$AF$10","v":{"$error":"#VALUE!"}},{"$error":"#VALUE!"},null,null,11,{"$f":"SUMMARY!AG57","v":""},null,{"$error":"#VALUE!"},"","",{"$error":"#VALUE!"},0,{"$f":"mndot_rounding_1(+IF(AP121=0,\"\",(IF(AP121>0,+AP121,0)+IF(AP120>0,+AP120,0)+IF(AP119>0,+AP119,0)+IF(AP118>0,+AP118,0)+IF(+COUNTIF(AP118:AP121,\">0\")<=3,+AP117)+IF(+COUNTIF(AP117:AP121,\">0\")<=3,+AP116)+IF(+COUNTIF(AP116:AP121,\">0\")<=3,+AP115)+IF(+COUNTIF(AP115:AP121,\">0\")<=3,+AP114)+IF(+COUNTIF(AP114:AP121,\">0\")<=3,+AP113)+IF(+COUNTIF(AP113:AP121,\">0\")<=3,+AP112)+IF(+COUNTIF(AP112:AP121,\">0\")<=3,+AP111)+IF(+COUNTIF(AP111:AP121,\">0\")<4,\" \"))/4))","v":{"$error":"#VALUE!"}}]
[312,{"$f":"SUMMARY!AH42","v":0},0,{"$f":"SUMMARY!AH45","v":0},0,{"$f":"SUMMARY!AH48","v":0},0,{"$error":"#VALUE!"},{"$error":"#VALUE!"},{"$error":"#VALUE!"},{"$error":"#VALUE!"},{"$error":"#VALUE!"},{"$error":"#VALUE!"},{"$f":"SUMMARY!AH11","v":{"$error":"#VALUE!"}},312,"ah",{"$f":"SUMMARY!$AH25","v":0},{"$f":"SUMMARY!$AH28","v":0},{"$f":"SUMMARY!$AH31","v":0},{"$f":"SUMMARY!$AH33","v":0},{"$f":"SUMMARY!$AH35","v":0},{"$f":"SUMMARY!$AH37","v":0},{"$f":"SUMMARY!$AH39","v":0},null,{"$f":"+mndot_rounding_3((100-B122)/((100/D122)-(B122/SUMMARY!$Z$7)))","v":{"$error":"#VALUE!"}},{"$error":"#VALUE!"},{"$error":"#VALUE!"},2,{"$error":"#VALUE!"},{"$error":"#VALUE!"},{"$f":"SUMMARY!$AH$10","v":{"$error":"#VALUE!"}},{"$error":"#VALUE!"},null,null,12,{"$f":"SUMMARY!AI57","v":""},null,{"$error":"#VALUE!"},"","",{"$error":"#VALUE!"},0,{"$f":"mndot_rounding_1(+IF(AP122=0,\"\",(IF(AP122>0,+AP122,0)+IF(AP121>0,+AP121,0)+IF(AP120>0,+AP120,0)+IF(AP119>0,+AP119,0)+IF(+COUNTIF(AP119:AP122,\">0\")<=3,+AP118)+IF(+COUNTIF(AP118:AP122,\">0\")<=3,+AP117)+IF(+COUNTIF(AP117:AP122,\">0\")<=3,+AP116)+IF(+COUNTIF(AP116:AP122,\">0\")<=3,+AP115)+IF(+COUNTIF(AP115:AP122,\">0\")<=3,+AP114)+IF(+COUNTIF(AP114:AP122,\">0\")<=3,+AP113)+IF(+COUNTIF(AP113:AP122,\">0\")<=3,+AP112)+IF(+COUNTIF(AP112:AP122,\">0\")<=3,+AP111)+IF(+COUNTIF(AP111:AP122,\">0\")<4,\" \"))/4))","v":{"$error":"#VALUE!"}}]
[313,{"$f":"SUMMARY!AN42","v":0},0,{"$f":"SUMMARY!AN45","v":0},0,{"$f":"SUMMARY!AN48","v":0},0,{"$error":"#VALUE!"},{"$error":"#VALUE!"},{"$error":"#VALUE!"},{"$error":"#VALUE!"},{"$error":"#VALUE!"},{"$error":"#VALUE!"},{"$f":"SUMMARY!AN11","v":{"$error":"#VALUE!"}},313,"an",{"$f":"SUMMARY!$AN25","v":0},{"$f":"SUMMARY!$AN28","v":0},{"$f":"SUMMARY!$AN31","v":0},{"$f":"SUMMARY!$AN33","v":0},{"$f":"SUMMARY!$AN35","v":0},{"$f":"SUMMARY!$AN37","v":0},{"$f":"SUMMARY!$AN39","v":0},null,{"$f":"+mndot_rounding_3((100-B123)/((100/D123)-(B123/SUMMARY!$AL$7)))","v":{"$error":"#VALUE!"}},{"$error":"#VALUE!"},{"$error":"#VALUE!"},2,{"$error":"#VALUE!"},{"$error":"#VALUE!"},{"$f":"SUMMARY!$AN$10","v":{"$error":"#VALUE!"}},{"$error":"#VALUE!"},null,null,13,{"$f":"SUMMARY!AO57","v":""},null,{"$error":"#VALUE!"},"","",{"$error":"#VALUE!"},0,{"$f":"mndot_rounding_1(+IF(AP123=0,\"\",(IF(AP123>0,+AP123,0)+IF(AP122>0,+AP122,0)+IF(AP121>0,+AP121,0)+IF(AP120>0,+AP120,0)+IF(+COUNTIF(AP120:AP123,\">0\")<=3,+AP119)+IF(+COUNTIF(AP119:AP123,\">0\")<=3,+AP118)+IF(+COUNTIF(AP118:AP123,\">0\")<=3,+AP117)+IF(+COUNTIF(AP117:AP123,\">0\")<=3,+AP116)+IF(+COUNTIF(AP116:AP123,\">0\")<=3,+AP115)+IF(+COUNTIF(AP115:AP123,\">0\")<=3,+AP114)+IF(+COUNTIF(AP114:AP123,\">0\")<=3,+AP113)+IF(+COUNTIF(AP113:AP123,\">0\")<=3,+AP112)+IF(+COUNTIF(AP112:AP123,\">0\")<4,\" \"))/4))","v":{"$error":"#VALUE!"}}]
[314,{"$f":"SUMMARY!AP42","v":0},0,{"$f":"SUMMARY!AP45","v":0},0,{"$f":"SUMMARY!AP48","v":0},0,{"$error":"#VALUE!"},{"$error":"#VALUE!"},{"$error":"#VALUE!"},{"$error":"#VALUE!"},{"$error":"#VALUE!"},{"$error":"#VALUE!"},{"$f":"SUMMARY!AP11","v":{"$error":"#VALUE!"}},314,"ap",{"$f":"SUMMARY!$AP25","v":0},{"$f":"SUMMARY!$AP28","v":0},{"$f":"SUMMARY!$AP31","v":0},{"$f":"SUMMARY!$AP33","v":0},{"$f":"SUMMARY!$AP35","v":0},{"$f":"SUMMARY!$AP37","v":0},{"$f":"SUMMARY!$AP39","v":0},null,{"$f":"+mndot_rounding_3((100-B124)/((100/D124)-(B124/SUMMARY!$AL$7)))","v":{"$error":"#VALUE!"}},{"$error":"#VALUE!"},{"$error":"#VALUE!"},2,{"$error":"#VALUE!"},{"$error":"#VALUE!"},{"$f":"SUMMARY!$AP$10","v":{"$error":"#VALUE!"}},{"$error":"#VALUE!"},null,null,14,{"$f":"SUMMARY!AQ57","v":""},null,{"$error":"#VALUE!"},"","",{"$error":"#VALUE!"},0,{"$f":"mndot_rounding_1(+IF(AP124=0,\"\",(IF(AP124>0,+AP124,0)+IF(AP123>0,+AP123,0)+IF(AP122>0,+AP122,0)+IF(AP121>0,+AP121,0)+IF(+COUNTIF(AP121:AP124,\">0\")<=3,+AP120)+IF(+COUNTIF(AP120:AP124,\">0\")<=3,+AP119)+IF(+COUNTIF(AP119:AP124,\">0\")<=3,+AP118)+IF(+COUNTIF(AP118:AP124,\">0\")<=3,+AP117)+IF(+COUNTIF(AP117:AP124,\">0\")<=3,+AP116)+IF(+COUNTIF(AP116:AP124,\">0\")<=3,+AP115)+IF(+COUNTIF(AP115:AP124,\">0\")<=3,+AP114)+IF(+COUNTIF(AP114:AP124,\">0\")<=3,+AP113)+IF(+COUNTIF(AP113:AP124,\">0\")<4,\" \"))/4))","v":{"$error":"#VALUE!"}}]
[315,{"$f":"SUMMARY!AR42","v":0},0,{"$f":"SUMMARY!AR45","v":0},0,{"$f":"SUMMARY!AR48","v":0},0,{"$error":"#VALUE!"},{"$error":"#VALUE!"},{"$error":"#VALUE!"},{"$error":"#VALUE!"},{"$error":"#VALUE!"},{"$error":"#VALUE!"},{"$f":"SUMMARY!AR11","v":{"$error":"#VALUE!"}},315,"ar",{"$f":"SUMMARY!$AR25","v":0},{"$f":"SUMMARY!$AR28","v":0},{"$f":"SUMMARY!$AR31","v":0},{"$f":"SUMMARY!$AR33","v":0},{"$f":"SUMMARY!$AR35","v":0},{"$f":"SUMMARY!$AR37","v":0},{"$f":"SUMMARY!$AR39","v":0},null,{"$f":"+mndot_rounding_3((100-B125)/((100/D125)-(B125/SUMMARY!$AL$7)))","v":{"$error":"#VALUE!"}},{"$error":"#VALUE!"},{"$error":"#VALUE!"},2,{"$error":"#VALUE!"},{"$error":"#VALUE!"},{"$f":"SUMMARY!$AR$10","v":{"$error":"#VALUE!"}},{"$error":"#VALUE!"},null,null,15,{"$f":"SUMMARY!AS57","v":""},null,{"$error":"#VALUE!"},"","",{"$error":"#VALUE!"},0,{"$f":"mndot_rounding_1(+IF(AP125=0,\"\",(IF(AP125>0,+AP125,0)+IF(AP124>0,+AP124,0)+IF(AP123>0,+AP123,0)+IF(AP122>0,+AP122,0)+IF(+COUNTIF(AP122:AP125,\">0\")<=3,+AP121)+IF(+COUNTIF(AP121:AP125,\">0\")<=3,+AP120)+IF(+COUNTIF(AP120:AP125,\">0\")<=3,+AP119)+IF(+COUNTIF(AP119:AP125,\">0\")<=3,+AP118)+IF(+COUNTIF(AP118:AP125,\">0\")<=3,+AP117)+IF(+COUNTIF(AP117:AP125,\">0\")<=3,+AP116)+IF(+COUNTIF(AP116:AP125,\">0\")<=3,+AP115)+IF(+COUNTIF(AP115:AP125,\">0\")<=3,+AP114)+IF(+COUNTIF(AP114:AP125,\">0\")<4,\" \"))/4))","v":{"$error":"#VALUE!"}}]
[316,{"$f":"SUMMARY!AT42","v":0},0,{"$f":"SUMMARY!AT45","v":0},0,{"$f":"SUMMARY!AT48","v":0},0,{"$error":"#VALUE!"},{"$error":"#VALUE!"},{"$error":"#VALUE!"},{"$error":"#VALUE!"},{"$error":"#VALUE!"},{"$error":"#VALUE!"},{"$f":"SUMMARY!AT11","v":{"$error":"#VALUE!"}},316,"at",{"$f":"SUMMARY!$AT25","v":0},{"$f":"SUMMARY!$AT28","v":0},{"$f":"SUMMARY!$AT31","v":0},{"$f":"SUMMARY!$AT33","v":0},{"$f":"SUMMARY!$AT35","v":0},{"$f":"SUMMARY!$AT37","v":0},{"$f":"SUMMARY!$AT39","v":0},null,{"$f":"+mndot_rounding_3((100-B126)/((100/D126)-(B126/SUMMARY!$AL$7)))","v":{"$error":"#VALUE!"}},{"$error":"#VALUE!"},{"$error":"#VALUE!"},2,{"$error":"#VALUE!"},{"$error":"#VALUE!"},{"$f":"SUMMARY!$AT$10","v":{"$error":"#VALUE!"}},{"$error":"#VALUE!"},null,null,16,{"$f":"SUMMARY!AU57","v":""},null,{"$error":"#VALUE!"},"","",{"$error":"#VALUE!"},0,{"$f":"mndot_rounding_1(+IF(AP126=0,\"\",(IF(AP126>0,+AP126,0)+IF(AP125>0,+AP125,0)+IF(AP124>0,+AP124,0)+IF(AP123>0,+AP123,0)+IF(+COUNTIF(AP123:AP126,\">0\")<=3,+AP122)+IF(+COUNTIF(AP122:AP126,\">0\")<=3,+AP121)+IF(+COUNTIF(AP121:AP126,\">0\")<=3,+AP120)+IF(+COUNTIF(AP120:AP126,\">0\")<=3,+AP119)+IF(+COUNTIF(AP119:AP126,\">0\")<=3,+AP118)+IF(+COUNTIF(AP118:AP126,\">0\")<=3,+AP117)+IF(+COUNTIF(AP117:AP126,\">0\")<=3,+AP116)+IF(+COUNTIF(AP116:AP126,\">0\")<=3,+AP115)+IF(+COUNTIF(AP115:AP126,\">0\")<4,\" \"))/4))","v":{"$error":"#VALUE!"}}]
[317,{"$f":"SUMMARY!AZ42","v":0},0,{"$f":"SUMMARY!AZ45","v":0},0,{"$f":"SUMMARY!AZ48","v":0},0,{"$error":"#VALUE!"},{"$error":"#VALUE!"},{"$error":"#VALUE!"},{"$error":"#VALUE!"},{"$error":"#VALUE!"},{"$error":"#VALUE!"},{"$f":"SUMMARY!AZ11","v":{"$error":"#VALUE!"}},317,"az",{"$f":"SUMMARY!$AZ25","v":0},{"$f":"SUMMARY!$AZ28","v":0},{"$f":"SUMMARY!$AZ31","v":0},{"$f":"SUMMARY!$AZ33","v":0},{"$f":"SUMMARY!$AZ35","v":0},{"$f":"SUMMARY!$AZ37","v":0},{"$f":"SUMMARY!$AZ39","v":0},null,{"$f":"+mndot_rounding_3((100-B127)/((100/D127)-(B127/SUMMARY!$AX$7)))","v":{"$error":"#VALUE!"}},{"$error":"#VALUE!"},{"$error":"#VALUE!"},2,{"$error":"#VALUE!"},{"$error":"#VALUE!"},{"$f":"SUMMARY!$AZ$10","v":{"$error":"#VALUE!"}},{"$error":"#VALUE!"},null,null,17,{"$f":"SUMMARY!BA57","v":""},null,{"$error":"#VALUE!"},"","",{"$error":"#VALUE!"},0,{"$error":"#VALUE!"}]
[318,{"$f":"SUMMARY!BB42","v":0},0,{"$f":"SUMMARY!BB45","v":0},0,{"$f":"SUMMARY!BB48","v":0},0,{"$error":"#VALUE!"},{"$error":"#VALUE!"},{"$error":"#VALUE!"},{"$error":"#VALUE!"},{"$error":"#VALUE!"},{"$error":"#VALUE!"},{"$f":"SUMMARY!BB11","v":{"$error":"#VALUE!"}},318,"bb",{"$f":"SUMMARY!$BB25","v":0},{"$f":"SUMMARY!$BB28","v":0},{"$f":"SUMMARY!$BB31","v":0},{"$f":"SUMMARY!$BB33","v":0},{"$f":"SUMMARY!$BB35","v":0},{"$f":"SUMMARY!$BB37","v":0},{"$f":"SUMMARY!$BB39","v":0},null,{"$f":"+mndot_rounding_3((100-B128)/((100/D128)-(B128/SUMMARY!$AX$7)))","v":{"$error":"#VALUE!"}},{"$error":"#VALUE!"},{"$error":"#VALUE!"},2,{"$error":"#VALUE!"},{"$error":"#VALUE!"},{"$f":"SUMMARY!$BB$10","v":{"$error":"#VALUE!"}},{"$error":"#VALUE!"},null,null,18,{"$f":"SUMMARY!BC57","v":""},null,{"$error":"#VALUE!"},"","",{"$error":"#VALUE!"},0,{"$error":"#VALUE!"}]
[319,{"$f":"SUMMARY!BD42","v":0},0,{"$f":"SUMMARY!BD45","v":0},0,{"$f":"SUMMARY!BD48","v":0},0,{"$error":"#VALUE!"},{"$error":"#VALUE!"},{"$error":"#VALUE!"},{"$error":"#VALUE!"},{"$error":"#VALUE!"},{"$error":"#VALUE!"},{"$f":"SUMMARY!BD11","v":{"$error":"#VALUE!"}},319,"bd",{"$f":"SUMMARY!$BD25","v":0},{"$f":"SUMMARY!$BD28","v":0},{"$f":"SUMMARY!$BD31","v":0},{"$f":"SUMMARY!$BD33","v":0},{"$f":"SUMMARY!$BD35","v":0},{"$f":"SUMMARY!$BD37","v":0},{"$f":"SUMMARY!$BD39","v":0},null,{"$f":"+mndot_rounding_3((100-B129)/((100/D129)-(B129/SUMMARY!$AX$7)))","v":{"$error":"#VALUE!"}},{"$error":"#VALUE!"},{"$error":"#VALUE!"},2,{"$error":"#VALUE!"},{"$error":"#VALUE!"},{"$f":"SUMMARY!$BD$10","v":{"$error":"#VALUE!"}},{"$error":"#VALUE!"},null,null,19,{"$f":"SUMMARY!BE57","v":""},null,{"$error":"#VALUE!"},"","",{"$error":"#VALUE!"},0,{"$error":"#VALUE!"}]
[320,{"$f":"SUMMARY!BF42","v":0},0,{"$f":"SUMMARY!BF45","v":0},0,{"$f":"SUMMARY!BF48","v":0},0,{"$error":"#VALUE!"},{"$error":"#VALUE!"},{"$error":"#VALUE!"},{"$error":"#VALUE!"},{"$error":"#VALUE!"},{"$error":"#VALUE!"},{"$f":"SUMMARY!BF11","v":{"$error":"#VALUE!"}},320,"bf",{"$f":"SUMMARY!$BF25","v":0},{"$f":"SUMMARY!$BF28","v":0},{"$f":"SUMMARY!$BF31","v":0},{"$f":"SUMMARY!$BF33","v":0},{"$f":"SUMMARY!$BF35","v":0},{"$f":"SUMMARY!$BF37","v":0},{"$f":"SUMMARY!$BF39","v":0},null,{"$f":"+mndot_rounding_3((100-B130)/((100/D130)-(B130/SUMMARY!$AX$7)))","v":{"$error":"#VALUE!"}},{"$error":"#VALUE!"},{"$error":"#VALUE!"},2,{"$error":"#VALUE!"},{"$error":"#VALUE!"},{"$f":"SUMMARY!$BF$10","v":{"$error":"#VALUE!"}},{"$error":"#VALUE!"},null,null,20,{"$f":"SUMMARY!BG57","v":""},null,{"$error":"#VALUE!"},"","",{"$error":"#VALUE!"},0,{"$error":"#VALUE!"}]
[321,{"$f":"SUMMARY!BL42","v":0},0,{"$f":"SUMMARY!BL45","v":0},0,{"$f":"SUMMARY!BL48","v":0},0,{"$error":"#VALUE!"},{"$error":"#VALUE!"},{"$error":"#VALUE!"},{"$error":"#VALUE!"},{"$error":"#VALUE!"},{"$error":"#VALUE!"},{"$f":"SUMMARY!BL11","v":{"$error":"#VALUE!"}},321,"bl",{"$f":"SUMMARY!$BL25","v":0},{"$f":"SUMMARY!$BL28","v":0},{"$f":"SUMMARY!$BL31","v":0},{"$f":"SUMMARY!$BL33","v":0},{"$f":"SUMMARY!$BL35","v":0},{"$f":"SUMMARY!$BL37","v":0},{"$f":"SUMMARY!$BL39","v":0},null,{"$f":"+mndot_rounding_3((100-B131)/((100/D131)-(B131/SUMMARY!$BJ$7)))","v":{"$error":"#VALUE!"}},{"$error":"#VALUE!"},{"$error":"#VALUE!"},2,{"$error":"#VALUE!"},{"$error":"#VALUE!"},{"$f":"SUMMARY!$BL$10","v":{"$error":"#VALUE!"}},{"$error":"#VALUE!"},null,null,21,{"$f":"SUMMARY!BM57","v":""},null,{"$error":"#VALUE!"},"","",{"$error":"#VALUE!"},0,{"$error":"#VALUE!"}]
[322,{"$f":"SUMMARY!BN42","v":0},0,{"$f":"SUMMARY!BN45","v":0},0,{"$f":"SUMMARY!BN48","v":0},0,{"$error":"#VALUE!"},{"$error":"#VALUE!"},{"$error":"#VALUE!"},{"$error":"#VALUE!"},{"$error":"#VALUE!"},{"$error":"#VALUE!"},{"$f":"SUMMARY!BN11","v":{"$error":"#VALUE!"}},322,"bn",{"$f":"SUMMARY!$BN25","v":0},{"$f":"SUMMARY!$BN28","v":0},{"$f":"SUMMARY!$BN31","v":0},{"$f":"SUMMARY!$BN33","v":0},{"$f":"SUMMARY!$BN35","v":0},{"$f":"SUMMARY!$BN37","v":0},{"$f":"SUMMARY!$BN39","v":0},null,{"$f":"+mndot_rounding_3((100-B132)/((100/D132)-(B132/SUMMARY!$BJ$7)))","v":{"$error":"#VALUE!"}},{"$error":"#VALUE!"},{"$error":"#VALUE!"},2,{"$error":"#VALUE!"},{"$error":"#VALUE!"},{"$f":"SUMMARY!$BN$10","v":{"$error":"#VALUE!"}},{"$error":"#VALUE!"},null,null,22,{"$f":"SUMMARY!BO57","v":""},null,{"$error":"#VALUE!"},"","",{"$error":"#VALUE!"},0,{"$error":"#VALUE!"}]
[323,{"$f":"SUMMARY!BP42","v":0},0,{"$f":"SUMMARY!BP45","v":0},0,{"$f":"SUMMARY!BP48","v":0},0,{"$error":"#VALUE!"},{"$error":"#VALUE!"},{"$error":"#VALUE!"},{"$error":"#VALUE!"},{"$error":"#VALUE!"},{"$error":"#VALUE!"},{"$f":"SUMMARY!BP11","v":{"$error":"#VALUE!"}},323,"bp",{"$f":"SUMMARY!$BP25","v":0},{"$f":"SUMMARY!$BP28","v":0},{"$f":"SUMMARY!$BP31","v":0},{"$f":"SUMMARY!$BP33","v":0},{"$f":"SUMMARY!$BP35","v":0},{"$f":"SUMMARY!$BP37","v":0},{"$f":"SUMMARY!$BP39","v":0},null,{"$f":"+mndot_rounding_3((100-B133)/((100/D133)-(B133/SUMMARY!$BJ$7)))","v":{"$error":"#VALUE!"}},{"$error":"#VALUE!"},{"$error":"#VALUE!"},2,{"$error":"#VALUE!"},{"$error":"#VALUE!"},{"$f":"SUMMARY!$BP$10","v":{"$error":"#VALUE!"}},{"$error":"#VALUE!"},null,null,23,{"$f":"SUMMARY!BQ57","v":""},null,{"$error":"#VALUE!"},"","",{"$error":"#VALUE!"},0,{"$error":"#VALUE!"}]
[324,{"$f":"SUMMARY!BR42","v":0},0,{"$f":"SUMMARY!BR45","v":0},0,{"$f":"SUMMARY!BR48","v":0},0,{"$error":"#VALUE!"},{"$error":"#VALUE!"},{"$error":"#VALUE!"},{"$error":"#VALUE!"},{"$error":"#VALUE!"},{"$error":"#VALUE!"},{"$f":"SUMMARY!BR11","v":{"$error":"#VALUE!"}},324,"br",{"$f":"SUMMARY!$BR25","v":0},{"$f":"SUMMARY!$BR28","v":0},{"$f":"SUMMARY!$BR31","v":0},{"$f":"SUMMARY!$BR33","v":0},{"$f":"SUMMARY!$BR35","v":0},{"$f":"SUMMARY!$BR37","v":0},{"$f":"SUMMARY!$BR39","v":0},null,{"$f":"+mndot_rounding_3((100-B134)/((100/D134)-(B134/SUMMARY!$BJ$7)))","v":{"$error":"#VALUE!"}},{"$error":"#VALUE!"},{"$error":"#VALUE!"},2,{"$error":"#VALUE!"},{"$error":"#VALUE!"},{"$f":"SUMMARY!$BR$10","v":{"$error":"#VALUE!"}},{"$error":"#VALUE!"},null,null,24,{"$f":"SUMMARY!BS57","v":""},null,{"$error":"#VALUE!"},"","",{"$error":"#VALUE!"},0,{"$error":"#VALUE!"}]
[325,{"$f":"SUMMARY!BX42","v":0},0,{"$f":"SUMMARY!BX45","v":0},0,{"$f":"SUMMARY!BX48","v":0},0,{"$error":"#VALUE!"},{"$error":"#VALUE!"},{"$error":"#VALUE!"},{"$error":"#VALUE!"},{"$error":"#VALUE!"},{"$error":"#VALUE!"},{"$f":"SUMMARY!BX11","v":{"$error":"#VALUE!"}},325,"bx",{"$f":"SUMMARY!$BX25","v":0},{"$f":"SUMMARY!$BX28","v":0},{"$f":"SUMMARY!$BX31","v":0},{"$f":"SUMMARY!$BX33","v":0},{"$f":"SUMMARY!$BX35","v":0},{"$f":"SUMMARY!$BX37","v":0},{"$f":"SUMMARY!$BX39","v":0},null,{"$f":"+mndot_rounding_3((100-B135)/((100/D135)-(B135/SUMMARY!$BV$7)))","v":{"$error":"#VALUE!"}},{"$error":"#VALUE!"},{"$error":"#VALUE!"},2,{"$error":"#VALUE!"},{"$error":"#VALUE!"},{"$f":"SUMMARY!$BX$10","v":{"$error":"#VALUE!"}},{"$error":"#VALUE!"},null,null,25,{"$f":"SUMMARY!BY57","v":""},null,{"$error":"#VALUE!"},"","",{"$error":"#VALUE!"},0,{"$error":"#VALUE!"}]
[326,{"$f":"SUMMARY!BZ42","v":0},0,{"$f":"SUMMARY!BZ45","v":0},0,{"$f":"SUMMARY!BZ48","v":0},0,{"$error":"#VALUE!"},{"$error":"#VALUE!"},{"$error":"#VALUE!"},{"$error":"#VALUE!"},{"$error":"#VALUE!"},{"$error":"#VALUE!"},{"$f":"SUMMARY!BZ11","v":{"$error":"#VALUE!"}},326,"bz",{"$f":"SUMMARY!$BZ25","v":0},{"$f":"SUMMARY!$BZ28","v":0},{"$f":"SUMMARY!$BZ31","v":0},{"$f":"SUMMARY!$BZ33","v":0},{"$f":"SUMMARY!$BZ35","v":0},{"$f":"SUMMARY!$BZ37","v":0},{"$f":"SUMMARY!$BZ39","v":0},null,{"$f":"+mndot_rounding_3((100-B136)/((100/D136)-(B136/SUMMARY!$BV$7)))","v":{"$error":"#VALUE!"}},{"$error":"#VALUE!"},{"$error":"#VALUE!"},2,{"$error":"#VALUE!"},{"$error":"#VALUE!"},{"$f":"SUMMARY!$BZ$10","v":{"$error":"#VALUE!"}},{"$error":"#VALUE!"},null,null,26,{"$f":"SUMMARY!CA57","v":""},null,{"$error":"#VALUE!"},"","",{"$error":"#VALUE!"},0,{"$error":"#VALUE!"}]
[327,{"$f":"SUMMARY!CB42","v":0},0,{"$f":"SUMMARY!CB45","v":0},0,{"$f":"SUMMARY!CB48","v":0},0,{"$error":"#VALUE!"},{"$error":"#VALUE!"},{"$error":"#VALUE!"},{"$error":"#VALUE!"},{"$error":"#VALUE!"},{"$error":"#VALUE!"},{"$f":"SUMMARY!CB11","v":{"$error":"#VALUE!"}},327,"cb",{"$f":"SUMMARY!$CB25","v":0},{"$f":"SUMMARY!$CB28","v":0},{"$f":"SUMMARY!$CB31","v":0},{"$f":"SUMMARY!$CB33","v":0},{"$f":"SUMMARY!$CB35","v":0},{"$f":"SUMMARY!$CB37","v":0},{"$f":"SUMMARY!$CB39","v":0},null,{"$f":"+mndot_rounding_3((100-B137)/((100/D137)-(B137/SUMMARY!$BV$7)))","v":{"$error":"#VALUE!"}},{"$error":"#VALUE!"},{"$error":"#VALUE!"},2,{"$error":"#VALUE!"},{"$error":"#VALUE!"},{"$f":"SUMMARY!$CB$10","v":{"$error":"#VALUE!"}},{"$error":"#VALUE!"},null,null,27,{"$f":"SUMMARY!CC57","v":""},null,{"$error":"#VALUE!"},"","",{"$error":"#VALUE!"},0,{"$error":"#VALUE!"}]
[328,{"$f":"SUMMARY!CD42","v":0},0,{"$f":"SUMMARY!CD45","v":0},0,{"$f":"SUMMARY!CD48","v":0},0,{"$error":"#VALUE!"},{"$error":"#VALUE!"},{"$error":"#VALUE!"},{"$error":"#VALUE!"},{"$error":"#VALUE!"},{"$error":"#VALUE!"},{"$f":"SUMMARY!CD11","v":{"$error":"#VALUE!"}},328,"cd",{"$f":"SUMMARY!$CD25","v":0},{"$f":"SUMMARY!$CD28","v":0},{"$f":"SUMMARY!$CD31","v":0},{"$f":"SUMMARY!$CD33","v":0},{"$f":"SUMMARY!$CD35","v":0},{"$f":"SUMMARY!$CD37","v":0},{"$f":"SUMMARY!$CD39","v":0},null,{"$f":"+mndot_rounding_3((100-B138)/((100/D138)-(B138/SUMMARY!$BV$7)))","v":{"$error":"#VALUE!"}},{"$error":"#VALUE!"},{"$error":"#VALUE!"},2,{"$error":"#VALUE!"},{"$error":"#VALUE!"},{"$f":"SUMMARY!$CD$10","v":{"$error":"#VALUE!"}},{"$error":"#VALUE!"},null,null,28,{"$f":"SUMMARY!CE57","v":""},null,{"$error":"#VALUE!"},"","",{"$error":"#VALUE!"},0,{"$error":"#VALUE!"}]
[329,{"$f":"SUMMARY!CJ42","v":0},0,{"$f":"SUMMARY!CJ45","v":0},0,{"$f":"SUMMARY!CJ48","v":0},0,{"$error":"#VALUE!"},{"$error":"#VALUE!"},{"$error":"#VALUE!"},{"$error":"#VALUE!"},{"$error":"#VALUE!"},{"$error":"#VALUE!"},{"$f":"SUMMARY!CJ11","v":{"$error":"#VALUE!"}},329,"cj",{"$f":"SUMMARY!$CJ25","v":0},{"$f":"SUMMARY!$CJ28","v":0},{"$f":"SUMMARY!$CJ31","v":0},{"$f":"SUMMARY!$CJ33","v":0},{"$f":"SUMMARY!$CJ35","v":0},{"$f":"SUMMARY!$CJ37","v":0},{"$f":"SUMMARY!$CJ39","v":0},null,{"$f":"+mndot_rounding_3((100-B139)/((100/D139)-(B139/SUMMARY!$CH$7)))","v":{"$error":"#VALUE!"}},{"$error":"#VALUE!"},{"$error":"#VALUE!"},2,{"$error":"#VALUE!"},{"$error":"#VALUE!"},{"$f":"SUMMARY!$CJ$10","v":{"$error":"#VALUE!"}},{"$error":"#VALUE!"},null,null,29,{"$f":"SUMMARY!CK57","v":""},null,{"$error":"#VALUE!"},"","",{"$error":"#VALUE!"},0,{"$error":"#VALUE!"}]
[330,{"$f":"SUMMARY!CL42","v":0},{"$f":"AVERAGE(B137:B141)","v":0},{"$f":"SUMMARY!CL45","v":0},0,{"$f":"SUMMARY!CL48","v":0},0,{"$error":"#VALUE!"},{"$error":"#VALUE!"},{"$error":"#VALUE!"},{"$error":"#VALUE!"},{"$error":"#VALUE!"},{"$error":"#VALUE!"},{"$f":"SUMMARY!CL11","v":{"$error":"#VALUE!"}},330,"cl",{"$f":"SUMMARY!$CL25","v":0},{"$f":"SUMMARY!$CL28","v":0},{"$f":"SUMMARY!$CL31","v":0},{"$f":"SUMMARY!$CL33","v":0},{"$f":"SUMMARY!$CL35","v":0},{"$f":"SUMMARY!$CL37","v":0},{"$f":"SUMMARY!$CL39","v":0},null,{"$f":"+mndot_rounding_3((100-B140)/((100/D140)-(B140/SUMMARY!$CH$7)))","v":{"$error":"#VALUE!"}},{"$error":"#VALUE!"},{"$error":"#VALUE!"},2,{"$error":"#VALUE!"},{"$error":"#VALUE!"},{"$f":"SUMMARY!$CL$10","v":{"$error":"#VALUE!"}},{"$error":"#VALUE!"},null,null,30,{"$f":"SUMMARY!CM57","v":""},null,{"$error":"#VALUE!"},"","",{"$error":"#VALUE!"},0,{"$error":"#VALUE!"}]
[331,{"$f":"SUMMARY!CN42","v":0},{"$f":"AVERAGE(B138:B141)","v":0},{"$f":"SUMMARY!CN45","v":0},0,{"$f":"SUMMARY!CN48","v":0},0,{"$error":"#VALUE!"},{"$error":"#VALUE!"},{"$error":"#VALUE!"},{"$error":"#VALUE!"},{"$error":"#VALUE!"},{"$error":"#VALUE!"},{"$f":"SUMMARY!CN11","v":{"$error":"#VALUE!"}},331,"cn",{"$f":"SUMMARY!$CN25","v":0},{"$f":"SUMMARY!$CN28","v":0},{"$f":"SUMMARY!$CN31","v":0},{"$f":"SUMMARY!$CN33","v":0},{"$f":"SUMMARY!$CN35","v":0},{"$f":"SUMMARY!$CN37","v":0},{"$f":"SUMMARY!$CN39","v":0},null,{"$f":"+mndot_rounding_3((100-B141)/((100/D141)-(B141/SUMMARY!$CH$7)))","v":{"$error":"#VALUE!"}},{"$error":"#VALUE!"},{"$error":"#VALUE!"},2,{"$error":"#VALUE!"},{"$error":"#VALUE!"},{"$f":"SUMMARY!$CN$10","v":{"$error":"#VALUE!"}},{"$error":"#VALUE!"},null,null,31,{"$f":"SUMMARY!CO57","v":""},null,{"$error":"#VALUE!"},"","",{"$error":"#VALUE!"},0,{"$error":"#VALUE!"}]
[332,{"$f":"SUMMARY!CP42","v":0},{"$f":"AVERAGE(B139:B142)","v":0},{"$f":"SUMMARY!CP45","v":0},0,{"$f":"SUMMARY!CP48","v":0},0,{"$error":"#VALUE!"},{"$error":"#VALUE!"},{"$error":"#VALUE!"},{"$error":"#VALUE!"},{"$error":"#VALUE!"},{"$error":"#VALUE!"},{"$f":"SUMMARY!CP11","v":{"$error":"#VALUE!"}},{"$f":"O141+1","v":332},"cp",{"$f":"SUMMARY!$CP25","v":0},{"$f":"SUMMARY!$CP28","v":0},{"$f":"SUMMARY!$CP31","v":0},{"$f":"SUMMARY!$CP33","v":0},{"$f":"SUMMARY!$CP35","v":0},{"$f":"SUMMARY!$CP37","v":0},{"$f":"SUMMARY!$CP39","v":0},null,{"$f":"+mndot_rounding_3((100-B142)/((100/D142)-(B142/SUMMARY!$CH$7)))","v":{"$error":"#VALUE!"}},{"$error":"#VALUE!"},{"$error":"#VALUE!"},2,{"$error":"#VALUE!"},{"$error":"#VALUE!"},{"$f":"SUMMARY!$CP$10","v":{"$error":"#VALUE!"}},{"$error":"#VALUE!"},null,null,32,{"$f":"SUMMARY!CQ57","v":""},null,{"$error":"#VALUE!"},"","",{"$error":"#VALUE!"},0,{"$error":"#VALUE!"}]
[{"$f":"A43","v":333},{"$f":"SUMMARY!CV42","v":0},{"$f":"AVERAGE(B141:B143)","v":0},{"$f":"SUMMARY!CV45","v":0},{"$f":"mndot_rounding_3(AVERAGE(D141:D143))","v":0},{"$f":"SUMMARY!CV48","v":0},{"$f":"ROUND(AVERAGE(F141:F143),3)","v":0},{"$error":"#VALUE!"},{"$f":"mndot_rounding_1(AVERAGE(H141:H143))","v":{"$error":"#VALUE!"}},{"$error":"#VALUE!"},{"$f":"mndot_rounding_1(AVERAGE(J141:J143))","v":{"$error":"#VALUE!"}},{"$error":"#VALUE!"},{"$f":"mndot_rounding_1(AVERAGE(L141:L143))","v":{"$error":"#VALUE!"}},{"$f":"SUMMARY!CV11","v":{"$error":"#VALUE!"}},333,"cv",{"$f":"SUMMARY!$CV25","v":0},{"$f":"SUMMARY!$CV28","v":0},{"$f":"SUMMARY!$CV31","v":0},{"$f":"SUMMARY!$CV33","v":0},{"$f":"SUMMARY!$CV35","v":0},{"$f":"SUMMARY!$CV37","v":0},{"$f":"SUMMARY!$CV39","v":0},null,{"$f":"+mndot_rounding_3((100-B143)/((100/D143)-(B143/SUMMARY!$CT$7)))","v":{"$error":"#VALUE!"}},{"$f":"+mndot_rounding_1(B143-((Y143-N143)*$K$5)*(100-B143)/(N143*Y143))","v":{"$error":"#VALUE!"}},{"$f":"+mndot_rounding_1((Z143*100)/(100-B143))","v":{"$error":"#VALUE!"}},2,{"$error":"#VALUE!"},{"$f":"IF(AE143<2.58,mndot_rounding_1(AB143*(2.65/AE143)),(IF(AE143>2.7,mndot_rounding_1(AB143*(2.65/AE143)),AB143)))","v":{"$error":"#VALUE!"}},{"$f":"SUMMARY!$CV$10","v":{"$error":"#VALUE!"}},{"$error":"#VALUE!"},null,null,33,{"$f":"SUMMARY!CW57","v":""},null,{"$error":"#VALUE!"},"","",{"$error":"#VALUE!"},0,{"$error":"#VALUE!"}]
[334,{"$f":"SUMMARY!CX42","v":0},{"$f":"AVERAGE(B141:B144)","v":0},{"$f":"SUMMARY!CX45","v":0},{"$f":"mndot_rounding_3(AVERAGE(D141:D144))","v":0},{"$f":"SUMMARY!CX48","v":0},{"$f":"ROUND(AVERAGE(F141:F144),3)","v":0},{"$error":"#VALUE!"},{"$f":"mndot_rounding_1(AVERAGE(H141:H144))","v":{"$error":"#VALUE!"}},{"$error":"#VALUE!"},{"$f":"mndot_rounding_1(AVERAGE(J141:J144))","v":{"$error":"#VALUE!"}},{"$error":"#VALUE!"},{"$f":"mndot_rounding_1(AVERAGE(L141:L144))","v":{"$error":"#VALUE!"}},{"$f":"SUMMARY!CX11","v":{"$error":"#VALUE!"}},334,"cx",{"$f":"SUMMARY!$CX25","v":0},{"$f":"SUMMARY!$CX28","v":0},{"$f":"SUMMARY!$CX31","v":0},{"$f":"SUMMARY!$CX33","v":0},{"$f":"SUMMARY!$CX35","v":0},{"$f":"SUMMARY!$CX37","v":0},{"$f":"SUMMARY!$CX39","v":0},null,{"$f":"+mndot_rounding_3((100-B144)/((100/D144)-(B144/SUMMARY!$CT$7)))","v":{"$error":"#VALUE!"}},{"$error":"#VALUE!"},{"$error":"#VALUE!"},2,{"$error":"#VALUE!"},{"$error":"#VALUE!"},{"$f":"SUMMARY!$CX$10","v":{"$error":"#VALUE!"}},{"$error":"#VALUE!"},null,null,34,{"$f":"SUMMARY!CY57","v":""},null,{"$error":"#VALUE!"},"","",{"$error":"#VALUE!"},0,{"$error":"#VALUE!"}]
[335,{"$f":"SUMMARY!CZ42","v":0},0,{"$f":"SUMMARY!CZ45","v":0},0,{"$f":"SUMMARY!CZ48","v":0},0,{"$error":"#VALUE!"},{"$error":"#VALUE!"},{"$error":"#VALUE!"},{"$error":"#VALUE!"},{"$error":"#VALUE!"},{"$error":"#VALUE!"},{"$f":"SUMMARY!CZ11","v":{"$error":"#VALUE!"}},335,"cz",{"$f":"SUMMARY!$CZ25","v":0},{"$f":"SUMMARY!$CZ28","v":0},{"$f":"SUMMARY!$CZ31","v":0},{"$f":"SUMMARY!$CZ33","v":0},{"$f":"SUMMARY!$CZ35","v":0},{"$f":"SUMMARY!$CZ37","v":0},{"$f":"SUMMARY!$CZ39","v":0},null,{"$f":"+mndot_rounding_3((100-B145)/((100/D145)-(B145/SUMMARY!$CT$7)))","v":{"$error":"#VALUE!"}},{"$error":"#VALUE!"},{"$error":"#VALUE!"},2,{"$error":"#VALUE!"},{"$error":"#VALUE!"},{"$f":"SUMMARY!$CZ$10","v":{"$error":"#VALUE!"}},{"$error":"#VALUE!"},null,null,35,{"$f":"SUMMARY!DA57","v":""},null,{"$error":"#VALUE!"},"","",{"$error":"#VALUE!"},0,{"$error":"#VALUE!"}]
[336,{"$f":"SUMMARY!DB42","v":0},0,{"$f":"SUMMARY!DB45","v":0},0,{"$f":"SUMMARY!DB48","v":0},0,{"$error":"#VALUE!"},{"$error":"#VALUE!"},{"$error":"#VALUE!"},{"$error":"#VALUE!"},{"$error":"#VALUE!"},{"$error":"#VALUE!"},{"$f":"SUMMARY!DB11","v":{"$error":"#VALUE!"}},336,"db",{"$f":"SUMMARY!$DB25","v":0},{"$f":"SUMMARY!$DB28","v":0},{"$f":"SUMMARY!$DB31","v":0},{"$f":"SUMMARY!$DB33","v":0},{"$f":"SUMMARY!$DB35","v":0},{"$f":"SUMMARY!$DB37","v":0},{"$f":"SUMMARY!$DB39","v":0},null,{"$f":"+mndot_rounding_3((100-B146)/((100/D146)-(B146/SUMMARY!$CT$7)))","v":{"$error":"#VALUE!"}},{"$error":"#VALUE!"},{"$error":"#VALUE!"},2,{"$error":"#VALUE!"},{"$error":"#VALUE!"},{"$f":"SUMMARY!$DB$10","v":{"$error":"#VALUE!"}},{"$error":"#VALUE!"},null,null,36,{"$f":"SUMMARY!DC57","v":""},null,{"$error":"#VALUE!"},"","",{"$f":"AVERAGE(AL143,AL144,AL145,AL146)+(IF(AL143=0,\" \",IF(AL144=0,\" \",IF(AL145=0,\" \",IF(AL146=0,\" \",)))))","v":{"$error":"#VALUE!"}},0,{"$error":"#VALUE!"}]
[337,{"$f":"SUMMARY!DH42","v":0},0,{"$f":"SUMMARY!DH45","v":0},0,{"$f":"SUMMARY!DH48","v":0},0,{"$error":"#VALUE!"},{"$error":"#VALUE!"},{"$error":"#VALUE!"},{"$error":"#VALUE!"},{"$error":"#VALUE!"},{"$error":"#VALUE!"},{"$f":"SUMMARY!DH11","v":{"$error":"#VALUE!"}},337,"dh",{"$f":"SUMMARY!$DH25","v":0},{"$f":"SUMMARY!$DH28","v":0},{"$f":"SUMMARY!$DH31","v":0},{"$f":"SUMMARY!$DH33","v":0},{"$f":"SUMMARY!$DH35","v":0},{"$f":"SUMMARY!$DH37","v":0},{"$f":"SUMMARY!$DH39","v":0},null,{"$f":"+mndot_rounding_3((100-B147)/((100/D147)-(B147/SUMMARY!$DF$7)))","v":{"$error":"#VALUE!"}},{"$error":"#VALUE!"},{"$error":"#VALUE!"},2,{"$error":"#VALUE!"},{"$error":"#VALUE!"},{"$f":"SUMMARY!$DH$10","v":{"$error":"#VALUE!"}},{"$error":"#VALUE!"},null,null,37,{"$f":"SUMMARY!DI57","v":""},null,{"$error":"#VALUE!"},"","",{"$error":"#VALUE!"},0,{"$error":"#VALUE!"}]
[338,{"$f":"SUMMARY!DJ42","v":0},0,{"$f":"SUMMARY!DJ45","v":0},0,{"$f":"SUMMARY!DJ48","v":0},0,{"$error":"#VALUE!"},{"$error":"#VALUE!"},{"$error":"#VALUE!"},{"$error":"#VALUE!"},{"$error":"#VALUE!"},{"$error":"#VALUE!"},{"$f":"SUMMARY!DJ11","v":{"$error":"#VALUE!"}},338,"dj",{"$f":"SUMMARY!$DJ25","v":0},{"$f":"SUMMARY!$DJ28","v":0},{"$f":"SUMMARY!$DJ31","v":0},{"$f":"SUMMARY!$DJ33","v":0},{"$f":"SUMMARY!$DJ35","v":0},{"$f":"SUMMARY!$DJ37","v":0},{"$f":"SUMMARY!$DJ39","v":0},null,{"$f":"+mndot_rounding_3((100-B148)/((100/D148)-(B148/SUMMARY!$DF$7)))","v":{"$error":"#VALUE!"}},{"$error":"#VALUE!"},{"$error":"#VALUE!"},2,{"$error":"#VALUE!"},{"$error":"#VALUE!"},{"$f":"SUMMARY!$DJ$10","v":{"$error":"#VALUE!"}},{"$error":"#VALUE!"},null,null,38,{"$f":"SUMMARY!DK57","v":""},null,{"$error":"#VALUE!"},"","",{"$error":"#VALUE!"},0,{"$error":"#VALUE!"}]
[339,{"$f":"SUMMARY!DL42","v":0},0,{"$f":"SUMMARY!DL45","v":0},0,{"$f":"SUMMARY!DL48","v":0},0,{"$error":"#VALUE!"},{"$error":"#VALUE!"},{"$error":"#VALUE!"},{"$error":"#VALUE!"},{"$error":"#VALUE!"},{"$error":"#VALUE!"},{"$f":"SUMMARY!DL11","v":{"$error":"#VALUE!"}},339,"dl",{"$f":"SUMMARY!$DL25","v":0},{"$f":"SUMMARY!$DL28","v":0},{"$f":"SUMMARY!$DL31","v":0},{"$f":"SUMMARY!$DL33","v":0},{"$f":"SUMMARY!$DL35","v":0},{"$f":"SUMMARY!$DL37","v":0},{"$f":"SUMMARY!$DL39","v":0},null,{"$f":"+mndot_rounding_3((100-B149)/((100/D149)-(B149/SUMMARY!$DF$7)))","v":{"$error":"#VALUE!"}},{"$error":"#VALUE!"},{"$error":"#VALUE!"},2,{"$error":"#VALUE!"},{"$error":"#VALUE!"},{"$f":"SUMMARY!$DL$10","v":{"$error":"#VALUE!"}},{"$error":"#VALUE!"},null,null,39,{"$f":"SUMMARY!DM57","v":""},null,{"$error":"#VALUE!"},"","",{"$error":"#VALUE!"},0,{"$error":"#VALUE!"}]
[340,{"$f":"SUMMARY!DN42","v":0},0,{"$f":"SUMMARY!DN45","v":0},0,{"$f":"SUMMARY!DN48","v":0},0,{"$error":"#VALUE!"},{"$error":"#VALUE!"},{"$error":"#VALUE!"},{"$error":"#VALUE!"},{"$error":"#VALUE!"},{"$error":"#VALUE!"},{"$f":"SUMMARY!DN11","v":{"$error":"#VALUE!"}},340,"dn",{"$f":"SUMMARY!$DN25","v":0},{"$f":"SUMMARY!$DN28","v":0},{"$f":"SUMMARY!$DN31","v":0},{"$f":"SUMMARY!$DN33","v":0},{"$f":"SUMMARY!$DN35","v":0},{"$f":"SUMMARY!$DN37","v":0},{"$f":"SUMMARY!$DN39","v":0},null,{"$f":"+mndot_rounding_3((100-B150)/((100/D150)-(B150/SUMMARY!$DF$7)))","v":{"$error":"#VALUE!"}},{"$error":"#VALUE!"},{"$error":"#VALUE!"},2,{"$error":"#VALUE!"},{"$error":"#VALUE!"},{"$f":"SUMMARY!$DN$10","v":{"$error":"#VALUE!"}},{"$error":"#VALUE!"},null,null,40,{"$f":"SUMMARY!DO57","v":""},null,{"$error":"#VALUE!"},"","",{"$error":"#VALUE!"},0,{"$error":"#VALUE!"}]
[341,{"$f":"SUMMARY!DT42","v":0},0,{"$f":"SUMMARY!DT45","v":0},0,{"$f":"SUMMARY!DT48","v":0},0,{"$error":"#VALUE!"},{"$error":"#VALUE!"},{"$error":"#VALUE!"},{"$error":"#VALUE!"},{"$error":"#VALUE!"},{"$error":"#VALUE!"},{"$f":"SUMMARY!DT11","v":{"$error":"#VALUE!"}},341,"dt",{"$f":"SUMMARY!$DT25","v":0},{"$f":"SUMMARY!$DT28","v":0},{"$f":"SUMMARY!$DT31","v":0},{"$f":"SUMMARY!$DT33","v":0},{"$f":"SUMMARY!$DT35","v":0},{"$f":"SUMMARY!$DT37","v":0},{"$f":"SUMMARY!$DT39","v":0},null,{"$f":"+mndot_rounding_3((100-B151)/((100/D151)-(B151/SUMMARY!$DR$7)))","v":{"$error":"#VALUE!"}},{"$error":"#VALUE!"},{"$error":"#VALUE!"},2,{"$error":"#VALUE!"},{"$error":"#VALUE!"},{"$f":"SUMMARY!$DT$10","v":{"$error":"#VALUE!"}},{"$error":"#VALUE!"},null,null,41,{"$f":"SUMMARY!DU57","v":""},null,{"$error":"#VALUE!"},"","",{"$error":"#VALUE!"},0,{"$error":"#VALUE!"}]
[342,{"$f":"SUMMARY!DV42","v":0},0,{"$f":"SUMMARY!DV45","v":0},0,{"$f":"SUMMARY!DV48","v":0},0,{"$error":"#VALUE!"},{"$error":"#VALUE!"},{"$error":"#VALUE!"},{"$error":"#VALUE!"},{"$error":"#VALUE!"},{"$error":"#VALUE!"},{"$f":"SUMMARY!DV11","v":{"$error":"#VALUE!"}},342,"dv",{"$f":"SUMMARY!$DV25","v":0},{"$f":"SUMMARY!$DV28","v":0},{"$f":"SUMMARY!$DV31","v":0},{"$f":"SUMMARY!$DV33","v":0},{"$f":"SUMMARY!$DV35","v":0},{"$f":"SUMMARY!$DV37","v":0},{"$f":"SUMMARY!$DV39","v":0},null,{"$f":"+mndot_rounding_3((100-B152)/((100/D152)-(B152/SUMMARY!$DR$7)))","v":{"$error":"#VALUE!"}},{"$error":"#VALUE!"},{"$error":"#VALUE!"},2,{"$error":"#VALUE!"},{"$error":"#VALUE!"},{"$f":"SUMMARY!$DV$10","v":{"$error":"#VALUE!"}},{"$error":"#VALUE!"},null,null,42,{"$f":"SUMMARY!DW57","v":""},null,{"$error":"#VALUE!"},"","",{"$error":"#VALUE!"},0,{"$error":"#VALUE!"}]
[343,{"$f":"SUMMARY!DX42","v":0},0,{"$f":"SUMMARY!DX45","v":0},0,{"$f":"SUMMARY!DX48","v":0},0,{"$error":"#VALUE!"},{"$error":"#VALUE!"},{"$error":"#VALUE!"},{"$error":"#VALUE!"},{"$error":"#VALUE!"},{"$error":"#VALUE!"},{"$f":"SUMMARY!DX11","v":{"$error":"#VALUE!"}},343,"dx",{"$f":"SUMMARY!$DX25","v":0},{"$f":"SUMMARY!$DX28","v":0},{"$f":"SUMMARY!$DX31","v":0},{"$f":"SUMMARY!$DX33","v":0},{"$f":"SUMMARY!$DX35","v":0},{"$f":"SUMMARY!$DX37","v":0},{"$f":"SUMMARY!$DX39","v":0},null,{"$f":"+mndot_rounding_3((100-B153)/((100/D153)-(B153/SUMMARY!$DR$7)))","v":{"$error":"#VALUE!"}},{"$error":"#VALUE!"},{"$error":"#VALUE!"},2,{"$error":"#VALUE!"},{"$error":"#VALUE!"},{"$f":"SUMMARY!$DX$10","v":{"$error":"#VALUE!"}},{"$error":"#VALUE!"},null,null,43,{"$f":"SUMMARY!DY57","v":""},null,{"$error":"#VALUE!"},"","",{"$error":"#VALUE!"},0,{"$error":"#VALUE!"}]
[344,{"$f":"SUMMARY!DZ42","v":0},0,{"$f":"SUMMARY!DZ45","v":0},0,{"$f":"SUMMARY!DZ48","v":0},0,{"$error":"#VALUE!"},{"$error":"#VALUE!"},{"$error":"#VALUE!"},{"$error":"#VALUE!"},{"$error":"#VALUE!"},{"$error":"#VALUE!"},{"$f":"SUMMARY!DZ11","v":{"$error":"#VALUE!"}},344,"dz",{"$f":"SUMMARY!$DZ25","v":0},{"$f":"SUMMARY!$DZ28","v":0},{"$f":"SUMMARY!$DZ31","v":0},{"$f":"SUMMARY!$DZ33","v":0},{"$f":"SUMMARY!$DZ35","v":0},{"$f":"SUMMARY!$DZ37","v":0},{"$f":"SUMMARY!$DZ39","v":0},null,{"$f":"+mndot_rounding_3((100-B154)/((100/D154)-(B154/SUMMARY!$DR$7)))","v":{"$error":"#VALUE!"}},{"$error":"#VALUE!"},{"$error":"#VALUE!"},2,{"$error":"#VALUE!"},{"$error":"#VALUE!"},{"$f":"SUMMARY!$DZ$10","v":{"$error":"#VALUE!"}},{"$error":"#VALUE!"},null,null,44,{"$f":"SUMMARY!EA57","v":""},null,{"$error":"#VALUE!"},"","",{"$error":"#VALUE!"},0,{"$error":"#VALUE!"}]
[345,{"$f":"SUMMARY!EF42","v":0},0,{"$f":"SUMMARY!EF45","v":0},0,{"$f":"SUMMARY!EF48","v":0},0,{"$error":"#VALUE!"},{"$error":"#VALUE!"},{"$error":"#VALUE!"},{"$error":"#VALUE!"},{"$error":"#VALUE!"},{"$error":"#VALUE!"},{"$f":"SUMMARY!EF11","v":{"$error":"#VALUE!"}},345,"ef",{"$f":"SUMMARY!$EF25","v":0},{"$f":"SUMMARY!$EF28","v":0},{"$f":"SUMMARY!$EF31","v":0},{"$f":"SUMMARY!$EF33","v":0},{"$f":"SUMMARY!$EF35","v":0},{"$f":"SUMMARY!$EF37","v":0},{"$f":"SUMMARY!$EF39","v":0},null,{"$f":"+mndot_rounding_3((100-B155)/((100/D155)-(B155/SUMMARY!$ED$7)))","v":{"$error":"#VALUE!"}},{"$error":"#VALUE!"},{"$error":"#VALUE!"},2,{"$error":"#VALUE!"},{"$error":"#VALUE!"},{"$f":"SUMMARY!$EF$10","v":{"$error":"#VALUE!"}},{"$error":"#VALUE!"},null,null,45,{"$f":"SUMMARY!EG57","v":""},null,{"$error":"#VALUE!"},"","",{"$error":"#VALUE!"},0,{"$error":"#VALUE!"}]
[346,{"$f":"SUMMARY!EH42","v":0},0,{"$f":"SUMMARY!EH45","v":0},0,{"$f":"SUMMARY!EH48","v":0},0,{"$error":"#VALUE!"},{"$error":"#VALUE!"},{"$error":"#VALUE!"},{"$error":"#VALUE!"},{"$error":"#VALUE!"},{"$error":"#VALUE!"},{"$f":"SUMMARY!EH11","v":{"$error":"#VALUE!"}},346,"eh",{"$f":"SUMMARY!$EH25","v":0},{"$f":"SUMMARY!$EH28","v":0},{"$f":"SUMMARY!$EH31","v":0},{"$f":"SUMMARY!$EH33","v":0},{"$f":"SUMMARY!$EH35","v":0},{"$f":"SUMMARY!$EH37","v":0},{"$f":"SUMMARY!$EH39","v":0},null,{"$f":"+mndot_rounding_3((100-B156)/((100/D156)-(B156/SUMMARY!$ED$7)))","v":{"$error":"#VALUE!"}},{"$error":"#VALUE!"},{"$error":"#VALUE!"},2,{"$error":"#VALUE!"},{"$error":"#VALUE!"},{"$f":"SUMMARY!$EH$10","v":{"$error":"#VALUE!"}},{"$error":"#VALUE!"},null,null,46,{"$f":"SUMMARY!EI57","v":""},null,{"$error":"#VALUE!"},"","",{"$error":"#VALUE!"},0,{"$error":"#VALUE!"}]
[347,{"$f":"SUMMARY!EJ42","v":0},0,{"$f":"SUMMARY!EJ45","v":0},0,{"$f":"SUMMARY!EJ48","v":0},0,{"$error":"#VALUE!"},{"$error":"#VALUE!"},{"$error":"#VALUE!"},{"$error":"#VALUE!"},{"$error":"#VALUE!"},{"$error":"#VALUE!"},{"$f":"SUMMARY!EJ11","v":{"$error":"#VALUE!"}},347,"ej",{"$f":"SUMMARY!$EJ25","v":0},{"$f":"SUMMARY!$EJ28","v":0},{"$f":"SUMMARY!$EJ31","v":0},{"$f":"SUMMARY!$EJ33","v":0},{"$f":"SUMMARY!$EJ35","v":0},{"$f":"SUMMARY!$EJ37","v":0},{"$f":"SUMMARY!$EJ39","v":0},null,{"$f":"+mndot_rounding_3((100-B157)/((100/D157)-(B157/SUMMARY!$ED$7)))","v":{"$error":"#VALUE!"}},{"$error":"#VALUE!"},{"$error":"#VALUE!"},2,{"$error":"#VALUE!"},{"$error":"#VALUE!"},{"$f":"SUMMARY!$EJ$10","v":{"$error":"#VALUE!"}},{"$error":"#VALUE!"},null,null,47,{"$f":"SUMMARY!EK57","v":""},null,{"$error":"#VALUE!"},"","",{"$error":"#VALUE!"},0,{"$error":"#VALUE!"}]
[348,{"$f":"SUMMARY!EL42","v":0},0,{"$f":"SUMMARY!EL45","v":0},0,{"$f":"SUMMARY!EL48","v":0},0,{"$error":"#VALUE!"},{"$error":"#VALUE!"},{"$error":"#VALUE!"},{"$error":"#VALUE!"},{"$error":"#VALUE!"},{"$error":"#VALUE!"},{"$f":"SUMMARY!EL11","v":{"$error":"#VALUE!"}},348,"el",{"$f":"SUMMARY!$EL25","v":0},{"$f":"SUMMARY!$EL28","v":0},{"$f":"SUMMARY!$EL31","v":0},{"$f":"SUMMARY!$EL33","v":0},{"$f":"SUMMARY!$EL35","v":0},{"$f":"SUMMARY!$EL37","v":0},{"$f":"SUMMARY!$EL39","v":0},null,{"$f":"+mndot_rounding_3((100-B158)/((100/D158)-(B158/SUMMARY!$ED$7)))","v":{"$error":"#VALUE!"}},{"$error":"#VALUE!"},{"$error":"#VALUE!"},2,{"$error":"#VALUE!"},{"$error":"#VALUE!"},{"$f":"SUMMARY!$EL$10","v":{"$error":"#VALUE!"}},{"$error":"#VALUE!"},null,null,48,{"$f":"SUMMARY!EM57","v":""},null,{"$error":"#VALUE!"},"","",{"$error":"#VALUE!"},0,{"$error":"#VALUE!"}]
[349,{"$f":"SUMMARY!ER42","v":0},0,{"$f":"SUMMARY!ER45","v":0},0,{"$f":"SUMMARY!ER48","v":0},0,{"$error":"#VALUE!"},{"$error":"#VALUE!"},{"$error":"#VALUE!"},{"$error":"#VALUE!"},{"$error":"#VALUE!"},{"$error":"#VALUE!"},{"$f":"SUMMARY!ER11","v":{"$error":"#VALUE!"}},349,"er",{"$f":"SUMMARY!$ER25","v":0},{"$f":"SUMMARY!$ER28","v":0},{"$f":"SUMMARY!$ER31","v":0},{"$f":"SUMMARY!$ER33","v":0},{"$f":"SUMMARY!$ER35","v":0},{"$f":"SUMMARY!$ER37","v":0},{"$f":"SUMMARY!$ER39","v":0},null,{"$f":"+mndot_rounding_3((100-B159)/((100/D159)-(B159/SUMMARY!$EP$7)))","v":{"$error":"#VALUE!"}},{"$error":"#VALUE!"},{"$error":"#VALUE!"},2,{"$error":"#VALUE!"},{"$error":"#VALUE!"},{"$f":"SUMMARY!$ER$10","v":{"$error":"#VALUE!"}},{"$error":"#VALUE!"},null,null,49,{"$f":"SUMMARY!ES57","v":""},null,{"$error":"#VALUE!"},"","",{"$error":"#VALUE!"},0,{"$error":"#VALUE!"}]
[350,{"$f":"SUMMARY!ET42","v":0},0,{"$f":"SUMMARY!ET45","v":0},0,{"$f":"SUMMARY!ET48","v":0},0,{"$error":"#VALUE!"},{"$error":"#VALUE!"},{"$error":"#VALUE!"},{"$error":"#VALUE!"},{"$error":"#VALUE!"},{"$error":"#VALUE!"},{"$f":"SUMMARY!ET11","v":{"$error":"#VALUE!"}},350,"et",{"$f":"SUMMARY!$ET25","v":0},{"$f":"SUMMARY!$ET28","v":0},{"$f":"SUMMARY!$ET31","v":0},{"$f":"SUMMARY!$ET33","v":0},{"$f":"SUMMARY!$ET35","v":0},{"$f":"SUMMARY!$ET37","v":0},{"$f":"SUMMARY!$ET39","v":0},null,{"$f":"+mndot_rounding_3((100-B160)/((100/D160)-(B160/SUMMARY!$EP$7)))","v":{"$error":"#VALUE!"}},{"$error":"#VALUE!"},{"$error":"#VALUE!"},2,{"$error":"#VALUE!"},{"$error":"#VALUE!"},{"$f":"SUMMARY!$ET$10","v":{"$error":"#VALUE!"}},{"$error":"#VALUE!"},null,null,50,{"$f":"SUMMARY!EU57","v":""},null,{"$error":"#VALUE!"},"","",{"$error":"#VALUE!"},0,{"$error":"#VALUE!"}]
[351,{"$f":"SUMMARY!EV42","v":0},0,{"$f":"SUMMARY!EV45","v":0},0,{"$f":"SUMMARY!EV48","v":0},0,{"$error":"#VALUE!"},{"$error":"#VALUE!"},{"$error":"#VALUE!"},{"$error":"#VALUE!"},{"$error":"#VALUE!"},{"$error":"#VALUE!"},{"$f":"SUMMARY!EV11","v":{"$error":"#VALUE!"}},351,"ev",{"$f":"SUMMARY!$EV25","v":0},{"$f":"SUMMARY!$EV28","v":0},{"$f":"SUMMARY!$EV31","v":0},{"$f":"SUMMARY!$EV33","v":0},{"$f":"SUMMARY!$EV35","v":0},{"$f":"SUMMARY!$EV37","v":0},{"$f":"SUMMARY!$EV39","v":0},null,{"$f":"+mndot_rounding_3((100-B161)/((100/D161)-(B161/SUMMARY!$EP$7)))","v":{"$error":"#VALUE!"}},{"$error":"#VALUE!"},{"$error":"#VALUE!"},2,{"$error":"#VALUE!"},{"$error":"#VALUE!"},{"$f":"SUMMARY!$EV$10","v":{"$error":"#VALUE!"}},{"$error":"#VALUE!"},null,null,51,{"$f":"SUMMARY!EW57","v":""},null,{"$error":"#VALUE!"},"","",{"$error":"#VALUE!"},0,{"$error":"#VALUE!"}]
[352,{"$f":"SUMMARY!EX42","v":0},0,{"$f":"SUMMARY!EX45","v":0},0,{"$f":"SUMMARY!EX48","v":0},0,{"$error":"#VALUE!"},{"$error":"#VALUE!"},{"$error":"#VALUE!"},{"$error":"#VALUE!"},{"$error":"#VALUE!"},{"$error":"#VALUE!"},{"$f":"SUMMARY!EX11","v":{"$error":"#VALUE!"}},352,"ex",{"$f":"SUMMARY!$EX25","v":0},{"$f":"SUMMARY!$EX28","v":0},{"$f":"SUMMARY!$EX31","v":0},{"$f":"SUMMARY!$EX33","v":0},{"$f":"SUMMARY!$EX35","v":0},{"$f":"SUMMARY!$EX37","v":0},{"$f":"SUMMARY!$EX39","v":0},null,{"$f":"+mndot_rounding_3((100-B162)/((100/D162)-(B162/SUMMARY!$EP$7)))","v":{"$error":"#VALUE!"}},{"$error":"#VALUE!"},{"$error":"#VALUE!"},2,{"$error":"#VALUE!"},{"$error":"#VALUE!"},{"$f":"SUMMARY!$EX$10","v":{"$error":"#VALUE!"}},{"$error":"#VALUE!"},null,null,52,{"$f":"SUMMARY!EY57","v":""},null,{"$error":"#VALUE!"},"","",{"$error":"#VALUE!"},0,{"$error":"#VALUE!"}]
[353,{"$f":"SUMMARY!FD42","v":0},0,{"$f":"SUMMARY!FD45","v":0},0,{"$f":"SUMMARY!FD48","v":0},0,{"$error":"#VALUE!"},{"$error":"#VALUE!"},{"$error":"#VALUE!"},{"$error":"#VALUE!"},{"$error":"#VALUE!"},{"$error":"#VALUE!"},{"$f":"SUMMARY!FD11","v":{"$error":"#VALUE!"}},353,"fd",{"$f":"SUMMARY!$FD25","v":0},{"$f":"SUMMARY!$FD28","v":0},{"$f":"SUMMARY!$FD31","v":0},{"$f":"SUMMARY!$FD33","v":0},{"$f":"SUMMARY!$FD35","v":0},{"$f":"SUMMARY!$FD37","v":0},{"$f":"SUMMARY!$FD39","v":0},null,{"$f":"+mndot_rounding_3((100-B163)/((100/D163)-(B163/SUMMARY!$FB$7)))","v":{"$error":"#VALUE!"}},{"$error":"#VALUE!"},{"$error":"#VALUE!"},2,{"$error":"#VALUE!"},{"$error":"#VALUE!"},{"$f":"SUMMARY!$FD$10","v":{"$error":"#VALUE!"}},{"$error":"#VALUE!"},null,null,53,{"$f":"SUMMARY!FE57","v":""},null,{"$error":"#VALUE!"},"","",{"$error":"#VALUE!"},0,{"$error":"#VALUE!"}]
[354,{"$f":"SUMMARY!FF42","v":0},0,{"$f":"SUMMARY!FF45","v":0},0,{"$f":"SUMMARY!FF48","v":0},0,{"$error":"#VALUE!"},{"$error":"#VALUE!"},{"$error":"#VALUE!"},{"$error":"#VALUE!"},{"$error":"#VALUE!"},{"$error":"#VALUE!"},{"$f":"SUMMARY!FF11","v":{"$error":"#VALUE!"}},354,"ff",{"$f":"SUMMARY!$FF25","v":0},{"$f":"SUMMARY!$FF28","v":0},{"$f":"SUMMARY!$FF31","v":0},{"$f":"SUMMARY!$FF33","v":0},{"$f":"SUMMARY!$FF35","v":0},{"$f":"SUMMARY!$FF37","v":0},{"$f":"SUMMARY!$FF39","v":0},null,{"$f":"+mndot_rounding_3((100-B164)/((100/D164)-(B164/SUMMARY!$FB$7)))","v":{"$error":"#VALUE!"}},{"$error":"#VALUE!"},{"$error":"#VALUE!"},2,{"$error":"#VALUE!"},{"$error":"#VALUE!"},{"$f":"SUMMARY!$FF$10","v":{"$error":"#VALUE!"}},{"$error":"#VALUE!"},null,null,54,{"$f":"SUMMARY!FG57","v":""},null,{"$error":"#VALUE!"},"","",{"$error":"#VALUE!"},0,{"$error":"#VALUE!"}]
[355,{"$f":"SUMMARY!FH42","v":0},0,{"$f":"SUMMARY!FH45","v":0},0,{"$f":"SUMMARY!FH48","v":0},0,{"$error":"#VALUE!"},{"$error":"#VALUE!"},{"$error":"#VALUE!"},{"$error":"#VALUE!"},{"$error":"#VALUE!"},{"$error":"#VALUE!"},{"$f":"SUMMARY!FH11","v":{"$error":"#VALUE!"}},355,"fh",{"$f":"SUMMARY!$FH25","v":0},{"$f":"SUMMARY!$FH28","v":0},{"$f":"SUMMARY!$FH31","v":0},{"$f":"SUMMARY!$FH33","v":0},{"$f":"SUMMARY!$FH35","v":0},{"$f":"SUMMARY!$FH37","v":0},{"$f":"SUMMARY!$FH39","v":0},null,{"$f":"+mndot_rounding_3((100-B165)/((100/D165)-(B165/SUMMARY!$FB$7)))","v":{"$error":"#VALUE!"}},{"$error":"#VALUE!"},{"$error":"#VALUE!"},2,{"$error":"#VALUE!"},{"$error":"#VALUE!"},{"$f":"SUMMARY!$FH$10","v":{"$error":"#VALUE!"}},{"$error":"#VALUE!"},null,null,55,{"$f":"SUMMARY!FI57","v":""},null,{"$error":"#VALUE!"},"","",{"$error":"#VALUE!"},0,{"$error":"#VALUE!"}]
[356,{"$f":"SUMMARY!FJ42","v":0},0,{"$f":"SUMMARY!FJ45","v":0},0,{"$f":"SUMMARY!FJ48","v":0},0,{"$error":"#VALUE!"},{"$error":"#VALUE!"},{"$error":"#VALUE!"},{"$error":"#VALUE!"},{"$error":"#VALUE!"},{"$error":"#VALUE!"},{"$f":"SUMMARY!FJ11","v":{"$error":"#VALUE!"}},356,"fj",{"$f":"SUMMARY!$FJ25","v":0},{"$f":"SUMMARY!$FJ28","v":0},{"$f":"SUMMARY!$FJ31","v":0},{"$f":"SUMMARY!$FJ33","v":0},{"$f":"SUMMARY!$FJ35","v":0},{"$f":"SUMMARY!$FJ37","v":0},{"$f":"SUMMARY!$FJ39","v":0},null,{"$f":"+mndot_rounding_3((100-B166)/((100/D166)-(B166/SUMMARY!$FB$7)))","v":{"$error":"#VALUE!"}},{"$error":"#VALUE!"},{"$error":"#VALUE!"},2,{"$error":"#VALUE!"},{"$error":"#VALUE!"},{"$f":"SUMMARY!$FJ$10","v":{"$error":"#VALUE!"}},{"$error":"#VALUE!"},null,null,56,{"$f":"SUMMARY!FK57","v":""},null,{"$error":"#VALUE!"},"","",{"$error":"#VALUE!"},0,{"$error":"#VALUE!"}]
[357,{"$f":"SUMMARY!FP42","v":0},0,{"$f":"SUMMARY!FP45","v":0},0,{"$f":"SUMMARY!FP48","v":0},0,{"$error":"#VALUE!"},{"$error":"#VALUE!"},{"$error":"#VALUE!"},{"$error":"#VALUE!"},{"$error":"#VALUE!"},{"$error":"#VALUE!"},{"$f":"SUMMARY!FP11","v":{"$error":"#VALUE!"}},357,"fp",{"$f":"SUMMARY!$FP25","v":0},{"$f":"SUMMARY!$FP28","v":0},{"$f":"SUMMARY!$FP31","v":0},{"$f":"SUMMARY!$FP33","v":0},{"$f":"SUMMARY!$FP35","v":0},{"$f":"SUMMARY!$FP37","v":0},{"$f":"SUMMARY!$FP39","v":0},null,{"$f":"+mndot_rounding_3((100-B167)/((100/D167)-(B167/SUMMARY!$FN$7)))","v":{"$error":"#VALUE!"}},{"$error":"#VALUE!"},{"$error":"#VALUE!"},2,{"$error":"#VALUE!"},{"$error":"#VALUE!"},{"$f":"SUMMARY!$FP$10","v":{"$error":"#VALUE!"}},{"$error":"#VALUE!"},null,null,57,{"$f":"SUMMARY!FQ57","v":""},null,{"$error":"#VALUE!"},"","",{"$error":"#VALUE!"},0,{"$error":"#VALUE!"}]
[358,{"$f":"SUMMARY!FR42","v":0},0,{"$f":"SUMMARY!FR45","v":0},0,{"$f":"SUMMARY!FR48","v":0},0,{"$error":"#VALUE!"},{"$error":"#VALUE!"},{"$error":"#VALUE!"},{"$error":"#VALUE!"},{"$error":"#VALUE!"},{"$error":"#VALUE!"},{"$f":"SUMMARY!FR11","v":{"$error":"#VALUE!"}},358,"fr",{"$f":"SUMMARY!$FR25","v":0},{"$f":"SUMMARY!$FR28","v":0},{"$f":"SUMMARY!$FR31","v":0},{"$f":"SUMMARY!$FR33","v":0},{"$f":"SUMMARY!$FR35","v":0},{"$f":"SUMMARY!$FR37","v":0},{"$f":"SUMMARY!$FR39","v":0},null,{"$f":"+mndot_rounding_3((100-B168)/((100/D168)-(B168/SUMMARY!$FN$7)))","v":{"$error":"#VALUE!"}},{"$error":"#VALUE!"},{"$error":"#VALUE!"},2,{"$error":"#VALUE!"},{"$error":"#VALUE!"},{"$f":"SUMMARY!$FR$10","v":{"$error":"#VALUE!"}},{"$error":"#VALUE!"},null,null,58,{"$f":"SUMMARY!FS57","v":""},null,{"$error":"#VALUE!"},"","",{"$error":"#VALUE!"},0,{"$error":"#VALUE!"}]
[359,{"$f":"SUMMARY!FT42","v":0},0,{"$f":"SUMMARY!FT45","v":0},0,{"$f":"SUMMARY!FT48","v":0},0,{"$error":"#VALUE!"},{"$error":"#VALUE!"},{"$error":"#VALUE!"},{"$error":"#VALUE!"},{"$error":"#VALUE!"},{"$error":"#VALUE!"},{"$f":"SUMMARY!FT11","v":{"$error":"#VALUE!"}},359,"ft",{"$f":"SUMMARY!$FT25","v":0},{"$f":"SUMMARY!$FT28","v":0},{"$f":"SUMMARY!$FT31","v":0},{"$f":"SUMMARY!$FT33","v":0},{"$f":"SUMMARY!$FT35","v":0},{"$f":"SUMMARY!$FT37","v":0},{"$f":"SUMMARY!$FT39","v":0},null,{"$f":"+mndot_rounding_3((100-B169)/((100/D169)-(B169/SUMMARY!$FN$7)))","v":{"$error":"#VALUE!"}},{"$error":"#VALUE!"},{"$error":"#VALUE!"},2,{"$error":"#VALUE!"},{"$error":"#VALUE!"},{"$f":"SUMMARY!$FT$10","v":{"$error":"#VALUE!"}},{"$error":"#VALUE!"},null,null,59,{"$f":"SUMMARY!FU57","v":""},null,{"$error":"#VALUE!"},"","",{"$error":"#VALUE!"},0,{"$error":"#VALUE!"}]
[360,{"$f":"SUMMARY!FV42","v":0},0,{"$f":"SUMMARY!FV45","v":0},0,{"$f":"SUMMARY!FV48","v":0},0,{"$error":"#VALUE!"},{"$error":"#VALUE!"},{"$error":"#VALUE!"},{"$error":"#VALUE!"},{"$error":"#VALUE!"},{"$error":"#VALUE!"},{"$f":"SUMMARY!FV11","v":{"$error":"#VALUE!"}},360,"fv",{"$f":"SUMMARY!$FV25","v":0},{"$f":"SUMMARY!$FV28","v":0},{"$f":"SUMMARY!$FV31","v":0},{"$f":"SUMMARY!$FV33","v":0},{"$f":"SUMMARY!$FV35","v":0},{"$f":"SUMMARY!$FV37","v":0},{"$f":"SUMMARY!$FV39","v":0},null,{"$f":"+mndot_rounding_3((100-B170)/((100/D170)-(B170/SUMMARY!$FN$7)))","v":{"$error":"#VALUE!"}},{"$error":"#VALUE!"},{"$error":"#VALUE!"},2,{"$error":"#VALUE!"},{"$error":"#VALUE!"},{"$f":"SUMMARY!$FV$10","v":{"$error":"#VALUE!"}},{"$error":"#VALUE!"},null,null,60,{"$f":"SUMMARY!FW57","v":""},null,{"$error":"#VALUE!"},"","",{"$error":"#VALUE!"},0,{"$error":"#VALUE!"}]
[361,{"$f":"SUMMARY!GB42","v":0},0,{"$f":"SUMMARY!GB45","v":0},0,{"$f":"SUMMARY!GB48","v":0},0,{"$error":"#VALUE!"},{"$error":"#VALUE!"},{"$error":"#VALUE!"},{"$error":"#VALUE!"},{"$error":"#VALUE!"},{"$error":"#VALUE!"},{"$f":"SUMMARY!GB11","v":{"$error":"#VALUE!"}},361,"gb",{"$f":"SUMMARY!$GB25","v":0},{"$f":"SUMMARY!$GB28","v":0},{"$f":"SUMMARY!$GB31","v":0},{"$f":"SUMMARY!$GB33","v":0},{"$f":"SUMMARY!$GB35","v":0},{"$f":"SUMMARY!$GB37","v":0},{"$f":"SUMMARY!$GB39","v":0},null,{"$f":"+mndot_rounding_3((100-B171)/((100/D171)-(B171/SUMMARY!$FZ$7)))","v":{"$error":"#VALUE!"}},{"$error":"#VALUE!"},{"$error":"#VALUE!"},2,{"$error":"#VALUE!"},{"$error":"#VALUE!"},{"$f":"SUMMARY!$GB$10","v":{"$error":"#VALUE!"}},{"$error":"#VALUE!"},null,null,61,{"$f":"SUMMARY!GC57","v":""},null,{"$error":"#VALUE!"},"","",{"$error":"#VALUE!"},0,{"$error":"#VALUE!"}]
[362,{"$f":"SUMMARY!GD42","v":0},0,{"$f":"SUMMARY!GD45","v":0},0,{"$f":"SUMMARY!GD48","v":0},0,{"$error":"#VALUE!"},{"$error":"#VALUE!"},{"$error":"#VALUE!"},{"$error":"#VALUE!"},{"$error":"#VALUE!"},{"$error":"#VALUE!"},{"$f":"SUMMARY!GD11","v":{"$error":"#VALUE!"}},362,"gd",{"$f":"SUMMARY!$GD25","v":0},{"$f":"SUMMARY!$GD28","v":0},{"$f":"SUMMARY!$GD31","v":0},{"$f":"SUMMARY!$GD33","v":0},{"$f":"SUMMARY!$GD35","v":0},{"$f":"SUMMARY!$GD37","v":0},{"$f":"SUMMARY!$GD39","v":0},null,{"$f":"+mndot_rounding_3((100-B172)/((100/D172)-(B172/SUMMARY!$FZ$7)))","v":{"$error":"#VALUE!"}},{"$error":"#VALUE!"},{"$error":"#VALUE!"},2,{"$error":"#VALUE!"},{"$error":"#VALUE!"},{"$f":"SUMMARY!$GD$10","v":{"$error":"#VALUE!"}},{"$error":"#VALUE!"},null,null,62,{"$f":"SUMMARY!GE57","v":""},null,{"$error":"#VALUE!"},"","",{"$error":"#VALUE!"},0,{"$error":"#VALUE!"}]
[363,{"$f":"SUMMARY!GF42","v":0},0,{"$f":"SUMMARY!GF45","v":0},0,{"$f":"SUMMARY!GF48","v":0},0,{"$error":"#VALUE!"},{"$error":"#VALUE!"},{"$error":"#VALUE!"},{"$error":"#VALUE!"},{"$error":"#VALUE!"},{"$error":"#VALUE!"},{"$f":"SUMMARY!GF11","v":{"$error":"#VALUE!"}},363,"gf",{"$f":"SUMMARY!$GF25","v":0},{"$f":"SUMMARY!$GF28","v":0},{"$f":"SUMMARY!$GF31","v":0},{"$f":"SUMMARY!$GF33","v":0},{"$f":"SUMMARY!$GF35","v":0},{"$f":"SUMMARY!$GF37","v":0},{"$f":"SUMMARY!$GF39","v":0},null,{"$f":"+mndot_rounding_3((100-B173)/((100/D173)-(B173/SUMMARY!$FZ$7)))","v":{"$error":"#VALUE!"}},{"$error":"#VALUE!"},{"$error":"#VALUE!"},2,{"$error":"#VALUE!"},{"$error":"#VALUE!"},{"$f":"SUMMARY!$GF$10","v":{"$error":"#VALUE!"}},{"$error":"#VALUE!"},null,null,63,{"$f":"SUMMARY!GG57","v":""},null,{"$error":"#VALUE!"},"","",{"$error":"#VALUE!"},0,{"$error":"#VALUE!"}]
[364,{"$f":"SUMMARY!GH42","v":0},0,{"$f":"SUMMARY!GH45","v":0},0,{"$f":"SUMMARY!GH48","v":0},0,{"$error":"#VALUE!"},{"$error":"#VALUE!"},{"$error":"#VALUE!"},{"$error":"#VALUE!"},{"$error":"#VALUE!"},{"$error":"#VALUE!"},{"$f":"SUMMARY!GH11","v":{"$error":"#VALUE!"}},364,"gh",{"$f":"SUMMARY!$GH25","v":0},{"$f":"SUMMARY!$GH28","v":0},{"$f":"SUMMARY!$GH31","v":0},{"$f":"SUMMARY!$GH33","v":0},{"$f":"SUMMARY!$GH35","v":0},{"$f":"SUMMARY!$GH37","v":0},{"$f":"SUMMARY!$GH39","v":0},null,{"$f":"+mndot_rounding_3((100-B174)/((100/D174)-(B174/SUMMARY!$FZ$7)))","v":{"$error":"#VALUE!"}},{"$error":"#VALUE!"},{"$error":"#VALUE!"},2,{"$error":"#VALUE!"},{"$error":"#VALUE!"},{"$f":"SUMMARY!$GH$10","v":{"$error":"#VALUE!"}},{"$error":"#VALUE!"},null,null,64,{"$f":"SUMMARY!GI57","v":""},null,{"$error":"#VALUE!"},"","",{"$error":"#VALUE!"},0,{"$error":"#VALUE!"}]
[{"$f":"A75","v":365},{"$f":"SUMMARY!GN42","v":0},0,{"$f":"SUMMARY!GN45","v":0},0,{"$f":"SUMMARY!GN48","v":0},0,{"$error":"#VALUE!"},{"$error":"#VALUE!"},{"$error":"#VALUE!"},{"$error":"#VALUE!"},{"$error":"#VALUE!"},{"$error":"#VALUE!"},{"$f":"SUMMARY!GN11","v":{"$error":"#VALUE!"}},365,"gn",{"$f":"SUMMARY!$GN25","v":0},{"$f":"SUMMARY!$GN28","v":0},{"$f":"SUMMARY!$GN31","v":0},{"$f":"SUMMARY!$GN33","v":0},{"$f":"SUMMARY!$GN35","v":0},{"$f":"SUMMARY!$GN37","v":0},{"$f":"SUMMARY!$GN39","v":0},null,{"$f":"+mndot_rounding_3((100-B175)/((100/D175)-(B175/SUMMARY!$GL$7)))","v":{"$error":"#VALUE!"}},{"$f":"+mndot_rounding_1(B175-((Y175-N175)*$K$5)*(100-B175)/(N175*Y175))","v":{"$error":"#VALUE!"}},{"$f":"+mndot_rounding_1((Z175*100)/(100-B175))","v":{"$error":"#VALUE!"}},2,{"$error":"#VALUE!"},{"$f":"IF(AE175<2.58,mndot_rounding_1(AB175*(2.65/AE175)),(IF(AE175>2.7,mndot_rounding_1(AB175*(2.65/AE175)),AB175)))","v":{"$error":"#VALUE!"}},{"$f":"SUMMARY!$GN$10","v":{"$error":"#VALUE!"}},{"$f":"mndot_rounding_1(AC175 + 0.06*(AD175-28))","v":{"$error":"#VALUE!"}},null,null,65,{"$f":"SUMMARY!GO57","v":""},null,{"$error":"#VALUE!"},"","",{"$error":"#VALUE!"},0,{"$error":"#VALUE!"}]
[366,{"$f":"SUMMARY!GP42","v":0},0,{"$f":"SUMMARY!GP45","v":0},0,{"$f":"SUMMARY!GP48","v":0},0,{"$error":"#VALUE!"},{"$error":"#VALUE!"},{"$f":"mndot_rounding_1(((D176-F176)/D176*100))","v":{"$error":"#VALUE!"}},{"$error":"#VALUE!"},{"$error":"#VALUE!"},{"$error":"#VALUE!"},{"$f":"SUMMARY!GP11","v":{"$error":"#VALUE!"}},366,"gp",{"$f":"SUMMARY!$GP25","v":0},{"$f":"SUMMARY!$GP28","v":0},{"$f":"SUMMARY!$GP31","v":0},{"$f":"SUMMARY!$GP33","v":0},{"$f":"SUMMARY!$GP35","v":0},{"$f":"SUMMARY!$GP37","v":0},{"$f":"SUMMARY!$GP39","v":0},null,{"$f":"+mndot_rounding_3((100-B176)/((100/D176)-(B176/SUMMARY!$GL$7)))","v":{"$error":"#VALUE!"}},{"$error":"#VALUE!"},{"$error":"#VALUE!"},{"$f":"mndot_rounding_1(2+1.6*W176+0.6*V176+0.3*U176+0.14*T176+0.08*S176+0.04*R176+0.02*Q176)","v":2},{"$error":"#VALUE!"},{"$error":"#VALUE!"},{"$f":"SUMMARY!$GP$10","v":{"$error":"#VALUE!"}},{"$error":"#VALUE!"},null,null,66,{"$f":"SUMMARY!GQ57","v":""},null,{"$f":"IF(AJ176=\"\",AZ76,IF(OR((AJ176>(AZ76+1.2)),(AJ176<(AZ76-1.2))),AJ176+0.5,AZ76))","v":{"$error":"#VALUE!"}},{"$f":"IF(AJ176=\"\",\"\",IF(OR((AJ176>(AZ76+1.2)),(AJ176<(AZ76-1.2))),\"Tolerance\",\"\"))","v":""},{"$f":"IF(AJ176=\"\",\"\",IF(OR((AJ176>(AZ76+1.2)),(AJ176<(AZ76-1.2))),\"Agncy Repl.\",\"\"))","v":""},{"$error":"#VALUE!"},{"$f":"IF(ISNUMBER(AL176),AL176,0)","v":0},{"$error":"#VALUE!"}]
[367,{"$f":"SUMMARY!GR42","v":0},0,{"$f":"SUMMARY!GR45","v":0},0,{"$f":"SUMMARY!GR48","v":0},0,{"$error":"#VALUE!"},{"$error":"#VALUE!"},{"$error":"#VALUE!"},{"$error":"#VALUE!"},{"$error":"#VALUE!"},{"$error":"#VALUE!"},{"$f":"SUMMARY!GR11","v":{"$error":"#VALUE!"}},367,"gr",{"$f":"SUMMARY!$GR25","v":0},{"$f":"SUMMARY!$GR28","v":0},{"$f":"SUMMARY!$GR31","v":0},{"$f":"SUMMARY!$GR33","v":0},{"$f":"SUMMARY!$GR35","v":0},{"$f":"SUMMARY!$GR37","v":0},{"$f":"SUMMARY!$GR39","v":0},null,{"$f":"+mndot_rounding_3((100-B177)/((100/D177)-(B177/SUMMARY!$GL$7)))","v":{"$error":"#VALUE!"}},{"$error":"#VALUE!"},{"$error":"#VALUE!"},2,{"$error":"#VALUE!"},{"$error":"#VALUE!"},{"$f":"SUMMARY!$GR$10","v":{"$error":"#VALUE!"}},{"$error":"#VALUE!"},null,null,67,{"$f":"SUMMARY!GS57","v":""},null,{"$error":"#VALUE!"},"","",{"$error":"#VALUE!"},0,{"$error":"#VALUE!"}]
[368,{"$f":"SUMMARY!GT42","v":0},0,{"$f":"SUMMARY!GT45","v":0},0,{"$f":"SUMMARY!GT48","v":0},0,{"$error":"#VALUE!"},{"$error":"#VALUE!"},{"$error":"#VALUE!"},{"$error":"#VALUE!"},{"$error":"#VALUE!"},{"$error":"#VALUE!"},{"$f":"SUMMARY!GT11","v":{"$error":"#VALUE!"}},368,"gt",{"$f":"SUMMARY!$GT25","v":0},{"$f":"SUMMARY!$GT28","v":0},{"$f":"SUMMARY!$GT31","v":0},{"$f":"SUMMARY!$GT33","v":0},{"$f":"SUMMARY!$GT35","v":0},{"$f":"SUMMARY!$GT37","v":0},{"$f":"SUMMARY!$GT39","v":0},null,{"$f":"+mndot_rounding_3((100-B178)/((100/D178)-(B178/SUMMARY!$GL$7)))","v":{"$error":"#VALUE!"}},{"$error":"#VALUE!"},{"$error":"#VALUE!"},2,{"$error":"#VALUE!"},{"$error":"#VALUE!"},{"$f":"SUMMARY!$GT$10","v":{"$error":"#VALUE!"}},{"$error":"#VALUE!"},null,null,68,{"$f":"SUMMARY!GU57","v":""},null,{"$error":"#VALUE!"},"","",{"$f":"AVERAGE(AL175,AL176,AL177,AL178)+(IF(AL175=0,\" \",IF(AL176=0,\" \",IF(AL177=0,\" \",IF(AL178=0,\" \",)))))","v":{"$error":"#VALUE!"}},0,{"$error":"#VALUE!"}]
[369,{"$f":"SUMMARY!GZ42","v":0},0,{"$f":"SUMMARY!GZ45","v":0},0,{"$f":"SUMMARY!GZ48","v":0},0,{"$error":"#VALUE!"},{"$error":"#VALUE!"},{"$error":"#VALUE!"},{"$error":"#VALUE!"},{"$error":"#VALUE!"},{"$error":"#VALUE!"},{"$f":"SUMMARY!GZ11","v":{"$error":"#VALUE!"}},369,"gz",{"$f":"SUMMARY!$GZ25","v":0},{"$f":"SUMMARY!$GZ28","v":0},{"$f":"SUMMARY!$GZ31","v":0},{"$f":"SUMMARY!$GZ33","v":0},{"$f":"SUMMARY!$GZ35","v":0},{"$f":"SUMMARY!$GZ37","v":0},{"$f":"SUMMARY!$GZ39","v":0},null,{"$f":"+mndot_rounding_3((100-B179)/((100/D179)-(B179/SUMMARY!$GX$7)))","v":{"$error":"#VALUE!"}},{"$error":"#VALUE!"},{"$error":"#VALUE!"},2,{"$error":"#VALUE!"},{"$error":"#VALUE!"},{"$f":"SUMMARY!$GZ$10","v":{"$error":"#VALUE!"}},{"$error":"#VALUE!"},null,null,69,{"$f":"SUMMARY!HA57","v":""},null,{"$error":"#VALUE!"},"","",{"$error":"#VALUE!"},0,{"$error":"#VALUE!"}]
[370,{"$f":"SUMMARY!HB42","v":0},0,{"$f":"SUMMARY!HB45","v":0},0,{"$f":"SUMMARY!HB48","v":0},0,{"$f":"mndot_rounding_1(((E180-F180)/E180*100))","v":{"$error":"#VALUE!"}},{"$error":"#VALUE!"},{"$error":"#VALUE!"},{"$error":"#VALUE!"},{"$f":"mndot_rounding_1(100-(F180*(100-B180)/N180))","v":{"$error":"#VALUE!"}},{"$error":"#VALUE!"},{"$f":"SUMMARY!HB11","v":{"$error":"#VALUE!"}},370,"hb",{"$f":"SUMMARY!$HB25","v":0},{"$f":"SUMMARY!$HB28","v":0},{"$f":"SUMMARY!$HB31","v":0},{"$f":"SUMMARY!$HB33","v":0},{"$f":"SUMMARY!$HB35","v":0},{"$f":"SUMMARY!$HB37","v":0},{"$f":"SUMMARY!$HB39","v":0},null,{"$f":"+mndot_rounding_3((100-B180)/((100/D180)-(B180/SUMMARY!$GX$7)))","v":{"$error":"#VALUE!"}},{"$error":"#VALUE!"},{"$error":"#VALUE!"},2,{"$error":"#VALUE!"},{"$error":"#VALUE!"},{"$f":"SUMMARY!$HB$10","v":{"$error":"#VALUE!"}},{"$error":"#VALUE!"},null,null,70,{"$f":"SUMMARY!HC57","v":""},null,{"$error":"#VALUE!"},"","",{"$error":"#VALUE!"},0,{"$error":"#VALUE!"}]
[371,{"$f":"SUMMARY!HD42","v":0},0,{"$f":"SUMMARY!HD45","v":0},0,{"$f":"SUMMARY!HD48","v":0},0,{"$error":"#VALUE!"},{"$error":"#VALUE!"},{"$error":"#VALUE!"},{"$error":"#VALUE!"},{"$error":"#VALUE!"},{"$error":"#VALUE!"},{"$f":"SUMMARY!HD11","v":{"$error":"#VALUE!"}},371,"hd",{"$f":"SUMMARY!$HD25","v":0},{"$f":"SUMMARY!$HD28","v":0},{"$f":"SUMMARY!$HD31","v":0},{"$f":"SUMMARY!$HD33","v":0},{"$f":"SUMMARY!$HD35","v":0},{"$f":"SUMMARY!$HD37","v":0},{"$f":"SUMMARY!$HD39","v":0},null,{"$f":"+mndot_rounding_3((100-B181)/((100/D181)-(B181/SUMMARY!$GX$7)))","v":{"$error":"#VALUE!"}},{"$error":"#VALUE!"},{"$error":"#VALUE!"},2,{"$error":"#VALUE!"},{"$error":"#VALUE!"},{"$f":"SUMMARY!$HD$10","v":{"$error":"#VALUE!"}},{"$error":"#VALUE!"},null,null,71,{"$f":"SUMMARY!HE57","v":""},null,{"$error":"#VALUE!"},"","",{"$error":"#VALUE!"},0,{"$error":"#VALUE!"}]
[372,{"$f":"SUMMARY!HF42","v":0},0,{"$f":"SUMMARY!HF45","v":0},{"$f":"mndot_rounding_3(AVERAGE(D179:D182))","v":0},{"$f":"SUMMARY!HF48","v":0},0,{"$error":"#VALUE!"},{"$error":"#VALUE!"},{"$error":"#VALUE!"},{"$error":"#VALUE!"},{"$error":"#VALUE!"},{"$error":"#VALUE!"},{"$f":"SUMMARY!HF11","v":{"$error":"#VALUE!"}},372,"hf",{"$f":"SUMMARY!$HF25","v":0},{"$f":"SUMMARY!$HF28","v":0},{"$f":"SUMMARY!$HF31","v":0},{"$f":"SUMMARY!$HF33","v":0},{"$f":"SUMMARY!$HF35","v":0},{"$f":"SUMMARY!$HF37","v":0},{"$f":"SUMMARY!$HF39","v":0},null,{"$f":"+mndot_rounding_3((100-B182)/((100/D182)-(B182/SUMMARY!$GX$7)))","v":{"$error":"#VALUE!"}},{"$error":"#VALUE!"},{"$error":"#VALUE!"},2,{"$error":"#VALUE!"},{"$error":"#VALUE!"},{"$f":"SUMMARY!$HF$10","v":{"$error":"#VALUE!"}},{"$error":"#VALUE!"},null,null,72,{"$f":"SUMMARY!HG57","v":""},null,{"$error":"#VALUE!"},"","",{"$error":"#VALUE!"},0,{"$error":"#VALUE!"}]
[373,{"$f":"SUMMARY!HL42","v":0},0,{"$f":"SUMMARY!HL45","v":0},{"$f":"mndot_rounding_3(AVERAGE(D180:D183))","v":0},{"$f":"SUMMARY!HL48","v":0},0,{"$error":"#VALUE!"},{"$error":"#VALUE!"},{"$error":"#VALUE!"},{"$error":"#VALUE!"},{"$error":"#VALUE!"},{"$error":"#VALUE!"},{"$f":"SUMMARY!HL11","v":{"$error":"#VALUE!"}},373,"hl",{"$f":"SUMMARY!$HL25","v":0},{"$f":"SUMMARY!$HL28","v":0},{"$f":"SUMMARY!$HL31","v":0},{"$f":"SUMMARY!$HL33","v":0},{"$f":"SUMMARY!$HL35","v":0},{"$f":"SUMMARY!$HL37","v":0},{"$f":"SUMMARY!$HL39","v":0},null,{"$f":"+mndot_rounding_3((100-B183)/((100/D183)-(B183/SUMMARY!$HJ$7)))","v":{"$error":"#VALUE!"}},{"$error":"#VALUE!"},{"$error":"#VALUE!"},2,{"$f":"+mndot_rounding_1(IF(AB183=2,\"\",((Z183*4870)/((100-B183)*AD183))))","v":{"$error":"#VALUE!"}},{"$error":"#VALUE!"},{"$f":"SUMMARY!$HL$10","v":{"$error":"#VALUE!"}},{"$error":"#VALUE!"},null,null,73,{"$f":"SUMMARY!HM57","v":""},null,{"$error":"#VALUE!"},"","",{"$error":"#VALUE!"},0,{"$error":"#VALUE!"}]
[374,{"$f":"SUMMARY!HN42","v":0},0,{"$f":"SUMMARY!HN45","v":0},0,{"$f":"SUMMARY!HN48","v":0},0,{"$error":"#VALUE!"},{"$error":"#VALUE!"},{"$error":"#VALUE!"},{"$error":"#VALUE!"},{"$error":"#VALUE!"},{"$error":"#VALUE!"},{"$f":"SUMMARY!HN11","v":{"$error":"#VALUE!"}},374,"hn",{"$f":"SUMMARY!$HN25","v":0},{"$f":"SUMMARY!$HN28","v":0},{"$f":"SUMMARY!$HN31","v":0},{"$f":"SUMMARY!$HN33","v":0},{"$f":"SUMMARY!$HN35","v":0},{"$f":"SUMMARY!$HN37","v":0},{"$f":"SUMMARY!$HN39","v":0},null,{"$f":"+mndot_rounding_3((100-B184)/((100/D184)-(B184/SUMMARY!$HJ$7)))","v":{"$error":"#VALUE!"}},{"$error":"#VALUE!"},{"$error":"#VALUE!"},2,{"$error":"#VALUE!"},{"$error":"#VALUE!"},{"$f":"SUMMARY!$HN$10","v":{"$error":"#VALUE!"}},{"$error":"#VALUE!"},null,null,74,{"$f":"SUMMARY!HO57","v":""},null,{"$error":"#VALUE!"},"","",{"$error":"#VALUE!"},0,{"$error":"#VALUE!"}]
[375,{"$f":"SUMMARY!HP42","v":0},0,{"$f":"SUMMARY!HP45","v":0},0,{"$f":"SUMMARY!HP48","v":0},0,{"$error":"#VALUE!"},{"$error":"#VALUE!"},{"$error":"#VALUE!"},{"$error":"#VALUE!"},{"$error":"#VALUE!"},{"$error":"#VALUE!"},{"$f":"SUMMARY!HP11","v":{"$error":"#VALUE!"}},375,"hp",{"$f":"SUMMARY!$HP25","v":0},{"$f":"SUMMARY!$HP28","v":0},{"$f":"SUMMARY!$HP31","v":0},{"$f":"SUMMARY!$HP33","v":0},{"$f":"SUMMARY!$HP35","v":0},{"$f":"SUMMARY!$HP37","v":0},{"$f":"SUMMARY!$HP39","v":0},null,{"$f":"+mndot_rounding_3((100-B185)/((100/D185)-(B185/SUMMARY!$HJ$7)))","v":{"$error":"#VALUE!"}},{"$error":"#VALUE!"},{"$error":"#VALUE!"},2,{"$error":"#VALUE!"},{"$error":"#VALUE!"},{"$f":"SUMMARY!$HP$10","v":{"$error":"#VALUE!"}},{"$error":"#VALUE!"},null,null,75,{"$f":"SUMMARY!HQ57","v":""},null,{"$error":"#VALUE!"},"","",{"$error":"#VALUE!"},0,{"$error":"#VALUE!"}]
[376,{"$f":"SUMMARY!HR42","v":0},0,{"$f":"SUMMARY!HR45","v":0},0,{"$f":"SUMMARY!HR48","v":0},0,{"$error":"#VALUE!"},{"$error":"#VALUE!"},{"$error":"#VALUE!"},{"$error":"#VALUE!"},{"$error":"#VALUE!"},{"$error":"#VALUE!"},{"$f":"SUMMARY!HR11","v":{"$error":"#VALUE!"}},376,"hr",{"$f":"SUMMARY!$HR25","v":0},{"$f":"SUMMARY!$HR28","v":0},{"$f":"SUMMARY!$HR31","v":0},{"$f":"SUMMARY!$HR33","v":0},{"$f":"SUMMARY!$HR35","v":0},{"$f":"SUMMARY!$HR37","v":0},{"$f":"SUMMARY!$HR39","v":0},null,{"$f":"+mndot_rounding_3((100-B186)/((100/D186)-(B186/SUMMARY!$HJ$7)))","v":{"$error":"#VALUE!"}},{"$error":"#VALUE!"},{"$error":"#VALUE!"},2,{"$error":"#VALUE!"},{"$error":"#VALUE!"},{"$f":"SUMMARY!$HR$10","v":{"$error":"#VALUE!"}},{"$error":"#VALUE!"},null,null,76,{"$f":"SUMMARY!HS57","v":""},null,{"$error":"#VALUE!"},"","",{"$error":"#VALUE!"},0,{"$error":"#VALUE!"}]
[377,{"$f":"SUMMARY!HX42","v":0},0,{"$f":"SUMMARY!HX45","v":0},0,{"$f":"SUMMARY!HX48","v":0},0,{"$error":"#VALUE!"},{"$error":"#VALUE!"},{"$error":"#VALUE!"},{"$error":"#VALUE!"},{"$error":"#VALUE!"},{"$error":"#VALUE!"},{"$f":"SUMMARY!HX11","v":{"$error":"#VALUE!"}},377,"hx",{"$f":"SUMMARY!$HX25","v":0},{"$f":"SUMMARY!$HX28","v":0},{"$f":"SUMMARY!$HX31","v":0},{"$f":"SUMMARY!$HX33","v":0},{"$f":"SUMMARY!$HX35","v":0},{"$f":"SUMMARY!$HX37","v":0},{"$f":"SUMMARY!$HX39","v":0},null,{"$f":"+mndot_rounding_3((100-B187)/((100/D187)-(B187/SUMMARY!$HV$7)))","v":{"$error":"#VALUE!"}},{"$error":"#VALUE!"},{"$error":"#VALUE!"},2,{"$error":"#VALUE!"},{"$error":"#VALUE!"},{"$f":"SUMMARY!$HX$10","v":{"$error":"#VALUE!"}},{"$error":"#VALUE!"},null,null,77,{"$f":"SUMMARY!HY57","v":""},null,{"$error":"#VALUE!"},"","",{"$error":"#VALUE!"},0,{"$error":"#VALUE!"}]
[378,{"$f":"SUMMARY!HZ42","v":0},0,{"$f":"SUMMARY!HZ45","v":0},0,{"$f":"SUMMARY!HZ48","v":0},0,{"$error":"#VALUE!"},{"$error":"#VALUE!"},{"$error":"#VALUE!"},{"$error":"#VALUE!"},{"$error":"#VALUE!"},{"$error":"#VALUE!"},{"$f":"SUMMARY!HZ11","v":{"$error":"#VALUE!"}},378,"hz",{"$f":"SUMMARY!$HZ25","v":0},{"$f":"SUMMARY!$HZ28","v":0},{"$f":"SUMMARY!$HZ31","v":0},{"$f":"SUMMARY!$HZ33","v":0},{"$f":"SUMMARY!$HZ35","v":0},{"$f":"SUMMARY!$HZ37","v":0},{"$f":"SUMMARY!$HZ39","v":0},null,{"$f":"+mndot_rounding_3((100-B188)/((100/D188)-(B188/SUMMARY!$HV$7)))","v":{"$error":"#VALUE!"}},{"$error":"#VALUE!"},{"$error":"#VALUE!"},2,{"$error":"#VALUE!"},{"$error":"#VALUE!"},{"$f":"SUMMARY!$HZ$10","v":{"$error":"#VALUE!"}},{"$error":"#VALUE!"},null,null,78,{"$f":"SUMMARY!IA57","v":""},null,{"$error":"#VALUE!"},"","",{"$error":"#VALUE!"},0,{"$error":"#VALUE!"}]
[379,{"$f":"SUMMARY!IB42","v":0},0,{"$f":"SUMMARY!IB45","v":0},0,{"$f":"SUMMARY!IB48","v":0},0,{"$error":"#VALUE!"},{"$error":"#VALUE!"},{"$error":"#VALUE!"},{"$error":"#VALUE!"},{"$error":"#VALUE!"},{"$error":"#VALUE!"},{"$f":"SUMMARY!IB11","v":{"$error":"#VALUE!"}},379,"ib",{"$f":"SUMMARY!$IB25","v":0},{"$f":"SUMMARY!$IB28","v":0},{"$f":"SUMMARY!$IB31","v":0},{"$f":"SUMMARY!$IB33","v":0},{"$f":"SUMMARY!$IB35","v":0},{"$f":"SUMMARY!$IB37","v":0},{"$f":"SUMMARY!$IB39","v":0},null,{"$f":"+mndot_rounding_3((100-B189)/((100/D189)-(B189/SUMMARY!$HV$7)))","v":{"$error":"#VALUE!"}},{"$error":"#VALUE!"},{"$error":"#VALUE!"},2,{"$error":"#VALUE!"},{"$error":"#VALUE!"},{"$f":"SUMMARY!$IB$10","v":{"$error":"#VALUE!"}},{"$error":"#VALUE!"},null,null,79,{"$f":"SUMMARY!IC57","v":""},null,{"$error":"#VALUE!"},"","",{"$error":"#VALUE!"},0,{"$error":"#VALUE!"}]
[380,{"$f":"SUMMARY!ID42","v":0},0,{"$f":"SUMMARY!ID45","v":0},0,{"$f":"SUMMARY!ID48","v":0},0,{"$error":"#VALUE!"},{"$error":"#VALUE!"},{"$error":"#VALUE!"},{"$error":"#VALUE!"},{"$error":"#VALUE!"},{"$error":"#VALUE!"},{"$f":"SUMMARY!ID11","v":{"$error":"#VALUE!"}},380,"id",{"$f":"SUMMARY!$ID25","v":0},{"$f":"SUMMARY!$ID28","v":0},{"$f":"SUMMARY!$ID31","v":0},{"$f":"SUMMARY!$ID33","v":0},{"$f":"SUMMARY!$ID35","v":0},{"$f":"SUMMARY!$ID37","v":0},{"$f":"SUMMARY!$ID39","v":0},null,{"$f":"+mndot_rounding_3((100-B190)/((100/D190)-(B190/SUMMARY!$HV$7)))","v":{"$error":"#VALUE!"}},{"$error":"#VALUE!"},{"$error":"#VALUE!"},2,{"$error":"#VALUE!"},{"$error":"#VALUE!"},{"$f":"SUMMARY!$ID$10","v":{"$error":"#VALUE!"}},{"$error":"#VALUE!"},null,null,80,{"$f":"SUMMARY!IE57","v":""},null,{"$error":"#VALUE!"},"","",{"$error":"#VALUE!"},0,{"$f":"mndot_rounding_1(+IF(AP190=0,\"\",(IF(AP190>0,+AP190,0)+IF(AP189>0,+AP189,0)+IF(AP188>0,+AP188,0)+IF(AP187>0,+AP187,0)+IF(+COUNTIF(AP187:AP190,\">0\")<=3,+AP186)+IF(+COUNTIF(AP186:AP190,\">0\")<=3,+AP185)+IF(+COUNTIF(AP185:AP190,\">0\")<=3,+AP184)+IF(+COUNTIF(AP184:AP190,\">0\")<=3,+AP183)+IF(+COUNTIF(AP183:AP190,\">0\")<=3,+AP182)+IF(+COUNTIF(AP182:AP190,\">0\")<=3,+AP181)+IF(+COUNTIF(AP181:AP190,\">0\")<=3,+AP180)+IF(+COUNTIF(AP180:AP190,\">0\")<=3,+AP179)+IF(+COUNTIF(AP179:AP190,\">0\")<4,\" \"))/4))","v":{"$error":"#VALUE!"}}]
[381,{"$f":"SUMMARY!IJ42","v":0},0,{"$f":"SUMMARY!IJ45","v":0},0,{"$f":"SUMMARY!IJ48","v":0},0,{"$error":"#VALUE!"},{"$error":"#VALUE!"},{"$error":"#VALUE!"},{"$error":"#VALUE!"},{"$error":"#VALUE!"},{"$error":"#VALUE!"},{"$f":"SUMMARY!IJ11","v":{"$error":"#VALUE!"}},381,"ij",{"$f":"SUMMARY!$IJ25","v":0},{"$f":"SUMMARY!$IJ28","v":0},{"$f":"SUMMARY!$IJ31","v":0},{"$f":"SUMMARY!$IJ33","v":0},{"$f":"SUMMARY!$IJ35","v":0},{"$f":"SUMMARY!$IJ37","v":0},{"$f":"SUMMARY!$IJ39","v":0},null,{"$f":"+mndot_rounding_3((100-B191)/((100/D191)-(B191/SUMMARY!$IH$7)))","v":{"$error":"#VALUE!"}},{"$error":"#VALUE!"},{"$error":"#VALUE!"},2,{"$error":"#VALUE!"},{"$error":"#VALUE!"},{"$f":"SUMMARY!$IJ$10","v":{"$error":"#VALUE!"}},{"$error":"#VALUE!"},null,null,81,{"$f":"SUMMARY!IK57","v":""},null,{"$error":"#VALUE!"},"","",{"$error":"#VALUE!"},0,{"$f":"mndot_rounding_1(+IF(AP191=0,\"\",(IF(AP191>0,+AP191,0)+IF(AP190>0,+AP190,0)+IF(AP189>0,+AP189,0)+IF(AP188>0,+AP188,0)+IF(+COUNTIF(AP188:AP191,\">0\")<=3,+AP187)+IF(+COUNTIF(AP187:AP191,\">0\")<=3,+AP186)+IF(+COUNTIF(AP186:AP191,\">0\")<=3,+AP185)+IF(+COUNTIF(AP185:AP191,\">0\")<=3,+AP184)+IF(+COUNTIF(AP184:AP191,\">0\")<=3,+AP183)+IF(+COUNTIF(AP183:AP191,\">0\")<=3,+AP182)+IF(+COUNTIF(AP182:AP191,\">0\")<=3,+AP181)+IF(+COUNTIF(AP181:AP191,\">0\")<=3,+AP180)+IF(+COUNTIF(AP180:AP191,\">0\")<4,\" \"))/4))","v":{"$error":"#VALUE!"}}]
[382,{"$f":"SUMMARY!IL42","v":0},0,{"$f":"SUMMARY!IL45","v":0},0,{"$f":"SUMMARY!IL48","v":0},0,{"$error":"#VALUE!"},{"$error":"#VALUE!"},{"$error":"#VALUE!"},{"$error":"#VALUE!"},{"$error":"#VALUE!"},{"$error":"#VALUE!"},{"$f":"SUMMARY!IL11","v":{"$error":"#VALUE!"}},382,"il",{"$f":"SUMMARY!$IL25","v":0},{"$f":"SUMMARY!$IL28","v":0},{"$f":"SUMMARY!$IL31","v":0},{"$f":"SUMMARY!$IL33","v":0},{"$f":"SUMMARY!$IL35","v":0},{"$f":"SUMMARY!$IL37","v":0},{"$f":"SUMMARY!$IL39","v":0},null,{"$f":"+mndot_rounding_3((100-B192)/((100/D192)-(B192/SUMMARY!$IH$7)))","v":{"$error":"#VALUE!"}},{"$error":"#VALUE!"},{"$error":"#VALUE!"},2,{"$error":"#VALUE!"},{"$error":"#VALUE!"},{"$f":"SUMMARY!$IL$10","v":{"$error":"#VALUE!"}},{"$error":"#VALUE!"},null,null,82,{"$f":"SUMMARY!IM57","v":""},null,{"$error":"#VALUE!"},"","",{"$error":"#VALUE!"},0,{"$f":"mndot_rounding_1(+IF(AP192=0,\"\",(IF(AP192>0,+AP192,0)+IF(AP191>0,+AP191,0)+IF(AP190>0,+AP190,0)+IF(AP189>0,+AP189,0)+IF(+COUNTIF(AP189:AP192,\">0\")<=3,+AP188)+IF(+COUNTIF(AP188:AP192,\">0\")<=3,+AP187)+IF(+COUNTIF(AP187:AP192,\">0\")<=3,+AP186)+IF(+COUNTIF(AP186:AP192,\">0\")<=3,+AP185)+IF(+COUNTIF(AP185:AP192,\">0\")<=3,+AP184)+IF(+COUNTIF(AP184:AP192,\">0\")<=3,+AP183)+IF(+COUNTIF(AP183:AP192,\">0\")<=3,+AP182)+IF(+COUNTIF(AP182:AP192,\">0\")<=3,+AP181)+IF(+COUNTIF(AP181:AP192,\">0\")<4,\" \"))/4))","v":{"$error":"#VALUE!"}}]
[383,{"$f":"SUMMARY!IN42","v":0},0,{"$f":"SUMMARY!IN45","v":0},0,{"$f":"SUMMARY!IN48","v":0},0,{"$error":"#VALUE!"},{"$error":"#VALUE!"},{"$error":"#VALUE!"},{"$error":"#VALUE!"},{"$error":"#VALUE!"},{"$error":"#VALUE!"},{"$f":"SUMMARY!IN11","v":{"$error":"#VALUE!"}},383,"in",{"$f":"SUMMARY!$IN25","v":0},{"$f":"SUMMARY!$IN28","v":0},{"$f":"SUMMARY!$IN31","v":0},{"$f":"SUMMARY!$IN33","v":0},{"$f":"SUMMARY!$IN35","v":0},{"$f":"SUMMARY!$IN37","v":0},{"$f":"SUMMARY!$IN39","v":0},null,{"$f":"+mndot_rounding_3((100-B193)/((100/D193)-(B193/SUMMARY!$IH$7)))","v":{"$error":"#VALUE!"}},{"$error":"#VALUE!"},{"$error":"#VALUE!"},2,{"$error":"#VALUE!"},{"$error":"#VALUE!"},{"$f":"SUMMARY!$IN$10","v":{"$error":"#VALUE!"}},{"$error":"#VALUE!"},null,null,83,{"$f":"SUMMARY!IO57","v":""},null,{"$error":"#VALUE!"},"","",{"$error":"#VALUE!"},0,{"$f":"mndot_rounding_1(+IF(AP193=0,\"\",(IF(AP193>0,+AP193,0)+IF(AP192>0,+AP192,0)+IF(AP191>0,+AP191,0)+IF(AP190>0,+AP190,0)+IF(+COUNTIF(AP190:AP193,\">0\")<=3,+AP189)+IF(+COUNTIF(AP189:AP193,\">0\")<=3,+AP188)+IF(+COUNTIF(AP188:AP193,\">0\")<=3,+AP187)+IF(+COUNTIF(AP187:AP193,\">0\")<=3,+AP186)+IF(+COUNTIF(AP186:AP193,\">0\")<=3,+AP185)+IF(+COUNTIF(AP185:AP193,\">0\")<=3,+AP184)+IF(+COUNTIF(AP184:AP193,\">0\")<=3,+AP183)+IF(+COUNTIF(AP183:AP193,\">0\")<=3,+AP182)+IF(+COUNTIF(AP182:AP193,\">0\")<4,\" \"))/4))","v":{"$error":"#VALUE!"}}]
[384,{"$f":"SUMMARY!IP42","v":0},0,{"$f":"SUMMARY!IP45","v":0},0,{"$f":"SUMMARY!IP48","v":0},0,{"$error":"#VALUE!"},{"$error":"#VALUE!"},{"$error":"#VALUE!"},{"$error":"#VALUE!"},{"$error":"#VALUE!"},{"$error":"#VALUE!"},{"$f":"SUMMARY!IP11","v":{"$error":"#VALUE!"}},384,"ip",{"$f":"SUMMARY!$IP25","v":0},{"$f":"SUMMARY!$IP28","v":0},{"$f":"SUMMARY!$IP31","v":0},{"$f":"SUMMARY!$IP33","v":0},{"$f":"SUMMARY!$IP35","v":0},{"$f":"SUMMARY!$IP37","v":0},{"$f":"SUMMARY!$IP39","v":0},null,{"$f":"+mndot_rounding_3((100-B194)/((100/D194)-(B194/SUMMARY!$IH$7)))","v":{"$error":"#VALUE!"}},{"$error":"#VALUE!"},{"$error":"#VALUE!"},2,{"$error":"#VALUE!"},{"$error":"#VALUE!"},{"$f":"SUMMARY!$IP$10","v":{"$error":"#VALUE!"}},{"$error":"#VALUE!"},null,null,84,{"$f":"SUMMARY!IQ57","v":""},null,{"$error":"#VALUE!"},"","",{"$error":"#VALUE!"},0,{"$f":"mndot_rounding_1(+IF(AP194=0,\"\",(IF(AP194>0,+AP194,0)+IF(AP193>0,+AP193,0)+IF(AP192>0,+AP192,0)+IF(AP191>0,+AP191,0)+IF(+COUNTIF(AP191:AP194,\">0\")<=3,+AP190)+IF(+COUNTIF(AP190:AP194,\">0\")<=3,+AP189)+IF(+COUNTIF(AP189:AP194,\">0\")<=3,+AP188)+IF(+COUNTIF(AP188:AP194,\">0\")<=3,+AP187)+IF(+COUNTIF(AP187:AP194,\">0\")<=3,+AP186)+IF(+COUNTIF(AP186:AP194,\">0\")<=3,+AP185)+IF(+COUNTIF(AP185:AP194,\">0\")<=3,+AP184)+IF(+COUNTIF(AP184:AP194,\">0\")<=3,+AP183)+IF(+COUNTIF(AP183:AP194,\">0\")<4,\" \"))/4))","v":{"$error":"#VALUE!"}}]

{"sheet":"Grad","index":4,"n_rows":94,"n_cols":30,"rows_kept":94,"cut":false,"hidden":true,"merged":[[2,1,2,3],[3,1,3,3],[2,9,2,10],[3,9,3,10],[2,7,2,8],[3,7,3,8]]}
[null,null,null,null,"Gradation "]
[]
["Project #",{"$f":"SUMMARY!B3","v":""},null,null,"T.H. #",{"$f":"MDR!E4","v":0},null,"Contractor",null,{"$f":"MDR!AF4","v":"AFT Project?"},null,null,null,null,null,null,null,null,null,null,null,null,null,30,50,100]
["Rec#",{"$f":"SUMMARY!B4","v":""},null,null,"Mix Spec.",{"$f":"MDR!C7","v":0},null,"Mix Type",null,{"$f":"MDR!Y3","v":"WE (Wear) - 3% Voids"}]
[]
[]
[null,null,"Running",null,"Running",null,"Running",null,"Running",null,"Running",null,"Running",null,"Running"]
["Test","1 inch","AVE-4","3/4 inch","AVE-4","1/2 inch","AVE-4","3/8 inch","AVE-4","# 4","AVE-4","# 8","AVE-4","#200 ","AVE-4",null,null,null,null,null,null,null,null,null,null,null,"#16 ","#30","#50","#100"]
[]
[null,null,null,null,null,null,null,null,null,null,null,null,null,null,null,null,null,"1 INCH","3 quarters","one half","3 eights","#4","#8","# 200"]
[{"$f":"SUMMARY!D7","v":301},{"$f":"IF(ISNUMBER(SUMMARY!$D15),SUMMARY!$D15,0)","v":0},null,{"$f":"IF(ISNUMBER(SUMMARY!$D18),SUMMARY!$D18,0)","v":0},null,{"$f":"IF(ISNUMBER(SUMMARY!$D21),SUMMARY!$D21,0)","v":0},null,{"$f":"IF(ISNUMBER(SUMMARY!$D24),SUMMARY!$D24,0)","v":0},null,{"$f":"IF(ISNUMBER(SUMMARY!$D27),SUMMARY!$D27,0)","v":0},null,{"$f":"IF(ISNUMBER(SUMMARY!$D30),SUMMARY!$D30,0)","v":0},null,{"$f":"IF(ISNUMBER(SUMMARY!$D41),SUMMARY!$D41,0)","v":0},null,null,null,null,null,null,null,null,null,null,null,null,{"$f":"SUMMARY!D32","v":""},{"$f":"SUMMARY!D34","v":""},{"$f":"SUMMARY!D36","v":""},{"$f":"SUMMARY!D38","v":""}]
[{"$f":"SUMMARY!F7","v":302},{"$f":"IF(ISNUMBER(SUMMARY!$F15),SUMMARY!$F15,0)","v":0},null,{"$f":"IF(ISNUMBER(SUMMARY!$F18),SUMMARY!$F18,0)","v":0},null,{"$f":"IF(ISNUMBER(SUMMARY!$F21),SUMMARY!$F21,0)","v":0},null,{"$f":"IF(ISNUMBER(SUMMARY!$F24),SUMMARY!$F24,0)","v":0},null,{"$f":"IF(ISNUMBER(SUMMARY!$F27),SUMMARY!$F27,0)","v":0},null,{"$f":"IF(ISNUMBER(SUMMARY!$F30),SUMMARY!$F30,0)","v":0},null,{"$f":"IF(ISNUMBER(SUMMARY!$F41),SUMMARY!$F41,0)","v":0},null,null,null,{"$f":"IF(B12=0,\"\",C12)","v":""},null,null,null,null,null,null,null,null,{"$f":"SUMMARY!F32","v":""},{"$f":"SUMMARY!F34","v":""},{"$f":"SUMMARY!F36","v":""},{"$f":"SUMMARY!F38","v":""}]
[{"$f":"SUMMARY!H7","v":303},{"$f":"IF(ISNUMBER(SUMMARY!$H15),SUMMARY!$H15,0)","v":0},null,{"$f":"IF(ISNUMBER(SUMMARY!$H18),SUMMARY!$H18,0)","v":0},null,{"$f":"IF(ISNUMBER(SUMMARY!$H21),SUMMARY!$H21,0)","v":0},null,{"$f":"IF(ISNUMBER(SUMMARY!$H24),SUMMARY!$H24,0)","v":0},null,{"$f":"IF(ISNUMBER(SUMMARY!$H27),SUMMARY!$H27,0)","v":0},null,{"$f":"IF(ISNUMBER(SUMMARY!$H30),SUMMARY!$H30,0)","v":0},null,{"$f":"IF(ISNUMBER(SUMMARY!$H41),SUMMARY!$H41,0)","v":0},null,null,null,{"$f":"IF(B13=0,\"\",C13)","v":""},null,null,null,null,null,null,null,null,{"$f":"SUMMARY!H32","v":""},{"$f":"SUMMARY!H34","v":""},{"$f":"SUMMARY!H36","v":""},{"$f":"SUMMARY!H38","v":""}]
[{"$f":"SUMMARY!J7","v":304},{"$f":"IF(ISNUMBER(SUMMARY!$J15),SUMMARY!$J15,0)","v":0},{"$f":"IF(B14=0,\"\",AVERAGE(B11,B12,B13,B14)+(IF(B11=0,\" \",IF(B12=0,\" \",IF(B13=0,\" \",IF(B14=0,\" \",))))))","v":""},{"$f":"IF(ISNUMBER(SUMMARY!$J18),SUMMARY!$J18,0)","v":0},{"$f":"IF(D14=0,\"\",AVERAGE(D11,D12,D13,D14)+(IF(D11=0,\" \",IF(D12=0,\" \",IF(D13=0,\" \",IF(D14=0,\" \",))))))","v":""},{"$f":"IF(ISNUMBER(SUMMARY!$J21),SUMMARY!$J21,0)","v":0},{"$f":"IF(F14=0,\"\",AVERAGE(F11,F12,F13,F14)+(IF(F11=0,\" \",IF(F12=0,\" \",IF(F13=0,\" \",IF(F14=0,\" \",))))))","v":""},{"$f":"IF(ISNUMBER(SUMMARY!$J24),SUMMARY!$J24,0)","v":0},{"$f":"IF(H14=0,\"\",AVERAGE(H11,H12,H13,H14)+(IF(H11=0,\" \",IF(H12=0,\" \",IF(H13=0,\" \",IF(H14=0,\" \",))))))","v":""},{"$f":"IF(ISNUMBER(SUMMARY!$J27),SUMMARY!$J27,0)","v":0},{"$f":"IF(J14=0,\"\",AVERAGE(J11,J12,J13,J14)+(IF(J11=0,\" \",IF(J12=0,\" \",IF(J13=0,\" \",IF(J14=0,\" \",))))))","v":""},{"$f":"IF(ISNUMBER(SUMMARY!$J30),SUMMARY!$J30,0)","v":0},{"$f":"IF(L14=0,\"\",AVERAGE(L11,L12,L13,L14)+(IF(L11=0,\" \",IF(L12=0,\" \",IF(L13=0,\" \",IF(L14=0,\" \",))))))","v":""},{"$f":"IF(ISNUMBER(SUMMARY!$J41),SUMMARY!$J41,0)","v":0},{"$f":"IF(N14=0,\"\",AVERAGE(N11,N12,N13,N14)+(IF(N11=0,\" \",IF(N12=0,\" \",IF(N13=0,\" \",IF(N14=0,\" \",))))))","v":""},null,null,{"$f":"IF(B14=0,\"\",C14)","v":""},{"$f":"IF(D14=0,\"\",E14)","v":""},{"$f":"IF(F14=0,\"\",G14)","v":""},{"$f":"IF(H14=0,\"\",I14)","v":""},{"$f":"IF(J14=0,\"\",K14)","v":""},{"$f":"IF(L14=0,\"\",M14)","v":""},{"$f":"IF(AD15=0,\"\",AF14)","v":0},null,null,{"$f":"SUMMARY!J32","v":""},{"$f":"SUMMARY!J34","v":""},{"$f":"SUMMARY!J36","v":""},{"$f":"SUMMARY!J38","v":""}]
[{"$f":"SUMMARY!P7","v":305},{"$f":"IF(ISNUMBER(SUMMARY!$P15),SUMMARY!$P15,0)","v":0},{"$f":"+IF(B15=0,\"\",(IF(B15>0,+B15,0)+IF(B14>0,+B14,0)+IF(B13>0,+B13,0)+IF(B12>0,+B12,0)+IF(+COUNTIF(B12:B15,\">0\")<=3,+B11)+IF(+COUNTIF(B11:B15,\">0\")<4,\" \"))/4)","v":""},{"$f":"IF(ISNUMBER(SUMMARY!$P18),SUMMARY!$P18,0)","v":0},{"$f":"+IF(D15=0,\"\",(IF(D15>0,+D15,0)+IF(D14>0,+D14,0)+IF(D13>0,+D13,0)+IF(D12>0,+D12,0)+IF(+COUNTIF(D12:D15,\">0\")<=3,+D11)+IF(+COUNTIF(D11:D15,\">0\")<4,\" \"))/4)","v":""},{"$f":"IF(ISNUMBER(SUMMARY!$P21),SUMMARY!$P21,0)","v":0},{"$f":"+IF(F15=0,\"\",(IF(F15>0,+F15,0)+IF(F14>0,+F14,0)+IF(F13>0,+F13,0)+IF(F12>0,+F12,0)+IF(+COUNTIF(F12:F15,\">0\")<=3,+F11)+IF(+COUNTIF(F11:F15,\">0\")<4,\" \"))/4)","v":""},{"$f":"IF(ISNUMBER(SUMMARY!$P24),SUMMARY!$P24,0)","v":0},{"$f":"+IF(H15=0,\"\",(IF(H15>0,+H15,0)+IF(H14>0,+H14,0)+IF(H13>0,+H13,0)+IF(H12>0,+H12,0)+IF(+COUNTIF(H12:H15,\">0\")<=3,+H11)+IF(+COUNTIF(H11:H15,\">0\")<4,\" \"))/4)","v":""},{"$f":"IF(ISNUMBER(SUMMARY!$P27),SUMMARY!$P27,0)","v":0},{"$f":"+IF(J15=0,\"\",(IF(J15>0,+J15,0)+IF(J14>0,+J14,0)+IF(J13>0,+J13,0)+IF(J12>0,+J12,0)+IF(+COUNTIF(J12:J15,\">0\")<=3,+J11)+IF(+COUNTIF(J11:J15,\">0\")<4,\" \"))/4)","v":""},{"$f":"IF(ISNUMBER(SUMMARY!$P30),SUMMARY!$P30,0)","v":0},{"$f":"+IF(L15=0,\"\",(IF(L15>0,+L15,0)+IF(L14>0,+L14,0)+IF(L13>0,+L13,0)+IF(L12>0,+L12,0)+IF(+COUNTIF(L12:L15,\">0\")<=3,+L11)+IF(+COUNTIF(L11:L15,\">0\")<4,\" \"))/4)","v":""},{"$f":"IF(ISNUMBER(SUMMARY!$P41),SUMMARY!$P41,0)","v":0},{"$f":"+IF(N15=0,\"\",(IF(N15>0,+N15,0)+IF(N14>0,+N14,0)+IF(N13>0,+N13,0)+IF(N12>0,+N12,0)+IF(+COUNTIF(N12:N15,\">0\")<=3,+N11)+IF(+COUNTIF(N11:N15,\">0\")<4,\" \"))/4)","v":""},null,null,{"$f":"IF(B15=0,\"\",C15)","v":""},{"$f":"IF(D15=0,\"\",E15)","v":""},{"$f":"IF(F15=0,\"\",G15)","v":""},"","","",0,null,null,{"$f":"SUMMARY!P32","v":""},{"$f":"SUMMARY!P34","v":""},{"$f":"SUMMARY!P36","v":""},{"$f":"SUMMARY!P38","v":""}]
[{"$f":"SUMMARY!R7","v":306},{"$f":"IF(ISNUMBER(SUMMARY!$R15),SUMMARY!$R15,0)","v":0},{"$f":"+IF(B16=0,\"\",(IF(B16>0,+B16,0)+IF(B15>0,+B15,0)+IF(B14>0,+B14,0)+IF(B13>0,+B13,0)+IF(+COUNTIF(B13:B16,\">0\")<=3,+B12)+IF(+COUNTIF(B12:B16,\">0\")<=3,+B11)+IF(+COUNTIF(B11:B16,\">0\")<4,\" \"))/4)","v":""},{"$f":"IF(ISNUMBER(SUMMARY!$R18),SUMMARY!$R18,0)","v":0},{"$f":"+IF(D16=0,\"\",(IF(D16>0,+D16,0)+IF(D15>0,+D15,0)+IF(D14>0,+D14,0)+IF(D13>0,+D13,0)+IF(+COUNTIF(D13:D16,\">0\")<=3,+D12)+IF(+COUNTIF(D12:D16,\">0\")<=3,+D11)+IF(+COUNTIF(D11:D16,\">0\")<4,\" \"))/4)","v":""},{"$f":"IF(ISNUMBER(SUMMARY!$R21),SUMMARY!$R21,0)","v":0},{"$f":"+IF(F16=0,\"\",(IF(F16>0,+F16,0)+IF(F15>0,+F15,0)+IF(F14>0,+F14,0)+IF(F13>0,+F13,0)+IF(+COUNTIF(F13:F16,\">0\")<=3,+F12)+IF(+COUNTIF(F12:F16,\">0\")<=3,+F11)+IF(+COUNTIF(F11:F16,\">0\")<4,\" \"))/4)","v":""},{"$f":"IF(ISNUMBER(SUMMARY!$R24),SUMMARY!$R24,0)","v":0},{"$f":"+IF(H16=0,\"\",(IF(H16>0,+H16,0)+IF(H15>0,+H15,0)+IF(H14>0,+H14,0)+IF(H13>0,+H13,0)+IF(+COUNTIF(H13:H16,\">0\")<=3,+H12)+IF(+COUNTIF(H12:H16,\">0\")<=3,+H11)+IF(+COUNTIF(H11:H16,\">0\")<4,\" \"))/4)","v":""},{"$f":"IF(ISNUMBER(SUMMARY!$R27),SUMMARY!$R27,0)","v":0},{"$f":"+IF(J16=0,\"\",(IF(J16>0,+J16,0)+IF(J15>0,+J15,0)+IF(J14>0,+J14,0)+IF(J13>0,+J13,0)+IF(+COUNTIF(J13:J16,\">0\")<=3,+J12)+IF(+COUNTIF(J12:J16,\">0\")<=3,+J11)+IF(+COUNTIF(J11:J16,\">0\")<4,\" \"))/4)","v":""},{"$f":"IF(ISNUMBER(SUMMARY!$R30),SUMMARY!$R30,0)","v":0},{"$f":"+IF(L16=0,\"\",(IF(L16>0,+L16,0)+IF(L15>0,+L15,0)+IF(L14>0,+L14,0)+IF(L13>0,+L13,0)+IF(+COUNTIF(L13:L16,\">0\")<=3,+L12)+IF(+COUNTIF(L12:L16,\">0\")<=3,+L11)+IF(+COUNTIF(L11:L16,\">0\")<4,\" \"))/4)","v":""},{"$f":"IF(ISNUMBER(SUMMARY!$R41),SUMMARY!$R41,0)","v":0},{"$f":"+IF(N16=0,\"\",(IF(N16>0,+N16,0)+IF(N15>0,+N15,0)+IF(N14>0,+N14,0)+IF(N13>0,+N13,0)+IF(+COUNTIF(N13:N16,\">0\")<=3,+N12)+IF(+COUNTIF(N12:N16,\">0\")<=3,+N11)+IF(+COUNTIF(N11:N16,\">0\")<4,\" \"))/4)","v":""},null,null,{"$f":"IF(B16=0,\"\",C16)","v":""},"","","","","",0,null,null,{"$f":"SUMMARY!R32","v":""},{"$f":"SUMMARY!R34","v":""},{"$f":"SUMMARY!R36","v":""},{"$f":"SUMMARY!R38","v":""}]
[{"$f":"SUMMARY!T7","v":307},{"$f":"IF(ISNUMBER(SUMMARY!$T15),SUMMARY!$T15,0)","v":0},{"$f":"+IF(B17=0,\"\",(IF(B17>0,+B17,0)+IF(B16>0,+B16,0)+IF(B15>0,+B15,0)+IF(B14>0,+B14,0)+IF(+COUNTIF(B14:B17,\">0\")<=3,+B13)+IF(+COUNTIF(B13:B17,\">0\")<=3,+B12)+IF(+COUNTIF(B12:B17,\">0\")<=3,+B11)+IF(+COUNTIF(B11:B17,\">0\")<4,\" \"))/4)","v":""},{"$f":"IF(ISNUMBER(SUMMARY!$T18),SUMMARY!$T18,0)","v":0},{"$f":"+IF(D17=0,\"\",(IF(D17>0,+D17,0)+IF(D16>0,+D16,0)+IF(D15>0,+D15,0)+IF(D14>0,+D14,0)+IF(+COUNTIF(D14:D17,\">0\")<=3,+D13)+IF(+COUNTIF(D13:D17,\">0\")<=3,+D12)+IF(+COUNTIF(D12:D17,\">0\")<=3,+D11)+IF(+COUNTIF(D11:D17,\">0\")<4,\" \"))/4)","v":""},{"$f":"IF(ISNUMBER(SUMMARY!$T21),SUMMARY!$T21,0)","v":0},{"$f":"+IF(F17=0,\"\",(IF(F17>0,+F17,0)+IF(F16>0,+F16,0)+IF(F15>0,+F15,0)+IF(F14>0,+F14,0)+IF(+COUNTIF(F14:F17,\">0\")<=3,+F13)+IF(+COUNTIF(F13:F17,\">0\")<=3,+F12)+IF(+COUNTIF(F12:F17,\">0\")<=3,+F11)+IF(+COUNTIF(F11:F17,\">0\")<4,\" \"))/4)","v":""},{"$f":"IF(ISNUMBER(SUMMARY!$T24),SUMMARY!$T24,0)","v":0},{"$f":"+IF(H17=0,\"\",(IF(H17>0,+H17,0)+IF(H16>0,+H16,0)+IF(H15>0,+H15,0)+IF(H14>0,+H14,0)+IF(+COUNTIF(H14:H17,\">0\")<=3,+H13)+IF(+COUNTIF(H13:H17,\">0\")<=3,+H12)+IF(+COUNTIF(H12:H17,\">0\")<=3,+H11)+IF(+COUNTIF(H11:H17,\">0\")<4,\" \"))/4)","v":""},{"$f":"IF(ISNUMBER(SUMMARY!$T27),SUMMARY!$T27,0)","v":0},{"$f":"+IF(J17=0,\"\",(IF(J17>0,+J17,0)+IF(J16>0,+J16,0)+IF(J15>0,+J15,0)+IF(J14>0,+J14,0)+IF(+COUNTIF(J14:J17,\">0\")<=3,+J13)+IF(+COUNTIF(J13:J17,\">0\")<=3,+J12)+IF(+COUNTIF(J12:J17,\">0\")<=3,+J11)+IF(+COUNTIF(J11:J17,\">0\")<4,\" \"))/4)","v":""},{"$f":"IF(ISNUMBER(SUMMARY!$T30),SUMMARY!$T30,0)","v":0},{"$f":"+IF(L17=0,\"\",(IF(L17>0,+L17,0)+IF(L16>0,+L16,0)+IF(L15>0,+L15,0)+IF(L14>0,+L14,0)+IF(+COUNTIF(L14:L17,\">0\")<=3,+L13)+IF(+COUNTIF(L13:L17,\">0\")<=3,+L12)+IF(+COUNTIF(L12:L17,\">0\")<=3,+L11)+IF(+COUNTIF(L11:L17,\">0\")<4,\" \"))/4)","v":""},{"$f":"IF(ISNUMBER(SUMMARY!$T41),SUMMARY!$T41,0)","v":0},{"$f":"+IF(N17=0,\"\",(IF(N17>0,+N17,0)+IF(N16>0,+N16,0)+IF(N15>0,+N15,0)+IF(N14>0,+N14,0)+IF(+COUNTIF(N14:N17,\">0\")<=3,+N13)+IF(+COUNTIF(N13:N17,\">0\")<=3,+N12)+IF(+COUNTIF(N12:N17,\">0\")<=3,+N11)+IF(+COUNTIF(N11:N17,\">0\")<4,\" \"))/4)","v":""},null,null,{"$f":"IF(B17=0,\"\",C17)","v":""},"","","","","",0,null,null,{"$f":"SUMMARY!T32","v":""},{"$f":"SUMMARY!T34","v":""},{"$f":"SUMMARY!T36","v":""},{"$f":"SUMMARY!T38","v":""}]
[{"$f":"SUMMARY!V7","v":308},{"$f":"IF(ISNUMBER(SUMMARY!$V15),SUMMARY!$V15,0)","v":0},{"$f":"+IF(B18=0,\"\",(IF(B18>0,+B18,0)+IF(B17>0,+B17,0)+IF(B16>0,+B16,0)+IF(B15>0,+B15,0)+IF(+COUNTIF(B15:B18,\">0\")<=3,+B14)+IF(+COUNTIF(B14:B18,\">0\")<=3,+B13)+IF(+COUNTIF(B13:B18,\">0\")<=3,+B12)+IF(+COUNTIF(B12:B18,\">0\")<=3,+B11)+IF(+COUNTIF(B11:B18,\">0\")<4,\" \"))/4)","v":""},{"$f":"IF(ISNUMBER(SUMMARY!$V18),SUMMARY!$V18,0)","v":0},{"$f":"+IF(D18=0,\"\",(IF(D18>0,+D18,0)+IF(D17>0,+D17,0)+IF(D16>0,+D16,0)+IF(D15>0,+D15,0)+IF(+COUNTIF(D15:D18,\">0\")<=3,+D14)+IF(+COUNTIF(D14:D18,\">0\")<=3,+D13)+IF(+COUNTIF(D13:D18,\">0\")<=3,+D12)+IF(+COUNTIF(D12:D18,\">0\")<=3,+D11)+IF(+COUNTIF(D11:D18,\">0\")<4,\" \"))/4)","v":""},{"$f":"IF(ISNUMBER(SUMMARY!$V21),SUMMARY!$V21,0)","v":0},{"$f":"+IF(F18=0,\"\",(IF(F18>0,+F18,0)+IF(F17>0,+F17,0)+IF(F16>0,+F16,0)+IF(F15>0,+F15,0)+IF(+COUNTIF(F15:F18,\">0\")<=3,+F14)+IF(+COUNTIF(F14:F18,\">0\")<=3,+F13)+IF(+COUNTIF(F13:F18,\">0\")<=3,+F12)+IF(+COUNTIF(F12:F18,\">0\")<=3,+F11)+IF(+COUNTIF(F11:F18,\">0\")<4,\" \"))/4)","v":""},{"$f":"IF(ISNUMBER(SUMMARY!$V24),SUMMARY!$V24,0)","v":0},{"$f":"+IF(H18=0,\"\",(IF(H18>0,+H18,0)+IF(H17>0,+H17,0)+IF(H16>0,+H16,0)+IF(H15>0,+H15,0)+IF(+COUNTIF(H15:H18,\">0\")<=3,+H14)+IF(+COUNTIF(H14:H18,\">0\")<=3,+H13)+IF(+COUNTIF(H13:H18,\">0\")<=3,+H12)+IF(+COUNTIF(H12:H18,\">0\")<=3,+H11)+IF(+COUNTIF(H11:H18,\">0\")<4,\" \"))/4)","v":""},{"$f":"IF(ISNUMBER(SUMMARY!$V27),SUMMARY!$V27,0)","v":0},{"$f":"+IF(J18=0,\"\",(IF(J18>0,+J18,0)+IF(J17>0,+J17,0)+IF(J16>0,+J16,0)+IF(J15>0,+J15,0)+IF(+COUNTIF(J15:J18,\">0\")<=3,+J14)+IF(+COUNTIF(J14:J18,\">0\")<=3,+J13)+IF(+COUNTIF(J13:J18,\">0\")<=3,+J12)+IF(+COUNTIF(J12:J18,\">0\")<=3,+J11)+IF(+COUNTIF(J11:J18,\">0\")<4,\" \"))/4)","v":""},{"$f":"IF(ISNUMBER(SUMMARY!$V30),SUMMARY!$V30,0)","v":0},{"$f":"+IF(L18=0,\"\",(IF(L18>0,+L18,0)+IF(L17>0,+L17,0)+IF(L16>0,+L16,0)+IF(L15>0,+L15,0)+IF(+COUNTIF(L15:L18,\">0\")<=3,+L14)+IF(+COUNTIF(L14:L18,\">0\")<=3,+L13)+IF(+COUNTIF(L13:L18,\">0\")<=3,+L12)+IF(+COUNTIF(L12:L18,\">0\")<=3,+L11)+IF(+COUNTIF(L11:L18,\">0\")<4,\" \"))/4)","v":""},{"$f":"IF(ISNUMBER(SUMMARY!$V41),SUMMARY!$V41,0)","v":0},{"$f":"+IF(N18=0,\"\",(IF(N18>0,+N18,0)+IF(N17>0,+N17,0)+IF(N16>0,+N16,0)+IF(N15>0,+N15,0)+IF(+COUNTIF(N15:N18,\">0\")<=3,+N14)+IF(+COUNTIF(N14:N18,\">0\")<=3,+N13)+IF(+COUNTIF(N13:N18,\">0\")<=3,+N12)+IF(+COUNTIF(N12:N18,\">0\")<=3,+N11)+IF(+COUNTIF(N11:N18,\">0\")<4,\" \"))/4)","v":""},null,null,"","","","","","",0,null,null,{"$f":"SUMMARY!V32","v":""},{"$f":"SUMMARY!V34","v":""},{"$f":"SUMMARY!V36","v":""},{"$f":"SUMMARY!V38","v":""}]
[{"$f":"SUMMARY!AB7","v":309},{"$f":"IF(ISNUMBER(SUMMARY!$AB15),SUMMARY!$AB15,0)","v":0},{"$f":"+IF(B19=0,\"\",(IF(B19>0,+B19,0)+IF(B18>0,+B18,0)+IF(B17>0,+B17,0)+IF(B16>0,+B16,0)+IF(+COUNTIF(B16:B19,\">0\")<=3,+B15)+IF(+COUNTIF(B15:B19,\">0\")<=3,+B14)+IF(+COUNTIF(B14:B19,\">0\")<=3,+B13)+IF(+COUNTIF(B13:B19,\">0\")<=3,+B12)+IF(+COUNTIF(B12:B19,\">0\")<=3,+B11)+IF(+COUNTIF(B11:B19,\">0\")<4,\" \"))/4)","v":""},{"$f":"IF(ISNUMBER(SUMMARY!$AB18),SUMMARY!$AB18,0)","v":0},{"$f":"+IF(D19=0,\"\",(IF(D19>0,+D19,0)+IF(D18>0,+D18,0)+IF(D17>0,+D17,0)+IF(D16>0,+D16,0)+IF(+COUNTIF(D16:D19,\">0\")<=3,+D15)+IF(+COUNTIF(D15:D19,\">0\")<=3,+D14)+IF(+COUNTIF(D14:D19,\">0\")<=3,+D13)+IF(+COUNTIF(D13:D19,\">0\")<=3,+D12)+IF(+COUNTIF(D12:D19,\">0\")<=3,+D11)+IF(+COUNTIF(D11:D19,\">0\")<4,\" \"))/4)","v":""},{"$f":"IF(ISNUMBER(SUMMARY!$AB21),SUMMARY!$AB21,0)","v":0},{"$f":"+IF(F19=0,\"\",(IF(F19>0,+F19,0)+IF(F18>0,+F18,0)+IF(F17>0,+F17,0)+IF(F16>0,+F16,0)+IF(+COUNTIF(F16:F19,\">0\")<=3,+F15)+IF(+COUNTIF(F15:F19,\">0\")<=3,+F14)+IF(+COUNTIF(F14:F19,\">0\")<=3,+F13)+IF(+COUNTIF(F13:F19,\">0\")<=3,+F12)+IF(+COUNTIF(F12:F19,\">0\")<=3,+F11)+IF(+COUNTIF(F11:F19,\">0\")<4,\" \"))/4)","v":""},{"$f":"IF(ISNUMBER(SUMMARY!$AB24),SUMMARY!$AB24,0)","v":0},{"$f":"+IF(H19=0,\"\",(IF(H19>0,+H19,0)+IF(H18>0,+H18,0)+IF(H17>0,+H17,0)+IF(H16>0,+H16,0)+IF(+COUNTIF(H16:H19,\">0\")<=3,+H15)+IF(+COUNTIF(H15:H19,\">0\")<=3,+H14)+IF(+COUNTIF(H14:H19,\">0\")<=3,+H13)+IF(+COUNTIF(H13:H19,\">0\")<=3,+H12)+IF(+COUNTIF(H12:H19,\">0\")<=3,+H11)+IF(+COUNTIF(H11:H19,\">0\")<4,\" \"))/4)","v":""},{"$f":"IF(ISNUMBER(SUMMARY!$AB27),SUMMARY!$AB27,0)","v":0},{"$f":"+IF(J19=0,\"\",(IF(J19>0,+J19,0)+IF(J18>0,+J18,0)+IF(J17>0,+J17,0)+IF(J16>0,+J16,0)+IF(+COUNTIF(J16:J19,\">0\")<=3,+J15)+IF(+COUNTIF(J15:J19,\">0\")<=3,+J14)+IF(+COUNTIF(J14:J19,\">0\")<=3,+J13)+IF(+COUNTIF(J13:J19,\">0\")<=3,+J12)+IF(+COUNTIF(J12:J19,\">0\")<=3,+J11)+IF(+COUNTIF(J11:J19,\">0\")<4,\" \"))/4)","v":""},{"$f":"IF(ISNUMBER(SUMMARY!$AB30),SUMMARY!$AB30,0)","v":0},{"$f":"+IF(L19=0,\"\",(IF(L19>0,+L19,0)+IF(L18>0,+L18,0)+IF(L17>0,+L17,0)+IF(L16>0,+L16,0)+IF(+COUNTIF(L16:L19,\">0\")<=3,+L15)+IF(+COUNTIF(L15:L19,\">0\")<=3,+L14)+IF(+COUNTIF(L14:L19,\">0\")<=3,+L13)+IF(+COUNTIF(L13:L19,\">0\")<=3,+L12)+IF(+COUNTIF(L12:L19,\">0\")<=3,+L11)+IF(+COUNTIF(L11:L19,\">0\")<4,\" \"))/4)","v":""},{"$f":"IF(ISNUMBER(SUMMARY!$AB41),SUMMARY!$AB41,0)","v":0},{"$f":"+IF(N19=0,\"\",(IF(N19>0,+N19,0)+IF(N18>0,+N18,0)+IF(N17>0,+N17,0)+IF(N16>0,+N16,0)+IF(+COUNTIF(N16:N19,\">0\")<=3,+N15)+IF(+COUNTIF(N15:N19,\">0\")<=3,+N14)+IF(+COUNTIF(N14:N19,\">0\")<=3,+N13)+IF(+COUNTIF(N13:N19,\">0\")<=3,+N12)+IF(+COUNTIF(N12:N19,\">0\")<=3,+N11)+IF(+COUNTIF(N11:N19,\">0\")<4,\" \"))/4)","v":""},null,null,"","","","","","",0,null,null,{"$f":"SUMMARY!AB32","v":""},{"$f":"SUMMARY!AB34","v":""},{"$f":"SUMMARY!AB36","v":""},{"$f":"SUMMARY!AB38","v":""}]
[{"$f":"SUMMARY!AD7","v":310},{"$f":"IF(ISNUMBER(SUMMARY!$AD15),SUMMARY!$AD15,0)","v":0},{"$f":"+IF(B20=0,\"\",(IF(B20>0,+B20,0)+IF(B19>0,+B19,0)+IF(B18>0,+B18,0)+IF(B17>0,+B17,0)+IF(+COUNTIF(B17:B20,\">0\")<=3,+B16)+IF(+COUNTIF(B16:B20,\">0\")<=3,+B15)+IF(+COUNTIF(B15:B20,\">0\")<=3,+B14)+IF(+COUNTIF(B14:B20,\">0\")<=3,+B13)+IF(+COUNTIF(B13:B20,\">0\")<=3,+B12)+IF(+COUNTIF(B12:B20,\">0\")<=3,+B11)+IF(+COUNTIF(B11:B20,\">0\")<4,\" \"))/4)","v":""},{"$f":"IF(ISNUMBER(SUMMARY!$AD18),SUMMARY!$AD18,0)","v":0},{"$f":"+IF(D20=0,\"\",(IF(D20>0,+D20,0)+IF(D19>0,+D19,0)+IF(D18>0,+D18,0)+IF(D17>0,+D17,0)+IF(+COUNTIF(D17:D20,\">0\")<=3,+D16)+IF(+COUNTIF(D16:D20,\">0\")<=3,+D15)+IF(+COUNTIF(D15:D20,\">0\")<=3,+D14)+IF(+COUNTIF(D14:D20,\">0\")<=3,+D13)+IF(+COUNTIF(D13:D20,\">0\")<=3,+D12)+IF(+COUNTIF(D12:D20,\">0\")<=3,+D11)+IF(+COUNTIF(D11:D20,\">0\")<4,\" \"))/4)","v":""},{"$f":"IF(ISNUMBER(SUMMARY!$AD21),SUMMARY!$AD21,0)","v":0},{"$f":"+IF(F20=0,\"\",(IF(F20>0,+F20,0)+IF(F19>0,+F19,0)+IF(F18>0,+F18,0)+IF(F17>0,+F17,0)+IF(+COUNTIF(F17:F20,\">0\")<=3,+F16)+IF(+COUNTIF(F16:F20,\">0\")<=3,+F15)+IF(+COUNTIF(F15:F20,\">0\")<=3,+F14)+IF(+COUNTIF(F14:F20,\">0\")<=3,+F13)+IF(+COUNTIF(F13:F20,\">0\")<=3,+F12)+IF(+COUNTIF(F12:F20,\">0\")<=3,+F11)+IF(+COUNTIF(F11:F20,\">0\")<4,\" \"))/4)","v":""},{"$f":"IF(ISNUMBER(SUMMARY!$AD24),SUMMARY!$AD24,0)","v":0},{"$f":"+IF(H20=0,\"\",(IF(H20>0,+H20,0)+IF(H19>0,+H19,0)+IF(H18>0,+H18,0)+IF(H17>0,+H17,0)+IF(+COUNTIF(H17:H20,\">0\")<=3,+H16)+IF(+COUNTIF(H16:H20,\">0\")<=3,+H15)+IF(+COUNTIF(H15:H20,\">0\")<=3,+H14)+IF(+COUNTIF(H14:H20,\">0\")<=3,+H13)+IF(+COUNTIF(H13:H20,\">0\")<=3,+H12)+IF(+COUNTIF(H12:H20,\">0\")<=3,+H11)+IF(+COUNTIF(H11:H20,\">0\")<4,\" \"))/4)","v":""},{"$f":"IF(ISNUMBER(SUMMARY!$AD27),SUMMARY!$AD27,0)","v":0},{"$f":"+IF(J20=0,\"\",(IF(J20>0,+J20,0)+IF(J19>0,+J19,0)+IF(J18>0,+J18,0)+IF(J17>0,+J17,0)+IF(+COUNTIF(J17:J20,\">0\")<=3,+J16)+IF(+COUNTIF(J16:J20,\">0\")<=3,+J15)+IF(+COUNTIF(J15:J20,\">0\")<=3,+J14)+IF(+COUNTIF(J14:J20,\">0\")<=3,+J13)+IF(+COUNTIF(J13:J20,\">0\")<=3,+J12)+IF(+COUNTIF(J12:J20,\">0\")<=3,+J11)+IF(+COUNTIF(J11:J20,\">0\")<4,\" \"))/4)","v":""},{"$f":"IF(ISNUMBER(SUMMARY!$AD30),SUMMARY!$AD30,0)","v":0},{"$f":"+IF(L20=0,\"\",(IF(L20>0,+L20,0)+IF(L19>0,+L19,0)+IF(L18>0,+L18,0)+IF(L17>0,+L17,0)+IF(+COUNTIF(L17:L20,\">0\")<=3,+L16)+IF(+COUNTIF(L16:L20,\">0\")<=3,+L15)+IF(+COUNTIF(L15:L20,\">0\")<=3,+L14)+IF(+COUNTIF(L14:L20,\">0\")<=3,+L13)+IF(+COUNTIF(L13:L20,\">0\")<=3,+L12)+IF(+COUNTIF(L12:L20,\">0\")<=3,+L11)+IF(+COUNTIF(L11:L20,\">0\")<4,\" \"))/4)","v":""},{"$f":"IF(ISNUMBER(SUMMARY!$AD41),SUMMARY!$AD41,0)","v":0},{"$f":"+IF(N20=0,\"\",(IF(N20>0,+N20,0)+IF(N19>0,+N19,0)+IF(N18>0,+N18,0)+IF(N17>0,+N17,0)+IF(+COUNTIF(N17:N20,\">0\")<=3,+N16)+IF(+COUNTIF(N16:N20,\">0\")<=3,+N15)+IF(+COUNTIF(N15:N20,\">0\")<=3,+N14)+IF(+COUNTIF(N14:N20,\">0\")<=3,+N13)+IF(+COUNTIF(N13:N20,\">0\")<=3,+N12)+IF(+COUNTIF(N12:N20,\">0\")<=3,+N11)+IF(+COUNTIF(N11:N20,\">0\")<4,\" \"))/4)","v":""},null,null,"","","","","","",0,null,null,{"$f":"SUMMARY!AD32","v":""},{"$f":"SUMMARY!AD34","v":""},{"$f":"SUMMARY!AD36","v":""},{"$f":"SUMMARY!AD38","v":""}]
[{"$f":"SUMMARY!AF7","v":311},{"$f":"IF(ISNUMBER(SUMMARY!$AF15),SUMMARY!$AF15,0)","v":0},{"$f":"+IF(B21=0,\"\",(IF(B21>0,+B21,0)+IF(B20>0,+B20,0)+IF(B19>0,+B19,0)+IF(B18>0,+B18,0)+IF(+COUNTIF(B18:B21,\">0\")<=3,+B17)+IF(+COUNTIF(B17:B21,\">0\")<=3,+B16)+IF(+COUNTIF(B16:B21,\">0\")<=3,+B15)+IF(+COUNTIF(B15:B21,\">0\")<=3,+B14)+IF(+COUNTIF(B14:B21,\">0\")<=3,+B13)+IF(+COUNTIF(B13:B21,\">0\")<=3,+B12)+IF(+COUNTIF(B12:B21,\">0\")<=3,+B11)+IF(+COUNTIF(B11:B21,\">0\")<4,\" \"))/4)","v":""},{"$f":"IF(ISNUMBER(SUMMARY!$AF18),SUMMARY!$AF18,0)","v":0},{"$f":"+IF(D21=0,\"\",(IF(D21>0,+D21,0)+IF(D20>0,+D20,0)+IF(D19>0,+D19,0)+IF(D18>0,+D18,0)+IF(+COUNTIF(D18:D21,\">0\")<=3,+D17)+IF(+COUNTIF(D17:D21,\">0\")<=3,+D16)+IF(+COUNTIF(D16:D21,\">0\")<=3,+D15)+IF(+COUNTIF(D15:D21,\">0\")<=3,+D14)+IF(+COUNTIF(D14:D21,\">0\")<=3,+D13)+IF(+COUNTIF(D13:D21,\">0\")<=3,+D12)+IF(+COUNTIF(D12:D21,\">0\")<=3,+D11)+IF(+COUNTIF(D11:D21,\">0\")<4,\" \"))/4)","v":""},{"$f":"IF(ISNUMBER(SUMMARY!$AF21),SUMMARY!$AF21,0)","v":0},{"$f":"+IF(F21=0,\"\",(IF(F21>0,+F21,0)+IF(F20>0,+F20,0)+IF(F19>0,+F19,0)+IF(F18>0,+F18,0)+IF(+COUNTIF(F18:F21,\">0\")<=3,+F17)+IF(+COUNTIF(F17:F21,\">0\")<=3,+F16)+IF(+COUNTIF(F16:F21,\">0\")<=3,+F15)+IF(+COUNTIF(F15:F21,\">0\")<=3,+F14)+IF(+COUNTIF(F14:F21,\">0\")<=3,+F13)+IF(+COUNTIF(F13:F21,\">0\")<=3,+F12)+IF(+COUNTIF(F12:F21,\">0\")<=3,+F11)+IF(+COUNTIF(F11:F21,\">0\")<4,\" \"))/4)","v":""},{"$f":"IF(ISNUMBER(SUMMARY!$AF24),SUMMARY!$AF24,0)","v":0},{"$f":"+IF(H21=0,\"\",(IF(H21>0,+H21,0)+IF(H20>0,+H20,0)+IF(H19>0,+H19,0)+IF(H18>0,+H18,0)+IF(+COUNTIF(H18:H21,\">0\")<=3,+H17)+IF(+COUNTIF(H17:H21,\">0\")<=3,+H16)+IF(+COUNTIF(H16:H21,\">0\")<=3,+H15)+IF(+COUNTIF(H15:H21,\">0\")<=3,+H14)+IF(+COUNTIF(H14:H21,\">0\")<=3,+H13)+IF(+COUNTIF(H13:H21,\">0\")<=3,+H12)+IF(+COUNTIF(H12:H21,\">0\")<=3,+H11)+IF(+COUNTIF(H11:H21,\">0\")<4,\" \"))/4)","v":""},{"$f":"IF(ISNUMBER(SUMMARY!$AF27),SUMMARY!$AF27,0)","v":0},{"$f":"+IF(J21=0,\"\",(IF(J21>0,+J21,0)+IF(J20>0,+J20,0)+IF(J19>0,+J19,0)+IF(J18>0,+J18,0)+IF(+COUNTIF(J18:J21,\">0\")<=3,+J17)+IF(+COUNTIF(J17:J21,\">0\")<=3,+J16)+IF(+COUNTIF(J16:J21,\">0\")<=3,+J15)+IF(+COUNTIF(J15:J21,\">0\")<=3,+J14)+IF(+COUNTIF(J14:J21,\">0\")<=3,+J13)+IF(+COUNTIF(J13:J21,\">0\")<=3,+J12)+IF(+COUNTIF(J12:J21,\">0\")<=3,+J11)+IF(+COUNTIF(J11:J21,\">0\")<4,\" \"))/4)","v":""},{"$f":"IF(ISNUMBER(SUMMARY!$AF30),SUMMARY!$AF30,0)","v":0},{"$f":"+IF(L21=0,\"\",(IF(L21>0,+L21,0)+IF(L20>0,+L20,0)+IF(L19>0,+L19,0)+IF(L18>0,+L18,0)+IF(+COUNTIF(L18:L21,\">0\")<=3,+L17)+IF(+COUNTIF(L17:L21,\">0\")<=3,+L16)+IF(+COUNTIF(L16:L21,\">0\")<=3,+L15)+IF(+COUNTIF(L15:L21,\">0\")<=3,+L14)+IF(+COUNTIF(L14:L21,\">0\")<=3,+L13)+IF(+COUNTIF(L13:L21,\">0\")<=3,+L12)+IF(+COUNTIF(L12:L21,\">0\")<=3,+L11)+IF(+COUNTIF(L11:L21,\">0\")<4,\" \"))/4)","v":""},{"$f":"IF(ISNUMBER(SUMMARY!$AF41),SUMMARY!$AF41,0)","v":0},{"$f":"+IF(N21=0,\"\",(IF(N21>0,+N21,0)+IF(N20>0,+N20,0)+IF(N19>0,+N19,0)+IF(N18>0,+N18,0)+IF(+COUNTIF(N18:N21,\">0\")<=3,+N17)+IF(+COUNTIF(N17:N21,\">0\")<=3,+N16)+IF(+COUNTIF(N16:N21,\">0\")<=3,+N15)+IF(+COUNTIF(N15:N21,\">0\")<=3,+N14)+IF(+COUNTIF(N14:N21,\">0\")<=3,+N13)+IF(+COUNTIF(N13:N21,\">0\")<=3,+N12)+IF(+COUNTIF(N12:N21,\">0\")<=3,+N11)+IF(+COUNTIF(N11:N21,\">0\")<4,\" \"))/4)","v":""},null,null,"","","","","","",0,null,null,{"$f":"SUMMARY!AF32","v":""},{"$f":"SUMMARY!AF34","v":""},{"$f":"SUMMARY!AF36","v":""},{"$f":"SUMMARY!AF38","v":""}]
[{"$f":"SUMMARY!AH7","v":312},{"$f":"IF(ISNUMBER(SUMMARY!$AH15),SUMMARY!$AH15,0)","v":0},{"$f":"+IF(B22=0,\"\",(IF(B22>0,+B22,0)+IF(B21>0,+B21,0)+IF(B20>0,+B20,0)+IF(B19>0,+B19,0)+IF(+COUNTIF(B19:B22,\">0\")<=3,+B18)+IF(+COUNTIF(B18:B22,\">0\")<=3,+B17)+IF(+COUNTIF(B17:B22,\">0\")<=3,+B16)+IF(+COUNTIF(B16:B22,\">0\")<=3,+B15)+IF(+COUNTIF(B15:B22,\">0\")<=3,+B14)+IF(+COUNTIF(B14:B22,\">0\")<=3,+B13)+IF(+COUNTIF(B13:B22,\">0\")<=3,+B12)+IF(+COUNTIF(B12:B22,\">0\")<=3,+B11)+IF(+COUNTIF(B11:B22,\">0\")<4,\" \"))/4)","v":""},{"$f":"IF(ISNUMBER(SUMMARY!$AH18),SUMMARY!$AH18,0)","v":0},"",{"$f":"IF(ISNUMBER(SUMMARY!$AH21),SUMMARY!$AH21,0)","v":0},{"$f":"+IF(F22=0,\"\",(IF(F22>0,+F22,0)+IF(F21>0,+F21,0)+IF(F20>0,+F20,0)+IF(F19>0,+F19,0)+IF(+COUNTIF(F19:F22,\">0\")<=3,+F18)+IF(+COUNTIF(F18:F22,\">0\")<=3,+F17)+IF(+COUNTIF(F17:F22,\">0\")<=3,+F16)+IF(+COUNTIF(F16:F22,\">0\")<=3,+F15)+IF(+COUNTIF(F15:F22,\">0\")<=3,+F14)+IF(+COUNTIF(F14:F22,\">0\")<=3,+F13)+IF(+COUNTIF(F13:F22,\">0\")<=3,+F12)+IF(+COUNTIF(F12:F22,\">0\")<=3,+F11)+IF(+COUNTIF(F11:F22,\">0\")<4,\" \"))/4)","v":""},{"$f":"IF(ISNUMBER(SUMMARY!$AH24),SUMMARY!$AH24,0)","v":0},{"$f":"+IF(H22=0,\"\",(IF(H22>0,+H22,0)+IF(H21>0,+H21,0)+IF(H20>0,+H20,0)+IF(H19>0,+H19,0)+IF(+COUNTIF(H19:H22,\">0\")<=3,+H18)+IF(+COUNTIF(H18:H22,\">0\")<=3,+H17)+IF(+COUNTIF(H17:H22,\">0\")<=3,+H16)+IF(+COUNTIF(H16:H22,\">0\")<=3,+H15)+IF(+COUNTIF(H15:H22,\">0\")<=3,+H14)+IF(+COUNTIF(H14:H22,\">0\")<=3,+H13)+IF(+COUNTIF(H13:H22,\">0\")<=3,+H12)+IF(+COUNTIF(H12:H22,\">0\")<=3,+H11)+IF(+COUNTIF(H11:H22,\">0\")<4,\" \"))/4)","v":""},{"$f":"IF(ISNUMBER(SUMMARY!$AH27),SUMMARY!$AH27,0)","v":0},{"$f":"+IF(J22=0,\"\",(IF(J22>0,+J22,0)+IF(J21>0,+J21,0)+IF(J20>0,+J20,0)+IF(J19>0,+J19,0)+IF(+COUNTIF(J19:J22,\">0\")<=3,+J18)+IF(+COUNTIF(J18:J22,\">0\")<=3,+J17)+IF(+COUNTIF(J17:J22,\">0\")<=3,+J16)+IF(+COUNTIF(J16:J22,\">0\")<=3,+J15)+IF(+COUNTIF(J15:J22,\">0\")<=3,+J14)+IF(+COUNTIF(J14:J22,\">0\")<=3,+J13)+IF(+COUNTIF(J13:J22,\">0\")<=3,+J12)+IF(+COUNTIF(J12:J22,\">0\")<=3,+J11)+IF(+COUNTIF(J11:J22,\">0\")<4,\" \"))/4)","v":""},{"$f":"IF(ISNUMBER(SUMMARY!$AH30),SUMMARY!$AH30,0)","v":0},{"$f":"+IF(L22=0,\"\",(IF(L22>0,+L22,0)+IF(L21>0,+L21,0)+IF(L20>0,+L20,0)+IF(L19>0,+L19,0)+IF(+COUNTIF(L19:L22,\">0\")<=3,+L18)+IF(+COUNTIF(L18:L22,\">0\")<=3,+L17)+IF(+COUNTIF(L17:L22,\">0\")<=3,+L16)+IF(+COUNTIF(L16:L22,\">0\")<=3,+L15)+IF(+COUNTIF(L15:L22,\">0\")<=3,+L14)+IF(+COUNTIF(L14:L22,\">0\")<=3,+L13)+IF(+COUNTIF(L13:L22,\">0\")<=3,+L12)+IF(+COUNTIF(L12:L22,\">0\")<=3,+L11)+IF(+COUNTIF(L11:L22,\">0\")<4,\" \"))/4)","v":""},{"$f":"IF(ISNUMBER(SUMMARY!$AH41),SUMMARY!$AH41,0)","v":0},{"$f":"+IF(N22=0,\"\",(IF(N22>0,+N22,0)+IF(N21>0,+N21,0)+IF(N20>0,+N20,0)+IF(N19>0,+N19,0)+IF(+COUNTIF(N19:N22,\">0\")<=3,+N18)+IF(+COUNTIF(N18:N22,\">0\")<=3,+N17)+IF(+COUNTIF(N17:N22,\">0\")<=3,+N16)+IF(+COUNTIF(N16:N22,\">0\")<=3,+N15)+IF(+COUNTIF(N15:N22,\">0\")<=3,+N14)+IF(+COUNTIF(N14:N22,\">0\")<=3,+N13)+IF(+COUNTIF(N13:N22,\">0\")<=3,+N12)+IF(+COUNTIF(N12:N22,\">0\")<=3,+N11)+IF(+COUNTIF(N11:N22,\">0\")<4,\" \"))/4)","v":""},null,null,"","","","","","",0,null,null,{"$f":"SUMMARY!AH32","v":""},{"$f":"SUMMARY!AH34","v":""},{"$f":"SUMMARY!AH36","v":""},{"$f":"SUMMARY!AH38","v":""}]
[{"$f":"SUMMARY!AN7","v":313},{"$f":"IF(ISNUMBER(SUMMARY!$AN15),SUMMARY!$AN15,0)","v":0},"",{"$f":"IF(ISNUMBER(SUMMARY!$AN18),SUMMARY!$AN18,0)","v":0},"",{"$f":"IF(ISNUMBER(SUMMARY!$AN21),SUMMARY!$AN21,0)","v":0},"",{"$f":"IF(ISNUMBER(SUMMARY!$AN24),SUMMARY!$AN24,0)","v":0},"",{"$f":"IF(ISNUMBER(SUMMARY!$AN27),SUMMARY!$AN27,0)","v":0},"",{"$f":"IF(ISNUMBER(SUMMARY!$AN30),SUMMARY!$AN30,0)","v":0},"",{"$f":"IF(ISNUMBER(SUMMARY!$AN41),SUMMARY!$AN41,0)","v":0},"",null,null,"","","","","","",0,null,null,{"$f":"SUMMARY!AN32","v":""},{"$f":"SUMMARY!AN34","v":""},{"$f":"SUMMARY!AN36","v":""},{"$f":"SUMMARY!AN38","v":""}]
[{"$f":"SUMMARY!AP7","v":314},{"$f":"IF(ISNUMBER(SUMMARY!$AP15),SUMMARY!$AP15,0)","v":0},"",{"$f":"IF(ISNUMBER(SUMMARY!$AP18),SUMMARY!$AP18,0)","v":0},"",{"$f":"IF(ISNUMBER(SUMMARY!$AP21),SUMMARY!$AP21,0)","v":0},"",{"$f":"IF(ISNUMBER(SUMMARY!$AP24),SUMMARY!$AP24,0)","v":0},"",{"$f":"IF(ISNUMBER(SUMMARY!$AP27),SUMMARY!$AP27,0)","v":0},"",{"$f":"IF(ISNUMBER(SUMMARY!$AP30),SUMMARY!$AP30,0)","v":0},"",{"$f":"IF(ISNUMBER(SUMMARY!$AP41),SUMMARY!$AP41,0)","v":0},"",null,null,"","","","","","",0,null,null,{"$f":"SUMMARY!AP32","v":""},{"$f":"SUMMARY!AP34","v":""},{"$f":"SUMMARY!AP36","v":""},{"$f":"SUMMARY!AP38","v":""}]
[{"$f":"SUMMARY!AR7","v":315},{"$f":"IF(ISNUMBER(SUMMARY!$AR15),SUMMARY!$AR15,0)","v":0},"",{"$f":"IF(ISNUMBER(SUMMARY!$AR18),SUMMARY!$AR18,0)","v":0},"",{"$f":"IF(ISNUMBER(SUMMARY!$AR21),SUMMARY!$AR21,0)","v":0},"",{"$f":"IF(ISNUMBER(SUMMARY!$AR24),SUMMARY!$AR24,0)","v":0},"",{"$f":"IF(ISNUMBER(SUMMARY!$AR27),SUMMARY!$AR27,0)","v":0},"",{"$f":"IF(ISNUMBER(SUMMARY!$AR30),SUMMARY!$AR30,0)","v":0},"",{"$f":"IF(ISNUMBER(SUMMARY!$AR41),SUMMARY!$AR41,0)","v":0},"",null,null,"","","","","","",0,null,null,{"$f":"SUMMARY!AR32","v":""},{"$f":"SUMMARY!AR34","v":""},{"$f":"SUMMARY!AR36","v":""},{"$f":"SUMMARY!AR38","v":""}]
[{"$f":"SUMMARY!AT7","v":316},{"$f":"IF(ISNUMBER(SUMMARY!$AT15),SUMMARY!$AT15,0)","v":0},"",{"$f":"IF(ISNUMBER(SUMMARY!$AT18),SUMMARY!$AT18,0)","v":0},"",{"$f":"IF(ISNUMBER(SUMMARY!$AT21),SUMMARY!$AT21,0)","v":0},"",{"$f":"IF(ISNUMBER(SUMMARY!$AT24),SUMMARY!$AT24,0)","v":0},"",{"$f":"IF(ISNUMBER(SUMMARY!$AT27),SUMMARY!$AT27,0)","v":0},"",{"$f":"IF(ISNUMBER(SUMMARY!$AT30),SUMMARY!$AT30,0)","v":0},"",{"$f":"IF(ISNUMBER(SUMMARY!$AT41),SUMMARY!$AT41,0)","v":0},"",null,null,"","","","","","",0,null,null,{"$f":"SUMMARY!AT32","v":""},{"$f":"SUMMARY!AT34","v":""},{"$f":"SUMMARY!AT36","v":""},{"$f":"SUMMARY!AT38","v":""}]
[{"$f":"SUMMARY!AZ7","v":317},{"$f":"IF(ISNUMBER(SUMMARY!$AZ15),SUMMARY!$AZ15,0)","v":0},"",{"$f":"IF(ISNUMBER(SUMMARY!$AZ18),SUMMARY!$AZ18,0)","v":0},"",{"$f":"IF(ISNUMBER(SUMMARY!$AZ21),SUMMARY!$AZ21,0)","v":0},"",{"$f":"IF(ISNUMBER(SUMMARY!$AZ24),SUMMARY!$AZ24,0)","v":0},"",{"$f":"IF(ISNUMBER(SUMMARY!$AZ27),SUMMARY!$AZ27,0)","v":0},"",{"$f":"IF(ISNUMBER(SUMMARY!$AZ30),SUMMARY!$AZ30,0)","v":0},"",{"$f":"IF(ISNUMBER(SUMMARY!$AZ41),SUMMARY!$AZ41,0)","v":0},"",null,null,"","","","","","",0,null,null,{"$f":"SUMMARY!AZ32","v":""},{"$f":"SUMMARY!AZ34","v":""},{"$f":"SUMMARY!AZ36","v":""},{"$f":"SUMMARY!AZ38","v":""}]
[{"$f":"SUMMARY!BB7","v":318},{"$f":"IF(ISNUMBER(SUMMARY!$BB15),SUMMARY!$BB15,0)","v":0},"",{"$f":"IF(ISNUMBER(SUMMARY!$BB18),SUMMARY!$BB18,0)","v":0},"",{"$f":"IF(ISNUMBER(SUMMARY!$BB21),SUMMARY!$BB21,0)","v":0},"",{"$f":"IF(ISNUMBER(SUMMARY!$BB24),SUMMARY!$BB24,0)","v":0},"",{"$f":"IF(ISNUMBER(SUMMARY!$BB27),SUMMARY!$BB27,0)","v":0},"",{"$f":"IF(ISNUMBER(SUMMARY!$BB30),SUMMARY!$BB30,0)","v":0},"",{"$f":"IF(ISNUMBER(SUMMARY!$BB41),SUMMARY!$BB41,0)","v":0},"",null,null,"","","","","","",0,null,null,{"$f":"SUMMARY!BB32","v":""},{"$f":"SUMMARY!BB34","v":""},{"$f":"SUMMARY!BB36","v":""},{"$f":"SUMMARY!BB38","v":""}]
[{"$f":"SUMMARY!BD7","v":319},{"$f":"IF(ISNUMBER(SUMMARY!$BD15),SUMMARY!$BD15,0)","v":0},"",{"$f":"IF(ISNUMBER(SUMMARY!$BD18),SUMMARY!$BD18,0)","v":0},"",{"$f":"IF(ISNUMBER(SUMMARY!$BD21),SUMMARY!$BD21,0)","v":0},"",{"$f":"IF(ISNUMBER(SUMMARY!$BD24),SUMMARY!$BD24,0)","v":0},"",{"$f":"IF(ISNUMBER(SUMMARY!$BD27),SUMMARY!$BD27,0)","v":0},"",{"$f":"IF(ISNUMBER(SUMMARY!$BD30),SUMMARY!$BD30,0)","v":0},"",{"$f":"IF(ISNUMBER(SUMMARY!$BD41),SUMMARY!$BD41,0)","v":0},"",null,null,"","","","","","",0,null,null,{"$f":"SUMMARY!BD32","v":""},{"$f":"SUMMARY!BD34","v":""},{"$f":"SUMMARY!BD36","v":""},{"$f":"SUMMARY!BD38","v":""}]
[{"$f":"SUMMARY!BF7","v":320},{"$f":"IF(ISNUMBER(SUMMARY!$BF15),SUMMARY!$BF15,0)","v":0},"",{"$f":"IF(ISNUMBER(SUMMARY!$BF18),SUMMARY!$BF18,0)","v":0},"",{"$f":"IF(ISNUMBER(SUMMARY!$BF21),SUMMARY!$BF21,0)","v":0},"",{"$f":"IF(ISNUMBER(SUMMARY!$BF24),SUMMARY!$BF24,0)","v":0},"",{"$f":"IF(ISNUMBER(SUMMARY!$BF27),SUMMARY!$BF27,0)","v":0},"",{"$f":"IF(ISNUMBER(SUMMARY!$BF30),SUMMARY!$BF30,0)","v":0},"",{"$f":"IF(ISNUMBER(SUMMARY!$BF41),SUMMARY!$BF41,0)","v":0},"",null,null,"","","","","","",{"$f":"IF(AD32=0,\"\",AF30)","v":0},null,null,{"$f":"SUMMARY!BF32","v":""},{"$f":"SUMMARY!BF34","v":""},{"$f":"SUMMARY!BF36","v":""},{"$f":"SUMMARY!BF38","v":""}]
[{"$f":"SUMMARY!BL7","v":321},{"$f":"IF(ISNUMBER(SUMMARY!$BL15),SUMMARY!$BL15,0)","v":0},"",{"$f":"IF(ISNUMBER(SUMMARY!$BL18),SUMMARY!$BL18,0)","v":0},"",{"$f":"IF(ISNUMBER(SUMMARY!$BL21),SUMMARY!$BL21,0)","v":0},"",{"$f":"IF(ISNUMBER(SUMMARY!$BL24),SUMMARY!$BL24,0)","v":0},"",{"$f":"IF(ISNUMBER(SUMMARY!$BL27),SUMMARY!$BL27,0)","v":0},"",{"$f":"IF(ISNUMBER(SUMMARY!$BL30),SUMMARY!$BL30,0)","v":0},"",{"$f":"IF(ISNUMBER(SUMMARY!$BL41),SUMMARY!$BL41,0)","v":0},"",null,null,{"$f":"IF(B31=0,\"\",C31)","v":""},{"$f":"IF(D31=0,\"\",E31)","v":""},{"$f":"IF(F31=0,\"\",G31)","v":""},{"$f":"IF(H31=0,\"\",I31)","v":""},{"$f":"IF(J31=0,\"\",K31)","v":""},{"$f":"IF(L31=0,\"\",M31)","v":""},{"$f":"IF(AD31=0,\"\",AF31)","v":0},null,null,{"$f":"SUMMARY!BL32","v":""},{"$f":"SUMMARY!BL34","v":""},{"$f":"SUMMARY!BL36","v":""},{"$f":"SUMMARY!BL38","v":""}]
[{"$f":"SUMMARY!BN7","v":322},{"$f":"IF(ISNUMBER(SUMMARY!$BN15),SUMMARY!$BN15,0)","v":0},"",{"$f":"IF(ISNUMBER(SUMMARY!$BN18),SUMMARY!$BN18,0)","v":0},"",{"$f":"IF(ISNUMBER(SUMMARY!$BN21),SUMMARY!$BN21,0)","v":0},"",{"$f":"IF(ISNUMBER(SUMMARY!$BN24),SUMMARY!$BN24,0)","v":0},"",{"$f":"IF(ISNUMBER(SUMMARY!$BN27),SUMMARY!$BN27,0)","v":0},"",{"$f":"IF(ISNUMBER(SUMMARY!$BN30),SUMMARY!$BN30,0)","v":0},"",{"$f":"IF(ISNUMBER(SUMMARY!$BN41),SUMMARY!$BN41,0)","v":0},"",null,null,"","","","","","",{"$f":"IF(AD34=0,\"\",AF32)","v":0},null,null,{"$f":"SUMMARY!BN32","v":""},{"$f":"SUMMARY!BN34","v":""},{"$f":"SUMMARY!BN36","v":""},{"$f":"SUMMARY!BN38","v":""}]
[{"$f":"SUMMARY!BP7","v":323},{"$f":"IF(ISNUMBER(SUMMARY!$BP15),SUMMARY!$BP15,0)","v":0},"",{"$f":"IF(ISNUMBER(SUMMARY!$BP18),SUMMARY!$BP18,0)","v":0},"",{"$f":"IF(ISNUMBER(SUMMARY!$BP21),SUMMARY!$BP21,0)","v":0},"",{"$f":"IF(ISNUMBER(SUMMARY!$BP24),SUMMARY!$BP24,0)","v":0},"",{"$f":"IF(ISNUMBER(SUMMARY!$BP27),SUMMARY!$BP27,0)","v":0},"",{"$f":"IF(ISNUMBER(SUMMARY!$BP30),SUMMARY!$BP30,0)","v":0},"",{"$f":"IF(ISNUMBER(SUMMARY!$BP41),SUMMARY!$BP41,0)","v":0},"",null,null,{"$f":"IF(B33=0,\"\",C33)","v":""},{"$f":"IF(D33=0,\"\",E33)","v":""},{"$f":"IF(F33=0,\"\",G33)","v":""},{"$f":"IF(H33=0,\"\",I33)","v":""},{"$f":"IF(J33=0,\"\",K33)","v":""},{"$f":"IF(L33=0,\"\",M33)","v":""},{"$f":"IF(AD34=0,\"\",AF34)","v":0},null,null,{"$f":"SUMMARY!BP32","v":""},{"$f":"SUMMARY!BP34","v":""},{"$f":"SUMMARY!BP36","v":""},{"$f":"SUMMARY!BP38","v":""}]
[{"$f":"SUMMARY!BR7","v":324},{"$f":"IF(ISNUMBER(SUMMARY!$BR15),SUMMARY!$BR15,0)","v":0},"",{"$f":"IF(ISNUMBER(SUMMARY!$BR18),SUMMARY!$BR18,0)","v":0},"",{"$f":"IF(ISNUMBER(SUMMARY!$BR21),SUMMARY!$BR21,0)","v":0},"",{"$f":"IF(ISNUMBER(SUMMARY!$BR24),SUMMARY!$BR24,0)","v":0},"",{"$f":"IF(ISNUMBER(SUMMARY!$BR27),SUMMARY!$BR27,0)","v":0},"",{"$f":"IF(ISNUMBER(SUMMARY!$BR30),SUMMARY!$BR30,0)","v":0},"",{"$f":"IF(ISNUMBER(SUMMARY!$BR41),SUMMARY!$BR41,0)","v":0},"",null,null,"","","","","","",{"$f":"IF(AD36=0,\"\",AF34)","v":0},null,null,{"$f":"SUMMARY!BR32","v":""},{"$f":"SUMMARY!BR34","v":""},{"$f":"SUMMARY!BR36","v":""},{"$f":"SUMMARY!BR38","v":""}]
[{"$f":"SUMMARY!BX7","v":325},{"$f":"IF(ISNUMBER(SUMMARY!$BX15),SUMMARY!$BX15,0)","v":0},"",{"$f":"IF(ISNUMBER(SUMMARY!$BX18),SUMMARY!$BX18,0)","v":0},"",{"$f":"IF(ISNUMBER(SUMMARY!$BX21),SUMMARY!$BX21,0)","v":0},"",{"$f":"IF(ISNUMBER(SUMMARY!$BX24),SUMMARY!$BX24,0)","v":0},"",{"$f":"IF(ISNUMBER(SUMMARY!$BX27),SUMMARY!$BX27,0)","v":0},"",{"$f":"IF(ISNUMBER(SUMMARY!$BX30),SUMMARY!$BX30,0)","v":0},"",{"$f":"IF(ISNUMBER(SUMMARY!$BX41),SUMMARY!$BX41,0)","v":0},"",null,null,{"$f":"IF(B35=0,\"\",C35)","v":""},{"$f":"IF(D35=0,\"\",E35)","v":""},{"$f":"IF(F35=0,\"\",G35)","v":""},{"$f":"IF(H35=0,\"\",I35)","v":""},{"$f":"IF(J35=0,\"\",K35)","v":""},{"$f":"IF(L35=0,\"\",M35)","v":""},{"$f":"IF(AD35=0,\"\",AF35)","v":0},null,null,{"$f":"SUMMARY!BX32","v":""},{"$f":"SUMMARY!BX34","v":""},{"$f":"SUMMARY!BX36","v":""},{"$f":"SUMMARY!BX38","v":""}]
[{"$f":"SUMMARY!BZ7","v":326},{"$f":"IF(ISNUMBER(SUMMARY!$BZ15),SUMMARY!$BZ15,0)","v":0},"",{"$f":"IF(ISNUMBER(SUMMARY!$BZ18),SUMMARY!$BZ18,0)","v":0},"",{"$f":"IF(ISNUMBER(SUMMARY!$BZ21),SUMMARY!$BZ21,0)","v":0},"",{"$f":"IF(ISNUMBER(SUMMARY!$BZ24),SUMMARY!$BZ24,0)","v":0},"",{"$f":"IF(ISNUMBER(SUMMARY!$BZ27),SUMMARY!$BZ27,0)","v":0},"",{"$f":"IF(ISNUMBER(SUMMARY!$BZ30),SUMMARY!$BZ30,0)","v":0},"",{"$f":"IF(ISNUMBER(SUMMARY!$BZ41),SUMMARY!$BZ41,0)","v":0},"",null,null,"","","","","","",{"$f":"IF(AD38=0,\"\",AF36)","v":0},null,null,{"$f":"SUMMARY!BZ32","v":""},{"$f":"SUMMARY!BZ34","v":""},{"$f":"SUMMARY!BZ36","v":""},{"$f":"SUMMARY!BZ38","v":""}]
[{"$f":"SUMMARY!CB7","v":327},{"$f":"IF(ISNUMBER(SUMMARY!$CB15),SUMMARY!$CB15,0)","v":0},"",{"$f":"IF(ISNUMBER(SUMMARY!$CB18),SUMMARY!$CB18,0)","v":0},"",{"$f":"IF(ISNUMBER(SUMMARY!$CB21),SUMMARY!$CB21,0)","v":0},"",{"$f":"IF(ISNUMBER(SUMMARY!$CB24),SUMMARY!$CB24,0)","v":0},"",{"$f":"IF(ISNUMBER(SUMMARY!$CB27),SUMMARY!$CB27,0)","v":0},"",{"$f":"IF(ISNUMBER(SUMMARY!$CB30),SUMMARY!$CB30,0)","v":0},"",{"$f":"IF(ISNUMBER(SUMMARY!$CB41),SUMMARY!$CB41,0)","v":0},"",null,null,{"$f":"IF(B37=0,\"\",C37)","v":""},{"$f":"IF(D37=0,\"\",E37)","v":""},{"$f":"IF(F37=0,\"\",G37)","v":""},{"$f":"IF(H37=0,\"\",I37)","v":""},{"$f":"IF(J37=0,\"\",K37)","v":""},{"$f":"IF(L37=0,\"\",M37)","v":""},{"$f":"IF(AD37=0,\"\",AF37)","v":0},null,null,{"$f":"SUMMARY!CB32","v":""},{"$f":"SUMMARY!CB34","v":""},{"$f":"SUMMARY!CB36","v":""},{"$f":"SUMMARY!CB38","v":""}]
[{"$f":"SUMMARY!CD7","v":328},{"$f":"IF(ISNUMBER(SUMMARY!$CD15),SUMMARY!$CD15,0)","v":0},{"$f":"+IF(B38=0,\"\",(IF(B38>0,+B38,0)+IF(B37>0,+B37,0)+IF(B36>0,+B36,0)+IF(B35>0,+B35,0)+IF(+COUNTIF(B35:B38,\">0\")<=3,+B34)+IF(+COUNTIF(B34:B38,\">0\")<=3,+B33)+IF(+COUNTIF(B33:B38,\">0\")<=3,+B32)+IF(+COUNTIF(B32:B38,\">0\")<=3,+B31)+IF(+COUNTIF(B31:B38,\">0\")<=3,+B30)+IF(+COUNTIF(B30:B38,\">0\")<=3,+B29)+IF(+COUNTIF(B29:B38,\">0\")<=3,+B28)+IF(+COUNTIF(B28:B38,\">0\")<=3,+B27)+IF(+COUNTIF(B27:B38,\">0\")<4,\" \"))/4)","v":""},{"$f":"IF(ISNUMBER(SUMMARY!$CD18),SUMMARY!$CD18,0)","v":0},{"$f":"+IF(D38=0,\"\",(IF(D38>0,+D38,0)+IF(D37>0,+D37,0)+IF(D36>0,+D36,0)+IF(D35>0,+D35,0)+IF(+COUNTIF(D35:D38,\">0\")<=3,+D34)+IF(+COUNTIF(D34:D38,\">0\")<=3,+D33)+IF(+COUNTIF(D33:D38,\">0\")<=3,+D32)+IF(+COUNTIF(D32:D38,\">0\")<=3,+D31)+IF(+COUNTIF(D31:D38,\">0\")<=3,+D30)+IF(+COUNTIF(D30:D38,\">0\")<=3,+D29)+IF(+COUNTIF(D29:D38,\">0\")<=3,+D28)+IF(+COUNTIF(D28:D38,\">0\")<=3,+D27)+IF(+COUNTIF(D27:D38,\">0\")<4,\" \"))/4)","v":""},{"$f":"IF(ISNUMBER(SUMMARY!$CD21),SUMMARY!$CD21,0)","v":0},"",{"$f":"IF(ISNUMBER(SUMMARY!$CD24),SUMMARY!$CD24,0)","v":0},"",{"$f":"IF(ISNUMBER(SUMMARY!$CD27),SUMMARY!$CD27,0)","v":0},"",{"$f":"IF(ISNUMBER(SUMMARY!$CD30),SUMMARY!$CD30,0)","v":0},"",{"$f":"IF(ISNUMBER(SUMMARY!$CD41),SUMMARY!$CD41,0)","v":0},"",null,null,"","","","","","",0,null,null,{"$f":"SUMMARY!CD32","v":""},{"$f":"SUMMARY!CD34","v":""},{"$f":"SUMMARY!CD36","v":""},{"$f":"SUMMARY!CD38","v":""}]
[{"$f":"SUMMARY!CJ7","v":329},{"$f":"IF(ISNUMBER(SUMMARY!$CJ15),SUMMARY!$CJ15,0)","v":0},"",{"$f":"IF(ISNUMBER(SUMMARY!$CJ18),SUMMARY!$CJ18,0)","v":0},"",{"$f":"IF(ISNUMBER(SUMMARY!$CJ21),SUMMARY!$CJ21,0)","v":0},"",{"$f":"IF(ISNUMBER(SUMMARY!$CJ24),SUMMARY!$CJ24,0)","v":0},"",{"$f":"IF(ISNUMBER(SUMMARY!$CJ27),SUMMARY!$CJ27,0)","v":0},"",{"$f":"IF(ISNUMBER(SUMMARY!$CJ30),SUMMARY!$CJ30,0)","v":0},"",{"$f":"IF(ISNUMBER(SUMMARY!$CJ41),SUMMARY!$CJ41,0)","v":0},"",null,null,"","","","","","",0,null,null,{"$f":"SUMMARY!CJ32","v":""},{"$f":"SUMMARY!CJ34","v":""},{"$f":"SUMMARY!CJ36","v":""},{"$f":"SUMMARY!CJ38","v":""}]
[{"$f":"SUMMARY!CL7","v":330},{"$f":"IF(ISNUMBER(SUMMARY!$CL15),SUMMARY!$CL15,0)","v":0},"",{"$f":"IF(ISNUMBER(SUMMARY!$CL18),SUMMARY!$CL18,0)","v":0},"",{"$f":"IF(ISNUMBER(SUMMARY!$CL21),SUMMARY!$CL21,0)","v":0},"",{"$f":"IF(ISNUMBER(SUMMARY!$CL24),SUMMARY!$CL24,0)","v":0},"",{"$f":"IF(ISNUMBER(SUMMARY!$CL27),SUMMARY!$CL27,0)","v":0},"",{"$f":"IF(ISNUMBER(SUMMARY!$CL30),SUMMARY!$CL30,0)","v":0},"",{"$f":"IF(ISNUMBER(SUMMARY!$CL41),SUMMARY!$CL41,0)","v":0},"",null,null,"","","","","","",0,null,null,{"$f":"SUMMARY!CL32","v":""},{"$f":"SUMMARY!CL34","v":""},{"$f":"SUMMARY!CL36","v":""},{"$f":"SUMMARY!CL38","v":""}]
[{"$f":"SUMMARY!CN7","v":331},{"$f":"IF(ISNUMBER(SUMMARY!$CN15),SUMMARY!$CN15,0)","v":0},"",{"$f":"IF(ISNUMBER(SUMMARY!$CN18),SUMMARY!$CN18,0)","v":0},"",{"$f":"IF(ISNUMBER(SUMMARY!$CN21),SUMMARY!$CN21,0)","v":0},"",{"$f":"IF(ISNUMBER(SUMMARY!$CN24),SUMMARY!$CN24,0)","v":0},"",{"$f":"IF(ISNUMBER(SUMMARY!$CN27),SUMMARY!$CN27,0)","v":0},"",{"$f":"IF(ISNUMBER(SUMMARY!$CN30),SUMMARY!$CN30,0)","v":0},"",{"$f":"IF(ISNUMBER(SUMMARY!$CN41),SUMMARY!$CN41,0)","v":0},"",null,null,"","","","","","",0,null,null,{"$f":"SUMMARY!CN32","v":""},{"$f":"SUMMARY!CN34","v":""},{"$f":"SUMMARY!CN36","v":""},{"$f":"SUMMARY!CN38","v":""}]
[{"$f":"SUMMARY!CP7","v":332},{"$f":"IF(ISNUMBER(SUMMARY!$CP15),SUMMARY!$CP15,0)","v":0},"",{"$f":"IF(ISNUMBER(SUMMARY!$CP18),SUMMARY!$CP18,0)","v":0},"",{"$f":"IF(ISNUMBER(SUMMARY!$CP21),SUMMARY!$CP21,0)","v":0},"",{"$f":"IF(ISNUMBER(SUMMARY!$CP24),SUMMARY!$CP24,0)","v":0},"",{"$f":"IF(ISNUMBER(SUMMARY!$CP27),SUMMARY!$CP27,0)","v":0},"",{"$f":"IF(ISNUMBER(SUMMARY!$CP30),SUMMARY!$CP30,0)","v":0},"",{"$f":"IF(ISNUMBER(SUMMARY!$CP41),SUMMARY!$CP41,0)","v":0},"",null,null,"","","","","","",0,null,null,{"$f":"SUMMARY!CP32","v":""},{"$f":"SUMMARY!CP34","v":""},{"$f":"SUMMARY!CP36","v":""},{"$f":"SUMMARY!CP38","v":""}]
[{"$f":"SUMMARY!CV7","v":333},{"$f":"IF(ISNUMBER(SUMMARY!$CV15),SUMMARY!$CV15,0)","v":0},"",{"$f":"IF(ISNUMBER(SUMMARY!$CV18),SUMMARY!$CV18,0)","v":0},"",{"$f":"IF(ISNUMBER(SUMMARY!$CV21),SUMMARY!$CV21,0)","v":0},"",{"$f":"IF(ISNUMBER(SUMMARY!$CV24),SUMMARY!$CV24,0)","v":0},"",{"$f":"IF(ISNUMBER(SUMMARY!$CV27),SUMMARY!$CV27,0)","v":0},"",{"$f":"IF(ISNUMBER(SUMMARY!$CV30),SUMMARY!$CV30,0)","v":0},"",{"$f":"IF(ISNUMBER(SUMMARY!$CV41),SUMMARY!$CV41,0)","v":0},"",null,null,"","","","","","",0,null,null,{"$f":"SUMMARY!CV32","v":""},{"$f":"SUMMARY!CV34","v":""},{"$f":"SUMMARY!CV36","v":""},{"$f":"SUMMARY!CV38","v":""}]
[{"$f":"SUMMARY!CX7","v":334},{"$f":"IF(ISNUMBER(SUMMARY!$CX15),SUMMARY!$CX15,0)","v":0},"",{"$f":"IF(ISNUMBER(SUMMARY!$CX18),SUMMARY!$CX18,0)","v":0},"",{"$f":"IF(ISNUMBER(SUMMARY!$CX21),SUMMARY!$CX21,0)","v":0},"",{"$f":"IF(ISNUMBER(SUMMARY!$CX24),SUMMARY!$CX24,0)","v":0},"",{"$f":"IF(ISNUMBER(SUMMARY!$CX27),SUMMARY!$CX27,0)","v":0},"",{"$f":"IF(ISNUMBER(SUMMARY!$CX30),SUMMARY!$CX30,0)","v":0},"",{"$f":"IF(ISNUMBER(SUMMARY!$CX41),SUMMARY!$CX41,0)","v":0},"",null,null,"","","","","","",0,null,null,{"$f":"SUMMARY!CX32","v":""},{"$f":"SUMMARY!CX34","v":""},{"$f":"SUMMARY!CX36","v":""},{"$f":"SUMMARY!CX38","v":""}]
[{"$f":"SUMMARY!CZ7","v":335},{"$f":"IF(ISNUMBER(SUMMARY!$CZ15),SUMMARY!$CZ15,0)","v":0},"",{"$f":"IF(ISNUMBER(SUMMARY!$CZ18),SUMMARY!$CZ18,0)","v":0},"",{"$f":"IF(ISNUMBER(SUMMARY!$CZ21),SUMMARY!$CZ21,0)","v":0},"",{"$f":"IF(ISNUMBER(SUMMARY!$CZ24),SUMMARY!$CZ24,0)","v":0},"",{"$f":"IF(ISNUMBER(SUMMARY!$CZ27),SUMMARY!$CZ27,0)","v":0},"",{"$f":"IF(ISNUMBER(SUMMARY!$CZ30),SUMMARY!$CZ30,0)","v":0},"",{"$f":"IF(ISNUMBER(SUMMARY!$CZ41),SUMMARY!$CZ41,0)","v":0},"",null,null,"","","","","","",0,null,null,{"$f":"SUMMARY!CZ32","v":""},{"$f":"SUMMARY!CZ34","v":""},{"$f":"SUMMARY!CZ36","v":""},{"$f":"SUMMARY!CZ38","v":""}]
[{"$f":"SUMMARY!DB7","v":336},{"$f":"IF(ISNUMBER(SUMMARY!$DB15),SUMMARY!$DB15,0)","v":0},"",{"$f":"IF(ISNUMBER(SUMMARY!$DB18),SUMMARY!$DB18,0)","v":0},"",{"$f":"IF(ISNUMBER(SUMMARY!$DB21),SUMMARY!$DB21,0)","v":0},"",{"$f":"IF(ISNUMBER(SUMMARY!$DB24),SUMMARY!$DB24,0)","v":0},"",{"$f":"IF(ISNUMBER(SUMMARY!$DB27),SUMMARY!$DB27,0)","v":0},"",{"$f":"IF(ISNUMBER(SUMMARY!$DB30),SUMMARY!$DB30,0)","v":0},"",{"$f":"IF(ISNUMBER(SUMMARY!$DB41),SUMMARY!$DB41,0)","v":0},"",null,null,"","","",{"$f":"IF(H46=0,\"\",I46)","v":""},{"$f":"IF(J46=0,\"\",K46)","v":""},{"$f":"IF(L46=0,\"\",M46)","v":""},{"$f":"IF(AD47=0,\"\",AF46)","v":0},null,null,{"$f":"SUMMARY!DB32","v":""},{"$f":"SUMMARY!DB34","v":""},{"$f":"SUMMARY!DB36","v":""},{"$f":"SUMMARY!DB38","v":""}]
[{"$f":"SUMMARY!DH7","v":337},{"$f":"IF(ISNUMBER(SUMMARY!$DH15),SUMMARY!$DH15,0)","v":0},"",{"$f":"IF(ISNUMBER(SUMMARY!$DH18),SUMMARY!$DH18,0)","v":0},"",{"$f":"IF(ISNUMBER(SUMMARY!$DH21),SUMMARY!$DH21,0)","v":0},"",{"$f":"IF(ISNUMBER(SUMMARY!$DH24),SUMMARY!$DH24,0)","v":0},"",{"$f":"IF(ISNUMBER(SUMMARY!$DH27),SUMMARY!$DH27,0)","v":0},"",{"$f":"IF(ISNUMBER(SUMMARY!$DH30),SUMMARY!$DH30,0)","v":0},"",{"$f":"IF(ISNUMBER(SUMMARY!$DH41),SUMMARY!$DH41,0)","v":0},"",null,null,"","","",{"$f":"IF(H47=0,\"\",I47)","v":""},{"$f":"IF(J47=0,\"\",K47)","v":""},{"$f":"IF(L47=0,\"\",M47)","v":""},0,null,null,{"$f":"SUMMARY!DH32","v":""},{"$f":"SUMMARY!DH34","v":""},{"$f":"SUMMARY!DH36","v":""},{"$f":"SUMMARY!DH38","v":""}]
[{"$f":"SUMMARY!DJ7","v":338},{"$f":"IF(ISNUMBER(SUMMARY!$DJ15),SUMMARY!$DJ15,0)","v":0},"",{"$f":"IF(ISNUMBER(SUMMARY!$DJ18),SUMMARY!$DJ18,0)","v":0},"",{"$f":"IF(ISNUMBER(SUMMARY!$DJ21),SUMMARY!$DJ21,0)","v":0},"",{"$f":"IF(ISNUMBER(SUMMARY!$DJ24),SUMMARY!$DJ24,0)","v":0},"",{"$f":"IF(ISNUMBER(SUMMARY!$DJ27),SUMMARY!$DJ27,0)","v":0},"",{"$f":"IF(ISNUMBER(SUMMARY!$DJ30),SUMMARY!$DJ30,0)","v":0},"",{"$f":"IF(ISNUMBER(SUMMARY!$DJ41),SUMMARY!$DJ41,0)","v":0},"",null,null,"","","",{"$f":"IF(H48=0,\"\",I48)","v":""},{"$f":"IF(J48=0,\"\",K48)","v":""},{"$f":"IF(L48=0,\"\",M48)","v":""},0,null,null,{"$f":"SUMMARY!DJ32","v":""},{"$f":"SUMMARY!DJ34","v":""},{"$f":"SUMMARY!DJ36","v":""},{"$f":"SUMMARY!DJ38","v":""}]
[{"$f":"SUMMARY!DL7","v":339},{"$f":"IF(ISNUMBER(SUMMARY!$DL15),SUMMARY!$DL15,0)","v":0},"",{"$f":"IF(ISNUMBER(SUMMARY!$DL18),SUMMARY!$DL18,0)","v":0},"",{"$f":"IF(ISNUMBER(SUMMARY!$DL21),SUMMARY!$DL21,0)","v":0},"",{"$f":"IF(ISNUMBER(SUMMARY!$DL24),SUMMARY!$DL24,0)","v":0},"",{"$f":"IF(ISNUMBER(SUMMARY!$DL27),SUMMARY!$DL27,0)","v":0},"",{"$f":"IF(ISNUMBER(SUMMARY!$DL30),SUMMARY!$DL30,0)","v":0},"",{"$f":"IF(ISNUMBER(SUMMARY!$DL41),SUMMARY!$DL41,0)","v":0},"",null,null,"","","",{"$f":"IF(H49=0,\"\",I49)","v":""},{"$f":"IF(J49=0,\"\",K49)","v":""},{"$f":"IF(L49=0,\"\",M49)","v":""},0,null,null,{"$f":"SUMMARY!DL32","v":""},{"$f":"SUMMARY!DL34","v":""},{"$f":"SUMMARY!DL36","v":""},{"$f":"SUMMARY!DL38","v":""}]
[{"$f":"SUMMARY!DN7","v":340},{"$f":"IF(ISNUMBER(SUMMARY!$DN15),SUMMARY!$DN15,0)","v":0},"",{"$f":"IF(ISNUMBER(SUMMARY!$DN18),SUMMARY!$DN18,0)","v":0},"",{"$f":"IF(ISNUMBER(SUMMARY!$DN21),SUMMARY!$DN21,0)","v":0},"",{"$f":"IF(ISNUMBER(SUMMARY!$DN24),SUMMARY!$DN24,0)","v":0},"",{"$f":"IF(ISNUMBER(SUMMARY!$DN27),SUMMARY!$DN27,0)","v":0},"",{"$f":"IF(ISNUMBER(SUMMARY!$DN30),SUMMARY!$DN30,0)","v":0},"",{"$f":"IF(ISNUMBER(SUMMARY!$DN41),SUMMARY!$DN41,0)","v":0},"",null,null,"","","",{"$f":"IF(H50=0,\"\",I50)","v":""},{"$f":"IF(J50=0,\"\",K50)","v":""},{"$f":"IF(L50=0,\"\",M50)","v":""},0,null,null,{"$f":"SUMMARY!DN32","v":""},{"$f":"SUMMARY!DN34","v":""},{"$f":"SUMMARY!DN36","v":""},{"$f":"SUMMARY!DN38","v":""}]
[{"$f":"SUMMARY!DT7","v":341},{"$f":"IF(ISNUMBER(SUMMARY!$DT15),SUMMARY!$DT15,0)","v":0},"",{"$f":"IF(ISNUMBER(SUMMARY!$DT18),SUMMARY!$DT18,0)","v":0},"",{"$f":"IF(ISNUMBER(SUMMARY!$DT21),SUMMARY!$DT21,0)","v":0},"",{"$f":"IF(ISNUMBER(SUMMARY!$DT24),SUMMARY!$DT24,0)","v":0},"",{"$f":"IF(ISNUMBER(SUMMARY!$DT27),SUMMARY!$DT27,0)","v":0},"",{"$f":"IF(ISNUMBER(SUMMARY!$DT30),SUMMARY!$DT30,0)","v":0},"",{"$f":"IF(ISNUMBER(SUMMARY!$DT41),SUMMARY!$DT41,0)","v":0},"",null,null,{"$f":"IF(B51=0,\"\",C51)","v":""},{"$f":"IF(D51=0,\"\",E51)","v":""},{"$f":"IF(F51=0,\"\",G51)","v":""},{"$f":"IF(H51=0,\"\",I51)","v":""},{"$f":"IF(J51=0,\"\",K51)","v":""},{"$f":"IF(L51=0,\"\",M51)","v":""},0,null,null,{"$f":"SUMMARY!DT32","v":""},{"$f":"SUMMARY!DT34","v":""},{"$f":"SUMMARY!DT36","v":""},{"$f":"SUMMARY!DT38","v":""}]
[{"$f":"SUMMARY!DV7","v":342},{"$f":"IF(ISNUMBER(SUMMARY!$DV15),SUMMARY!$DV15,0)","v":0},"",{"$f":"IF(ISNUMBER(SUMMARY!$DV18),SUMMARY!$DV18,0)","v":0},"",{"$f":"IF(ISNUMBER(SUMMARY!$DV21),SUMMARY!$DV21,0)","v":0},"",{"$f":"IF(ISNUMBER(SUMMARY!$DV24),SUMMARY!$DV24,0)","v":0},"",{"$f":"IF(ISNUMBER(SUMMARY!$DV27),SUMMARY!$DV27,0)","v":0},"",{"$f":"IF(ISNUMBER(SUMMARY!$DV30),SUMMARY!$DV30,0)","v":0},"",{"$f":"IF(ISNUMBER(SUMMARY!$DV41),SUMMARY!$DV41,0)","v":0},"",null,null,"","","","","","",0,null,null,{"$f":"SUMMARY!DV32","v":""},{"$f":"SUMMARY!DV34","v":""},{"$f":"SUMMARY!DV36","v":""},{"$f":"SUMMARY!DV38","v":""}]
[{"$f":"SUMMARY!DX7","v":343},{"$f":"IF(ISNUMBER(SUMMARY!$DX15),SUMMARY!$DX15,0)","v":0},"",{"$f":"IF(ISNUMBER(SUMMARY!$DX18),SUMMARY!$DX18,0)","v":0},"",{"$f":"IF(ISNUMBER(SUMMARY!$DX21),SUMMARY!$DX21,0)","v":0},"",{"$f":"IF(ISNUMBER(SUMMARY!$DX24),SUMMARY!$DX24,0)","v":0},"",{"$f":"IF(ISNUMBER(SUMMARY!$DX27),SUMMARY!$DX27,0)","v":0},"",{"$f":"IF(ISNUMBER(SUMMARY!$DX30),SUMMARY!$DX30,0)","v":0},"",{"$f":"IF(ISNUMBER(SUMMARY!$DX41),SUMMARY!$DX41,0)","v":0},"",null,null,"","","","","","",0,null,null,{"$f":"SUMMARY!DX32","v":""},{"$f":"SUMMARY!DX34","v":""},{"$f":"SUMMARY!DX36","v":""},{"$f":"SUMMARY!DX38","v":""}]
[{"$f":"SUMMARY!DZ7","v":344},{"$f":"IF(ISNUMBER(SUMMARY!$DZ15),SUMMARY!$DZ15,0)","v":0},"",{"$f":"IF(ISNUMBER(SUMMARY!$DZ18),SUMMARY!$DZ18,0)","v":0},"",{"$f":"IF(ISNUMBER(SUMMARY!$DZ21),SUMMARY!$DZ21,0)","v":0},"",{"$f":"IF(ISNUMBER(SUMMARY!$DZ24),SUMMARY!$DZ24,0)","v":0},"",{"$f":"IF(ISNUMBER(SUMMARY!$DZ27),SUMMARY!$DZ27,0)","v":0},"",{"$f":"IF(ISNUMBER(SUMMARY!$DZ30),SUMMARY!$DZ30,0)","v":0},"",{"$f":"IF(ISNUMBER(SUMMARY!$DZ41),SUMMARY!$DZ41,0)","v":0},"",null,null,"","","","","","",0,null,null,{"$f":"SUMMARY!DZ32","v":""},{"$f":"SUMMARY!DZ34","v":""},{"$f":"SUMMARY!DZ36","v":""},{"$f":"SUMMARY!DZ38","v":""}]
[{"$f":"SUMMARY!EF7","v":345},{"$f":"IF(ISNUMBER(SUMMARY!$EF15),SUMMARY!$EF15,0)","v":0},"",{"$f":"IF(ISNUMBER(SUMMARY!$EF18),SUMMARY!$EF18,0)","v":0},"",{"$f":"IF(ISNUMBER(SUMMARY!$EF21),SUMMARY!$EF21,0)","v":0},"",{"$f":"IF(ISNUMBER(SUMMARY!$EF24),SUMMARY!$EF24,0)","v":0},"",{"$f":"IF(ISNUMBER(SUMMARY!$EF27),SUMMARY!$EF27,0)","v":0},"",{"$f":"IF(ISNUMBER(SUMMARY!$EF30),SUMMARY!$EF30,0)","v":0},"",{"$f":"IF(ISNUMBER(SUMMARY!$EF41),SUMMARY!$EF41,0)","v":0},"",null,null,"","","","","","",0,null,null,{"$f":"SUMMARY!EF32","v":""},{"$f":"SUMMARY!EF34","v":""},{"$f":"SUMMARY!EF36","v":""},{"$f":"SUMMARY!EF38","v":""}]
[{"$f":"SUMMARY!EH7","v":346},{"$f":"IF(ISNUMBER(SUMMARY!$EH15),SUMMARY!$EH15,0)","v":0},"",{"$f":"IF(ISNUMBER(SUMMARY!$EH18),SUMMARY!$EH18,0)","v":0},"",{"$f":"IF(ISNUMBER(SUMMARY!$EH21),SUMMARY!$EH21,0)","v":0},"",{"$f":"IF(ISNUMBER(SUMMARY!$EH24),SUMMARY!$EH24,0)","v":0},"",{"$f":"IF(ISNUMBER(SUMMARY!$EH27),SUMMARY!$EH27,0)","v":0},"",{"$f":"IF(ISNUMBER(SUMMARY!$EH30),SUMMARY!$EH30,0)","v":0},"",{"$f":"IF(ISNUMBER(SUMMARY!$EH41),SUMMARY!$EH41,0)","v":0},"",null,null,"","","","","","",0,null,null,{"$f":"SUMMARY!EH32","v":""},{"$f":"SUMMARY!EH34","v":""},{"$f":"SUMMARY!EH36","v":""},{"$f":"SUMMARY!EH38","v":""}]
[{"$f":"SUMMARY!EJ7","v":347},{"$f":"IF(ISNUMBER(SUMMARY!$EJ15),SUMMARY!$EJ15,0)","v":0},"",{"$f":"IF(ISNUMBER(SUMMARY!$EJ18),SUMMARY!$EJ18,0)","v":0},"",{"$f":"IF(ISNUMBER(SUMMARY!$EJ21),SUMMARY!$EJ21,0)","v":0},"",{"$f":"IF(ISNUMBER(SUMMARY!$EJ24),SUMMARY!$EJ24,0)","v":0},"",{"$f":"IF(ISNUMBER(SUMMARY!$EJ27),SUMMARY!$EJ27,0)","v":0},"",{"$f":"IF(ISNUMBER(SUMMARY!$EJ30),SUMMARY!$EJ30,0)","v":0},"",{"$f":"IF(ISNUMBER(SUMMARY!$EJ41),SUMMARY!$EJ41,0)","v":0},"",null,null,"","","","","","",0,null,null,{"$f":"SUMMARY!EJ32","v":""},{"$f":"SUMMARY!EJ34","v":""},{"$f":"SUMMARY!EJ36","v":""},{"$f":"SUMMARY!EJ38","v":""}]
[{"$f":"SUMMARY!EL7","v":348},{"$f":"IF(ISNUMBER(SUMMARY!$EL15),SUMMARY!$EL15,0)","v":0},"",{"$f":"IF(ISNUMBER(SUMMARY!$EL18),SUMMARY!$EL18,0)","v":0},"",{"$f":"IF(ISNUMBER(SUMMARY!$EL21),SUMMARY!$EL21,0)","v":0},"",{"$f":"IF(ISNUMBER(SUMMARY!$EL24),SUMMARY!$EL24,0)","v":0},"",{"$f":"IF(ISNUMBER(SUMMARY!$EL27),SUMMARY!$EL27,0)","v":0},"",{"$f":"IF(ISNUMBER(SUMMARY!$EL30),SUMMARY!$EL30,0)","v":0},"",{"$f":"IF(ISNUMBER(SUMMARY!$EL41),SUMMARY!$EL41,0)","v":0},"",null,null,"","","","","","",0,null,null,{"$f":"SUMMARY!EL32","v":""},{"$f":"SUMMARY!EL34","v":""},{"$f":"SUMMARY!EL36","v":""},{"$f":"SUMMARY!EL38","v":""}]
[{"$f":"SUMMARY!ER7","v":349},{"$f":"IF(ISNUMBER(SUMMARY!$ER15),SUMMARY!$ER15,0)","v":0},"",{"$f":"IF(ISNUMBER(SUMMARY!$ER18),SUMMARY!$ER18,0)","v":0},"",{"$f":"IF(ISNUMBER(SUMMARY!$ER21),SUMMARY!$ER21,0)","v":0},"",{"$f":"IF(ISNUMBER(SUMMARY!$ER24),SUMMARY!$ER24,0)","v":0},"",{"$f":"IF(ISNUMBER(SUMMARY!$ER27),SUMMARY!$ER27,0)","v":0},"",{"$f":"IF(ISNUMBER(SUMMARY!$ER30),SUMMARY!$ER30,0)","v":0},"",{"$f":"IF(ISNUMBER(SUMMARY!$ER41),SUMMARY!$ER41,0)","v":0},"",null,null,"","","","","","",0,null,null,{"$f":"SUMMARY!ER32","v":""},{"$f":"SUMMARY!ER34","v":""},{"$f":"SUMMARY!ER36","v":""},{"$f":"SUMMARY!ER38","v":""}]
[{"$f":"SUMMARY!ET7","v":350},{"$f":"IF(ISNUMBER(SUMMARY!$ET15),SUMMARY!$ET15,0)","v":0},"",{"$f":"IF(ISNUMBER(SUMMARY!$ET18),SUMMARY!$ET18,0)","v":0},"",{"$f":"IF(ISNUMBER(SUMMARY!$ET21),SUMMARY!$ET21,0)","v":0},"",{"$f":"IF(ISNUMBER(SUMMARY!$ET24),SUMMARY!$ET24,0)","v":0},"",{"$f":"IF(ISNUMBER(SUMMARY!$ET27),SUMMARY!$ET27,0)","v":0},"",{"$f":"IF(ISNUMBER(SUMMARY!$ET30),SUMMARY!$ET30,0)","v":0},"",{"$f":"IF(ISNUMBER(SUMMARY!$ET41),SUMMARY!$ET41,0)","v":0},"",null,null,"","","","","","",0,null,null,{"$f":"SUMMARY!ET32","v":""},{"$f":"SUMMARY!ET34","v":""},{"$f":"SUMMARY!ET36","v":""},{"$f":"SUMMARY!ET38","v":""}]
[{"$f":"SUMMARY!EV7","v":351},{"$f":"IF(ISNUMBER(SUMMARY!$EV15),SUMMARY!$EV15,0)","v":0},"",{"$f":"IF(ISNUMBER(SUMMARY!$EV18),SUMMARY!$EV18,0)","v":0},"",{"$f":"IF(ISNUMBER(SUMMARY!$EV21),SUMMARY!$EV21,0)","v":0},"",{"$f":"IF(ISNUMBER(SUMMARY!$EV24),SUMMARY!$EV24,0)","v":0},"",{"$f":"IF(ISNUMBER(SUMMARY!$EV27),SUMMARY!$EV27,0)","v":0},"",{"$f":"IF(ISNUMBER(SUMMARY!$EV30),SUMMARY!$EV30,0)","v":0},"",{"$f":"IF(ISNUMBER(SUMMARY!$EV41),SUMMARY!$EV41,0)","v":0},"",null,null,"","","","","","",0,null,null,{"$f":"SUMMARY!EV32","v":""},{"$f":"SUMMARY!EV34","v":""},{"$f":"SUMMARY!EV36","v":""},{"$f":"SUMMARY!EV38","v":""}]
[{"$f":"SUMMARY!EX7","v":352},{"$f":"IF(ISNUMBER(SUMMARY!$EX15),SUMMARY!$EX15,0)","v":0},"",{"$f":"IF(ISNUMBER(SUMMARY!$EX18),SUMMARY!$EX18,0)","v":0},"",{"$f":"IF(ISNUMBER(SUMMARY!$EX21),SUMMARY!$EX21,0)","v":0},"",{"$f":"IF(ISNUMBER(SUMMARY!$EX24),SUMMARY!$EX24,0)","v":0},"",{"$f":"IF(ISNUMBER(SUMMARY!$EX27),SUMMARY!$EX27,0)","v":0},"",{"$f":"IF(ISNUMBER(SUMMARY!$EX30),SUMMARY!$EX30,0)","v":0},"",{"$f":"IF(ISNUMBER(SUMMARY!$EX41),SUMMARY!$EX41,0)","v":0},"",null,null,"","","","","","",0,null,null,{"$f":"SUMMARY!EX32","v":""},{"$f":"SUMMARY!EX34","v":""},{"$f":"SUMMARY!EX36","v":""},{"$f":"SUMMARY!EX38","v":""}]
[{"$f":"SUMMARY!FD7","v":353},{"$f":"IF(ISNUMBER(SUMMARY!$FD15),SUMMARY!$FD15,0)","v":0},"",{"$f":"IF(ISNUMBER(SUMMARY!$FD18),SUMMARY!$FD18,0)","v":0},"",{"$f":"IF(ISNUMBER(SUMMARY!$FD21),SUMMARY!$FD21,0)","v":0},"",{"$f":"IF(ISNUMBER(SUMMARY!$FD24),SUMMARY!$FD24,0)","v":0},"",{"$f":"IF(ISNUMBER(SUMMARY!$FD27),SUMMARY!$FD27,0)","v":0},"",{"$f":"IF(ISNUMBER(SUMMARY!$FD30),SUMMARY!$FD30,0)","v":0},"",{"$f":"IF(ISNUMBER(SUMMARY!$FD41),SUMMARY!$FD41,0)","v":0},"",null,null,"","","","","","",0,null,null,{"$f":"SUMMARY!FD32","v":""},{"$f":"SUMMARY!FD34","v":""},{"$f":"SUMMARY!FD36","v":""},{"$f":"SUMMARY!FD38","v":""}]
[{"$f":"SUMMARY!FF7","v":354},{"$f":"IF(ISNUMBER(SUMMARY!$FF15),SUMMARY!$FF15,0)","v":0},"",{"$f":"IF(ISNUMBER(SUMMARY!$FF18),SUMMARY!$FF18,0)","v":0},"",{"$f":"IF(ISNUMBER(SUMMARY!$FF21),SUMMARY!$FF21,0)","v":0},"",{"$f":"IF(ISNUMBER(SUMMARY!$FF24),SUMMARY!$FF24,0)","v":0},"",{"$f":"IF(ISNUMBER(SUMMARY!$FF27),SUMMARY!$FF27,0)","v":0},"",{"$f":"IF(ISNUMBER(SUMMARY!$FF30),SUMMARY!$FF30,0)","v":0},"",{"$f":"IF(ISNUMBER(SUMMARY!$FF41),SUMMARY!$FF41,0)","v":0},"",null,null,"","","","","","",0,null,null,{"$f":"SUMMARY!FF32","v":""},{"$f":"SUMMARY!FF34","v":""},{"$f":"SUMMARY!FF36","v":""},{"$f":"SUMMARY!FF38","v":""}]
[{"$f":"SUMMARY!FH7","v":355},{"$f":"IF(ISNUMBER(SUMMARY!$FH15),SUMMARY!$FH15,0)","v":0},"",{"$f":"IF(ISNUMBER(SUMMARY!$FH18),SUMMARY!$FH18,0)","v":0},"",{"$f":"IF(ISNUMBER(SUMMARY!$FH21),SUMMARY!$FH21,0)","v":0},"",{"$f":"IF(ISNUMBER(SUMMARY!$FH24),SUMMARY!$FH24,0)","v":0},"",{"$f":"IF(ISNUMBER(SUMMARY!$FH27),SUMMARY!$FH27,0)","v":0},"",{"$f":"IF(ISNUMBER(SUMMARY!$FH30),SUMMARY!$FH30,0)","v":0},"",{"$f":"IF(ISNUMBER(SUMMARY!$FH41),SUMMARY!$FH41,0)","v":0},"",null,null,"","","","","","",0,null,null,{"$f":"SUMMARY!FH32","v":""},{"$f":"SUMMARY!FH34","v":""},{"$f":"SUMMARY!FH36","v":""},{"$f":"SUMMARY!FH38","v":""}]
[{"$f":"SUMMARY!FJ7","v":356},{"$f":"IF(ISNUMBER(SUMMARY!$FJ15),SUMMARY!$FJ15,0)","v":0},"",{"$f":"IF(ISNUMBER(SUMMARY!$FJ18),SUMMARY!$FJ18,0)","v":0},"",{"$f":"IF(ISNUMBER(SUMMARY!$FJ21),SUMMARY!$FJ21,0)","v":0},"",{"$f":"IF(ISNUMBER(SUMMARY!$FJ24),SUMMARY!$FJ24,0)","v":0},"",{"$f":"IF(ISNUMBER(SUMMARY!$FJ27),SUMMARY!$FJ27,0)","v":0},"",{"$f":"IF(ISNUMBER(SUMMARY!$FJ30),SUMMARY!$FJ30,0)","v":0},"",{"$f":"IF(ISNUMBER(SUMMARY!$FJ41),SUMMARY!$FJ41,0)","v":0},"",null,null,"","","","","","",0,null,null,{"$f":"SUMMARY!FJ32","v":""},{"$f":"SUMMARY!FJ34","v":""},{"$f":"SUMMARY!FJ36","v":""},{"$f":"SUMMARY!FJ38","v":""}]
[{"$f":"SUMMARY!FP7","v":357},{"$f":"IF(ISNUMBER(SUMMARY!$FP15),SUMMARY!$FP15,0)","v":0},"",{"$f":"IF(ISNUMBER(SUMMARY!$FP18),SUMMARY!$FP18,0)","v":0},"",{"$f":"IF(ISNUMBER(SUMMARY!$FP21),SUMMARY!$FP21,0)","v":0},"",{"$f":"IF(ISNUMBER(SUMMARY!$FP24),SUMMARY!$FP24,0)","v":0},"",{"$f":"IF(ISNUMBER(SUMMARY!$FP27),SUMMARY!$FP27,0)","v":0},"",{"$f":"IF(ISNUMBER(SUMMARY!$FP30),SUMMARY!$FP30,0)","v":0},"",{"$f":"IF(ISNUMBER(SUMMARY!$FP41),SUMMARY!$FP41,0)","v":0},"",null,null,"","","","","","",0,null,null,{"$f":"SUMMARY!FP32","v":""},{"$f":"SUMMARY!FP34","v":""},{"$f":"SUMMARY!FP36","v":""},{"$f":"SUMMARY!FP38","v":""}]
[{"$f":"SUMMARY!FR7","v":358},{"$f":"IF(ISNUMBER(SUMMARY!$FR15),SUMMARY!$FR15,0)","v":0},"",{"$f":"IF(ISNUMBER(SUMMARY!$FR18),SUMMARY!$FR18,0)","v":0},"",{"$f":"IF(ISNUMBER(SUMMARY!$FR21),SUMMARY!$FR21,0)","v":0},"",{"$f":"IF(ISNUMBER(SUMMARY!$FR24),SUMMARY!$FR24,0)","v":0},"",{"$f":"IF(ISNUMBER(SUMMARY!$FR27),SUMMARY!$FR27,0)","v":0},"",{"$f":"IF(ISNUMBER(SUMMARY!$FR30),SUMMARY!$FR30,0)","v":0},"",{"$f":"IF(ISNUMBER(SUMMARY!$FR41),SUMMARY!$FR41,0)","v":0},"",null,null,"","","","","","",0,null,null,{"$f":"SUMMARY!FR32","v":""},{"$f":"SUMMARY!FR34","v":""},{"$f":"SUMMARY!FR36","v":""},{"$f":"SUMMARY!FR38","v":""}]
[{"$f":"SUMMARY!FT7","v":359},{"$f":"IF(ISNUMBER(SUMMARY!$FT15),SUMMARY!$FT15,0)","v":0},"",{"$f":"IF(ISNUMBER(SUMMARY!$FT18),SUMMARY!$FT18,0)","v":0},"",{"$f":"IF(ISNUMBER(SUMMARY!$FT21),SUMMARY!$FT21,0)","v":0},"",{"$f":"IF(ISNUMBER(SUMMARY!$FT24),SUMMARY!$FT24,0)","v":0},"",{"$f":"IF(ISNUMBER(SUMMARY!$FT27),SUMMARY!$FT27,0)","v":0},"",{"$f":"IF(ISNUMBER(SUMMARY!$FT30),SUMMARY!$FT30,0)","v":0},"",{"$f":"IF(ISNUMBER(SUMMARY!$FT41),SUMMARY!$FT41,0)","v":0},"",null,null,"","","","","","",0,null,null,{"$f":"SUMMARY!FT32","v":""},{"$f":"SUMMARY!FT34","v":""},{"$f":"SUMMARY!FT36","v":""},{"$f":"SUMMARY!FT38","v":""}]
[{"$f":"SUMMARY!FV7","v":360},{"$f":"IF(ISNUMBER(SUMMARY!$FV15),SUMMARY!$FV15,0)","v":0},"",{"$f":"IF(ISNUMBER(SUMMARY!$FV18),SUMMARY!$FV18,0)","v":0},"",{"$f":"IF(ISNUMBER(SUMMARY!$FV21),SUMMARY!$FV21,0)","v":0},"",{"$f":"IF(ISNUMBER(SUMMARY!$FV24),SUMMARY!$FV24,0)","v":0},"",{"$f":"IF(ISNUMBER(SUMMARY!$FV27),SUMMARY!$FV27,0)","v":0},"",{"$f":"IF(ISNUMBER(SUMMARY!$FV30),SUMMARY!$FV30,0)","v":0},"",{"$f":"IF(ISNUMBER(SUMMARY!$FV41),SUMMARY!$FV41,0)","v":0},"",null,null,"","","","","","",0,null,null,{"$f":"SUMMARY!FV32","v":""},{"$f":"SUMMARY!FV34","v":""},{"$f":"SUMMARY!FV36","v":""},{"$f":"SUMMARY!FV38","v":""}]
[{"$f":"SUMMARY!GB7","v":361},{"$f":"IF(ISNUMBER(SUMMARY!$GB15),SUMMARY!$GB15,0)","v":0},"",{"$f":"IF(ISNUMBER(SUMMARY!$GB18),SUMMARY!$GB18,0)","v":0},"",{"$f":"IF(ISNUMBER(SUMMARY!$GB21),SUMMARY!$GB21,0)","v":0},"",{"$f":"IF(ISNUMBER(SUMMARY!$GB24),SUMMARY!$GB24,0)","v":0},"",{"$f":"IF(ISNUMBER(SUMMARY!$GB27),SUMMARY!$GB27,0)","v":0},"",{"$f":"IF(ISNUMBER(SUMMARY!$GB30),SUMMARY!$GB30,0)","v":0},"",{"$f":"IF(ISNUMBER(SUMMARY!$GB41),SUMMARY!$GB41,0)","v":0},"",null,null,"","","","","","",0,null,null,{"$f":"SUMMARY!GB32","v":""},{"$f":"SUMMARY!GB34","v":""},{"$f":"SUMMARY!GB36","v":""},{"$f":"SUMMARY!GB38","v":""}]
[{"$f":"SUMMARY!GD7","v":362},{"$f":"IF(ISNUMBER(SUMMARY!$GD15),SUMMARY!$GD15,0)","v":0},"",{"$f":"IF(ISNUMBER(SUMMARY!$GD18),SUMMARY!$GD18,0)","v":0},"",{"$f":"IF(ISNUMBER(SUMMARY!$GD21),SUMMARY!$GD21,0)","v":0},"",{"$f":"IF(ISNUMBER(SUMMARY!$GD24),SUMMARY!$GD24,0)","v":0},"",{"$f":"IF(ISNUMBER(SUMMARY!$GD27),SUMMARY!$GD27,0)","v":0},"",{"$f":"IF(ISNUMBER(SUMMARY!$GD30),SUMMARY!$GD30,0)","v":0},"",{"$f":"IF(ISNUMBER(SUMMARY!$GD41),SUMMARY!$GD41,0)","v":0},"",null,null,"","","","","","",0,null,null,{"$f":"SUMMARY!GD32","v":""},{"$f":"SUMMARY!GD34","v":""},{"$f":"SUMMARY!GD36","v":""},{"$f":"SUMMARY!GD38","v":""}]
[{"$f":"SUMMARY!GF7","v":363},{"$f":"IF(ISNUMBER(SUMMARY!$GF15),SUMMARY!$GF15,0)","v":0},"",{"$f":"IF(ISNUMBER(SUMMARY!$GF18),SUMMARY!$GF18,0)","v":0},"",{"$f":"IF(ISNUMBER(SUMMARY!$GF21),SUMMARY!$GF21,0)","v":0},"",{"$f":"IF(ISNUMBER(SUMMARY!$GF24),SUMMARY!$GF24,0)","v":0},"",{"$f":"IF(ISNUMBER(SUMMARY!$GF27),SUMMARY!$GF27,0)","v":0},"",{"$f":"IF(ISNUMBER(SUMMARY!$GF30),SUMMARY!$GF30,0)","v":0},"",{"$f":"IF(ISNUMBER(SUMMARY!$GF41),SUMMARY!$GF41,0)","v":0},"",null,null,"","","","","","",0,null,null,{"$f":"SUMMARY!GF32","v":""},{"$f":"SUMMARY!GF34","v":""},{"$f":"SUMMARY!GF36","v":""},{"$f":"SUMMARY!GF38","v":""}]
[{"$f":"SUMMARY!GH7","v":364},{"$f":"IF(ISNUMBER(SUMMARY!$GH15),SUMMARY!$GH15,0)","v":0},"",{"$f":"IF(ISNUMBER(SUMMARY!$GH18),SUMMARY!$GH18,0)","v":0},"",{"$f":"IF(ISNUMBER(SUMMARY!$GH21),SUMMARY!$GH21,0)","v":0},"",{"$f":"IF(ISNUMBER(SUMMARY!$GH24),SUMMARY!$GH24,0)","v":0},"",{"$f":"IF(ISNUMBER(SUMMARY!$GH27),SUMMARY!$GH27,0)","v":0},"",{"$f":"IF(ISNUMBER(SUMMARY!$GH30),SUMMARY!$GH30,0)","v":0},"",{"$f":"IF(ISNUMBER(SUMMARY!$GH41),SUMMARY!$GH41,0)","v":0},"",null,null,"","","","","","",0,null,null,{"$f":"SUMMARY!GH32","v":""},{"$f":"SUMMARY!GH34","v":""},{"$f":"SUMMARY!GH36","v":""},{"$f":"SUMMARY!GH38","v":""}]
[{"$f":"SUMMARY!GN7","v":365},{"$f":"IF(ISNUMBER(SUMMARY!$GN15),SUMMARY!$GN15,0)","v":0},"",{"$f":"IF(ISNUMBER(SUMMARY!$GN18),SUMMARY!$GN18,0)","v":0},"",{"$f":"IF(ISNUMBER(SUMMARY!$GN21),SUMMARY!$GN21,0)","v":0},"",{"$f":"IF(ISNUMBER(SUMMARY!$GN24),SUMMARY!$GN24,0)","v":0},"",{"$f":"IF(ISNUMBER(SUMMARY!$GN27),SUMMARY!$GN27,0)","v":0},"",{"$f":"IF(ISNUMBER(SUMMARY!$GN30),SUMMARY!$GN30,0)","v":0},"",{"$f":"IF(ISNUMBER(SUMMARY!$GN41),SUMMARY!$GN41,0)","v":0},"",null,null,"","","","","","",0,null,null,{"$f":"SUMMARY!GN32","v":""},{"$f":"SUMMARY!GN34","v":""},{"$f":"SUMMARY!GN36","v":""},{"$f":"SUMMARY!GN38","v":""}]
[{"$f":"SUMMARY!GP7","v":366},{"$f":"IF(ISNUMBER(SUMMARY!$GP15),SUMMARY!$GP15,0)","v":0},"",{"$f":"IF(ISNUMBER(SUMMARY!$GP18),SUMMARY!$GP18,0)","v":0},"",{"$f":"IF(ISNUMBER(SUMMARY!$GP21),SUMMARY!$GP21,0)","v":0},"",{"$f":"IF(ISNUMBER(SUMMARY!$GP24),SUMMARY!$GP24,0)","v":0},"",{"$f":"IF(ISNUMBER(SUMMARY!$GP27),SUMMARY!$GP27,0)","v":0},"",{"$f":"IF(ISNUMBER(SUMMARY!$GP30),SUMMARY!$GP30,0)","v":0},"",{"$f":"IF(ISNUMBER(SUMMARY!$GP41),SUMMARY!$GP41,0)","v":0},"",null,null,"","","","","","",0,null,null,{"$f":"SUMMARY!GP32","v":""},{"$f":"SUMMARY!GP34","v":""},{"$f":"SUMMARY!GP36","v":""},{"$f":"SUMMARY!GP38","v":""}]
[{"$f":"SUMMARY!GR7","v":367},{"$f":"IF(ISNUMBER(SUMMARY!$GR15),SUMMARY!$GR15,0)","v":0},"",{"$f":"IF(ISNUMBER(SUMMARY!$GR18),SUMMARY!$GR18,0)","v":0},"",{"$f":"IF(ISNUMBER(SUMMARY!$GR21),SUMMARY!$GR21,0)","v":0},"",{"$f":"IF(ISNUMBER(SUMMARY!$GR24),SUMMARY!$GR24,0)","v":0},"",{"$f":"IF(ISNUMBER(SUMMARY!$GR27),SUMMARY!$GR27,0)","v":0},"",{"$f":"IF(ISNUMBER(SUMMARY!$GR30),SUMMARY!$GR30,0)","v":0},"",{"$f":"IF(ISNUMBER(SUMMARY!$GR41),SUMMARY!$GR41,0)","v":0},"",null,null,"","","","","","",0,null,null,{"$f":"SUMMARY!GR32","v":""},{"$f":"SUMMARY!GR34","v":""},{"$f":"SUMMARY!GR36","v":""},{"$f":"SUMMARY!GR38","v":""}]
[{"$f":"SUMMARY!GT7","v":368},{"$f":"IF(ISNUMBER(SUMMARY!$GT15),SUMMARY!$GT15,0)","v":0},"",{"$f":"IF(ISNUMBER(SUMMARY!$GT18),SUMMARY!$GT18,0)","v":0},"",{"$f":"IF(ISNUMBER(SUMMARY!$GT21),SUMMARY!$GT21,0)","v":0},"",{"$f":"IF(ISNUMBER(SUMMARY!$GT24),SUMMARY!$GT24,0)","v":0},"",{"$f":"IF(ISNUMBER(SUMMARY!$GT27),SUMMARY!$GT27,0)","v":0},"",{"$f":"IF(ISNUMBER(SUMMARY!$GT30),SUMMARY!$GT30,0)","v":0},"",{"$f":"IF(ISNUMBER(SUMMARY!$GT41),SUMMARY!$GT41,0)","v":0},"",null,null,"","","","","","",{"$f":"IF(AD79=0,\"\",AF78)","v":0},null,null,{"$f":"SUMMARY!GT32","v":""},{"$f":"SUMMARY!GT34","v":""},{"$f":"SUMMARY!GT36","v":""},{"$f":"SUMMARY!GT38","v":""}]
[{"$f":"SUMMARY!GZ7","v":369},{"$f":"IF(ISNUMBER(SUMMARY!$GZ15),SUMMARY!$GZ15,0)","v":0},"",{"$f":"IF(ISNUMBER(SUMMARY!$GZ18),SUMMARY!$GZ18,0)","v":0},"",{"$f":"IF(ISNUMBER(SUMMARY!$GZ21),SUMMARY!$GZ21,0)","v":0},"",{"$f":"IF(ISNUMBER(SUMMARY!$GZ24),SUMMARY!$GZ24,0)","v":0},"",{"$f":"IF(ISNUMBER(SUMMARY!$GZ27),SUMMARY!$GZ27,0)","v":0},"",{"$f":"IF(ISNUMBER(SUMMARY!$GZ30),SUMMARY!$GZ30,0)","v":0},"",{"$f":"IF(ISNUMBER(SUMMARY!$GZ41),SUMMARY!$GZ41,0)","v":0},"",null,null,"","","","","","",0,null,null,{"$f":"SUMMARY!GZ32","v":""},{"$f":"SUMMARY!GZ34","v":""},{"$f":"SUMMARY!GZ36","v":""},{"$f":"SUMMARY!GZ38","v":""}]
[{"$f":"SUMMARY!HB7","v":370},{"$f":"IF(ISNUMBER(SUMMARY!$HB15),SUMMARY!$HB15,0)","v":0},"",{"$f":"IF(ISNUMBER(SUMMARY!$HB18),SUMMARY!$HB18,0)","v":0},"",{"$f":"IF(ISNUMBER(SUMMARY!$HB21),SUMMARY!$HB21,0)","v":0},"",{"$f":"IF(ISNUMBER(SUMMARY!$HB24),SUMMARY!$HB24,0)","v":0},"",{"$f":"IF(ISNUMBER(SUMMARY!$HB27),SUMMARY!$HB27,0)","v":0},"",{"$f":"IF(ISNUMBER(SUMMARY!$HB30),SUMMARY!$HB30,0)","v":0},"",{"$f":"IF(ISNUMBER(SUMMARY!$HB41),SUMMARY!$HB41,0)","v":0},"",null,null,"","","","","","",0,null,null,{"$f":"SUMMARY!HB32","v":""},{"$f":"SUMMARY!HB34","v":""},{"$f":"SUMMARY!HB36","v":""},{"$f":"SUMMARY!HB38","v":""}]
[{"$f":"SUMMARY!HD7","v":371},{"$f":"IF(ISNUMBER(SUMMARY!$HD15),SUMMARY!$HD15,0)","v":0},"",{"$f":"IF(ISNUMBER(SUMMARY!$HD18),SUMMARY!$HD18,0)","v":0},"",{"$f":"IF(ISNUMBER(SUMMARY!$HD21),SUMMARY!$HD21,0)","v":0},"",{"$f":"IF(ISNUMBER(SUMMARY!$HD24),SUMMARY!$HD24,0)","v":0},"",{"$f":"IF(ISNUMBER(SUMMARY!$HD27),SUMMARY!$HD27,0)","v":0},"",{"$f":"IF(ISNUMBER(SUMMARY!$HD30),SUMMARY!$HD30,0)","v":0},"",{"$f":"IF(ISNUMBER(SUMMARY!$HD41),SUMMARY!$HD41,0)","v":0},"",null,null,"","","","","","",0,null,null,{"$f":"SUMMARY!HD32","v":""},{"$f":"SUMMARY!HD34","v":""},{"$f":"SUMMARY!HD36","v":""},{"$f":"SUMMARY!HD38","v":""}]
[{"$f":"SUMMARY!HF7","v":372},{"$f":"IF(ISNUMBER(SUMMARY!$HF15),SUMMARY!$HF15,0)","v":0},"",{"$f":"IF(ISNUMBER(SUMMARY!$HF18),SUMMARY!$HF18,0)","v":0},"",{"$f":"IF(ISNUMBER(SUMMARY!$HF21),SUMMARY!$HF21,0)","v":0},"",{"$f":"IF(ISNUMBER(SUMMARY!$HF24),SUMMARY!$HF24,0)","v":0},"",{"$f":"IF(ISNUMBER(SUMMARY!$HF27),SUMMARY!$HF27,0)","v":0},"",{"$f":"IF(ISNUMBER(SUMMARY!$HF30),SUMMARY!$HF30,0)","v":0},"",{"$f":"IF(ISNUMBER(SUMMARY!$HF41),SUMMARY!$HF41,0)","v":0},"",null,null,"","","","","","",0,null,null,{"$f":"SUMMARY!HF32","v":""},{"$f":"SUMMARY!HF34","v":""},{"$f":"SUMMARY!HF36","v":""},{"$f":"SUMMARY!HF38","v":""}]
[{"$f":"SUMMARY!HL7","v":373},{"$f":"IF(ISNUMBER(SUMMARY!$HL15),SUMMARY!$HL15,0)","v":0},"",{"$f":"IF(ISNUMBER(SUMMARY!$HL18),SUMMARY!$HL18,0)","v":0},"",{"$f":"IF(ISNUMBER(SUMMARY!$HL21),SUMMARY!$HL21,0)","v":0},"",{"$f":"IF(ISNUMBER(SUMMARY!$HL24),SUMMARY!$HL24,0)","v":0},"",{"$f":"IF(ISNUMBER(SUMMARY!$HL27),SUMMARY!$HL27,0)","v":0},"",{"$f":"IF(ISNUMBER(SUMMARY!$HL30),SUMMARY!$HL30,0)","v":0},"",{"$f":"IF(ISNUMBER(SUMMARY!$HL41),SUMMARY!$HL41,0)","v":0},"",null,null,"","","","","","",0,null,null,{"$f":"SUMMARY!HL32","v":""},{"$f":"SUMMARY!HL34","v":""},{"$f":"SUMMARY!HL36","v":""},{"$f":"SUMMARY!HL38","v":""}]
[{"$f":"SUMMARY!HN7","v":374},{"$f":"IF(ISNUMBER(SUMMARY!$HN15),SUMMARY!$HN15,0)","v":0},"",{"$f":"IF(ISNUMBER(SUMMARY!$HN18),SUMMARY!$HN18,0)","v":0},"",{"$f":"IF(ISNUMBER(SUMMARY!$HN21),SUMMARY!$HN21,0)","v":0},"",{"$f":"IF(ISNUMBER(SUMMARY!$HN24),SUMMARY!$HN24,0)","v":0},"",{"$f":"IF(ISNUMBER(SUMMARY!$HN27),SUMMARY!$HN27,0)","v":0},"",{"$f":"IF(ISNUMBER(SUMMARY!$HN30),SUMMARY!$HN30,0)","v":0},"",{"$f":"IF(ISNUMBER(SUMMARY!$HN41),SUMMARY!$HN41,0)","v":0},"",null,null,"","","","","","",0,null,null,{"$f":"SUMMARY!HN32","v":""},{"$f":"SUMMARY!HN34","v":""},{"$f":"SUMMARY!HN36","v":""},{"$f":"SUMMARY!HN38","v":""}]
[{"$f":"SUMMARY!HP7","v":375},{"$f":"IF(ISNUMBER(SUMMARY!$HP15),SUMMARY!$HP15,0)","v":0},"",{"$f":"IF(ISNUMBER(SUMMARY!$HP18),SUMMARY!$HP18,0)","v":0},"",{"$f":"IF(ISNUMBER(SUMMARY!$HP21),SUMMARY!$HP21,0)","v":0},"",{"$f":"IF(ISNUMBER(SUMMARY!$HP24),SUMMARY!$HP24,0)","v":0},"",{"$f":"IF(ISNUMBER(SUMMARY!$HP27),SUMMARY!$HP27,0)","v":0},"",{"$f":"IF(ISNUMBER(SUMMARY!$HP30),SUMMARY!$HP30,0)","v":0},"",{"$f":"IF(ISNUMBER(SUMMARY!$HP41),SUMMARY!$HP41,0)","v":0},"",null,null,"","","","","","",0,null,null,{"$f":"SUMMARY!HP32","v":""},{"$f":"SUMMARY!HP34","v":""},{"$f":"SUMMARY!HP36","v":""},{"$f":"SUMMARY!HP38","v":""}]
[{"$f":"SUMMARY!HR7","v":376},{"$f":"IF(ISNUMBER(SUMMARY!$HR15),SUMMARY!$HR15,0)","v":0},"",{"$f":"IF(ISNUMBER(SUMMARY!$HR18),SUMMARY!$HR18,0)","v":0},"",{"$f":"IF(ISNUMBER(SUMMARY!$HR21),SUMMARY!$HR21,0)","v":0},{"$f":"+IF(F86=0,\"\",(IF(F86>0,+F86,0)+IF(F85>0,+F85,0)+IF(F84>0,+F84,0)+IF(F83>0,+F83,0)+IF(+COUNTIF(F83:F86,\">0\")<=3,+F82)+IF(+COUNTIF(F82:F86,\">0\")<=3,+F81)+IF(+COUNTIF(F81:F86,\">0\")<=3,+F80)+IF(+COUNTIF(F80:F86,\">0\")<=3,+F79)+IF(+COUNTIF(F79:F86,\">0\")<=3,+F78)+IF(+COUNTIF(F78:F86,\">0\")<=3,+F77)+IF(+COUNTIF(F77:F86,\">0\")<=3,+F76)+IF(+COUNTIF(F76:F86,\">0\")<=3,+F75)+IF(+COUNTIF(F75:F86,\">0\")<4,\" \"))/4)","v":""},{"$f":"IF(ISNUMBER(SUMMARY!$HR24),SUMMARY!$HR24,0)","v":0},{"$f":"+IF(H86=0,\"\",(IF(H86>0,+H86,0)+IF(H85>0,+H85,0)+IF(H84>0,+H84,0)+IF(H83>0,+H83,0)+IF(+COUNTIF(H83:H86,\">0\")<=3,+H82)+IF(+COUNTIF(H82:H86,\">0\")<=3,+H81)+IF(+COUNTIF(H81:H86,\">0\")<=3,+H80)+IF(+COUNTIF(H80:H86,\">0\")<=3,+H79)+IF(+COUNTIF(H79:H86,\">0\")<=3,+H78)+IF(+COUNTIF(H78:H86,\">0\")<=3,+H77)+IF(+COUNTIF(H77:H86,\">0\")<=3,+H76)+IF(+COUNTIF(H76:H86,\">0\")<=3,+H75)+IF(+COUNTIF(H75:H86,\">0\")<4,\" \"))/4)","v":""},{"$f":"IF(ISNUMBER(SUMMARY!$HR27),SUMMARY!$HR27,0)","v":0},{"$f":"+IF(J86=0,\"\",(IF(J86>0,+J86,0)+IF(J85>0,+J85,0)+IF(J84>0,+J84,0)+IF(J83>0,+J83,0)+IF(+COUNTIF(J83:J86,\">0\")<=3,+J82)+IF(+COUNTIF(J82:J86,\">0\")<=3,+J81)+IF(+COUNTIF(J81:J86,\">0\")<=3,+J80)+IF(+COUNTIF(J80:J86,\">0\")<=3,+J79)+IF(+COUNTIF(J79:J86,\">0\")<=3,+J78)+IF(+COUNTIF(J78:J86,\">0\")<=3,+J77)+IF(+COUNTIF(J77:J86,\">0\")<=3,+J76)+IF(+COUNTIF(J76:J86,\">0\")<=3,+J75)+IF(+COUNTIF(J75:J86,\">0\")<4,\" \"))/4)","v":""},{"$f":"IF(ISNUMBER(SUMMARY!$HR30),SUMMARY!$HR30,0)","v":0},{"$f":"+IF(L86=0,\"\",(IF(L86>0,+L86,0)+IF(L85>0,+L85,0)+IF(L84>0,+L84,0)+IF(L83>0,+L83,0)+IF(+COUNTIF(L83:L86,\">0\")<=3,+L82)+IF(+COUNTIF(L82:L86,\">0\")<=3,+L81)+IF(+COUNTIF(L81:L86,\">0\")<=3,+L80)+IF(+COUNTIF(L80:L86,\">0\")<=3,+L79)+IF(+COUNTIF(L79:L86,\">0\")<=3,+L78)+IF(+COUNTIF(L78:L86,\">0\")<=3,+L77)+IF(+COUNTIF(L77:L86,\">0\")<=3,+L76)+IF(+COUNTIF(L76:L86,\">0\")<=3,+L75)+IF(+COUNTIF(L75:L86,\">0\")<4,\" \"))/4)","v":""},{"$f":"IF(ISNUMBER(SUMMARY!$HR41),SUMMARY!$HR41,0)","v":0},{"$f":"+IF(N86=0,\"\",(IF(N86>0,+N86,0)+IF(N85>0,+N85,0)+IF(N84>0,+N84,0)+IF(N83>0,+N83,0)+IF(+COUNTIF(N83:N86,\">0\")<=3,+N82)+IF(+COUNTIF(N82:N86,\">0\")<=3,+N81)+IF(+COUNTIF(N81:N86,\">0\")<=3,+N80)+IF(+COUNTIF(N80:N86,\">0\")<=3,+N79)+IF(+COUNTIF(N79:N86,\">0\")<=3,+N78)+IF(+COUNTIF(N78:N86,\">0\")<=3,+N77)+IF(+COUNTIF(N77:N86,\">0\")<=3,+N76)+IF(+COUNTIF(N76:N86,\">0\")<=3,+N75)+IF(+COUNTIF(N75:N86,\">0\")<4,\" \"))/4)","v":""},null,null,"","","","","","",0,null,null,{"$f":"SUMMARY!HR32","v":""},{"$f":"SUMMARY!HR34","v":""},{"$f":"SUMMARY!HR36","v":""},{"$f":"SUMMARY!HR38","v":""}]
[{"$f":"SUMMARY!HX7","v":377},{"$f":"IF(ISNUMBER(SUMMARY!$HX15),SUMMARY!$HX15,0)","v":0},"",{"$f":"IF(ISNUMBER(SUMMARY!$HX18),SUMMARY!$HX18,0)","v":0},"",{"$f":"IF(ISNUMBER(SUMMARY!$HX21),SUMMARY!$HX21,0)","v":0},"",{"$f":"IF(ISNUMBER(SUMMARY!$HX24),SUMMARY!$HX24,0)","v":0},"",{"$f":"IF(ISNUMBER(SUMMARY!$HX27),SUMMARY!$HX27,0)","v":0},"",{"$f":"IF(ISNUMBER(SUMMARY!$HX30),SUMMARY!$HX30,0)","v":0},"",{"$f":"IF(ISNUMBER(SUMMARY!$HX41),SUMMARY!$HX41,0)","v":0},"",null,null,{"$f":"IF(B87=0,\"\",C87)","v":""},{"$f":"IF(D87=0,\"\",E87)","v":""},{"$f":"IF(F87=0,\"\",G87)","v":""},{"$f":"IF(H87=0,\"\",I87)","v":""},{"$f":"IF(J87=0,\"\",K87)","v":""},{"$f":"IF(L87=0,\"\",M87)","v":""},0,null,null,{"$f":"SUMMARY!HX32","v":""},{"$f":"SUMMARY!HX34","v":""},{"$f":"SUMMARY!HX36","v":""},{"$f":"SUMMARY!HX38","v":""}]
[{"$f":"SUMMARY!HZ7","v":378},{"$f":"IF(ISNUMBER(SUMMARY!$HZ15),SUMMARY!$HZ15,0)","v":0},"",{"$f":"IF(ISNUMBER(SUMMARY!$HZ18),SUMMARY!$HZ18,0)","v":0},"",{"$f":"IF(ISNUMBER(SUMMARY!$HZ21),SUMMARY!$HZ21,0)","v":0},"",{"$f":"IF(ISNUMBER(SUMMARY!$HZ24),SUMMARY!$HZ24,0)","v":0},"",{"$f":"IF(ISNUMBER(SUMMARY!$HZ27),SUMMARY!$HZ27,0)","v":0},"",{"$f":"IF(ISNUMBER(SUMMARY!$HZ30),SUMMARY!$HZ30,0)","v":0},"",{"$f":"IF(ISNUMBER(SUMMARY!$HZ41),SUMMARY!$HZ41,0)","v":0},"",null,null,"","","","","","",0,null,null,{"$f":"SUMMARY!HZ32","v":""},{"$f":"SUMMARY!HZ34","v":""},{"$f":"SUMMARY!HZ36","v":""},{"$f":"SUMMARY!HZ38","v":""}]
[{"$f":"SUMMARY!IB7","v":379},{"$f":"IF(ISNUMBER(SUMMARY!$IB15),SUMMARY!$IB15,0)","v":0},"",{"$f":"IF(ISNUMBER(SUMMARY!$IB18),SUMMARY!$IB18,0)","v":0},"",{"$f":"IF(ISNUMBER(SUMMARY!$IB21),SUMMARY!$IB21,0)","v":0},"",{"$f":"IF(ISNUMBER(SUMMARY!$IB24),SUMMARY!$IB24,0)","v":0},"",{"$f":"IF(ISNUMBER(SUMMARY!$IB27),SUMMARY!$IB27,0)","v":0},"",{"$f":"IF(ISNUMBER(SUMMARY!$IB30),SUMMARY!$IB30,0)","v":0},"",{"$f":"IF(ISNUMBER(SUMMARY!$IB41),SUMMARY!$IB41,0)","v":0},"",null,null,"","","","","","",0,null,null,{"$f":"SUMMARY!IB32","v":""},{"$f":"SUMMARY!IB34","v":""},{"$f":"SUMMARY!IB36","v":""},{"$f":"SUMMARY!IB38","v":""}]
[{"$f":"SUMMARY!ID7","v":380},{"$f":"IF(ISNUMBER(SUMMARY!$ID15),SUMMARY!$ID15,0)","v":0},"",{"$f":"IF(ISNUMBER(SUMMARY!$ID18),SUMMARY!$ID18,0)","v":0},"",{"$f":"IF(ISNUMBER(SUMMARY!$ID21),SUMMARY!$ID21,0)","v":0},"",{"$f":"IF(ISNUMBER(SUMMARY!$ID24),SUMMARY!$ID24,0)","v":0},"",{"$f":"IF(ISNUMBER(SUMMARY!$ID27),SUMMARY!$ID27,0)","v":0},"",{"$f":"IF(ISNUMBER(SUMMARY!$ID30),SUMMARY!$ID30,0)","v":0},"",{"$f":"IF(ISNUMBER(SUMMARY!$ID41),SUMMARY!$ID41,0)","v":0},"",null,null,"","","","","","",0,null,null,{"$f":"SUMMARY!ID32","v":""},{"$f":"SUMMARY!ID34","v":""},{"$f":"SUMMARY!ID36","v":""},{"$f":"SUMMARY!ID38","v":""}]
[{"$f":"SUMMARY!IJ7","v":381},{"$f":"IF(ISNUMBER(SUMMARY!$IJ15),SUMMARY!$IJ15,0)","v":0},"",{"$f":"IF(ISNUMBER(SUMMARY!$IJ18),SUMMARY!$IJ18,0)","v":0},"",{"$f":"IF(ISNUMBER(SUMMARY!$IJ21),SUMMARY!$IJ21,0)","v":0},"",{"$f":"IF(ISNUMBER(SUMMARY!$IJ24),SUMMARY!$IJ24,0)","v":0},"",{"$f":"IF(ISNUMBER(SUMMARY!$IJ27),SUMMARY!$IJ27,0)","v":0},"",{"$f":"IF(ISNUMBER(SUMMARY!$IJ30),SUMMARY!$IJ30,0)","v":0},"",{"$f":"IF(ISNUMBER(SUMMARY!$IJ41),SUMMARY!$IJ41,0)","v":0},"",null,null,"","","","","","",{"$f":"IF(#REF!=0,\"\",AF91)","v":{"$error":"#REF!"}},null,null,{"$f":"SUMMARY!IJ32","v":""},{"$f":"SUMMARY!IJ34","v":""},{"$f":"SUMMARY!IJ36","v":""},{"$f":"SUMMARY!IJ38","v":""}]
[{"$f":"SUMMARY!IL7","v":382},{"$f":"IF(ISNUMBER(SUMMARY!$IL15),SUMMARY!$IL15,0)","v":0},"",{"$f":"IF(ISNUMBER(SUMMARY!$IL18),SUMMARY!$IL18,0)","v":0},"",{"$f":"IF(ISNUMBER(SUMMARY!$IL21),SUMMARY!$IL21,0)","v":0},"",{"$f":"IF(ISNUMBER(SUMMARY!$IL24),SUMMARY!$IL24,0)","v":0},"",{"$f":"IF(ISNUMBER(SUMMARY!$IL27),SUMMARY!$IL27,0)","v":0},"",{"$f":"IF(ISNUMBER(SUMMARY!$IL30),SUMMARY!$IL30,0)","v":0},"",{"$f":"IF(ISNUMBER(SUMMARY!$IL41),SUMMARY!$IL41,0)","v":0},"",null,null,"","","","","","",{"$f":"IF(#REF!=0,\"\",AF92)","v":{"$error":"#REF!"}},null,null,{"$f":"SUMMARY!IL32","v":""},{"$f":"SUMMARY!IL34","v":""},{"$f":"SUMMARY!IL36","v":""},{"$f":"SUMMARY!IL38","v":""}]
[{"$f":"SUMMARY!IN7","v":383},{"$f":"IF(ISNUMBER(SUMMARY!$IN15),SUMMARY!$IN15,0)","v":0},"",{"$f":"IF(ISNUMBER(SUMMARY!$IN18),SUMMARY!$IN18,0)","v":0},"",{"$f":"IF(ISNUMBER(SUMMARY!$IN21),SUMMARY!$IN21,0)","v":0},"",{"$f":"IF(ISNUMBER(SUMMARY!$IN24),SUMMARY!$IN24,0)","v":0},"",{"$f":"IF(ISNUMBER(SUMMARY!$IN27),SUMMARY!$IN27,0)","v":0},"",{"$f":"IF(ISNUMBER(SUMMARY!$IN30),SUMMARY!$IN30,0)","v":0},"",{"$f":"IF(ISNUMBER(SUMMARY!$IN41),SUMMARY!$IN41,0)","v":0},"",null,null,"","","","","","",{"$f":"IF(#REF!=0,\"\",AF93)","v":{"$error":"#REF!"}},null,null,{"$f":"SUMMARY!IN32","v":""},{"$f":"SUMMARY!IN34","v":""},{"$f":"SUMMARY!IN36","v":""},{"$f":"SUMMARY!IN38","v":""}]
[{"$f":"SUMMARY!IP7","v":384},{"$f":"IF(ISNUMBER(SUMMARY!$IP15),SUMMARY!$IP15,0)","v":0},"",{"$f":"IF(ISNUMBER(SUMMARY!$IP18),SUMMARY!$IP18,0)","v":0},"",{"$f":"IF(ISNUMBER(SUMMARY!$IP21),SUMMARY!$IP21,0)","v":0},"",{"$f":"IF(ISNUMBER(SUMMARY!$IP24),SUMMARY!$IP24,0)","v":0},"",{"$f":"IF(ISNUMBER(SUMMARY!$IP27),SUMMARY!$IP27,0)","v":0},"",{"$f":"IF(ISNUMBER(SUMMARY!$IP30),SUMMARY!$IP30,0)","v":0},"",{"$f":"IF(ISNUMBER(SUMMARY!$IP41),SUMMARY!$IP41,0)","v":0},"",null,null,"","","","","","",{"$f":"IF(#REF!=0,\"\",AF94)","v":{"$error":"#REF!"}},null,null,{"$f":"SUMMARY!IP32","v":""},{"$f":"SUMMARY!IP34","v":""},{"$f":"SUMMARY!IP36","v":""},{"$f":"SUMMARY!IP38","v":""}]

{"sheet":"verify","index":5,"n_rows":12,"n_cols":86,"rows_kept":12,"cut":false,"hidden":true,"merged":[]}
[]
[]
[null,"Gmm",{"$f":"SUMMARY!E45","v":0},{"$f":"SUMMARY!G45","v":0},{"$f":"SUMMARY!I45","v":0},{"$f":"SUMMARY!K45","v":0},{"$f":"SUMMARY!Q45","v":0},{"$f":"SUMMARY!S45","v":0},{"$f":"SUMMARY!U45","v":0},{"$f":"SUMMARY!W45","v":0},{"$f":"SUMMARY!AC45","v":0},{"$f":"SUMMARY!AE45","v":0},{"$f":"SUMMARY!AG45","v":0},{"$f":"SUMMARY!AI45","v":0},{"$f":"SUMMARY!AO45","v":0},{"$f":"SUMMARY!AQ45","v":0},{"$f":"SUMMARY!AS45","v":0},{"$f":"SUMMARY!AU45","v":0},{"$f":"SUMMARY!BA45","v":0},{"$f":"SUMMARY!BC45","v":0},{"$f":"SUMMARY!BE45","v":0},{"$f":"SUMMARY!BG45","v":0},{"$f":"SUMMARY!BM45","v":0},{"$f":"SUMMARY!BO45","v":0},{"$f":"SUMMARY!BQ45","v":0},{"$f":"SUMMARY!BS45","v":0},{"$f":"SUMMARY!BY45","v":0},{"$f":"SUMMARY!CA45","v":0},{"$f":"SUMMARY!CC45","v":0},{"$f":"SUMMARY!CE45","v":0},{"$f":"SUMMARY!CK45","v":0},{"$f":"SUMMARY!CM45","v":0},{"$f":"SUMMARY!CO45","v":0},{"$f":"SUMMARY!CQ45","v":0},{"$f":"SUMMARY!CW45","v":0},{"$f":"SUMMARY!CY45","v":0},{"$f":"SUMMARY!DA45","v":0},{"$f":"SUMMARY!DC45","v":0},{"$f":"SUMMARY!DI45","v":0},{"$f":"SUMMARY!DK45","v":0},{"$f":"SUMMARY!DM45","v":0},{"$f":"SUMMARY!DO45","v":0},{"$f":"SUMMARY!DU45","v":0},{"$f":"SUMMARY!DW45","v":0},{"$f":"SUMMARY!DY45","v":0},{"$f":"SUMMARY!EA45","v":0},{"$f":"SUMMARY!EG45","v":0},{"$f":"SUMMARY!EI45","v":0},{"$f":"SUMMARY!EK45","v":0},{"$f":"SUMMARY!EM45","v":0},{"$f":"SUMMARY!ES45","v":0},{"$f":"SUMMARY!EU45","v":0},{"$f":"SUMMARY!EW45","v":0},{"$f":"SUMMARY!EY45","v":0},{"$f":"SUMMARY!FE45","v":0},{"$f":"SUMMARY!FG45","v":0},{"$f":"SUMMARY!FI45","v":0},{"$f":"SUMMARY!FK45","v":0},{"$f":"SUMMARY!FQ45","v":0},{"$f":"SUMMARY!FS45","v":0},{"$f":"SUMMARY!FU45","v":0},{"$f":"SUMMARY!FW45","v":0},{"$f":"SUMMARY!GC45","v":0},{"$f":"SUMMARY!GE45","v":0},{"$f":"SUMMARY!GG45","v":0},{"$f":"SUMMARY!GI45","v":0},{"$f":"SUMMARY!GO45","v":0},{"$f":"SUMMARY!GQ45","v":0},{"$f":"SUMMARY!GS45","v":0},{"$f":"SUMMARY!GU45","v":0},{"$f":"SUMMARY!HA45","v":0},{"$f":"SUMMARY!HC45","v":0},{"$f":"SUMMARY!HE45","v":0},{"$f":"SUMMARY!HG45","v":0},{"$f":"SUMMARY!HM45","v":0},{"$f":"SUMMARY!HO45","v":0},{"$f":"SUMMARY!HQ45","v":0},{"$f":"SUMMARY!HS45","v":0},{"$f":"SUMMARY!HY45","v":0},{"$f":"SUMMARY!IA45","v":0},{"$f":"SUMMARY!IC45","v":0},{"$f":"SUMMARY!IE45","v":0},{"$f":"SUMMARY!IK45","v":0},{"$f":"SUMMARY!IM45","v":0},{"$f":"SUMMARY!IO45","v":0},{"$f":"SUMMARY!IQ45","v":0}]
[null,"Gmb",{"$f":"SUMMARY!E48","v":0},{"$f":"SUMMARY!G48","v":0},{"$f":"SUMMARY!I48","v":0},{"$f":"SUMMARY!K48","v":0},{"$f":"SUMMARY!Q48","v":0},{"$f":"SUMMARY!S48","v":0},{"$f":"SUMMARY!U48","v":0},{"$f":"SUMMARY!W48","v":0},{"$f":"SUMMARY!AC48","v":0},{"$f":"SUMMARY!AE48","v":0},{"$f":"SUMMARY!AG48","v":0},{"$f":"SUMMARY!AI48","v":0},{"$f":"SUMMARY!AO48","v":0},{"$f":"SUMMARY!AQ48","v":0},{"$f":"SUMMARY!AS48","v":0},{"$f":"SUMMARY!AU48","v":0},{"$f":"SUMMARY!BA48","v":0},{"$f":"SUMMARY!BC48","v":0},{"$f":"SUMMARY!BE48","v":0},{"$f":"SUMMARY!BG48","v":0},{"$f":"SUMMARY!BM48","v":0},{"$f":"SUMMARY!BO48","v":0},{"$f":"SUMMARY!BQ48","v":0},{"$f":"SUMMARY!BS48","v":0},{"$f":"SUMMARY!BY48","v":0},{"$f":"SUMMARY!CA48","v":0},{"$f":"SUMMARY!CC48","v":0},{"$f":"SUMMARY!CE48","v":0},{"$f":"SUMMARY!CK48","v":0},{"$f":"SUMMARY!CM48","v":0},{"$f":"SUMMARY!CO48","v":0},{"$f":"SUMMARY!CQ48","v":0},{"$f":"SUMMARY!CW48","v":0},{"$f":"SUMMARY!CY48","v":0},{"$f":"SUMMARY!DA48","v":0},{"$f":"SUMMARY!DC48","v":0},{"$f":"SUMMARY!DI48","v":0},{"$f":"SUMMARY!DK48","v":0},{"$f":"SUMMARY!DM48","v":0},{"$f":"SUMMARY!DO48","v":0},{"$f":"SUMMARY!DU48","v":0},{"$f":"SUMMARY!DW48","v":0},{"$f":"SUMMARY!DY48","v":0},{"$f":"SUMMARY!EA48","v":0},{"$f":"SUMMARY!EG48","v":0},{"$f":"SUMMARY!EI48","v":0},{"$f":"SUMMARY!EK48","v":0},{"$f":"SUMMARY!EM48","v":0},{"$f":"SUMMARY!ES48","v":0},{"$f":"SUMMARY!EU48","v":0},{"$f":"SUMMARY!EW48","v":0},{"$f":"SUMMARY!EY48","v":0},{"$f":"SUMMARY!FE48","v":0},{"$f":"SUMMARY!FG48","v":0},{"$f":"SUMMARY!FI48","v":0},{"$f":"SUMMARY!FK48","v":0},{"$f":"SUMMARY!FQ48","v":0},{"$f":"SUMMARY!FS48","v":0},{"$f":"SUMMARY!FU48","v":0},{"$f":"SUMMARY!FW48","v":0},{"$f":"SUMMARY!GC48","v":0},{"$f":"SUMMARY!GE48","v":0},{"$f":"SUMMARY!GG48","v":0},{"$f":"SUMMARY!GI48","v":0},{"$f":"SUMMARY!GO48","v":0},{"$f":"SUMMARY!GQ48","v":0},{"$f":"SUMMARY!GS48","v":0},{"$f":"SUMMARY!GU48","v":0},{"$f":"SUMMARY!HA48","v":0},{"$f":"SUMMARY!HC48","v":0},{"$f":"SUMMARY!HE48","v":0},{"$f":"SUMMARY!HG48","v":0},{"$f":"SUMMARY!HM48","v":0},{"$f":"SUMMARY!HO48","v":0},{"$f":"SUMMARY!HQ48","v":0},{"$f":"SUMMARY!HS48","v":0},{"$f":"SUMMARY!HY48","v":0},{"$f":"SUMMARY!IA48","v":0},{"$f":"SUMMARY!IC48","v":0},{"$f":"SUMMARY!IE48","v":0},{"$f":"SUMMARY!IK48","v":0},{"$f":"SUMMARY!IM48","v":0},{"$f":"SUMMARY!IO48","v":0},{"$f":"SUMMARY!IQ48","v":0}]
[null,"AC",{"$f":"SUMMARY!E42","v":0},{"$f":"SUMMARY!G42","v":0},{"$f":"SUMMARY!I42","v":0},{"$f":"SUMMARY!K42","v":0},{"$f":"SUMMARY!Q42","v":0},{"$f":"SUMMARY!S42","v":0},{"$f":"SUMMARY!U42","v":0},{"$f":"SUMMARY!W42","v":0},{"$f":"SUMMARY!AC42","v":0},{"$f":"SUMMARY!AE42","v":0},{"$f":"SUMMARY!AG42","v":0},{"$f":"SUMMARY!AI42","v":0},{"$f":"SUMMARY!AO42","v":0},{"$f":"SUMMARY!AQ42","v":0},{"$f":"SUMMARY!AS42","v":0},{"$f":"SUMMARY!AU42","v":0},{"$f":"SUMMARY!BA42","v":0},{"$f":"SUMMARY!BC42","v":0},{"$f":"SUMMARY!BE42","v":0},{"$f":"SUMMARY!BG42","v":0},{"$f":"SUMMARY!BM42","v":0},{"$f":"SUMMARY!BO42","v":0},{"$f":"SUMMARY!BQ42","v":0},{"$f":"SUMMARY!BS42","v":0},{"$f":"SUMMARY!BY42","v":0},{"$f":"SUMMARY!CA42","v":0},{"$f":"SUMMARY!CC42","v":0},{"$f":"SUMMARY!CE42","v":0},{"$f":"SUMMARY!CK42","v":0},{"$f":"SUMMARY!CM42","v":0},{"$f":"SUMMARY!CO42","v":0},{"$f":"SUMMARY!CQ42","v":0},{"$f":"SUMMARY!CW42","v":0},{"$f":"SUMMARY!CY42","v":0},{"$f":"SUMMARY!DA42","v":0},{"$f":"SUMMARY!DC42","v":0},{"$f":"SUMMARY!DI42","v":0},{"$f":"SUMMARY!DK42","v":0},{"$f":"SUMMARY!DM42","v":0},{"$f":"SUMMARY!DO42","v":0},{"$f":"SUMMARY!DU42","v":0},{"$f":"SUMMARY!DW42","v":0},{"$f":"SUMMARY!DY42","v":0},{"$f":"SUMMARY!EA42","v":0},{"$f":"SUMMARY!EG42","v":0},{"$f":"SUMMARY!EI42","v":0},{"$f":"SUMMARY!EK42","v":0},{"$f":"SUMMARY!EM42","v":0},{"$f":"SUMMARY!ES42","v":0},{"$f":"SUMMARY!EU42","v":0},{"$f":"SUMMARY!EW42","v":0},{"$f":"SUMMARY!EY42","v":0},{"$f":"SUMMARY!FE42","v":0},{"$f":"SUMMARY!FG42","v":0},{"$f":"SUMMARY!FI42","v":0},{"$f":"SUMMARY!FK42","v":0},{"$f":"SUMMARY!FQ42","v":0},{"$f":"SUMMARY!FS42","v":0},{"$f":"SUMMARY!FU42","v":0},{"$f":"SUMMARY!FW42","v":0},{"$f":"SUMMARY!GC42","v":0},{"$f":"SUMMARY!GE42","v":0},{"$f":"SUMMARY!GG42","v":0},{"$f":"SUMMARY!GI42","v":0},{"$f":"SUMMARY!GO42","v":0},{"$f":"SUMMARY!GQ42","v":0},{"$f":"SUMMARY!GS42","v":0},{"$f":"SUMMARY!GU42","v":0},{"$f":"SUMMARY!HA42","v":0},{"$f":"SUMMARY!HC42","v":0},{"$f":"SUMMARY!HE42","v":0},{"$f":"SUMMARY!HG42","v":0},{"$f":"SUMMARY!HM42","v":0},{"$f":"SUMMARY!HO42","v":0},{"$f":"SUMMARY!HQ42","v":0},{"$f":"SUMMARY!HS42","v":0},{"$f":"SUMMARY!HY42","v":0},{"$f":"SUMMARY!IA42","v":0},{"$f":"SUMMARY!IC42","v":0},{"$f":"SUMMARY!IE42","v":0},{"$f":"SUMMARY!IK42","v":0},{"$f":"SUMMARY!IM42","v":0},{"$f":"SUMMARY!IO42","v":0},{"$f":"SUMMARY!IQ42","v":0}]
[]
[null,"0.75 in",{"$f":"SUMMARY!E16","v":0},{"$f":"SUMMARY!G16","v":0},{"$f":"SUMMARY!I16","v":0},{"$f":"SUMMARY!K16","v":0},{"$f":"SUMMARY!Q16","v":0},{"$f":"SUMMARY!S16","v":0},{"$f":"SUMMARY!U16","v":0},{"$f":"SUMMARY!W16","v":0},{"$f":"SUMMARY!AC16","v":0},{"$f":"SUMMARY!AE16","v":0},{"$f":"SUMMARY!AG16","v":0},{"$f":"SUMMARY!AI16","v":0},{"$f":"SUMMARY!AO16","v":0},{"$f":"SUMMARY!AQ16","v":0},{"$f":"SUMMARY!AS16","v":0},{"$f":"SUMMARY!AU16","v":0},{"$f":"SUMMARY!BA16","v":0},{"$f":"SUMMARY!BC16","v":0},{"$f":"SUMMARY!BE16","v":0},{"$f":"SUMMARY!BG16","v":0},{"$f":"SUMMARY!BM16","v":0},{"$f":"SUMMARY!BO16","v":0},{"$f":"SUMMARY!BQ16","v":0},{"$f":"SUMMARY!BS16","v":0},{"$f":"SUMMARY!BY16","v":0},{"$f":"SUMMARY!CA16","v":0},{"$f":"SUMMARY!CC16","v":0},{"$f":"SUMMARY!CE16","v":0},{"$f":"SUMMARY!CK16","v":0},{"$f":"SUMMARY!CM16","v":0},{"$f":"SUMMARY!CO16","v":0},{"$f":"SUMMARY!CQ16","v":0},{"$f":"SUMMARY!CW16","v":0},{"$f":"SUMMARY!CY16","v":0},{"$f":"SUMMARY!DA16","v":0},{"$f":"SUMMARY!DC16","v":0},{"$f":"SUMMARY!DI16","v":0},{"$f":"SUMMARY!DK16","v":0},{"$f":"SUMMARY!DM16","v":0},{"$f":"SUMMARY!DO16","v":0},{"$f":"SUMMARY!DU16","v":0},{"$f":"SUMMARY!DW16","v":0},{"$f":"SUMMARY!DY16","v":0},{"$f":"SUMMARY!EA16","v":0},{"$f":"SUMMARY!EG16","v":0},{"$f":"SUMMARY!EI16","v":0},{"$f":"SUMMARY!EK16","v":0},{"$f":"SUMMARY!EM16","v":0},{"$f":"SUMMARY!ES16","v":0},{"$f":"SUMMARY!EU16","v":0},{"$f":"SUMMARY!EW16","v":0},{"$f":"SUMMARY!EY16","v":0},{"$f":"SUMMARY!FE16","v":0},{"$f":"SUMMARY!FG16","v":0},{"$f":"SUMMARY!FI16","v":0},{"$f":"SUMMARY!FK16","v":0},{"$f":"SUMMARY!FQ16","v":0},{"$f":"SUMMARY!FS16","v":0},{"$f":"SUMMARY!FU16","v":0},{"$f":"SUMMARY!FW16","v":0},{"$f":"SUMMARY!GC16","v":0},{"$f":"SUMMARY!GE16","v":0},{"$f":"SUMMARY!GG16","v":0},{"$f":"SUMMARY!GI16","v":0},{"$f":"SUMMARY!GO16","v":0},{"$f":"SUMMARY!GQ16","v":0},{"$f":"SUMMARY!GS16","v":0},{"$f":"SUMMARY!GU16","v":0},{"$f":"SUMMARY!HA16","v":0},{"$f":"SUMMARY!HC16","v":0},{"$f":"SUMMARY!HE16","v":0},{"$f":"SUMMARY!HG16","v":0},{"$f":"SUMMARY!HM16","v":0},{"$f":"SUMMARY!HO16","v":0},{"$f":"SUMMARY!HQ16","v":0},{"$f":"SUMMARY!HS16","v":0},{"$f":"SUMMARY!HY16","v":0},{"$f":"SUMMARY!IA16","v":0},{"$f":"SUMMARY!IC16","v":0},{"$f":"SUMMARY!IE16","v":0},{"$f":"SUMMARY!IK16","v":0},{"$f":"SUMMARY!IM16","v":0},{"$f":"SUMMARY!IO16","v":0},{"$f":"SUMMARY!IQ16","v":0}]
[null,"0.50 in",{"$f":"SUMMARY!E19","v":0},{"$f":"SUMMARY!G19","v":0},{"$f":"SUMMARY!I19","v":0},{"$f":"SUMMARY!K19","v":0},{"$f":"SUMMARY!Q19","v":0},{"$f":"SUMMARY!S19","v":0},{"$f":"SUMMARY!U19","v":0},{"$f":"SUMMARY!W19","v":0},{"$f":"SUMMARY!AC19","v":0},{"$f":"SUMMARY!AE19","v":0},{"$f":"SUMMARY!AG19","v":0},{"$f":"SUMMARY!AI19","v":0},{"$f":"SUMMARY!AO19","v":0},{"$f":"SUMMARY!AQ19","v":0},{"$f":"SUMMARY!AS19","v":0},{"$f":"SUMMARY!AU19","v":0},{"$f":"SUMMARY!BA19","v":0},{"$f":"SUMMARY!BC19","v":0},{"$f":"SUMMARY!BE19","v":0},{"$f":"SUMMARY!BG19","v":0},{"$f":"SUMMARY!BM19","v":0},{"$f":"SUMMARY!BO19","v":0},{"$f":"SUMMARY!BQ19","v":0},{"$f":"SUMMARY!BS19","v":0},{"$f":"SUMMARY!BY19","v":0},{"$f":"SUMMARY!CA19","v":0},{"$f":"SUMMARY!CC19","v":0},{"$f":"SUMMARY!CE19","v":0},{"$f":"SUMMARY!CK19","v":0},{"$f":"SUMMARY!CM19","v":0},{"$f":"SUMMARY!CO19","v":0},{"$f":"SUMMARY!CQ19","v":0},{"$f":"SUMMARY!CW19","v":0},{"$f":"SUMMARY!CY19","v":0},{"$f":"SUMMARY!DA19","v":0},{"$f":"SUMMARY!DC19","v":0},{"$f":"SUMMARY!DI19","v":0},{"$f":"SUMMARY!DK19","v":0},{"$f":"SUMMARY!DM19","v":0},{"$f":"SUMMARY!DO19","v":0},{"$f":"SUMMARY!DU19","v":0},{"$f":"SUMMARY!DW19","v":0},{"$f":"SUMMARY!DY19","v":0},{"$f":"SUMMARY!EA19","v":0},{"$f":"SUMMARY!EG19","v":0},{"$f":"SUMMARY!EI19","v":0},{"$f":"SUMMARY!EK19","v":0},{"$f":"SUMMARY!EM19","v":0},{"$f":"SUMMARY!ES19","v":0},{"$f":"SUMMARY!EU19","v":0},{"$f":"SUMMARY!EW19","v":0},{"$f":"SUMMARY!EY19","v":0},{"$f":"SUMMARY!FE19","v":0},{"$f":"SUMMARY!FG19","v":0},{"$f":"SUMMARY!FI19","v":0},{"$f":"SUMMARY!FK19","v":0},{"$f":"SUMMARY!FQ19","v":0},{"$f":"SUMMARY!FS19","v":0},{"$f":"SUMMARY!FU19","v":0},{"$f":"SUMMARY!FW19","v":0},{"$f":"SUMMARY!GC19","v":0},{"$f":"SUMMARY!GE19","v":0},{"$f":"SUMMARY!GG19","v":0},{"$f":"SUMMARY!GI19","v":0},{"$f":"SUMMARY!GO19","v":0},{"$f":"SUMMARY!GQ19","v":0},{"$f":"SUMMARY!GS19","v":0},{"$f":"SUMMARY!GU19","v":0},{"$f":"SUMMARY!HA19","v":0},{"$f":"SUMMARY!HC19","v":0},{"$f":"SUMMARY!HE19","v":0},{"$f":"SUMMARY!HG19","v":0},{"$f":"SUMMARY!HM19","v":0},{"$f":"SUMMARY!HO19","v":0},{"$f":"SUMMARY!HQ19","v":0},{"$f":"SUMMARY!HS19","v":0},{"$f":"SUMMARY!HY19","v":0},{"$f":"SUMMARY!IA19","v":0},{"$f":"SUMMARY!IC19","v":0},{"$f":"SUMMARY!IE19","v":0},{"$f":"SUMMARY!IK19","v":0},{"$f":"SUMMARY!IM19","v":0},{"$f":"SUMMARY!IO19","v":0},{"$f":"SUMMARY!IQ19","v":0}]
[null,"0.375 in",{"$f":"SUMMARY!E22","v":0},{"$f":"SUMMARY!G22","v":0},{"$f":"SUMMARY!I22","v":0},{"$f":"SUMMARY!K22","v":0},{"$f":"SUMMARY!Q22","v":0},{"$f":"SUMMARY!S22","v":0},{"$f":"SUMMARY!U22","v":0},{"$f":"SUMMARY!W22","v":0},{"$f":"SUMMARY!AC22","v":0},{"$f":"SUMMARY!AE22","v":0},{"$f":"SUMMARY!AG22","v":0},{"$f":"SUMMARY!AI22","v":0},{"$f":"SUMMARY!AO22","v":0},{"$f":"SUMMARY!AQ22","v":0},{"$f":"SUMMARY!AS22","v":0},{"$f":"SUMMARY!AU22","v":0},{"$f":"SUMMARY!BA22","v":0},{"$f":"SUMMARY!BC22","v":0},{"$f":"SUMMARY!BE22","v":0},{"$f":"SUMMARY!BG22","v":0},{"$f":"SUMMARY!BM22","v":0},{"$f":"SUMMARY!BO22","v":0},{"$f":"SUMMARY!BQ22","v":0},{"$f":"SUMMARY!BS22","v":0},{"$f":"SUMMARY!BY22","v":0},{"$f":"SUMMARY!CA22","v":0},{"$f":"SUMMARY!CC22","v":0},{"$f":"SUMMARY!CE22","v":0},{"$f":"SUMMARY!CK22","v":0},{"$f":"SUMMARY!CM22","v":0},{"$f":"SUMMARY!CO22","v":0},{"$f":"SUMMARY!CQ22","v":0},{"$f":"SUMMARY!CW22","v":0},{"$f":"SUMMARY!CY22","v":0},{"$f":"SUMMARY!DA22","v":0},{"$f":"SUMMARY!DC22","v":0},{"$f":"SUMMARY!DI22","v":0},{"$f":"SUMMARY!DK22","v":0},{"$f":"SUMMARY!DM22","v":0},{"$f":"SUMMARY!DO22","v":0},{"$f":"SUMMARY!DU22","v":0},{"$f":"SUMMARY!DW22","v":0},{"$f":"SUMMARY!DY22","v":0},{"$f":"SUMMARY!EA22","v":0},{"$f":"SUMMARY!EG22","v":0},{"$f":"SUMMARY!EI22","v":0},{"$f":"SUMMARY!EK22","v":0},{"$f":"SUMMARY!EM22","v":0},{"$f":"SUMMARY!ES22","v":0},{"$f":"SUMMARY!EU22","v":0},{"$f":"SUMMARY!EW22","v":0},{"$f":"SUMMARY!EY22","v":0},{"$f":"SUMMARY!FE22","v":0},{"$f":"SUMMARY!FG22","v":0},{"$f":"SUMMARY!FI22","v":0},{"$f":"SUMMARY!FK22","v":0},{"$f":"SUMMARY!FQ22","v":0},{"$f":"SUMMARY!FS22","v":0},{"$f":"SUMMARY!FU22","v":0},{"$f":"SUMMARY!FW22","v":0},{"$f":"SUMMARY!GC22","v":0},{"$f":"SUMMARY!GE22","v":0},{"$f":"SUMMARY!GG22","v":0},{"$f":"SUMMARY!GI22","v":0},{"$f":"SUMMARY!GO22","v":0},{"$f":"SUMMARY!GQ22","v":0},{"$f":"SUMMARY!GS22","v":0},{"$f":"SUMMARY!GU22","v":0},{"$f":"SUMMARY!HA22","v":0},{"$f":"SUMMARY!HC22","v":0},{"$f":"SUMMARY!HE22","v":0},{"$f":"SUMMARY!HG22","v":0},{"$f":"SUMMARY!HM22","v":0},{"$f":"SUMMARY!HO22","v":0},{"$f":"SUMMARY!HQ22","v":0},{"$f":"SUMMARY!HS22","v":0},{"$f":"SUMMARY!HY22","v":0},{"$f":"SUMMARY!IA22","v":0},{"$f":"SUMMARY!IC22","v":0},{"$f":"SUMMARY!IE22","v":0},{"$f":"SUMMARY!IK22","v":0},{"$f":"SUMMARY!IM22","v":0},{"$f":"SUMMARY!IO22","v":0},{"$f":"SUMMARY!IQ22","v":0}]
[null,"#4",{"$f":"SUMMARY!E25","v":0},{"$f":"SUMMARY!G25","v":0},{"$f":"SUMMARY!I25","v":0},{"$f":"SUMMARY!K25","v":0},{"$f":"SUMMARY!Q25","v":0},{"$f":"SUMMARY!S25","v":0},{"$f":"SUMMARY!U25","v":0},{"$f":"SUMMARY!W25","v":0},{"$f":"SUMMARY!AC25","v":0},{"$f":"SUMMARY!AE25","v":0},{"$f":"SUMMARY!AG25","v":0},{"$f":"SUMMARY!AI25","v":0},{"$f":"SUMMARY!AO25","v":0},{"$f":"SUMMARY!AQ25","v":0},{"$f":"SUMMARY!AS25","v":0},{"$f":"SUMMARY!AU25","v":0},{"$f":"SUMMARY!BA25","v":0},{"$f":"SUMMARY!BC25","v":0},{"$f":"SUMMARY!BE25","v":0},{"$f":"SUMMARY!BG25","v":0},{"$f":"SUMMARY!BM25","v":0},{"$f":"SUMMARY!BO25","v":0},{"$f":"SUMMARY!BQ25","v":0},{"$f":"SUMMARY!BS25","v":0},{"$f":"SUMMARY!BY25","v":0},{"$f":"SUMMARY!CA25","v":0},{"$f":"SUMMARY!CC25","v":0},{"$f":"SUMMARY!CE25","v":0},{"$f":"SUMMARY!CK25","v":0},{"$f":"SUMMARY!CM25","v":0},{"$f":"SUMMARY!CO25","v":0},{"$f":"SUMMARY!CQ25","v":0},{"$f":"SUMMARY!CW25","v":0},{"$f":"SUMMARY!CY25","v":0},{"$f":"SUMMARY!DA25","v":0},{"$f":"SUMMARY!DC25","v":0},{"$f":"SUMMARY!DI25","v":0},{"$f":"SUMMARY!DK25","v":0},{"$f":"SUMMARY!DM25","v":0},{"$f":"SUMMARY!DO25","v":0},{"$f":"SUMMARY!DU25","v":0},{"$f":"SUMMARY!DW25","v":0},{"$f":"SUMMARY!DY25","v":0},{"$f":"SUMMARY!EA25","v":0},{"$f":"SUMMARY!EG25","v":0},{"$f":"SUMMARY!EI25","v":0},{"$f":"SUMMARY!EK25","v":0},{"$f":"SUMMARY!EM25","v":0},{"$f":"SUMMARY!ES25","v":0},{"$f":"SUMMARY!EU25","v":0},{"$f":"SUMMARY!EW25","v":0},{"$f":"SUMMARY!EY25","v":0},{"$f":"SUMMARY!FE25","v":0},{"$f":"SUMMARY!FG25","v":0},{"$f":"SUMMARY!FI25","v":0},{"$f":"SUMMARY!FK25","v":0},{"$f":"SUMMARY!FQ25","v":0},{"$f":"SUMMARY!FS25","v":0},{"$f":"SUMMARY!FU25","v":0},{"$f":"SUMMARY!FW25","v":0},{"$f":"SUMMARY!GC25","v":0},{"$f":"SUMMARY!GE25","v":0},{"$f":"SUMMARY!GG25","v":0},{"$f":"SUMMARY!GI25","v":0},{"$f":"SUMMARY!GO25","v":0},{"$f":"SUMMARY!GQ25","v":0},{"$f":"SUMMARY!GS25","v":0},{"$f":"SUMMARY!GU25","v":0},{"$f":"SUMMARY!HA25","v":0},{"$f":"SUMMARY!HC25","v":0},{"$f":"SUMMARY!HE25","v":0},{"$f":"SUMMARY!HG25","v":0},{"$f":"SUMMARY!HM25","v":0},{"$f":"SUMMARY!HO25","v":0},{"$f":"SUMMARY!HQ25","v":0},{"$f":"SUMMARY!HS25","v":0},{"$f":"SUMMARY!HY25","v":0},{"$f":"SUMMARY!IA25","v":0},{"$f":"SUMMARY!IC25","v":0},{"$f":"SUMMARY!IE25","v":0},{"$f":"SUMMARY!IK25","v":0},{"$f":"SUMMARY!IM25","v":0},{"$f":"SUMMARY!IO25","v":0},{"$f":"SUMMARY!IQ25","v":0}]
[null,"#8",{"$f":"SUMMARY!E28","v":0},{"$f":"SUMMARY!G28","v":0},{"$f":"SUMMARY!I28","v":0},{"$f":"SUMMARY!K28","v":0},{"$f":"SUMMARY!Q28","v":0},{"$f":"SUMMARY!S28","v":0},{"$f":"SUMMARY!U28","v":0},{"$f":"SUMMARY!W28","v":0},{"$f":"SUMMARY!AC28","v":0},{"$f":"SUMMARY!AE28","v":0},{"$f":"SUMMARY!AG28","v":0},{"$f":"SUMMARY!AI28","v":0},{"$f":"SUMMARY!AO28","v":0},{"$f":"SUMMARY!AQ28","v":0},{"$f":"SUMMARY!AS28","v":0},{"$f":"SUMMARY!AU28","v":0},{"$f":"SUMMARY!BA28","v":0},{"$f":"SUMMARY!BC28","v":0},{"$f":"SUMMARY!BE28","v":0},{"$f":"SUMMARY!BG28","v":0},{"$f":"SUMMARY!BM28","v":0},{"$f":"SUMMARY!BO28","v":0},{"$f":"SUMMARY!BQ28","v":0},{"$f":"SUMMARY!BS28","v":0},{"$f":"SUMMARY!BY28","v":0},{"$f":"SUMMARY!CA28","v":0},{"$f":"SUMMARY!CC28","v":0},{"$f":"SUMMARY!CE28","v":0},{"$f":"SUMMARY!CK28","v":0},{"$f":"SUMMARY!CM28","v":0},{"$f":"SUMMARY!CO28","v":0},{"$f":"SUMMARY!CQ28","v":0},{"$f":"SUMMARY!CW28","v":0},{"$f":"SUMMARY!CY28","v":0},{"$f":"SUMMARY!DA28","v":0},{"$f":"SUMMARY!DC28","v":0},{"$f":"SUMMARY!DI28","v":0},{"$f":"SUMMARY!DK28","v":0},{"$f":"SUMMARY!DM28","v":0},{"$f":"SUMMARY!DO28","v":0},{"$f":"SUMMARY!DU28","v":0},{"$f":"SUMMARY!DW28","v":0},{"$f":"SUMMARY!DY28","v":0},{"$f":"SUMMARY!EA28","v":0},{"$f":"SUMMARY!EG28","v":0},{"$f":"SUMMARY!EI28","v":0},{"$f":"SUMMARY!EK28","v":0},{"$f":"SUMMARY!EM28","v":0},{"$f":"SUMMARY!ES28","v":0},{"$f":"SUMMARY!EU28","v":0},{"$f":"SUMMARY!EW28","v":0},{"$f":"SUMMARY!EY28","v":0},{"$f":"SUMMARY!FE28","v":0},{"$f":"SUMMARY!FG28","v":0},{"$f":"SUMMARY!FI28","v":0},{"$f":"SUMMARY!FK28","v":0},{"$f":"SUMMARY!FQ28","v":0},{"$f":"SUMMARY!FS28","v":0},{"$f":"SUMMARY!FU28","v":0},{"$f":"SUMMARY!FW28","v":0},{"$f":"SUMMARY!GC28","v":0},{"$f":"SUMMARY!GE28","v":0},{"$f":"SUMMARY!GG28","v":0},{"$f":"SUMMARY!GI28","v":0},{"$f":"SUMMARY!GO28","v":0},{"$f":"SUMMARY!GQ28","v":0},{"$f":"SUMMARY!GS28","v":0},{"$f":"SUMMARY!GU28","v":0},{"$f":"SUMMARY!HA28","v":0},{"$f":"SUMMARY!HC28","v":0},{"$f":"SUMMARY!HE28","v":0},{"$f":"SUMMARY!HG28","v":0},{"$f":"SUMMARY!HM28","v":0},{"$f":"SUMMARY!HO28","v":0},{"$f":"SUMMARY!HQ28","v":0},{"$f":"SUMMARY!HS28","v":0},{"$f":"SUMMARY!HY28","v":0},{"$f":"SUMMARY!IA28","v":0},{"$f":"SUMMARY!IC28","v":0},{"$f":"SUMMARY!IE28","v":0},{"$f":"SUMMARY!IK28","v":0},{"$f":"SUMMARY!IM28","v":0},{"$f":"SUMMARY!IO28","v":0},{"$f":"SUMMARY!IQ28","v":0}]
[null,"#200",{"$f":"SUMMARY!E39","v":0},{"$f":"SUMMARY!G39","v":0},{"$f":"SUMMARY!I39","v":0},{"$f":"SUMMARY!K39","v":0},{"$f":"SUMMARY!Q39","v":0},{"$f":"SUMMARY!S39","v":0},{"$f":"SUMMARY!U39","v":0},{"$f":"SUMMARY!W39","v":0},{"$f":"SUMMARY!AC39","v":0},{"$f":"SUMMARY!AE39","v":0},{"$f":"SUMMARY!AG39","v":0},{"$f":"SUMMARY!AI39","v":0},{"$f":"SUMMARY!AO39","v":0},{"$f":"SUMMARY!AQ39","v":0},{"$f":"SUMMARY!AS39","v":0},{"$f":"SUMMARY!AU39","v":0},{"$f":"SUMMARY!BA39","v":0},{"$f":"SUMMARY!BC39","v":0},{"$f":"SUMMARY!BE39","v":0},{"$f":"SUMMARY!BG39","v":0},{"$f":"SUMMARY!BM39","v":0},{"$f":"SUMMARY!BO39","v":0},{"$f":"SUMMARY!BQ39","v":0},{"$f":"SUMMARY!BS39","v":0},{"$f":"SUMMARY!BY39","v":0},{"$f":"SUMMARY!CA39","v":0},{"$f":"SUMMARY!CC39","v":0},{"$f":"SUMMARY!CE39","v":0},{"$f":"SUMMARY!CK39","v":0},{"$f":"SUMMARY!CM39","v":0},{"$f":"SUMMARY!CO39","v":0},{"$f":"SUMMARY!CQ39","v":0},{"$f":"SUMMARY!CW39","v":0},{"$f":"SUMMARY!CY39","v":0},{"$f":"SUMMARY!DA39","v":0},{"$f":"SUMMARY!DC39","v":0},{"$f":"SUMMARY!DI39","v":0},{"$f":"SUMMARY!DK39","v":0},{"$f":"SUMMARY!DM39","v":0},{"$f":"SUMMARY!DO39","v":0},{"$f":"SUMMARY!DU39","v":0},{"$f":"SUMMARY!DW39","v":0},{"$f":"SUMMARY!DY39","v":0},{"$f":"SUMMARY!EA39","v":0},{"$f":"SUMMARY!EG39","v":0},{"$f":"SUMMARY!EI39","v":0},{"$f":"SUMMARY!EK39","v":0},{"$f":"SUMMARY!EM39","v":0},{"$f":"SUMMARY!ES39","v":0},{"$f":"SUMMARY!EU39","v":0},{"$f":"SUMMARY!EW39","v":0},{"$f":"SUMMARY!EY39","v":0},{"$f":"SUMMARY!FE39","v":0},{"$f":"SUMMARY!FG39","v":0},{"$f":"SUMMARY!FI39","v":0},{"$f":"SUMMARY!FK39","v":0},{"$f":"SUMMARY!FQ39","v":0},{"$f":"SUMMARY!FS39","v":0},{"$f":"SUMMARY!FU39","v":0},{"$f":"SUMMARY!FW39","v":0},{"$f":"SUMMARY!GC39","v":0},{"$f":"SUMMARY!GE39","v":0},{"$f":"SUMMARY!GG39","v":0},{"$f":"SUMMARY!GI39","v":0},{"$f":"SUMMARY!GO39","v":0},{"$f":"SUMMARY!GQ39","v":0},{"$f":"SUMMARY!GS39","v":0},{"$f":"SUMMARY!GU39","v":0},{"$f":"SUMMARY!HA39","v":0},{"$f":"SUMMARY!HC39","v":0},{"$f":"SUMMARY!HE39","v":0},{"$f":"SUMMARY!HG39","v":0},{"$f":"SUMMARY!HM39","v":0},{"$f":"SUMMARY!HO39","v":0},{"$f":"SUMMARY!HQ39","v":0},{"$f":"SUMMARY!HS39","v":0},{"$f":"SUMMARY!HY39","v":0},{"$f":"SUMMARY!IA39","v":0},{"$f":"SUMMARY!IC39","v":0},{"$f":"SUMMARY!IE39","v":0},{"$f":"SUMMARY!IK39","v":0},{"$f":"SUMMARY!IM39","v":0},{"$f":"SUMMARY!IO39","v":0},{"$f":"SUMMARY!IQ39","v":0}]

{"sheet":"Volumetrics","index":6,"n_rows":0,"n_cols":0,"rows_kept":0,"cut":false,"hidden":false,"merged":[]}

{"sheet":"Large_Sieves","index":8,"n_rows":0,"n_cols":0,"rows_kept":0,"cut":false,"hidden":false,"merged":[]}

{"sheet":"Small_Sieves","index":9,"n_rows":0,"n_cols":0,"rows_kept":0,"cut":false,"hidden":false,"merged":[]}

{"sheet":"Quality Index Values","index":10,"n_rows":114,"n_cols":38,"rows_kept":114,"cut":false,"hidden":true,"merged":[]}
[null,null,null,"Table 5. Quality Index Values for Estimating PWL (page 73) - Optimal Procedures for Quality Assurance Specifications, FHWA Publication No. FHWA-RD-02-095 , Source: Specification Conformity Analysis, FHWA Technical Advisory T5080.12, June 23, 1989."]
[null,"n=3","n=4","n=5","n=6","n=7","n=8","n=9","n=10 to 11","n=12 to 14","n=15 to 18","n=19 to 25","n=26 to 37","n=38 to 69"]
["PWL",3,4,5,6,7,8,9,"10to11","12to14","15to18","19to25","26to37","38to69"]
[100,1.1599999999999999,1.5,1.79,2.0299999999999998,2.23,2.39,2.5299999999999998,2.65,2.83,3.03,3.2,3.38,3.54]
[99,null,1.47,1.67,1.8,1.89,1.95,2,2.04,2.09,2.14,2.1800000000000002,2.2200000000000002,2.2599999999999998]
[98,1.1499999999999999,1.44,1.6,1.7,1.76,1.81,1.84,1.86,1.19,1.93,1.96,1.99,2.0099999999999998]
[97,null,1.41,1.54,1.62,1.67,1.7,1.72,1.74,1.77,1.79,1.81,1.83,1.85]
[96,1.1399999999999999,1.38,1.49,1.55,1.59,1.61,1.63,1.65,1.67,1.68,1.7,1.71,1.73]
[95,null,1.35,1.44,1.49,1.52,1.54,1.55,1.56,1.58,1.59,1.61,1.62,1.63]
[94,1.1299999999999999,1.32,1.39,1.43,1.46,1.47,1.48,1.49,1.5,1.51,1.52,1.53,1.54]
[93,null,1.29,1.35,1.38,1.4,1.41,1.42,1.43,1.44,1.44,1.45,1.46,1.46]
[92,1.1200000000000001,1.26,1.31,1.33,1.35,1.36,1.36,1.37,1.37,1.38,1.39,1.39,1.4]
[91,1.1100000000000001,1.23,1.27,1.29,1.3,1.3,1.31,1.31,1.32,1.32,1.33,1.33,1.33]
[90,1.1000000000000001,1.2,1.23,1.24,1.25,1.25,1.26,1.26,1.26,1.27,1.27,1.27,1.28]
[89,1.0900000000000001,1.17,1.19,1.2,1.2,1.21,1.21,1.21,1.21,1.22,1.22,1.22,1.22]
[88,1.07,1.1399999999999999,1.1499999999999999,1.1599999999999999,1.1599999999999999,1.1599999999999999,1.1599999999999999,1.17,1.17,1.17,1.17,1.17,1.17]
[87,1.06,1.1100000000000001,1.1200000000000001,1.1200000000000001,1.1200000000000001,1.1200000000000001,1.1200000000000001,1.1200000000000001,1.1200000000000001,1.1200000000000001,1.1200000000000001,1.1200000000000001,1.1200000000000001]
[86,1.04,1.08,1.08,1.08,1.08,1.08,1.08,1.08,1.08,1.08,1.08,1.08,1.08]
[85,1.03,1.05,1.05,1.04,1.04,1.04,1.04,1.04,1.04,1.04,1.04,1.04,1.04]
[84,1.01,1.02,1.1000000000000001,1.01,1,1,1,1,1,1,1,1,0.99]
[83,1,0.99,0.98,0.97,0.97,0.96,0.96,0.96,0.96,0.96,0.96,0.96,0.95]
[82,0.97,0.96,0.95,0.94,0.93,0.93,0.93,0.92,0.92,0.92,0.92,0.92,0.92]
[81,0.96,0.93,0.91,0.9,0.9,0.89,0.89,0.89,0.89,0.88,0.88,0.88,0.88]
[80,0.93,0.9,0.88,0.87,0.86,0.86,0.86,0.85,0.85,0.85,0.85,0.84,0.84]
[79,0.91,0.87,0.85,0.84,0.83,0.82,0.82,0.82,0.82,0.81,0.81,0.81,0.81]
[78,0.89,0.84,0.82,0.8,0.8,0.79,0.79,0.79,0.78,0.78,0.78,0.78,0.77]
[77,0.87,0.81,0.78,0.77,0.76,0.76,0.76,0.75,0.75,0.75,0.75,0.74,0.74]
[76,0.84,0.78,0.75,0.74,0.73,0.73,0.72,0.72,0.72,0.71,0.71,0.71,0.71]
[75,0.82,0.75,0.72,0.71,0.7,0.7,0.69,0.69,0.69,0.68,0.68,0.68,0.68]
[74,0.79,0.72,0.69,0.68,0.67,0.66,0.66,0.66,0.66,0.65,0.65,0.65,0.65]
[73,0.76,0.69,0.66,0.65,0.64,0.63,0.63,0.63,0.62,0.62,0.62,0.62,0.62]
[72,0.74,0.66,0.63,0.62,0.61,0.6,0.6,0.6,0.59,0.59,0.59,0.59,0.59]
[71,0.71,0.63,0.6,0.59,0.57999999999999996,0.56999999999999995,0.56999999999999995,0.56999999999999995,0.56999999999999995,0.56000000000000005,0.56000000000000005,0.56000000000000005,0.56000000000000005]
[70,0.68,0.6,0.56999999999999995,0.56000000000000005,0.55000000000000004,0.55000000000000004,0.54,0.54,0.54,0.53,0.53,0.53,0.53]
[69,0.65,0.56999999999999995,0.54,0.53,0.52,0.52,0.51,0.51,0.51,0.5,0.5,0.5,0.5]
[68,0.62,0.54,0.51,0.5,0.49,0.49,0.48,0.48,0.48,0.48,0.47,0.47,0.47]
[67,0.59,0.51,0.47,0.47,0.46,0.46,0.46,0.45,0.45,0.45,0.45,0.44,0.44]
[66,0.56000000000000005,0.48,0.45,0.44,0.44,0.43,0.43,0.43,0.42,0.42,0.42,0.42,0.41]
[65,0.52,0.45,0.43,0.41,0.41,0.4,0.4,0.4,0.4,0.39,0.39,0.39,0.39]
[64,0.49,0.42,0.4,0.39,0.38,0.38,0.37,0.37,0.37,0.36,0.36,0.36,0.36]
[63,0.46,0.39,0.37,0.36,0.35,0.35,0.35,0.34,0.34,0.34,0.34,0.34,0.33]
[62,0.43,0.36,0.34,0.33,0.32,0.32,0.32,0.32,0.31,0.31,0.31,0.31,0.31]
[61,0.39,0.33,0.31,0.3,0.3,0.28999999999999998,0.28999999999999998,0.28999999999999998,0.28999999999999998,0.28999999999999998,0.28000000000000003,0.28000000000000003,0.28000000000000003]
[60,0.36,0.3,0.28000000000000003,0.27,0.27,0.27,0.26,0.26,0.26,0.26,0.26,0.26,0.26]
[59,0.32,0.27,0.25,0.25,0.24,0.24,0.24,0.24,0.23,0.23,0.23,0.23,0.23]
[58,0.28999999999999998,0.24,0.23,0.22,0.21,0.21,0.21,0.21,0.21,0.21,0.2,0.2,0.2]
[57,0.25,0.21,0.2,0.19,0.19,0.19,0.18,0.18,0.18,0.18,0.18,0.18,0.18]
[56,0.22,0.18,0.17,0.16,0.16,0.16,0.16,0.16,0.16,0.15,0.15,0.15,0.15]
[55,0.18,0.15,0.14000000000000001,0.14000000000000001,0.13,0.13,0.13,0.13,0.13,0.13,0.13,0.13,0.13]
[54,0.14000000000000001,0.12,0.11,0.11,0.11,0.11,0.1,0.1,0.1,0.1,0.1,0.1,0.1]
[53,0.11,0.09,0.08,0.08,0.08,0.08,0.08,0.08,0.08,0.08,0.08,0.08,0.08]
[52,7.0000000000000007E-2,0.06,0.06,0.05,0.05,0.05,0.05,0.05,0.05,0.05,0.05,0.05,0.05]
[51,0.04,0.03,0.03,0.03,0.03,0.03,0.03,0.03,0.03,0.03,0.03,0.03,0.03]
[50,0,0,0,0,0,0,0,0,0,0,0,0,0]
[]
[]
[]
[]
[]
[]
[]
["n=3",null,null,"n=4",null,null,"n=5",null,null,"n=6",null,null,"n=7",null,null,"n=8",null,null,"n=9",null,null,"n=10 to 11",null,null,"n=12 to 14",null,null,"n=15 to 18",null,null,"n=19 to 25",null,null,"n=26 to 37",null,null,"n=38 to 69"]
[3,"PWL",null,4,"PWL",null,5,"PWL",null,6,"PWL",null,7,"PWL",null,8,"PWL",null,9,"PWL",null,"10to11","PWL",null,"12to14","PWL",null,"15to18","PWL",null,"19to25","PWL",null,"26to37","PWL",null,"38to69","PWL"]
[0,50,null,0,50,null,0,50,null,0,50,null,0,50,null,0,50,null,0,50,null,0,50,null,0,50,null,0,50,null,0,50,null,0,50,null,0,50]
[0.04,51,null,0.03,51,null,0.03,51,null,0.03,51,null,0.03,51,null,0.03,51,null,0.03,51,null,0.03,51,null,0.03,51,null,0.03,51,null,0.03,51,null,0.03,51,null,0.03,51]
[7.0000000000000007E-2,52,null,0.06,52,null,0.06,52,null,0.05,52,null,0.05,52,null,0.05,52,null,0.05,52,null,0.05,52,null,0.05,52,null,0.05,52,null,0.05,52,null,0.05,52,null,0.05,52]
[0.11,53,null,0.09,53,null,0.08,53,null,0.08,53,null,0.08,53,null,0.08,53,null,0.08,53,null,0.08,53,null,0.08,53,null,0.08,53,null,0.08,53,null,0.08,53,null,0.08,53]
[0.14000000000000001,54,null,0.12,54,null,0.11,54,null,0.11,54,null,0.11,54,null,0.11,54,null,0.1,54,null,0.1,54,null,0.1,54,null,0.1,54,null,0.1,54,null,0.1,54,null,0.1,54]
[0.18,55,null,0.15,55,null,0.14000000000000001,55,null,0.14000000000000001,55,null,0.13,55,null,0.13,55,null,0.13,55,null,0.13,55,null,0.13,55,null,0.13,55,null,0.13,55,null,0.13,55,null,0.13,55]
[0.22,56,null,0.18,56,null,0.17,56,null,0.16,56,null,0.16,56,null,0.16,56,null,0.16,56,null,0.16,56,null,0.16,56,null,0.15,56,null,0.15,56,null,0.15,56,null,0.15,56]
[0.25,57,null,0.21,57,null,0.2,57,null,0.19,57,null,0.19,57,null,0.19,57,null,0.18,57,null,0.18,57,null,0.18,57,null,0.18,57,null,0.18,57,null,0.18,57,null,0.18,57]
[0.28999999999999998,58,null,0.24,58,null,0.23,58,null,0.22,58,null,0.21,58,null,0.21,58,null,0.21,58,null,0.21,58,null,0.21,58,null,0.21,58,null,0.2,58,null,0.2,58,null,0.2,58]
[0.32,59,null,0.27,59,null,0.25,59,null,0.25,59,null,0.24,59,null,0.24,59,null,0.24,59,null,0.24,59,null,0.23,59,null,0.23,59,null,0.23,59,null,0.23,59,null,0.23,59]
[0.36,60,null,0.3,60,null,0.28000000000000003,60,null,0.27,60,null,0.27,60,null,0.27,60,null,0.26,60,null,0.26,60,null,0.26,60,null,0.26,60,null,0.26,60,null,0.26,60,null,0.26,60]
[0.39,61,null,0.33,61,null,0.31,61,null,0.3,61,null,0.3,61,null,0.28999999999999998,61,null,0.28999999999999998,61,null,0.28999999999999998,61,null,0.28999999999999998,61,null,0.28999999999999998,61,null,0.28000000000000003,61,null,0.28000000000000003,61,null,0.28000000000000003,61]
[0.43,62,null,0.36,62,null,0.34,62,null,0.33,62,null,0.32,62,null,0.32,62,null,0.32,62,null,0.32,62,null,0.31,62,null,0.31,62,null,0.31,62,null,0.31,62,null,0.31,62]
[0.46,63,null,0.39,63,null,0.37,63,null,0.36,63,null,0.35,63,null,0.35,63,null,0.35,63,null,0.34,63,null,0.34,63,null,0.34,63,null,0.34,63,null,0.34,63,null,0.33,63]
[0.49,64,null,0.42,64,null,0.4,64,null,0.39,64,null,0.38,64,null,0.38,64,null,0.37,64,null,0.37,64,null,0.37,64,null,0.36,64,null,0.36,64,null,0.36,64,null,0.36,64]
[0.52,65,null,0.45,65,null,0.43,65,null,0.41,65,null,0.41,65,null,0.4,65,null,0.4,65,null,0.4,65,null,0.4,65,null,0.39,65,null,0.39,65,null,0.39,65,null,0.39,65]
[0.56000000000000005,66,null,0.48,66,null,0.45,66,null,0.44,66,null,0.44,66,null,0.43,66,null,0.43,66,null,0.43,66,null,0.42,66,null,0.42,66,null,0.42,66,null,0.42,66,null,0.41,66]
[0.59,67,null,0.51,67,null,0.47,67,null,0.47,67,null,0.46,67,null,0.46,67,null,0.46,67,null,0.45,67,null,0.45,67,null,0.45,67,null,0.45,67,null,0.44,67,null,0.44,67]
[0.62,68,null,0.54,68,null,0.51,68,null,0.5,68,null,0.49,68,null,0.49,68,null,0.48,68,null,0.48,68,null,0.48,68,null,0.48,68,null,0.47,68,null,0.47,68,null,0.47,68]
[0.65,69,null,0.56999999999999995,69,null,0.54,69,null,0.53,69,null,0.52,69,null,0.52,69,null,0.51,69,null,0.51,69,null,0.51,69,null,0.5,69,null,0.5,69,null,0.5,69,null,0.5,69]
[0.68,70,null,0.6,70,null,0.56999999999999995,70,null,0.56000000000000005,70,null,0.55000000000000004,70,null,0.55000000000000004,70,null,0.54,70,null,0.54,70,null,0.54,70,null,0.53,70,null,0.53,70,null,0.53,70,null,0.53,70]
[0.71,71,null,0.63,71,null,0.6,71,null,0.59,71,null,0.57999999999999996,71,null,0.56999999999999995,71,null,0.56999999999999995,71,null,0.56999999999999995,71,null,0.56999999999999995,71,null,0.56000000000000005,71,null,0.56000000000000005,71,null,0.56000000000000005,71,null,0.56000000000000005,71]
[0.74,72,null,0.66,72,null,0.63,72,null,0.62,72,null,0.61,72,null,0.6,72,null,0.6,72,null,0.6,72,null,0.59,72,null,0.59,72,null,0.59,72,null,0.59,72,null,0.59,72]
[0.76,73,null,0.69,73,null,0.66,73,null,0.65,73,null,0.64,73,null,0.63,73,null,0.63,73,null,0.63,73,null,0.62,73,null,0.62,73,null,0.62,73,null,0.62,73,null,0.62,73]
[0.79,74,null,0.72,74,null,0.69,74,null,0.68,74,null,0.67,74,null,0.66,74,null,0.66,74,null,0.66,74,null,0.66,74,null,0.65,74,null,0.65,74,null,0.65,74,null,0.65,74]
[0.82,75,null,0.75,75,null,0.72,75,null,0.71,75,null,0.7,75,null,0.7,75,null,0.69,75,null,0.69,75,null,0.69,75,null,0.68,75,null,0.68,75,null,0.68,75,null,0.68,75]
[0.84,76,null,0.78,76,null,0.75,76,null,0.74,76,null,0.73,76,null,0.73,76,null,0.72,76,null,0.72,76,null,0.72,76,null,0.71,76,null,0.71,76,null,0.71,76,null,0.71,76]
[0.87,77,null,0.81,77,null,0.78,77,null,0.77,77,null,0.76,77,null,0.76,77,null,0.76,77,null,0.75,77,null,0.75,77,null,0.75,77,null,0.75,77,null,0.74,77,null,0.74,77]
[0.89,78,null,0.84,78,null,0.82,78,null,0.8,78,null,0.8,78,null,0.79,78,null,0.79,78,null,0.79,78,null,0.78,78,null,0.78,78,null,0.78,78,null,0.78,78,null,0.77,78]
[0.91,79,null,0.87,79,null,0.85,79,null,0.84,79,null,0.83,79,null,0.82,79,null,0.82,79,null,0.82,79,null,0.82,79,null,0.81,79,null,0.81,79,null,0.81,79,null,0.81,79]
[0.93,80,null,0.9,80,null,0.88,80,null,0.87,80,null,0.86,80,null,0.86,80,null,0.86,80,null,0.85,80,null,0.85,80,null,0.85,80,null,0.85,80,null,0.84,80,null,0.84,80]
[0.96,81,null,0.93,81,null,0.91,81,null,0.9,81,null,0.9,81,null,0.89,81,null,0.89,81,null,0.89,81,null,0.89,81,null,0.88,81,null,0.88,81,null,0.88,81,null,0.88,81]
[0.97,82,null,0.96,82,null,0.95,82,null,0.94,82,null,0.93,82,null,0.93,82,null,0.93,82,null,0.92,82,null,0.92,82,null,0.92,82,null,0.92,82,null,0.92,82,null,0.92,82]
[1,83,null,0.99,83,null,0.98,83,null,0.97,83,null,0.97,83,null,0.96,83,null,0.96,83,null,0.96,83,null,0.96,83,null,0.96,83,null,0.96,83,null,0.96,83,null,0.95,83]
[1.01,84,null,1.02,84,null,1.05,85,null,1.01,84,null,1,84,null,1,84,null,1,84,null,1,84,null,1,84,null,1,84,null,1,84,null,1,84,null,0.99,84]
[1.03,85,null,1.05,85,null,1.08,86,null,1.04,85,null,1.04,85,null,1.04,85,null,1.04,85,null,1.04,85,null,1.04,85,null,1.04,85,null,1.04,85,null,1.04,85,null,1.04,85]
[1.04,86,null,1.08,86,null,1.1000000000000001,84,null,1.08,86,null,1.08,86,null,1.08,86,null,1.08,86,null,1.08,86,null,1.08,86,null,1.08,86,null,1.08,86,null,1.08,86,null,1.08,86]
[1.06,87,null,1.1100000000000001,87,null,1.1200000000000001,87,null,1.1200000000000001,87,null,1.1200000000000001,87,null,1.1200000000000001,87,null,1.1200000000000001,87,null,1.1200000000000001,87,null,1.1200000000000001,87,null,1.1200000000000001,87,null,1.1200000000000001,87,null,1.1200000000000001,87,null,1.1200000000000001,87]
[1.07,88,null,1.1399999999999999,88,null,1.1499999999999999,88,null,1.1599999999999999,88,null,1.1599999999999999,88,null,1.1599999999999999,88,null,1.1599999999999999,88,null,1.17,88,null,1.17,88,null,1.17,88,null,1.17,88,null,1.17,88,null,1.17,88]
[1.0900000000000001,89,null,1.17,89,null,1.19,89,null,1.2,89,null,1.2,89,null,1.21,89,null,1.21,89,null,1.21,89,null,1.19,98,null,1.22,89,null,1.22,89,null,1.22,89,null,1.22,89]
[1.1000000000000001,90,null,1.2,90,null,1.23,90,null,1.24,90,null,1.25,90,null,1.25,90,null,1.26,90,null,1.26,90,null,1.21,89,null,1.27,90,null,1.27,90,null,1.27,90,null,1.28,90]
[1.1100000000000001,91,null,1.23,91,null,1.27,91,null,1.29,91,null,1.3,91,null,1.3,91,null,1.31,91,null,1.31,91,null,1.26,90,null,1.32,91,null,1.33,91,null,1.33,91,null,1.33,91]
[1.1200000000000001,93,null,1.26,92,null,1.31,92,null,1.33,92,null,1.35,92,null,1.36,92,null,1.36,92,null,1.37,92,null,1.32,91,null,1.38,92,null,1.39,92,null,1.39,92,null,1.4,92]
[1.1200000000000001,92,null,1.29,93,null,1.35,93,null,1.38,93,null,1.4,93,null,1.41,93,null,1.42,93,null,1.43,93,null,1.37,92,null,1.44,93,null,1.45,93,null,1.46,93,null,1.46,93]
[1.1299999999999999,95,null,1.32,94,null,1.39,94,null,1.43,94,null,1.46,94,null,1.47,94,null,1.48,94,null,1.49,94,null,1.44,93,null,1.51,94,null,1.52,94,null,1.53,94,null,1.54,94]
[1.1299999999999999,94,null,1.35,95,null,1.44,95,null,1.49,95,null,1.52,95,null,1.54,95,null,1.55,95,null,1.56,95,null,1.5,94,null,1.59,95,null,1.61,95,null,1.62,95,null,1.63,95]
[1.1399999999999999,97,null,1.38,96,null,1.49,96,null,1.55,96,null,1.59,96,null,1.61,96,null,1.63,96,null,1.65,96,null,1.58,95,null,1.68,96,null,1.7,96,null,1.71,96,null,1.73,96]
[1.1399999999999999,96,null,1.41,97,null,1.54,97,null,1.62,97,null,1.67,97,null,1.7,97,null,1.72,97,null,1.74,97,null,1.67,96,null,1.79,97,null,1.81,97,null,1.83,97,null,1.85,97]
[1.1499999999999999,98,null,1.44,98,null,1.6,98,null,1.7,98,null,1.76,98,null,1.81,98,null,1.84,98,null,1.86,98,null,1.77,97,null,1.93,98,null,1.96,98,null,1.99,98,null,2.0099999999999998,98]
[1.1599999999999999,100,null,1.47,99,null,1.67,99,null,1.8,99,null,1.89,99,null,1.95,99,null,2,99,null,2.04,99,null,2.09,99,null,2.14,99,null,2.1800000000000002,99,null,2.2200000000000002,99,null,2.2599999999999998,99]
[1.1599999999999999,99,null,1.5,100,null,1.79,100,null,2.0299999999999998,100,null,2.23,100,null,2.39,100,null,2.5299999999999998,100,null,2.65,100,null,2.83,100,null,3.03,100,null,3.2,100,null,3.38,100,null,3.54,100]

{"sheet":"PWL Summary","index":11,"n_rows":124,"n_cols":21,"rows_kept":124,"cut":false,"hidden":true,"merged":[]}
[]
[]
[null,null,null,null,"Raw Values from Test Summary Sheet",null,null,null,null,null,null,null,null,null,"Null values are showed as blank"]
[]
[null,null,"Test #","#200","#200","% AC","% AC","Air Void","Air Void","Adj AFT","Adj AFT",null,null,"#200","#200","% AC","% AC","Air Void","Air Void","Adj AFT","Adj AFT"]
[null,null,null,"Contractor","Agency","Contractor","Agency","Contractor","Agency","Contractor","Agency",null,null,"Contractor","Agency","Contractor","Agency","Contractor","Agency","Contractor","Agency"]
[null,null,1,{"$f":"SUMMARY!$D39","v":0},{"$f":"SUMMARY!$E39","v":0},{"$f":"SUMMARY!D42","v":0},{"$f":"SUMMARY!E42","v":0},{"$f":"SUMMARY!D50","v":""},{"$f":"SUMMARY!E50","v":""},{"$f":"SUMMARY!D57","v":{"$error":"#VALUE!"}},{"$f":"SUMMARY!E57","v":""},null,null,{"$f":"IF(D7=0,\"\",D7)","v":""},{"$f":"IF(E7=0,\"\",E7)","v":""},{"$f":"IF(F7=0,\"\",F7)","v":""},{"$f":"IF(G7=0,\"\",G7)","v":""},{"$f":"IF(ISNUMBER(H7),H7,\"\")","v":""},"","",""]
[null,null,2,{"$f":"SUMMARY!$F39","v":0},{"$f":"SUMMARY!$G39","v":0},{"$f":"SUMMARY!$F42","v":0},{"$f":"SUMMARY!$G42","v":0},{"$f":"SUMMARY!$F50","v":""},{"$f":"SUMMARY!$G50","v":""},{"$f":"SUMMARY!$F57","v":{"$error":"#VALUE!"}},{"$f":"SUMMARY!$G57","v":""},null,null,{"$f":"IF(D8=0,\"\",D8)","v":""},"","","","","","",""]
[null,null,3,{"$f":"SUMMARY!$H39","v":0},{"$f":"SUMMARY!$I39","v":0},{"$f":"SUMMARY!$H42","v":0},{"$f":"SUMMARY!$I42","v":0},{"$f":"SUMMARY!$H50","v":""},{"$f":"SUMMARY!$I50","v":""},{"$f":"SUMMARY!$H57","v":{"$error":"#VALUE!"}},{"$f":"SUMMARY!$I57","v":""},null,null,"","","","","","","",""]
[null,null,4,{"$f":"SUMMARY!$J39","v":0},{"$f":"SUMMARY!$K39","v":0},{"$f":"SUMMARY!$J42","v":0},{"$f":"SUMMARY!$K42","v":0},{"$f":"SUMMARY!$J50","v":""},{"$f":"SUMMARY!$K50","v":""},{"$f":"SUMMARY!$J57","v":{"$error":"#VALUE!"}},{"$f":"SUMMARY!$K57","v":""},null,null,"","","","","","","",""]
[null,null,5,{"$f":"SUMMARY!$P$39","v":0},{"$f":"SUMMARY!$Q$39","v":0},{"$f":"SUMMARY!$P$42","v":0},{"$f":"SUMMARY!$Q$42","v":0},{"$f":"SUMMARY!$P$50","v":""},{"$f":"SUMMARY!$Q$50","v":""},{"$f":"SUMMARY!$P$57","v":{"$error":"#VALUE!"}},{"$f":"SUMMARY!$Q$57","v":""},null,null,"","","","","","","",""]
[null,null,6,{"$f":"SUMMARY!$R$39","v":0},{"$f":"SUMMARY!$S$39","v":0},{"$f":"SUMMARY!$R$42","v":0},{"$f":"SUMMARY!$S$42","v":0},{"$f":"SUMMARY!$R$50","v":""},{"$f":"SUMMARY!$S$50","v":""},{"$f":"SUMMARY!$R$57","v":{"$error":"#VALUE!"}},{"$f":"SUMMARY!$S$57","v":""},null,null,"","","","","","","",""]
[null,null,7,{"$f":"SUMMARY!$T$39","v":0},{"$f":"SUMMARY!$U$39","v":0},{"$f":"SUMMARY!$T$42","v":0},{"$f":"SUMMARY!$U$42","v":0},{"$f":"SUMMARY!$T$50","v":""},{"$f":"SUMMARY!$U$50","v":""},{"$f":"SUMMARY!$T$57","v":{"$error":"#VALUE!"}},{"$f":"SUMMARY!$U$57","v":""},null,null,"","","","","","","",""]
[null,null,8,{"$f":"SUMMARY!$V$39","v":0},{"$f":"SUMMARY!$W$39","v":0},{"$f":"SUMMARY!$V$42","v":0},{"$f":"SUMMARY!$W$42","v":0},{"$f":"SUMMARY!$V$50","v":""},{"$f":"SUMMARY!$W$50","v":""},{"$f":"SUMMARY!$V$57","v":{"$error":"#VALUE!"}},{"$f":"SUMMARY!$W$57","v":""},null,null,"","","","","","","",""]
[null,null,9,{"$f":"SUMMARY!$AB$39","v":0},{"$f":"SUMMARY!$AC$39","v":0},{"$f":"SUMMARY!$AB$42","v":0},{"$f":"SUMMARY!$AC$42","v":0},{"$f":"SUMMARY!$AB$50","v":""},{"$f":"SUMMARY!$AC$50","v":""},{"$f":"SUMMARY!$AB$57","v":{"$error":"#VALUE!"}},{"$f":"SUMMARY!$AC$57","v":""},null,null,"","","","","","","",""]
[null,null,10,{"$f":"SUMMARY!$AD$39","v":0},{"$f":"SUMMARY!$AE$39","v":0},{"$f":"SUMMARY!$AD$42","v":0},{"$f":"SUMMARY!$AE$42","v":0},{"$f":"SUMMARY!$AD$50","v":""},{"$f":"SUMMARY!$AE$50","v":""},{"$f":"SUMMARY!$AD$57","v":{"$error":"#VALUE!"}},{"$f":"SUMMARY!$AE$57","v":""},null,null,"","","","","","","",""]
[null,null,11,{"$f":"SUMMARY!$AF$39","v":0},{"$f":"SUMMARY!$AG$39","v":0},{"$f":"SUMMARY!$AF$42","v":0},{"$f":"SUMMARY!$AG$42","v":0},{"$f":"SUMMARY!$AF$50","v":""},{"$f":"SUMMARY!$AG$50","v":""},{"$f":"SUMMARY!$AF$57","v":{"$error":"#VALUE!"}},{"$f":"SUMMARY!$AG$57","v":""},null,null,"","","","","","","",""]
[null,null,12,{"$f":"SUMMARY!$AH$39","v":0},{"$f":"SUMMARY!$AI$39","v":0},{"$f":"SUMMARY!$AH$42","v":0},{"$f":"SUMMARY!$AI$42","v":0},{"$f":"SUMMARY!$AH$50","v":""},{"$f":"SUMMARY!$AI$50","v":""},{"$f":"SUMMARY!$AH$57","v":{"$error":"#VALUE!"}},{"$f":"SUMMARY!$AI$57","v":""},null,null,"","","","","","","",""]
[null,null,13,{"$f":"SUMMARY!$AN$39","v":0},{"$f":"SUMMARY!$AO$39","v":0},{"$f":"SUMMARY!$AN$42","v":0},{"$f":"SUMMARY!$AO$42","v":0},{"$f":"SUMMARY!$AN$50","v":""},{"$f":"SUMMARY!$AO$50","v":""},{"$f":"SUMMARY!$AN$57","v":{"$error":"#VALUE!"}},{"$f":"SUMMARY!$AO$57","v":""},null,null,"","","","","","","",""]
[null,null,14,{"$f":"SUMMARY!$AP$39","v":0},{"$f":"SUMMARY!$AQ$39","v":0},{"$f":"SUMMARY!$AP$42","v":0},{"$f":"SUMMARY!$AQ$42","v":0},{"$f":"SUMMARY!$AP$50","v":""},{"$f":"SUMMARY!$AQ$50","v":""},{"$f":"SUMMARY!$AP$57","v":{"$error":"#VALUE!"}},{"$f":"SUMMARY!$AQ$57","v":""},null,null,"","","","","","","",""]
[null,null,15,{"$f":"SUMMARY!$AR$39","v":0},{"$f":"SUMMARY!$AS$39","v":0},{"$f":"SUMMARY!$AR$42","v":0},{"$f":"SUMMARY!$AS$42","v":0},{"$f":"SUMMARY!$AR$50","v":""},{"$f":"SUMMARY!$AS$50","v":""},{"$f":"SUMMARY!$AR$57","v":{"$error":"#VALUE!"}},{"$f":"SUMMARY!$AS$57","v":""},null,null,"","","","","","","",""]
[null,null,16,{"$f":"SUMMARY!$AT$39","v":0},{"$f":"SUMMARY!$AU$39","v":0},{"$f":"SUMMARY!$AT$42","v":0},{"$f":"SUMMARY!$AU$42","v":0},{"$f":"SUMMARY!$AT$50","v":""},{"$f":"SUMMARY!$AU$50","v":""},{"$f":"SUMMARY!$AT$57","v":{"$error":"#VALUE!"}},{"$f":"SUMMARY!$AU$57","v":""},null,null,"","","","","","","",""]
[null,null,17,{"$f":"SUMMARY!$AZ$39","v":0},{"$f":"SUMMARY!$BA$39","v":0},{"$f":"SUMMARY!$AZ$42","v":0},{"$f":"SUMMARY!$BA$42","v":0},{"$f":"SUMMARY!$AZ$50","v":""},{"$f":"SUMMARY!$BA$50","v":""},{"$f":"SUMMARY!$AZ$57","v":{"$error":"#VALUE!"}},{"$f":"SUMMARY!$BA$57","v":""},null,null,"","","","",{"$f":"IF(ISNUMBER(H23),H23,\"\")","v":""},"","",""]
[null,null,18,{"$f":"SUMMARY!$BB$39","v":0},{"$f":"SUMMARY!$BC$39","v":0},{"$f":"SUMMARY!$BB$42","v":0},{"$f":"SUMMARY!$BC$42","v":0},{"$f":"SUMMARY!$BB$50","v":""},{"$f":"SUMMARY!$BC$50","v":""},{"$f":"SUMMARY!$BB$57","v":{"$error":"#VALUE!"}},{"$f":"SUMMARY!$BC$57","v":""},null,null,"","","","","","","",""]
[null,null,19,{"$f":"SUMMARY!$BD$39","v":0},{"$f":"SUMMARY!$BE$39","v":0},{"$f":"SUMMARY!$BD$42","v":0},{"$f":"SUMMARY!$BE$42","v":0},{"$f":"SUMMARY!$BD$50","v":""},{"$f":"SUMMARY!$BE$50","v":""},{"$f":"SUMMARY!$BD$57","v":{"$error":"#VALUE!"}},{"$f":"SUMMARY!$BE$57","v":""},null,null,"","","","","","","",""]
[null,null,20,{"$f":"SUMMARY!$BF$39","v":0},{"$f":"SUMMARY!$BG$39","v":0},{"$f":"SUMMARY!$BF$42","v":0},{"$f":"SUMMARY!$BG$42","v":0},{"$f":"SUMMARY!$BF$50","v":""},{"$f":"SUMMARY!$BG$50","v":""},{"$f":"SUMMARY!$BF$57","v":{"$error":"#VALUE!"}},{"$f":"SUMMARY!$BG$57","v":""},null,null,"","","","","","","",""]
[null,null,21,{"$f":"SUMMARY!$BL$39","v":0},{"$f":"SUMMARY!$BM$39","v":0},{"$f":"SUMMARY!$BL$42","v":0},{"$f":"SUMMARY!$BM$42","v":0},{"$f":"SUMMARY!$BL$50","v":""},{"$f":"SUMMARY!$BM$50","v":""},{"$f":"SUMMARY!$BL$57","v":{"$error":"#VALUE!"}},{"$f":"SUMMARY!$BM$57","v":""},null,null,"","","","","","","",""]
[null,null,22,{"$f":"SUMMARY!$BN$39","v":0},{"$f":"SUMMARY!$BO$39","v":0},{"$f":"SUMMARY!$BN$42","v":0},{"$f":"SUMMARY!$BO$42","v":0},{"$f":"SUMMARY!$BN$50","v":""},{"$f":"SUMMARY!$BO$50","v":""},{"$f":"SUMMARY!$BN$57","v":{"$error":"#VALUE!"}},{"$f":"SUMMARY!$BO$57","v":""},null,null,"","","","","","","",""]
[null,null,23,{"$f":"SUMMARY!$BP$39","v":0},{"$f":"SUMMARY!$BQ$39","v":0},{"$f":"SUMMARY!$BP$42","v":0},{"$f":"SUMMARY!$BQ$42","v":0},{"$f":"SUMMARY!$BP$50","v":""},{"$f":"SUMMARY!$BQ$50","v":""},{"$f":"SUMMARY!$BP$57","v":{"$error":"#VALUE!"}},{"$f":"SUMMARY!$BQ$57","v":""},null,null,"","","","","","","",""]
[null,null,24,{"$f":"SUMMARY!$BR$39","v":0},{"$f":"SUMMARY!$BS$39","v":0},{"$f":"SUMMARY!$BR$42","v":0},{"$f":"SUMMARY!$BS$42","v":0},{"$f":"SUMMARY!$BR$50","v":""},{"$f":"SUMMARY!$BS$50","v":""},{"$f":"SUMMARY!$BR$57","v":{"$error":"#VALUE!"}},{"$f":"SUMMARY!$BS$57","v":""},null,null,"","","","","","","",""]
[null,null,25,{"$f":"SUMMARY!$BX$39","v":0},{"$f":"SUMMARY!$BY$39","v":0},{"$f":"SUMMARY!$BX$42","v":0},{"$f":"SUMMARY!$BY$42","v":0},{"$f":"SUMMARY!$BX$50","v":""},{"$f":"SUMMARY!$BY$50","v":""},{"$f":"SUMMARY!$BX$57","v":{"$error":"#VALUE!"}},{"$f":"SUMMARY!$BY$57","v":""},null,null,"","","","","","","",""]
[null,null,26,{"$f":"SUMMARY!$BZ$39","v":0},{"$f":"SUMMARY!$CA$39","v":0},{"$f":"SUMMARY!$BZ$42","v":0},{"$f":"SUMMARY!$CA$42","v":0},{"$f":"SUMMARY!$BZ$50","v":""},{"$f":"SUMMARY!$CA$50","v":""},{"$f":"SUMMARY!$BZ$57","v":{"$error":"#VALUE!"}},{"$f":"SUMMARY!$CA$57","v":""},null,null,"","","","","","","",""]
[null,null,27,{"$f":"SUMMARY!$CB$39","v":0},{"$f":"SUMMARY!$CC$39","v":0},{"$f":"SUMMARY!$CB$42","v":0},{"$f":"SUMMARY!$CC$42","v":0},{"$f":"SUMMARY!$CB$50","v":""},{"$f":"SUMMARY!$CC$50","v":""},{"$f":"SUMMARY!$CB$57","v":{"$error":"#VALUE!"}},{"$f":"SUMMARY!$CC$57","v":""},null,null,"","","","","","","",""]
[null,null,28,{"$f":"SUMMARY!$CD$39","v":0},{"$f":"SUMMARY!$CE$39","v":0},{"$f":"SUMMARY!$CD$42","v":0},{"$f":"SUMMARY!$CE$42","v":0},{"$f":"SUMMARY!$CD$50","v":""},{"$f":"SUMMARY!$CE$50","v":""},{"$f":"SUMMARY!$CD$57","v":{"$error":"#VALUE!"}},{"$f":"SUMMARY!$CE$57","v":""},null,null,"","","","","","","",""]
[null,null,29,{"$f":"SUMMARY!$CJ$39","v":0},{"$f":"SUMMARY!$CK$39","v":0},{"$f":"SUMMARY!$CJ$42","v":0},{"$f":"SUMMARY!$CK$42","v":0},{"$f":"SUMMARY!$CJ$50","v":""},{"$f":"SUMMARY!$CK$50","v":""},{"$f":"SUMMARY!$CJ$57","v":{"$error":"#VALUE!"}},{"$f":"SUMMARY!$CK$57","v":""},null,null,"","","","","","","",""]
[null,null,30,{"$f":"SUMMARY!$CL$39","v":0},{"$f":"SUMMARY!$CM$39","v":0},{"$f":"SUMMARY!$CL$42","v":0},{"$f":"SUMMARY!$CM$42","v":0},{"$f":"SUMMARY!$CL$50","v":""},{"$f":"SUMMARY!$CM$50","v":""},{"$f":"SUMMARY!$CL$57","v":{"$error":"#VALUE!"}},{"$f":"SUMMARY!$CM$57","v":""},null,null,"","","","","","","",""]
[null,null,31,{"$f":"SUMMARY!$CN$39","v":0},{"$f":"SUMMARY!$CO$39","v":0},{"$f":"SUMMARY!$CN$42","v":0},{"$f":"SUMMARY!$CO$42","v":0},{"$f":"SUMMARY!$CN$50","v":""},{"$f":"SUMMARY!$CO$50","v":""},{"$f":"SUMMARY!$CN$57","v":{"$error":"#VALUE!"}},{"$f":"SUMMARY!$CO$57","v":""},null,null,"","","","","","","",""]
[null,null,32,{"$f":"SUMMARY!$CP$39","v":0},{"$f":"SUMMARY!$CQ$39","v":0},{"$f":"SUMMARY!$CP$42","v":0},{"$f":"SUMMARY!$CQ$42","v":0},{"$f":"SUMMARY!$CP$50","v":""},{"$f":"SUMMARY!$CQ$50","v":""},{"$f":"SUMMARY!$CP$57","v":{"$error":"#VALUE!"}},{"$f":"SUMMARY!$CQ$57","v":""},null,null,"","","","","","","",""]
[null,null,33,{"$f":"SUMMARY!$CV$39","v":0},{"$f":"SUMMARY!$CW$39","v":0},{"$f":"SUMMARY!$CV$42","v":0},{"$f":"SUMMARY!$CW$42","v":0},{"$f":"SUMMARY!$CV$50","v":""},{"$f":"SUMMARY!$CW$50","v":""},{"$f":"SUMMARY!$CV$57","v":{"$error":"#VALUE!"}},{"$f":"SUMMARY!$CW$57","v":""},null,null,"","","","","","","",""]
[null,null,34,{"$f":"SUMMARY!$CX$39","v":0},{"$f":"SUMMARY!$CY$39","v":0},{"$f":"SUMMARY!$CX$42","v":0},{"$f":"SUMMARY!$CY$42","v":0},{"$f":"SUMMARY!$CX$50","v":""},{"$f":"SUMMARY!$CY$50","v":""},{"$f":"SUMMARY!$CX$57","v":{"$error":"#VALUE!"}},{"$f":"SUMMARY!$CY$57","v":""},null,null,"","","","","","","",""]
[null,null,35,{"$f":"SUMMARY!$CZ$39","v":0},{"$f":"SUMMARY!$DA$39","v":0},{"$f":"SUMMARY!$CZ$42","v":0},{"$f":"SUMMARY!$DA$42","v":0},{"$f":"SUMMARY!$CZ$50","v":""},{"$f":"SUMMARY!$DA$50","v":""},{"$f":"SUMMARY!$CZ$57","v":{"$error":"#VALUE!"}},{"$f":"SUMMARY!$DA$57","v":""},null,null,"","","","","","","",""]
[null,null,36,{"$f":"SUMMARY!$DB$39","v":0},{"$f":"SUMMARY!$DC$39","v":0},{"$f":"SUMMARY!$DB$42","v":0},{"$f":"SUMMARY!$DC$42","v":0},{"$f":"SUMMARY!$DB$50","v":""},{"$f":"SUMMARY!$DC$50","v":""},{"$f":"SUMMARY!$DB$57","v":{"$error":"#VALUE!"}},{"$f":"SUMMARY!$DC$57","v":""},null,null,"","","","","","","",""]
[null,null,37,{"$f":"SUMMARY!$DH$39","v":0},{"$f":"SUMMARY!$DI$39","v":0},{"$f":"SUMMARY!$DH$42","v":0},{"$f":"SUMMARY!$DI$42","v":0},{"$f":"SUMMARY!$DH$50","v":""},{"$f":"SUMMARY!$DI$50","v":""},{"$f":"SUMMARY!$DH$57","v":{"$error":"#VALUE!"}},{"$f":"SUMMARY!$DI$57","v":""},null,null,"","","","","","","",""]
[null,null,38,{"$f":"SUMMARY!$DJ$39","v":0},{"$f":"SUMMARY!$DK$39","v":0},{"$f":"SUMMARY!$DJ$42","v":0},{"$f":"SUMMARY!$DK$42","v":0},{"$f":"SUMMARY!$DJ$50","v":""},{"$f":"SUMMARY!$DK$50","v":""},{"$f":"SUMMARY!$DJ$57","v":{"$error":"#VALUE!"}},{"$f":"SUMMARY!$DK$57","v":""},null,null,"","","","","","","",""]
[null,null,39,{"$f":"SUMMARY!$DL$39","v":0},{"$f":"SUMMARY!$DM$39","v":0},{"$f":"SUMMARY!$DL$42","v":0},{"$f":"SUMMARY!$DM$42","v":0},{"$f":"SUMMARY!$DL$50","v":""},{"$f":"SUMMARY!$DM$50","v":""},{"$f":"SUMMARY!$DL$57","v":{"$error":"#VALUE!"}},{"$f":"SUMMARY!$DM$57","v":""},null,null,"","","","","","","",""]
[null,null,40,{"$f":"SUMMARY!$DN$39","v":0},{"$f":"SUMMARY!$DO$39","v":0},{"$f":"SUMMARY!$DN$42","v":0},{"$f":"SUMMARY!$DO$42","v":0},{"$f":"SUMMARY!$DN$50","v":""},{"$f":"SUMMARY!$DO$50","v":""},{"$f":"SUMMARY!$DN$57","v":{"$error":"#VALUE!"}},{"$f":"SUMMARY!$DO$57","v":""},null,null,"","","","","","","",""]
[null,null,41,{"$f":"SUMMARY!$DT$39","v":0},{"$f":"SUMMARY!$DU$39","v":0},{"$f":"SUMMARY!$DT$42","v":0},{"$f":"SUMMARY!$DU$42","v":0},{"$f":"SUMMARY!$DT$50","v":""},{"$f":"SUMMARY!$DU$50","v":""},{"$f":"SUMMARY!$DT$57","v":{"$error":"#VALUE!"}},{"$f":"SUMMARY!$DU$57","v":""},null,null,"","","","","","","",""]
[null,null,42,{"$f":"SUMMARY!$DV$39","v":0},{"$f":"SUMMARY!$DW$39","v":0},{"$f":"SUMMARY!$DV$42","v":0},{"$f":"SUMMARY!$DW$42","v":0},{"$f":"SUMMARY!$DV$50","v":""},{"$f":"SUMMARY!$DW$50","v":""},{"$f":"SUMMARY!$DV$57","v":{"$error":"#VALUE!"}},{"$f":"SUMMARY!$DW$57","v":""},null,null,"","","","","","","",""]
[null,null,43,{"$f":"SUMMARY!$DX$39","v":0},{"$f":"SUMMARY!$DY$39","v":0},{"$f":"SUMMARY!$DX$42","v":0},{"$f":"SUMMARY!$DY$42","v":0},{"$f":"SUMMARY!$DX$50","v":""},{"$f":"SUMMARY!$DY$50","v":""},{"$f":"SUMMARY!$DX$57","v":{"$error":"#VALUE!"}},{"$f":"SUMMARY!$DY$57","v":""},null,null,"","","","","","","",""]
[null,null,44,{"$f":"SUMMARY!$DZ$39","v":0},{"$f":"SUMMARY!$EA$39","v":0},{"$f":"SUMMARY!$DZ$42","v":0},{"$f":"SUMMARY!$EA$42","v":0},{"$f":"SUMMARY!$DZ$50","v":""},{"$f":"SUMMARY!$EA$50","v":""},{"$f":"SUMMARY!$DZ$57","v":{"$error":"#VALUE!"}},{"$f":"SUMMARY!$EA$57","v":""},null,null,"","","","","","","",""]
[null,null,45,{"$f":"SUMMARY!$EF$39","v":0},{"$f":"SUMMARY!$EG$39","v":0},{"$f":"SUMMARY!$EF$42","v":0},{"$f":"SUMMARY!$EG$42","v":0},{"$f":"SUMMARY!$EF$50","v":""},{"$f":"SUMMARY!$EG$50","v":""},{"$f":"SUMMARY!$EF$57","v":{"$error":"#VALUE!"}},{"$f":"SUMMARY!$EG$57","v":""},null,null,"","","","","","","",""]
[null,null,46,{"$f":"SUMMARY!$EH$39","v":0},{"$f":"SUMMARY!$EI$39","v":0},{"$f":"SUMMARY!$EH$42","v":0},{"$f":"SUMMARY!$EI$42","v":0},{"$f":"SUMMARY!$EH$50","v":""},{"$f":"SUMMARY!$EI$50","v":""},{"$f":"SUMMARY!$EH$57","v":{"$error":"#VALUE!"}},{"$f":"SUMMARY!$EI$57","v":""},null,null,"","","","","","","",""]
[null,null,47,{"$f":"SUMMARY!$EJ$39","v":0},{"$f":"SUMMARY!$EK$39","v":0},{"$f":"SUMMARY!$EJ$42","v":0},{"$f":"SUMMARY!$EK$42","v":0},{"$f":"SUMMARY!$EJ$50","v":""},{"$f":"SUMMARY!$EK$50","v":""},{"$f":"SUMMARY!$EJ$57","v":{"$error":"#VALUE!"}},{"$f":"SUMMARY!$EK$57","v":""},null,null,"","","","","","","",""]
[null,null,48,{"$f":"SUMMARY!$EL$39","v":0},{"$f":"SUMMARY!$EM$39","v":0},{"$f":"SUMMARY!$EL$42","v":0},{"$f":"SUMMARY!$EM$42","v":0},{"$f":"SUMMARY!$EL$50","v":""},{"$f":"SUMMARY!$EM$50","v":""},{"$f":"SUMMARY!$EL$57","v":{"$error":"#VALUE!"}},{"$f":"SUMMARY!$EM$57","v":""},null,null,"","","","","","","",""]
[null,null,49,{"$f":"SUMMARY!$ER$39","v":0},{"$f":"SUMMARY!$ES$39","v":0},{"$f":"SUMMARY!$ER$42","v":0},{"$f":"SUMMARY!$ES$42","v":0},{"$f":"SUMMARY!$ER$50","v":""},{"$f":"SUMMARY!$ES$50","v":""},{"$f":"SUMMARY!$ER$57","v":{"$error":"#VALUE!"}},{"$f":"SUMMARY!$ES$57","v":""},null,null,"","","","","","","",""]
[null,null,50,{"$f":"SUMMARY!$ET$39","v":0},{"$f":"SUMMARY!$EU$39","v":0},{"$f":"SUMMARY!$ET$42","v":0},{"$f":"SUMMARY!$EU$42","v":0},{"$f":"SUMMARY!$ET$50","v":""},{"$f":"SUMMARY!$EU$50","v":""},{"$f":"SUMMARY!$ET$57","v":{"$error":"#VALUE!"}},{"$f":"SUMMARY!$EU$57","v":""},null,null,"","","","","","","",""]
[null,null,51,{"$f":"SUMMARY!$EV$39","v":0},{"$f":"SUMMARY!$EW$39","v":0},{"$f":"SUMMARY!$EV$42","v":0},{"$f":"SUMMARY!$EW$42","v":0},{"$f":"SUMMARY!$EV$50","v":""},{"$f":"SUMMARY!$EW$50","v":""},{"$f":"SUMMARY!$EV$57","v":{"$error":"#VALUE!"}},{"$f":"SUMMARY!$EW$57","v":""},null,null,"","","","","","","",""]
[null,null,52,{"$f":"SUMMARY!$EX$39","v":0},{"$f":"SUMMARY!$EY$39","v":0},{"$f":"SUMMARY!$EX$42","v":0},{"$f":"SUMMARY!$EY$42","v":0},{"$f":"SUMMARY!$EX$50","v":""},{"$f":"SUMMARY!$EY$50","v":""},{"$f":"SUMMARY!$EX$57","v":{"$error":"#VALUE!"}},{"$f":"SUMMARY!$EY$57","v":""},null,null,"","","","","","","",""]
[null,null,53,{"$f":"SUMMARY!$FD$39","v":0},{"$f":"SUMMARY!$FE$39","v":0},{"$f":"SUMMARY!$FD$42","v":0},{"$f":"SUMMARY!$FE$42","v":0},{"$f":"SUMMARY!$FD$50","v":""},{"$f":"SUMMARY!$FE$50","v":""},{"$f":"SUMMARY!$FD$57","v":{"$error":"#VALUE!"}},{"$f":"SUMMARY!$FE$57","v":""},null,null,"","","","","","","",""]
[null,null,54,{"$f":"SUMMARY!$FF$39","v":0},{"$f":"SUMMARY!$FG$39","v":0},{"$f":"SUMMARY!$FF$42","v":0},{"$f":"SUMMARY!$FG$42","v":0},{"$f":"SUMMARY!$FF$50","v":""},{"$f":"SUMMARY!$FG$50","v":""},{"$f":"SUMMARY!$FF$57","v":{"$error":"#VALUE!"}},{"$f":"SUMMARY!$FG$57","v":""},null,null,"","","","","","","",""]
[null,null,55,{"$f":"SUMMARY!$FH$39","v":0},{"$f":"SUMMARY!$FI$39","v":0},{"$f":"SUMMARY!$FH$42","v":0},{"$f":"SUMMARY!$FI$42","v":0},{"$f":"SUMMARY!$FH$50","v":""},{"$f":"SUMMARY!$FI$50","v":""},{"$f":"SUMMARY!$FH$57","v":{"$error":"#VALUE!"}},{"$f":"SUMMARY!$FI$57","v":""},null,null,"","","","","","","",""]
[null,null,56,{"$f":"SUMMARY!$FJ$39","v":0},{"$f":"SUMMARY!$FK$39","v":0},{"$f":"SUMMARY!$FJ$42","v":0},{"$f":"SUMMARY!$FK$42","v":0},{"$f":"SUMMARY!$FJ$50","v":""},{"$f":"SUMMARY!$FK$50","v":""},{"$f":"SUMMARY!$FJ$57","v":{"$error":"#VALUE!"}},{"$f":"SUMMARY!$FK$57","v":""},null,null,"","","","","","","",""]
[null,null,57,{"$f":"SUMMARY!$FP$39","v":0},{"$f":"SUMMARY!$FQ$39","v":0},{"$f":"SUMMARY!$FP$42","v":0},{"$f":"SUMMARY!$FQ$42","v":0},{"$f":"SUMMARY!$FP$50","v":""},{"$f":"SUMMARY!$FQ$50","v":""},{"$f":"SUMMARY!$FP$57","v":{"$error":"#VALUE!"}},{"$f":"SUMMARY!$FQ$57","v":""},null,null,"","","","","","","",""]
[null,null,58,{"$f":"SUMMARY!$FR$39","v":0},{"$f":"SUMMARY!$FS$39","v":0},{"$f":"SUMMARY!$FR$42","v":0},{"$f":"SUMMARY!$FS$42","v":0},{"$f":"SUMMARY!$FR$50","v":""},{"$f":"SUMMARY!$FS$50","v":""},{"$f":"SUMMARY!$FR$57","v":{"$error":"#VALUE!"}},{"$f":"SUMMARY!$FS$57","v":""},null,null,"","","","","","","",""]
[null,null,59,{"$f":"SUMMARY!$FT$39","v":0},{"$f":"SUMMARY!$FU$39","v":0},{"$f":"SUMMARY!$FT$42","v":0},{"$f":"SUMMARY!$FU$42","v":0},{"$f":"SUMMARY!$FT$50","v":""},{"$f":"SUMMARY!$FU$50","v":""},{"$f":"SUMMARY!$FT$57","v":{"$error":"#VALUE!"}},{"$f":"SUMMARY!$FU$57","v":""},null,null,"","","","","","","",""]
[null,null,60,{"$f":"SUMMARY!$FV$39","v":0},{"$f":"SUMMARY!$FW$39","v":0},{"$f":"SUMMARY!$FV$42","v":0},{"$f":"SUMMARY!$FW$42","v":0},{"$f":"SUMMARY!$FV$50","v":""},{"$f":"SUMMARY!$FW$50","v":""},{"$f":"SUMMARY!$FV$57","v":{"$error":"#VALUE!"}},{"$f":"SUMMARY!$FW$57","v":""},null,null,"","","","","","","",""]
[null,null,61,{"$f":"SUMMARY!$GB$39","v":0},{"$f":"SUMMARY!$GC$39","v":0},{"$f":"SUMMARY!$GB$42","v":0},{"$f":"SUMMARY!$GC$42","v":0},{"$f":"SUMMARY!$GB$50","v":""},{"$f":"SUMMARY!$GC$50","v":""},{"$f":"SUMMARY!$GB$57","v":{"$error":"#VALUE!"}},{"$f":"SUMMARY!$GC$57","v":""},null,null,"","","","","","","",""]
[null,null,62,{"$f":"SUMMARY!$GD$39","v":0},{"$f":"SUMMARY!$GE$39","v":0},{"$f":"SUMMARY!$GD$42","v":0},{"$f":"SUMMARY!$GE$42","v":0},{"$f":"SUMMARY!$GD$50","v":""},{"$f":"SUMMARY!$GE$50","v":""},{"$f":"SUMMARY!$GD$57","v":{"$error":"#VALUE!"}},{"$f":"SUMMARY!$GE$57","v":""},null,null,"","","","","","","",""]
[null,null,63,{"$f":"SUMMARY!$GF$39","v":0},{"$f":"SUMMARY!$GG$39","v":0},{"$f":"SUMMARY!$GF$42","v":0},{"$f":"SUMMARY!$GG$42","v":0},{"$f":"SUMMARY!$GF$50","v":""},{"$f":"SUMMARY!$GG$50","v":""},{"$f":"SUMMARY!$GF$57","v":{"$error":"#VALUE!"}},{"$f":"SUMMARY!$GG$57","v":""},null,null,"","","","","","","",""]
[null,null,64,{"$f":"SUMMARY!$GH$39","v":0},{"$f":"SUMMARY!$GI$39","v":0},{"$f":"SUMMARY!$GH$42","v":0},{"$f":"SUMMARY!$GI$42","v":0},{"$f":"SUMMARY!$GH$50","v":""},{"$f":"SUMMARY!$GI$50","v":""},{"$f":"SUMMARY!$GH$57","v":{"$error":"#VALUE!"}},{"$f":"SUMMARY!$GI$57","v":""},null,null,"","","","","","","",""]
[null,null,65,{"$f":"SUMMARY!$GN$39","v":0},{"$f":"SUMMARY!$GO$39","v":0},{"$f":"SUMMARY!$GN$42","v":0},{"$f":"SUMMARY!$GO$42","v":0},{"$f":"SUMMARY!$GN$50","v":""},{"$f":"SUMMARY!$GO$50","v":""},{"$f":"SUMMARY!$GN$57","v":{"$error":"#VALUE!"}},{"$f":"SUMMARY!$GO$57","v":""},null,null,"","",{"$f":"IF(F71=0,\"\",F71)","v":""},"","","","",""]
[null,null,66,{"$f":"SUMMARY!$GP$39","v":0},{"$f":"SUMMARY!$GQ$39","v":0},{"$f":"SUMMARY!$GP$42","v":0},{"$f":"SUMMARY!$GQ$42","v":0},{"$f":"SUMMARY!$GP$50","v":""},{"$f":"SUMMARY!$GQ$50","v":""},{"$f":"SUMMARY!$GP$57","v":{"$error":"#VALUE!"}},{"$f":"SUMMARY!$GQ$57","v":""},null,null,{"$f":"IF(D72=0,\"\",D72)","v":""},"","","","","","",""]
[null,null,67,{"$f":"SUMMARY!$GR$39","v":0},{"$f":"SUMMARY!$GS$39","v":0},{"$f":"SUMMARY!$GR$42","v":0},{"$f":"SUMMARY!$GS$42","v":0},{"$f":"SUMMARY!$GR$50","v":""},{"$f":"SUMMARY!$GS$50","v":""},{"$f":"SUMMARY!$GR$57","v":{"$error":"#VALUE!"}},{"$f":"SUMMARY!$GS$57","v":""},null,null,"","","","","","","",""]
[null,null,68,{"$f":"SUMMARY!$GT$39","v":0},{"$f":"SUMMARY!$GU$39","v":0},{"$f":"SUMMARY!$GT$42","v":0},{"$f":"SUMMARY!$GU$42","v":0},{"$f":"SUMMARY!$GT$50","v":""},{"$f":"SUMMARY!$GU$50","v":""},{"$f":"SUMMARY!$GT$57","v":{"$error":"#VALUE!"}},{"$f":"SUMMARY!$GU$57","v":""},null,null,"","","","","","","",""]
[null,null,69,{"$f":"SUMMARY!$GZ$39","v":0},{"$f":"SUMMARY!$HA$39","v":0},{"$f":"SUMMARY!$GZ$42","v":0},{"$f":"SUMMARY!$HA$42","v":0},{"$f":"SUMMARY!$GZ$50","v":""},{"$f":"SUMMARY!$HA$50","v":""},{"$f":"SUMMARY!$GZ$57","v":{"$error":"#VALUE!"}},{"$f":"SUMMARY!$HA$57","v":""},null,null,"","","","","","","",""]
[null,null,70,{"$f":"SUMMARY!$HB$39","v":0},{"$f":"SUMMARY!$HC$39","v":0},{"$f":"SUMMARY!$HB$42","v":0},{"$f":"SUMMARY!$HC$42","v":0},{"$f":"SUMMARY!$HB$50","v":""},{"$f":"SUMMARY!$HC$50","v":""},{"$f":"SUMMARY!$HB$57","v":{"$error":"#VALUE!"}},{"$f":"SUMMARY!$HC$57","v":""},null,null,"","","","","","","",""]
[null,null,71,{"$f":"SUMMARY!$HD$39","v":0},{"$f":"SUMMARY!$HE$39","v":0},{"$f":"SUMMARY!$HD$42","v":0},{"$f":"SUMMARY!$HE$42","v":0},{"$f":"SUMMARY!$HD$50","v":""},{"$f":"SUMMARY!$HE$50","v":""},{"$f":"SUMMARY!$HD$57","v":{"$error":"#VALUE!"}},{"$f":"SUMMARY!$HE$57","v":""},null,null,"","","","","","","",""]
[null,null,72,{"$f":"SUMMARY!$HF$39","v":0},{"$f":"SUMMARY!$HG$39","v":0},{"$f":"SUMMARY!$HF$42","v":0},{"$f":"SUMMARY!$HG$42","v":0},{"$f":"SUMMARY!$HF$50","v":""},{"$f":"SUMMARY!$HG$50","v":""},{"$f":"SUMMARY!$HF$57","v":{"$error":"#VALUE!"}},{"$f":"SUMMARY!$HG$57","v":""},null,null,"","","","","","","",""]
[null,null,73,{"$f":"SUMMARY!$HL$39","v":0},{"$f":"SUMMARY!$HM$39","v":0},{"$f":"SUMMARY!$HL$42","v":0},{"$f":"SUMMARY!$HM$42","v":0},{"$f":"SUMMARY!$HL$50","v":""},{"$f":"SUMMARY!$HM$50","v":""},{"$f":"SUMMARY!$HL$57","v":{"$error":"#VALUE!"}},{"$f":"SUMMARY!$HM$57","v":""},null,null,"","","","","","","",""]
[null,null,74,{"$f":"SUMMARY!$HN$39","v":0},{"$f":"SUMMARY!$HO$39","v":0},{"$f":"SUMMARY!$HN$42","v":0},{"$f":"SUMMARY!$HO$42","v":0},{"$f":"SUMMARY!$HN$50","v":""},{"$f":"SUMMARY!$HO$50","v":""},{"$f":"SUMMARY!$HN$57","v":{"$error":"#VALUE!"}},{"$f":"SUMMARY!$HO$57","v":""},null,null,"","","","","","","",""]
[null,null,75,{"$f":"SUMMARY!$HP$39","v":0},{"$f":"SUMMARY!$HQ$39","v":0},{"$f":"SUMMARY!$HP$42","v":0},{"$f":"SUMMARY!$HQ$42","v":0},{"$f":"SUMMARY!$HP$50","v":""},{"$f":"SUMMARY!$HQ$50","v":""},{"$f":"SUMMARY!$HP$57","v":{"$error":"#VALUE!"}},{"$f":"SUMMARY!$HQ$57","v":""},null,null,"","","","","","","",""]
[null,null,76,{"$f":"SUMMARY!$HR$39","v":0},{"$f":"SUMMARY!$HS$39","v":0},{"$f":"SUMMARY!$HR$42","v":0},{"$f":"SUMMARY!$HS$42","v":0},{"$f":"SUMMARY!$HR$50","v":""},{"$f":"SUMMARY!$HS$50","v":""},{"$f":"SUMMARY!$HR$57","v":{"$error":"#VALUE!"}},{"$f":"SUMMARY!$HS$57","v":""},null,null,"","","","","","","",""]
[null,null,77,{"$f":"SUMMARY!$HX$39","v":0},{"$f":"SUMMARY!$HY$39","v":0},{"$f":"SUMMARY!$HX$42","v":0},{"$f":"SUMMARY!$HY$42","v":0},{"$f":"SUMMARY!$HX$50","v":""},{"$f":"SUMMARY!$HY$50","v":""},{"$f":"SUMMARY!$HX$57","v":{"$error":"#VALUE!"}},{"$f":"SUMMARY!$HY$57","v":""},null,null,"","","","","","","",""]
[null,null,78,{"$f":"SUMMARY!$HZ$39","v":0},{"$f":"SUMMARY!$IA$39","v":0},{"$f":"SUMMARY!$HZ$42","v":0},{"$f":"SUMMARY!$IA$42","v":0},{"$f":"SUMMARY!$HZ$50","v":""},{"$f":"SUMMARY!$IA$50","v":""},{"$f":"SUMMARY!$HZ$57","v":{"$error":"#VALUE!"}},{"$f":"SUMMARY!$IA$57","v":""},null,null,"","","","","","","",""]
[null,null,79,{"$f":"SUMMARY!$IB$39","v":0},{"$f":"SUMMARY!$IC$39","v":0},{"$f":"SUMMARY!$IB$42","v":0},{"$f":"SUMMARY!$IC$42","v":0},{"$f":"SUMMARY!$IB$50","v":""},{"$f":"SUMMARY!$IC$50","v":""},{"$f":"SUMMARY!$IB$57","v":{"$error":"#VALUE!"}},{"$f":"SUMMARY!$IC$57","v":""},null,null,"","","","","","","",""]
[null,null,80,{"$f":"SUMMARY!$ID$39","v":0},{"$f":"SUMMARY!$IE$39","v":0},{"$f":"SUMMARY!$ID$42","v":0},{"$f":"SUMMARY!$IE$42","v":0},{"$f":"SUMMARY!$ID$50","v":""},{"$f":"SUMMARY!$IE$50","v":""},{"$f":"SUMMARY!$ID$57","v":{"$error":"#VALUE!"}},{"$f":"SUMMARY!$IE$57","v":""},null,null,"","","","","","","",{"$f":"IF(ISNUMBER(K86),K86,\"\")","v":""}]
[null,null,81,{"$f":"SUMMARY!$IJ$39","v":0},{"$f":"SUMMARY!$IK$39","v":0},{"$f":"SUMMARY!$IJ$42","v":0},{"$f":"SUMMARY!$IK$42","v":0},{"$f":"SUMMARY!$IJ$50","v":""},{"$f":"SUMMARY!$IK$50","v":""},{"$f":"SUMMARY!$IJ$57","v":{"$error":"#VALUE!"}},{"$f":"SUMMARY!$IK$57","v":""},null,null,"","","","",{"$f":"IF(ISNUMBER(H87),H87,\"\")","v":""},"","",""]
[null,null,82,{"$f":"SUMMARY!$IL$39","v":0},{"$f":"SUMMARY!$IM$39","v":0},{"$f":"SUMMARY!$IL$42","v":0},{"$f":"SUMMARY!$IM$42","v":0},{"$f":"SUMMARY!$IL$50","v":""},{"$f":"SUMMARY!$IM$50","v":""},{"$f":"SUMMARY!$IL$57","v":{"$error":"#VALUE!"}},{"$f":"SUMMARY!$IM$57","v":""},null,null,"","","","","","","",""]
[null,null,83,{"$f":"SUMMARY!$IN$39","v":0},{"$f":"SUMMARY!$IO$39","v":0},{"$f":"SUMMARY!$IN$42","v":0},{"$f":"SUMMARY!$IO$42","v":0},{"$f":"SUMMARY!$IN$50","v":""},{"$f":"SUMMARY!$IO$50","v":""},{"$f":"SUMMARY!$IN$57","v":{"$error":"#VALUE!"}},{"$f":"SUMMARY!$IO$57","v":""},null,null,"","","","","","","",""]
[null,null,84,{"$f":"SUMMARY!$IP$39","v":0},{"$f":"SUMMARY!$IQ$39","v":0},{"$f":"SUMMARY!$IP$42","v":0},{"$f":"SUMMARY!$IQ$42","v":0},{"$f":"SUMMARY!$IP$50","v":""},{"$f":"SUMMARY!$IQ$50","v":""},{"$f":"SUMMARY!$IP$57","v":{"$error":"#VALUE!"}},{"$f":"SUMMARY!$IQ$57","v":""},null,null,"","","","","","","",""]
[]
[null,null,null,null,null,null,null,null,null,null,null,null,null,null,"#200",null,"%AC",null,"Air Voids",null,"Adj AFT"]
[null,null,null,"F Test - provides a method for comparing the variances (St. Dev. Squared)",null,null,null,null,null,null,null,null,null,"F-Test",{"$f":"FTEST(N7:N90,O7:O90)","v":{"$error":"#DIV/0!"}},null,{"$f":"FTEST(P7:P90,Q7:Q90)","v":{"$error":"#DIV/0!"}},null,{"$f":"FTEST(R7:R90,S7:S90)","v":{"$error":"#DIV/0!"}},null,{"$f":"FTEST(T7:T90,U7:U90)","v":{"$error":"#DIV/0!"}}]
[]
[null,null,null,null,null,null,null,null,null,null,null,null,null,"Check",{"$f":"IF(O93<0.01,\"Unequal Variance\",\"Equal Variance\")","v":{"$error":"#DIV/0!"}},null,{"$f":"IF(Q93<0.01,\"Unequal Variance\",\"Equal Variance\")","v":{"$error":"#DIV/0!"}},null,{"$f":"IF(S93<0.01,\"Unequal Variance\",\"Equal Variance\")","v":{"$error":"#DIV/0!"}},null,{"$f":"IF(U93<0.01,\"Unequal Variance\",\"Equal Variance\")","v":{"$error":"#DIV/0!"}}]
[null,null,null,null,null,null,null,null,null,null,null,null,null,null,{"$f":"IF(O93<0.01,\"Fail T Test\",\"\")","v":{"$error":"#DIV/0!"}}]
[null,null,null,null,null,null,null,null,null,null,null,null,null,"Equal",{"$f":"TTEST(N7:N90,O7:O90,2,2)","v":{"$error":"#DIV/0!"}},null,{"$f":"TTEST(P7:P90,Q7:Q90,2,2)","v":{"$error":"#DIV/0!"}},null,{"$f":"TTEST(R7:R90,S7:S90,2,2)","v":{"$error":"#DIV/0!"}},null,{"$f":"TTEST(T7:T90,U7:U90,2,2)","v":{"$error":"#DIV/0!"}}]
[]
[null,null,null,null,null,null,null,null,null,null,null,null,null,"Unequal",{"$f":"TTEST(N7:N90,O7:O90,2,3)","v":{"$error":"#DIV/0!"}},null,{"$f":"TTEST(P7:P90,Q7:Q90,2,3)","v":{"$error":"#DIV/0!"}},null,{"$f":"TTEST(R7:R90,S7:S90,2,3)","v":{"$error":"#DIV/0!"}},null,{"$f":"TTEST(T7:T90,U7:U90,2,3)","v":{"$error":"#DIV/0!"}}]
[]
[null,null,null,null,null,null,null,null,null,null,null,null,null,"t-Test",{"$f":"IF(O95=\"Equal Variance\",O97,O99)","v":{"$error":"#DIV/0!"}},null,{"$f":"IF(Q95=\"Equal Variance\",Q97,Q99)","v":{"$error":"#DIV/0!"}},null,{"$f":"IF(S95=\"Equal Variance\",S97,S99)","v":{"$error":"#DIV/0!"}},null,{"$f":"IF(U95=\"Equal Variance\",U97,U99)","v":{"$error":"#DIV/0!"}}]
[null,null,null,"Differences in means are assessed by the t-test"]
[null,null,null,null,null,null,null,null,null,null,null,null,null,"Check",{"$f":"IF(O101<0.01,\"Means not Equal\",\"Means Equal\")","v":{"$error":"#DIV/0!"}},null,{"$f":"IF(Q101<0.01,\"Means not Equal\",\"Means Equal\")","v":{"$error":"#DIV/0!"}},null,{"$f":"IF(S101<0.01,\"Means not Equal\",\"Means Equal\")","v":{"$error":"#DIV/0!"}},null,{"$f":"IF(U101<0.01,\"Means not Equal\",\"Means Equal\")","v":{"$error":"#DIV/0!"}}]
[null,null,null,null,null,null,null,null,null,null,null,null,null,null,{"$f":"IF(O101<0.01,\"Fail t-Test\",\"\")","v":{"$error":"#DIV/0!"}},null,{"$f":"IF(Q101<0.01,\"Fail t-Test\",\"\")","v":{"$error":"#DIV/0!"}},null,{"$f":"IF(S101<0.01,\"Fail t-Test\",\"\")","v":{"$error":"#DIV/0!"}},null,{"$f":"IF(U101<0.01,\"Fail t-Test\",\"\")","v":{"$error":"#DIV/0!"}}]
[null,null,null,null,null,null,null,null,null,null,null,"Sample Mean",null,"X",{"$f":"AVERAGE(N7:N90)","v":{"$error":"#DIV/0!"}},null,{"$f":"AVERAGE(P7:P90)","v":{"$error":"#DIV/0!"}},null,{"$f":"AVERAGE(R7:R90)","v":{"$error":"#DIV/0!"}},null,{"$f":"AVERAGE(T7:T90)","v":{"$error":"#DIV/0!"}}]
[null,null,null,null,null,null,null,null,null,null,null,"Sample Std. Dev.",null,"s",{"$f":"STDEV(N7:N90)","v":{"$error":"#DIV/0!"}},null,{"$f":"STDEV(P7:P90)","v":{"$error":"#DIV/0!"}},null,{"$f":"STDEV(R7:R90)","v":{"$error":"#DIV/0!"}},null,{"$f":"STDEV(T7:T90)","v":{"$error":"#DIV/0!"}}]
[null,null,null,null,null,null,null,null,null,null,null,"MDR Target",null,null,{"$f":"MDR!$M$5","v":0},null,{"$f":"MDR!$M$6","v":0},null,{"$f":"MDR!$C$4","v":0},null,{"$f":"MDR!$C$6","v":0}]
[null,null,null,null,null,null,null,null,null,null,null,"Lower Spec Limit",null,"LSL",{"$f":"O197-1","v":-1},null,4,null,2,null,8]
[null,null,null,null,null,null,null,null,null,null,null,"Upper Spec Limit",null,"USL",{"$f":"O107+1","v":1},null,7,null,5,null,10]
[]
[null,null,null,null,null,null,null,null,null,null,null,"Sample size",null,"n",{"$f":"COUNT(N7:N90)","v":0},null,{"$f":"COUNT(P7:P90)","v":0},null,{"$f":"COUNT(R7:R90)","v":0},null,{"$f":"COUNT(T7:T90)","v":0}]
[]
[null,null,null,null,null,null,null,null,null,null,null,"Quality index (lower)",null,"QL",{"$f":"(O105-O108)/O106","v":{"$error":"#DIV/0!"}},null,{"$f":"(Q105-Q108)/Q106","v":{"$error":"#DIV/0!"}},null,{"$f":"(S105-S108)/S106","v":{"$error":"#DIV/0!"}},null,{"$f":"(U105-U108)/U106","v":{"$error":"#DIV/0!"}}]
[null,null,null,null,null,null,null,null,null,null,null,"Quality index (upper)",null,"QU",{"$f":"(O109-O105)/O106","v":{"$error":"#DIV/0!"}},null,{"$f":"(Q109-Q105)/Q106","v":{"$error":"#DIV/0!"}},null,{"$f":"(S109-S105)/S106","v":{"$error":"#DIV/0!"}},null,{"$f":"(U109-U105)/U106","v":{"$error":"#DIV/0!"}}]
[]
[]
[null,null,null,null,null,null,null,null,null,null,null,"Quality Index Table column",null,null,{"$f":"IF(O111<=3,\"3\",IF(O111=4,\"4\",IF(O111=5,\"5\",IF(O111=6,\"6\",IF(O111=7,\"7\",IF(O111=8,\"8\",IF(O111=9,\"9\",IF(O111<=11,\"10to11\",IF(O111<=14,\"12to14\",IF(O111<=18,\"15to18\",IF(O111<=25,\"19to25\",IF(O111<=37,\"26to37\",\"38to69\"))))))))))))","v":"3"},null,{"$f":"IF(Q111<=3,\"3\",IF(Q111=4,\"4\",IF(Q111=5,\"5\",IF(Q111=6,\"6\",IF(Q111=7,\"7\",IF(Q111=8,\"8\",IF(Q111=9,\"9\",IF(Q111<=11,\"10to11\",IF(Q111<=14,\"12to14\",IF(Q111<=18,\"15to18\",IF(Q111<=25,\"19to25\",IF(Q111<=37,\"26to37\",\"38to69\"))))))))))))","v":"3"},null,{"$f":"IF(S111<=3,\"3\",IF(S111=4,\"4\",IF(S111=5,\"5\",IF(S111=6,\"6\",IF(S111=7,\"7\",IF(S111=8,\"8\",IF(S111=9,\"9\",IF(S111<=11,\"10to11\",IF(S111<=14,\"12to14\",IF(S111<=18,\"15to18\",IF(S111<=25,\"19to25\",IF(S111<=37,\"26to37\",\"38to69\"))))))))))))","v":"3"},null,{"$f":"IF(U111<=3,\"3\",IF(U111=4,\"4\",IF(U111=5,\"5\",IF(U111=6,\"6\",IF(U111=7,\"7\",IF(U111=8,\"8\",IF(U111=9,\"9\",IF(U111<=11,\"10to11\",IF(U111<=14,\"12to14\",IF(U111<=18,\"15to18\",IF(U111<=25,\"19to25\",IF(U111<=37,\"26to37\",\"38to69\"))))))))))))","v":"3"}]
[]
[null,null,null,null,null,null,null,null,"Percent above the lower limit specification limit",null,null,null,null,"PWL(L)",{"$f":"IF(O117=\"3\",VLOOKUP(O113,'Quality Index Values'!$A$64:$B$114,2),IF(O117=\"4\",VLOOKUP(O113,'Quality Index Values'!$D$64:$E$114,2),IF(O117=\"5\",VLOOKUP(O113,'Quality Index Values'!$G$64:$H$114,2),IF(O117=\"6\",VLOOKUP(O113,'Quality Index Values'!$J$64:$K$144,2),IF(O117=\"7\",VLOOKUP(O113,'Quality Index Values'!$M$64:$N$114,2),IF(O117=\"8\",VLOOKUP(O113,'Quality Index Values'!$P$64:$Q$114,2),IF(O117=\"9\",VLOOKUP(O113,'Quality Index Values'!$S$64:$T$114,2),IF(O117=\"10to11\",VLOOKUP(O113,'Quality Index Values'!$V$64:$W$114,2),IF(O117=\"12to14\",VLOOKUP(O113,'Quality Index Values'!$Y$64:$Z$114,2),IF(O117=\"15to18\",VLOOKUP(O113,'Quality Index Values'!$AB$64:$AC$114,2),IF(O117=\"19to25\",VLOOKUP(O113,'Quality Index Values'!$AE$64:$AF$114,2),IF(O117=\"26to37\",VLOOKUP(O113,'Quality Index Values'!$AH$64:$AI$114,2),VLOOKUP(O113,'Quality Index Values'!$AK$64:$AL$114,2)))))))))))))","v":{"$error":"#DIV/0!"}},null,{"$f":"IF(Q117=\"3\",VLOOKUP(Q113,'Quality Index Values'!$A$64:$B$114,2),IF(Q117=\"4\",VLOOKUP(Q113,'Quality Index Values'!$D$64:$E$114,2),IF(Q117=\"5\",VLOOKUP(Q113,'Quality Index Values'!$G$64:$H$114,2),IF(Q117=\"6\",VLOOKUP(Q113,'Quality Index Values'!$J$64:$K$144,2),IF(Q117=\"7\",VLOOKUP(Q113,'Quality Index Values'!$M$64:$N$114,2),IF(Q117=\"8\",VLOOKUP(Q113,'Quality Index Values'!$P$64:$Q$114,2),IF(Q117=\"9\",VLOOKUP(Q113,'Quality Index Values'!$S$64:$T$114,2),IF(Q117=\"10to11\",VLOOKUP(Q113,'Quality Index Values'!$V$64:$W$114,2),IF(Q117=\"12to14\",VLOOKUP(Q113,'Quality Index Values'!$Y$64:$Z$114,2),IF(Q117=\"15to18\",VLOOKUP(Q113,'Quality Index Values'!$AB$64:$AC$114,2),IF(Q117=\"19to25\",VLOOKUP(Q113,'Quality Index Values'!$AE$64:$AF$114,2),IF(Q117=\"26to37\",VLOOKUP(Q113,'Quality Index Values'!$AH$64:$AI$114,2),VLOOKUP(Q113,'Quality Index Values'!$AK$64:$AL$114,2)))))))))))))","v":{"$error":"#DIV/0!"}},null,{"$f":"IF(S117=\"3\",VLOOKUP(S113,'Quality Index Values'!$A$64:$B$114,2),IF(S117=\"4\",VLOOKUP(S113,'Quality Index Values'!$D$64:$E$114,2),IF(S117=\"5\",VLOOKUP(S113,'Quality Index Values'!$G$64:$H$114,2),IF(S117=\"6\",VLOOKUP(S113,'Quality Index Values'!$J$64:$K$144,2),IF(S117=\"7\",VLOOKUP(S113,'Quality Index Values'!$M$64:$N$114,2),IF(S117=\"8\",VLOOKUP(S113,'Quality Index Values'!$P$64:$Q$114,2),IF(S117=\"9\",VLOOKUP(S113,'Quality Index Values'!$S$64:$T$114,2),IF(S117=\"10to11\",VLOOKUP(S113,'Quality Index Values'!$V$64:$W$114,2),IF(S117=\"12to14\",VLOOKUP(S113,'Quality Index Values'!$Y$64:$Z$114,2),IF(S117=\"15to18\",VLOOKUP(S113,'Quality Index Values'!$AB$64:$AC$114,2),IF(S117=\"19to25\",VLOOKUP(S113,'Quality Index Values'!$AE$64:$AF$114,2),IF(S117=\"26to37\",VLOOKUP(S113,'Quality Index Values'!$AH$64:$AI$114,2),VLOOKUP(S113,'Quality Index Values'!$AK$64:$AL$114,2)))))))))))))","v":{"$error":"#DIV/0!"}},null,{"$f":"IF(U117=\"3\",VLOOKUP(U113,'Quality Index Values'!$A$64:$B$114,2),IF(U117=\"4\",VLOOKUP(U113,'Quality Index Values'!$D$64:$E$114,2),IF(U117=\"5\",VLOOKUP(U113,'Quality Index Values'!$G$64:$H$114,2),IF(U117=\"6\",VLOOKUP(U113,'Quality Index Values'!$J$64:$K$144,2),IF(U117=\"7\",VLOOKUP(U113,'Quality Index Values'!$M$64:$N$114,2),IF(U117=\"8\",VLOOKUP(U113,'Quality Index Values'!$P$64:$Q$114,2),IF(U117=\"9\",VLOOKUP(U113,'Quality Index Values'!$S$64:$T$114,2),IF(U117=\"10to11\",VLOOKUP(U113,'Quality Index Values'!$V$64:$W$114,2),IF(U117=\"12to14\",VLOOKUP(U113,'Quality Index Values'!$Y$64:$Z$114,2),IF(U117=\"15to18\",VLOOKUP(U113,'Quality Index Values'!$AB$64:$AC$114,2),IF(U117=\"19to25\",VLOOKUP(U113,'Quality Index Values'!$AE$64:$AF$114,2),IF(U117=\"26to37\",VLOOKUP(U113,'Quality Index Values'!$AH$64:$AI$114,2),VLOOKUP(U113,'Quality Index Values'!$AK$64:$AL$114,2)))))))))))))","v":{"$error":"#DIV/0!"}}]
[null,null,null,null,null,null,null,null,"Percent below the upper specification limit",null,null,null,null,"PWL(U)",{"$f":"IF(O118=\"3\",VLOOKUP(O114,'Quality Index Values'!$A$64:$B$114,2),IF(O118=\"4\",VLOOKUP(O114,'Quality Index Values'!$D$64:$E$114,2),IF(O118=\"5\",VLOOKUP(O114,'Quality Index Values'!$G$64:$H$114,2),IF(O118=\"6\",VLOOKUP(O114,'Quality Index Values'!$J$64:$K$144,2),IF(O118=\"7\",VLOOKUP(O114,'Quality Index Values'!$M$64:$N$114,2),IF(O118=\"8\",VLOOKUP(O114,'Quality Index Values'!$P$64:$Q$114,2),IF(O118=\"9\",VLOOKUP(O114,'Quality Index Values'!$S$64:$T$114,2),IF(O118=\"10to11\",VLOOKUP(O114,'Quality Index Values'!$V$64:$W$114,2),IF(O118=\"12to14\",VLOOKUP(O114,'Quality Index Values'!$Y$64:$Z$114,2),IF(O118=\"15to18\",VLOOKUP(O114,'Quality Index Values'!$AB$64:$AC$114,2),IF(O118=\"19to25\",VLOOKUP(O114,'Quality Index Values'!$AE$64:$AF$114,2),IF(O118=\"26to37\",VLOOKUP(O114,'Quality Index Values'!$AH$64:$AI$114,2),VLOOKUP(O114,'Quality Index Values'!$AK$64:$AL$114,2)))))))))))))","v":{"$error":"#DIV/0!"}},null,{"$f":"IF(Q118=\"3\",VLOOKUP(Q114,'Quality Index Values'!$A$64:$B$114,2),IF(Q118=\"4\",VLOOKUP(Q114,'Quality Index Values'!$D$64:$E$114,2),IF(Q118=\"5\",VLOOKUP(Q114,'Quality Index Values'!$G$64:$H$114,2),IF(Q118=\"6\",VLOOKUP(Q114,'Quality Index Values'!$J$64:$K$144,2),IF(Q118=\"7\",VLOOKUP(Q114,'Quality Index Values'!$M$64:$N$114,2),IF(Q118=\"8\",VLOOKUP(Q114,'Quality Index Values'!$P$64:$Q$114,2),IF(Q118=\"9\",VLOOKUP(Q114,'Quality Index Values'!$S$64:$T$114,2),IF(Q118=\"10to11\",VLOOKUP(Q114,'Quality Index Values'!$V$64:$W$114,2),IF(Q118=\"12to14\",VLOOKUP(Q114,'Quality Index Values'!$Y$64:$Z$114,2),IF(Q118=\"15to18\",VLOOKUP(Q114,'Quality Index Values'!$AB$64:$AC$114,2),IF(Q118=\"19to25\",VLOOKUP(Q114,'Quality Index Values'!$AE$64:$AF$114,2),IF(Q118=\"26to37\",VLOOKUP(Q114,'Quality Index Values'!$AH$64:$AI$114,2),VLOOKUP(Q114,'Quality Index Values'!$AK$64:$AL$114,2)))))))))))))","v":{"$error":"#DIV/0!"}},null,{"$f":"IF(S118=\"3\",VLOOKUP(S114,'Quality Index Values'!$A$64:$B$114,2),IF(S118=\"4\",VLOOKUP(S114,'Quality Index Values'!$D$64:$E$114,2),IF(S118=\"5\",VLOOKUP(S114,'Quality Index Values'!$G$64:$H$114,2),IF(S118=\"6\",VLOOKUP(S114,'Quality Index Values'!$J$64:$K$144,2),IF(S118=\"7\",VLOOKUP(S114,'Quality Index Values'!$M$64:$N$114,2),IF(S118=\"8\",VLOOKUP(S114,'Quality Index Values'!$P$64:$Q$114,2),IF(S118=\"9\",VLOOKUP(S114,'Quality Index Values'!$S$64:$T$114,2),IF(S118=\"10to11\",VLOOKUP(S114,'Quality Index Values'!$V$64:$W$114,2),IF(S118=\"12to14\",VLOOKUP(S114,'Quality Index Values'!$Y$64:$Z$114,2),IF(S118=\"15to18\",VLOOKUP(S114,'Quality Index Values'!$AB$64:$AC$114,2),IF(S118=\"19to25\",VLOOKUP(S114,'Quality Index Values'!$AE$64:$AF$114,2),IF(S118=\"26to37\",VLOOKUP(S114,'Quality Index Values'!$AH$64:$AI$114,2),VLOOKUP(S114,'Quality Index Values'!$AK$64:$AL$114,2)))))))))))))","v":{"$error":"#DIV/0!"}},null,{"$f":"IF(U118=\"3\",VLOOKUP(U114,'Quality Index Values'!$A$64:$B$114,2),IF(U118=\"4\",VLOOKUP(U114,'Quality Index Values'!$D$64:$E$114,2),IF(U118=\"5\",VLOOKUP(U114,'Quality Index Values'!$G$64:$H$114,2),IF(U118=\"6\",VLOOKUP(U114,'Quality Index Values'!$J$64:$K$144,2),IF(U118=\"7\",VLOOKUP(U114,'Quality Index Values'!$M$64:$N$114,2),IF(U118=\"8\",VLOOKUP(U114,'Quality Index Values'!$P$64:$Q$114,2),IF(U118=\"9\",VLOOKUP(U114,'Quality Index Values'!$S$64:$T$114,2),IF(U118=\"10to11\",VLOOKUP(U114,'Quality Index Values'!$V$64:$W$114,2),IF(U118=\"12to14\",VLOOKUP(U114,'Quality Index Values'!$Y$64:$Z$114,2),IF(U118=\"15to18\",VLOOKUP(U114,'Quality Index Values'!$AB$64:$AC$114,2),IF(U118=\"19to25\",VLOOKUP(U114,'Quality Index Values'!$AE$64:$AF$114,2),IF(U118=\"26to37\",VLOOKUP(U114,'Quality Index Values'!$AH$64:$AI$114,2),VLOOKUP(U114,'Quality Index Values'!$AK$64:$AL$114,2)))))))))))))","v":{"$error":"#DIV/0!"}}]
[]
[null,null,null,null,null,null,null,"Percent within the upper and lower specification limits",null,null,null,null,null,"PWL(T)",{"$f":"O120+O119-100","v":{"$error":"#DIV/0!"}},null,{"$f":"Q120+Q119-100","v":{"$error":"#DIV/0!"}},null,{"$f":"S120+S119-100","v":{"$error":"#DIV/0!"}},null,{"$f":"U120+U119-100","v":{"$error":"#DIV/0!"}}]
[]
[null,null,null,null,null,null,null,null,null,null,null,null,null,null,"#200",null,"% AC",null,"Air Void",null,"Adj AFT"]